{"text_format":"1","workbook":"xlsx","n_sheets":14,"sheets":["Main","Contract and Quantities","Free Form","Help","Test 1","Test 2","Test 3","Test 4","Test 5","Test 6","Functional","ReportS","Send Sync","AWP Oracle"],"not_rendered":{"charts":0,"images":38,"macros":1,"external_links":1,"defined_names":9,"comments":6,"pivot_tables":0},"unopened":[],"bounds":{"document_bytes":16777216,"sheet_cells":100000,"rows_first":2000,"rows_last":500,"rows_between":2000,"halvings":0,"cell_chars":16384,"cell_head_chars":4096},"cells_cut":0,"cells_raw":0,"read":"whole","date_system":"1900"}

{"sheet":"Main","index":0,"n_rows":6048,"n_cols":51,"rows_kept":2250,"cut":true,"hidden":false,"merged":[[24,13,25,23],[2,22,3,24],[27,12,29,24],[23,5,23,10],[26,1,29,10],[21,5,21,10],[15,5,15,10],[18,5,18,10],[22,5,22,10],[17,12,19,24],[15,1,15,4],[22,1,22,4],[17,5,17,10],[18,1,18,4],[19,5,19,10],[12,1,12,3],[16,5,16,10],[13,12,16,24],[10,21,10,22],[5,1,6,3],[5,10,6,12],[8,10,8,11],[9,8,9,9],[9,6,9,7],[5,4,6,6],[12,18,12,24],[10,6,10,7],[10,10,10,11],[2,7,3,9],[9,20,9,24],[8,23,8,24],[2,13,3,15],[2,4,3,6],[6,34,6,38],[5,13,6,15],[5,34,5,38],[5,30,5,33],[8,6,8,7],[5,22,6,24],[8,8,8,9],[5,7,6,9],[5,16,6,18],[5,19,6,21],[0,4,1,24],[23,1,23,4],[21,1,21,4],[39,17,39,19],[39,20,39,22],[12,5,12,10],[10,23,10,24],[10,15,10,20],[13,5,13,10],[11,21,11,24],[10,8,10,9],[11,15,11,20],[2,19,3,21],[2,16,3,18],[2,10,3,12],[9,10,9,11]],"bounds":{"rows_first":1000,"rows_last":250,"rows_between":1000,"halvings":1}}
[null,null,null,null,{"$f":"IF(S13=M40,IF('AWP Oracle'!C43=\"QCC\",\"AWP Contractor Reporting E2O - Aggregates Contractor QC\",\"Contractor Record, Change Sample Type to QC\"),IF(AND(S13=M42,'AWP Oracle'!C43=\"QCQA\"),\"AWP Contractor Reporting E2O - Aggregates Consultant QCQA\",IF('AWP Oracle'!C43=\"QA\",\"AWP Contractor Reporting E2O - Aggregates Consultant QA\",\"MoDOT Consultant, change sample type to QA or QCQA\")))","v":"AWP Contractor Reporting E2O - Aggregates Contractor QC"}]
[null,null,null,null,null,null,null,null,null,null,null,null,null,null,null,null,null,null,null,null,null,null,null,null,null,"v","5.00"]
[null,null,null,null," ",null,null,"Main",null,null,"Quantity",null,null,null,null,null,"Send/Sync",null,null,"Reports",null,null,"Help"]
[null,null,null,null,null,null,null,null,null,null,null,null,null,null,null,null,null,null,null,null,null,null,null,null,null,null,null,null,null,null,null,{"$f":"V12","v":""}]
[]
[null,"General",null,null,"Free Form",null,null,"Bases",null,null,"1005/3/9",null,null,"SEL BACKFILL",null,null,"QC/QA Split",null,null,null,null,null,null,null,null,null,null,null,null,null,{"$f":"CONCATENATE(\"GIW \",T9)","v":"GIW "},null,null,null,{"$f":"CONCATENATE(\"V:\\Excel2Oracle\\concrete\\inspection Reports\\CIW Ready to Process\\\",$AE$6,\".xls\")","v":"V:\\Excel2Oracle\\concrete\\inspection Reports\\CIW Ready to Process\\GIW .xls"}]
[null,null,null,null,null,null,null,null,null,null,null,null,null,null,null,null,null,null,null,null,null,null,null,null,null,null,null,null,"Input Checks (0 is good)",null,null,null,null,null,{"$f":"CONCATENATE(\"C:\\temp\\\",$AE$6,\".xls\")","v":"C:\\temp\\GIW .xls"}]
[null,null,null,null,null,null,null,null,null,null,null,null,null,null,null,null,null,null,null,null,null,null,null,null,null,null,null,null,{"$f":"IF(I9 >2010,( IF(I9 < 2030, 0, 1)),1)","v":0},"Year "]
[null,"Date of Inspection ",null,null,null,null,"Year",null,2026,null,"YYYY",null,null,null,"Identification for this Record",null,null,null,null,null,null,null,null,null,null,null,null,null,{"$f":"IF(INT(I10) > 0, IF(INT(I10)<13,0,1),1)","v":1},"Month ",null,null,{"$f":"\"\"","v":""}]
[null,null,null,{"$f":"CONCATENATE(I9, I10,I11)","v":"2026"},null,null,"Month",null,null,null,"MM",null,null,null,null,"Reporting Contractor",null,null,null,null,null,null,null,null,null,{"$f":"IF(ISERROR(AH45), \"\", UPPER(AH45))","v":""},null,null,{"$f":"IF(INT(I11) > 0, IF(INT(I11)<33,0,1),1)","v":1},"Day "]
[null,null,null,null,null,null,"Day",null,null,null,"DD",null,null,null,null,"Unique Record Number",null,null,null,null,null,null,null,"####",null,null,null,null,{"$f":"IF(ISBLANK(U10),1,0)","v":1},"Reporting Cont."]
[null,null,null,null,null,null,null,null,null,null,null,null,null,null,null,"MoDOT Sample Record ID#",null,null,null,null,null,{"$f":"IF(AC13=0,IF(S13=M40,CONCATENATE(RIGHT(I9,2),\"QM\",Z10,V11),CONCATENATE(RIGHT(I9,2),\"CC\",Z10,V11)),\"\")","v":""},null,null,null,null,null,null,{"$f":"IF(IFERROR(INT(V11),0)>0,IF(INT(V11)>10000,1,0),1)","v":1},"Unique Number"]
[null,"Material ",null,null,null,null,null,null,null,null,null,null,null,null,null,"Record Type",null,null,"Contractor QC",null,null,null,null,null,null,null,null,null,{"$f":"SUM(AC8:AC12)","v":4},"total of items for making a sample id"]
[null,null,null,null,null,{"$f":"IF(ISBLANK(F13),\"\",VLOOKUP(F13,A48:E170,2,FALSE))","v":""},null,null,null,null,null,null,"Choose a material that represents what you have inspected.  Check your concrete mix design for the proper aggregate designation",null,null,null,null,null,null,null,null,null,null,null,null,null,null,null,{"$f":"IF(IFERROR(F14,1)=1,1,0)","v":0},"Material"]
[]
[null,"Producer/Supplier",null,null,null,null,null,null,null,null,null,null,null,null,null,null,null,null,null,null,null,null,null,null,null,null,null,null,{"$f":"IF(IFERROR(F17,1)=1,1,0)","v":1},"Producer"]
[null,null,null,null,null,{"$f":"VLOOKUP(F16,G48:I6048,2,FALSE)","v":{"$error":"#N/A"}}]
[null,null,null,null,null,null,null,null,null,null,null,null,"Choose a Supplier or Producer that represents what you have inspected.  If you do not see the correct producer contact your RE office",null,null,null,null,null,null,null,null,null,null,null,null,null,null,null,{"$f":"IF(OR(IFERROR(F20,1)=1,F19=\"\"),1,0)","v":1},"Ledge"]
[null,"Plant/Ledge"]
[null,null,null,null,null,{"$f":"F19","v":0},null,null,null,null,null,null,null,null,null,null,null,null,null,null,null,null,null,null,null,null,null,null,{"$f":"IF(IFERROR(F22,1)=1,1,0)","v":0},"Branded"]
[]
[null,"Sample Type",null,null,null,{"$f":"IF(S13=M42,AX50,IF(S13=M41,AX48,AX49))","v":"QC Contractor Data / Quality Managerment"},null,null,null,null,null,null,null,"Sample Origin",null,null,null,"Site sample was taken from, for"]
[null,null,null,null,null,null,null,null,null,null,null,null,null,null,"concrete rock or sand the concrete plant"]
[null,"Evaluation Method",null,null,null,"Sample and Test",null,null,null,null,null,null,null,null,"location should be listed here",null,null,null,null,null,null,null,null,null,null,null,null,null,{"$f":"IF(OR(AND('AWP Oracle'!C43=\"QCC\",S13=M40),AND('AWP Oracle'!C43=\"QA\",S13=M41),AND('AWP Oracle'!C43=\"QCQA\",S13=M42)),0,1)","v":0},"Invalid sample type, contractor records must be QC sample type, MoDOT consultant records must be QA or QCQA"]
[]
[null,"General Remarks"]
[]
[null,null,null,null,null,null,null,null,null,null,null,null,"Adding General Remarks is optional.  This is a good place to put notes about the testing record itself, but not test results.  EXAMPLE:  \"This record represents all of the east bridge\""]
[]
[]
[]
[null,null,null,null,null,null,null,null,null,null,null,null,null,null,null,null,null,null,null,null,null,null,null,null,null,null,null,null,{"$f":"SUM(AC8:AC31)","v":10},"Any value more than 0 will prevent the file from being submitted"]
[]
[]
[]
[]
[]
[]
[null,null,null,null,null,null,null,null,null,null,null,null,null,null,null,null,null,"Code Lookup",null,null,"Sample type Lookup"]
[null,null,null,null,null,null,{"$f":"VLOOKUP(F16,F46:I4277,3,FALSE)","v":{"$error":"#N/A"}},null,null,{"$f":"VLOOKUP(F14,B48:C772,2,FALSE)","v":{"$error":"#N/A"}},"material id",null,"Contractor QC",null,null,null,null,{"$f":"VLOOKUP(F24,AV48:AW60,2,FALSE)","v":"SATE"},null,null,{"$f":"VLOOKUP(F22,AX48:AY60,2,FALSE)","v":"QCC"}]
[null,null,null,null,null,null,null,null,null,{"$f":"VLOOKUP(F20,M48:N6048,2,FALSE)","v":{"$error":"#N/A"}},"Facility id",null,"MoDOT Consultant QA"]
[null,null,null,null,null,null,null,null,null,{"$f":"VLOOKUP(F17,H48:I6048,2,FALSE)","v":{"$error":"#N/A"}},"source id",null,"MoDOT Consultant QC/QA"]
[null,null,{"$f":"VLOOKUP(F14,B48:E135,3,FALSE)","v":{"$error":"#N/A"}},{"$f":"VLOOKUP(F14,B48:E135,4,FALSE)","v":{"$error":"#N/A"}}]
["Material Dropdown",null,null,null,null,null,null,null,null,null,null,null,null,null,null,null,null,null,null,null,null,null,null,null,null,null,null,null,null,null,"Reporting Contractor List",null,null,null,null,null,{"$f":"F14","v":""}]
[null,null,null,null,null,null,null,null,null,null,null,null,null,null,null,null,null,null,null,null,null,null,null,null,null,null,null,null,null,null,"Lookup initials",null,null,{"$f":"VLOOKUP(U10,AE48:AF453,2,FALSE)","v":{"$error":"#N/A"}}]
["Material Short Name","Material Code","Code Description","English Unit","Melded P/S and Plant","Producer Supplier Name","Producer Supplier Name","Producer Supplier Code",null,null,"This column is only plants for the choosen producer",null,null,null,null,null,null,null,null,null,null,null,null,null,null,null,null,null,null,null,null,null,null,null,null,null,"Valid PS-MAT From Cognos:",null,"Vlookup to find ps"]
["Material Short Name","Material Code","Code Description","English Unit",{"$f":"SUBSTITUTE(SUBSTITUTE(SUBSTITUTE(SUBSTITUTE(SUBSTITUTE(SUBSTITUTE(SUBSTITUTE(F47,\"plant\",\"Plt\"),\"Company\",\"Comp\"),\"Plant\",\"Plt\"),\"Construction\",\"Cnst\"),\"Portable\",\"Port\"),\"Paving\",\"Pav\"),\"Concrete\",\"Conc\")&\" - \"&G47","v":"MaterialShortName.MATERIAL - Descr.SOURCE"},"MaterialShortName.MATERIAL","Descr.SOURCE","Source Nm.SOURCE","Source Id.FACILITY","Descr.FACILITY","Facility Nm.FACILITY","Facility Id.FACILITY",null,null,null,null,null,null,null,null,null,null,null,null,null,null,null,null,null,null,"Contractor","Initials",null,null,null,null,"Material","Source",{"$f":"IF(AK47=$AK$44,AL47,\"\")","v":""},"This column is created by a subroutine that copys and sorts column  AM",null,null,null,"This column  is created from the producer choice by code",null,null,null,"Code Value","Code Description","Descr.CODEVALUE","CodeTable Nm.CODEVALUE"]
["AggBase T1 & 5 DO","1007T1ABDO..T5",3906,"tons","E042","1003ASCHD","Buildex, Inc., New Market, MO","3005500314",3091,"Lightweight Aggregate - Weston Shale LT WT","3091_LT WT",6507,{"$f":"IF(AND($F$17=H48,$AK$44=F48),J48,\"\")","v":{"$error":"#N/A"}},{"$f":"IF(AND($F$17=H48,$AK$44=F48),L48,\"\")","v":{"$error":"#N/A"}},null,null,null,null,null,null,null,null,null,null,null,null,null,null,null,null,"ABNA Engineering  Inc.","ABN",null,null,null,null,"1003ASCHD","Buildex, Inc., New Market, MO",{"$f":"IF(AK48=$AK$44,AL48,\"\")","v":""},0,null,null,null,{"$error":"#N/A"},null,null,null,"Approved Producer QC/QA Plan","APQC","QA Quality Management","QA"]
["AggBase T1 & 5 LS","1007T1ABLS..T5",3908,"tons","E042","1003ASCTR","Central Stone, Butler Hill Quarry","3007906217",4812,"Butler Hill Granite 2","4812_2",7198,{"$f":"IF(AND($F$17=H49,$AK$44=F49),J49,\"\")","v":{"$error":"#N/A"}},{"$f":"IF(AND($F$17=H49,$AK$44=F49),L49,\"\")","v":{"$error":"#N/A"}},null,null,null,null,null,null,null,null,null,null,null,null,null,null,null,null,"APAC Clinton","APC",null,null,null,null,"1003ASCTR","Beelman Truck - Slag - Granite City",{"$f":"IF(AK49=$AK$44,AL49,\"\")","v":""},0,null,null,null,{"$error":"#N/A"},null,null,null,"Sample and Test","SATE","QC Contractor Data / Quality Managerment","QCC"]
["AggBase T1 & 5 LS/DO","1007T1ABLD..T5",3910,"tons","E042","1003ASCTR","Central Stone, Butler Hill Quarry","3007906217",4812,"Rhyolite 1","4812_1",7197,{"$error":"#N/A"},{"$error":"#N/A"},null,null,null,null,null,null,null,null,null,null,null,null,null,null,null,null,"APAC-Central, Inc.","APF",null,null,null,null,"1003ASCTR","Central Stone, Butler Hill Quarry",{"$f":"IF(AK50=$AK$44,AL50,\"\")","v":""},0,null,null,null,{"$error":"#N/A"},null,null,null,"Visual Inspection","VSUL","QC Contractor/QA MoDOT QualityManagement","QCQA"]
["AggBase T1 LS","1007T1ABLS",3907,"tons","E042","1003ASCTR","New Frontier, Iron Mtn Trap Rock Pit #3- Porphyry","3022300310",2261,"Porphyry 1","2261_1",5924,{"$error":"#N/A"},{"$error":"#N/A"},null,null,null,null,null,null,null,null,null,null,null,null,null,null,null,null,"APAC-Kansas, Inc.","APK",null,null,null,null,"1003ASCTR","New Frontier, Iron Mountain Quarry-Porphyry",{"$f":"IF(AK51=$AK$44,AL51,\"\")","v":""},0,null,null,null,{"$error":"#N/A"}]
["AggBase T1 LS/DO","1007T1ABLD",3911,"tons","E042","1003GA","AQ Properties LLC","3000700117",46,"Warsaw 4-6","46_4-6",55,{"$error":"#N/A"},{"$error":"#N/A"},null,null,null,null,null,null,null,null,null,null,null,null,null,null,null,null,"APAC-Missouri, Inc.","APA",null,null,null,null,"1003ASCTR","New Frontier, Iron Mtn Trap Rock Pit #3- Porphyry",{"$f":"IF(AK52=$AK$44,AL52,\"\")","v":""},0,null,null,null,{"$error":"#N/A"}]
["AggBase T5 LS/DO","1007T5ABLD..T5",3912,"tons","E042","1003GA","AQ Properties LLC","3000700117",46,"Warsaw-Burlington-Keokuk 6,7","46_6,7",58,{"$error":"#N/A"},{"$error":"#N/A"},null,null,null,null,null,null,null,null,null,null,null,null,null,null,null,null,"Above And Below Contracting, LLC","TJL",null,null,null,null,"1003ASCTR","Trap Rock and Granite Quarries, LLC","",0,null,null,null,{"$error":"#N/A"}]
["AggBase T5 Sand Grav","1007T5ABGV",3909,"tons","E042","1003GA","Central Stone #1, Hannibal (Huntington)","3007900113",948,"Cedar Valley 13-11","948_13-11",3038,{"$error":"#N/A"},{"$error":"#N/A"},null,null,null,null,null,null,null,null,null,null,null,null,null,null,null,null,"Alberici Constructors, Inc.","ALB",null,null,null,null,"1003GA","AQ Properties LLC","",0,null,null,null,{"$error":"#N/A"}]
["AggBase T7 LS/DO","1007T7ABLD",3915,"tons","E042","1003GA","Central Stone #1, Hannibal (Huntington)","3007900113",948,"Kimmswick 10-1","948_10-1",3041,{"$error":"#N/A"},{"$error":"#N/A"},null,null,null,null,null,null,null,null,null,null,null,null,null,null,null,null,"Allgeier Martin & Associates","AGM",null,null,null,null,"1003GA","Buildex, Inc., New Market, MO","",0,null,null,null,{"$error":"#N/A"}]
["AggBase T7 RCP","1007T7ABRCP",3916,"tons","E042","1003GA","Clever Stone Co","3009100118",1289,"Burlington 2-3","1289_2-3",4078,{"$error":"#N/A"},{"$error":"#N/A"},null,null,null,null,null,null,null,null,null,null,null,null,null,null,null,null,"American Bridge Company","ABC",null,null,null,null,"1003GA","Central Stone #1, Hannibal (Huntington)","",0,null,null,null,{"$error":"#N/A"}]
["BrdgWrSf Gr.E Granit","1005GECMGTBD",4062,"tons","E042","1003GA","Clever Stone Co","3009100118",1289,"Burlington-Reeds Spring 1A,1-5","1289_1A,1-5",7366,{"$error":"#N/A"},{"$error":"#N/A"},null,null,null,null,null,null,null,null,null,null,null,null,null,null,null,null,"Amino Bros. Co., Inc.","AMN",null,null,null,null,"1003GA","Clever Stone Co","",0,null,null,null,{"$error":"#N/A"}]
["BrdgWrSf Gr.E LS/DO","1005GECMLSBD",4035,"tons","E042","1003GA","Conco #0496, Marshfield (Ash Grove)","3002909618",1070,"Jefferson City - Cotter 1-3","1070_1-3",3429,{"$error":"#N/A"},{"$error":"#N/A"},null,null,null,null,null,null,null,null,null,null,null,null,null,null,null,null,"Apex Paving Co.","APX",null,null,null,null,"1003GA","Conco #0496, Marshfield (Ash Grove)","",0,null,null,null,{"$error":"#N/A"}]
["Class A NaturalSand","1005FACCNS..CA",4019,"tons","E042","1003GA","Emery Sapp, Purdy (Hutchens)","3021500117",903,"Reeds Spring 4","903_4",2806,{"$error":"#N/A"},{"$error":"#N/A"},null,null,null,null,null,null,null,null,null,null,null,null,null,null,null,null,"Apex Paving Co. dba ASA Asphalt","ASA",null,null,null,null,"1003GA","Emery Sapp, Purdy (Hutchens)","",0,null,null,null,{"$error":"#N/A"}]
["Class B NaturalSand","1005FACCNS..CB",4020,"tons","E042","1003GA","Fischer Bros Pit #2, Ste. Genevieve","3035100310",2357,"Salem 21-25","2357_21-25",6027,{"$error":"#N/A"},{"$error":"#N/A"},null,null,null,null,null,null,null,null,null,null,null,null,null,null,null,null,"Aplex, Inc.","API",null,null,null,null,"1003GA","Fischer Bros Pit #2, Ste. Genevieve","",0,null,null,null,{"$error":"#N/A"}]
["Class C NaturalSand","1005FACCNS..CC",4021,"tons","E042","1003GA","Fischer Quarry & Hauling, Burfordville (T&M Stone)","3242000110",2485,"Smith-Powell 17","2485_17",6149,{"$error":"#N/A"},{"$error":"#N/A"},null,null,null,null,null,null,null,null,null,null,null,null,null,null,null,null,"B & P Patterson, LLC","BPP",null,null,null,null,"1003GA","Fischer Quarry & Hauling, Burfordville (T&M Stone)","",0,null,null,null,{"$error":"#N/A"}]
["Class D Man Sand","1005MSCCMS..CD",4033,"tons","E042","1003GA","Holliday Sand and Stone, S&K (Ash Grove)","3002900217",3559,"Higginsville 10","3559_10",6775,{"$error":"#N/A"},{"$error":"#N/A"},null,null,null,null,null,null,null,null,null,null,null,null,null,null,null,null,"BMC Enterprises, Inc. dba Missouri Petroleum Products Company","MPP",null,null,null,null,"1003GA","Holliday Sand and Stone, S&K (Ash Grove)","",0,null,null,null,{"$error":"#N/A"}]
["Class D NaturalSand","1005FACCNS..CD",4022,"tons","E042","1003GA","Joplin Stone","3023600117",730,"Warsaw 1-3","730_1-3",1936,{"$error":"#N/A"},{"$error":"#N/A"},null,null,null,null,null,null,null,null,null,null,null,null,null,null,null,null,"BRS Construction, LLC","BRS",null,null,null,null,"1003GA","Joplin Stone","",0,null,null,null,{"$error":"#N/A"}]
["Class Unknown Sand","1005FACCNS",4018,"tons","E042","1003GA","New Frontier, Iron Mountain Quarry-Porphyry","3022300110",755,"Porphyry 1","755_1",2018,{"$error":"#N/A"},{"$error":"#N/A"},null,null,null,null,null,null,null,null,null,null,null,null,null,null,null,null,"Bartlett & West, Inc.","BAW",null,null,null,null,"1003GA","Mulberry Quarry, Lamar (Ash Grove Aggr #84)","",0,null,null,null,{"$error":"#N/A"}]
["Com Qlty NaturalSand","1005FACCNS..CM",4023,"tons","E042","1003GA","New Frontier, Iron Mtn Trap Rock Pit #3- Porphyry","3022300310",2261,"Porphyry 1","2261_1",5924,{"$error":"#N/A"},{"$error":"#N/A"},null,null,null,null,null,null,null,null,null,null,null,null,null,null,null,null,"Big River Resources Corp.","BRR",null,null,null,null,"1003GA","New Frontier, Iron Mountain Quarry-Porphyry","",0,null,null,null,{"$error":"#N/A"}]
["Gr A1 Aggr Seal Coat","1003GA",3978,"tons","E042","1003GA","Table Rock, Kimberling City Qy","3045500318",188,"Pierson 1W","188_1W",593,{"$error":"#N/A"},{"$error":"#N/A"},null,null,null,null,null,null,null,null,null,null,null,null,null,null,null,null,"Bleigh Construction Company","BCC",null,null,null,null,"1003GA","New Frontier, Iron Mtn Trap Rock Pit #3- Porphyry","",0,null,null,null,{"$error":"#N/A"}]
["Gr A1 Lghtwt Seal Co","1003GALW",3979,"tons","E042","1003GA","Williams Divers Matl (WDM), Sooner (Bingham #10)","3004001017",3439,"Chat CHAT","3439_CHAT",6748,{"$error":"#N/A"},{"$error":"#N/A"},null,null,null,null,null,null,null,null,null,null,null,null,null,null,null,null,"Blevins Asphalt Construction Company, Inc.","BAC",null,null,null,null,"1003GA","New Frontier, South Quarry","",0,null,null,null,{"$error":"#N/A"}]
["Gr A2 Aggr Seal Coat","1003GA2",3964,"tons","E042","1003GA","Williamsville Stone #1","3050400110",81,"Gasconade 14-6A","81_14-6A",191,{"$error":"#N/A"},{"$error":"#N/A"},null,null,null,null,null,null,null,null,null,null,null,null,null,null,null,null,"Boone Construction Co.","BON",null,null,null,null,"1003GA","Producer Supplier not designated.","",0,null,null,null,{"$error":"#N/A"}]
["Gr A2 Lghtwt Seal Co","1003GA2LW",4013,"tons","E042","1003GA2","Base Rock Materials Quarry","3155900210",1342,"Powell 41-45","1342_41-45",7553,{"$error":"#N/A"},{"$error":"#N/A"},null,null,null,null,null,null,null,null,null,null,null,null,null,null,null,null,"Bowen Engineering & Surveying, P.C.","BWE",null,null,null,null,"1003GA","Quality Aggregates (Hillside LLC)","",0,null,null,null,{"$error":"#N/A"}]
["Gr B1 Aggr Seal Coat","1003GB",3980,"tons","E042","1003GA2","Buildex, Inc., New Market, MO","3005500314",3091,"Lightweight Aggregate - Weston Shale LT WT","3091_LT WT",6507,{"$error":"#N/A"},{"$error":"#N/A"},null,null,null,null,null,null,null,null,null,null,null,null,null,null,null,null,"Branco Enterprises, Inc.","BRE",null,null,null,null,"1003GA","Table Rock, Branson Stone","",0,null,null,null,{"$error":"#N/A"}]
["Gr B1 Lghtwt Seal Co","1003GBLW",3981,"tons","E042","1003GA2","Cantera Aggregates #5, Walnut City Quarry IA","3026300512",670,"Exline 1E","670_1E",1669,{"$error":"#N/A"},{"$error":"#N/A"},null,null,null,null,null,null,null,null,null,null,null,null,null,null,null,null,"Burk Bridge Co.","BBC",null,null,null,null,"1003GA","Table Rock, Kimberling City Qy","",0,null,null,null,{"$error":"#N/A"}]
["Gr B2 Aggr Seal Coat","1003GB2",3965,"tons","E042","1003GA2","Capital Materials, Tightwad (APAC)","3020600114",927,"Burlington 1,2,3","927_1,2,3",2872,{"$error":"#N/A"},{"$error":"#N/A"},null,null,null,null,null,null,null,null,null,null,null,null,null,null,null,null,"Byrne & Jones Enterprises, Inc. dba Byrne & Jones Construction","BJE",null,null,null,null,"1003GA","Trap Rock and Granite Quarries, LLC","",0,null,null,null,{"$error":"#N/A"}]
["Gr B2 Lghtwt Seal Co","1003GB2LW",4014,"tons","E042","1003GA2","Capital Materials, Tightwad (APAC)","3020600114",927,"Chouteau-LowerBurlington-Pierson 4,5,6,7,3A","927_4,5,6,7,3A",2882,{"$error":"#N/A"},{"$error":"#N/A"},null,null,null,null,null,null,null,null,null,null,null,null,null,null,null,null,"C.P. Excavating, LLC","CPE",null,null,null,null,"1003GA","Williams Divers Matl (WDM), Sooner (Bingham #10)","",0,null,null,null,{"$error":"#N/A"}]
["Gr C Aggr Seal Coat","1003GC",3982,"tons","E042","1003GA2","Central Stone #1, Hannibal (Huntington)","3007900113",948,"Cedar Valley 13-11","948_13-11",3038,{"$error":"#N/A"},{"$error":"#N/A"},null,null,null,null,null,null,null,null,null,null,null,null,null,null,null,null,"CB Engineering, Inc. dba Cochran","COC",null,null,null,null,"1003GA","Williamsville Stone #1","",0,null,null,null,{"$error":"#N/A"}]
["Gr C Lghtwt Seal Co","1003GCLW",3983,"tons","E042","1003GA2","Central Stone #1, Hannibal (Huntington)","3007900113",948,"Kimmswick 10-1","948_10-1",3041,{"$error":"#N/A"},{"$error":"#N/A"},null,null,null,null,null,null,null,null,null,null,null,null,null,null,null,null,"CBH Construction, LLC","CBH",null,null,null,null,"1003GA2","Base Rock Materials Quarry",{"$f":"IF(AK75=$AK$44,AL75,\"\")","v":""},0,null,null,null,{"$error":"#N/A"}]
["Gr1 Nat Sand ggr Dra","1009G1DRNS",3918,"tons","E042","1003GA2","Central Stone, Butler Hill Quarry","3007906217",4812,"Butler Hill Granite 2","4812_2",7198,{"$error":"#N/A"},{"$error":"#N/A"},null,null,null,null,null,null,null,null,null,null,null,null,null,null,null,null,"CE Contracting, Inc.","CEC",null,null,null,null,"1003GA2","Beelman Truck - Slag - Granite City","",0,null,null,null,{"$error":"#N/A"}]
["Gr2 Sand-Gravel Mix","1009G2DRNSGV",3919,"tons","E042","1003GA2","Central Stone, Butler Hill Quarry","3007906217",4812,"Rhyolite 1","4812_1",7197,{"$error":"#N/A"},{"$error":"#N/A"},null,null,null,null,null,null,null,null,null,null,null,null,null,null,null,null,"CSD Environmental Services, Inc.","CES",null,null,null,null,"1003GA2","Buildex, Inc., New Market, MO","",0,null,null,null,{"$error":"#N/A"}]
["Gr3 LS/DO for Drain","1009G3DRLD",3929,"tons","E042","1003GA2","Martin Marietta, Ferrelview (Stamper)","3021300214",925,"Bethany Falls 1BF-2BF-3BF","925_1BF-2BF-3BF",2860,{"$error":"#N/A"},{"$error":"#N/A"},null,null,null,null,null,null,null,null,null,null,null,null,null,null,null,null,"Cale Seymour Construction, LLC","CSC",null,null,null,null,"1003GA2","Cantera Aggregates #5, Walnut City Quarry IA","",0,null,null,null,{"$error":"#N/A"}]
["Gr4 Alt A DO St PBs","1009G4DRDOAASB",3922,"tons","E042","1003GA2","New Frontier, Iron Mountain Quarry-Porphyry","3022300110",755,"Porphyry 1","755_1",2018,{"$error":"#N/A"},{"$error":"#N/A"},null,null,null,null,null,null,null,null,null,null,null,null,null,null,null,null,"Capital Electric Line Builders, LLC","CEL",null,null,null,null,"1003GA2","Capital Materials, Tightwad (APAC)","",0,null,null,null,{"$error":"#N/A"}]
["Gr4 Alt A LS/DO","1009G4DRLDAA",3927,"tons","E042","1003GA2","New Frontier, Iron Mtn Trap Rock Pit #3- Porphyry","3022300310",2261,"Porphyry 1","2261_1",5924,{"$error":"#N/A"},{"$error":"#N/A"},null,null,null,null,null,null,null,null,null,null,null,null,null,null,null,null,"Capital Materials LLC","CPM",null,null,null,null,"1003GA2","Central Stone #1, Hannibal (Huntington)",{"$f":"IF(AK80=$AK$44,AL80,\"\")","v":""},0,null,null,null,{"$error":"#N/A"}]
["Gr4 Alt B DO StPBas","1009G4DRDOABSB",3923,"tons","E042","1003GA2","Summit Materials, Marshall (Boone Quarries)","3176713215",1976,"Cedar Valley 5CA-9CA","1976_5CA-9CA",5592,{"$error":"#N/A"},{"$error":"#N/A"},null,null,null,null,null,null,null,null,null,null,null,null,null,null,null,null,"Capital Paving & Construction, LLC","CPC",null,null,null,null,"1003GA2","Central Stone, Butler Hill Quarry","",0,null,null,null,{"$error":"#N/A"}]
["Gr4 Alt B LS StPBas","1009G4DRLSABSB",3924,"tons","E042","1003GA2","Summit Materials, Marshall (Boone Quarries)","3176713215",1976,"Chouteau 1C-2C-3C","1976_1C-2C-3C",5583,{"$error":"#N/A"},{"$error":"#N/A"},null,null,null,null,null,null,null,null,null,null,null,null,null,null,null,null,"Central Missouri Professional Services, Inc.","CMP",null,null,null,null,"1003GA2","Martin Marietta, Ferrelview (Stamper)","",0,null,null,null,{"$error":"#N/A"}]
["Gr4 Alt B LS/DO Dra","1009G4DRLDAB",3928,"tons","E042","1003GA2","Summit Materials, Marshall (Boone Quarries)","3176713215",1976,"Chouteau - Cedar Valley 4C,5-9CA","1976_4C,5-9CA",5593,{"$error":"#N/A"},{"$error":"#N/A"},null,null,null,null,null,null,null,null,null,null,null,null,null,null,null,null,"Chester Bross Construction Company/C.B. Equipment, Inc.","CBC",null,null,null,null,"1003GA2","New Frontier, Iron Mountain Quarry-Porphyry","",0,null,null,null,{"$error":"#N/A"}]
["Gr5 DO Aggr Drain","1009G5DRDO",3925,"tons","E042","1003GA2","Trap Rock and Granite Quarries, LLC","3243500119",2512,"Granite 1","2512_1",6185,{"$error":"#N/A"},{"$error":"#N/A"},null,null,null,null,null,null,null,null,null,null,null,null,null,null,null,null,"Christensen Construction Co.","CHR",null,null,null,null,"1003GA2","New Frontier, Iron Mtn Trap Rock Pit #3- Porphyry","",0,null,null,null,{"$error":"#N/A"}]
["Gr5 LS Agg Drain","1009G5DRLS",3926,"tons","E042","1003GA2","Trap Rock and Granite Quarries, LLC","3243500119",2512,"Rhyolite 2","2512_2",6184,{"$error":"#N/A"},{"$error":"#N/A"},null,null,null,null,null,null,null,null,null,null,null,null,null,null,null,null,"City Design Group, Inc.","CDG",null,null,null,null,"1003GA2","Summit Materials, Marshall (Boone Quarries)","",0,null,null,null,{"$error":"#N/A"}]
["Grav Gr 3 Agg Drain","1009G3DRGV",3920,"tons","E042","1003GA2LW","Arcosa Lightweight (IN)","3533800319",5304,"Lightweight Aggregate - Haydite Haydite","5304_Haydite",7590,{"$error":"#N/A"},{"$error":"#N/A"},null,null,null,null,null,null,null,null,null,null,null,null,null,null,null,null,"Clarkson Construction Company","CCC",null,null,null,null,"1003GA2","Trap Rock and Granite Quarries, LLC","",0,null,null,null,{"$error":"#N/A"}]
["HD for Scrub Seal","1003ASCHD",3987,"tons","E042","1003GA2LW","Arcosa Lightweight (KY)","3533800219",5220,"Lightweight Aggregate - Haydite Haydite","5220_Haydite",7459,{"$error":"#N/A"},{"$error":"#N/A"},null,null,null,null,null,null,null,null,null,null,null,null,null,null,null,null,"Collins & Hermann, Inc.","CHI",null,null,null,null,"1003GA2LW","Arcosa Lightweight (IN)","",0,null,null,null,{"$error":"#N/A"}]
["Init Appv Ag Bas XT4","1007CAAB.",388,"tons","E042","1003GALW","Arcosa Lightweight (IN)","3533800319",5304,"Lightweight Aggregate - Haydite Haydite","5304_Haydite",7590,{"$error":"#N/A"},{"$error":"#N/A"},null,null,null,null,null,null,null,null,null,null,null,null,null,null,null,null,"Comanche Construction, Inc.","CCI",null,null,null,null,"1003GA2LW","Arcosa Lightweight (KY)","",0,null,null,null,{"$error":"#N/A"}]
["LS Gr 3 Aggr Drain","1009G3DRLS",3921,"tons","E042","1003GALW","Arcosa Lightweight (KY)","3533800219",5220,"Lightweight Aggregate - Haydite Haydite","5220_Haydite",7459,{"$error":"#N/A"},{"$error":"#N/A"},null,null,null,null,null,null,null,null,null,null,null,null,null,null,null,null,"Concrete Strategies, LLC","COS",null,null,null,null,"1003GA2LW","Buildex, Inc., New Market, MO","",0,null,null,null,{"$error":"#N/A"}]
["LSDO for Scrub Seal","1003ASCLSDO",5785,"tons","E042","1003GALW","Buildex, Inc., New Market, MO","3005500314",3091,"Lightweight Aggregate - Weston Shale LT WT","3091_LT WT",6507,{"$error":"#N/A"},{"$error":"#N/A"},null,null,null,null,null,null,null,null,null,null,null,null,null,null,null,null,"County Contractors, Inc.","CTC",null,null,null,null,"1003GALW","Arcosa Lightweight (IN)","",0,null,null,null,{"$error":"#N/A"}]
["Lightwt Agg for Conc","1005LWA",4039,"tons","E042","1003GB","APAC-Central, Busiek (Anderson Qy)","3176704018",1957,"Cotter 1-5","1957_1-5",5522,{"$error":"#N/A"},{"$error":"#N/A"},null,null,null,null,null,null,null,null,null,null,null,null,null,null,null,null,"Crockett Engineering Consultants, LLC","CRK",null,null,null,null,"1003GALW","Arcosa Lightweight (KY)","",0,null,null,null,{"$error":"#N/A"}]
["Masonry 1\" Granite","1005CM..GT10",4057,"tons","E042","1003GB","AQ Properties LLC","3000700117",46,"Warsaw 4-6","46_4-6",55,{"$error":"#N/A"},{"$error":"#N/A"},null,null,null,null,null,null,null,null,null,null,null,null,null,null,null,null,"D & E Plumbing and Heating, Inc.","DEP",null,null,null,null,"1003GALW","Buildex, Inc., New Market, MO","",0,null,null,null,{"$error":"#N/A"}]
["Masonry 1\" Gravel","1005CM..GV10",4056,"tons","E042","1003GB","AQ Properties LLC","3000700117",46,"Warsaw-Burlington-Keokuk 6,7","46_6,7",58,{"$error":"#N/A"},{"$error":"#N/A"},null,null,null,null,null,null,null,null,null,null,null,null,null,null,null,null,"D & S Fencing Co., Inc.","DFC",null,null,null,null,"1003GALW","Hydraulic Press Brick Company","",0,null,null,null,{"$error":"#N/A"}]
["Masonry 1\" LS/DO","1005CM..LD10",4049,"tons","E042","1003GB","Boone Quarries, Houstonia (Mid MO Mertens)","3031800515",584,"Burlington 1","584_1",1448,{"$error":"#N/A"},{"$error":"#N/A"},null,null,null,null,null,null,null,null,null,null,null,null,null,null,null,null,"Delta Lab","DEL",null,null,null,null,"1003GB","APAC-Central, Busiek (Anderson Qy)","",0,null,null,null,{"$error":"#N/A"}]
["Masonry 1/2\" Gravel","1005CM..GV05",4067,"tons","E042","1003GB","Cantera Aggregates #5, Walnut City Quarry IA","3026300512",670,"Exline 1E","670_1E",1669,{"$error":"#N/A"},{"$error":"#N/A"},null,null,null,null,null,null,null,null,null,null,null,null,null,null,null,null,"Don Schnieders Excavating Company, Inc.","DSE",null,null,null,null,"1003GB","AQ Properties LLC","",0,null,null,null,{"$error":"#N/A"}]
["Masonry 1/2\" LS/DO","1005CM..LD05",4066,"tons","E042","1003GB","Capital Materials, Ozark (Journagan, Journagan Qy)","3027400118",720,"Reeds Spring 11-12","720_11-12",7661,{"$error":"#N/A"},{"$error":"#N/A"},null,null,null,null,null,null,null,null,null,null,null,null,null,null,null,null,"Emery Sapp & Sons, Inc.","EMS",null,null,null,null,"1003GB","Bailey Quarries #2, Dolomite","",0,null,null,null,{"$error":"#N/A"}]
["Masonry 3/4\" LS/DO","1005CM..LD07",4054,"tons","E042","1003GB","Capital Materials, Ozark (Journagan, Journagan Qy)","3027400118",720,"Reeds Spring-Pierson 13-14","720_13-14",1885,{"$error":"#N/A"},{"$error":"#N/A"},null,null,null,null,null,null,null,null,null,null,null,null,null,null,null,null,"Engineered Systems Company, LLC","ESC",null,null,null,null,"1003GB","Boone Quarries, Houstonia (Mid MO Mertens)","",0,null,null,null,{"$error":"#N/A"}]
["Masonry 3/8\" Granite","1005CM..GT04",4055,"tons","E042","1003GB","Capital Materials, Tightwad (APAC)","3020600114",927,"Burlington 1,2,3","927_1,2,3",2872,{"$error":"#N/A"},{"$error":"#N/A"},null,null,null,null,null,null,null,null,null,null,null,null,null,null,null,null,"Engineering Surveys & Services, LLC","E1S",null,null,null,null,"1003GB","Cantera Aggregates #5, Walnut City Quarry IA","",0,null,null,null,{"$error":"#N/A"}]
["Masonry 3/8\" Gravel","1005CM..GV04",4058,"tons","E042","1003GB","Capital Materials, Tightwad (APAC)","3020600114",927,"Chouteau-LowerBurlington-Pierson 4,5,6,7,3A","927_4,5,6,7,3A",2882,{"$error":"#N/A"},{"$error":"#N/A"},null,null,null,null,null,null,null,null,null,null,null,null,null,null,null,null,"Enviro Control, LLC","ENV",null,null,null,null,"1003GB","Capital Materials, Ozark (Journagan, Journagan Qy)","",0,null,null,null,{"$error":"#N/A"}]
["Masonry 3/8\" LS/DO","1005CM..LD04",4065,"tons","E042","1003GB","Central Stone #1, Hannibal (Huntington)","3007900113",948,"Cedar Valley 13-11","948_13-11",3038,{"$error":"#N/A"},{"$error":"#N/A"},null,null,null,null,null,null,null,null,null,null,null,null,null,null,null,null,"Ewing Signal Construction, LLC","EWS",null,null,null,null,"1003GB","Capital Materials, Tightwad (APAC)","",0,null,null,null,{"$error":"#N/A"}]
["Masonry Gr.D DO","1005GDCMDO",4024,"tons","E042","1003GB","Central Stone #1, Hannibal (Huntington)","3007900113",948,"Kimmswick 10-1","948_10-1",3041,{"$error":"#N/A"},{"$error":"#N/A"},null,null,null,null,null,null,null,null,null,null,null,null,null,null,null,null,"Fred Weber, Inc.","FDW",null,null,null,null,"1003GB","Central Stone #1, Hannibal (Huntington)","",0,null,null,null,{"$error":"#N/A"}]
["Masonry Gr.D Gravel","1005GDCMGV",4025,"tons","E042","1003GB","Central Stone, Butler Hill Quarry","3007906217",4812,"Butler Hill Granite 2","4812_2",7198,{"$error":"#N/A"},{"$error":"#N/A"},null,null,null,null,null,null,null,null,null,null,null,null,null,null,null,null,"Freedom Fence, LLC","FRF",null,null,null,null,"1003GB","Central Stone, Butler Hill Quarry","",0,null,null,null,{"$error":"#N/A"}]
["Masonry Gr.D LS","1005GDCMLS",4026,"tons","E042","1003GB","Clever Stone Co","3009100118",1289,"Burlington 2-3","1289_2-3",4078,{"$error":"#N/A"},{"$error":"#N/A"},null,null,null,null,null,null,null,null,null,null,null,null,null,null,null,null,"Fronabarger Concreters, Inc.","FRN",null,null,null,null,"1003GB","Clever Stone Co","",0,null,null,null,{"$error":"#N/A"}]
["Masonry Gr.D LS/DO","1005GDCMLD",4053,"tons","E042","1003GB","Clever Stone Co","3009100118",1289,"Burlington-Reeds Spring 1A,1-5","1289_1A,1-5",7366,{"$error":"#N/A"},{"$error":"#N/A"},null,null,null,null,null,null,null,null,null,null,null,null,null,null,null,null,"G & M Concrete & Asphalt Co., Inc.","GMC",null,null,null,null,"1003GB","Conco #0496, Marshfield (Ash Grove)","",0,null,null,null,{"$error":"#N/A"}]
["Masonry Gr.D Porphyr","1005GDCMPY",4059,"tons","E042","1003GB","Conco #0496, Marshfield (Ash Grove)","3002909618",1070,"Jefferson City - Cotter 1-3","1070_1-3",3429,{"$error":"#N/A"},{"$error":"#N/A"},null,null,null,null,null,null,null,null,null,null,null,null,null,null,null,null,"Garver USA","GVR",null,null,null,null,"1003GB","Emery Sapp, Purdy (Hutchens)","",0,null,null,null,{"$error":"#N/A"}]
["Masonry Gr.E Chat","1005GECMCT",4028,"tons","E042","1003GB","Emery Sapp, Purdy (Hutchens)","3021500117",903,"Reeds Spring 4","903_4",2806,{"$error":"#N/A"},{"$error":"#N/A"},null,null,null,null,null,null,null,null,null,null,null,null,null,null,null,null,"Geotechnics","GEO",null,null,null,null,"1003GB","Emery Sapp, Shell Knob (Hutchens)","",0,null,null,null,{"$error":"#N/A"}]
["Masonry Gr.E DO","1005GECMDO",4029,"tons","E042","1003GB","Emery Sapp, Purdy (Hutchens)","3021500117",903,"Reeds Spring 5","903_5",2801,{"$error":"#N/A"},{"$error":"#N/A"},null,null,null,null,null,null,null,null,null,null,null,null,null,null,null,null,"Geromini Concrete Paving, LLC dba GC Paving","GCP",null,null,null,null,"1003GB","Hamm Quarry, La Cygne, KS (Mid-State)","",0,null,null,null,{"$error":"#N/A"}]
["Masonry Gr.E Gravel","1005GECMGV",4030,"tons","E042","1003GB","Emery Sapp, Shell Knob (Hutchens)","3027401417",728,"Jefferson City 1-1C","728_1-1C",1924,{"$error":"#N/A"},{"$error":"#N/A"},null,null,null,null,null,null,null,null,null,null,null,null,null,null,null,null,"Gershenson Construction Co., Inc.","GCC",null,null,null,null,"1003GB","Holliday Sand and Stone, S&K (Ash Grove)","",0,null,null,null,{"$error":"#N/A"}]
["Masonry Gr.E LS/DO","1005GECMLS",4031,"tons","E042","1003GB","Hamm Quarry, La Cygne, KS (Mid-State)","3049000117",144,"Winterset A-B","144_A-B",549,{"$error":"#N/A"},{"$error":"#N/A"},null,null,null,null,null,null,null,null,null,null,null,null,null,null,null,null,"Gerstner Electric, Inc.","GRE",null,null,null,null,"1003GB","Joplin Stone","",0,null,null,null,{"$error":"#N/A"}]
["PCCP 1 1/2\" LS/DO","100515..OPTLD1",4036,"tons","E042","1003GB","Joplin Stone","3023600117",730,"Warsaw 1-3","730_1-3",1936,{"$error":"#N/A"},{"$error":"#N/A"},null,null,null,null,null,null,null,null,null,null,null,null,null,null,null,null,"Gonzalez Companies, LLC","GCL",null,null,null,null,"1003GB","Kemp Stone, Neosho (Inland River Aggregates)","",0,null,null,null,{"$error":"#N/A"}]
["PCCP 1\" LS/DO","100510..OPTLD1",4041,"tons","E042","1003GB","Joplin Stone","3023600117",730,"Warsaw 4","730_4",1939,{"$error":"#N/A"},{"$error":"#N/A"},null,null,null,null,null,null,null,null,null,null,null,null,null,null,null,null,"Goodwin Bros. Construction Co.","GBC",null,null,null,null,"1003GB","Martin Marietta, Ferrelview (Stamper)","",0,null,null,null,{"$error":"#N/A"}]
["PCCP 1\" Quartizite","100510..OPTQU",4047,"tons","E042","1003GB","Joplin Stone","3023600117",730,"Warsaw 8","730_8",7414,{"$error":"#N/A"},{"$error":"#N/A"},null,null,null,null,null,null,null,null,null,null,null,null,null,null,null,null,"Ground Breaking Excavation & Utilities, LLC","GBE",null,null,null,null,"1003GB","Mulberry Quarry, Lamar (Ash Grove Aggr #84)",{"$f":"IF(AK112=$AK$44,AL112,\"\")","v":""},0,null,null,null,{"$error":"#N/A"}]
["PCCP 1/2\" Crs Sand","100505..OPTNS1",4044,"tons","E042","1003GB","Martin Marietta, Ferrelview (Stamper)","3021300214",925,"Bethany Falls 1BF-2BF-3BF","925_1BF-2BF-3BF",2860,{"$f":"IF(AND($F$17=H113,$AK$44=F113),J113,\"\")","v":{"$error":"#N/A"}},{"$f":"IF(AND($F$17=H113,$AK$44=F113),L113,\"\")","v":{"$error":"#N/A"}},null,null,null,null,null,null,null,null,null,null,null,null,null,null,null,null,"Gunter Construction Company","G1C",null,null,null,null,"1003GB","New Frontier, Iron Mountain Quarry-Porphyry",{"$f":"IF(AK113=$AK$44,AL113,\"\")","v":""},0,null,null,null,{"$error":"#N/A"}]
["PCCP 1/2\" Gravel","100505..OPTGV1",4038,"tons","E042","1003GB","New Frontier, Iron Mountain Quarry-Porphyry","3022300110",755,"Porphyry 0","755_0",2017,{"$error":"#N/A"},{"$error":"#N/A"},null,null,null,null,null,null,null,null,null,null,null,null,null,null,null,null,"H.R. Quadri Contractors, LLC","HRQ",null,null,null,null,"1003GB","Norris Quarries LLC, Agency (APAC - Agency)","",0,null,null,null,{"$error":"#N/A"}]
["PCCP 1/2\" LS/DO","100505..OPTLD1",4043,"tons","E042","1003GB","New Frontier, Iron Mountain Quarry-Porphyry","3022300110",755,"Porphyry 1","755_1",2018,{"$error":"#N/A"},{"$error":"#N/A"},null,null,null,null,null,null,null,null,null,null,null,null,null,null,null,null,"HDR Engineering, Inc.","HDR",null,null,null,null,"1003GB","Norris Quarries LLC, Akron (Jefferies Quarry)","",0,null,null,null,{"$error":"#N/A"}]
["PCCP 2\" LS/DO","100520..OPTLD1",4040,"tons","E042","1003GB","Norris Quarries LLC, Agency (APAC - Agency)","3014800211",1030,"Stoner 1S-5S","1030_1S-5S",3297,{"$error":"#N/A"},{"$error":"#N/A"},null,null,null,null,null,null,null,null,null,null,null,null,null,null,null,null,"HDR Engineering, Inc.","HDS",null,null,null,null,"1003GB","Norris Quarries LLC, Cameron South (APAC)","",0,null,null,null,{"$error":"#N/A"}]
["PCCP 3/4\" Granite","100507..CPGT1",4063,"tons","E042","1003GB","Norris Quarries LLC, Akron (Jefferies Quarry)","3030615411",807,"Bethany Falls 2BF-4BF","807_2BF-4BF",2207,{"$error":"#N/A"},{"$error":"#N/A"},null,null,null,null,null,null,null,null,null,null,null,null,null,null,null,null,"HDR Engineering, Inc.","HDL",null,null,null,null,"1003GB","Norris Quarries LLC, Kingston (APAC - Kingston)","",0,null,null,null,{"$error":"#N/A"}]
["PCCP 3/4\" Gravel","100507..OPTGV1",4045,"tons","E042","1003GB","Norris Quarries LLC, Kingston (APAC - Kingston)","3014800411",1033,"Bethany Falls 1BF-4BF","1033_1BF-4BF",3337,{"$error":"#N/A"},{"$error":"#N/A"},null,null,null,null,null,null,null,null,null,null,null,null,null,null,null,null,"Halverson Construction Co., Inc.","HLC",null,null,null,null,"1003GB","Norris Quarries LLC, Plattsburg South (APAC)","",0,null,null,null,{"$error":"#N/A"}]
["PCCP 3/4\" LS/DO","100507..OPTLD1",4042,"tons","E042","1003GB","Norris Quarries LLC, Kingston (APAC - Kingston)","3014800411",1033,"Winterset 1W-3W","1033_1W-3W",3335,{"$error":"#N/A"},{"$error":"#N/A"},null,null,null,null,null,null,null,null,null,null,null,null,null,null,null,null,"Hartman and Company, Inc.","HAC",null,null,null,null,"1003GB","Norris Quarries, Amazonia Quarry","",0,null,null,null,{"$error":"#N/A"}]
["PCCP 3/8\" Bottom Ash","100504..BA1",4050,"tons","E042","1003GB","Norris Quarries LLC, Plattsburg South (APAC)","3014801111",1035,"Stoner 1-4","1035_1-4",3365,{"$error":"#N/A"},{"$error":"#N/A"},null,null,null,null,null,null,null,null,null,null,null,null,null,null,null,null,"Herzog Contracting Corp.","HCC",null,null,null,null,"1003GB","Norris Quarries, Bethany","",0,null,null,null,{"$error":"#N/A"}]
["PCCP 3/8\" Crs Sand","100504..OPTCS1",5910,"tons","E042","1003GB","Norris Quarries, Amazonia Quarry","3061800211",888,"Kereford 1K","888_1K",2717,{"$error":"#N/A"},{"$error":"#N/A"},null,null,null,null,null,null,null,null,null,null,null,null,null,null,null,null,"Hg Consult  Inc.","HGI",null,null,null,null,"1003GB","Norris Quarries, Blue Mound","",0,null,null,null,{"$error":"#N/A"}]
["PCCP 3/8\" Gravel","100504..OPTGV1",4048,"tons","E042","1003GB","Norris Quarries, Amazonia Quarry","3061800211",888,"Kereford 1K-2K","888_1K-2K",2703,{"$error":"#N/A"},{"$error":"#N/A"},null,null,null,null,null,null,null,null,null,null,null,null,null,null,null,null,"Horner & Shifrin, Inc.","HAS",null,null,null,null,"1003GB","Norris Quarries, Breit Quarry, Savannah","",0,null,null,null,{"$error":"#N/A"}]
["PCCP 3/8\" LS/DO","100504..OPTLD1",4046,"tons","E042","1003GB","Norris Quarries, Bethany","3030616611",809,"Bethany Falls 9BF-12BF","809_9BF-12BF",2228,{"$error":"#N/A"},{"$error":"#N/A"},null,null,null,null,null,null,null,null,null,null,null,null,null,null,null,null,"Hunter Chase & Associates, Inc.","HCA",null,null,null,null,"1003GB","Norris Quarries, Gallatin Quarry","",0,null,null,null,{"$error":"#N/A"}]
["PCCP 3/8\" Nat Sand","100504..OPTNS1",4037,"tons","E042","1003GB","Norris Quarries, Blue Mound","3018700212",849,"Bethany Falls 2BF-3BF","849_2BF-3BF",2612,{"$error":"#N/A"},{"$error":"#N/A"},null,null,null,null,null,null,null,null,null,null,null,null,null,null,null,null,"Hutchens Construction Co.","HUC",null,null,null,null,"1003GB","Norris Quarries, Princeton Quarry","",0,null,null,null,{"$error":"#N/A"}]
["PCCP Gr.F LS/DO","1005GFCPLS",4032,"tons","E042","1003GB","Norris Quarries, Breit Quarry, Savannah","3030693411",806,"Amazonia 8AZ","806_8AZ",2184,{"$error":"#N/A"},{"$error":"#N/A"},null,null,null,null,null,null,null,null,null,null,null,null,null,null,null,null,"Hutchison Engineering, Inc","HEI",null,null,null,null,"1003GB","Norris Quarries, Trenton","",0,null,null,null,{"$error":"#N/A"}]
["PCCP/Mas 1\" Granite","100510..CPCMGT",4064,"tons","E042","1003GB","Norris Quarries, Breit Quarry, Savannah","3030693411",806,"Kereford 1K","806_1K",2194,{"$error":"#N/A"},{"$error":"#N/A"},null,null,null,null,null,null,null,null,null,null,null,null,null,null,null,null,"Ideker, Inc.","IDK",null,null,null,null,"1003GB","Quality Aggregates (Hillside LLC)","",0,null,null,null,{"$error":"#N/A"}]
["PCCP/Mas 1\" LS/DO","100510..CPCMLD",4051,"tons","E042","1003GB","Norris Quarries, Gallatin Quarry","3030616511",811,"Bethany Falls 1BF-3BF","811_1BF-3BF",2265,{"$error":"#N/A"},{"$error":"#N/A"},null,null,null,null,null,null,null,null,null,null,null,null,null,null,null,null,"Interstate Improvement, Inc.","III",null,null,null,null,"1003GB","Schildberg Construction, Graham","",0,null,null,null,{"$error":"#N/A"}]
["PCCP/Mas 1\" Porphry","100510..CPPY",4061,"tons","E042","1003GB","Norris Quarries, Gallatin Quarry","3030616511",811,"Bethany Falls 2BF-3BF","811_2BF-3BF",2271,{"$error":"#N/A"},{"$error":"#N/A"},null,null,null,null,null,null,null,null,null,null,null,null,null,null,null,null,"Interstate Testing Services, LLC","ITS",null,null,null,null,"1003GB","Summit Materials, Marshall (Boone Quarries)","",0,null,null,null,{"$error":"#N/A"}]
["PCCP/Mas 1/2\" LS/DO","100505..CPCMLD",4034,"tons","E042","1003GB","Norris Quarries, Princeton Quarry","3030600912",787,"Bethany Falls 1-4","787_1-4",2063,{"$error":"#N/A"},{"$error":"#N/A"},null,null,null,null,null,null,null,null,null,null,null,null,null,null,null,null,"Intertek - PSI","PSS",null,null,null,null,"1003GB","Table Rock, Kimberling City Qy","",0,null,null,null,{"$error":"#N/A"}]
["PCCP/Mas 3/4\" LS/DO","100507..CPCMLD",4052,"tons","E042","1003GB","Norris Quarries, Trenton","3030601212",788,"Bethany Falls 1B-3B","788_1B-3B",2080,{"$error":"#N/A"},{"$error":"#N/A"},null,null,null,null,null,null,null,null,null,null,null,null,null,null,null,null,"Iowa Civil Contracting, Inc.","ICC",null,null,null,null,"1003GB","Trager Limestone, Gallatin (SOUTH)","",0,null,null,null,{"$error":"#N/A"}]
["PCCP/Mas 3/8\" LS/DO","100504..CPCMLD",4060,"tons","E042","1003GB","Norris Quarries, Trenton","3030601212",788,"Winterset 1-5","788_1-5",2086,{"$error":"#N/A"},{"$error":"#N/A"},null,null,null,null,null,null,null,null,null,null,null,null,null,null,null,null,"Iron Mountain Trap Rock Company","IMC",null,null,null,null,"1003GB","Trager Limestone, Nettleton","",0,null,null,null,{"$error":"#N/A"}]
["Recyclable Asphalt","1007..RAP1",3914,"tons","E042","1003GB","Quality Aggregates (Hillside LLC)","3238600114",2290,"Bethany Falls 1BF-4BF","2290_1BF-4BF",5953,{"$error":"#N/A"},{"$error":"#N/A"},null,null,null,null,null,null,null,null,null,null,null,null,null,null,null,null,"J D Bishop Construction, LLC","JDB",null,null,null,null,"1003GB","Twin States Sand & Gravel","",0,null,null,null,{"$error":"#N/A"}]
["Recycled Conc. T1T5","1007..RCBT1T5",3917,"tons","E042","1003GB","Quality Aggregates (Hillside LLC)","3238600114",2290,"Bethany Falls 4-BF","2290_4-BF",5948,{"$error":"#N/A"},{"$error":"#N/A"},null,null,null,null,null,null,null,null,null,null,null,null,null,null,null,null,"J M Scheidle, LLC","JMS",null,null,null,null,"1003GB","Williams Divers Matl (WDM), Sooner (Bingham #10)","",0,null,null,null,{"$error":"#N/A"}]
["Select Gran Backfill","1010SGBF",3988,"tons","E042","1003GB","Schildberg Construction, Graham","3041404811",293,"Ervine Creek 2EC-4EC","293_2EC-4EC",1002,{"$error":"#N/A"},{"$error":"#N/A"},null,null,null,null,null,null,null,null,null,null,null,null,null,null,null,null,"J. M. Fahey Construction Co.","JMF",null,null,null,null,"1003GB2","Buildex, Inc., New Market, MO","",0,null,null,null,{"$error":"#N/A"}]
["TR for Scrub Seal","1003ASCTR",5784,"tons","E042","1003GB","Summit Materials, Marshall (Boone Quarries)","3176713215",1976,"Cedar Valley 5CA-9CA","1976_5CA-9CA",5592,{"$error":"#N/A"},{"$error":"#N/A"},null,null,null,null,null,null,null,null,null,null,null,null,null,null,null,null,"J. M. Marschuetz Construction Co.","JMC",null,null,null,null,"1003GB2","Cantera Aggregates #5, Walnut City Quarry IA","",0,null,null,null,{"$error":"#N/A"}]
[null,null,null,null,null,"1003GB","Summit Materials, Marshall (Boone Quarries)","3176713215",1976,"Chouteau 1C-2C-3C","1976_1C-2C-3C",5583,{"$error":"#N/A"},{"$error":"#N/A"},null,null,null,null,null,null,null,null,null,null,null,null,null,null,null,null,"J.H. Berra Construction Co., Inc.","JHB",null,null,null,null,"1003GB2","Capital Materials, Tightwad (APAC)","",0,null,null,null,{"$error":"#N/A"}]
[null,null,null,null,null,"1003GB","Summit Materials, Marshall (Boone Quarries)","3176713215",1976,"Chouteau - Cedar Valley 4C,5-9CA","1976_4C,5-9CA",5593,{"$error":"#N/A"},{"$error":"#N/A"},null,null,null,null,null,null,null,null,null,null,null,null,null,null,null,null,"James H. Drew Corporation","JHD",null,null,null,null,"1003GB2","Capital Sand #1,  Wardsville (Osage Riv)","",0,null,null,null,{"$error":"#N/A"}]
[null,null,null,null,null,"1003GB","Summit Materials, Marshall (Boone Quarries)","3176713215",1976,"Chouteau-Cedar Valley 4C,5-6CA,8-9CA","1976_4C,5-6CA,8-9CA",5591,{"$error":"#N/A"},{"$error":"#N/A"},null,null,null,null,null,null,null,null,null,null,null,null,null,null,null,null,"Jeff Asbell Excavating & Trucking Inc.","AET",null,null,null,null,"1003GB2","Central Stone #1, Hannibal (Huntington)","",0,null,null,null,{"$error":"#N/A"}]
[null,null,null,null,null,"1003GB","Table Rock, Kimberling City Qy","3045500318",188,"Compton 2W","188_2W",597,{"$error":"#N/A"},{"$error":"#N/A"},null,null,null,null,null,null,null,null,null,null,null,null,null,null,null,null,"Jeff City Industry, Inc. dba J.C. Industries, Inc.","JCI",null,null,null,null,"1003GB2","Central Stone, Butler Hill Quarry","",0,null,null,null,{"$error":"#N/A"}]
[null,null,null,null,null,"1003GB","Table Rock, Kimberling City Qy","3045500318",188,"Pierson 1-3","188_1-3",598,{"$error":"#N/A"},{"$error":"#N/A"},null,null,null,null,null,null,null,null,null,null,null,null,null,null,null,null,"Jefferson Asphalt Company","JFA",null,null,null,null,"1003GB2","Martin Marietta, Ferrelview (Stamper)","",0,null,null,null,{"$error":"#N/A"}]
[null,null,null,null,null,"1003GB","Trager Limestone, Gallatin (SOUTH)","3160800111",365,"Bethany Falls 2BF - 5BF","365_2BF - 5BF",1146,{"$error":"#N/A"},{"$error":"#N/A"},null,null,null,null,null,null,null,null,null,null,null,null,null,null,null,null,"Joe's Bridge & Grading, Inc.","JBG",null,null,null,null,"1003GB2","New Frontier, Iron Mountain Quarry-Porphyry","",0,null,null,null,{"$error":"#N/A"}]
[null,null,null,null,null,"1003GB","Trager Limestone, Nettleton","3176715011",2385,"Bethany Falls 1BF-4BF","2385_1BF-4BF",6079,{"$error":"#N/A"},{"$error":"#N/A"},null,null,null,null,null,null,null,null,null,null,null,null,null,null,null,null,"Jokerst Paving & Contracting, Inc.","JPC",null,null,null,null,"1003GB2","Norris Quarries LLC, Akron (Jefferies Quarry)","",0,null,null,null,{"$error":"#N/A"}]
[null,null,null,null,null,"1003GB","Twin States Sand & Gravel","3443800112",3923,"Bethany Falls 1-3","3923_1-3",6876,{"$error":"#N/A"},{"$error":"#N/A"},null,null,null,null,null,null,null,null,null,null,null,null,null,null,null,null,"Joplin Industrial Electric Company, Inc.","JIE",null,null,null,null,"1003GB2","Norris Quarries LLC, Cameron South (APAC)","",0,null,null,null,{"$error":"#N/A"}]
[null,null,null,null,null,"1003GB","Williams Divers Matl (WDM), Sooner (Bingham #10)","3004001017",3439,"Chat CHAT","3439_CHAT",6748,{"$error":"#N/A"},{"$error":"#N/A"},null,null,null,null,null,null,null,null,null,null,null,null,null,null,null,null,"K.J.U., Inc. dba K.J. Unnerstall Construction Co.","KJU",null,null,null,null,"1003GB2","Norris Quarries LLC, Kingston (APAC - Kingston)","",0,null,null,null,{"$error":"#N/A"}]
[null,null,null,null,null,"1003GB2","Buildex, Inc., New Market, MO","3005500314",3091,"Lightweight Aggregate - Weston Shale LT WT","3091_LT WT",6507,{"$error":"#N/A"},{"$error":"#N/A"},null,null,null,null,null,null,null,null,null,null,null,null,null,null,null,null,"K.V.K. Contracting, Inc.","KVK",null,null,null,null,"1003GB2","Norris Quarries LLC, Plattsburg South (APAC)","",0,null,null,null,{"$error":"#N/A"}]
[null,null,null,null,null,"1003GB2","Cantera Aggregates #5, Walnut City Quarry IA","3026300512",670,"Exline 1E","670_1E",1669,{"$error":"#N/A"},{"$error":"#N/A"},null,null,null,null,null,null,null,null,null,null,null,null,null,null,null,null,"KAT Excavation, Inc.","KEV",null,null,null,null,"1003GB2","Norris Quarries, Amazonia Quarry","",0,null,null,null,{"$error":"#N/A"}]
[null,null,null,null,null,"1003GB2","Capital Materials, Tightwad (APAC)","3020600114",927,"Burlington 1,2,3","927_1,2,3",2872,{"$error":"#N/A"},{"$error":"#N/A"},null,null,null,null,null,null,null,null,null,null,null,null,null,null,null,null,"KCI Construction Company","KCI",null,null,null,null,"1003GB2","Norris Quarries, Bethany","",0,null,null,null,{"$error":"#N/A"}]
[null,null,null,null,null,"1003GB2","Capital Materials, Tightwad (APAC)","3020600114",927,"Chouteau-LowerBurlington-Pierson 4,5,6,7,3A","927_4,5,6,7,3A",2882,{"$error":"#N/A"},{"$error":"#N/A"},null,null,null,null,null,null,null,null,null,null,null,null,null,null,null,null,"KTI","KTI",null,null,null,null,"1003GB2","Norris Quarries, Blue Mound","",0,null,null,null,{"$error":"#N/A"}]
[null,null,null,null,null,"1003GB2","Capital Sand #1,  Wardsville (Osage Riv)","3006400615",1922,"Osage River gravel GRAVEL","1922_GRAVEL",5469,{"$error":"#N/A"},{"$error":"#N/A"},null,null,null,null,null,null,null,null,null,null,null,null,null,null,null,null,"Karrenbrock Excavating, LLC","KBA",null,null,null,null,"1003GB2","Norris Quarries, Breit Quarry, Savannah","",0,null,null,null,{"$error":"#N/A"}]
[null,null,null,null,null,"1003GB2","Central Stone #1, Hannibal (Huntington)","3007900113",948,"Cedar Valley 13-11","948_13-11",3038,{"$error":"#N/A"},{"$error":"#N/A"},null,null,null,null,null,null,null,null,null,null,null,null,null,null,null,null,"Keeley & Sons, Inc.","KLY",null,null,null,null,"1003GB2","Norris Quarries, Gallatin Quarry","",0,null,null,null,{"$error":"#N/A"}]
[null,null,null,null,null,"1003GB2","Central Stone #1, Hannibal (Huntington)","3007900113",948,"Kimmswick 10-1","948_10-1",3041,{"$error":"#N/A"},{"$error":"#N/A"},null,null,null,null,null,null,null,null,null,null,null,null,null,null,null,null,"Keith Simpson Contracting, LLC","KSC",null,null,null,null,"1003GB2","Norris Quarries, Princeton Quarry","",0,null,null,null,{"$error":"#N/A"}]
[null,null,null,null,null,"1003GB2","Central Stone, Butler Hill Quarry","3007906217",4812,"Rhyolite 1","4812_1",7197,{"$error":"#N/A"},{"$error":"#N/A"},null,null,null,null,null,null,null,null,null,null,null,null,null,null,null,null,"Kelpe Contracting, Inc.","KEC",null,null,null,null,"1003GB2","Norris Quarries, Trenton","",0,null,null,null,{"$error":"#N/A"}]
[null,null,null,null,null,"1003GB2","Martin Marietta, Ferrelview (Stamper)","3021300214",925,"Bethany Falls 1BF-2BF-3BF","925_1BF-2BF-3BF",2860,{"$error":"#N/A"},{"$error":"#N/A"},null,null,null,null,null,null,null,null,null,null,null,null,null,null,null,null,"Koehler Engineering and Land Surveying, Inc.","KEL",null,null,null,null,"1003GB2","Schildberg Construction, Graham","",0,null,null,null,{"$error":"#N/A"}]
[null,null,null,null,null,"1003GB2","New Frontier, Iron Mountain Quarry-Porphyry","3022300110",755,"Porphyry 1","755_1",2018,{"$error":"#N/A"},{"$error":"#N/A"},null,null,null,null,null,null,null,null,null,null,null,null,null,null,null,null,"Kolb Grading, LLC","KLG",null,null,null,null,"1003GB2","Summit Materials, Marshall (Boone Quarries)","",0,null,null,null,{"$error":"#N/A"}]
[null,null,null,null,null,"1003GB2","Norris Quarries LLC, Akron (Jefferies Quarry)","3030615411",807,"Bethany Falls 2BF-4BF","807_2BF-4BF",2207,{"$error":"#N/A"},{"$error":"#N/A"},null,null,null,null,null,null,null,null,null,null,null,null,null,null,null,null,"Kozeny-Wagner, Inc.","KZW",null,null,null,null,"1003GB2","Trager Limestone, Gallatin (SOUTH)","",0,null,null,null,{"$error":"#N/A"}]
[null,null,null,null,null,"1003GB2","Norris Quarries LLC, Kingston (APAC - Kingston)","3014800411",1033,"Bethany Falls 1BF-4BF","1033_1BF-4BF",3337,{"$error":"#N/A"},{"$error":"#N/A"},null,null,null,null,null,null,null,null,null,null,null,null,null,null,null,null,"L. G. Barcus and Sons, Inc.","LGB",null,null,null,null,"1003GB2","Trager Limestone, Nettleton","",0,null,null,null,{"$error":"#N/A"}]
[null,null,null,null,null,"1003GB2","Norris Quarries LLC, Kingston (APAC - Kingston)","3014800411",1033,"Winterset 1W-3W","1033_1W-3W",3335,{"$error":"#N/A"},{"$error":"#N/A"},null,null,null,null,null,null,null,null,null,null,null,null,null,null,null,null,"L.F. Krupp Construction, Inc. dba Krupp Construction","LFK",null,null,null,null,"1003GB2","Trap Rock and Granite Quarries, LLC","",0,null,null,null,{"$error":"#N/A"}]
[null,null,null,null,null,"1003GB2","Norris Quarries LLC, Plattsburg South (APAC)","3014801111",1035,"Stoner 1-4","1035_1-4",3365,{"$error":"#N/A"},{"$error":"#N/A"},null,null,null,null,null,null,null,null,null,null,null,null,null,null,null,null,"Lamke Trenching & Excavating, Inc.","LTE",null,null,null,null,"1003GB2","Twin States Sand & Gravel","",0,null,null,null,{"$error":"#N/A"}]
[null,null,null,null,null,"1003GB2","Norris Quarries, Amazonia Quarry","3061800211",888,"Kereford 1K","888_1K",2717,{"$error":"#N/A"},{"$error":"#N/A"},null,null,null,null,null,null,null,null,null,null,null,null,null,null,null,null,"Lead Belt Materials Company, Inc.","LBM",null,null,null,null,"1003GB2","Willard Constr, Sleeper","",0,null,null,null,{"$error":"#N/A"}]
[null,null,null,null,null,"1003GB2","Norris Quarries, Amazonia Quarry","3061800211",888,"Kereford 1K-2K","888_1K-2K",2703,{"$error":"#N/A"},{"$error":"#N/A"},null,null,null,null,null,null,null,null,null,null,null,null,null,null,null,null,"Leath & Sons, Inc.","LES",null,null,null,null,"1003GB2LW","Arcosa Lightweight (IN)","",0,null,null,null,{"$error":"#N/A"}]
[null,null,null,null,null,"1003GB2","Norris Quarries, Bethany","3030616611",809,"Bethany Falls 9BF-12BF","809_9BF-12BF",2228,{"$error":"#N/A"},{"$error":"#N/A"},null,null,null,null,null,null,null,null,null,null,null,null,null,null,null,null,"Leavenworth Excavating & Equipment Company, Inc.","LEE",null,null,null,null,"1003GB2LW","Arcosa Lightweight (KY)","",0,null,null,null,{"$error":"#N/A"}]
[null,null,null,null,null,"1003GB2","Norris Quarries, Blue Mound","3018700212",849,"Bethany Falls 2BF-3BF","849_2BF-3BF",2612,{"$error":"#N/A"},{"$error":"#N/A"},null,null,null,null,null,null,null,null,null,null,null,null,null,null,null,null,"Lehman Construction, LLC","LHC",null,null,null,null,"1003GB2LW","Buildex, Inc., New Market, MO","",0,null,null,null,{"$error":"#N/A"}]
[null,null,null,null,null,"1003GB2","Norris Quarries, Breit Quarry, Savannah","3030693411",806,"Amazonia 8AZ","806_8AZ",2184,{"$error":"#N/A"},{"$error":"#N/A"},null,null,null,null,null,null,null,null,null,null,null,null,null,null,null,null,"Leo Journagan Construction Co., Inc.","LJC",null,null,null,null,"1003GBLW","APAC-Central, Busiek (Anderson Qy)","",0,null,null,null,{"$error":"#N/A"}]
[null,null,null,null,null,"1003GB2","Norris Quarries, Breit Quarry, Savannah","3030693411",806,"Kereford 1K","806_1K",2194,{"$error":"#N/A"},{"$error":"#N/A"},null,null,null,null,null,null,null,null,null,null,null,null,null,null,null,null,"Link Professional Engineering and Surveying LLC","LPE",null,null,null,null,"1003GBLW","Arcosa Lightweight (IN)","",0,null,null,null,{"$error":"#N/A"}]
[null,null,null,null,null,"1003GB2","Norris Quarries, Gallatin Quarry","3030616511",811,"Bethany Falls 1BF-3BF","811_1BF-3BF",2265,{"$error":"#N/A"},{"$error":"#N/A"},null,null,null,null,null,null,null,null,null,null,null,null,null,null,null,null,"Loch Sand and Construction Co.","LSC",null,null,null,null,"1003GBLW","Arcosa Lightweight (KY)","",0,null,null,null,{"$error":"#N/A"}]
[null,null,null,null,null,"1003GB2","Norris Quarries, Gallatin Quarry","3030616511",811,"Bethany Falls 2BF-3BF","811_2BF-3BF",2271,{"$error":"#N/A"},{"$error":"#N/A"},null,null,null,null,null,null,null,null,null,null,null,null,null,null,null,null,"Logan Excavating, LLC","LEX",null,null,null,null,"1003GBLW","Bailey Quarries #2, Dolomite","",0,null,null,null,{"$error":"#N/A"}]
[null,null,null,null,null,"1003GB2","Norris Quarries, Princeton Quarry","3030600912",787,"Bethany Falls 1-4","787_1-4",2063,{"$error":"#N/A"},{"$error":"#N/A"},null,null,null,null,null,null,null,null,null,null,null,null,null,null,null,null,"Louis-Company, LLC","LCL",null,null,null,null,"1003GBLW","Buildex, Inc., New Market, MO","",0,null,null,null,{"$error":"#N/A"}]
[null,null,null,null,null,"1003GB2","Norris Quarries, Trenton","3030601212",788,"Bethany Falls 1B-3B","788_1B-3B",2080,{"$error":"#N/A"},{"$error":"#N/A"},null,null,null,null,null,null,null,null,null,null,null,null,null,null,null,null,"Magruder Construction Co., Inc.","MCC",null,null,null,null,"1003GBLW","Hydraulic Press Brick Company","",0,null,null,null,{"$error":"#N/A"}]
[null,null,null,null,null,"1003GB2","Norris Quarries, Trenton","3030601212",788,"Bethany Falls 1B-4B","788_1B-4B",2076,{"$error":"#N/A"},{"$error":"#N/A"},null,null,null,null,null,null,null,null,null,null,null,null,null,null,null,null,"Magruder Paving, LLC","MGP",null,null,null,null,"1003GC","AA Quarry, LLC","",0,null,null,null,{"$error":"#N/A"}]
[null,null,null,null,null,"1003GB2","Norris Quarries, Trenton","3030601212",788,"Winterset 1-5","788_1-5",2086,{"$error":"#N/A"},{"$error":"#N/A"},null,null,null,null,null,null,null,null,null,null,null,null,null,null,null,null,"Mar-Jim Contracting, LLC","MJC",null,null,null,null,"1003GC","APAC-Arkansas - Belle Vista","",0,null,null,null,{"$error":"#N/A"}]
[null,null,null,null,null,"1003GB2","Schildberg Construction, Graham","3041404811",293,"Ervine Creek 2EC-4EC","293_2EC-4EC",1002,{"$error":"#N/A"},{"$error":"#N/A"},null,null,null,null,null,null,null,null,null,null,null,null,null,null,null,null,"Mark One Electric Co., Inc.","MOE",null,null,null,null,"1003GC","APAC-Kansas Bates City Quarry","",0,null,null,null,{"$error":"#N/A"}]
[null,null,null,null,null,"1003GB2","Summit Materials, Marshall (Boone Quarries)","3176713215",1976,"Cedar Valley 5CA-9CA","1976_5CA-9CA",5592,{"$error":"#N/A"},{"$error":"#N/A"},null,null,null,null,null,null,null,null,null,null,null,null,null,null,null,null,"Marketing Associates, Inc.","MKA",null,null,null,null,"1003GC","APAC-Kansas Harrisonville Quarry",{"$f":"IF(AK172=$AK$44,AL172,\"\")","v":""},0,null,null,null,{"$error":"#N/A"}]
[null,null,null,null,null,"1003GB2","Summit Materials, Marshall (Boone Quarries)","3176713215",1976,"Chouteau 1C-2C-3C","1976_1C-2C-3C",5583,{"$error":"#N/A"},{"$error":"#N/A"},null,null,null,null,null,null,null,null,null,null,null,null,null,null,null,null,"MegaKC Corporation","MIC",null,null,null,null,"1003GC","Anchor Stone - Joplin","",0,null,null,null,{"$error":"#N/A"}]
[null,null,null,null,null,"1003GB2","Summit Materials, Marshall (Boone Quarries)","3176713215",1976,"Chouteau - Cedar Valley 4C,5-9CA","1976_4C,5-9CA",5593,{"$error":"#N/A"},{"$error":"#N/A"},null,null,null,null,null,null,null,null,null,null,null,null,null,null,null,null,"Mera Excavating, LLC","MER",null,null,null,null,"1003GC","Anchor Stone, Jane (Bailey)","",0,null,null,null,{"$error":"#N/A"}]
[null,null,null,null,null,"1003GB2","Trager Limestone, Gallatin (SOUTH)","3160800111",365,"Bethany Falls 2BF - 5BF","365_2BF - 5BF",1146,{"$error":"#N/A"},{"$error":"#N/A"},null,null,null,null,null,null,null,null,null,null,null,null,null,null,null,null,"Michels Road & Stone, Inc.","MRS",null,null,null,null,"1003GC","Beyers Crushed Rock Co.","",0,null,null,null,{"$error":"#N/A"}]
[null,null,null,null,null,"1003GB2","Trager Limestone, Nettleton","3176715011",2385,"Bethany Falls 1BF-4BF","2385_1BF-4BF",6079,{"$error":"#N/A"},{"$error":"#N/A"},null,null,null,null,null,null,null,null,null,null,null,null,null,null,null,null,"Mid-River Asphalt, Inc.","MRA",null,null,null,null,"1003GC","Blackwater Quarries, LLC","",0,null,null,null,{"$error":"#N/A"}]
[null,null,null,null,null,"1003GB2","Trap Rock and Granite Quarries, LLC","3243500119",2512,"Granite 1","2512_1",6185,{"$f":"IF(AND($F$17=H177,$AK$44=F177),J177,\"\")","v":{"$error":"#N/A"}},{"$f":"IF(AND($F$17=H177,$AK$44=F177),L177,\"\")","v":{"$error":"#N/A"}},null,null,null,null,null,null,null,null,null,null,null,null,null,null,null,null,"Midwest Heavy Construction, LLC","MWC",null,null,null,null,"1003GC","Boone Quarries, Houstonia (Mid MO Mertens)",{"$f":"IF(AK177=$AK$44,AL177,\"\")","v":""},0,null,null,null,{"$error":"#N/A"}]
[null,null,null,null,null,"1003GB2","Trap Rock and Granite Quarries, LLC","3243500119",2512,"Rhyolite 2","2512_2",6184,{"$error":"#N/A"},{"$error":"#N/A"},null,null,null,null,null,null,null,null,null,null,null,null,null,null,null,null,"Midwest Testing, Inc.","MTI",null,null,null,null,"1003GC","Boone Quarries, Millersburg (Mid MO Mertens)","",0,null,null,null,{"$error":"#N/A"}]
[null,null,null,null,null,"1003GB2","Twin States Sand & Gravel","3443800112",3923,"Bethany Falls 1-3","3923_1-3",6876,{"$error":"#N/A"},{"$error":"#N/A"},null,null,null,null,null,null,null,null,null,null,null,null,null,null,null,null,"Miles Excavating, Inc.","MEX",null,null,null,null,"1003GC","Boone Quarry #1, Columbia","",0,null,null,null,{"$error":"#N/A"}]
[null,null,null,null,null,"1003GB2","Willard Constr, Sleeper","3050100418",77,"Jefferson City 1-4","77_1-4",154,{"$error":"#N/A"},{"$error":"#N/A"},null,null,null,null,null,null,null,null,null,null,null,null,null,null,null,null,"Mill Valley Construction, Inc.","MVC",null,null,null,null,"1003GC","Cantera Aggregates #5, Walnut City Quarry IA","",0,null,null,null,{"$error":"#N/A"}]
[null,null,null,null,null,"1003GB2LW","Arcosa Lightweight (IN)","3533800319",5304,"Lightweight Aggregate - Haydite Haydite","5304_Haydite",7590,{"$error":"#N/A"},{"$error":"#N/A"},null,null,null,null,null,null,null,null,null,null,null,null,null,null,null,null,"Millstone Bangert, Inc.","MBG",null,null,null,null,"1003GC","Capital Materials, Laurie (APAC)","",0,null,null,null,{"$error":"#N/A"}]
[null,null,null,null,null,"1003GB2LW","Arcosa Lightweight (KY)","3533800219",5220,"Lightweight Aggregate - Haydite Haydite","5220_Haydite",7459,{"$error":"#N/A"},{"$error":"#N/A"},null,null,null,null,null,null,null,null,null,null,null,null,null,null,null,null,"Millstone Weber, LLC","MLW",null,null,null,null,"1003GC","Capital Materials, Leeton (APAC)","",0,null,null,null,{"$error":"#N/A"}]
[null,null,null,null,null,"1003GBLW","Arcosa Lightweight (IN)","3533800319",5304,"Lightweight Aggregate - Haydite Haydite","5304_Haydite",7590,{"$error":"#N/A"},{"$error":"#N/A"},null,null,null,null,null,null,null,null,null,null,null,null,null,null,null,null,"Musselman and Hall Contractors, LLC","MHC",null,null,null,null,"1003GC","Capital Materials, Ozark (Journagan, Journagan Qy)","",0,null,null,null,{"$error":"#N/A"}]
[null,null,null,null,null,"1003GBLW","Arcosa Lightweight (KY)","3533800219",5220,"Lightweight Aggregate - Haydite Haydite","5220_Haydite",7459,{"$error":"#N/A"},{"$error":"#N/A"},null,null,null,null,null,null,null,null,null,null,null,null,null,null,null,null,"N.B. West Contracting Company","NBW",null,null,null,null,"1003GC","Capital Materials, Palo Quarry (Smasal)","",0,null,null,null,{"$error":"#N/A"}]
[null,null,null,null,null,"1003GBLW","Buildex, Inc., New Market, MO","3005500314",3091,"Lightweight Aggregate - Weston Shale LT WT","3091_LT WT",6507,{"$error":"#N/A"},{"$error":"#N/A"},null,null,null,null,null,null,null,null,null,null,null,null,null,null,null,null,"New Frontier Materials, LLC","NFR",null,null,null,null,"1003GC","Capital Materials, Tightwad (APAC)","",0,null,null,null,{"$error":"#N/A"}]
[null,null,null,null,null,"1003GBLW","Hydraulic Press Brick Company","3461300116",4555,"Haydite LT WT","4555_LT WT",6933,{"$error":"#N/A"},{"$error":"#N/A"},null,null,null,null,null,null,null,null,null,null,null,null,null,null,null,null,"Norris Asphalt Paving Co., LC","NAP",null,null,null,null,"1003GC","Capital Quarries, Arcadia","",0,null,null,null,{"$error":"#N/A"}]
[null,null,null,null,null,"1003GC","AA Quarry, LLC","3514700114",4621,"Bethany Falls 2BF-3BF","4621_2BF-3BF",6982,{"$error":"#N/A"},{"$error":"#N/A"},null,null,null,null,null,null,null,null,null,null,null,null,null,null,null,null,"North Central Bridge, LLC","NCB",null,null,null,null,"1003GC","Capital Quarries, Rolla","",0,null,null,null,{"$error":"#N/A"}]
[null,null,null,null,null,"1003GC","APAC-Arkansas - Belle Vista","3150800417",11,"Reeds Spring 1","11_1",1,{"$error":"#N/A"},{"$error":"#N/A"},null,null,null,null,null,null,null,null,null,null,null,null,null,null,null,null,"OWN, Inc.","AND",null,null,null,null,"1003GC","Central Stone #1, Hannibal (Huntington)","",0,null,null,null,{"$error":"#N/A"}]
[null,null,null,null,null,"1003GC","APAC-Kansas Bates City Quarry","3176703314",1752,"Bethany Falls 1-3","1752_1-3",5089,{"$error":"#N/A"},{"$error":"#N/A"},null,null,null,null,null,null,null,null,null,null,null,null,null,null,null,null,"Olsson, Inc - Overland Park","OIO",null,null,null,null,"1003GC","Conco #0465, Fairplay (Ash Grove)","",0,null,null,null,{"$error":"#N/A"}]
[null,null,null,null,null,"1003GC","APAC-Kansas Bates City Quarry","3176703314",1752,"Bethany Falls 1-4","1752_1-4",5086,{"$error":"#N/A"},{"$error":"#N/A"},null,null,null,null,null,null,null,null,null,null,null,null,null,null,null,null,"Olsson, Inc - Springfield","OIS",null,null,null,null,"1003GC","Double Eagle Quarry, Ava (Journagan)","",0,null,null,null,{"$error":"#N/A"}]
[null,null,null,null,null,"1003GC","APAC-Kansas Harrisonville Quarry","3176703014",1750,"Bethany Falls 1-3","1750_1-3",5069,{"$error":"#N/A"},{"$error":"#N/A"},null,null,null,null,null,null,null,null,null,null,null,null,null,null,null,null,"PCiRoads, LLC","PCI",null,null,null,null,"1003GC","E and S Rock, LLC","",0,null,null,null,{"$error":"#N/A"}]
[null,null,null,null,null,"1003GC","APAC-Kansas Harrisonville Quarry","3176703014",1750,"Winterset 1W-3W","1750_1W-3W",5068,{"$error":"#N/A"},{"$error":"#N/A"},null,null,null,null,null,null,null,null,null,null,null,null,null,null,null,null,"Pace Construction Company, LLC","PAC",null,null,null,null,"1003GC","Emery Sapp, Eagle Rock (Hutchens)","",0,null,null,null,{"$error":"#N/A"}]
[null,null,null,null,null,"1003GC","Anchor Stone - Joplin","3150800217",1091,"Warsaw 1","1091_1",3493,{"$error":"#N/A"},{"$error":"#N/A"},null,null,null,null,null,null,null,null,null,null,null,null,null,null,null,null,"Page Constructors, LLC","PGC",null,null,null,null,"1003GC","Fall Valley Stone","",0,null,null,null,{"$error":"#N/A"}]
[null,null,null,null,null,"1003GC","Anchor Stone, Jane (Bailey)","3002200417",1360,"Cotter 6-7","1360_6-7",4282,{"$error":"#N/A"},{"$error":"#N/A"},null,null,null,null,null,null,null,null,null,null,null,null,null,null,null,null,"Palmerton & Parrish, Inc.","PAP",null,null,null,null,"1003GC","Hutchens Quarries, Sarcoxie (Bailey)","",0,null,null,null,{"$error":"#N/A"}]
[null,null,null,null,null,"1003GC","Blackwater Quarries, LLC","3505100115",4863,"Burlington 3","4863_3",7239,{"$error":"#N/A"},{"$error":"#N/A"},null,null,null,null,null,null,null,null,null,null,null,null,null,null,null,null,"Paramount Testing Corporation","PTC",null,null,null,null,"1003GC","ILC Resources, Jasper","",0,null,null,null,{"$error":"#N/A"}]
[null,null,null,null,null,"1003GC","Boone Quarries, Houstonia (Mid MO Mertens)","3031800515",584,"Chouteau 3,4","584_3,4",1449,{"$error":"#N/A"},{"$error":"#N/A"},null,null,null,null,null,null,null,null,null,null,null,null,null,null,null,null,"Pavement Solutions, LLC","PVS",null,null,null,null,"1003GC","Ideker Mosby Quarry","",0,null,null,null,{"$error":"#N/A"}]
[null,null,null,null,null,"1003GC","Boone Quarries, Millersburg (Mid MO Mertens)","3031800215",585,"Burlington 2-4","585_2-4",1459,{"$error":"#N/A"},{"$error":"#N/A"},null,null,null,null,null,null,null,null,null,null,null,null,null,null,null,null,"Phillips Hardy, Inc.","PHI",null,null,null,null,"1003GC","Indian Creek Materials, Houston","",0,null,null,null,{"$error":"#N/A"}]
[null,null,null,null,null,"1003GC","Cantera Aggregates #5, Walnut City Quarry IA","3026300512",670,"Copper Creek 1CC","670_1CC",1671,{"$error":"#N/A"},{"$error":"#N/A"},null,null,null,null,null,null,null,null,null,null,null,null,null,null,null,null,"Premier Engineering Consultants  LLC","PEC",null,null,null,null,"1003GC","Joplin Stone","",0,null,null,null,{"$error":"#N/A"}]
[null,null,null,null,null,"1003GC","Cantera Aggregates #5, Walnut City Quarry IA","3026300512",670,"Exline 1E","670_1E",1669,{"$error":"#N/A"},{"$error":"#N/A"},null,null,null,null,null,null,null,null,null,null,null,null,null,null,null,null,"Premier Testing Laboratories","PTL",null,null,null,null,"1003GC","Kemp Stone, Neosho (Inland River Aggregates)","",0,null,null,null,{"$error":"#N/A"}]
[null,null,null,null,null,"1003GC","Capital Materials, Laurie (APAC)","3176701715",1870,"Gasconade 5","1870_5",5372,{"$error":"#N/A"},{"$error":"#N/A"},null,null,null,null,null,null,null,null,null,null,null,null,null,null,null,null,"Pyramid Contractors, Inc.","PYR",null,null,null,null,"1003GC","Liberty Aggregates","",0,null,null,null,{"$error":"#N/A"}]
[null,null,null,null,null,"1003GC","Capital Materials, Leeton (APAC)","3021300314",923,"Higginsville 1","923_1",2836,{"$error":"#N/A"},{"$error":"#N/A"},null,null,null,null,null,null,null,null,null,null,null,null,null,null,null,null,"Quality Testing and Engineering","QTE",null,null,null,null,"1003GC","Magruder Limestone #1, Troy","",0,null,null,null,{"$error":"#N/A"}]
[null,null,null,null,null,"1003GC","Capital Materials, Ozark (Journagan, Journagan Qy)","3027400118",720,"Burlington 1-4","720_1-4",1884,{"$error":"#N/A"},{"$error":"#N/A"},null,null,null,null,null,null,null,null,null,null,null,null,null,null,null,null,"R. V. Wagner, Inc.","RVW",null,null,null,null,"1003GC","Mansfield Quarry, Mansfield","",0,null,null,null,{"$error":"#N/A"}]
[null,null,null,null,null,"1003GC","Capital Materials, Palo Quarry (Smasal)","3133300715",2947,"Burlington 2","2947_2",6454,{"$error":"#N/A"},{"$error":"#N/A"},null,null,null,null,null,null,null,null,null,null,null,null,null,null,null,null,"R.A. Knapp Construction, Inc.","RAK",null,null,null,null,"1003GC","Martin Marietta, Ferrelview (Stamper)","",0,null,null,null,{"$error":"#N/A"}]
[null,null,null,null,null,"1003GC","Capital Materials, Palo Quarry (Smasal)","3133300715",2947,"Burlington 3","2947_3",6457,{"$error":"#N/A"},{"$error":"#N/A"},null,null,null,null,null,null,null,null,null,null,null,null,null,null,null,null,"RL Persons Construction, Inc.","RPC",null,null,null,null,"1003GC","Missouri Rock, Orrick Quarry","",0,null,null,null,{"$error":"#N/A"}]
[null,null,null,null,null,"1003GC","Capital Materials, Tightwad (APAC)","3020600114",927,"Burlington 1","927_1",2884,{"$error":"#N/A"},{"$error":"#N/A"},null,null,null,null,null,null,null,null,null,null,null,null,null,null,null,null,"Radmacher Brothers Excavating Co., Inc.","RDB",null,null,null,null,"1003GC","New Frontier, Iron Mtn Trap Rock Pit #3- Porphyry","",0,null,null,null,{"$error":"#N/A"}]
[null,null,null,null,null,"1003GC","Capital Materials, Tightwad (APAC)","3020600114",927,"Burlington 1,2,3","927_1,2,3",2872,{"$error":"#N/A"},{"$error":"#N/A"},null,null,null,null,null,null,null,null,null,null,null,null,null,null,null,null,"Raineri Construction, LLC dba Raineri Construction","RNC",null,null,null,null,"1003GC","Norris Quarries LLC, Agency (APAC - Agency)",{"$f":"IF(AK206=$AK$44,AL206,\"\")","v":""},0,null,null,null,{"$error":"#N/A"}]
[null,null,null,null,null,"1003GC","Capital Materials, Tightwad (APAC)","3020600114",927,"Chouteau 4,5,6","927_4,5,6",2878,{"$error":"#N/A"},{"$error":"#N/A"},null,null,null,null,null,null,null,null,null,null,null,null,null,null,null,null,"Realm Construction  Inc.","REL",null,null,null,null,"1003GC","Norris Quarries LLC, Akron (Jefferies Quarry)","",0,null,null,null,{"$error":"#N/A"}]
[null,null,null,null,null,"1003GC","Capital Materials, Tightwad (APAC)","3020600114",927,"Chouteau-LowerBurlington-Pierson 4,5,6,7,3A","927_4,5,6,7,3A",2882,{"$error":"#N/A"},{"$error":"#N/A"},null,null,null,null,null,null,null,null,null,null,null,null,null,null,null,null,"Reinhold Electric, Inc.","REE",null,null,null,null,"1003GC","Norris Quarries LLC, Cameron South (APAC)","",0,null,null,null,{"$error":"#N/A"}]
[null,null,null,null,null,"1003GC","Central Stone #1, Hannibal (Huntington)","3007900113",948,"Cedar Valley 13-11","948_13-11",3038,{"$error":"#N/A"},{"$error":"#N/A"},null,null,null,null,null,null,null,null,null,null,null,null,null,null,null,null,"Robertson Asphalt","RBA",null,null,null,null,"1003GC","Norris Quarries LLC, Kingston (APAC - Kingston)","",0,null,null,null,{"$error":"#N/A"}]
[null,null,null,null,null,"1003GC","Central Stone #1, Hannibal (Huntington)","3007900113",948,"Kimmswick 10-1","948_10-1",3041,{"$error":"#N/A"},{"$error":"#N/A"},null,null,null,null,null,null,null,null,null,null,null,null,null,null,null,null,"Robertson Contractors, Inc.","RBC",null,null,null,null,"1003GC","Norris Quarries LLC, Plattsburg South (APAC)","",0,null,null,null,{"$error":"#N/A"}]
[null,null,null,null,null,"1003GC","Conco #0465, Fairplay (Ash Grove)","3035400218",1929,"Burlington 1-3","1929_1-3",5475,{"$error":"#N/A"},{"$error":"#N/A"},null,null,null,null,null,null,null,null,null,null,null,null,null,null,null,null,"Rolla Asphalt, LLC","RLA",null,null,null,null,"1003GC","Norris Quarries, Amazonia Quarry","",0,null,null,null,{"$error":"#N/A"}]
[null,null,null,null,null,"1003GC","Double Eagle Quarry, Ava (Journagan)","3027414418",735,"Jefferson City 4-7","735_4-7",1958,{"$error":"#N/A"},{"$error":"#N/A"},null,null,null,null,null,null,null,null,null,null,null,null,null,null,null,null,"S & A Equipment & Builders, LLC","SAE",null,null,null,null,"1003GC","Norris Quarries, Bethany","",0,null,null,null,{"$error":"#N/A"}]
[null,null,null,null,null,"1003GC","E and S Rock, LLC","3458000114",4456,"Higginsville 1-2","4456_1-2",6898,{"$error":"#N/A"},{"$error":"#N/A"},null,null,null,null,null,null,null,null,null,null,null,null,null,null,null,null,"S. H. Smith & Company, Inc.","SHS",null,null,null,null,"1003GC","Norris Quarries, Blue Mound","",0,null,null,null,{"$error":"#N/A"}]
[null,null,null,null,null,"1003GC","Fall Valley Stone","3040400117",1039,"Cotter 1-2","1039_1-2",3388,{"$error":"#N/A"},{"$error":"#N/A"},null,null,null,null,null,null,null,null,null,null,null,null,null,null,null,null,"SCI Engineering - O'Fallon","SCO",null,null,null,null,"1003GC","Norris Quarries, Breit Quarry, Savannah","",0,null,null,null,{"$error":"#N/A"}]
[null,null,null,null,null,"1003GC","Hutchens Quarries, Sarcoxie (Bailey)","3027412517",2884,"Burlington 2-3","2884_2-3",6415,{"$error":"#N/A"},{"$error":"#N/A"},null,null,null,null,null,null,null,null,null,null,null,null,null,null,null,null,"SCI Engineering - Union","SCU",null,null,null,null,"1003GC","Norris Quarries, Gallatin Quarry","",0,null,null,null,{"$error":"#N/A"}]
[null,null,null,null,null,"1003GC","ILC Resources, Jasper","3437300117",3765,"Warsaw 1","3765_1",6856,{"$error":"#N/A"},{"$error":"#N/A"},null,null,null,null,null,null,null,null,null,null,null,null,null,null,null,null,"SCI Engineering, Inc. - Rolla","SCR",null,null,null,null,"1003GC","Producer Supplier not designated.","",0,null,null,null,{"$error":"#N/A"}]
[null,null,null,null,null,"1003GC","Ideker Mosby Quarry","3503800114",4856,"Winterset 1W","4856_1W",7221,{"$error":"#N/A"},{"$error":"#N/A"},null,null,null,null,null,null,null,null,null,null,null,null,null,null,null,null,"SCI Engineering, Inc. - St. Charles","SCI",null,null,null,null,"1003GC","Schildberg Construction, Graham","",0,null,null,null,{"$error":"#N/A"}]
[null,null,null,null,null,"1003GC","Indian Creek Materials, Houston","3012900419",1216,"Jefferson City 4-8","1216_4-8",3893,{"$error":"#N/A"},{"$error":"#N/A"},null,null,null,null,null,null,null,null,null,null,null,null,null,null,null,null,"SCM Construction, LLC","SCM",null,null,null,null,"1003GC","Skyline Materials - Shelby County","",0,null,null,null,{"$error":"#N/A"}]
[null,null,null,null,null,"1003GC","Mansfield Quarry, Mansfield","3029900118",845,"Cotter 14-18","845_14-18",2583,{"$error":"#N/A"},{"$error":"#N/A"},null,null,null,null,null,null,null,null,null,null,null,null,null,null,null,null,"Samron Midwest Contracting, Inc.","SMC",null,null,null,null,"1003GC","Springfield Underground","",0,null,null,null,{"$error":"#N/A"}]
[null,null,null,null,null,"1003GC","Martin Marietta, Ferrelview (Stamper)","3021300214",925,"Bethany Falls 1BF-2BF-3BF","925_1BF-2BF-3BF",2860,{"$error":"#N/A"},{"$error":"#N/A"},null,null,null,null,null,null,null,null,null,null,null,null,null,null,null,null,"Schrimpf Landscaping, Inc.","SCL",null,null,null,null,"1003GC","Stewart-Morrison - Spring Creek Materials","",0,null,null,null,{"$error":"#N/A"}]
[null,null,null,null,null,"1003GC","Missouri Rock, Orrick Quarry","3033100114",582,"Bethany Falls 2-4","582_2-4",1440,{"$error":"#N/A"},{"$error":"#N/A"},null,null,null,null,null,null,null,null,null,null,null,null,null,null,null,null,"Schultz Engineering","SCH",null,null,null,null,"1003GC","Summit Materials, Marshall (Boone Quarries)","",0,null,null,null,{"$error":"#N/A"}]
[null,null,null,null,null,"1003GC","New Frontier, Iron Mtn Trap Rock Pit #3- Porphyry","3022300310",2261,"Porphyry 1","2261_1",5924,{"$error":"#N/A"},{"$error":"#N/A"},null,null,null,null,null,null,null,null,null,null,null,null,null,null,null,null,"Seminole Equipment, Inc.","SEM",null,null,null,null,"1003GC","Table Rock, Branson Stone","",0,null,null,null,{"$error":"#N/A"}]
[null,null,null,null,null,"1003GC","Norris Quarries LLC, Agency (APAC - Agency)","3014800211",1030,"Stoner 1S-5S","1030_1S-5S",3297,{"$error":"#N/A"},{"$error":"#N/A"},null,null,null,null,null,null,null,null,null,null,null,null,null,null,null,null,"Snyder & Associates","SNA",null,null,null,null,"1003GC","Wayne B. Smith, Pit #8","",0,null,null,null,{"$error":"#N/A"}]
[null,null,null,null,null,"1003GC","Norris Quarries LLC, Akron (Jefferies Quarry)","3030615411",807,"Bethany Falls 2BF-4BF","807_2BF-4BF",2207,{"$error":"#N/A"},{"$error":"#N/A"},null,null,null,null,null,null,null,null,null,null,null,null,null,null,null,null,"Sprouls Construction, Inc.","SPC",null,null,null,null,"1003GC","Williams Divers Matl (WDM), Sooner (Bingham #10)","",0,null,null,null,{"$error":"#N/A"}]
[null,null,null,null,null,"1003GC","Norris Quarries LLC, Cameron South (APAC)","3014800311",1032,"Stoner 1S-2S","1032_1S-2S",3321,{"$error":"#N/A"},{"$error":"#N/A"},null,null,null,null,null,null,null,null,null,null,null,null,null,null,null,null,"St. Louis Bridge Construction Company","SLB",null,null,null,null,"1003GC","Yeary Trucking, Swan Creek","",0,null,null,null,{"$error":"#N/A"}]
[null,null,null,null,null,"1003GC","Norris Quarries LLC, Kingston (APAC - Kingston)","3014800411",1033,"Bethany Falls 1BF-4BF","1033_1BF-4BF",3337,{"$error":"#N/A"},{"$error":"#N/A"},null,null,null,null,null,null,null,null,null,null,null,null,null,null,null,null,"Stanton Contracting, L.L.C.","STC",null,null,null,null,"1003GCLW","Arcosa Lightweight (IN)","",0,null,null,null,{"$error":"#N/A"}]
[null,null,null,null,null,"1003GC","Norris Quarries LLC, Kingston (APAC - Kingston)","3014800411",1033,"Winterset 1W-3W","1033_1W-3W",3335,{"$error":"#N/A"},{"$error":"#N/A"},null,null,null,null,null,null,null,null,null,null,null,null,null,null,null,null,"Strait-Line Construction USA, Inc.","SLC",null,null,null,null,"1003GCLW","Arcosa Lightweight (KY)","",0,null,null,null,{"$error":"#N/A"}]
[null,null,null,null,null,"1003GC","Norris Quarries, Amazonia Quarry","3061800211",888,"Kereford 1K","888_1K",2717,{"$error":"#N/A"},{"$error":"#N/A"},null,null,null,null,null,null,null,null,null,null,null,null,null,null,null,null,"Superior Bowen Asphalt Company, LLC","SBA",null,null,null,null,"1003GCLW","Buildex, Inc., New Market, MO","",0,null,null,null,{"$error":"#N/A"}]
[null,null,null,null,null,"1003GC","Norris Quarries, Amazonia Quarry","3061800211",888,"Kereford 1K-2K","888_1K-2K",2703,{"$error":"#N/A"},{"$error":"#N/A"},null,null,null,null,null,null,null,null,null,null,null,null,null,null,null,null,"Superior Rail System, LLC","SRS",null,null,null,null,"1003GCLW","Producer Supplier not designated.","",0,null,null,null,{"$error":"#N/A"}]
[null,null,null,null,null,"1003GC","Norris Quarries, Bethany","3030616611",809,"Bethany Falls 9BF-12BF","809_9BF-12BF",2228,{"$error":"#N/A"},{"$error":"#N/A"},null,null,null,null,null,null,null,null,null,null,null,null,null,null,null,null,"Surveying and Mapping LLC dba SAM","SAM",null,null,null,null,"100504..CPCMLD","Boone Quarry #1, Columbia","",0,null,null,null,{"$error":"#N/A"}]
[null,null,null,null,null,"1003GC","Norris Quarries, Bethany","3030616611",809,"Bethany Falls 9BF-14B","809_9BF-14B",2226,{"$error":"#N/A"},{"$error":"#N/A"},null,null,null,null,null,null,null,null,null,null,null,null,null,null,null,null,"Swift Construction Company, Inc.","SWT",null,null,null,null,"100504..CPCMLD","Capital Materials, Sedalia (Snow Rd-Dresden)","",0,null,null,null,{"$error":"#N/A"}]
[null,null,null,null,null,"1003GC","Norris Quarries, Bethany","3030616611",809,"Winterset 3-5","809_3-5",2232,{"$error":"#N/A"},{"$error":"#N/A"},null,null,null,null,null,null,null,null,null,null,null,null,null,null,null,null,"T.G.B., Inc.","TGB",null,null,null,null,"100504..CPCMLD","Capital Materials, Tightwad (APAC)","",0,null,null,null,{"$error":"#N/A"}]
[null,null,null,null,null,"1003GC","Norris Quarries, Blue Mound","3018700212",849,"Bethany Falls 1BF-4BF","849_1BF-4BF",2610,{"$error":"#N/A"},{"$error":"#N/A"},null,null,null,null,null,null,null,null,null,null,null,null,null,null,null,null,"T.S. Banze Holding Company LLD dba T.S. Banze Construction, Inc.","TSB",null,null,null,null,"100504..CPCMLD","Central Stone #31, Florissant","",0,null,null,null,{"$error":"#N/A"}]
[null,null,null,null,null,"1003GC","Norris Quarries, Blue Mound","3018700212",849,"Bethany Falls 2BF-3BF","849_2BF-3BF",2612,{"$error":"#N/A"},{"$error":"#N/A"},null,null,null,null,null,null,null,null,null,null,null,null,null,null,null,null,"TSI Geotechnical, Inc.","TSI",null,null,null,null,"100504..CPCMLD","Central Stone, Potosi (GP Materials)","",0,null,null,null,{"$error":"#N/A"}]
[null,null,null,null,null,"1003GC","Norris Quarries, Breit Quarry, Savannah","3030693411",806,"Amazonia 8AZ","806_8AZ",2184,{"$error":"#N/A"},{"$error":"#N/A"},null,null,null,null,null,null,null,null,null,null,null,null,null,null,null,null,"Terracon Consultants, Inc.","TER",null,null,null,null,"100504..CPCMLD","Falling Springs Quarry (Stolle)","",0,null,null,null,{"$error":"#N/A"}]
[null,null,null,null,null,"1003GC","Norris Quarries, Breit Quarry, Savannah","3030693411",806,"Kereford 1K","806_1K",2194,{"$error":"#N/A"},{"$error":"#N/A"},null,null,null,null,null,null,null,null,null,null,null,null,null,null,null,null,"The Truesdell Corporation of Wisconsin, Inc.dba Truesdell Corporation Midwest","TRS",null,null,null,null,"100504..CPCMLD","Holliday Sand and Stone, Wheatland (Ash Grove)","",0,null,null,null,{"$error":"#N/A"}]
[null,null,null,null,null,"1003GC","Norris Quarries, Breit Quarry, Savannah","3030693411",806,"Plattsmouth 1P-4P","806_1P-4P",2190,{"$error":"#N/A"},{"$error":"#N/A"},null,null,null,null,null,null,null,null,null,null,null,null,null,null,null,null,"Thomas Industrial Coatings, Inc.","TIC",null,null,null,null,"100504..CPCMLD","Joplin Stone","",0,null,null,null,{"$error":"#N/A"}]
[null,null,null,null,null,"1003GC","Norris Quarries, Breit Quarry, Savannah","3030693411",806,"Toronto 6T","806_6T",2182,{"$error":"#N/A"},{"$error":"#N/A"},null,null,null,null,null,null,null,null,null,null,null,null,null,null,null,null,"Ti-Zack Concrete, LLC","TZC",null,null,null,null,"100504..CPCMLD","Martin Marietta (Mill Creek Quarry), OK","",0,null,null,null,{"$error":"#N/A"}]
[null,null,null,null,null,"1003GC","Norris Quarries, Gallatin Quarry","3030616511",811,"Bethany Falls 1BF-3BF","811_1BF-3BF",2265,{"$error":"#N/A"},{"$error":"#N/A"},null,null,null,null,null,null,null,null,null,null,null,null,null,null,null,null,"UES Professional Solutions 25, LLC","GET",null,null,null,null,"100504..CPCMLD","Martin Marietta, Randolph","",0,null,null,null,{"$error":"#N/A"}]
[null,null,null,null,null,"1003GC","Norris Quarries, Gallatin Quarry","3030616511",811,"Bethany Falls 2BF-3BF","811_2BF-3BF",2271,{"$error":"#N/A"},{"$error":"#N/A"},null,null,null,null,null,null,null,null,null,null,null,null,null,null,null,null,"United Ironworkers, Inc.","UIW",null,null,null,null,"100504..CPCMLD","Mill Creek Quarry (Kemp Quarries)","",0,null,null,null,{"$error":"#N/A"}]
[null,null,null,null,null,"1003GC","Schildberg Construction, Graham","3041404811",293,"Ervine Creek 1EC-4EC","293_1EC-4EC",1000,{"$f":"IF(AND($F$17=H241,$AK$44=F241),J241,\"\")","v":{"$error":"#N/A"}},{"$f":"IF(AND($F$17=H241,$AK$44=F241),L241,\"\")","v":{"$error":"#N/A"}},null,null,null,null,null,null,null,null,null,null,null,null,null,null,null,null,"VSI&C, LLC","VSI",null,null,null,null,"100504..CPCMLD","New Frontier, Alton Weber #8",{"$f":"IF(AK241=$AK$44,AL241,\"\")","v":""},0,null,null,null,{"$error":"#N/A"}]
[null,null,null,null,null,"1003GC","Schildberg Construction, Graham","3041404811",293,"Ervine Creek 2EC-4EC","293_2EC-4EC",1002,{"$error":"#N/A"},{"$error":"#N/A"},null,null,null,null,null,null,null,null,null,null,null,null,null,null,null,null,"Vance Brothers, LLC","VBI",null,null,null,null,"100504..CPCMLD","Norris Quarries, Breit Quarry, Savannah","",0,null,null,null,{"$error":"#N/A"}]
[null,null,null,null,null,"1003GC","Skyline Materials - Shelby County","3027500113",1494,"Burlington-Chouteau A-8","1494_A-8",4582,{"$error":"#N/A"},{"$error":"#N/A"},null,null,null,null,null,null,null,null,null,null,null,null,null,null,null,null,"Vee-Jay Cement Contracting Company, Inc.","VJC",null,null,null,null,"100504..CPCMLD","Producer Supplier not designated.","",0,null,null,null,{"$error":"#N/A"}]
[null,null,null,null,null,"1003GC","Skyline Materials - Shelby County","3027500113",1494,"Chouteau 5","1494_5",4589,{"$error":"#N/A"},{"$error":"#N/A"},null,null,null,null,null,null,null,null,null,null,null,null,null,null,null,null,"W. L. Miller Company","WLM",null,null,null,null,"100504..CPCMLD","Summit Materials, Marshall (Boone Quarries)","",0,null,null,null,{"$error":"#N/A"}]
[null,null,null,null,null,"1003GC","Springfield Underground","3018800118",231,"Burlington 1-2","231_1-2",703,{"$error":"#N/A"},{"$error":"#N/A"},null,null,null,null,null,null,null,null,null,null,null,null,null,null,null,null,"Walsh Alberici Joint Venture","WAJ",null,null,null,null,"100504..OPTGV1","Capital Sand #20, Riverbend (MO Sand Company)","",0,null,null,null,{"$error":"#N/A"}]
[null,null,null,null,null,"1003GC","Stewart-Morrison - Spring Creek Materials","3112700139",194,"Spring Creek Gravel GRAVEL","194_GRAVEL",625,{"$error":"#N/A"},{"$error":"#N/A"},null,null,null,null,null,null,null,null,null,null,null,null,null,null,null,null,"West Plains Bridge & Grading, LLC","WPB",null,null,null,null,"100504..OPTGV1","Holliday Sand & Gravel, #3 West, Shawnee","",0,null,null,null,{"$error":"#N/A"}]
[null,null,null,null,null,"1003GC","Summit Materials, Marshall (Boone Quarries)","3176713215",1976,"Cedar Valley 5CA-9CA","1976_5CA-9CA",5592,{"$error":"#N/A"},{"$error":"#N/A"},null,null,null,null,null,null,null,null,null,null,null,null,null,null,null,null,"Westport Construction Co.","WCC",null,null,null,null,"100504..OPTGV1","Producer Supplier not designated.","",0,null,null,null,{"$error":"#N/A"}]
[null,null,null,null,null,"1003GC","Summit Materials, Marshall (Boone Quarries)","3176713215",1976,"Cedar Valley 8CA-9CA","1976_8CA-9CA",5587,{"$error":"#N/A"},{"$error":"#N/A"},null,null,null,null,null,null,null,null,null,null,null,null,null,null,null,null,"Widel, Inc.","WID",null,null,null,null,"100504..OPTLD1","Capital Materials, Sedalia (Snow Rd-Dresden)","",0,null,null,null,{"$error":"#N/A"}]
[null,null,null,null,null,"1003GC","Summit Materials, Marshall (Boone Quarries)","3176713215",1976,"Chouteau 1C-2C-3C","1976_1C-2C-3C",5583,{"$error":"#N/A"},{"$error":"#N/A"},null,null,null,null,null,null,null,null,null,null,null,null,null,null,null,null,"Willard Asphalt Paving, Inc.","WAP",null,null,null,null,"100504..OPTLD1","Capital Materials, Tightwad (APAC)","",0,null,null,null,{"$error":"#N/A"}]
[null,null,null,null,null,"1003GC","Summit Materials, Marshall (Boone Quarries)","3176713215",1976,"Chouteau 3C","1976_3C",5571,{"$error":"#N/A"},{"$error":"#N/A"},null,null,null,null,null,null,null,null,null,null,null,null,null,null,null,null,"Wilson & Company","WAC",null,null,null,null,"100505..CPCMLD","Capital Quarries, Holts Summit 1A","",0,null,null,null,{"$error":"#N/A"}]
[null,null,null,null,null,"1003GC","Summit Materials, Marshall (Boone Quarries)","3176713215",1976,"Chouteau - Cedar Valley 4C,5-9CA","1976_4C,5-9CA",5593,{"$error":"#N/A"},{"$error":"#N/A"},null,null,null,null,null,null,null,null,null,null,null,null,null,null,null,null,"X-L Contracting, Inc.","XLC",null,null,null,null,"100505..CPCMLD","Joplin Stone","",0,null,null,null,{"$error":"#N/A"}]
[null,null,null,null,null,"1003GC","Summit Materials, Marshall (Boone Quarries)","3176713215",1976,"Chouteau, Cedar Valley 3C, 5CA, 6CA","1976_3C, 5CA, 6CA",5588,{"$error":"#N/A"},{"$error":"#N/A"},null,null,null,null,null,null,null,null,null,null,null,null,null,null,null,null,null,null,null,null,null,null,"100505..CPCMLD","Select Materials Midwest - Perryville (Lafarge)","",0,null,null,null,{"$error":"#N/A"}]
[null,null,null,null,null,"1003GC","Table Rock, Branson Stone","3045500118",187,"Compton 3W","187_3W",584,{"$error":"#N/A"},{"$error":"#N/A"},null,null,null,null,null,null,null,null,null,null,null,null,null,null,null,null,null,null,null,null,null,null,"100505..CPCMLD","Summit Materials, Marshall (Boone Quarries)","",0,null,null,null,{"$error":"#N/A"}]
[null,null,null,null,null,"1003GC","Table Rock, Branson Stone","3045500118",187,"Jefferson City/Cotter 1A","187_1A",589,{"$error":"#N/A"},{"$error":"#N/A"},null,null,null,null,null,null,null,null,null,null,null,null,null,null,null,null,null,null,null,null,null,null,"100505..OPTGV1","Martin Marietta (Meridian Qy North - Cavenaugh","",0,null,null,null,{"$error":"#N/A"}]
[null,null,null,null,null,"1003GC","Table Rock, Branson Stone","3045500118",187,"Jefferson City/Cotter 2","187_2",588,{"$error":"#N/A"},{"$error":"#N/A"},null,null,null,null,null,null,null,null,null,null,null,null,null,null,null,null,null,null,null,null,null,null,"100505..OPTLD1","Capital Quarries, Holts Summit 1A","",0,null,null,null,{"$error":"#N/A"}]
[null,null,null,null,null,"1003GC","Wayne B. Smith, Pit #8","3045900813",3787,"Burlington 2","3787_2",6860,{"$error":"#N/A"},{"$error":"#N/A"},null,null,null,null,null,null,null,null,null,null,null,null,null,null,null,null,null,null,null,null,null,null,"100505..OPTLD1","Central Stone #1, Hannibal (Huntington)","",0,null,null,null,{"$error":"#N/A"}]
[null,null,null,null,null,"1003GC","Williams Divers Matl (WDM), Sooner (Bingham #10)","3004001017",3439,"Chat CHAT","3439_CHAT",6748,{"$error":"#N/A"},{"$error":"#N/A"},null,null,null,null,null,null,null,null,null,null,null,null,null,null,null,null,null,null,null,null,null,null,"100505..OPTNS1","Producer Supplier not designated.","",0,null,null,null,{"$error":"#N/A"}]
[null,null,null,null,null,"1003GC","Yeary Trucking, Swan Creek","3197800218",2085,"Swan Creek Gravel GRAVEL","2085_GRAVEL",5756,{"$error":"#N/A"},{"$error":"#N/A"},null,null,null,null,null,null,null,null,null,null,null,null,null,null,null,null,null,null,null,null,null,null,"100507..CPCMLD","AA Quarry, LLC","",0,null,null,null,{"$error":"#N/A"}]
[null,null,null,null,null,"1003GCLW","Arcosa Lightweight (IN)","3533800319",5304,"Lightweight Aggregate - Haydite Haydite","5304_Haydite",7590,{"$error":"#N/A"},{"$error":"#N/A"},null,null,null,null,null,null,null,null,null,null,null,null,null,null,null,null,null,null,null,null,null,null,"100507..CPCMLD","Base Rock Materials Quarry","",0,null,null,null,{"$error":"#N/A"}]
[null,null,null,null,null,"1003GCLW","Arcosa Lightweight (KY)","3533800219",5220,"Lightweight Aggregate - Haydite Haydite","5220_Haydite",7459,{"$error":"#N/A"},{"$error":"#N/A"},null,null,null,null,null,null,null,null,null,null,null,null,null,null,null,null,null,null,null,null,null,null,"100507..CPCMLD","Base Rock Minerals, Fruitland","",0,null,null,null,{"$error":"#N/A"}]
[null,null,null,null,null,"1003GCLW","Buildex, Inc., New Market, MO","3005500314",3091,"Lightweight Aggregate - Weston Shale LT WT","3091_LT WT",6507,{"$error":"#N/A"},{"$error":"#N/A"},null,null,null,null,null,null,null,null,null,null,null,null,null,null,null,null,null,null,null,null,null,null,"100507..CPCMLD","Base Rock Minerals, Pit 3","",0,null,null,null,{"$error":"#N/A"}]
[null,null,null,null,null,"100504..CPCMLD","Boone Quarry #1, Columbia","3004600115",1192,"Burlington 4B-5","1192_4B-5",3840,{"$error":"#N/A"},{"$error":"#N/A"},null,null,null,null,null,null,null,null,null,null,null,null,null,null,null,null,null,null,null,null,null,null,"100507..CPCMLD","Capital Materials, Sedalia (Snow Rd-Dresden)","",0,null,null,null,{"$error":"#N/A"}]
[null,null,null,null,null,"100504..CPCMLD","Capital Materials, Sedalia (Snow Rd-Dresden)","3026603615",641,"Burlington 1 - 4","641_1 - 4",1540,{"$error":"#N/A"},{"$error":"#N/A"},null,null,null,null,null,null,null,null,null,null,null,null,null,null,null,null,null,null,null,null,null,null,"100507..CPCMLD","Capital Materials, Tightwad (APAC)","",0,null,null,null,{"$error":"#N/A"}]
[null,null,null,null,null,"100504..CPCMLD","Capital Materials, Tightwad (APAC)","3020600114",927,"Burlington 1,2,3","927_1,2,3",2872,{"$error":"#N/A"},{"$error":"#N/A"},null,null,null,null,null,null,null,null,null,null,null,null,null,null,null,null,null,null,null,null,null,null,"100507..CPCMLD","Central Stone #1, Hannibal (Huntington)","",0,null,null,null,{"$error":"#N/A"}]
[null,null,null,null,null,"100504..CPCMLD","Central Stone #31, Florissant","3007903116",947,"St. Louis 3-9","947_3-9",2997,{"$error":"#N/A"},{"$error":"#N/A"},null,null,null,null,null,null,null,null,null,null,null,null,null,null,null,null,null,null,null,null,null,null,"100507..CPCMLD","Clarkson Construction","",0,null,null,null,{"$error":"#N/A"}]
[null,null,null,null,null,"100504..CPCMLD","Central Stone, Potosi (GP Materials)","3505200115",4864,"Eminence 3","4864_3",7240,{"$error":"#N/A"},{"$error":"#N/A"},null,null,null,null,null,null,null,null,null,null,null,null,null,null,null,null,null,null,null,null,null,null,"100507..CPCMLD","Fischer Bros Pit #2, Ste. Genevieve","",0,null,null,null,{"$error":"#N/A"}]
[null,null,null,null,null,"100504..CPCMLD","Falling Springs Quarry (Stolle)","3007200216",1974,"St. Louis Limestone 4-10","1974_4-10",5537,{"$error":"#N/A"},{"$error":"#N/A"},null,null,null,null,null,null,null,null,null,null,null,null,null,null,null,null,null,null,null,null,null,null,"100507..CPCMLD","Fordyce Concrete","",0,null,null,null,{"$error":"#N/A"}]
[null,null,null,null,null,"100504..CPCMLD","Holliday Sand and Stone, Wheatland (Ash Grove)","3002909218",1087,"Burlington 2-3","1087_2-3",3459,{"$error":"#N/A"},{"$error":"#N/A"},null,null,null,null,null,null,null,null,null,null,null,null,null,null,null,null,null,null,null,null,null,null,"100507..CPCMLD","Hamm Quarries, Lee's Summit (Barber and Sons)","",0,null,null,null,{"$error":"#N/A"}]
[null,null,null,null,null,"100504..CPCMLD","Holliday Sand and Stone, Wheatland (Ash Grove)","3002909218",1087,"Burlington 2-6","1087_2-6",3460,{"$error":"#N/A"},{"$error":"#N/A"},null,null,null,null,null,null,null,null,null,null,null,null,null,null,null,null,null,null,null,null,null,null,"100507..CPCMLD","Higgins Quarry, LLC (Muenks Bros)","",0,null,null,null,{"$error":"#N/A"}]
[null,null,null,null,null,"100504..CPCMLD","Joplin Stone","3023600117",730,"Warsaw 1-3","730_1-3",1936,{"$error":"#N/A"},{"$error":"#N/A"},null,null,null,null,null,null,null,null,null,null,null,null,null,null,null,null,null,null,null,null,null,null,"100507..CPCMLD","Johnson County Aggregates, KS","",0,null,null,null,{"$error":"#N/A"}]
[null,null,null,null,null,"100504..CPCMLD","Martin Marietta (Mill Creek Quarry), OK","3434900114",3595,"Troy Granite 1","3595_1",6810,{"$error":"#N/A"},{"$error":"#N/A"},null,null,null,null,null,null,null,null,null,null,null,null,null,null,null,null,null,null,null,null,null,null,"100507..CPCMLD","Kemp Stone Mile or More Quarry (Pryor)","",0,null,null,null,{"$error":"#N/A"}]
[null,null,null,null,null,"100504..CPCMLD","Martin Marietta, Randolph","3021300114",900,"Cedar Valley 1CV","900_1CV",2774,{"$error":"#N/A"},{"$error":"#N/A"},null,null,null,null,null,null,null,null,null,null,null,null,null,null,null,null,null,null,null,null,null,null,"100507..CPCMLD","Kerford Limestone Co., NE","",0,null,null,null,{"$error":"#N/A"}]
[null,null,null,null,null,"100504..CPCMLD","Mill Creek Quarry (Kemp Quarries)","3534100119",5196,"St. Joe Limestone 1","5196_1",7415,{"$error":"#N/A"},{"$error":"#N/A"},null,null,null,null,null,null,null,null,null,null,null,null,null,null,null,null,null,null,null,null,null,null,"100507..CPCMLD","Land-Chariton County Concrete","",0,null,null,null,{"$error":"#N/A"}]
[null,null,null,null,null,"100504..CPCMLD","Norris Quarries, Breit Quarry, Savannah","3030693411",806,"Amazonia 8AZ","806_8AZ",2184,{"$error":"#N/A"},{"$error":"#N/A"},null,null,null,null,null,null,null,null,null,null,null,null,null,null,null,null,null,null,null,null,null,null,"100507..CPCMLD","Martin Marietta, Ferrelview (Stamper)","",0,null,null,null,{"$error":"#N/A"}]
[null,null,null,null,null,"100504..CPCMLD","Summit Materials, Marshall (Boone Quarries)","3176713215",1976,"Chouteau - Cedar Valley 4C,5-9CA","1976_4C,5-9CA",5593,{"$error":"#N/A"},{"$error":"#N/A"},null,null,null,null,null,null,null,null,null,null,null,null,null,null,null,null,null,null,null,null,null,null,"100507..CPCMLD","Martin Marietta, Randolph","",0,null,null,null,{"$error":"#N/A"}]
[null,null,null,null,null,"100504..OPTGV1","Capital Sand #20, Riverbend (MO Sand Company)","3020701214",937,"Missouri River Field Gravel GRAVEL","937_GRAVEL",2925,{"$error":"#N/A"},{"$error":"#N/A"},null,null,null,null,null,null,null,null,null,null,null,null,null,null,null,null,null,null,null,null,null,null,"100507..CPCMLD","Mid Missouri Limestone (Reform)","",0,null,null,null,{"$error":"#N/A"}]
[null,null,null,null,null,"100504..OPTGV1","Holliday Sand & Gravel, #3 West, Shawnee","3020700214",934,null,"934_GRAVEL",7967,{"$error":"#N/A"},{"$error":"#N/A"},null,null,null,null,null,null,null,null,null,null,null,null,null,null,null,null,null,null,null,null,null,null,"100507..CPCMLD","New Frontier, Alton Weber #8","",0,null,null,null,{"$error":"#N/A"}]
[null,null,null,null,null,"100504..OPTLD1","Capital Materials, Sedalia (Snow Rd-Dresden)","3026603615",641,"Burlington 1 - 4","641_1 - 4",1540,{"$error":"#N/A"},{"$error":"#N/A"},null,null,null,null,null,null,null,null,null,null,null,null,null,null,null,null,null,null,null,null,null,null,"100507..CPCMLD","Producer Supplier not designated.","",0,null,null,null,{"$error":"#N/A"}]
[null,null,null,null,null,"100505..CPCMLD","Joplin Stone","3023600117",730,"Warsaw 1-3","730_1-3",1936,{"$error":"#N/A"},{"$error":"#N/A"},null,null,null,null,null,null,null,null,null,null,null,null,null,null,null,null,null,null,null,null,null,null,"100507..CPCMLD","Ready Mix Concrete","",0,null,null,null,{"$error":"#N/A"}]
[null,null,null,null,null,"100505..CPCMLD","Select Materials Midwest - Perryville (Lafarge)","3030636610",827,"Plattin 3-7","827_3-7",2412,{"$error":"#N/A"},{"$error":"#N/A"},null,null,null,null,null,null,null,null,null,null,null,null,null,null,null,null,null,null,null,null,null,null,"100507..CPCMLD","Southeast Missouri Stone (SEMO)","",0,null,null,null,{"$error":"#N/A"}]
[null,null,null,null,null,"100505..CPCMLD","Summit Materials, Marshall (Boone Quarries)","3176713215",1976,"Chouteau - Cedar Valley 4C,5-9CA","1976_4C,5-9CA",5593,{"$error":"#N/A"},{"$error":"#N/A"},null,null,null,null,null,null,null,null,null,null,null,null,null,null,null,null,null,null,null,null,null,null,"100507..CPCMLD","Summit Materials, Marshall (Boone Quarries)","",0,null,null,null,{"$error":"#N/A"}]
[null,null,null,null,null,"100505..OPTLD1","Capital Quarries, Holts Summit 1A","3170701515",1142,"Chouteau-Burlington-Cedar Valley 1A,1B,1,2,3","1142_1A,1B,1,2,3",3624,{"$error":"#N/A"},{"$error":"#N/A"},null,null,null,null,null,null,null,null,null,null,null,null,null,null,null,null,null,null,null,null,null,null,"100507..CPCMLD","Williamsville Stone #1","",0,null,null,null,{"$error":"#N/A"}]
[null,null,null,null,null,"100505..OPTLD1","Central Stone #1, Hannibal (Huntington)","3007900113",948,"Cedar Valley 13-11","948_13-11",3038,{"$error":"#N/A"},{"$error":"#N/A"},null,null,null,null,null,null,null,null,null,null,null,null,null,null,null,null,null,null,null,null,null,null,"100507..CPGT1","Granite Mountain Quarry","",0,null,null,null,{"$error":"#N/A"}]
[null,null,null,null,null,"100505..OPTLD1","Central Stone #1, Hannibal (Huntington)","3007900113",948,"Kimmswick 10-1","948_10-1",3041,{"$error":"#N/A"},{"$error":"#N/A"},null,null,null,null,null,null,null,null,null,null,null,null,null,null,null,null,null,null,null,null,null,null,"100507..CPGT1","Martin Marietta (Mill Creek Quarry), OK","",0,null,null,null,{"$error":"#N/A"}]
[null,null,null,null,null,"100507..CPCMLD","AA Quarry, LLC","3514700114",4621,"Burlington 1B-4B","4621_1B-4B",7774,{"$error":"#N/A"},{"$error":"#N/A"},null,null,null,null,null,null,null,null,null,null,null,null,null,null,null,null,null,null,null,null,null,null,"100507..CPGT1","Producer Supplier not designated.","",0,null,null,null,{"$error":"#N/A"}]
[null,null,null,null,null,"100507..CPCMLD","AA Quarry, LLC","3514700114",4621,"Burlington 2B-5B","4621_2B-5B",7796,{"$error":"#N/A"},{"$error":"#N/A"},null,null,null,null,null,null,null,null,null,null,null,null,null,null,null,null,null,null,null,null,null,null,"100507..OPTLD1","Base Rock Minerals, Fruitland","",0,null,null,null,{"$error":"#N/A"}]
[null,null,null,null,null,"100507..CPCMLD","Base Rock Minerals, Fruitland","3242100310",4680,"Kimmswick 24-25","4680_24-25",7009,{"$error":"#N/A"},{"$error":"#N/A"},null,null,null,null,null,null,null,null,null,null,null,null,null,null,null,null,null,null,null,null,null,null,"100507..OPTLD1","Central Stone #1, Hannibal (Huntington)","",0,null,null,null,{"$error":"#N/A"}]
[null,null,null,null,null,"100507..CPCMLD","Base Rock Minerals, Pit 3","3038300310",1757,"Bonne Terre 7-10","1757_7-10",5108,{"$error":"#N/A"},{"$error":"#N/A"},null,null,null,null,null,null,null,null,null,null,null,null,null,null,null,null,null,null,null,null,null,null,"100507..OPTLD1","Producer Supplier not designated.","",0,null,null,null,{"$error":"#N/A"}]
[null,null,null,null,null,"100507..CPCMLD","Capital Materials, Sedalia (Snow Rd-Dresden)","3026603615",641,"Burlington 1 - 4","641_1 - 4",1540,{"$error":"#N/A"},{"$error":"#N/A"},null,null,null,null,null,null,null,null,null,null,null,null,null,null,null,null,null,null,null,null,null,null,"100510..CPCMGT","Martin Marietta (Mill Creek Quarry), OK","",0,null,null,null,{"$error":"#N/A"}]
[null,null,null,null,null,"100507..CPCMLD","Capital Materials, Tightwad (APAC)","3020600114",927,"Burlington 1,2,3","927_1,2,3",2872,{"$error":"#N/A"},{"$error":"#N/A"},null,null,null,null,null,null,null,null,null,null,null,null,null,null,null,null,null,null,null,null,null,null,"100510..CPCMLD","AA Quarry, LLC","",0,null,null,null,{"$error":"#N/A"}]
[null,null,null,null,null,"100507..CPCMLD","Capital Materials, Tightwad (APAC)","3020600114",927,"Burlington 1-2","927_1-2",2889,{"$error":"#N/A"},{"$error":"#N/A"},null,null,null,null,null,null,null,null,null,null,null,null,null,null,null,null,null,null,null,null,null,null,"100510..CPCMLD","APAC-Central (Missouri) Branson Qry","",0,null,null,null,{"$error":"#N/A"}]
[null,null,null,null,null,"100507..CPCMLD","Central Stone #1, Hannibal (Huntington)","3007900113",948,"Cedar Valley 13-11","948_13-11",3038,{"$error":"#N/A"},{"$error":"#N/A"},null,null,null,null,null,null,null,null,null,null,null,null,null,null,null,null,null,null,null,null,null,null,"100510..CPCMLD","BMC Stone, LLC, Defiance  (APAC Defiance Quarry)","",0,null,null,null,{"$error":"#N/A"}]
[null,null,null,null,null,"100507..CPCMLD","Central Stone #1, Hannibal (Huntington)","3007900113",948,"Kimmswick 10-1","948_10-1",3041,{"$error":"#N/A"},{"$error":"#N/A"},null,null,null,null,null,null,null,null,null,null,null,null,null,null,null,null,null,null,null,null,null,null,"100510..CPCMLD","Bailey (Roach) Quarry","",0,null,null,null,{"$error":"#N/A"}]
[null,null,null,null,null,"100507..CPCMLD","Fischer Bros Pit #2, Ste. Genevieve","3035100310",2357,"Salem 21-25","2357_21-25",6027,{"$error":"#N/A"},{"$error":"#N/A"},null,null,null,null,null,null,null,null,null,null,null,null,null,null,null,null,null,null,null,null,null,null,"100510..CPCMLD","Bailey Quarries #2, Dolomite","",0,null,null,null,{"$error":"#N/A"}]
[null,null,null,null,null,"100507..CPCMLD","Fordyce Concrete","3055410034",4708,"Fordyce Concrete, Central, KC Kansas KC Kansas","4708_KC Kansas",7046,{"$error":"#N/A"},{"$error":"#N/A"},null,null,null,null,null,null,null,null,null,null,null,null,null,null,null,null,null,null,null,null,null,null,"100510..CPCMLD","Bailey Quarries #3, Stockton","",0,null,null,null,{"$error":"#N/A"}]
[null,null,null,null,null,"100507..CPCMLD","Fordyce Concrete","3055410034",4708,"Fordyce Concrete, East 63rd KC East 63rd KC","4708_East 63rd KC",7047,{"$error":"#N/A"},{"$error":"#N/A"},null,null,null,null,null,null,null,null,null,null,null,null,null,null,null,null,null,null,null,null,null,null,"100510..CPCMLD","Base Rock Materials Quarry","",0,null,null,null,{"$error":"#N/A"}]
[null,null,null,null,null,"100507..CPCMLD","Higgins Quarry, LLC (Muenks Bros)","3060800115",444,"Jefferson City 3-4-5","444_3-4-5",1277,{"$error":"#N/A"},{"$error":"#N/A"},null,null,null,null,null,null,null,null,null,null,null,null,null,null,null,null,null,null,null,null,null,null,"100510..CPCMLD","Base Rock Minerals, Fruitland","",0,null,null,null,{"$error":"#N/A"}]
[null,null,null,null,null,"100507..CPCMLD","Johnson County Aggregates, KS","3186000114",1508,"Argentine 1A-3A","1508_1A-3A",4652,{"$error":"#N/A"},{"$error":"#N/A"},null,null,null,null,null,null,null,null,null,null,null,null,null,null,null,null,null,null,null,null,null,null,"100510..CPCMLD","Base Rock Minerals, Pit 3","",0,null,null,null,{"$error":"#N/A"}]
[null,null,null,null,null,"100507..CPCMLD","Kemp Stone Mile or More Quarry (Pryor)","3124000217",696,"Ordnance 2-3","696_2-3",1799,{"$error":"#N/A"},{"$error":"#N/A"},null,null,null,null,null,null,null,null,null,null,null,null,null,null,null,null,null,null,null,null,null,null,"100510..CPCMLD","Benton County Stone - Gravette, AR","",0,null,null,null,{"$error":"#N/A"}]
[null,null,null,null,null,"100507..CPCMLD","Kerford Limestone Co., NE","3024600111",699,"Kereford & Plattsmouth 1K-4P","699_1K-4P",1805,{"$error":"#N/A"},{"$error":"#N/A"},null,null,null,null,null,null,null,null,null,null,null,null,null,null,null,null,null,null,null,null,null,null,"100510..CPCMLD","Bluewing Materials, Poplar Bluff Stone","",0,null,null,null,{"$error":"#N/A"}]
[null,null,null,null,null,"100507..CPCMLD","Land-Chariton County Concrete","3026800132",623,"Land-Chariton County Concrete, Moberly Moberly","623_Moberly",1514,{"$error":"#N/A"},{"$error":"#N/A"},null,null,null,null,null,null,null,null,null,null,null,null,null,null,null,null,null,null,null,null,null,null,"100510..CPCMLD","Bluewing Materials, Van Buren Stone","",0,null,null,null,{"$error":"#N/A"}]
[null,null,null,null,null,"100507..CPCMLD","Martin Marietta, Ferrelview (Stamper)","3021300214",925,"Bethany Falls 1BF-2BF-3BF","925_1BF-2BF-3BF",2860,{"$error":"#N/A"},{"$error":"#N/A"},null,null,null,null,null,null,null,null,null,null,null,null,null,null,null,null,null,null,null,null,null,null,"100510..CPCMLD","Boone Quarries, Boonville (APAC)","",0,null,null,null,{"$error":"#N/A"}]
[null,null,null,null,null,"100507..CPCMLD","Martin Marietta, Randolph","3021300114",900,"Cedar Valley 1CV","900_1CV",2774,{"$error":"#N/A"},{"$error":"#N/A"},null,null,null,null,null,null,null,null,null,null,null,null,null,null,null,null,null,null,null,null,null,null,"100510..CPCMLD","Boone Quarry #1, Columbia","",0,null,null,null,{"$error":"#N/A"}]
[null,null,null,null,null,"100507..CPCMLD","Mid Missouri Limestone (Reform)","3031700115",402,"Cedar Valley 1 & 2","402_1 & 2",1215,{"$error":"#N/A"},{"$error":"#N/A"},null,null,null,null,null,null,null,null,null,null,null,null,null,null,null,null,null,null,null,null,null,null,"100510..CPCMLD","Brickeys Stone, LLC","",0,null,null,null,{"$error":"#N/A"}]
[null,null,null,null,null,"100507..CPCMLD","New Frontier, Alton Weber #8","3032400116",577,"St. Louis 1-2","577_1-2",1420,{"$f":"IF(AND($F$17=H305,$AK$44=F305),J305,\"\")","v":{"$error":"#N/A"}},{"$f":"IF(AND($F$17=H305,$AK$44=F305),L305,\"\")","v":{"$error":"#N/A"}},null,null,null,null,null,null,null,null,null,null,null,null,null,null,null,null,null,null,null,null,null,null,"100510..CPCMLD","Cantera Aggregates #1, Plano Qy, Plano, IA",{"$f":"IF(AK305=$AK$44,AL305,\"\")","v":""},0,null,null,null,{"$error":"#N/A"}]
[null,null,null,null,null,"100507..CPCMLD","New Frontier, Alton Weber #8","3032400116",577,"St. Louis 1-7","577_1-7",1423,{"$error":"#N/A"},{"$error":"#N/A"},null,null,null,null,null,null,null,null,null,null,null,null,null,null,null,null,null,null,null,null,null,null,"100510..CPCMLD","Capital Materials, Fairplay (T & M Stone Quarry)","",0,null,null,null,{"$error":"#N/A"}]
[null,null,null,null,null,"100507..CPCMLD","Southeast Missouri Stone (SEMO)","3042800110",248,"Plattin 15-5A","248_15-5A",796,{"$error":"#N/A"},{"$error":"#N/A"},null,null,null,null,null,null,null,null,null,null,null,null,null,null,null,null,null,null,null,null,null,null,"100510..CPCMLD","Capital Materials, Linn Creek (APAC)","",0,null,null,null,{"$error":"#N/A"}]
[null,null,null,null,null,"100507..CPCMLD","Southeast Missouri Stone (SEMO)","3042800110",248,"Plattin 6A-26A","248_6A-26A",854,{"$error":"#N/A"},{"$error":"#N/A"},null,null,null,null,null,null,null,null,null,null,null,null,null,null,null,null,null,null,null,null,null,null,"100510..CPCMLD","Capital Materials, Palo Quarry (Smasal)","",0,null,null,null,{"$error":"#N/A"}]
[null,null,null,null,null,"100507..CPCMLD","Southeast Missouri Stone (SEMO)","3042800110",248,"Plattin, 6-16A,39-35,15-5A,34-22 Various","248_Various",851,{"$error":"#N/A"},{"$error":"#N/A"},null,null,null,null,null,null,null,null,null,null,null,null,null,null,null,null,null,null,null,null,null,null,"100510..CPCMLD","Capital Materials, Sedalia (Snow Rd-Dresden)","",0,null,null,null,{"$error":"#N/A"}]
[null,null,null,null,null,"100507..CPCMLD","Summit Materials, Marshall (Boone Quarries)","3176713215",1976,"Cedar Valley 5CA-6CA","1976_5CA-6CA",5578,{"$error":"#N/A"},{"$error":"#N/A"},null,null,null,null,null,null,null,null,null,null,null,null,null,null,null,null,null,null,null,null,null,null,"100510..CPCMLD","Capital Materials, South Hollister (Journagan #7)","",0,null,null,null,{"$error":"#N/A"}]
[null,null,null,null,null,"100507..CPCMLD","Summit Materials, Marshall (Boone Quarries)","3176713215",1976,"Cedar Valley 5CA-9CA","1976_5CA-9CA",5592,{"$error":"#N/A"},{"$error":"#N/A"},null,null,null,null,null,null,null,null,null,null,null,null,null,null,null,null,null,null,null,null,null,null,"100510..CPCMLD","Capital Materials, Tightwad (APAC)","",0,null,null,null,{"$error":"#N/A"}]
[null,null,null,null,null,"100507..CPCMLD","Summit Materials, Marshall (Boone Quarries)","3176713215",1976,"Cedar Valley 8CA-9CA","1976_8CA-9CA",5587,{"$error":"#N/A"},{"$error":"#N/A"},null,null,null,null,null,null,null,null,null,null,null,null,null,null,null,null,null,null,null,null,null,null,"100510..CPCMLD","Capital Quarries #10, Quinn Pit (Beck)","",0,null,null,null,{"$error":"#N/A"}]
[null,null,null,null,null,"100507..CPCMLD","Summit Materials, Marshall (Boone Quarries)","3176713215",1976,"Chouteau - Cedar Valley 4C,5-9CA","1976_4C,5-9CA",5593,{"$error":"#N/A"},{"$error":"#N/A"},null,null,null,null,null,null,null,null,null,null,null,null,null,null,null,null,null,null,null,null,null,null,"100510..CPCMLD","Capital Quarries #17, Sullivan","",0,null,null,null,{"$error":"#N/A"}]
[null,null,null,null,null,"100507..CPCMLD","Williamsville Stone #1","3050400110",81,"Gasconade 14-6","81_14-6",7673,{"$error":"#N/A"},{"$error":"#N/A"},null,null,null,null,null,null,null,null,null,null,null,null,null,null,null,null,null,null,null,null,null,null,"100510..CPCMLD","Capital Quarries #19, Jerome","",0,null,null,null,{"$error":"#N/A"}]
[null,null,null,null,null,"100507..CPCMLD","Williamsville Stone #1","3050400110",81,"Gasconade 14A-17A","81_14A-17A",199,{"$error":"#N/A"},{"$error":"#N/A"},null,null,null,null,null,null,null,null,null,null,null,null,null,null,null,null,null,null,null,null,null,null,"100510..CPCMLD","Capital Quarries #5, California","",0,null,null,null,{"$error":"#N/A"}]
[null,null,null,null,null,"100507..CPGT1","Granite Mountain Quarry","3254600118",2785,"Granite 1","2785_1",6340,{"$error":"#N/A"},{"$error":"#N/A"},null,null,null,null,null,null,null,null,null,null,null,null,null,null,null,null,null,null,null,null,null,null,"100510..CPCMLD","Capital Quarries #7, Salem","",0,null,null,null,{"$error":"#N/A"}]
[null,null,null,null,null,"100507..CPGT1","Martin Marietta (Mill Creek Quarry), OK","3434900114",3595,"Troy Granite 1","3595_1",6810,{"$error":"#N/A"},{"$error":"#N/A"},null,null,null,null,null,null,null,null,null,null,null,null,null,null,null,null,null,null,null,null,null,null,"100510..CPCMLD","Capital Quarries, Arcadia","",0,null,null,null,{"$error":"#N/A"}]
[null,null,null,null,null,"100507..OPTLD1","Central Stone #1, Hannibal (Huntington)","3007900113",948,"Cedar Valley 13-11","948_13-11",3038,{"$error":"#N/A"},{"$error":"#N/A"},null,null,null,null,null,null,null,null,null,null,null,null,null,null,null,null,null,null,null,null,null,null,"100510..CPCMLD","Capital Quarries, Danville (Pace Construction)","",0,null,null,null,{"$error":"#N/A"}]
[null,null,null,null,null,"100507..OPTLD1","Central Stone #1, Hannibal (Huntington)","3007900113",948,"Kimmswick 10-1","948_10-1",3041,{"$error":"#N/A"},{"$error":"#N/A"},null,null,null,null,null,null,null,null,null,null,null,null,null,null,null,null,null,null,null,null,null,null,"100510..CPCMLD","Capital Quarries, Thayer (King Quarry)","",0,null,null,null,{"$error":"#N/A"}]
[null,null,null,null,null,"100507..OPTLD1","Central Stone #1, Hannibal (Huntington)","3007900113",948,"Kimmswick A-B-C","948_A-B-C",3046,{"$error":"#N/A"},{"$error":"#N/A"},null,null,null,null,null,null,null,null,null,null,null,null,null,null,null,null,null,null,null,null,null,null,"100510..CPCMLD","Carroll County Stone (Bailey)","",0,null,null,null,{"$error":"#N/A"}]
[null,null,null,null,null,"100507..OPTLD1","Central Stone #1, Hannibal (Huntington)","3007900113",948,"Kimmswick A-E","948_A-E",3039,{"$error":"#N/A"},{"$error":"#N/A"},null,null,null,null,null,null,null,null,null,null,null,null,null,null,null,null,null,null,null,null,null,null,"100510..CPCMLD","Carthage Crushed Limestone","",0,null,null,null,{"$error":"#N/A"}]
[null,null,null,null,null,"100507..OPTLD1","Central Stone #1, Hannibal (Huntington)","3007900113",948,"Kimmswick D-E","948_D-E",3060,{"$error":"#N/A"},{"$error":"#N/A"},null,null,null,null,null,null,null,null,null,null,null,null,null,null,null,null,null,null,null,null,null,null,"100510..CPCMLD","Central Stone #1, Hannibal (Huntington)","",0,null,null,null,{"$error":"#N/A"}]
[null,null,null,null,null,"100510..CPCMGT","Martin Marietta (Mill Creek Quarry), OK","3434900114",3595,"Troy Granite 1","3595_1",6810,{"$error":"#N/A"},{"$error":"#N/A"},null,null,null,null,null,null,null,null,null,null,null,null,null,null,null,null,null,null,null,null,null,null,"100510..CPCMLD","Central Stone #54 (Bellefontaine)  Farmington","",0,null,null,null,{"$error":"#N/A"}]
[null,null,null,null,null,"100510..CPCMLD","AA Quarry, LLC","3514700114",4621,"Burlington 1B-4B","4621_1B-4B",7774,{"$error":"#N/A"},{"$error":"#N/A"},null,null,null,null,null,null,null,null,null,null,null,null,null,null,null,null,null,null,null,null,null,null,"100510..CPCMLD","Central Stone #6, New London","",0,null,null,null,{"$error":"#N/A"}]
[null,null,null,null,null,"100510..CPCMLD","AA Quarry, LLC","3514700114",4621,"Burlington 2B-5B","4621_2B-5B",7796,{"$error":"#N/A"},{"$error":"#N/A"},null,null,null,null,null,null,null,null,null,null,null,null,null,null,null,null,null,null,null,null,null,null,"100510..CPCMLD","Central Stone #71, Jefferson Barracks Quarry","",0,null,null,null,{"$error":"#N/A"}]
[null,null,null,null,null,"100510..CPCMLD","APAC-Central (Missouri) Branson Qry","3176703418",2143,"Jefferson City - Cotter 1B-10","2143_1B-10",5788,{"$error":"#N/A"},{"$error":"#N/A"},null,null,null,null,null,null,null,null,null,null,null,null,null,null,null,null,null,null,null,null,null,null,"100510..CPCMLD","Central Stone #72, Antire Quarry","",0,null,null,null,{"$error":"#N/A"}]
[null,null,null,null,null,"100510..CPCMLD","BMC Stone, LLC, Defiance  (APAC Defiance Quarry)","3043801216",234,"Plattin 16-18","234_16-18",738,{"$error":"#N/A"},{"$error":"#N/A"},null,null,null,null,null,null,null,null,null,null,null,null,null,null,null,null,null,null,null,null,null,null,"100510..CPCMLD","Central Stone #74, Trautman Quarry","",0,null,null,null,{"$error":"#N/A"}]
[null,null,null,null,null,"100510..CPCMLD","Bailey (Roach) Quarry","3039800117",314,"Jefferson City-Cotter 8","314_8",7602,{"$error":"#N/A"},{"$error":"#N/A"},null,null,null,null,null,null,null,null,null,null,null,null,null,null,null,null,null,null,null,null,null,null,"100510..CPCMLD","Central Stone, Potosi (GP Materials)","",0,null,null,null,{"$error":"#N/A"}]
[null,null,null,null,null,"100510..CPCMLD","Bailey (Roach) Quarry","3039800117",314,"Jefferson City-Cotter 9","314_9",7845,{"$error":"#N/A"},{"$error":"#N/A"},null,null,null,null,null,null,null,null,null,null,null,null,null,null,null,null,null,null,null,null,null,null,"100510..CPCMLD","Champion Precast Inc.","",0,null,null,null,{"$error":"#N/A"}]
[null,null,null,null,null,"100510..CPCMLD","Bailey Quarries #2, Dolomite","3002200217",1359,"Cotter 1E","1359_1E",4272,{"$error":"#N/A"},{"$error":"#N/A"},null,null,null,null,null,null,null,null,null,null,null,null,null,null,null,null,null,null,null,null,null,null,"100510..CPCMLD","Clarkson Construction","",0,null,null,null,{"$error":"#N/A"}]
[null,null,null,null,null,"100510..CPCMLD","Bailey Quarries #3, Stockton","3002200317",45,"Burlington 1","45_1",51,{"$error":"#N/A"},{"$error":"#N/A"},null,null,null,null,null,null,null,null,null,null,null,null,null,null,null,null,null,null,null,null,null,null,"100510..CPCMLD","Colt Rock and Lime, Patterson (Scaggs)","",0,null,null,null,{"$error":"#N/A"}]
[null,null,null,null,null,"100510..CPCMLD","Bailey Quarries #3, Stockton","3002200317",45,"Burlington 5","45_5",53,{"$error":"#N/A"},{"$error":"#N/A"},null,null,null,null,null,null,null,null,null,null,null,null,null,null,null,null,null,null,null,null,null,null,"100510..CPCMLD","Colt Rock and Lime, Scott City","",0,null,null,null,{"$error":"#N/A"}]
[null,null,null,null,null,"100510..CPCMLD","Base Rock Minerals, Fruitland","3242100310",4680,"Kimmswick 24","4680_24",7010,{"$error":"#N/A"},{"$error":"#N/A"},null,null,null,null,null,null,null,null,null,null,null,null,null,null,null,null,null,null,null,null,null,null,"100510..CPCMLD","Conco #0478, Montevallo (Ash Grove)","",0,null,null,null,{"$error":"#N/A"}]
[null,null,null,null,null,"100510..CPCMLD","Base Rock Minerals, Fruitland","3242100310",4680,"Kimmswick 24-25","4680_24-25",7009,{"$error":"#N/A"},{"$error":"#N/A"},null,null,null,null,null,null,null,null,null,null,null,null,null,null,null,null,null,null,null,null,null,null,"100510..CPCMLD","Conco #0496, Marshfield (Ash Grove)","",0,null,null,null,{"$error":"#N/A"}]
[null,null,null,null,null,"100510..CPCMLD","Base Rock Minerals, Fruitland","3242100310",4680,"Kimmswick 25","4680_25",7008,{"$error":"#N/A"},{"$error":"#N/A"},null,null,null,null,null,null,null,null,null,null,null,null,null,null,null,null,null,null,null,null,null,null,"100510..CPCMLD","Crider Bros, Eminence","",0,null,null,null,{"$error":"#N/A"}]
[null,null,null,null,null,"100510..CPCMLD","Base Rock Minerals, Pit 3","3038300310",1757,"Bonne Terre 6","1757_6",7351,{"$error":"#N/A"},{"$error":"#N/A"},null,null,null,null,null,null,null,null,null,null,null,null,null,null,null,null,null,null,null,null,null,null,"100510..CPCMLD","Duffield Aggregate, Potosi","",0,null,null,null,{"$error":"#N/A"}]
[null,null,null,null,null,"100510..CPCMLD","Base Rock Minerals, Pit 3","3038300310",1757,"Bonne Terre 7-10","1757_7-10",5108,{"$error":"#N/A"},{"$error":"#N/A"},null,null,null,null,null,null,null,null,null,null,null,null,null,null,null,null,null,null,null,null,null,null,"100510..CPCMLD","Engineering Surveys & Services, Columbia","",0,null,null,null,{"$error":"#N/A"}]
[null,null,null,null,null,"100510..CPCMLD","Base Rock Minerals, Pit 3","3038300310",1757,"Bonne Terre 7-8, 9-10","1757_7-8, 9-10",5107,{"$error":"#N/A"},{"$error":"#N/A"},null,null,null,null,null,null,null,null,null,null,null,null,null,null,null,null,null,null,null,null,null,null,"100510..CPCMLD","Engineering Surveys & Services, Sedalia","",0,null,null,null,{"$error":"#N/A"}]
[null,null,null,null,null,"100510..CPCMLD","Benton County Stone - Gravette, AR","3145200117",1330,"Pierson 1","1330_1",4199,{"$error":"#N/A"},{"$error":"#N/A"},null,null,null,null,null,null,null,null,null,null,null,null,null,null,null,null,null,null,null,null,null,null,"100510..CPCMLD","Falling Springs Quarry (Stolle)","",0,null,null,null,{"$error":"#N/A"}]
[null,null,null,null,null,"100510..CPCMLD","Bluewing Materials, Poplar Bluff Stone","3520200119",4957,"Eminence 1","4957_1",7261,{"$error":"#N/A"},{"$error":"#N/A"},null,null,null,null,null,null,null,null,null,null,null,null,null,null,null,null,null,null,null,null,null,null,"100510..CPCMLD","Fischer Bros Pit #2, Ste. Genevieve","",0,null,null,null,{"$error":"#N/A"}]
[null,null,null,null,null,"100510..CPCMLD","Bluewing Materials, Poplar Bluff Stone","3520200119",4957,"Eminence-Potosi 1-2","4957_1-2",7262,{"$error":"#N/A"},{"$error":"#N/A"},null,null,null,null,null,null,null,null,null,null,null,null,null,null,null,null,null,null,null,null,null,null,"100510..CPCMLD","Fischer Concrete","",0,null,null,null,{"$error":"#N/A"}]
[null,null,null,null,null,"100510..CPCMLD","Bluewing Materials, Poplar Bluff Stone","3520200119",4957,"Potosi 2","4957_2",7263,{"$error":"#N/A"},{"$error":"#N/A"},null,null,null,null,null,null,null,null,null,null,null,null,null,null,null,null,null,null,null,null,null,null,"100510..CPCMLD","Fordyce Concrete","",0,null,null,null,{"$error":"#N/A"}]
[null,null,null,null,null,"100510..CPCMLD","Bluewing Materials, Van Buren Stone","3011000319",2320,"Gasconade 1","2320_1",5960,{"$error":"#N/A"},{"$error":"#N/A"},null,null,null,null,null,null,null,null,null,null,null,null,null,null,null,null,null,null,null,null,null,null,"100510..CPCMLD","Gray Quarry, Hamilton,IL","",0,null,null,null,{"$error":"#N/A"}]
[null,null,null,null,null,"100510..CPCMLD","Boone Quarries, Boonville (APAC)","3176713115",1975,"Burlington 1-4","1975_1-4",5559,{"$error":"#N/A"},{"$error":"#N/A"},null,null,null,null,null,null,null,null,null,null,null,null,null,null,null,null,null,null,null,null,null,null,"100510..CPCMLD","Grays Point Stone & Materials, Scott City","",0,null,null,null,{"$error":"#N/A"}]
[null,null,null,null,null,"100510..CPCMLD","Boone Quarry #1, Columbia","3004600115",1192,"Burlington 4B-5","1192_4B-5",3840,{"$error":"#N/A"},{"$error":"#N/A"},null,null,null,null,null,null,null,null,null,null,null,null,null,null,null,null,null,null,null,null,null,null,"100510..CPCMLD","HCH Quarry","",0,null,null,null,{"$error":"#N/A"}]
[null,null,null,null,null,"100510..CPCMLD","Brickeys Stone, LLC","3214900110",2063,"Kimmswick 46","2063_46",5725,{"$error":"#N/A"},{"$error":"#N/A"},null,null,null,null,null,null,null,null,null,null,null,null,null,null,null,null,null,null,null,null,null,null,"100510..CPCMLD","Hamm Quarry, La Cygne, KS (Mid-State)","",0,null,null,null,{"$error":"#N/A"}]
[null,null,null,null,null,"100510..CPCMLD","Brickeys Stone, LLC","3214900110",2063,"Plattin 43-42","2063_43-42",5731,{"$error":"#N/A"},{"$error":"#N/A"},null,null,null,null,null,null,null,null,null,null,null,null,null,null,null,null,null,null,null,null,null,null,"100510..CPCMLD","Havin Material Services","",0,null,null,null,{"$error":"#N/A"}]
[null,null,null,null,null,"100510..CPCMLD","Cantera Aggregates #1, Plano Qy, Plano, IA","3532100111",5171,"Exline 1","5171_1",7377,{"$error":"#N/A"},{"$error":"#N/A"},null,null,null,null,null,null,null,null,null,null,null,null,null,null,null,null,null,null,null,null,null,null,"100510..CPCMLD","Heartland Materials, LLC","",0,null,null,null,{"$error":"#N/A"}]
[null,null,null,null,null,"100510..CPCMLD","Capital Materials, Fairplay (T & M Stone Quarry)","3242000218",4937,"Burlington 1","4937_1",7257,{"$error":"#N/A"},{"$error":"#N/A"},null,null,null,null,null,null,null,null,null,null,null,null,null,null,null,null,null,null,null,null,null,null,"100510..CPCMLD","Higgins Materials, LLC - Otterville","",0,null,null,null,{"$error":"#N/A"}]
[null,null,null,null,null,"100510..CPCMLD","Capital Materials, Linn Creek (APAC)","3176702715",1465,"Gasconade 1-2-3","1465_1-2-3",4536,{"$error":"#N/A"},{"$error":"#N/A"},null,null,null,null,null,null,null,null,null,null,null,null,null,null,null,null,null,null,null,null,null,null,"100510..CPCMLD","Higgins Quarry, LLC (Muenks Bros)","",0,null,null,null,{"$error":"#N/A"}]
[null,null,null,null,null,"100510..CPCMLD","Capital Materials, Palo Quarry (Smasal)","3133300715",2947,"Burlington 2-3","2947_2-3",6455,{"$error":"#N/A"},{"$error":"#N/A"},null,null,null,null,null,null,null,null,null,null,null,null,null,null,null,null,null,null,null,null,null,null,"100510..CPCMLD","Holliday Sand and Stone, Dever (Ash Grove)","",0,null,null,null,{"$error":"#N/A"}]
[null,null,null,null,null,"100510..CPCMLD","Capital Materials, Sedalia (Snow Rd-Dresden)","3026603615",641,"Burlington 1 - 4","641_1 - 4",1540,{"$error":"#N/A"},{"$error":"#N/A"},null,null,null,null,null,null,null,null,null,null,null,null,null,null,null,null,null,null,null,null,null,null,"100510..CPCMLD","Holliday Sand and Stone, Wheatland (Ash Grove)","",0,null,null,null,{"$error":"#N/A"}]
[null,null,null,null,null,"100510..CPCMLD","Capital Materials, South Hollister (Journagan #7)","3027400718",701,"Cotter F","701_F",1816,{"$error":"#N/A"},{"$error":"#N/A"},null,null,null,null,null,null,null,null,null,null,null,null,null,null,null,null,null,null,null,null,null,null,"100510..CPCMLD","ILC Resources, Jasper","",0,null,null,null,{"$error":"#N/A"}]
[null,null,null,null,null,"100510..CPCMLD","Capital Materials, South Hollister (Journagan #7)","3027400718",701,"Pierson 5-3","701_5-3",1812,{"$error":"#N/A"},{"$error":"#N/A"},null,null,null,null,null,null,null,null,null,null,null,null,null,null,null,null,null,null,null,null,null,null,"100510..CPCMLD","Indian Creek Materials, Doniphan","",0,null,null,null,{"$error":"#N/A"}]
[null,null,null,null,null,"100510..CPCMLD","Capital Materials, Tightwad (APAC)","3020600114",927,"Burlington 1,2,3","927_1,2,3",2872,{"$error":"#N/A"},{"$error":"#N/A"},null,null,null,null,null,null,null,null,null,null,null,null,null,null,null,null,null,null,null,null,null,null,"100510..CPCMLD","Indian Creek Materials, Houston","",0,null,null,null,{"$error":"#N/A"}]
[null,null,null,null,null,"100510..CPCMLD","Capital Quarries #10, Quinn Pit (Beck)","3170701015",1979,"Burlington-Cedar Valley 2-4","1979_2-4",5600,{"$error":"#N/A"},{"$error":"#N/A"},null,null,null,null,null,null,null,null,null,null,null,null,null,null,null,null,null,null,null,null,null,null,"100510..CPCMLD","Indian Creek Materials, Hunter (Hunter Stone)","",0,null,null,null,{"$error":"#N/A"}]
[null,null,null,null,null,"100510..CPCMLD","Capital Quarries #10, Quinn Pit (Beck)","3170701015",1979,"Plattin-Cotter 5-6","1979_5-6",5603,{"$error":"#N/A"},{"$error":"#N/A"},null,null,null,null,null,null,null,null,null,null,null,null,null,null,null,null,null,null,null,null,null,null,"100510..CPCMLD","Indian Creek Materials, Moody-AM (Gabel Stone)","",0,null,null,null,{"$error":"#N/A"}]
[null,null,null,null,null,"100510..CPCMLD","Capital Quarries #17, Sullivan","3170701719",1801,"Potosi 1-2","1801_1-2",5312,{"$error":"#N/A"},{"$error":"#N/A"},null,null,null,null,null,null,null,null,null,null,null,null,null,null,null,null,null,null,null,null,null,null,"100510..CPCMLD","Indian Creek Materials/Couch","",0,null,null,null,{"$error":"#N/A"}]
[null,null,null,null,null,"100510..CPCMLD","Capital Quarries #17, Sullivan","3170701719",1801,"Potosi 2","1801_2",5310,{"$error":"#N/A"},{"$error":"#N/A"},null,null,null,null,null,null,null,null,null,null,null,null,null,null,null,null,null,null,null,null,null,null,"100510..CPCMLD","Joplin Stone","",0,null,null,null,{"$error":"#N/A"}]
[null,null,null,null,null,"100510..CPCMLD","Capital Quarries #19, Jerome","3170701919",2173,"Gasconade 1","2173_1",5808,{"$error":"#N/A"},{"$error":"#N/A"},null,null,null,null,null,null,null,null,null,null,null,null,null,null,null,null,null,null,null,null,null,null,"100510..CPCMLD","Kienstra Materials","",0,null,null,null,{"$error":"#N/A"}]
[null,null,null,null,null,"100510..CPCMLD","Capital Quarries #5, California","3170701615",1436,"Burlington-Chouteau 3-7","1436_3-7",4506,{"$error":"#N/A"},{"$error":"#N/A"},null,null,null,null,null,null,null,null,null,null,null,null,null,null,null,null,null,null,null,null,null,null,"100510..CPCMLD","Kirksville Ready Mix","",0,null,null,null,{"$error":"#N/A"}]
[null,null,null,null,null,"100510..CPCMLD","Capital Quarries #7, Salem","3170700819",1616,"Gasconade 1-5","1616_1-5",4771,{"$error":"#N/A"},{"$error":"#N/A"},null,null,null,null,null,null,null,null,null,null,null,null,null,null,null,null,null,null,null,null,null,null,"100510..CPCMLD","Magruder Limestone #1, Troy","",0,null,null,null,{"$error":"#N/A"}]
[null,null,null,null,null,"100510..CPCMLD","Capital Quarries, Arcadia","3049700119",94,"Bonne Terre (1-5)","94_(1-5)",296,{"$error":"#N/A"},{"$error":"#N/A"},null,null,null,null,null,null,null,null,null,null,null,null,null,null,null,null,null,null,null,null,null,null,"100510..CPCMLD","Magruder Limestone Co, (Shawnee Bend Quarry)","",0,null,null,null,{"$error":"#N/A"}]
[null,null,null,null,null,"100510..CPCMLD","Capital Quarries, Danville (Pace Construction)","3035901313",533,"Plattin 1-3","533_1-3",1397,{"$error":"#N/A"},{"$error":"#N/A"},null,null,null,null,null,null,null,null,null,null,null,null,null,null,null,null,null,null,null,null,null,null,"100510..CPCMLD","Magruder Limestone, Ashley","",0,null,null,null,{"$error":"#N/A"}]
[null,null,null,null,null,"100510..CPCMLD","Capital Quarries, Thayer (King Quarry)","3025300119",679,"Cotter - Jefferson City 1-2-3","679_1-2-3",1719,{"$error":"#N/A"},{"$error":"#N/A"},null,null,null,null,null,null,null,null,null,null,null,null,null,null,null,null,null,null,null,null,null,null,"100510..CPCMLD","Magruder Limestone, Foley","",0,null,null,null,{"$error":"#N/A"}]
[null,null,null,null,null,"100510..CPCMLD","Capital Quarries, Thayer (King Quarry)","3025300119",679,"Jefferson City 3-5-6","679_3-5-6",1720,{"$error":"#N/A"},{"$error":"#N/A"},null,null,null,null,null,null,null,null,null,null,null,null,null,null,null,null,null,null,null,null,null,null,"100510..CPCMLD","Magruder Limestone, Osage Hills","",0,null,null,null,{"$error":"#N/A"}]
[null,null,null,null,null,"100510..CPCMLD","Capital Quarries, Thayer (King Quarry)","3025300119",679,"Jefferson City 5-6","679_5-6",1718,{"$error":"#N/A"},{"$error":"#N/A"},null,null,null,null,null,null,null,null,null,null,null,null,null,null,null,null,null,null,null,null,null,null,"100510..CPCMLD","Magruder Limestone, Silex","",0,null,null,null,{"$error":"#N/A"}]
[null,null,null,null,null,"100510..CPCMLD","Carroll County Stone (Bailey)","3002200517",3187,"Cotter 2E","3187_2E",7761,{"$error":"#N/A"},{"$error":"#N/A"},null,null,null,null,null,null,null,null,null,null,null,null,null,null,null,null,null,null,null,null,null,null,"100510..CPCMLD","Martin Marietta, Ferrelview (Stamper)","",0,null,null,null,{"$error":"#N/A"}]
[null,null,null,null,null,"100510..CPCMLD","Carthage Crushed Limestone","3007000117",955,"Warsaw 3","955_3",3124,{"$f":"IF(AND($F$17=H369,$AK$44=F369),J369,\"\")","v":{"$error":"#N/A"}},{"$f":"IF(AND($F$17=H369,$AK$44=F369),L369,\"\")","v":{"$error":"#N/A"}},null,null,null,null,null,null,null,null,null,null,null,null,null,null,null,null,null,null,null,null,null,null,"100510..CPCMLD","Martin Marietta, Randolph",{"$f":"IF(AK369=$AK$44,AL369,\"\")","v":""},0,null,null,null,{"$error":"#N/A"}]
[null,null,null,null,null,"100510..CPCMLD","Central Stone #1, Hannibal (Huntington)","3007900113",948,"Cedar Valley 13-11","948_13-11",3038,{"$error":"#N/A"},{"$error":"#N/A"},null,null,null,null,null,null,null,null,null,null,null,null,null,null,null,null,null,null,null,null,null,null,"100510..CPCMLD","Mertens, Femme Osage","",0,null,null,null,{"$error":"#N/A"}]
[null,null,null,null,null,"100510..CPCMLD","Central Stone #1, Hannibal (Huntington)","3007900113",948,"Kimmswick 10-1","948_10-1",3041,{"$error":"#N/A"},{"$error":"#N/A"},null,null,null,null,null,null,null,null,null,null,null,null,null,null,null,null,null,null,null,null,null,null,"100510..CPCMLD","Mid Missouri Limestone (Auxvasse - South Gate)","",0,null,null,null,{"$error":"#N/A"}]
[null,null,null,null,null,"100510..CPCMLD","Central Stone #1, Hannibal (Huntington)","3007900113",948,"Kimmswick 10-5","948_10-5",3057,{"$error":"#N/A"},{"$error":"#N/A"},null,null,null,null,null,null,null,null,null,null,null,null,null,null,null,null,null,null,null,null,null,null,"100510..CPCMLD","Mid Missouri Limestone (Reform)","",0,null,null,null,{"$error":"#N/A"}]
[null,null,null,null,null,"100510..CPCMLD","Central Stone #54 (Bellefontaine)  Farmington","3044000110",1463,"Derby-Doe Run 5","1463_5",4522,{"$error":"#N/A"},{"$error":"#N/A"},null,null,null,null,null,null,null,null,null,null,null,null,null,null,null,null,null,null,null,null,null,null,"100510..CPCMLD","Mid-States Materials, LLC, Northview","",0,null,null,null,{"$error":"#N/A"}]
[null,null,null,null,null,"100510..CPCMLD","Central Stone #71, Jefferson Barracks Quarry","3005700116",1151,"Mississippi/St. Louis SAND/5-15","1151_SAND/5-15",3689,{"$error":"#N/A"},{"$error":"#N/A"},null,null,null,null,null,null,null,null,null,null,null,null,null,null,null,null,null,null,null,null,null,null,"100510..CPCMLD","Mill Creek Quarry (Kemp Quarries)","",0,null,null,null,{"$error":"#N/A"}]
[null,null,null,null,null,"100510..CPCMLD","Central Stone #71, Jefferson Barracks Quarry","3005700116",1151,"St. Louis-Salem 16-21","1151_16-21",3682,{"$error":"#N/A"},{"$error":"#N/A"},null,null,null,null,null,null,null,null,null,null,null,null,null,null,null,null,null,null,null,null,null,null,"100510..CPCMLD","Mulberry Limestone, Jasper (Nelson Stone Quarry)",{"$f":"IF(AK375=$AK$44,AL375,\"\")","v":""},0,null,null,null,{"$error":"#N/A"}]
[null,null,null,null,null,"100510..CPCMLD","Central Stone #74, Trautman Quarry","3005700416",1155,"Plattin 1-2","1155_1-2",3790,{"$error":"#N/A"},{"$error":"#N/A"},null,null,null,null,null,null,null,null,null,null,null,null,null,null,null,null,null,null,null,null,null,null,"100510..CPCMLD","Mulberry Limestone, Pittsburg, KS","",0,null,null,null,{"$error":"#N/A"}]
[null,null,null,null,null,"100510..CPCMLD","Central Stone #74, Trautman Quarry","3005700416",1155,"Plattin 15-10","1155_15-10",3777,{"$error":"#N/A"},{"$error":"#N/A"},null,null,null,null,null,null,null,null,null,null,null,null,null,null,null,null,null,null,null,null,null,null,"100510..CPCMLD","New Frontier, Alton Weber #8","",0,null,null,null,{"$error":"#N/A"}]
[null,null,null,null,null,"100510..CPCMLD","Central Stone, Potosi (GP Materials)","3505200115",4864,"Eminence 3","4864_3",7240,{"$error":"#N/A"},{"$error":"#N/A"},null,null,null,null,null,null,null,null,null,null,null,null,null,null,null,null,null,null,null,null,null,null,"100510..CPCMLD","New Frontier, Barnhart Quarry","",0,null,null,null,{"$error":"#N/A"}]
[null,null,null,null,null,"100510..CPCMLD","Colt Rock and Lime, Patterson (Scaggs)","3169900210",3493,"Potosi 20","3493_20",6758,{"$error":"#N/A"},{"$error":"#N/A"},null,null,null,null,null,null,null,null,null,null,null,null,null,null,null,null,null,null,null,null,null,null,"100510..CPCMLD","New Frontier, Bedrock Quarry","",0,null,null,null,{"$error":"#N/A"}]
[null,null,null,null,null,"100510..CPCMLD","Colt Rock and Lime, Scott City","3501800110",4800,"Plattin 26-24","4800_26-24",7191,{"$error":"#N/A"},{"$error":"#N/A"},null,null,null,null,null,null,null,null,null,null,null,null,null,null,null,null,null,null,null,null,null,null,"100510..CPCMLD","New Frontier, Festus Quarry","",0,null,null,null,{"$error":"#N/A"}]
[null,null,null,null,null,"100510..CPCMLD","Conco #0478, Montevallo (Ash Grove)","3002900817",1366,"Warsaw 1-5","1366_1-5",4312,{"$error":"#N/A"},{"$error":"#N/A"},null,null,null,null,null,null,null,null,null,null,null,null,null,null,null,null,null,null,null,null,null,null,"100510..CPCMLD","New Frontier, North Quarry #6","",0,null,null,null,{"$error":"#N/A"}]
[null,null,null,null,null,"100510..CPCMLD","Conco #0496, Marshfield (Ash Grove)","3002909618",1070,"Jefferson City - Cotter 1-3","1070_1-3",3429,{"$error":"#N/A"},{"$error":"#N/A"},null,null,null,null,null,null,null,null,null,null,null,null,null,null,null,null,null,null,null,null,null,null,"100510..CPCMLD","North Central Arkansas Quarries","",0,null,null,null,{"$error":"#N/A"}]
[null,null,null,null,null,"100510..CPCMLD","Crider Bros, Eminence","3011000119",1246,"Eminence 1-2","1246_1-2",3962,{"$error":"#N/A"},{"$error":"#N/A"},null,null,null,null,null,null,null,null,null,null,null,null,null,null,null,null,null,null,null,null,null,null,"100510..CPCMLD","Olean Quarry","",0,null,null,null,{"$error":"#N/A"}]
[null,null,null,null,null,"100510..CPCMLD","Duffield Aggregate, Potosi","3155500119",483,"Potosi 2","483_2",1331,{"$error":"#N/A"},{"$error":"#N/A"},null,null,null,null,null,null,null,null,null,null,null,null,null,null,null,null,null,null,null,null,null,null,"100510..CPCMLD","Pattison Sand Company, Clayton, IA","",0,null,null,null,{"$error":"#N/A"}]
[null,null,null,null,null,"100510..CPCMLD","Falling Springs Quarry (Stolle)","3007200216",1974,"St. Louis Limestone 4-10","1974_4-10",5537,{"$error":"#N/A"},{"$error":"#N/A"},null,null,null,null,null,null,null,null,null,null,null,null,null,null,null,null,null,null,null,null,null,null,"100510..CPCMLD","Penny's Concrete","",0,null,null,null,{"$error":"#N/A"}]
[null,null,null,null,null,"100510..CPCMLD","Fischer Bros Pit #2, Ste. Genevieve","3035100310",2357,"Salem 20","2357_20",6028,{"$error":"#N/A"},{"$error":"#N/A"},null,null,null,null,null,null,null,null,null,null,null,null,null,null,null,null,null,null,null,null,null,null,"100510..CPCMLD","Politte Ready Mix, LLC","",0,null,null,null,{"$error":"#N/A"}]
[null,null,null,null,null,"100510..CPCMLD","Fischer Bros Pit #2, Ste. Genevieve","3035100310",2357,"Salem 21-25","2357_21-25",6027,{"$error":"#N/A"},{"$error":"#N/A"},null,null,null,null,null,null,null,null,null,null,null,null,null,null,null,null,null,null,null,null,null,null,"100510..CPCMLD","Producer Supplier not designated.","",0,null,null,null,{"$error":"#N/A"}]
[null,null,null,null,null,"100510..CPCMLD","Fischer Concrete","3151700135",1019,"Fischer Concrete, Bethany (Bethany Ready Mix) Bethany","1019_Bethany",3283,{"$error":"#N/A"},{"$error":"#N/A"},null,null,null,null,null,null,null,null,null,null,null,null,null,null,null,null,null,null,null,null,null,null,"100510..CPCMLD","Select Materials Midwest - Perryville (Lafarge)","",0,null,null,null,{"$error":"#N/A"}]
[null,null,null,null,null,"100510..CPCMLD","Fordyce Concrete","3055410034",4708,"Fordyce Concrete, Central, KC Kansas KC Kansas","4708_KC Kansas",7046,{"$error":"#N/A"},{"$error":"#N/A"},null,null,null,null,null,null,null,null,null,null,null,null,null,null,null,null,null,null,null,null,null,null,"100510..CPCMLD","Shawnee Stone - Buncombe, IL","",0,null,null,null,{"$error":"#N/A"}]
[null,null,null,null,null,"100510..CPCMLD","Fordyce Concrete","3055410034",4708,"Fordyce Concrete, East 63rd KC East 63rd KC","4708_East 63rd KC",7047,{"$error":"#N/A"},{"$error":"#N/A"},null,null,null,null,null,null,null,null,null,null,null,null,null,null,null,null,null,null,null,null,null,null,"100510..CPCMLD","Shawnee Stone - Jonesboro, IL","",0,null,null,null,{"$error":"#N/A"}]
[null,null,null,null,null,"100510..CPCMLD","Gray Quarry, Hamilton,IL","3018600113",1009,"McCraney 12","1009_12",3248,{"$error":"#N/A"},{"$error":"#N/A"},null,null,null,null,null,null,null,null,null,null,null,null,null,null,null,null,null,null,null,null,null,null,"100510..CPCMLD","Summit Materials, Marshall (Boone Quarries)","",0,null,null,null,{"$error":"#N/A"}]
[null,null,null,null,null,"100510..CPCMLD","Grays Point Stone & Materials, Scott City","3046500310",362,"Kimmswick 64E","362_64E",7803,{"$error":"#N/A"},{"$error":"#N/A"},null,null,null,null,null,null,null,null,null,null,null,null,null,null,null,null,null,null,null,null,null,null,"100510..CPCMLD","Table Rock - Kenny Nikins Quarry","",0,null,null,null,{"$error":"#N/A"}]
[null,null,null,null,null,"100510..CPCMLD","HCH Quarry","3541100119",5357,"Jefferson City 15","5357_15",7711,{"$error":"#N/A"},{"$error":"#N/A"},null,null,null,null,null,null,null,null,null,null,null,null,null,null,null,null,null,null,null,null,null,null,"100510..CPCMLD","Table Rock, Branson Stone Northeast Extension","",0,null,null,null,{"$error":"#N/A"}]
[null,null,null,null,null,"100510..CPCMLD","Havin Material Services","3019610036",4712,"Havin Material Services, Sullivan Sullivan","4712_Sullivan",7058,{"$error":"#N/A"},{"$error":"#N/A"},null,null,null,null,null,null,null,null,null,null,null,null,null,null,null,null,null,null,null,null,null,null,"100510..CPCMLD","Table Rock, Kimberling City Qy","",0,null,null,null,{"$error":"#N/A"}]
[null,null,null,null,null,"100510..CPCMLD","Heartland Materials, LLC","3453100150",4779,"Decorah-Plattin 29-26","4779_29-26",7176,{"$error":"#N/A"},{"$error":"#N/A"},null,null,null,null,null,null,null,null,null,null,null,null,null,null,null,null,null,null,null,null,null,null,"100510..CPCMLD","Viking Aggregates, Kahoka Quarry","",0,null,null,null,{"$error":"#N/A"}]
[null,null,null,null,null,"100510..CPCMLD","Heartland Materials, LLC","3453100150",4779,"Kimmswick 30","4779_30",7168,{"$error":"#N/A"},{"$error":"#N/A"},null,null,null,null,null,null,null,null,null,null,null,null,null,null,null,null,null,null,null,null,null,null,"100510..CPCMLD","West County Quarry LLC","",0,null,null,null,{"$error":"#N/A"}]
[null,null,null,null,null,"100510..CPCMLD","Heartland Materials, LLC","3453100150",4779,"Plattin 24","4779_24",7962,{"$error":"#N/A"},{"$error":"#N/A"},null,null,null,null,null,null,null,null,null,null,null,null,null,null,null,null,null,null,null,null,null,null,"100510..CPCMLD","Westside Stone (Springfield Underground, Airport)","",0,null,null,null,{"$error":"#N/A"}]
[null,null,null,null,null,"100510..CPCMLD","Heartland Materials, LLC","3453100150",4779,"Plattin 27","4779_27",7169,{"$error":"#N/A"},{"$error":"#N/A"},null,null,null,null,null,null,null,null,null,null,null,null,null,null,null,null,null,null,null,null,null,null,"100510..CPCMLD","Willard Constr, Sleeper","",0,null,null,null,{"$error":"#N/A"}]
[null,null,null,null,null,"100510..CPCMLD","Higgins Materials, LLC - Otterville","3518900115",4922,"Cedar Valley 2","4922_2",7252,{"$error":"#N/A"},{"$error":"#N/A"},null,null,null,null,null,null,null,null,null,null,null,null,null,null,null,null,null,null,null,null,null,null,"100510..CPCMLD","Willard Constr, St. Robert","",0,null,null,null,{"$error":"#N/A"}]
[null,null,null,null,null,"100510..CPCMLD","Higgins Quarry, LLC (Muenks Bros)","3060800115",444,"Jefferson City 3-4-5","444_3-4-5",1277,{"$error":"#N/A"},{"$error":"#N/A"},null,null,null,null,null,null,null,null,null,null,null,null,null,null,null,null,null,null,null,null,null,null,"100510..CPCMLD","Williamsville Stone #1","",0,null,null,null,{"$error":"#N/A"}]
[null,null,null,null,null,"100510..CPCMLD","Holliday Sand and Stone, Dever (Ash Grove)","3002948617",3010,"Warsaw 1","3010_1",6488,{"$error":"#N/A"},{"$error":"#N/A"},null,null,null,null,null,null,null,null,null,null,null,null,null,null,null,null,null,null,null,null,null,null,"100510..CPCMLD","Wright City Quarry - BMC Stone, LLC","",0,null,null,null,{"$error":"#N/A"}]
[null,null,null,null,null,"100510..CPCMLD","Holliday Sand and Stone, Dever (Ash Grove)","3002948617",3010,"Warsaw 1-3","3010_1-3",7956,{"$error":"#N/A"},{"$error":"#N/A"},null,null,null,null,null,null,null,null,null,null,null,null,null,null,null,null,null,null,null,null,null,null,"100510..CPPY","Central Stone, Butler Hill Quarry","",0,null,null,null,{"$error":"#N/A"}]
[null,null,null,null,null,"100510..CPCMLD","Holliday Sand and Stone, Dever (Ash Grove)","3002948617",3010,"Warsaw 3","3010_3",6489,{"$error":"#N/A"},{"$error":"#N/A"},null,null,null,null,null,null,null,null,null,null,null,null,null,null,null,null,null,null,null,null,null,null,"100510..CPPY","New Frontier, Iron Mountain Quarry, Concrete","",0,null,null,null,{"$error":"#N/A"}]
[null,null,null,null,null,"100510..CPCMLD","Holliday Sand and Stone, Wheatland (Ash Grove)","3002909218",1087,"Burlington 2-3","1087_2-3",3459,{"$error":"#N/A"},{"$error":"#N/A"},null,null,null,null,null,null,null,null,null,null,null,null,null,null,null,null,null,null,null,null,null,null,"100510..CPPY","New Frontier, Iron Mountain Quarry-Porphyry","",0,null,null,null,{"$error":"#N/A"}]
[null,null,null,null,null,"100510..CPCMLD","Holliday Sand and Stone, Wheatland (Ash Grove)","3002909218",1087,"Burlington 2-6","1087_2-6",3460,{"$error":"#N/A"},{"$error":"#N/A"},null,null,null,null,null,null,null,null,null,null,null,null,null,null,null,null,null,null,null,null,null,null,"100510..CPPY","Trap Rock and Granite Quarries, LLC","",0,null,null,null,{"$error":"#N/A"}]
[null,null,null,null,null,"100510..CPCMLD","ILC Resources, Jasper","3437300117",3765,"Warsaw 1","3765_1",6856,{"$error":"#N/A"},{"$error":"#N/A"},null,null,null,null,null,null,null,null,null,null,null,null,null,null,null,null,null,null,null,null,null,null,"100510..OPTLD1","Base Rock Minerals, Fruitland",{"$f":"IF(AK406=$AK$44,AL406,\"\")","v":""},0,null,null,null,{"$error":"#N/A"}]
[null,null,null,null,null,"100510..CPCMLD","Indian Creek Materials, Doniphan","3532300119",5174,"Roubidoux 20","5174_20",7715,{"$error":"#N/A"},{"$error":"#N/A"},null,null,null,null,null,null,null,null,null,null,null,null,null,null,null,null,null,null,null,null,null,null,"100510..OPTLD1","Bluewing Materials, Poplar Bluff Stone","",0,null,null,null,{"$error":"#N/A"}]
[null,null,null,null,null,"100510..CPCMLD","Indian Creek Materials, Houston","3012900419",1216,"Jefferson City 2-3","1216_2-3",3899,{"$error":"#N/A"},{"$error":"#N/A"},null,null,null,null,null,null,null,null,null,null,null,null,null,null,null,null,null,null,null,null,null,null,"100510..OPTLD1","Cantera Aggregates #1, Plano Qy, Plano, IA","",0,null,null,null,{"$error":"#N/A"}]
[null,null,null,null,null,"100510..CPCMLD","Indian Creek Materials, Hunter (Hunter Stone)","3141300119",3428,"Gasconade 1-6","3428_1-6",6739,{"$error":"#N/A"},{"$error":"#N/A"},null,null,null,null,null,null,null,null,null,null,null,null,null,null,null,null,null,null,null,null,null,null,"100510..OPTLD1","Capital Materials, Sedalia (Snow Rd-Dresden)",{"$f":"IF(AK409=$AK$44,AL409,\"\")","v":""},0,null,null,null,{"$error":"#N/A"}]
[null,null,null,null,null,"100510..CPCMLD","Indian Creek Materials, Moody-AM (Gabel Stone)","3036500519",525,"Jefferson City 3-5","525_3-5",1383,{"$error":"#N/A"},{"$error":"#N/A"},null,null,null,null,null,null,null,null,null,null,null,null,null,null,null,null,null,null,null,null,null,null,"100510..OPTLD1","Capital Quarries, Danville (Pace Construction)",{"$f":"IF(AK410=$AK$44,AL410,\"\")","v":""},0,null,null,null,{"$error":"#N/A"}]
[null,null,null,null,null,"100510..CPCMLD","Indian Creek Materials/Couch","3012905219",1228,"Jefferson City 1","1228_1",3937,{"$error":"#N/A"},{"$error":"#N/A"},null,null,null,null,null,null,null,null,null,null,null,null,null,null,null,null,null,null,null,null,null,null,"100510..OPTLD1","Central Stone #1, Hannibal (Huntington)","",0,null,null,null,{"$error":"#N/A"}]
[null,null,null,null,null,"100510..CPCMLD","Joplin Stone","3023600117",730,"Warsaw 1-3","730_1-3",1936,{"$error":"#N/A"},{"$error":"#N/A"},null,null,null,null,null,null,null,null,null,null,null,null,null,null,null,null,null,null,null,null,null,null,"100510..OPTLD1","Central Stone #56 (Bellefontaine South)","",0,null,null,null,{"$error":"#N/A"}]
[null,null,null,null,null,"100510..CPCMLD","Joplin Stone","3023600117",730,"Warsaw - NW Pit 1NW","730_1NW",7868,{"$error":"#N/A"},{"$error":"#N/A"},null,null,null,null,null,null,null,null,null,null,null,null,null,null,null,null,null,null,null,null,null,null,"100510..OPTLD1","Central Stone #71, Jefferson Barracks Quarry","",0,null,null,null,{"$error":"#N/A"}]
[null,null,null,null,null,"100510..CPCMLD","Kirksville Ready Mix","3025500132",1658,"Kirksville Ready Mix, Kirksville Kirksville","1658_Kirksville",5022,{"$error":"#N/A"},{"$error":"#N/A"},null,null,null,null,null,null,null,null,null,null,null,null,null,null,null,null,null,null,null,null,null,null,"100510..OPTLD1","Central Stone #72, Antire Quarry","",0,null,null,null,{"$error":"#N/A"}]
[null,null,null,null,null,"100510..CPCMLD","Magruder Limestone #1, Troy","3029700113",842,"Chouteau 1C-8C","842_1C-8C",2537,{"$error":"#N/A"},{"$error":"#N/A"},null,null,null,null,null,null,null,null,null,null,null,null,null,null,null,null,null,null,null,null,null,null,"100510..OPTLD1","Fischer Quarry & Hauling, Burfordville (T&M Stone)","",0,null,null,null,{"$error":"#N/A"}]
[null,null,null,null,null,"100510..CPCMLD","Magruder Limestone Co, (Shawnee Bend Quarry)","3234600115",2639,"Gasconade 1","2639_1",6257,{"$error":"#N/A"},{"$error":"#N/A"},null,null,null,null,null,null,null,null,null,null,null,null,null,null,null,null,null,null,null,null,null,null,"100510..OPTLD1","Grays Point Stone & Materials, Scott City","",0,null,null,null,{"$error":"#N/A"}]
[null,null,null,null,null,"100510..CPCMLD","Magruder Limestone, Ashley","3029700313",838,"Burlington 1-3","838_1-3",2477,{"$error":"#N/A"},{"$error":"#N/A"},null,null,null,null,null,null,null,null,null,null,null,null,null,null,null,null,null,null,null,null,null,null,"100510..OPTLD1","Heartland Materials, LLC","",0,null,null,null,{"$error":"#N/A"}]
[null,null,null,null,null,"100510..CPCMLD","Magruder Limestone, Ashley","3029700313",838,"Burlington A-C","838_A-C",2476,{"$error":"#N/A"},{"$error":"#N/A"},null,null,null,null,null,null,null,null,null,null,null,null,null,null,null,null,null,null,null,null,null,null,"100510..OPTLD1","Magruder Limestone #1, Troy","",0,null,null,null,{"$error":"#N/A"}]
[null,null,null,null,null,"100510..CPCMLD","Magruder Limestone, Ashley","3029700313",838,"Chouteau 7-14","838_7-14",2470,{"$error":"#N/A"},{"$error":"#N/A"},null,null,null,null,null,null,null,null,null,null,null,null,null,null,null,null,null,null,null,null,null,null,"100510..OPTLD1","Martin Marietta, Randolph","",0,null,null,null,{"$error":"#N/A"}]
[null,null,null,null,null,"100510..CPCMLD","Magruder Limestone, Foley","3139700113",1382,"Plattin 2-4","1382_2-4",4373,{"$error":"#N/A"},{"$error":"#N/A"},null,null,null,null,null,null,null,null,null,null,null,null,null,null,null,null,null,null,null,null,null,null,"100510..OPTLD1","Mid Missouri Limestone (Auxvasse - South Gate)","",0,null,null,null,{"$error":"#N/A"}]
[null,null,null,null,null,"100510..CPCMLD","Magruder Limestone, Foley","3139700113",1382,"Plattin 5-7","1382_5-7",4367,{"$error":"#N/A"},{"$error":"#N/A"},null,null,null,null,null,null,null,null,null,null,null,null,null,null,null,null,null,null,null,null,null,null,"100510..OPTLD1","Penny's Concrete","",0,null,null,null,{"$error":"#N/A"}]
[null,null,null,null,null,"100510..CPCMLD","Magruder Limestone, Osage Hills","3029701415",5298,"Gasconade 1","5298_1",7555,{"$error":"#N/A"},{"$error":"#N/A"},null,null,null,null,null,null,null,null,null,null,null,null,null,null,null,null,null,null,null,null,null,null,"100510..OPTLD1","Producer Supplier not designated.","",0,null,null,null,{"$error":"#N/A"}]
[null,null,null,null,null,"100510..CPCMLD","Magruder Limestone, Silex","3029700613",841,"Plattin 22","841_22",2531,{"$error":"#N/A"},{"$error":"#N/A"},null,null,null,null,null,null,null,null,null,null,null,null,null,null,null,null,null,null,null,null,null,null,"100510..OPTLD1","Shawnee Stone - Jonesboro, IL","",0,null,null,null,{"$error":"#N/A"}]
[null,null,null,null,null,"100510..CPCMLD","Magruder Limestone, Silex","3029700613",841,"Plattin 25-23","841_25-23",2528,{"$error":"#N/A"},{"$error":"#N/A"},null,null,null,null,null,null,null,null,null,null,null,null,null,null,null,null,null,null,null,null,null,null,"100510..OPTLD1","Summit Materials, Marshall (Boone Quarries)","",0,null,null,null,{"$error":"#N/A"}]
[null,null,null,null,null,"100510..CPCMLD","Martin Marietta, Randolph","3021300114",900,"Cedar Valley 1CV","900_1CV",2774,{"$error":"#N/A"},{"$error":"#N/A"},null,null,null,null,null,null,null,null,null,null,null,null,null,null,null,null,null,null,null,null,null,null,"100510..OPTLD1","West County Quarry LLC","",0,null,null,null,{"$error":"#N/A"}]
[null,null,null,null,null,"100510..CPCMLD","Martin Marietta, Randolph","3021300114",900,"Cedar Valley 2CV-4CV","900_2CV-4CV",7942,{"$error":"#N/A"},{"$error":"#N/A"},null,null,null,null,null,null,null,null,null,null,null,null,null,null,null,null,null,null,null,null,null,null,"100510..OPTQU","L. G. Everist, Inc., Sioux Falls, SD (#2)","",0,null,null,null,{"$error":"#N/A"}]
[null,null,null,null,null,"100510..CPCMLD","Mertens, Femme Osage","3061600116",2374,"Plattin 1A","2374_1A",6062,{"$error":"#N/A"},{"$error":"#N/A"},null,null,null,null,null,null,null,null,null,null,null,null,null,null,null,null,null,null,null,null,null,null,"100515..OPTLD1","Capital Quarries #10, Quinn Pit (Beck)","",0,null,null,null,{"$error":"#N/A"}]
[null,null,null,null,null,"100510..CPCMLD","Mertens, Femme Osage","3061600116",2374,"Plattin 1A-1C","2374_1A-1C",7855,{"$error":"#N/A"},{"$error":"#N/A"},null,null,null,null,null,null,null,null,null,null,null,null,null,null,null,null,null,null,null,null,null,null,"100515..OPTLD1","Central Stone #1, Hannibal (Huntington)","",0,null,null,null,{"$error":"#N/A"}]
[null,null,null,null,null,"100510..CPCMLD","Mertens, Femme Osage","3061600116",2374,"Plattin 1B","2374_1B",6063,{"$error":"#N/A"},{"$error":"#N/A"},null,null,null,null,null,null,null,null,null,null,null,null,null,null,null,null,null,null,null,null,null,null,"100515..OPTLD1","Martin Marietta, Randolph","",0,null,null,null,{"$error":"#N/A"}]
[null,null,null,null,null,"100510..CPCMLD","Mertens, Femme Osage","3061600116",2374,"Plattin 1C","2374_1C",6064,{"$error":"#N/A"},{"$error":"#N/A"},null,null,null,null,null,null,null,null,null,null,null,null,null,null,null,null,null,null,null,null,null,null,"100515..OPTLD1","Producer Supplier not designated.","",0,null,null,null,{"$error":"#N/A"}]
[null,null,null,null,null,"100510..CPCMLD","Mid Missouri Limestone (Auxvasse - South Gate)","3001900115",1351,"Cedar Valley 6-7-8-9","1351_6-7-8-9",7393,{"$error":"#N/A"},{"$error":"#N/A"},null,null,null,null,null,null,null,null,null,null,null,null,null,null,null,null,null,null,null,null,null,null,"1005CM..GT10","Central Stone, Butler Hill Quarry","",0,null,null,null,{"$error":"#N/A"}]
[null,null,null,null,null,"100510..CPCMLD","Mid Missouri Limestone (Auxvasse - South Gate)","3001900115",1351,"Cedar Valley 6-8","1351_6-8",4245,{"$error":"#N/A"},{"$error":"#N/A"},null,null,null,null,null,null,null,null,null,null,null,null,null,null,null,null,null,null,null,null,null,null,"1005CM..GT10","Granite Mountain Quarry","",0,null,null,null,{"$error":"#N/A"}]
[null,null,null,null,null,"100510..CPCMLD","Mid Missouri Limestone (Auxvasse - South Gate)","3001900115",1351,"Cedar Valley 8-9","1351_8-9",7444,{"$f":"IF(AND($F$17=H433,$AK$44=F433),J433,\"\")","v":{"$error":"#N/A"}},{"$f":"IF(AND($F$17=H433,$AK$44=F433),L433,\"\")","v":{"$error":"#N/A"}},null,null,null,null,null,null,null,null,null,null,null,null,null,null,null,null,null,null,null,null,null,null,"1005CM..GT10","Martin Marietta (Mill Creek Quarry), OK","",0,null,null,null,{"$error":"#N/A"}]
[null,null,null,null,null,"100510..CPCMLD","Mid Missouri Limestone (Auxvasse - South Gate)","3001900115",1351,"Plattin 10-11","1351_10-11",4247,{"$error":"#N/A"},{"$error":"#N/A"},null,null,null,null,null,null,null,null,null,null,null,null,null,null,null,null,null,null,null,null,null,null,"1005CM..GV04","BMC Sand, Eureka","",0,null,null,null,{"$error":"#N/A"}]
[null,null,null,null,null,"100510..CPCMLD","Mid Missouri Limestone (Reform)","3031700115",402,"Cedar Valley 1","402_1",1211,{"$error":"#N/A"},{"$error":"#N/A"},null,null,null,null,null,null,null,null,null,null,null,null,null,null,null,null,null,null,null,null,null,null,"1005CM..GV04","Buckhart Sand & Gravel","",0,null,null,null,{"$error":"#N/A"}]
[null,null,null,null,null,"100510..CPCMLD","Mid Missouri Limestone (Reform)","3031700115",402,"Cedar Valley 1 & 2","402_1 & 2",1215,{"$error":"#N/A"},{"$error":"#N/A"},null,null,null,null,null,null,null,null,null,null,null,null,null,null,null,null,null,null,null,null,null,null,"1005CM..GV04","Havin Materials, Meramec Aggr, St. Clair","",0,null,null,null,{"$error":"#N/A"}]
[null,null,null,null,null,"100510..CPCMLD","Mid-States Materials, LLC, Northview","3003900218",5077,"Jefferson City 1-3","5077_1-3",7317,{"$error":"#N/A"},{"$error":"#N/A"},null,null,null,null,null,null,null,null,null,null,null,null,null,null,null,null,null,null,null,null,null,null,"1005CM..GV04","Winter Brothers, Hagemann","",0,null,null,null,{"$error":"#N/A"}]
[null,null,null,null,null,"100510..CPCMLD","Mid-States Materials, LLC, Northview","3003900218",5077,"Jefferson City-Cotter 1-4","5077_1-4",7432,{"$error":"#N/A"},{"$error":"#N/A"},null,null,null,null,null,null,null,null,null,null,null,null,null,null,null,null,null,null,null,null,null,null,"1005CM..GV05","Buckhart Sand & Gravel","",0,null,null,null,{"$error":"#N/A"}]
[null,null,null,null,null,"100510..CPCMLD","Mid-States Materials, LLC, Northview","3003900218",5077,"Jefferson City-Cotter 4","5077_4",7431,{"$error":"#N/A"},{"$error":"#N/A"},null,null,null,null,null,null,null,null,null,null,null,null,null,null,null,null,null,null,null,null,null,null,"1005CM..GV05","Lawrence Gravel","",0,null,null,null,{"$error":"#N/A"}]
[null,null,null,null,null,"100510..CPCMLD","Mill Creek Quarry (Kemp Quarries)","3534100119",5196,"St. Joe Limestone 1","5196_1",7415,{"$error":"#N/A"},{"$error":"#N/A"},null,null,null,null,null,null,null,null,null,null,null,null,null,null,null,null,null,null,null,null,null,null,"1005CM..GV10","11 Point Sand and Gravel","",0,null,null,null,{"$error":"#N/A"}]
[null,null,null,null,null,"100510..CPCMLD","Mulberry Limestone, Jasper (Nelson Stone Quarry)","3218500117",2238,"Warsaw 1","2238_1",5881,{"$error":"#N/A"},{"$error":"#N/A"},null,null,null,null,null,null,null,null,null,null,null,null,null,null,null,null,null,null,null,null,null,null,"1005CM..GV10","Big Creek Sand & Gravel (Vaughn RM)","",0,null,null,null,{"$error":"#N/A"}]
[null,null,null,null,null,"100510..CPCMLD","Mulberry Limestone, Pittsburg, KS","3160600417",5404,"Black Jack Creek 1","5404_1",7750,{"$error":"#N/A"},{"$error":"#N/A"},null,null,null,null,null,null,null,null,null,null,null,null,null,null,null,null,null,null,null,null,null,null,"1005CM..GV10","Buckhart Sand & Gravel","",0,null,null,null,{"$error":"#N/A"}]
[null,null,null,null,null,"100510..CPCMLD","New Frontier, Alton Weber #8","3032400116",577,"St. Louis 1-7","577_1-7",1423,{"$error":"#N/A"},{"$error":"#N/A"},null,null,null,null,null,null,null,null,null,null,null,null,null,null,null,null,null,null,null,null,null,null,"1005CM..GV10","Carri Scharf Materials Co. (Heyworth Pit #2)","",0,null,null,null,{"$error":"#N/A"}]
[null,null,null,null,null,"100510..CPCMLD","New Frontier, Barnhart Quarry","3049900316",4732,"Kimmswick 1-5","4732_1-5",7138,{"$error":"#N/A"},{"$error":"#N/A"},null,null,null,null,null,null,null,null,null,null,null,null,null,null,null,null,null,null,null,null,null,null,"1005CM..GV10","Central Stone #61, LaGrange Sand & Gravel","",0,null,null,null,{"$error":"#N/A"}]
[null,null,null,null,null,"100510..CPCMLD","New Frontier, Bedrock Quarry","3016601813",108,"Burlington 15-20","108_15-20",7482,{"$error":"#N/A"},{"$error":"#N/A"},null,null,null,null,null,null,null,null,null,null,null,null,null,null,null,null,null,null,null,null,null,null,"1005CM..GV10","JR Sand and Gravel","",0,null,null,null,{"$error":"#N/A"}]
[null,null,null,null,null,"100510..CPCMLD","New Frontier, Bedrock Quarry","3016601813",108,"Burlington 9","108_9",332,{"$error":"#N/A"},{"$error":"#N/A"},null,null,null,null,null,null,null,null,null,null,null,null,null,null,null,null,null,null,null,null,null,null,"1005CM..GV10","Stewart-Morrison - Spring Creek Materials","",0,null,null,null,{"$error":"#N/A"}]
[null,null,null,null,null,"100510..CPCMLD","New Frontier, Bedrock Quarry","3016601813",108,"Burlington 9-12","108_9-12",7619,{"$error":"#N/A"},{"$error":"#N/A"},null,null,null,null,null,null,null,null,null,null,null,null,null,null,null,null,null,null,null,null,null,null,"1005CM..LD04","Capital Materials, Tightwad (APAC)","",0,null,null,null,{"$error":"#N/A"}]
[null,null,null,null,null,"100510..CPCMLD","New Frontier, Festus Quarry","3016600316",115,"Plattin P1-P12","115_P1-P12",380,{"$error":"#N/A"},{"$error":"#N/A"},null,null,null,null,null,null,null,null,null,null,null,null,null,null,null,null,null,null,null,null,null,null,"1005CM..LD04","New Frontier, Alton Weber #8","",0,null,null,null,{"$error":"#N/A"}]
[null,null,null,null,null,"100510..CPCMLD","New Frontier, North Quarry #6","3016600116",118,"St. Louis 2-9","118_2-9",480,{"$error":"#N/A"},{"$error":"#N/A"},null,null,null,null,null,null,null,null,null,null,null,null,null,null,null,null,null,null,null,null,null,null,"1005CM..LD05","Producer Supplier not designated.","",0,null,null,null,{"$error":"#N/A"}]
[null,null,null,null,null,"100510..CPCMLD","Olean Quarry","3550300115",5487,"Jefferson City 1-2","5487_1-2",7889,{"$error":"#N/A"},{"$error":"#N/A"},null,null,null,null,null,null,null,null,null,null,null,null,null,null,null,null,null,null,null,null,null,null,"1005CM..LD07","AA Quarry, LLC","",0,null,null,null,{"$error":"#N/A"}]
[null,null,null,null,null,"100510..CPCMLD","Pattison Sand Company, Clayton, IA","3918700115",5190,"Beecher 5","5190_5",7403,{"$error":"#N/A"},{"$error":"#N/A"},null,null,null,null,null,null,null,null,null,null,null,null,null,null,null,null,null,null,null,null,null,null,"1005CM..LD07","Beyers Crushed Rock Co.","",0,null,null,null,{"$error":"#N/A"}]
[null,null,null,null,null,"100510..CPCMLD","Pattison Sand Company, Clayton, IA","3918700115",5190,"Buckhorn 7","5190_7",7405,{"$error":"#N/A"},{"$error":"#N/A"},null,null,null,null,null,null,null,null,null,null,null,null,null,null,null,null,null,null,null,null,null,null,"1005CM..LD07","Hamm (APAC) Louisburg, KS","",0,null,null,null,{"$error":"#N/A"}]
[null,null,null,null,null,"100510..CPCMLD","Pattison Sand Company, Clayton, IA","3918700115",5190,"Eagle Point 4","5190_4",7402,{"$error":"#N/A"},{"$error":"#N/A"},null,null,null,null,null,null,null,null,null,null,null,null,null,null,null,null,null,null,null,null,null,null,"1005CM..LD07","Hamm (Lone Elm)","",0,null,null,null,{"$error":"#N/A"}]
[null,null,null,null,null,"100510..CPCMLD","Pattison Sand Company, Clayton, IA","3918700115",5190,"Fairplay 3","5190_3",7401,{"$error":"#N/A"},{"$error":"#N/A"},null,null,null,null,null,null,null,null,null,null,null,null,null,null,null,null,null,null,null,null,null,null,"1005CM..LD07","Herzog, Wathena Stone","",0,null,null,null,{"$error":"#N/A"}]
[null,null,null,null,null,"100510..CPCMLD","Pattison Sand Company, Clayton, IA","3918700115",5190,"Mortimer-Rivoli 2","5190_2",7400,{"$error":"#N/A"},{"$error":"#N/A"},null,null,null,null,null,null,null,null,null,null,null,null,null,null,null,null,null,null,null,null,null,null,"1005CM..LD07","Martin Marietta, Greenwood SW","",0,null,null,null,{"$error":"#N/A"}]
[null,null,null,null,null,"100510..CPCMLD","Pattison Sand Company, Clayton, IA","3918700115",5190,"Oneota 12","5190_12",7410,{"$error":"#N/A"},{"$error":"#N/A"},null,null,null,null,null,null,null,null,null,null,null,null,null,null,null,null,null,null,null,null,null,null,"1005CM..LD07","Norris Quarries, Bethany","",0,null,null,null,{"$error":"#N/A"}]
[null,null,null,null,null,"100510..CPCMLD","Pattison Sand Company, Clayton, IA","3918700115",5190,"Oneota 13","5190_13",7411,{"$error":"#N/A"},{"$error":"#N/A"},null,null,null,null,null,null,null,null,null,null,null,null,null,null,null,null,null,null,null,null,null,null,"1005CM..LD07","Norris Quarries, Breit Quarry, Savannah","",0,null,null,null,{"$error":"#N/A"}]
[null,null,null,null,null,"100510..CPCMLD","Pattison Sand Company, Clayton, IA","3918700115",5190,"Shakopee 10","5190_10",7408,{"$error":"#N/A"},{"$error":"#N/A"},null,null,null,null,null,null,null,null,null,null,null,null,null,null,null,null,null,null,null,null,null,null,"1005CM..LD07","Norris Quarries, Knoxville (Ray County, #1 SW Pit)","",0,null,null,null,{"$error":"#N/A"}]
[null,null,null,null,null,"100510..CPCMLD","Pattison Sand Company, Clayton, IA","3918700115",5190,"Shakopee 8","5190_8",7406,{"$error":"#N/A"},{"$error":"#N/A"},null,null,null,null,null,null,null,null,null,null,null,null,null,null,null,null,null,null,null,null,null,null,"1005CM..LD07","Norris Quarries, Trenton","",0,null,null,null,{"$error":"#N/A"}]
[null,null,null,null,null,"100510..CPCMLD","Pattison Sand Company, Clayton, IA","3918700115",5190,"Shakopee 9","5190_9",7407,{"$error":"#N/A"},{"$error":"#N/A"},null,null,null,null,null,null,null,null,null,null,null,null,null,null,null,null,null,null,null,null,null,null,"1005CM..LD07","Producer Supplier not designated.","",0,null,null,null,{"$error":"#N/A"}]
[null,null,null,null,null,"100510..CPCMLD","Pattison Sand Company, Clayton, IA","3918700115",5190,"Sherwood 1","5190_1",7399,{"$error":"#N/A"},{"$error":"#N/A"},null,null,null,null,null,null,null,null,null,null,null,null,null,null,null,null,null,null,null,null,null,null,"1005CM..LD07","Ray County Stone, EE Quarry","",0,null,null,null,{"$error":"#N/A"}]
[null,null,null,null,null,"100510..CPCMLD","Pattison Sand Company, Clayton, IA","3918700115",5190,"St. James 6","5190_6",7404,{"$error":"#N/A"},{"$error":"#N/A"},null,null,null,null,null,null,null,null,null,null,null,null,null,null,null,null,null,null,null,null,null,null,"1005CM..LD07","Trager Limestone, Gallatin (SOUTH)","",0,null,null,null,{"$error":"#N/A"}]
[null,null,null,null,null,"100510..CPCMLD","Pattison Sand Company, Clayton, IA","3918700115",5190,"Transition Zone 11","5190_11",7409,{"$error":"#N/A"},{"$error":"#N/A"},null,null,null,null,null,null,null,null,null,null,null,null,null,null,null,null,null,null,null,null,null,null,"1005CM..LD10","AA Quarry, LLC","",0,null,null,null,{"$error":"#N/A"}]
[null,null,null,null,null,"100510..CPCMLD","Penny's Concrete","3055810037",4719,"Penny's, Carrolton (Green) Carrolton","4719_Carrolton",7091,{"$error":"#N/A"},{"$error":"#N/A"},null,null,null,null,null,null,null,null,null,null,null,null,null,null,null,null,null,null,null,null,null,null,"1005CM..LD10","APAC-Kansas Bates City Quarry","",0,null,null,null,{"$error":"#N/A"}]
[null,null,null,null,null,"100510..CPCMLD","Penny's Concrete","3055810037",4719,"Penny's, Chillicothe (Green) Chillicothe","4719_Chillicothe",7092,{"$error":"#N/A"},{"$error":"#N/A"},null,null,null,null,null,null,null,null,null,null,null,null,null,null,null,null,null,null,null,null,null,null,"1005CM..LD10","APAC-Kansas Harrisonville Quarry","",0,null,null,null,{"$error":"#N/A"}]
[null,null,null,null,null,"100510..CPCMLD","Penny's Concrete","3055810037",4719,"Penny's, Concordia (Green) Concordia","4719_Concordia",7093,{"$error":"#N/A"},{"$error":"#N/A"},null,null,null,null,null,null,null,null,null,null,null,null,null,null,null,null,null,null,null,null,null,null,"1005CM..LD10","Anchor Stone, Jane (Bailey)","",0,null,null,null,{"$error":"#N/A"}]
[null,null,null,null,null,"100510..CPCMLD","Penny's Concrete","3055810037",4719,"Penny's, Excelsior Springs (Green) ExcelsiorSpring","4719_ExcelsiorSpring",7094,{"$error":"#N/A"},{"$error":"#N/A"},null,null,null,null,null,null,null,null,null,null,null,null,null,null,null,null,null,null,null,null,null,null,"1005CM..LD10","Bailey (Roach) Quarry","",0,null,null,null,{"$error":"#N/A"}]
[null,null,null,null,null,"100510..CPCMLD","Penny's Concrete","3055810037",4719,"Penny's, Grain Valley Grain Valley","4719_Grain Valley",7100,{"$error":"#N/A"},{"$error":"#N/A"},null,null,null,null,null,null,null,null,null,null,null,null,null,null,null,null,null,null,null,null,null,null,"1005CM..LD10","Bailey Quarries #2, Dolomite","",0,null,null,null,{"$error":"#N/A"}]
[null,null,null,null,null,"100510..CPCMLD","Penny's Concrete","3055810037",4719,"Penny's, Higginsville (Green) Higginsville","4719_Higginsville",7096,{"$error":"#N/A"},{"$error":"#N/A"},null,null,null,null,null,null,null,null,null,null,null,null,null,null,null,null,null,null,null,null,null,null,"1005CM..LD10","Bailey Quarries #3, Stockton","",0,null,null,null,{"$error":"#N/A"}]
[null,null,null,null,null,"100510..CPCMLD","Penny's Concrete","3055810037",4719,"Penny's, Lansing KS Lansing","4719_Lansing",7097,{"$error":"#N/A"},{"$error":"#N/A"},null,null,null,null,null,null,null,null,null,null,null,null,null,null,null,null,null,null,null,null,null,null,"1005CM..LD10","Cantera Aggregates #2, Confidence Qy, Plano, IA","",0,null,null,null,{"$error":"#N/A"}]
[null,null,null,null,null,"100510..CPCMLD","Penny's Concrete","3055810037",4719,"Penny's, Martin City Martin City","4719_Martin City",7098,{"$error":"#N/A"},{"$error":"#N/A"},null,null,null,null,null,null,null,null,null,null,null,null,null,null,null,null,null,null,null,null,null,null,"1005CM..LD10","Cantera Aggregates #5, Walnut City Quarry IA","",0,null,null,null,{"$error":"#N/A"}]
[null,null,null,null,null,"100510..CPCMLD","Penny's Concrete","3055810037",4719,"Penny's, Parvin Rd Parvin","4719_Parvin",7099,{"$error":"#N/A"},{"$error":"#N/A"},null,null,null,null,null,null,null,null,null,null,null,null,null,null,null,null,null,null,null,null,null,null,"1005CM..LD10","Capital Materials, Fairplay (T & M Stone Quarry)","",0,null,null,null,{"$error":"#N/A"}]
[null,null,null,null,null,"100510..CPCMLD","Penny's Concrete","3055810037",4719,"Penny's, Richmond (Green) Richmond","4719_Richmond",7095,{"$error":"#N/A"},{"$error":"#N/A"},null,null,null,null,null,null,null,null,null,null,null,null,null,null,null,null,null,null,null,null,null,null,"1005CM..LD10","Capital Materials, Leeton (APAC)","",0,null,null,null,{"$error":"#N/A"}]
[null,null,null,null,null,"100510..CPCMLD","Politte Ready Mix, LLC","3037010030",4720,"Politte Ready Mix, Farmington #2 Farminton #2","4720_Farminton #2",7430,{"$error":"#N/A"},{"$error":"#N/A"},null,null,null,null,null,null,null,null,null,null,null,null,null,null,null,null,null,null,null,null,null,null,"1005CM..LD10","Capital Quarries #10, Quinn Pit (Beck)",{"$f":"IF(AK474=$AK$44,AL474,\"\")","v":""},0,null,null,null,{"$error":"#N/A"}]
[null,null,null,null,null,"100510..CPCMLD","Select Materials Midwest - Perryville (Lafarge)","3030636610",827,"Plattin 3-1","827_3-1",7834,{"$error":"#N/A"},{"$error":"#N/A"},null,null,null,null,null,null,null,null,null,null,null,null,null,null,null,null,null,null,null,null,null,null,"1005CM..LD10","Capital Quarries, Stadium W","",0,null,null,null,{"$error":"#N/A"}]
[null,null,null,null,null,"100510..CPCMLD","Select Materials Midwest - Perryville (Lafarge)","3030636610",827,"Plattin 3-7","827_3-7",2412,{"$error":"#N/A"},{"$error":"#N/A"},null,null,null,null,null,null,null,null,null,null,null,null,null,null,null,null,null,null,null,null,null,null,"1005CM..LD10","Central Stone #31, Florissant","",0,null,null,null,{"$error":"#N/A"}]
[null,null,null,null,null,"100510..CPCMLD","Shawnee Stone - Buncombe, IL","3043000110",1952,"Kincaid 1-3","1952_1-3",5496,{"$error":"#N/A"},{"$error":"#N/A"},null,null,null,null,null,null,null,null,null,null,null,null,null,null,null,null,null,null,null,null,null,null,"1005CM..LD10","Central Stone #6, New London","",0,null,null,null,{"$error":"#N/A"}]
[null,null,null,null,null,"100510..CPCMLD","Shawnee Stone - Buncombe, IL","3043000110",1952,"Kincaid 1-3,6-8","1952_1-3,6-8",7835,{"$error":"#N/A"},{"$error":"#N/A"},null,null,null,null,null,null,null,null,null,null,null,null,null,null,null,null,null,null,null,null,null,null,"1005CM..LD10","Central Stone #71, Jefferson Barracks Quarry","",0,null,null,null,{"$error":"#N/A"}]
[null,null,null,null,null,"100510..CPCMLD","Shawnee Stone - Buncombe, IL","3043000110",1952,"Kincaid 6-8","1952_6-8",5488,{"$error":"#N/A"},{"$error":"#N/A"},null,null,null,null,null,null,null,null,null,null,null,null,null,null,null,null,null,null,null,null,null,null,"1005CM..LD10","Central Stone #72, Antire Quarry","",0,null,null,null,{"$error":"#N/A"}]
[null,null,null,null,null,"100510..CPCMLD","Shawnee Stone - Jonesboro, IL","3436600110",3668,"Lower Ullin 9","3668_9",7807,{"$error":"#N/A"},{"$error":"#N/A"},null,null,null,null,null,null,null,null,null,null,null,null,null,null,null,null,null,null,null,null,null,null,"1005CM..LD10","Central Stone #74, Trautman Quarry","",0,null,null,null,{"$error":"#N/A"}]
[null,null,null,null,null,"100510..CPCMLD","Summit Materials, Marshall (Boone Quarries)","3176713215",1976,"Cedar Valley 5CA-9CA","1976_5CA-9CA",5592,{"$error":"#N/A"},{"$error":"#N/A"},null,null,null,null,null,null,null,null,null,null,null,null,null,null,null,null,null,null,null,null,null,null,"1005CM..LD10","Charleston Stone - West Pit, Charleston, IL","",0,null,null,null,{"$error":"#N/A"}]
[null,null,null,null,null,"100510..CPCMLD","Summit Materials, Marshall (Boone Quarries)","3176713215",1976,"Cedar Valley 8CA-9CA","1976_8CA-9CA",5587,{"$error":"#N/A"},{"$error":"#N/A"},null,null,null,null,null,null,null,null,null,null,null,null,null,null,null,null,null,null,null,null,null,null,"1005CM..LD10","Colt Rock and Lime, Patterson (Scaggs)","",0,null,null,null,{"$error":"#N/A"}]
[null,null,null,null,null,"100510..CPCMLD","Summit Materials, Marshall (Boone Quarries)","3176713215",1976,"Chouteau - Cedar Valley 4C,5-9CA","1976_4C,5-9CA",5593,{"$error":"#N/A"},{"$error":"#N/A"},null,null,null,null,null,null,null,null,null,null,null,null,null,null,null,null,null,null,null,null,null,null,"1005CM..LD10","Columbia Quarry, Dupo, IL","",0,null,null,null,{"$error":"#N/A"}]
[null,null,null,null,null,"100510..CPCMLD","Summit Materials, Marshall (Boone Quarries)","3176713215",1976,"Chouteau-Cedar Valley 4C,5-6CA,8-9CA","1976_4C,5-6CA,8-9CA",5591,{"$error":"#N/A"},{"$error":"#N/A"},null,null,null,null,null,null,null,null,null,null,null,null,null,null,null,null,null,null,null,null,null,null,"1005CM..LD10","Conco #0497, Fairgrove (Ash Grove)","",0,null,null,null,{"$error":"#N/A"}]
[null,null,null,null,null,"100510..CPCMLD","Table Rock - Kenny Nikins Quarry","3045503418",186,"Pierson 1P","186_1P",566,{"$error":"#N/A"},{"$error":"#N/A"},null,null,null,null,null,null,null,null,null,null,null,null,null,null,null,null,null,null,null,null,null,null,"1005CM..LD10","Douds Stone, LLC, Douds Quarry, Douds, IA","",0,null,null,null,{"$error":"#N/A"}]
[null,null,null,null,null,"100510..CPCMLD","Table Rock, Branson Stone Northeast Extension","3045500218",5112,"Compton D","5112_D",7423,{"$error":"#N/A"},{"$error":"#N/A"},null,null,null,null,null,null,null,null,null,null,null,null,null,null,null,null,null,null,null,null,null,null,"1005CM..LD10","Fischer Quarry & Hauling, Burfordville (T&M Stone)","",0,null,null,null,{"$error":"#N/A"}]
[null,null,null,null,null,"100510..CPCMLD","Table Rock, Kimberling City Qy","3045500318",188,"Compton 2W","188_2W",597,{"$error":"#N/A"},{"$error":"#N/A"},null,null,null,null,null,null,null,null,null,null,null,null,null,null,null,null,null,null,null,null,null,null,"1005CM..LD10","Gray Quarry, Hamilton,IL","",0,null,null,null,{"$error":"#N/A"}]
[null,null,null,null,null,"100510..CPCMLD","Table Rock, Kimberling City Qy","3045500318",188,"Cotter C","188_C",611,{"$error":"#N/A"},{"$error":"#N/A"},null,null,null,null,null,null,null,null,null,null,null,null,null,null,null,null,null,null,null,null,null,null,"1005CM..LD10","Hamm (Lone Elm)","",0,null,null,null,{"$error":"#N/A"}]
[null,null,null,null,null,"100510..CPCMLD","Table Rock, Kimberling City Qy","3045500318",188,"Pierson 1WW","188_1WW",601,{"$error":"#N/A"},{"$error":"#N/A"},null,null,null,null,null,null,null,null,null,null,null,null,null,null,null,null,null,null,null,null,null,null,"1005CM..LD10","Hamm Quarries, Eudora","",0,null,null,null,{"$error":"#N/A"}]
[null,null,null,null,null,"100510..CPCMLD","Viking Aggregates, Kahoka Quarry","3163400213",672,"St. Louis 2-4","672_2-4",1690,{"$error":"#N/A"},{"$error":"#N/A"},null,null,null,null,null,null,null,null,null,null,null,null,null,null,null,null,null,null,null,null,null,null,"1005CM..LD10","Hamm Quarry, La Cygne, KS (Mid-State)","",0,null,null,null,{"$error":"#N/A"}]
[null,null,null,null,null,"100510..CPCMLD","West County Quarry LLC","3227500110",2349,"Gasconade 49","2349_49",7628,{"$error":"#N/A"},{"$error":"#N/A"},null,null,null,null,null,null,null,null,null,null,null,null,null,null,null,null,null,null,null,null,null,null,"1005CM..LD10","Heartland Materials, LLC","",0,null,null,null,{"$error":"#N/A"}]
[null,null,null,null,null,"100510..CPCMLD","West County Quarry LLC","3227500110",2349,"Gasconade 49-50","2349_49-50",7638,{"$error":"#N/A"},{"$error":"#N/A"},null,null,null,null,null,null,null,null,null,null,null,null,null,null,null,null,null,null,null,null,null,null,"1005CM..LD10","Herzog, Wathena Stone","",0,null,null,null,{"$error":"#N/A"}]
[null,null,null,null,null,"100510..CPCMLD","West County Quarry LLC","3227500110",2349,"Gasconade 50","2349_50",6012,{"$error":"#N/A"},{"$error":"#N/A"},null,null,null,null,null,null,null,null,null,null,null,null,null,null,null,null,null,null,null,null,null,null,"1005CM..LD10","Holliday Sand and Stone, S&K (Ash Grove)","",0,null,null,null,{"$error":"#N/A"}]
[null,null,null,null,null,"100510..CPCMLD","Westside Stone (Springfield Underground, Airport)","3415300118",3510,"Burlington C & G","3510_C & G",7911,{"$error":"#N/A"},{"$error":"#N/A"},null,null,null,null,null,null,null,null,null,null,null,null,null,null,null,null,null,null,null,null,null,null,"1005CM..LD10","Johnson County Aggregates, KS","",0,null,null,null,{"$error":"#N/A"}]
[null,null,null,null,null,"100510..CPCMLD","Westside Stone (Springfield Underground, Airport)","3415300118",3510,"Burlington F","3510_F",7635,{"$error":"#N/A"},{"$error":"#N/A"},null,null,null,null,null,null,null,null,null,null,null,null,null,null,null,null,null,null,null,null,null,null,"1005CM..LD10","Lead Belt, Park Hills Stone","",0,null,null,null,{"$error":"#N/A"}]
[null,null,null,null,null,"100510..CPCMLD","Westside Stone (Springfield Underground, Airport)","3415300118",3510,"Burlington F & G","3510_F & G",7910,{"$error":"#N/A"},{"$error":"#N/A"},null,null,null,null,null,null,null,null,null,null,null,null,null,null,null,null,null,null,null,null,null,null,"1005CM..LD10","MLH and Sons Quarry","",0,null,null,null,{"$error":"#N/A"}]
[null,null,null,null,null,"100510..CPCMLD","Westside Stone (Springfield Underground, Airport)","3415300118",3510,"Burlington G","3510_G",7634,{"$f":"IF(AND($F$17=H497,$AK$44=F497),J497,\"\")","v":{"$error":"#N/A"}},{"$f":"IF(AND($F$17=H497,$AK$44=F497),L497,\"\")","v":{"$error":"#N/A"}},null,null,null,null,null,null,null,null,null,null,null,null,null,null,null,null,null,null,null,null,null,null,"1005CM..LD10","MM Quarry","",0,null,null,null,{"$error":"#N/A"}]
[null,null,null,null,null,"100510..CPCMLD","Willard Constr, Sleeper","3050100418",77,"Jefferson City 1-2","77_1-2",156,{"$error":"#N/A"},{"$error":"#N/A"},null,null,null,null,null,null,null,null,null,null,null,null,null,null,null,null,null,null,null,null,null,null,"1005CM..LD10","Magruder Limestone #1, Troy","",0,null,null,null,{"$error":"#N/A"}]
[null,null,null,null,null,"100510..CPCMLD","Willard Constr, Sleeper","3050100418",77,"Jefferson City 1-4","77_1-4",154,{"$error":"#N/A"},{"$error":"#N/A"},null,null,null,null,null,null,null,null,null,null,null,null,null,null,null,null,null,null,null,null,null,null,"1005CM..LD10","Magruder Limestone, Foley","",0,null,null,null,{"$error":"#N/A"}]
[null,null,null,null,null,"100510..CPCMLD","Willard Constr, Sleeper","3050100418",77,"Jefferson City 3-4","77_3-4",160,{"$error":"#N/A"},{"$error":"#N/A"},null,null,null,null,null,null,null,null,null,null,null,null,null,null,null,null,null,null,null,null,null,null,"1005CM..LD10","Magruder Limestone, Osage Hills","",0,null,null,null,{"$error":"#N/A"}]
[null,null,null,null,null,"100510..CPCMLD","Willard Constr, St. Robert","3050100619",78,"Gasconade 2","78_2",174,{"$error":"#N/A"},{"$error":"#N/A"},null,null,null,null,null,null,null,null,null,null,null,null,null,null,null,null,null,null,null,null,null,null,"1005CM..LD10","Magruder Limestone, Silex","",0,null,null,null,{"$error":"#N/A"}]
[null,null,null,null,null,"100510..CPCMLD","Williamsville Stone #1","3050400110",81,"Gasconade 14-17A","81_14-17A",198,{"$error":"#N/A"},{"$error":"#N/A"},null,null,null,null,null,null,null,null,null,null,null,null,null,null,null,null,null,null,null,null,null,null,"1005CM..LD10","Mid Missouri Limestone (Auxvasse - South Gate)","",0,null,null,null,{"$error":"#N/A"}]
[null,null,null,null,null,"100510..CPCMLD","Williamsville Stone #1","3050400110",81,"Gasconade 14-6","81_14-6",7673,{"$error":"#N/A"},{"$error":"#N/A"},null,null,null,null,null,null,null,null,null,null,null,null,null,null,null,null,null,null,null,null,null,null,"1005CM..LD10","Mid Missouri Limestone (Reform)","",0,null,null,null,{"$error":"#N/A"}]
[null,null,null,null,null,"100510..CPCMLD","Williamsville Stone #1","3050400110",81,"Gasconade 14-6A","81_14-6A",191,{"$error":"#N/A"},{"$error":"#N/A"},null,null,null,null,null,null,null,null,null,null,null,null,null,null,null,null,null,null,null,null,null,null,"1005CM..LD10","Mid-States Materials, Plummer Creek, Scranton, KS","",0,null,null,null,{"$error":"#N/A"}]
[null,null,null,null,null,"100510..CPCMLD","Williamsville Stone #1","3050400110",81,"Gasconade 14A-17A","81_14A-17A",199,{"$error":"#N/A"},{"$error":"#N/A"},null,null,null,null,null,null,null,null,null,null,null,null,null,null,null,null,null,null,null,null,null,null,"1005CM..LD10","Midwest Minerals, Fort Scott, KS","",0,null,null,null,{"$error":"#N/A"}]
[null,null,null,null,null,"100510..CPCMLD","Williamsville Stone #1","3050400110",81,"Gasconade 6A-17A","81_6A-17A",213,{"$error":"#N/A"},{"$error":"#N/A"},null,null,null,null,null,null,null,null,null,null,null,null,null,null,null,null,null,null,null,null,null,null,"1005CM..LD10","Midwest Minerals, Pittsburg, KS","",0,null,null,null,{"$error":"#N/A"}]
[null,null,null,null,null,"100510..CPCMLD","Wright City Quarry - BMC Stone, LLC","3050700113",62,"Burlington 8","62_8",7397,{"$error":"#N/A"},{"$error":"#N/A"},null,null,null,null,null,null,null,null,null,null,null,null,null,null,null,null,null,null,null,null,null,null,"1005CM..LD10","Mulberry Limestone, Pittsburg, KS","",0,null,null,null,{"$error":"#N/A"}]
[null,null,null,null,null,"100510..CPPY","Central Stone, Butler Hill Quarry","3007906217",4812,"Rhyolite 1","4812_1",7197,{"$error":"#N/A"},{"$error":"#N/A"},null,null,null,null,null,null,null,null,null,null,null,null,null,null,null,null,null,null,null,null,null,null,"1005CM..LD10","Mulberry Quarry, Lamar (Ash Grove Aggr #84)","",0,null,null,null,{"$error":"#N/A"}]
[null,null,null,null,null,"100510..CPPY","New Frontier, Iron Mountain Quarry-Porphyry","3022300110",755,"Porphyry 1","755_1",2018,{"$error":"#N/A"},{"$error":"#N/A"},null,null,null,null,null,null,null,null,null,null,null,null,null,null,null,null,null,null,null,null,null,null,"1005CM..LD10","Norris Quarries LLC, Kingston (APAC - Kingston)","",0,null,null,null,{"$error":"#N/A"}]
[null,null,null,null,null,"100510..CPPY","Trap Rock and Granite Quarries, LLC","3243500119",2512,"Rhyolite 2","2512_2",6184,{"$error":"#N/A"},{"$error":"#N/A"},null,null,null,null,null,null,null,null,null,null,null,null,null,null,null,null,null,null,null,null,null,null,"1005CM..LD10","Norris Quarries, Knoxville (Ray County, #1 SW Pit)","",0,null,null,null,{"$error":"#N/A"}]
[null,null,null,null,null,"100510..OPTLD1","Bluewing Materials, Poplar Bluff Stone","3520200119",4957,"Eminence-Potosi 1-2","4957_1-2",7262,{"$error":"#N/A"},{"$error":"#N/A"},null,null,null,null,null,null,null,null,null,null,null,null,null,null,null,null,null,null,null,null,null,null,"1005CM..LD10","Norris Quarries, Trenton","",0,null,null,null,{"$error":"#N/A"}]
[null,null,null,null,null,"100510..OPTLD1","Cantera Aggregates #1, Plano Qy, Plano, IA","3532100111",5171,"Exline 1","5171_1",7377,{"$error":"#N/A"},{"$error":"#N/A"},null,null,null,null,null,null,null,null,null,null,null,null,null,null,null,null,null,null,null,null,null,null,"1005CM..LD10","Olean Quarry","",0,null,null,null,{"$error":"#N/A"}]
[null,null,null,null,null,"100510..OPTLD1","Capital Materials, Sedalia (Snow Rd-Dresden)","3026603615",641,"Burlington 1 - 4","641_1 - 4",1540,{"$error":"#N/A"},{"$error":"#N/A"},null,null,null,null,null,null,null,null,null,null,null,null,null,null,null,null,null,null,null,null,null,null,"1005CM..LD10","Pattison Sand Company, Clayton, IA","",0,null,null,null,{"$error":"#N/A"}]
[null,null,null,null,null,"100510..OPTLD1","Capital Quarries, Danville (Pace Construction)","3035901313",533,"Plattin 1-3","533_1-3",1397,{"$error":"#N/A"},{"$error":"#N/A"},null,null,null,null,null,null,null,null,null,null,null,null,null,null,null,null,null,null,null,null,null,null,"1005CM..LD10","Producer Supplier not designated.","",0,null,null,null,{"$error":"#N/A"}]
[null,null,null,null,null,"100510..OPTLD1","Central Stone #1, Hannibal (Huntington)","3007900113",948,"Cedar Valley 13-11","948_13-11",3038,{"$error":"#N/A"},{"$error":"#N/A"},null,null,null,null,null,null,null,null,null,null,null,null,null,null,null,null,null,null,null,null,null,null,"1005CM..LD10","Select Materials Midwest - Perryville (Lafarge)","",0,null,null,null,{"$error":"#N/A"}]
[null,null,null,null,null,"100510..OPTLD1","Central Stone #1, Hannibal (Huntington)","3007900113",948,"Kimmswick 10-1","948_10-1",3041,{"$error":"#N/A"},{"$error":"#N/A"},null,null,null,null,null,null,null,null,null,null,null,null,null,null,null,null,null,null,null,null,null,null,"1005CM..LD10","Shawnee Stone - Jonesboro, IL","",0,null,null,null,{"$error":"#N/A"}]
[null,null,null,null,null,"100510..OPTLD1","Grays Point Stone & Materials, Scott City","3046500310",362,"Kimmswick 64E","362_64E",7803,{"$error":"#N/A"},{"$error":"#N/A"},null,null,null,null,null,null,null,null,null,null,null,null,null,null,null,null,null,null,null,null,null,null,"1005CM..LD10","Southeast Missouri Stone (SEMO)","",0,null,null,null,{"$error":"#N/A"}]
[null,null,null,null,null,"100510..OPTLD1","Heartland Materials, LLC","3453100150",4779,"Decorah-Plattin 29-26","4779_29-26",7176,{"$error":"#N/A"},{"$error":"#N/A"},null,null,null,null,null,null,null,null,null,null,null,null,null,null,null,null,null,null,null,null,null,null,"1005CM..LD10","Table Rock - Kenny Nikins Quarry","",0,null,null,null,{"$error":"#N/A"}]
[null,null,null,null,null,"100510..OPTLD1","Heartland Materials, LLC","3453100150",4779,"Kimmswick 30","4779_30",7168,{"$error":"#N/A"},{"$error":"#N/A"},null,null,null,null,null,null,null,null,null,null,null,null,null,null,null,null,null,null,null,null,null,null,"1005CM..LD10","Table Rock, Kimberling City Qy","",0,null,null,null,{"$error":"#N/A"}]
[null,null,null,null,null,"100510..OPTLD1","Mid Missouri Limestone (Auxvasse - South Gate)","3001900115",1351,"Cedar Valley 6-7-8-9","1351_6-7-8-9",7393,{"$error":"#N/A"},{"$error":"#N/A"},null,null,null,null,null,null,null,null,null,null,null,null,null,null,null,null,null,null,null,null,null,null,"1005CM..LD10","Talon Aggregates, Kentucky Rd. (Lafarge)","",0,null,null,null,{"$error":"#N/A"}]
[null,null,null,null,null,"100510..OPTLD1","Penny's Concrete","3055810037",4719,"Penny's, Parvin Rd Parvin","4719_Parvin",7099,{"$error":"#N/A"},{"$error":"#N/A"},null,null,null,null,null,null,null,null,null,null,null,null,null,null,null,null,null,null,null,null,null,null,"1005CM..LD10","Wayne B. Smith, Pit #8","",0,null,null,null,{"$error":"#N/A"}]
[null,null,null,null,null,"100510..OPTLD1","Shawnee Stone - Jonesboro, IL","3436600110",3668,"Lower Ullin 9","3668_9",7807,{"$error":"#N/A"},{"$error":"#N/A"},null,null,null,null,null,null,null,null,null,null,null,null,null,null,null,null,null,null,null,null,null,null,"1005CM..LD10","Westside Stone (Springfield Underground, Airport)","",0,null,null,null,{"$error":"#N/A"}]
[null,null,null,null,null,"100510..OPTLD1","Summit Materials, Marshall (Boone Quarries)","3176713215",1976,"Cedar Valley 5CA-9CA","1976_5CA-9CA",5592,{"$error":"#N/A"},{"$error":"#N/A"},null,null,null,null,null,null,null,null,null,null,null,null,null,null,null,null,null,null,null,null,null,null,"1005FACCNS","11 Point Sand and Gravel","",0,null,null,null,{"$error":"#N/A"}]
[null,null,null,null,null,"100510..OPTLD1","Summit Materials, Marshall (Boone Quarries)","3176713215",1976,"Cedar Valley 8CA-9CA","1976_8CA-9CA",5587,{"$error":"#N/A"},{"$error":"#N/A"},null,null,null,null,null,null,null,null,null,null,null,null,null,null,null,null,null,null,null,null,null,null,"1005FACCNS","Callaway Gravel, Sand, and Soil","",0,null,null,null,{"$error":"#N/A"}]
[null,null,null,null,null,"100510..OPTLD1","Summit Materials, Marshall (Boone Quarries)","3176713215",1976,"Chouteau - Cedar Valley 4C,5-9CA","1976_4C,5-9CA",5593,{"$error":"#N/A"},{"$error":"#N/A"},null,null,null,null,null,null,null,null,null,null,null,null,null,null,null,null,null,null,null,null,null,null,"1005FACCNS","Doniphan Ready Mix","",0,null,null,null,{"$error":"#N/A"}]
[null,null,null,null,null,"100510..OPTLD1","Summit Materials, Marshall (Boone Quarries)","3176713215",1976,"Chouteau-Cedar Valley 4C,5-6CA,8-9CA","1976_4C,5-6CA,8-9CA",5591,{"$error":"#N/A"},{"$error":"#N/A"},null,null,null,null,null,null,null,null,null,null,null,null,null,null,null,null,null,null,null,null,null,null,"1005FACCNS","Douds Stone, Eldon Sand, Eldon, IA","",0,null,null,null,{"$error":"#N/A"}]
[null,null,null,null,null,"100510..OPTLD1","West County Quarry LLC","3227500110",2349,"Gasconade 49","2349_49",7628,{"$error":"#N/A"},{"$error":"#N/A"},null,null,null,null,null,null,null,null,null,null,null,null,null,null,null,null,null,null,null,null,null,null,"1005FACCNS","Hallett Materials, Des Moines","",0,null,null,null,{"$error":"#N/A"}]
[null,null,null,null,null,"100510..OPTLD1","West County Quarry LLC","3227500110",2349,"Gasconade 50","2349_50",6012,{"$error":"#N/A"},{"$error":"#N/A"},null,null,null,null,null,null,null,null,null,null,null,null,null,null,null,null,null,null,null,null,null,null,"1005FACCNS","JR Sand and Gravel","",0,null,null,null,{"$error":"#N/A"}]
[null,null,null,null,null,"100515..OPTLD1","Capital Quarries #10, Quinn Pit (Beck)","3170701015",1979,"Burlington-Cedar Valley 2-4","1979_2-4",5600,{"$error":"#N/A"},{"$error":"#N/A"},null,null,null,null,null,null,null,null,null,null,null,null,null,null,null,null,null,null,null,null,null,null,"1005FACCNS","Lincoln County Sand & Gravel, Winfield","",0,null,null,null,{"$error":"#N/A"}]
[null,null,null,null,null,"100515..OPTLD1","Central Stone #1, Hannibal (Huntington)","3007900113",948,"Cedar Valley 13-11","948_13-11",3038,{"$error":"#N/A"},{"$error":"#N/A"},null,null,null,null,null,null,null,null,null,null,null,null,null,null,null,null,null,null,null,null,null,null,"1005FACCNS","Mid MO Sand & Gravel, Iberia","",0,null,null,null,{"$error":"#N/A"}]
[null,null,null,null,null,"100515..OPTLD1","Central Stone #1, Hannibal (Huntington)","3007900113",948,"Kimmswick 10-1","948_10-1",3041,{"$error":"#N/A"},{"$error":"#N/A"},null,null,null,null,null,null,null,null,null,null,null,null,null,null,null,null,null,null,null,null,null,null,"1005FACCNS","Old Monroe Materials","",0,null,null,null,{"$error":"#N/A"}]
[null,null,null,null,null,"100515..OPTLD1","Martin Marietta, Randolph","3021300114",900,"Cedar Valley 1CV","900_1CV",2774,{"$error":"#N/A"},{"$error":"#N/A"},null,null,null,null,null,null,null,null,null,null,null,null,null,null,null,null,null,null,null,null,null,null,"1005FACCNS","Politte Ready Mix, LLC","",0,null,null,null,{"$error":"#N/A"}]
[null,null,null,null,null,"1005CM..GT10","Central Stone, Butler Hill Quarry","3007906217",4812,"Butler Hill Granite 2","4812_2",7198,{"$error":"#N/A"},{"$error":"#N/A"},null,null,null,null,null,null,null,null,null,null,null,null,null,null,null,null,null,null,null,null,null,null,"1005FACCNS","Producer Supplier not designated.","",0,null,null,null,{"$error":"#N/A"}]
[null,null,null,null,null,"1005CM..GT10","Granite Mountain Quarry","3254600118",2785,"Granite 1","2785_1",6340,{"$error":"#N/A"},{"$error":"#N/A"},null,null,null,null,null,null,null,null,null,null,null,null,null,null,null,null,null,null,null,null,null,null,"1005FACCNS..CA","APAC-Central (dba: Arkhola Sand & Gravel)","",0,null,null,null,{"$error":"#N/A"}]
[null,null,null,null,null,"1005CM..GV04","BMC Sand, Eureka","3547600116",5453,"Meramec River Gravel GRAVEL","5453_GRAVEL",7852,{"$error":"#N/A"},{"$error":"#N/A"},null,null,null,null,null,null,null,null,null,null,null,null,null,null,null,null,null,null,null,null,null,null,"1005FACCNS..CA","Amrize Sand (Lafarge), Bridgeton","",0,null,null,null,{"$error":"#N/A"}]
[null,null,null,null,null,"1005CM..GV04","Buckhart Sand & Gravel","3412100113",3570,"Glacial Gravel GRAVEL","3570_GRAVEL",6780,{"$error":"#N/A"},{"$error":"#N/A"},null,null,null,null,null,null,null,null,null,null,null,null,null,null,null,null,null,null,null,null,null,null,"1005FACCNS..CA","Amrize Sand (Lafarge), Chesterfield","",0,null,null,null,{"$error":"#N/A"}]
[null,null,null,null,null,"1005CM..GV04","Winter Brothers, Hagemann","3050600216",3729,"Meramec River Gravel GRAVEL","3729_GRAVEL",6842,{"$error":"#N/A"},{"$error":"#N/A"},null,null,null,null,null,null,null,null,null,null,null,null,null,null,null,null,null,null,null,null,null,null,"1005FACCNS..CA","Anchor Stone - Choska Sand, Coweta, OK","",0,null,null,null,{"$error":"#N/A"}]
[null,null,null,null,null,"1005CM..GV05","Buckhart Sand & Gravel","3412100113",3570,"Glacial Gravel GRAVEL","3570_GRAVEL",6780,{"$error":"#N/A"},{"$error":"#N/A"},null,null,null,null,null,null,null,null,null,null,null,null,null,null,null,null,null,null,null,null,null,null,"1005FACCNS..CA","Anchor Stone - Delaware Plant, OK",{"$f":"IF(AK538=$AK$44,AL538,\"\")","v":""},0,null,null,null,{"$error":"#N/A"}]
[null,null,null,null,null,"1005CM..GV05","Lawrence Gravel","3422700113",3737,"Neely Creek GRAVEL","3737_GRAVEL",6843,{"$error":"#N/A"},{"$error":"#N/A"},null,null,null,null,null,null,null,null,null,null,null,null,null,null,null,null,null,null,null,null,null,null,"1005FACCNS..CA","Bluewing Materials, Doniphan Sand and Gravel","",0,null,null,null,{"$error":"#N/A"}]
[null,null,null,null,null,"1005CM..GV10","11 Point Sand and Gravel","3542200119",5374,"Eleven Point River Gravel GRAVEL","5374_GRAVEL",7712,{"$error":"#N/A"},{"$error":"#N/A"},null,null,null,null,null,null,null,null,null,null,null,null,null,null,null,null,null,null,null,null,null,null,"1005FACCNS..CA","Breckenridge Materials","",0,null,null,null,{"$error":"#N/A"}]
[null,null,null,null,null,"1005CM..GV10","Big Creek Sand & Gravel (Vaughn RM)","3231800119",2588,"Big Creek Gravel GRAVEL","2588_GRAVEL",6232,{"$error":"#N/A"},{"$error":"#N/A"},null,null,null,null,null,null,null,null,null,null,null,null,null,null,null,null,null,null,null,null,null,null,"1005FACCNS..CA","Brenda Kay Sand, LLC (Shakespear Oil)","",0,null,null,null,{"$error":"#N/A"}]
[null,null,null,null,null,"1005CM..GV10","Buckhart Sand & Gravel","3412100113",3570,"Glacial Gravel GRAVEL","3570_GRAVEL",6780,{"$error":"#N/A"},{"$error":"#N/A"},null,null,null,null,null,null,null,null,null,null,null,null,null,null,null,null,null,null,null,null,null,null,"1005FACCNS..CA","Buckhart Sand & Gravel","",0,null,null,null,{"$error":"#N/A"}]
[null,null,null,null,null,"1005CM..GV10","Carri Scharf Materials Co. (Heyworth Pit #2)","3516700113",4314,"Glacial Gravel GRAVEL","4314_GRAVEL",6887,{"$error":"#N/A"},{"$error":"#N/A"},null,null,null,null,null,null,null,null,null,null,null,null,null,null,null,null,null,null,null,null,null,null,"1005FACCNS..CA","Builders Choice Aggregates, Topeka, KS","",0,null,null,null,{"$error":"#N/A"}]
[null,null,null,null,null,"1005CM..GV10","Central Stone #61, LaGrange Sand & Gravel","3007926113",4546,"Glacial Gravel GRAVEL","4546_GRAVEL",6924,{"$error":"#N/A"},{"$error":"#N/A"},null,null,null,null,null,null,null,null,null,null,null,null,null,null,null,null,null,null,null,null,null,null,"1005FACCNS..CA","Cameron Concrete Company","",0,null,null,null,{"$error":"#N/A"}]
[null,null,null,null,null,"1005CM..GV10","JR Sand and Gravel","3506200119",4758,"Bryant Creek Gravel GRAVEL","4758_GRAVEL",7158,{"$error":"#N/A"},{"$error":"#N/A"},null,null,null,null,null,null,null,null,null,null,null,null,null,null,null,null,null,null,null,null,null,null,"1005FACCNS..CA","Capital Quarries #20, Linn","",0,null,null,null,{"$error":"#N/A"}]
[null,null,null,null,null,"1005CM..GV10","Stewart-Morrison - Spring Creek Materials","3112700139",194,"Spring Creek Gravel GRAVEL","194_GRAVEL",625,{"$error":"#N/A"},{"$error":"#N/A"},null,null,null,null,null,null,null,null,null,null,null,null,null,null,null,null,null,null,null,null,null,null,"1005FACCNS..CA","Capital Sand #1,  Wardsville (Osage Riv)","",0,null,null,null,{"$error":"#N/A"}]
[null,null,null,null,null,"1005CM..LD04","Capital Materials, Tightwad (APAC)","3020600114",927,"Burlington 1,2,3","927_1,2,3",2872,{"$error":"#N/A"},{"$error":"#N/A"},null,null,null,null,null,null,null,null,null,null,null,null,null,null,null,null,null,null,null,null,null,null,"1005FACCNS..CA","Capital Sand #12, (Farmers) Washington","",0,null,null,null,{"$error":"#N/A"}]
[null,null,null,null,null,"1005CM..LD04","New Frontier, Alton Weber #8","3032400116",577,"St. Louis 1-7","577_1-7",1423,{"$error":"#N/A"},{"$error":"#N/A"},null,null,null,null,null,null,null,null,null,null,null,null,null,null,null,null,null,null,null,null,null,null,"1005FACCNS..CA","Capital Sand #2, Jefferson City","",0,null,null,null,{"$error":"#N/A"}]
[null,null,null,null,null,"1005CM..LD07","AA Quarry, LLC","3514700114",4621,"Bethany Falls 2BF-3BF","4621_2BF-3BF",6982,{"$error":"#N/A"},{"$error":"#N/A"},null,null,null,null,null,null,null,null,null,null,null,null,null,null,null,null,null,null,null,null,null,null,"1005FACCNS..CA","Capital Sand #20, Riverbend (MO Sand Company)","",0,null,null,null,{"$error":"#N/A"}]
[null,null,null,null,null,"1005CM..LD07","Beyers Crushed Rock Co.","3003400114",1331,"Bethany Falls 1-4","1331_1-4",4206,{"$error":"#N/A"},{"$error":"#N/A"},null,null,null,null,null,null,null,null,null,null,null,null,null,null,null,null,null,null,null,null,null,null,"1005FACCNS..CA","Capital Sand #3, Glasgow","",0,null,null,null,{"$error":"#N/A"}]
[null,null,null,null,null,"1005CM..LD07","Hamm (APAC) Louisburg, KS","3176704514",1848,"Argentine 1 AR - 3 AR","1848_1 AR - 3 AR",5357,{"$error":"#N/A"},{"$error":"#N/A"},null,null,null,null,null,null,null,null,null,null,null,null,null,null,null,null,null,null,null,null,null,null,"1005FACCNS..CA","Capital Sand #6, (Columbia) Rocheport","",0,null,null,null,{"$error":"#N/A"}]
[null,null,null,null,null,"1005CM..LD07","Hamm (Lone Elm)","3538100114",5308,"Hamm (Lone Elm), Farley 1","5308_1",7600,{"$error":"#N/A"},{"$error":"#N/A"},null,null,null,null,null,null,null,null,null,null,null,null,null,null,null,null,null,null,null,null,null,null,"1005FACCNS..CA","Capital Sand #8, Lexington","",0,null,null,null,{"$error":"#N/A"}]
[null,null,null,null,null,"1005CM..LD07","Hamm (Lone Elm)","3538100114",5308,"Hamm (Lone Elm), Farley 1F","5308_1F",7652,{"$error":"#N/A"},{"$error":"#N/A"},null,null,null,null,null,null,null,null,null,null,null,null,null,null,null,null,null,null,null,null,null,null,"1005FACCNS..CA","Capital Sand Company (Missouri City) Plant 22","",0,null,null,null,{"$error":"#N/A"}]
[null,null,null,null,null,"1005CM..LD07","Herzog, Wathena Stone","3020400411",663,"Amazonia 1A-2A","663_1A-2A",1655,{"$error":"#N/A"},{"$error":"#N/A"},null,null,null,null,null,null,null,null,null,null,null,null,null,null,null,null,null,null,null,null,null,null,"1005FACCNS..CA","Capital Sand, Brunswick","",0,null,null,null,{"$error":"#N/A"}]
[null,null,null,null,null,"1005CM..LD07","Martin Marietta, Greenwood SW","3030652714",829,"Bethany Falls 1-4","829_1-4",2440,{"$error":"#N/A"},{"$error":"#N/A"},null,null,null,null,null,null,null,null,null,null,null,null,null,null,null,null,null,null,null,null,null,null,"1005FACCNS..CA","Central Stone #31, Florissant","",0,null,null,null,{"$error":"#N/A"}]
[null,null,null,null,null,"1005CM..LD07","Martin Marietta, Greenwood SW","3030652714",829,"Winterset 1W","829_1W",2442,{"$error":"#N/A"},{"$error":"#N/A"},null,null,null,null,null,null,null,null,null,null,null,null,null,null,null,null,null,null,null,null,null,null,"1005FACCNS..CA","Central Stone #31, Sand Plant, Florissant","",0,null,null,null,{"$error":"#N/A"}]
[null,null,null,null,null,"1005CM..LD07","Norris Quarries, Bethany","3030616611",809,"Bethany Falls 9BF-12BF","809_9BF-12BF",2228,{"$error":"#N/A"},{"$error":"#N/A"},null,null,null,null,null,null,null,null,null,null,null,null,null,null,null,null,null,null,null,null,null,null,"1005FACCNS..CA","Central Stone #61, LaGrange Sand & Gravel","",0,null,null,null,{"$error":"#N/A"}]
[null,null,null,null,null,"1005CM..LD07","Norris Quarries, Breit Quarry, Savannah","3030693411",806,"Toronto 6T","806_6T",2182,{"$error":"#N/A"},{"$error":"#N/A"},null,null,null,null,null,null,null,null,null,null,null,null,null,null,null,null,null,null,null,null,null,null,"1005FACCNS..CA","Central Stone #71, Jefferson Barracks Quarry","",0,null,null,null,{"$error":"#N/A"}]
[null,null,null,null,null,"1005CM..LD07","Norris Quarries, Knoxville (Ray County, #1 SW Pit)","3021301914",2347,"Bethany Falls 1-3","2347_1-3",5983,{"$error":"#N/A"},{"$error":"#N/A"},null,null,null,null,null,null,null,null,null,null,null,null,null,null,null,null,null,null,null,null,null,null,"1005FACCNS..CA","Central Stone #71, Sand, Jefferson Barracks Quarry","",0,null,null,null,{"$error":"#N/A"}]
[null,null,null,null,null,"1005CM..LD07","Norris Quarries, Trenton","3030601212",788,"Bethany Falls 1B-3B","788_1B-3B",2080,{"$error":"#N/A"},{"$error":"#N/A"},null,null,null,null,null,null,null,null,null,null,null,null,null,null,null,null,null,null,null,null,null,null,"1005FACCNS..CA","Clarkson Construction","",0,null,null,null,{"$error":"#N/A"}]
[null,null,null,null,null,"1005CM..LD07","Ray County Stone, EE Quarry","3144600114",1047,"Bethany Falls 1BF-4BF","1047_1BF-4BF",3396,{"$f":"IF(AND($F$17=H561,$AK$44=F561),J561,\"\")","v":{"$error":"#N/A"}},{"$f":"IF(AND($F$17=H561,$AK$44=F561),L561,\"\")","v":{"$error":"#N/A"}},null,null,null,null,null,null,null,null,null,null,null,null,null,null,null,null,null,null,null,null,null,null,"1005FACCNS..CA","Concrete Industries","",0,null,null,null,{"$error":"#N/A"}]
[null,null,null,null,null,"1005CM..LD07","Trager Limestone, Gallatin (SOUTH)","3160800111",365,"Bethany Falls 2BF - 5BF","365_2BF - 5BF",1146,{"$error":"#N/A"},{"$error":"#N/A"},null,null,null,null,null,null,null,null,null,null,null,null,null,null,null,null,null,null,null,null,null,null,"1005FACCNS..CA","Dexter Sand & Gravel","",0,null,null,null,{"$error":"#N/A"}]
[null,null,null,null,null,"1005CM..LD10","AA Quarry, LLC","3514700114",4621,"Bethany Falls 2BF-3BF","4621_2BF-3BF",6982,{"$error":"#N/A"},{"$error":"#N/A"},null,null,null,null,null,null,null,null,null,null,null,null,null,null,null,null,null,null,null,null,null,null,"1005FACCNS..CA","Engineering Surveys & Services, Columbia","",0,null,null,null,{"$error":"#N/A"}]
[null,null,null,null,null,"1005CM..LD10","APAC-Kansas Bates City Quarry","3176703314",1752,"Bethany Falls 1-4","1752_1-4",5086,{"$error":"#N/A"},{"$error":"#N/A"},null,null,null,null,null,null,null,null,null,null,null,null,null,null,null,null,null,null,null,null,null,null,"1005FACCNS..CA","Engineering Surveys & Services, Sedalia","",0,null,null,null,{"$error":"#N/A"}]
[null,null,null,null,null,"1005CM..LD10","APAC-Kansas Harrisonville Quarry","3176703014",1750,"Bethany Falls 1-3","1750_1-3",5069,{"$error":"#N/A"},{"$error":"#N/A"},null,null,null,null,null,null,null,null,null,null,null,null,null,null,null,null,null,null,null,null,null,null,"1005FACCNS..CA","Fischer Concrete","",0,null,null,null,{"$error":"#N/A"}]
[null,null,null,null,null,"1005CM..LD10","APAC-Kansas Harrisonville Quarry","3176703014",1750,"Winterset 1W","1750_1W",5070,{"$error":"#N/A"},{"$error":"#N/A"},null,null,null,null,null,null,null,null,null,null,null,null,null,null,null,null,null,null,null,null,null,null,"1005FACCNS..CA","Fischer Concrete, Warrensburg","",0,null,null,null,{"$error":"#N/A"}]
[null,null,null,null,null,"1005CM..LD10","APAC-Kansas Harrisonville Quarry","3176703014",1750,"Winterset 1W-3W","1750_1W-3W",5068,{"$error":"#N/A"},{"$error":"#N/A"},null,null,null,null,null,null,null,null,null,null,null,null,null,null,null,null,null,null,null,null,null,null,"1005FACCNS..CA","Fordyce Concrete","",0,null,null,null,{"$error":"#N/A"}]
[null,null,null,null,null,"1005CM..LD10","Anchor Stone, Jane (Bailey)","3002200417",1360,"Cotter 7","1360_7",4279,{"$error":"#N/A"},{"$error":"#N/A"},null,null,null,null,null,null,null,null,null,null,null,null,null,null,null,null,null,null,null,null,null,null,"1005FACCNS..CA","G-71 Sand, Oskaloosa, IA","",0,null,null,null,{"$error":"#N/A"}]
[null,null,null,null,null,"1005CM..LD10","Anchor Stone, Jane (Bailey)","3002200417",1360,"Cotter 8","1360_8",4287,{"$error":"#N/A"},{"$error":"#N/A"},null,null,null,null,null,null,null,null,null,null,null,null,null,null,null,null,null,null,null,null,null,null,"1005FACCNS..CA","Gateway Sand and Gravel Ltd.","",0,null,null,null,{"$error":"#N/A"}]
[null,null,null,null,null,"1005CM..LD10","Bailey (Roach) Quarry","3039800117",314,"Jefferson City-Cotter 6-7","314_6-7",1047,{"$error":"#N/A"},{"$error":"#N/A"},null,null,null,null,null,null,null,null,null,null,null,null,null,null,null,null,null,null,null,null,null,null,"1005FACCNS..CA","Geotech Sand & Stone, Eldon, IA","",0,null,null,null,{"$error":"#N/A"}]
[null,null,null,null,null,"1005CM..LD10","Bailey Quarries #2, Dolomite","3002200217",1359,"Cotter 1E","1359_1E",4272,{"$error":"#N/A"},{"$error":"#N/A"},null,null,null,null,null,null,null,null,null,null,null,null,null,null,null,null,null,null,null,null,null,null,"1005FACCNS..CA","Hallett #282, Shenandoah","",0,null,null,null,{"$error":"#N/A"}]
[null,null,null,null,null,"1005CM..LD10","Bailey Quarries #3, Stockton","3002200317",45,"Burlington 5","45_5",53,{"$error":"#N/A"},{"$error":"#N/A"},null,null,null,null,null,null,null,null,null,null,null,null,null,null,null,null,null,null,null,null,null,null,"1005FACCNS..CA","Hallett Materials, Des Moines","",0,null,null,null,{"$error":"#N/A"}]
[null,null,null,null,null,"1005CM..LD10","Cantera Aggregates #2, Confidence Qy, Plano, IA","3026300312",3256,"Cooper Creek 2","3256_2",6680,{"$error":"#N/A"},{"$error":"#N/A"},null,null,null,null,null,null,null,null,null,null,null,null,null,null,null,null,null,null,null,null,null,null,"1005FACCNS..CA","Hamm Sand, Desoto, KS (Sahara Sand)","",0,null,null,null,{"$error":"#N/A"}]
[null,null,null,null,null,"1005CM..LD10","Cantera Aggregates #5, Walnut City Quarry IA","3026300512",670,"Exline 1E","670_1E",1669,{"$error":"#N/A"},{"$error":"#N/A"},null,null,null,null,null,null,null,null,null,null,null,null,null,null,null,null,null,null,null,null,null,null,"1005FACCNS..CA","Havin Material Services","",0,null,null,null,{"$error":"#N/A"}]
[null,null,null,null,null,"1005CM..LD10","Capital Materials, Fairplay (T & M Stone Quarry)","3242000218",4937,"Burlington 1","4937_1",7257,{"$error":"#N/A"},{"$error":"#N/A"},null,null,null,null,null,null,null,null,null,null,null,null,null,null,null,null,null,null,null,null,null,null,"1005FACCNS..CA","Hermann Sand & Gravel","",0,null,null,null,{"$error":"#N/A"}]
[null,null,null,null,null,"1005CM..LD10","Capital Materials, Leeton (APAC)","3021300314",923,"Higginsville 1","923_1",2836,{"$error":"#N/A"},{"$error":"#N/A"},null,null,null,null,null,null,null,null,null,null,null,null,null,null,null,null,null,null,null,null,null,null,"1005FACCNS..CA","Hermann Sand and Gravel, #2  (Muenks Brothers)","",0,null,null,null,{"$error":"#N/A"}]
[null,null,null,null,null,"1005CM..LD10","Capital Quarries #10, Quinn Pit (Beck)","3170701015",1979,"Plattin-Cotter 5-6","1979_5-6",5603,{"$error":"#N/A"},{"$error":"#N/A"},null,null,null,null,null,null,null,null,null,null,null,null,null,null,null,null,null,null,null,null,null,null,"1005FACCNS..CA","Holliday Sand #7, Bonner Springs","",0,null,null,null,{"$error":"#N/A"}]
[null,null,null,null,null,"1005CM..LD10","Capital Quarries, Stadium W","3170700215",965,"Jefferson City 1A,1B,1-3","965_1A,1B,1-3",3146,{"$error":"#N/A"},{"$error":"#N/A"},null,null,null,null,null,null,null,null,null,null,null,null,null,null,null,null,null,null,null,null,null,null,"1005FACCNS..CA","Holliday Sand & Gravel, #19, Haskell, OK","",0,null,null,null,{"$error":"#N/A"}]
[null,null,null,null,null,"1005CM..LD10","Central Stone #31, Florissant","3007903116",947,"St. Louis 12-14","947_12-14",2996,{"$error":"#N/A"},{"$error":"#N/A"},null,null,null,null,null,null,null,null,null,null,null,null,null,null,null,null,null,null,null,null,null,null,"1005FACCNS..CA","Holliday Sand & Gravel, #2 West, Shawnee, KS-SAND","",0,null,null,null,{"$error":"#N/A"}]
[null,null,null,null,null,"1005CM..LD10","Central Stone #6, New London","3007900613",949,"Cedar Valley 2 - 6","949_2 - 6",3075,{"$error":"#N/A"},{"$error":"#N/A"},null,null,null,null,null,null,null,null,null,null,null,null,null,null,null,null,null,null,null,null,null,null,"1005FACCNS..CA","Holliday Sand & Gravel, #3 West, Shawnee","",0,null,null,null,{"$error":"#N/A"}]
[null,null,null,null,null,"1005CM..LD10","Central Stone #71, Jefferson Barracks Quarry","3005700116",1151,"St. Louis 5-15","1151_5-15",3680,{"$error":"#N/A"},{"$error":"#N/A"},null,null,null,null,null,null,null,null,null,null,null,null,null,null,null,null,null,null,null,null,null,null,"1005FACCNS..CA","Holliday Sand & Gravel, Bixby","",0,null,null,null,{"$error":"#N/A"}]
[null,null,null,null,null,"1005CM..LD10","Central Stone #72, Antire Quarry","3005700316",1154,"Plattin 14-11","1154_14-11",3756,{"$error":"#N/A"},{"$error":"#N/A"},null,null,null,null,null,null,null,null,null,null,null,null,null,null,null,null,null,null,null,null,null,null,"1005FACCNS..CA","Holliday Sand & Gravel, Broken Arrow, OK","",0,null,null,null,{"$error":"#N/A"}]
[null,null,null,null,null,"1005CM..LD10","Central Stone #72, Antire Quarry","3005700316",1154,"Plattin 15-18,19-21","1154_15-18,19-21",3751,{"$error":"#N/A"},{"$error":"#N/A"},null,null,null,null,null,null,null,null,null,null,null,null,null,null,null,null,null,null,null,null,null,null,"1005FACCNS..CA","Holliday Sand & Gravel, Cowetta, OK","",0,null,null,null,{"$error":"#N/A"}]
[null,null,null,null,null,"1005CM..LD10","Charleston Stone - West Pit, Charleston, IL","3422800113",3738,"Livingston 3","3738_3",6844,{"$error":"#N/A"},{"$error":"#N/A"},null,null,null,null,null,null,null,null,null,null,null,null,null,null,null,null,null,null,null,null,null,null,"1005FACCNS..CA","Holliday Sand & Gravel, Randolph","",0,null,null,null,{"$error":"#N/A"}]
[null,null,null,null,null,"1005CM..LD10","Colt Rock and Lime, Patterson (Scaggs)","3169900210",3493,"Potosi 20","3493_20",6758,{"$error":"#N/A"},{"$error":"#N/A"},null,null,null,null,null,null,null,null,null,null,null,null,null,null,null,null,null,null,null,null,null,null,"1005FACCNS..CA","Holliday Sand & Gravel, Riverside","",0,null,null,null,{"$error":"#N/A"}]
[null,null,null,null,null,"1005CM..LD10","Columbia Quarry, Dupo, IL","3009400316",1270,"St. Louis-Salem 7-8","1270_7-8",4009,{"$error":"#N/A"},{"$error":"#N/A"},null,null,null,null,null,null,null,null,null,null,null,null,null,null,null,null,null,null,null,null,null,null,"1005FACCNS..CA","Holliday Sand & Gravel, St. Joseph","",0,null,null,null,{"$error":"#N/A"}]
[null,null,null,null,null,"1005CM..LD10","Conco #0497, Fairgrove (Ash Grove)","3002909718",2731,"Cotter 1, 2, 3","2731_1, 2, 3",6320,{"$error":"#N/A"},{"$error":"#N/A"},null,null,null,null,null,null,null,null,null,null,null,null,null,null,null,null,null,null,null,null,null,null,"1005FACCNS..CA","Holt Co Ready Mix","",0,null,null,null,{"$error":"#N/A"}]
[null,null,null,null,null,"1005CM..LD10","Conco #0497, Fairgrove (Ash Grove)","3002909718",2731,"Cotter 2-3","2731_2-3",6322,{"$error":"#N/A"},{"$error":"#N/A"},null,null,null,null,null,null,null,null,null,null,null,null,null,null,null,null,null,null,null,null,null,null,"1005FACCNS..CA","Ideal Ready Mix","",0,null,null,null,{"$error":"#N/A"}]
[null,null,null,null,null,"1005CM..LD10","Douds Stone, LLC, Douds Quarry, Douds, IA","3125500413",5532,"St. Louis 16-19","5532_16-19",7963,{"$error":"#N/A"},{"$error":"#N/A"},null,null,null,null,null,null,null,null,null,null,null,null,null,null,null,null,null,null,null,null,null,null,"1005FACCNS..CA","Kaw Valley Sand & Gravel Morse","",0,null,null,null,{"$error":"#N/A"}]
[null,null,null,null,null,"1005CM..LD10","Fischer Quarry & Hauling, Burfordville (T&M Stone)","3242000110",2485,"Smith-Powell 18-21","2485_18-21",7856,{"$error":"#N/A"},{"$error":"#N/A"},null,null,null,null,null,null,null,null,null,null,null,null,null,null,null,null,null,null,null,null,null,null,"1005FACCNS..CA","Keyesport Sand and Gravel","",0,null,null,null,{"$error":"#N/A"}]
[null,null,null,null,null,"1005CM..LD10","Gray Quarry, Hamilton,IL","3018600113",1009,"McCraney 12","1009_12",3248,{"$error":"#N/A"},{"$error":"#N/A"},null,null,null,null,null,null,null,null,null,null,null,null,null,null,null,null,null,null,null,null,null,null,"1005FACCNS..CA","Kimaterials","",0,null,null,null,{"$error":"#N/A"}]
[null,null,null,null,null,"1005CM..LD10","Hamm (Lone Elm)","3538100114",5308,"Argentine 1AR-3AR","5308_1AR-3AR",7798,{"$error":"#N/A"},{"$error":"#N/A"},null,null,null,null,null,null,null,null,null,null,null,null,null,null,null,null,null,null,null,null,null,null,"1005FACCNS..CA","Kirksville Ready Mix","",0,null,null,null,{"$error":"#N/A"}]
[null,null,null,null,null,"1005CM..LD10","Hamm (Lone Elm)","3538100114",5308,"Hamm (Lone Elm), Farley 1F-3F","5308_1F-3F",7876,{"$error":"#N/A"},{"$error":"#N/A"},null,null,null,null,null,null,null,null,null,null,null,null,null,null,null,null,null,null,null,null,null,null,"1005FACCNS..CA","Land-Chariton County Concrete","",0,null,null,null,{"$error":"#N/A"}]
[null,null,null,null,null,"1005CM..LD10","Hamm Quarries, Eudora","3171900314",4612,"Captain Creek 1CC","4612_1CC",7936,{"$error":"#N/A"},{"$error":"#N/A"},null,null,null,null,null,null,null,null,null,null,null,null,null,null,null,null,null,null,null,null,null,null,"1005FACCNS..CA","Lebanon Ready Mix","",0,null,null,null,{"$error":"#N/A"}]
[null,null,null,null,null,"1005CM..LD10","Hamm Quarries, Eudora","3171900314",4612,"Stoner 1S-3S","4612_1S-3S",6956,{"$error":"#N/A"},{"$error":"#N/A"},null,null,null,null,null,null,null,null,null,null,null,null,null,null,null,null,null,null,null,null,null,null,"1005FACCNS..CA","Lincoln County Sand & Gravel, Winfield","",0,null,null,null,{"$error":"#N/A"}]
[null,null,null,null,null,"1005CM..LD10","Hamm Quarry, La Cygne, KS (Mid-State)","3049000117",144,"Winterset A-B","144_A-B",549,{"$error":"#N/A"},{"$error":"#N/A"},null,null,null,null,null,null,null,null,null,null,null,null,null,null,null,null,null,null,null,null,null,null,"1005FACCNS..CA","Loch Sand","",0,null,null,null,{"$error":"#N/A"}]
[null,null,null,null,null,"1005CM..LD10","Heartland Materials, LLC","3453100150",4779,"Decorah-Plattin 29-26","4779_29-26",7176,{"$error":"#N/A"},{"$error":"#N/A"},null,null,null,null,null,null,null,null,null,null,null,null,null,null,null,null,null,null,null,null,null,null,"1005FACCNS..CA","Lyman Richey, Gretna, NE Plant No. 50","",0,null,null,null,{"$error":"#N/A"}]
[null,null,null,null,null,"1005CM..LD10","Heartland Materials, LLC","3453100150",4779,"Plattin 27","4779_27",7169,{"$error":"#N/A"},{"$error":"#N/A"},null,null,null,null,null,null,null,null,null,null,null,null,null,null,null,null,null,null,null,null,null,null,"1005FACCNS..CA","Lyman Richey, Gretna, NE Plant No. 51","",0,null,null,null,{"$error":"#N/A"}]
[null,null,null,null,null,"1005CM..LD10","Herzog, Wathena Stone","3020400411",663,"Amazonia 1A-2A","663_1A-2A",1655,{"$error":"#N/A"},{"$error":"#N/A"},null,null,null,null,null,null,null,null,null,null,null,null,null,null,null,null,null,null,null,null,null,null,"1005FACCNS..CA","Lyman Richey, Gretna, NE Plant No. 52","",0,null,null,null,{"$error":"#N/A"}]
[null,null,null,null,null,"1005CM..LD10","Holliday Sand and Stone, S&K (Ash Grove)","3002900217",3559,"Higginsville 10","3559_10",6775,{"$error":"#N/A"},{"$error":"#N/A"},null,null,null,null,null,null,null,null,null,null,null,null,null,null,null,null,null,null,null,null,null,null,"1005FACCNS..CA","Lyman Richey, Plattsmouth, NE Plant No. 3","",0,null,null,null,{"$error":"#N/A"}]
[null,null,null,null,null,"1005CM..LD10","Johnson County Aggregates, KS","3186000114",1508,"Argentine 1A-3A","1508_1A-3A",4652,{"$error":"#N/A"},{"$error":"#N/A"},null,null,null,null,null,null,null,null,null,null,null,null,null,null,null,null,null,null,null,null,null,null,"1005FACCNS..CA","Lyman Richey, Valley, NE Plant No. 7","",0,null,null,null,{"$error":"#N/A"}]
[null,null,null,null,null,"1005CM..LD10","Johnson County Aggregates, KS","3186000114",1508,"Farley 1F-3F","1508_1F-3F",4651,{"$error":"#N/A"},{"$error":"#N/A"},null,null,null,null,null,null,null,null,null,null,null,null,null,null,null,null,null,null,null,null,null,null,"1005FACCNS..CA","Madison County Sand (Quality Sand)",{"$f":"IF(AK602=$AK$44,AL602,\"\")","v":""},null,null,null,null,{"$error":"#N/A"}]
[null,null,null,null,null,"1005CM..LD10","Lead Belt, Park Hills Stone","3027000110",630,"Derby-Doe Run 4-1","630_4-1",1521,{"$error":"#N/A"},{"$error":"#N/A"},null,null,null,null,null,null,null,null,null,null,null,null,null,null,null,null,null,null,null,null,null,null,"1005FACCNS..CA","Midwest Concrete Materials, Inc., Kansas","",null,null,null,null,{"$error":"#N/A"}]
[null,null,null,null,null,"1005CM..LD10","MLH and Sons Quarry","3257300218",5099,"Jefferson City - Cotter 1","5099_1",7325,{"$error":"#N/A"},{"$error":"#N/A"},null,null,null,null,null,null,null,null,null,null,null,null,null,null,null,null,null,null,null,null,null,null,"1005FACCNS..CA","Milan Ready Mix (Sullivan County RM)","",null,null,null,null,{"$error":"#N/A"}]
[null,null,null,null,null,"1005CM..LD10","MM Quarry","3541000114",5355,"Burlington 1B-4B","5355_1B-4B",7864,{"$error":"#N/A"},{"$error":"#N/A"},null,null,null,null,null,null,null,null,null,null,null,null,null,null,null,null,null,null,null,null,null,null,"1005FACCNS..CA","Missouri Sand, Amazonia","",null,null,null,null,{"$error":"#N/A"}]
[null,null,null,null,null,"1005CM..LD10","Magruder Limestone #1, Troy","3029700113",842,"Burlington 1-7","842_1-7",2543,{"$error":"#N/A"},{"$error":"#N/A"},null,null,null,null,null,null,null,null,null,null,null,null,null,null,null,null,null,null,null,null,null,null,"1005FACCNS..CA","New Frontier, Barnhart Quarry","",null,null,null,null,{"$error":"#N/A"}]
[null,null,null,null,null,"1005CM..LD10","Magruder Limestone, Foley","3139700113",1382,"Plattin 5-7","1382_5-7",4367,{"$error":"#N/A"},{"$error":"#N/A"},null,null,null,null,null,null,null,null,null,null,null,null,null,null,null,null,null,null,null,null,null,null,"1005FACCNS..CA","Northridge Sand, LLC, Maize, KS","",null,null,null,null,{"$error":"#N/A"}]
[null,null,null,null,null,"1005CM..LD10","Magruder Limestone, Osage Hills","3029701415",5298,"Gasconade 1","5298_1",7555,{"$error":"#N/A"},{"$error":"#N/A"},null,null,null,null,null,null,null,null,null,null,null,null,null,null,null,null,null,null,null,null,null,null,"1005FACCNS..CA","Old Monroe Materials","",null,null,null,null,{"$error":"#N/A"}]
[null,null,null,null,null,"1005CM..LD10","Magruder Limestone, Silex","3029700613",841,"Plattin 22","841_22",2531,{"$error":"#N/A"},{"$error":"#N/A"},null,null,null,null,null,null,null,null,null,null,null,null,null,null,null,null,null,null,null,null,null,null,"1005FACCNS..CA","Oldcastle Infrastructure, Topeka, KS","",null,null,null,null,{"$error":"#N/A"}]
[null,null,null,null,null,"1005CM..LD10","Magruder Limestone, Silex","3029700613",841,"Plattin 22-21","841_22-21",7951,{"$error":"#N/A"},{"$error":"#N/A"},null,null,null,null,null,null,null,null,null,null,null,null,null,null,null,null,null,null,null,null,null,null,"1005FACCNS..CA","Ozark Ready Mix","",null,null,null,null,{"$error":"#N/A"}]
[null,null,null,null,null,"1005CM..LD10","Mid Missouri Limestone (Auxvasse - South Gate)","3001900115",1351,"Cedar Valley 6-7-8-9","1351_6-7-8-9",7393,{"$error":"#N/A"},{"$error":"#N/A"},null,null,null,null,null,null,null,null,null,null,null,null,null,null,null,null,null,null,null,null,null,null,"1005FACCNS..CA","Penny's Concrete","",null,null,null,null,{"$error":"#N/A"}]
[null,null,null,null,null,"1005CM..LD10","Mid Missouri Limestone (Reform)","3031700115",402,"Cedar Valley 1 & 2","402_1 & 2",1215,{"$error":"#N/A"},{"$error":"#N/A"},null,null,null,null,null,null,null,null,null,null,null,null,null,null,null,null,null,null,null,null,null,null,"1005FACCNS..CA","Penny's Schaake Plant, Lawrence (Kaw Sand)","",null,null,null,null,{"$error":"#N/A"}]
[null,null,null,null,null,"1005CM..LD10","Mid-States Materials, Plummer Creek, Scranton, KS","3547400114",5451,"Ervine Creek 2EC","5451_2EC",7844,{"$error":"#N/A"},{"$error":"#N/A"},null,null,null,null,null,null,null,null,null,null,null,null,null,null,null,null,null,null,null,null,null,null,"1005FACCNS..CA","Politte Ready Mix, LLC","",null,null,null,null,{"$error":"#N/A"}]
[null,null,null,null,null,"1005CM..LD10","Midwest Minerals, Fort Scott, KS","3002908217",1779,"Laberdie 1","1779_1",5121,{"$error":"#N/A"},{"$error":"#N/A"},null,null,null,null,null,null,null,null,null,null,null,null,null,null,null,null,null,null,null,null,null,null,"1005FACCNS..CA","Producer Supplier not designated.","",null,null,null,null,{"$error":"#N/A"}]
[null,null,null,null,null,"1005CM..LD10","Midwest Minerals, Pittsburg, KS","3032000417",593,"Black Jack Creek 1","593_1",1479,{"$error":"#N/A"},{"$error":"#N/A"},null,null,null,null,null,null,null,null,null,null,null,null,null,null,null,null,null,null,null,null,null,null,"1005FACCNS..CA","River Products, Fredonia","",null,null,null,null,{"$error":"#N/A"}]
[null,null,null,null,null,"1005CM..LD10","Midwest Minerals, Pittsburg, KS","3032000417",593,"Black Jack Creek 1E","593_1E",7464,{"$error":"#N/A"},{"$error":"#N/A"},null,null,null,null,null,null,null,null,null,null,null,null,null,null,null,null,null,null,null,null,null,null,"1005FACCNS..CA","River Valley Materials, LLC","",null,null,null,null,{"$error":"#N/A"}]
[null,null,null,null,null,"1005CM..LD10","Mulberry Limestone, Pittsburg, KS","3160600417",5404,"Black Jack Creek 1","5404_1",7750,{"$error":"#N/A"},{"$error":"#N/A"},null,null,null,null,null,null,null,null,null,null,null,null,null,null,null,null,null,null,null,null,null,null,"1005FACCNS..CA","Shawnee Sand & Gravel, IL","",null,null,null,null,{"$error":"#N/A"}]
[null,null,null,null,null,"1005CM..LD10","Mulberry Quarry, Lamar (Ash Grove Aggr #84)","3045600117",190,"Warsaw 1-3","190_1-3",619,{"$error":"#N/A"},{"$error":"#N/A"},null,null,null,null,null,null,null,null,null,null,null,null,null,null,null,null,null,null,null,null,null,null,"1005FACCNS..CA","Smith Sand & Gravel (Rolla)","",null,null,null,null,{"$error":"#N/A"}]
[null,null,null,null,null,"1005CM..LD10","Norris Quarries LLC, Kingston (APAC - Kingston)","3014800411",1033,"Bethany Falls 1BF-4BF","1033_1BF-4BF",3337,{"$error":"#N/A"},{"$error":"#N/A"},null,null,null,null,null,null,null,null,null,null,null,null,null,null,null,null,null,null,null,null,null,null,"1005FACCNS..CA","Smith Sand & Gravel (Salem)","",null,null,null,null,{"$error":"#N/A"}]
[null,null,null,null,null,"1005CM..LD10","Norris Quarries, Knoxville (Ray County, #1 SW Pit)","3021301914",2347,"Bethany Falls 1-3","2347_1-3",5983,{"$error":"#N/A"},{"$error":"#N/A"},null,null,null,null,null,null,null,null,null,null,null,null,null,null,null,null,null,null,null,null,null,null,"1005FACCNS..CA","St. Charles County Concrete","",null,null,null,null,{"$error":"#N/A"}]
[null,null,null,null,null,"1005CM..LD10","Norris Quarries, Trenton","3030601212",788,"Bethany Falls 1B-3B","788_1B-3B",2080,{"$error":"#N/A"},{"$error":"#N/A"},null,null,null,null,null,null,null,null,null,null,null,null,null,null,null,null,null,null,null,null,null,null,"1005FACCNS..CA","Thompson Bros Ready Mix","",null,null,null,null,{"$error":"#N/A"}]
[null,null,null,null,null,"1005CM..LD10","Olean Quarry","3550300115",5487,"Jefferson City 1-2","5487_1-2",7889,{"$error":"#N/A"},{"$error":"#N/A"},null,null,null,null,null,null,null,null,null,null,null,null,null,null,null,null,null,null,null,null,null,null,"1005FACCNS..CA","Vernon County Ready Mix","",null,null,null,null,{"$error":"#N/A"}]
[null,null,null,null,null,"1005CM..LD10","Pattison Sand Company, Clayton, IA","3918700115",5190,"Beecher 5","5190_5",7403,{"$error":"#N/A"},{"$error":"#N/A"},null,null,null,null,null,null,null,null,null,null,null,null,null,null,null,null,null,null,null,null,null,null,"1005FACCNS..CA","Vulcan Materials, Rochester, IL","",null,null,null,null,{"$error":"#N/A"}]
[null,null,null,null,null,"1005CM..LD10","Pattison Sand Company, Clayton, IA","3918700115",5190,"Buckhorn 7","5190_7",7405,{"$error":"#N/A"},{"$error":"#N/A"},null,null,null,null,null,null,null,null,null,null,null,null,null,null,null,null,null,null,null,null,null,null,"1005FACCNS..CA","Wayland Sand (M & O Concrete)","",null,null,null,null,{"$error":"#N/A"}]
[null,null,null,null,null,"1005CM..LD10","Pattison Sand Company, Clayton, IA","3918700115",5190,"Eagle Point 4","5190_4",7402,{"$f":"IF(AND($F$17=H625,$AK$44=F625),J625,\"\")","v":{"$error":"#N/A"}},{"$f":"IF(AND($F$17=H625,$AK$44=F625),L625,\"\")","v":{"$error":"#N/A"}},null,null,null,null,null,null,null,null,null,null,null,null,null,null,null,null,null,null,null,null,null,null,"1005FACCNS..CA","Wayne B. Smith, Louisiana Sand","",null,null,null,null,{"$error":"#N/A"}]
[null,null,null,null,null,"1005CM..LD10","Pattison Sand Company, Clayton, IA","3918700115",5190,"Fairplay 3","5190_3",7401,{"$error":"#N/A"},{"$error":"#N/A"},null,null,null,null,null,null,null,null,null,null,null,null,null,null,null,null,null,null,null,null,null,null,"1005FACCNS..CA","Western Sand & Gravel, Louisville Pit","",null,null,null,null,{"$error":"#N/A"}]
[null,null,null,null,null,"1005CM..LD10","Pattison Sand Company, Clayton, IA","3918700115",5190,"Mortimer-Rivoli 2","5190_2",7400,{"$error":"#N/A"},{"$error":"#N/A"},null,null,null,null,null,null,null,null,null,null,null,null,null,null,null,null,null,null,null,null,null,null,"1005FACCNS..CA","Winter Brothers, Hagemann","",null,null,null,null,{"$error":"#N/A"}]
[null,null,null,null,null,"1005CM..LD10","Pattison Sand Company, Clayton, IA","3918700115",5190,"Oneota 12","5190_12",7410,{"$error":"#N/A"},{"$error":"#N/A"},null,null,null,null,null,null,null,null,null,null,null,null,null,null,null,null,null,null,null,null,null,null,"1005FACCNS..CA","Yeary Trucking, Beaver Creek","",null,null,null,null,{"$error":"#N/A"}]
[null,null,null,null,null,"1005CM..LD10","Pattison Sand Company, Clayton, IA","3918700115",5190,"Oneota 13","5190_13",7411,{"$error":"#N/A"},{"$error":"#N/A"},null,null,null,null,null,null,null,null,null,null,null,null,null,null,null,null,null,null,null,null,null,null,"1005FACCNS..CB","BMC Sand (Lincoln County Sand & Gravel,Old Monroe)","",null,null,null,null,{"$error":"#N/A"}]
[null,null,null,null,null,"1005CM..LD10","Pattison Sand Company, Clayton, IA","3918700115",5190,"Shakopee 10","5190_10",7408,{"$error":"#N/A"},{"$error":"#N/A"},null,null,null,null,null,null,null,null,null,null,null,null,null,null,null,null,null,null,null,null,null,null,"1005FACCNS..CB","Brenda Kay Sand, LLC (Shakespear Oil)","",null,null,null,null,{"$error":"#N/A"}]
[null,null,null,null,null,"1005CM..LD10","Pattison Sand Company, Clayton, IA","3918700115",5190,"Shakopee 8","5190_8",7406,{"$error":"#N/A"},{"$error":"#N/A"},null,null,null,null,null,null,null,null,null,null,null,null,null,null,null,null,null,null,null,null,null,null,"1005FACCNS..CB","Capital Sand #8, Lexington","",null,null,null,null,{"$error":"#N/A"}]
[null,null,null,null,null,"1005CM..LD10","Pattison Sand Company, Clayton, IA","3918700115",5190,"Shakopee 9","5190_9",7407,{"$error":"#N/A"},{"$error":"#N/A"},null,null,null,null,null,null,null,null,null,null,null,null,null,null,null,null,null,null,null,null,null,null,"1005FACCNS..CB","Dexter Sand & Gravel","",null,null,null,null,{"$error":"#N/A"}]
[null,null,null,null,null,"1005CM..LD10","Pattison Sand Company, Clayton, IA","3918700115",5190,"Sherwood 1","5190_1",7399,{"$error":"#N/A"},{"$error":"#N/A"},null,null,null,null,null,null,null,null,null,null,null,null,null,null,null,null,null,null,null,null,null,null,"1005FACCNS..CB","Douds Stone, Eldon Sand, Eldon, IA","",null,null,null,null,{"$error":"#N/A"}]
[null,null,null,null,null,"1005CM..LD10","Pattison Sand Company, Clayton, IA","3918700115",5190,"St. James 6","5190_6",7404,{"$error":"#N/A"},{"$error":"#N/A"},null,null,null,null,null,null,null,null,null,null,null,null,null,null,null,null,null,null,null,null,null,null,"1005FACCNS..CB","Douds Stone, LLC, Ottumwa Sand, Ottumwa, IA","",null,null,null,null,{"$error":"#N/A"}]
[null,null,null,null,null,"1005CM..LD10","Pattison Sand Company, Clayton, IA","3918700115",5190,"Transition Zone 11","5190_11",7409,{"$error":"#N/A"},{"$error":"#N/A"},null,null,null,null,null,null,null,null,null,null,null,null,null,null,null,null,null,null,null,null,null,null,"1005FACCNS..CB","Fischer Concrete","",null,null,null,null,{"$error":"#N/A"}]
[null,null,null,null,null,"1005CM..LD10","Select Materials Midwest - Perryville (Lafarge)","3030636610",827,"Plattin 3-1","827_3-1",7834,{"$error":"#N/A"},{"$error":"#N/A"},null,null,null,null,null,null,null,null,null,null,null,null,null,null,null,null,null,null,null,null,null,null,"1005FACCNS..CB","Keyesport Sand and Gravel","",null,null,null,null,{"$error":"#N/A"}]
[null,null,null,null,null,"1005CM..LD10","Shawnee Stone - Jonesboro, IL","3436600110",3668,"Lower Ullin 9","3668_9",7807,{"$error":"#N/A"},{"$error":"#N/A"},null,null,null,null,null,null,null,null,null,null,null,null,null,null,null,null,null,null,null,null,null,null,"1005FACCNS..CB","Kimaterials","",null,null,null,null,{"$error":"#N/A"}]
[null,null,null,null,null,"1005CM..LD10","Southeast Missouri Stone (SEMO)","3042800110",248,"Joachim-Dolomite 27A-42A","248_27A-42A",859,{"$error":"#N/A"},{"$error":"#N/A"},null,null,null,null,null,null,null,null,null,null,null,null,null,null,null,null,null,null,null,null,null,null,"1005FACCNS..CB","Lincoln County Sand & Gravel, Winfield","",null,null,null,null,{"$error":"#N/A"}]
[null,null,null,null,null,"1005CM..LD10","Southeast Missouri Stone (SEMO)","3042800110",248,"Plattin 42-41","248_42-41",855,{"$error":"#N/A"},{"$error":"#N/A"},null,null,null,null,null,null,null,null,null,null,null,null,null,null,null,null,null,null,null,null,null,null,"1005FACCNS..CB","Norris Quarries Sand (Kenny Stoner)","",null,null,null,null,{"$error":"#N/A"}]
[null,null,null,null,null,"1005CM..LD10","Table Rock - Kenny Nikins Quarry","3045503418",186,"Pierson 1P","186_1P",566,{"$error":"#N/A"},{"$error":"#N/A"},null,null,null,null,null,null,null,null,null,null,null,null,null,null,null,null,null,null,null,null,null,null,"1005FACCNS..CB","Norris Sand, Stanberry","",null,null,null,null,{"$error":"#N/A"}]
[null,null,null,null,null,"1005CM..LD10","Table Rock, Kimberling City Qy","3045500318",188,"Cotter D","188_D",7884,{"$error":"#N/A"},{"$error":"#N/A"},null,null,null,null,null,null,null,null,null,null,null,null,null,null,null,null,null,null,null,null,null,null,"1005FACCNS..CB","Old Monroe Materials","",null,null,null,null,{"$error":"#N/A"}]
[null,null,null,null,null,"1005CM..LD10","Wayne B. Smith, Pit #8","3045900813",3787,"Burlington 2","3787_2",6860,{"$error":"#N/A"},{"$error":"#N/A"},null,null,null,null,null,null,null,null,null,null,null,null,null,null,null,null,null,null,null,null,null,null,"1005FACCNS..CB","Producer Supplier not designated.","",null,null,null,null,{"$error":"#N/A"}]
[null,null,null,null,null,"1005FACCNS","11 Point Sand and Gravel","3542200119",5374,"Eleven Point River Sand SAND","5374_SAND",7707,{"$error":"#N/A"},{"$error":"#N/A"},null,null,null,null,null,null,null,null,null,null,null,null,null,null,null,null,null,null,null,null,null,null,"1005FACCNS..CB","River Bend Materials, Pit #2 (County Materials)","",null,null,null,null,{"$error":"#N/A"}]
[null,null,null,null,null,"1005FACCNS","Callaway Gravel, Sand, and Soil","3919100155",5214,"Auxvasee,Middle River, Crows Fork, Stenson Creek SAND","5214_SAND",7448,{"$error":"#N/A"},{"$error":"#N/A"},null,null,null,null,null,null,null,null,null,null,null,null,null,null,null,null,null,null,null,null,null,null,"1005FACCNS..CB","River Valley Materials, LLC","",null,null,null,null,{"$error":"#N/A"}]
[null,null,null,null,null,"1005FACCNS","JR Sand and Gravel","3506200119",4758,"Bryant Creek Sand SAND","4758_SAND",7157,{"$error":"#N/A"},{"$error":"#N/A"},null,null,null,null,null,null,null,null,null,null,null,null,null,null,null,null,null,null,null,null,null,null,"1005FACCNS..CB","Simpson S&G, Peerless Park","",null,null,null,null,{"$error":"#N/A"}]
[null,null,null,null,null,"1005FACCNS","Mid MO Sand & Gravel, Iberia","3554500115",5543,"Sand Sand","5543_Sand",7971,{"$error":"#N/A"},{"$error":"#N/A"},null,null,null,null,null,null,null,null,null,null,null,null,null,null,null,null,null,null,null,null,null,null,"1005FACCNS..CB","Viking Aggregates, Wayland Sand","",null,null,null,null,{"$error":"#N/A"}]
[null,null,null,null,null,"1005FACCNS..CA","APAC-Central (dba: Arkhola Sand & Gravel)","3001600117",1082,"Arkansas River Sand SAND","1082_SAND",3452,{"$error":"#N/A"},{"$error":"#N/A"},null,null,null,null,null,null,null,null,null,null,null,null,null,null,null,null,null,null,null,null,null,null,"1005FACCNS..CB","Wayland Sand (M & O Concrete)","",null,null,null,null,{"$error":"#N/A"}]
[null,null,null,null,null,"1005FACCNS..CA","Amrize Sand (Lafarge), Bridgeton","3043900116",207,"Missouri River Sand SAND","207_SAND",633,{"$error":"#N/A"},{"$error":"#N/A"},null,null,null,null,null,null,null,null,null,null,null,null,null,null,null,null,null,null,null,null,null,null,"1005FACCNS..CC","11 Point Sand and Gravel","",null,null,null,null,{"$error":"#N/A"}]
[null,null,null,null,null,"1005FACCNS..CA","Anchor Stone - Choska Sand, Coweta, OK","3150800717",5349,"Arkansas River SAND","5349_SAND",7670,{"$error":"#N/A"},{"$error":"#N/A"},null,null,null,null,null,null,null,null,null,null,null,null,null,null,null,null,null,null,null,null,null,null,"1005FACCNS..CC","49 Sand & Gravel Products","",null,null,null,null,{"$error":"#N/A"}]
[null,null,null,null,null,"1005FACCNS..CA","Anchor Stone - Delaware Plant, OK","3150800317",13,"Arkansas River SAND","13_SAND",11,{"$error":"#N/A"},{"$error":"#N/A"},null,null,null,null,null,null,null,null,null,null,null,null,null,null,null,null,null,null,null,null,null,null,"1005FACCNS..CC","B & B Materials","",null,null,null,null,{"$error":"#N/A"}]
[null,null,null,null,null,"1005FACCNS..CA","Bluewing Materials, Doniphan Sand and Gravel","3411400239",5356,"Cane Creek Stone, Sand SAND","5356_SAND",7689,{"$error":"#N/A"},{"$error":"#N/A"},null,null,null,null,null,null,null,null,null,null,null,null,null,null,null,null,null,null,null,null,null,null,"1005FACCNS..CC","Big Piney Sand, Houston (River Rock)","",null,null,null,null,{"$error":"#N/A"}]
[null,null,null,null,null,"1005FACCNS..CA","Brenda Kay Sand, LLC (Shakespear Oil)","3172000110",1185,"Mississippi River Field Sand FIELD SAND","1185_FIELD SAND",3831,{"$error":"#N/A"},{"$error":"#N/A"},null,null,null,null,null,null,null,null,null,null,null,null,null,null,null,null,null,null,null,null,null,null,"1005FACCNS..CC","Bluewing Materials, Doniphan Sand and Gravel","",null,null,null,null,{"$error":"#N/A"}]
[null,null,null,null,null,"1005FACCNS..CA","Buckhart Sand & Gravel","3412100113",3570,"Glacial Sand SAND","3570_SAND",6779,{"$error":"#N/A"},{"$error":"#N/A"},null,null,null,null,null,null,null,null,null,null,null,null,null,null,null,null,null,null,null,null,null,null,"1005FACCNS..CC","Callaway Gravel, Sand, and Soil","",null,null,null,null,{"$error":"#N/A"}]
[null,null,null,null,null,"1005FACCNS..CA","Builders Choice Aggregates, Topeka, KS","3425800114",3743,"Kansas River Field Sand FIELD SAND","3743_FIELD SAND",7867,{"$error":"#N/A"},{"$error":"#N/A"},null,null,null,null,null,null,null,null,null,null,null,null,null,null,null,null,null,null,null,null,null,null,"1005FACCNS..CC","Hermann Sand & Gravel","",null,null,null,null,{"$error":"#N/A"}]
[null,null,null,null,null,"1005FACCNS..CA","Cameron Concrete Company","3015500231",1132,"Cameron Concrete Co., Cameron cameron","1132_cameron",3595,{"$error":"#N/A"},{"$error":"#N/A"},null,null,null,null,null,null,null,null,null,null,null,null,null,null,null,null,null,null,null,null,null,null,"1005FACCNS..CC","JR Sand and Gravel","",null,null,null,null,{"$error":"#N/A"}]
[null,null,null,null,null,"1005FACCNS..CA","Capital Sand #1,  Wardsville (Osage Riv)","3006400615",1922,"Osage River Sand SAND","1922_SAND",5468,{"$error":"#N/A"},{"$error":"#N/A"},null,null,null,null,null,null,null,null,null,null,null,null,null,null,null,null,null,null,null,null,null,null,"1005FACCNS..CC","Politte Ready Mix, LLC","",null,null,null,null,{"$error":"#N/A"}]
[null,null,null,null,null,"1005FACCNS..CA","Capital Sand #12, (Farmers) Washington","3057900216",2050,"Missouri River Sand SAND","2050_SAND",5695,{"$error":"#N/A"},{"$error":"#N/A"},null,null,null,null,null,null,null,null,null,null,null,null,null,null,null,null,null,null,null,null,null,null,"1005FACCNS..CC","Smith Sand & Gravel (Salem)","",null,null,null,null,{"$error":"#N/A"}]
[null,null,null,null,null,"1005FACCNS..CA","Capital Sand #2, Jefferson City","3006400115",966,"Missouri River NS/GV","966_NS/GV",3155,{"$error":"#N/A"},{"$error":"#N/A"},null,null,null,null,null,null,null,null,null,null,null,null,null,null,null,null,null,null,null,null,null,null,"1005FACCNS..CC","Stewart-Morrison - Spring Creek Materials","",null,null,null,null,{"$error":"#N/A"}]
[null,null,null,null,null,"1005FACCNS..CA","Capital Sand #20, Riverbend (MO Sand Company)","3020701214",937,"Missouri River Field Sand SAND","937_SAND",2924,{"$error":"#N/A"},{"$error":"#N/A"},null,null,null,null,null,null,null,null,null,null,null,null,null,null,null,null,null,null,null,null,null,null,"1005FACCNS..CC","Tucker Sand & Gravel, LLC.","",null,null,null,null,{"$error":"#N/A"}]
[null,null,null,null,null,"1005FACCNS..CA","Capital Sand #3, Glasgow","3006400312",1120,"Missouri River Sand SAND","1120_SAND",3589,{"$error":"#N/A"},{"$error":"#N/A"},null,null,null,null,null,null,null,null,null,null,null,null,null,null,null,null,null,null,null,null,null,null,"1005FACCNS..CC","Yeary Trucking, Beaver Creek","",null,null,null,null,{"$error":"#N/A"}]
[null,null,null,null,null,"1005FACCNS..CA","Capital Sand #6, (Columbia) Rocheport","3009500115",55,"Missouri River NS/GV","55_NS/GV",106,{"$error":"#N/A"},{"$error":"#N/A"},null,null,null,null,null,null,null,null,null,null,null,null,null,null,null,null,null,null,null,null,null,null,"1005FACCNS..CD","Producer Supplier not designated.","",null,null,null,null,{"$error":"#N/A"}]
[null,null,null,null,null,"1005FACCNS..CA","Capital Sand #8, Lexington","3006400414",1121,"Missouri River Sand SAND","1121_SAND",3590,{"$error":"#N/A"},{"$error":"#N/A"},null,null,null,null,null,null,null,null,null,null,null,null,null,null,null,null,null,null,null,null,null,null,"1005FACCNS..CD","Yeary Trucking, Beaver Creek","",null,null,null,null,{"$error":"#N/A"}]
[null,null,null,null,null,"1005FACCNS..CA","Capital Sand Company (Missouri City) Plant 22","3534300114",5198,"Missouri River Sand Sand","5198_Sand",7417,{"$error":"#N/A"},{"$error":"#N/A"},null,null,null,null,null,null,null,null,null,null,null,null,null,null,null,null,null,null,null,null,null,null,"1005FACCNS..CM","Lyman Richey, Plattsmouth, NE Plant No. 3","",null,null,null,null,{"$error":"#N/A"}]
[null,null,null,null,null,"1005FACCNS..CA","Capital Sand, Brunswick","3006400911",4529,"Missouri River Sand SAND","4529_SAND",6914,{"$error":"#N/A"},{"$error":"#N/A"},null,null,null,null,null,null,null,null,null,null,null,null,null,null,null,null,null,null,null,null,null,null,"1005GDCMGV","Capital Sand #1,  Wardsville (Osage Riv)","",null,null,null,null,{"$error":"#N/A"}]
[null,null,null,null,null,"1005FACCNS..CA","Central Stone #31, Sand Plant, Florissant","3007906116",1297,"Missouri River Sand 0","1297_0",4101,{"$error":"#N/A"},{"$error":"#N/A"},null,null,null,null,null,null,null,null,null,null,null,null,null,null,null,null,null,null,null,null,null,null,"1005GDCMGV","Central Stone #61, LaGrange Sand & Gravel","",null,null,null,null,{"$error":"#N/A"}]
[null,null,null,null,null,"1005FACCNS..CA","Central Stone #61, LaGrange Sand & Gravel","3007926113",4546,"Glacial Sand SAND","4546_SAND",6923,{"$error":"#N/A"},{"$error":"#N/A"},null,null,null,null,null,null,null,null,null,null,null,null,null,null,null,null,null,null,null,null,null,null,"1005GDCMGV","Havin Materials, Meramec Aggr, St. Clair",{"$f":"IF(AK666=$AK$44,AL666,\"\")","v":""},null,null,null,null,{"$error":"#N/A"}]
[null,null,null,null,null,"1005FACCNS..CA","Central Stone #71, Sand, Jefferson Barracks Quarry","3005701116",1152,"Mississippi River Sand SAND","1152_SAND",3728,{"$error":"#N/A"},{"$error":"#N/A"},null,null,null,null,null,null,null,null,null,null,null,null,null,null,null,null,null,null,null,null,null,null,"1005GDCMGV","Houston Ready Mix, Spring Creek","",null,null,null,null,{"$error":"#N/A"}]
[null,null,null,null,null,"1005FACCNS..CA","Concrete Industries","3009900331",2923,"Concrete Industries,  Auburn, NE Auburn","2923_Auburn",6444,{"$error":"#N/A"},{"$error":"#N/A"},null,null,null,null,null,null,null,null,null,null,null,null,null,null,null,null,null,null,null,null,null,null,"1005GDCMGV","Politte Ready Mix LLC, Big River","",null,null,null,null,{"$error":"#N/A"}]
[null,null,null,null,null,"1005FACCNS..CA","Concrete Industries","3009900331",2923,"Concrete Industries, Falls City, NE Falls City","2923_Falls City",6442,{"$error":"#N/A"},{"$error":"#N/A"},null,null,null,null,null,null,null,null,null,null,null,null,null,null,null,null,null,null,null,null,null,null,"1005GDCMGV","Winter Brothers, Hagemann","",null,null,null,null,{"$error":"#N/A"}]
[null,null,null,null,null,"1005FACCNS..CA","Concrete Industries","3009900331",2923,"Concrete Industries, Nebraska City, NE Nebraska City","2923_Nebraska City",6443,{"$error":"#N/A"},{"$error":"#N/A"},null,null,null,null,null,null,null,null,null,null,null,null,null,null,null,null,null,null,null,null,null,null,"1005GDCMGV","Yeary Trucking, Beaver Creek","",null,null,null,null,{"$error":"#N/A"}]
[null,null,null,null,null,"1005FACCNS..CA","Dexter Sand & Gravel","3457000110",4586,"Field Sand SAND","4586_SAND",6946,{"$error":"#N/A"},{"$error":"#N/A"},null,null,null,null,null,null,null,null,null,null,null,null,null,null,null,null,null,null,null,null,null,null,"1005GDCMLD","APAC-Kansas Bates City Quarry","",null,null,null,null,{"$error":"#N/A"}]
[null,null,null,null,null,"1005FACCNS..CA","Fischer Concrete","3151700135",1019,"Fischer Concrete, Bethany (Bethany Ready Mix) Bethany","1019_Bethany",3283,{"$error":"#N/A"},{"$error":"#N/A"},null,null,null,null,null,null,null,null,null,null,null,null,null,null,null,null,null,null,null,null,null,null,"1005GDCMLD","APAC-Kansas Harrisonville Quarry","",null,null,null,null,{"$error":"#N/A"}]
[null,null,null,null,null,"1005FACCNS..CA","Fordyce Concrete","3055410034",4708,"Fordyce Concrete, Central, KC Kansas KC Kansas","4708_KC Kansas",7046,{"$error":"#N/A"},{"$error":"#N/A"},null,null,null,null,null,null,null,null,null,null,null,null,null,null,null,null,null,null,null,null,null,null,"1005GDCMLD","Base Rock Minerals, Fruitland","",null,null,null,null,{"$error":"#N/A"}]
[null,null,null,null,null,"1005FACCNS..CA","Fordyce Concrete","3055410034",4708,"Fordyce Concrete, East 63rd KC East 63rd KC","4708_East 63rd KC",7047,{"$error":"#N/A"},{"$error":"#N/A"},null,null,null,null,null,null,null,null,null,null,null,null,null,null,null,null,null,null,null,null,null,null,"1005GDCMLD","Cameron Concrete Company","",null,null,null,null,{"$error":"#N/A"}]
[null,null,null,null,null,"1005FACCNS..CA","G-71 Sand, Oskaloosa, IA","3237200112",2273,"Des Moines River Sand SAND","2273_SAND",5943,{"$error":"#N/A"},{"$error":"#N/A"},null,null,null,null,null,null,null,null,null,null,null,null,null,null,null,null,null,null,null,null,null,null,"1005GDCMLD","Cantera Aggregates #1, Plano Qy, Plano, IA","",null,null,null,null,{"$error":"#N/A"}]
[null,null,null,null,null,"1005FACCNS..CA","Gateway Sand and Gravel Ltd.","3264100116",2749,"Mississippi River Field Sand SAND","2749_SAND",6327,{"$error":"#N/A"},{"$error":"#N/A"},null,null,null,null,null,null,null,null,null,null,null,null,null,null,null,null,null,null,null,null,null,null,"1005GDCMLD","Cantera Aggregates #5, Walnut City Quarry IA","",null,null,null,null,{"$error":"#N/A"}]
[null,null,null,null,null,"1005FACCNS..CA","Geotech Sand & Stone, Eldon, IA","3547800113",5455,"Glacial Sand SAND","5455_SAND",7853,{"$error":"#N/A"},{"$error":"#N/A"},null,null,null,null,null,null,null,null,null,null,null,null,null,null,null,null,null,null,null,null,null,null,"1005GDCMLD","Capital Materials, Tightwad (APAC)","",null,null,null,null,{"$error":"#N/A"}]
[null,null,null,null,null,"1005FACCNS..CA","Hallett #282, Shenandoah","3017128211",970,"Nishnabotna River Sand SAND","970_SAND",3169,{"$error":"#N/A"},{"$error":"#N/A"},null,null,null,null,null,null,null,null,null,null,null,null,null,null,null,null,null,null,null,null,null,null,"1005GDCMLD","Capital Quarries #17, Sullivan","",null,null,null,null,{"$error":"#N/A"}]
[null,null,null,null,null,"1005FACCNS..CA","Hallett Materials, Des Moines","3017100113",3717,"Glacial Sand SAND","3717_SAND",6837,{"$error":"#N/A"},{"$error":"#N/A"},null,null,null,null,null,null,null,null,null,null,null,null,null,null,null,null,null,null,null,null,null,null,"1005GDCMLD","Capital Quarries #5, California","",null,null,null,null,{"$error":"#N/A"}]
[null,null,null,null,null,"1005FACCNS..CA","Hamm Sand, Desoto, KS (Sahara Sand)","3126500214",714,"Kansas River Field Sand FIELD SAND","714_FIELD SAND",7822,{"$error":"#N/A"},{"$error":"#N/A"},null,null,null,null,null,null,null,null,null,null,null,null,null,null,null,null,null,null,null,null,null,null,"1005GDCMLD","Central Stone #1, Hannibal (Huntington)","",null,null,null,null,{"$error":"#N/A"}]
[null,null,null,null,null,"1005FACCNS..CA","Havin Material Services","3019610036",4712,"Havin Material Services, Sullivan Sullivan","4712_Sullivan",7058,{"$error":"#N/A"},{"$error":"#N/A"},null,null,null,null,null,null,null,null,null,null,null,null,null,null,null,null,null,null,null,null,null,null,"1005GDCMLD","Concrete Industries","",null,null,null,null,{"$error":"#N/A"}]
[null,null,null,null,null,"1005FACCNS..CA","Hermann Sand & Gravel","3020300115",659,"Missouri River Sand NATURAL SAND","659_NATURAL SAND",1643,{"$error":"#N/A"},{"$error":"#N/A"},null,null,null,null,null,null,null,null,null,null,null,null,null,null,null,null,null,null,null,null,null,null,"1005GDCMLD","Fischer Concrete","",null,null,null,null,{"$error":"#N/A"}]
[null,null,null,null,null,"1005FACCNS..CA","Hermann Sand and Gravel, #2  (Muenks Brothers)","3060800215",567,"Missouri River sand SAND","567_SAND",1416,{"$error":"#N/A"},{"$error":"#N/A"},null,null,null,null,null,null,null,null,null,null,null,null,null,null,null,null,null,null,null,null,null,null,"1005GDCMLD","Herzog, Wathena Stone","",null,null,null,null,{"$error":"#N/A"}]
[null,null,null,null,null,"1005FACCNS..CA","Holliday Sand #7, Bonner Springs","3020700614",2094,"Kansas River Sand SAND","2094_SAND",5758,{"$error":"#N/A"},{"$error":"#N/A"},null,null,null,null,null,null,null,null,null,null,null,null,null,null,null,null,null,null,null,null,null,null,"1005GDCMLD","Holt Co Ready Mix","",null,null,null,null,{"$error":"#N/A"}]
[null,null,null,null,null,"1005FACCNS..CA","Holliday Sand & Gravel, #19, Haskell, OK","3020702517",5450,"Arkansas River SAND","5450_SAND",7841,{"$error":"#N/A"},{"$error":"#N/A"},null,null,null,null,null,null,null,null,null,null,null,null,null,null,null,null,null,null,null,null,null,null,"1005GDCMLD","Ideal Ready Mix","",null,null,null,null,{"$error":"#N/A"}]
[null,null,null,null,null,"1005FACCNS..CA","Holliday Sand & Gravel, #2 West, Shawnee, KS-SAND","3020700814",5318,"Kansas River Sand SAND","5318_SAND",7616,{"$error":"#N/A"},{"$error":"#N/A"},null,null,null,null,null,null,null,null,null,null,null,null,null,null,null,null,null,null,null,null,null,null,"1005GDCMLD","Loch Sand","",null,null,null,null,{"$error":"#N/A"}]
[null,null,null,null,null,"1005FACCNS..CA","Holliday Sand & Gravel, #3 West, Shawnee","3020700214",934,"Kansas River Field sand FIELD SAND","934_FIELD SAND",2918,{"$error":"#N/A"},{"$error":"#N/A"},null,null,null,null,null,null,null,null,null,null,null,null,null,null,null,null,null,null,null,null,null,null,"1005GDCMLD","Martin Marietta, Ferrelview (Stamper)","",null,null,null,null,{"$error":"#N/A"}]
[null,null,null,null,null,"1005FACCNS..CA","Holliday Sand & Gravel, Bixby","3020702117",932,"ARKANSAS RIVER SAND","932_SAND",2917,{"$error":"#N/A"},{"$error":"#N/A"},null,null,null,null,null,null,null,null,null,null,null,null,null,null,null,null,null,null,null,null,null,null,"1005GDCMLD","Martin Marietta, Weeping Water,NE","",null,null,null,null,{"$error":"#N/A"}]
[null,null,null,null,null,"1005FACCNS..CA","Holliday Sand & Gravel, Broken Arrow, OK","3020702419",5100,"Arkansas River SAND","5100_SAND",7326,{"$f":"IF(AND($F$17=H689,$AK$44=F689),J689,\"\")","v":{"$error":"#N/A"}},{"$f":"IF(AND($F$17=H689,$AK$44=F689),L689,\"\")","v":{"$error":"#N/A"}},null,null,null,null,null,null,null,null,null,null,null,null,null,null,null,null,null,null,null,null,null,null,"1005GDCMLD","Milan Ready Mix (Sullivan County RM)","",null,null,null,null,{"$error":"#N/A"}]
[null,null,null,null,null,"1005FACCNS..CA","Holliday Sand & Gravel, Cowetta, OK","3020701417",1397,"Arkansas River Sand SAND","1397_SAND",4385,{"$error":"#N/A"},{"$error":"#N/A"},null,null,null,null,null,null,null,null,null,null,null,null,null,null,null,null,null,null,null,null,null,null,"1005GDCMLD","New Frontier, New Melle Quarry","",null,null,null,null,{"$error":"#N/A"}]
[null,null,null,null,null,"1005FACCNS..CA","Holliday Sand & Gravel, Randolph","3020700314",938,"Missouri River Sand SAND","938_SAND",2926,{"$error":"#N/A"},{"$error":"#N/A"},null,null,null,null,null,null,null,null,null,null,null,null,null,null,null,null,null,null,null,null,null,null,"1005GDCMLD","Norris Quarries LLC, Akron (Jefferies Quarry)","",null,null,null,null,{"$error":"#N/A"}]
[null,null,null,null,null,"1005FACCNS..CA","Holliday Sand & Gravel, Riverside","3020701114",652,"Missouri River Sand SAND","652_SAND",1600,{"$error":"#N/A"},{"$error":"#N/A"},null,null,null,null,null,null,null,null,null,null,null,null,null,null,null,null,null,null,null,null,null,null,"1005GDCMLD","Norris Quarries LLC, Kingston (APAC - Kingston)","",null,null,null,null,{"$error":"#N/A"}]
[null,null,null,null,null,"1005FACCNS..CA","Holliday Sand & Gravel, St. Joseph","3020700111",653,"Missouri River Sand SAND","653_SAND",1602,{"$error":"#N/A"},{"$error":"#N/A"},null,null,null,null,null,null,null,null,null,null,null,null,null,null,null,null,null,null,null,null,null,null,"1005GDCMLD","Norris Quarries, Amazonia Quarry","",null,null,null,null,{"$error":"#N/A"}]
[null,null,null,null,null,"1005FACCNS..CA","Holt Co Ready Mix","3406500131",3341,"Holt Co Ready Mix, Mound City Mound City","3341_Mound City",6705,{"$error":"#N/A"},{"$error":"#N/A"},null,null,null,null,null,null,null,null,null,null,null,null,null,null,null,null,null,null,null,null,null,null,"1005GDCMLD","Norris Quarries, Bethany","",null,null,null,null,{"$error":"#N/A"}]
[null,null,null,null,null,"1005FACCNS..CA","Ideal Ready Mix","3021910033",4713,"Ideal Ready Mix, Canton Canton","4713_Canton",7064,{"$error":"#N/A"},{"$error":"#N/A"},null,null,null,null,null,null,null,null,null,null,null,null,null,null,null,null,null,null,null,null,null,null,"1005GDCMLD","Norris Quarries, Blue Mound","",null,null,null,null,{"$error":"#N/A"}]
[null,null,null,null,null,"1005FACCNS..CA","Ideal Ready Mix","3021910033",4713,"Ideal Ready Mix, Centerville, IA Centerville","4713_Centerville",7065,{"$error":"#N/A"},{"$error":"#N/A"},null,null,null,null,null,null,null,null,null,null,null,null,null,null,null,null,null,null,null,null,null,null,"1005GDCMLD","Norris Quarries, Breit Quarry, Savannah","",null,null,null,null,{"$error":"#N/A"}]
[null,null,null,null,null,"1005FACCNS..CA","Ideal Ready Mix","3021910033",4713,"Ideal Ready Mix, Kahoka Kahoka","4713_Kahoka",7063,{"$error":"#N/A"},{"$error":"#N/A"},null,null,null,null,null,null,null,null,null,null,null,null,null,null,null,null,null,null,null,null,null,null,"1005GDCMLD","Norris Quarries, Gallatin Quarry","",null,null,null,null,{"$error":"#N/A"}]
[null,null,null,null,null,"1005FACCNS..CA","Ideal Ready Mix","3021910033",4713,"Ideal Ready Mix, Unionville Unionville","4713_Unionville",7062,{"$error":"#N/A"},{"$error":"#N/A"},null,null,null,null,null,null,null,null,null,null,null,null,null,null,null,null,null,null,null,null,null,null,"1005GDCMLD","Norris Quarries, Knoxville (Ray County, #1 SW Pit)","",null,null,null,null,{"$error":"#N/A"}]
[null,null,null,null,null,"1005FACCNS..CA","Kaw Valley Sand & Gravel Morse","3024400214",5162,"Kansas River Sand Sand","5162_Sand",7363,{"$error":"#N/A"},{"$error":"#N/A"},null,null,null,null,null,null,null,null,null,null,null,null,null,null,null,null,null,null,null,null,null,null,"1005GDCMLD","Norris Quarries, Trenton","",null,null,null,null,{"$error":"#N/A"}]
[null,null,null,null,null,"1005FACCNS..CA","Keyesport Sand and Gravel","3024800116",700,"Glacial Sand SAND","700_SAND",1811,{"$error":"#N/A"},{"$error":"#N/A"},null,null,null,null,null,null,null,null,null,null,null,null,null,null,null,null,null,null,null,null,null,null,"1005GDCMLD","Oldcastle Infrastructure, Topeka, KS","",null,null,null,null,{"$error":"#N/A"}]
[null,null,null,null,null,"1005FACCNS..CA","Kimaterials","3025200113",678,"Glacial Sand SAND","678_SAND",1714,{"$error":"#N/A"},{"$error":"#N/A"},null,null,null,null,null,null,null,null,null,null,null,null,null,null,null,null,null,null,null,null,null,null,"1005GDCMLD","Payless Concrete","",null,null,null,null,{"$error":"#N/A"}]
[null,null,null,null,null,"1005FACCNS..CA","Kirksville Ready Mix","3025500132",1658,"Kirksville Ready Mix, Kirksville Kirksville","1658_Kirksville",5022,{"$error":"#N/A"},{"$error":"#N/A"},null,null,null,null,null,null,null,null,null,null,null,null,null,null,null,null,null,null,null,null,null,null,"1005GDCMLD","Penny's Concrete","",null,null,null,null,{"$error":"#N/A"}]
[null,null,null,null,null,"1005FACCNS..CA","Land-Chariton County Concrete","3026800132",623,"Land-Chariton County Concrete, Moberly Moberly","623_Moberly",1514,{"$error":"#N/A"},{"$error":"#N/A"},null,null,null,null,null,null,null,null,null,null,null,null,null,null,null,null,null,null,null,null,null,null,"1005GDCMLD","Producer Supplier not designated.","",null,null,null,null,{"$error":"#N/A"}]
[null,null,null,null,null,"1005FACCNS..CA","Lincoln County Sand & Gravel, Winfield","3212600213",5073,"Mississippi River Sand SAND","5073_SAND",7316,{"$error":"#N/A"},{"$error":"#N/A"},null,null,null,null,null,null,null,null,null,null,null,null,null,null,null,null,null,null,null,null,null,null,"1005GDCMLD","Summit Materials, Marshall (Boone Quarries)","",null,null,null,null,{"$error":"#N/A"}]
[null,null,null,null,null,"1005FACCNS..CA","Loch Sand","3028200131",615,"Loch Sand, Maryville Maryville","615_Maryville",1496,{"$error":"#N/A"},{"$error":"#N/A"},null,null,null,null,null,null,null,null,null,null,null,null,null,null,null,null,null,null,null,null,null,null,"1005GDCMLD","Thompson Bros Ready Mix","",null,null,null,null,{"$error":"#N/A"}]
[null,null,null,null,null,"1005FACCNS..CA","Lyman Richey, Gretna, NE Plant No. 50","3028500211",4982,"Platte River Sand SAND","4982_SAND",7268,{"$error":"#N/A"},{"$error":"#N/A"},null,null,null,null,null,null,null,null,null,null,null,null,null,null,null,null,null,null,null,null,null,null,"1005GDCMLD","Trager Limestone, Gallatin (NORTH)","",null,null,null,null,{"$error":"#N/A"}]
[null,null,null,null,null,"1005FACCNS..CA","Lyman Richey, Gretna, NE Plant No. 51","3028500311",4983,"Platte River Sand SAND","4983_SAND",7269,{"$error":"#N/A"},{"$error":"#N/A"},null,null,null,null,null,null,null,null,null,null,null,null,null,null,null,null,null,null,null,null,null,null,"1005GDCMLD","Trager Limestone, Gallatin (SOUTH)","",null,null,null,null,{"$error":"#N/A"}]
[null,null,null,null,null,"1005FACCNS..CA","Lyman Richey, Gretna, NE Plant No. 52","3028501011",5117,"Platte River Sand SAND","5117_SAND",7341,{"$error":"#N/A"},{"$error":"#N/A"},null,null,null,null,null,null,null,null,null,null,null,null,null,null,null,null,null,null,null,null,null,null,"1005GDCMLD","Trager Limestone, Nettleton","",null,null,null,null,{"$error":"#N/A"}]
[null,null,null,null,null,"1005FACCNS..CA","Lyman Richey, Plattsmouth, NE Plant No. 3","3028500911",1717,"Platte River Sand SAND","1717_SAND",5031,{"$error":"#N/A"},{"$error":"#N/A"},null,null,null,null,null,null,null,null,null,null,null,null,null,null,null,null,null,null,null,null,null,null,"1005GDCMLD","Westside Stone (Springfield Underground, Airport)","",null,null,null,null,{"$error":"#N/A"}]
[null,null,null,null,null,"1005FACCNS..CA","Lyman Richey, Valley, NE Plant No. 7","3028500111",4981,"Platte River Sand SAND","4981_SAND",7267,{"$error":"#N/A"},{"$error":"#N/A"},null,null,null,null,null,null,null,null,null,null,null,null,null,null,null,null,null,null,null,null,null,null,"1005GDCMLD","Williamsville Stone #1","",null,null,null,null,{"$error":"#N/A"}]
[null,null,null,null,null,"1005FACCNS..CA","Madison County Sand (Quality Sand)","3016601416",999,"Mississippi River Sand SAND","999_SAND",3213,{"$error":"#N/A"},{"$error":"#N/A"},null,null,null,null,null,null,null,null,null,null,null,null,null,null,null,null,null,null,null,null,null,null,"1005GDCMLS","Central Stone #74, Trautman Quarry","",null,null,null,null,{"$error":"#N/A"}]
[null,null,null,null,null,"1005FACCNS..CA","Midwest Concrete Materials, Inc., Kansas","3502100114",4651,"Midwest Concrete Materials, Field Sand FIELD SAND","4651_FIELD SAND",6994,{"$error":"#N/A"},{"$error":"#N/A"},null,null,null,null,null,null,null,null,null,null,null,null,null,null,null,null,null,null,null,null,null,null,"1005GDCMLS","Magruder Limestone #1, Troy","",null,null,null,null,{"$error":"#N/A"}]
[null,null,null,null,null,"1005FACCNS..CA","Milan Ready Mix (Sullivan County RM)","3198400132",1874,"Milan Ready Mix,  Milan Milan","1874_Milan",5374,{"$error":"#N/A"},{"$error":"#N/A"},null,null,null,null,null,null,null,null,null,null,null,null,null,null,null,null,null,null,null,null,null,null,"1005GDCMLS","Magruder Limestone, Ashley","",null,null,null,null,{"$error":"#N/A"}]
[null,null,null,null,null,"1005FACCNS..CA","Missouri Sand, Amazonia","3454600111",4760,"Missouri River Sand Sand","4760_Sand",7159,{"$error":"#N/A"},{"$error":"#N/A"},null,null,null,null,null,null,null,null,null,null,null,null,null,null,null,null,null,null,null,null,null,null,"1005GDCMLS","Martin Marietta, Randolph","",null,null,null,null,{"$error":"#N/A"}]
[null,null,null,null,null,"1005FACCNS..CA","New Frontier, Barnhart Quarry","3049900316",4732,"Kimmswick 1-5","4732_1-5",7138,{"$error":"#N/A"},{"$error":"#N/A"},null,null,null,null,null,null,null,null,null,null,null,null,null,null,null,null,null,null,null,null,null,null,"1005GDCMLS","Producer Supplier not designated.","",null,null,null,null,{"$error":"#N/A"}]
[null,null,null,null,null,"1005FACCNS..CA","New Frontier, Barnhart Quarry","3049900316",4732,"Mississippi River Sand SAND","4732_SAND",7149,{"$error":"#N/A"},{"$error":"#N/A"},null,null,null,null,null,null,null,null,null,null,null,null,null,null,null,null,null,null,null,null,null,null,"1005GECMDO","VLC Aggregate Inc., Desloge","",null,null,null,null,{"$error":"#N/A"}]
[null,null,null,null,null,"1005FACCNS..CA","Old Monroe Materials","3227400213",3029,"Glacial Sand SAND","3029_SAND",6493,{"$error":"#N/A"},{"$error":"#N/A"},null,null,null,null,null,null,null,null,null,null,null,null,null,null,null,null,null,null,null,null,null,null,"1005GECMGTBD","Martin Marietta (Mill Creek Quarry), OK","",null,null,null,null,{"$error":"#N/A"}]
[null,null,null,null,null,"1005FACCNS..CA","Ozark Ready Mix","3142610035",4718,"Ozark Ready Mix, Plant 248 at Knighton Avenue 248 Knighton Av","4718_248 Knighton Av",7872,{"$error":"#N/A"},{"$error":"#N/A"},null,null,null,null,null,null,null,null,null,null,null,null,null,null,null,null,null,null,null,null,null,null,"1005GECMGV","Producer Supplier not designated.","",null,null,null,null,{"$error":"#N/A"}]
[null,null,null,null,null,"1005FACCNS..CA","Penny's Concrete","3055810037",4719,"Penny's, Carrolton (Green) Carrolton","4719_Carrolton",7091,{"$error":"#N/A"},{"$error":"#N/A"},null,null,null,null,null,null,null,null,null,null,null,null,null,null,null,null,null,null,null,null,null,null,"1005GECMGV","Winter Brothers, Gravel","",null,null,null,null,{"$error":"#N/A"}]
[null,null,null,null,null,"1005FACCNS..CA","Penny's Concrete","3055810037",4719,"Penny's, Chillicothe (Green) Chillicothe","4719_Chillicothe",7092,{"$error":"#N/A"},{"$error":"#N/A"},null,null,null,null,null,null,null,null,null,null,null,null,null,null,null,null,null,null,null,null,null,null,"1005GECMGV","Winter Brothers, Hagemann","",null,null,null,null,{"$error":"#N/A"}]
[null,null,null,null,null,"1005FACCNS..CA","Penny's Concrete","3055810037",4719,"Penny's, Concordia (Green) Concordia","4719_Concordia",7093,{"$error":"#N/A"},{"$error":"#N/A"},null,null,null,null,null,null,null,null,null,null,null,null,null,null,null,null,null,null,null,null,null,null,"1005GECMLS","Base Rock Minerals, Pit 3","",null,null,null,null,{"$error":"#N/A"}]
[null,null,null,null,null,"1005FACCNS..CA","Penny's Concrete","3055810037",4719,"Penny's, Excelsior Springs (Green) ExcelsiorSpring","4719_ExcelsiorSpring",7094,{"$error":"#N/A"},{"$error":"#N/A"},null,null,null,null,null,null,null,null,null,null,null,null,null,null,null,null,null,null,null,null,null,null,"1005GECMLS","Cameron Concrete Company","",null,null,null,null,{"$error":"#N/A"}]
[null,null,null,null,null,"1005FACCNS..CA","Penny's Concrete","3055810037",4719,"Penny's, Grain Valley Grain Valley","4719_Grain Valley",7100,{"$error":"#N/A"},{"$error":"#N/A"},null,null,null,null,null,null,null,null,null,null,null,null,null,null,null,null,null,null,null,null,null,null,"1005GECMLS","Cantera Aggregates #5, Walnut City Quarry IA","",null,null,null,null,{"$error":"#N/A"}]
[null,null,null,null,null,"1005FACCNS..CA","Penny's Concrete","3055810037",4719,"Penny's, Higginsville (Green) Higginsville","4719_Higginsville",7096,{"$error":"#N/A"},{"$error":"#N/A"},null,null,null,null,null,null,null,null,null,null,null,null,null,null,null,null,null,null,null,null,null,null,"1005GECMLS","Capital Materials, Sedalia (Snow Rd-Dresden)","",null,null,null,null,{"$error":"#N/A"}]
[null,null,null,null,null,"1005FACCNS..CA","Penny's Concrete","3055810037",4719,"Penny's, Lansing KS Lansing","4719_Lansing",7097,{"$error":"#N/A"},{"$error":"#N/A"},null,null,null,null,null,null,null,null,null,null,null,null,null,null,null,null,null,null,null,null,null,null,"1005GECMLS","Capital Materials, Tightwad (APAC)","",null,null,null,null,{"$error":"#N/A"}]
[null,null,null,null,null,"1005FACCNS..CA","Penny's Concrete","3055810037",4719,"Penny's, Martin City Martin City","4719_Martin City",7098,{"$error":"#N/A"},{"$error":"#N/A"},null,null,null,null,null,null,null,null,null,null,null,null,null,null,null,null,null,null,null,null,null,null,"1005GECMLS","Capital Quarries #10, Quinn Pit (Beck)","",null,null,null,null,{"$error":"#N/A"}]
[null,null,null,null,null,"1005FACCNS..CA","Penny's Concrete","3055810037",4719,"Penny's, Parvin Rd Parvin","4719_Parvin",7099,{"$error":"#N/A"},{"$error":"#N/A"},null,null,null,null,null,null,null,null,null,null,null,null,null,null,null,null,null,null,null,null,null,null,"1005GECMLS","Capital Quarries #17, Sullivan","",null,null,null,null,{"$error":"#N/A"}]
[null,null,null,null,null,"1005FACCNS..CA","Penny's Concrete","3055810037",4719,"Penny's, Richmond (Green) Richmond","4719_Richmond",7095,{"$error":"#N/A"},{"$error":"#N/A"},null,null,null,null,null,null,null,null,null,null,null,null,null,null,null,null,null,null,null,null,null,null,"1005GECMLS","Central Stone #1, Hannibal (Huntington)","",null,null,null,null,{"$error":"#N/A"}]
[null,null,null,null,null,"1005FACCNS..CA","Penny's Schaake Plant, Lawrence (Kaw Sand)","3126500114",715,"Kansas River Field Sand FIELD SAND","715_FIELD SAND",7877,{"$error":"#N/A"},{"$error":"#N/A"},null,null,null,null,null,null,null,null,null,null,null,null,null,null,null,null,null,null,null,null,null,null,"1005GECMLS","Central Stone #31, Florissant","",null,null,null,null,{"$error":"#N/A"}]
[null,null,null,null,null,"1005FACCNS..CA","River Products, Fredonia","3039300213",322,"Cedar River Sand SAND 2","322_SAND 2",7505,{"$error":"#N/A"},{"$error":"#N/A"},null,null,null,null,null,null,null,null,null,null,null,null,null,null,null,null,null,null,null,null,null,null,"1005GECMLS","Central Stone #54 (Bellefontaine)  Farmington",{"$f":"IF(AK730=$AK$44,AL730,\"\")","v":""},null,null,null,null,{"$error":"#N/A"}]
[null,null,null,null,null,"1005FACCNS..CA","River Valley Materials, LLC","3525900117",5089,"Arkansas River Sand SAND","5089_SAND",7322,{"$error":"#N/A"},{"$error":"#N/A"},null,null,null,null,null,null,null,null,null,null,null,null,null,null,null,null,null,null,null,null,null,null,"1005GECMLS","Central Stone #72, Antire Quarry","",null,null,null,null,{"$error":"#N/A"}]
[null,null,null,null,null,"1005FACCNS..CA","Shawnee Sand & Gravel, IL","3042900210",3472,"Mississippi Field Sand SAND","3472_SAND",6750,{"$error":"#N/A"},{"$error":"#N/A"},null,null,null,null,null,null,null,null,null,null,null,null,null,null,null,null,null,null,null,null,null,null,"1005GECMLS","Central Stone #74, Trautman Quarry","",null,null,null,null,{"$error":"#N/A"}]
[null,null,null,null,null,"1005FACCNS..CA","Smith Sand & Gravel (Salem)","3427700219",5477,"Meramec River Sand SAND","5477_SAND",7874,{"$error":"#N/A"},{"$error":"#N/A"},null,null,null,null,null,null,null,null,null,null,null,null,null,null,null,null,null,null,null,null,null,null,"1005GECMLS","Central Stone, Potosi (GP Materials)","",null,null,null,null,{"$error":"#N/A"}]
[null,null,null,null,null,"1005FACCNS..CA","St. Charles County Concrete","3021200836",1797,"St. Charles Concrete, Wentzville Wentzville","1797_Wentzville",5307,{"$error":"#N/A"},{"$error":"#N/A"},null,null,null,null,null,null,null,null,null,null,null,null,null,null,null,null,null,null,null,null,null,null,"1005GECMLS","Conco Quarries, Willard","",null,null,null,null,{"$error":"#N/A"}]
[null,null,null,null,null,"1005FACCNS..CA","Thompson Bros Ready Mix","3046000232",1657,"Thompsom Bros Ready Mix, Brookfield Brookfield","1657_Brookfield",5021,{"$error":"#N/A"},{"$error":"#N/A"},null,null,null,null,null,null,null,null,null,null,null,null,null,null,null,null,null,null,null,null,null,null,"1005GECMLS","Concrete Industries","",null,null,null,null,{"$error":"#N/A"}]
[null,null,null,null,null,"1005FACCNS..CA","Vernon County Ready Mix","3433900137",3761,"Vernon County RM, Nevada nevada","3761_nevada",6851,{"$error":"#N/A"},{"$error":"#N/A"},null,null,null,null,null,null,null,null,null,null,null,null,null,null,null,null,null,null,null,null,null,null,"1005GECMLS","Falling Springs Quarry (Stolle)","",null,null,null,null,{"$error":"#N/A"}]
[null,null,null,null,null,"1005FACCNS..CA","Vulcan Materials, Rochester, IL","3298900413",3764,"Glacial Sand SAND","3764_SAND",6854,{"$error":"#N/A"},{"$error":"#N/A"},null,null,null,null,null,null,null,null,null,null,null,null,null,null,null,null,null,null,null,null,null,null,"1005GECMLS","Fischer Concrete","",null,null,null,null,{"$error":"#N/A"}]
[null,null,null,null,null,"1005FACCNS..CA","Wayland Sand (M & O Concrete)","3185200213",5438,"Glacial Sand 1","5438_1",7821,{"$error":"#N/A"},{"$error":"#N/A"},null,null,null,null,null,null,null,null,null,null,null,null,null,null,null,null,null,null,null,null,null,null,"1005GECMLS","Herzog, Wathena Stone","",null,null,null,null,{"$error":"#N/A"}]
[null,null,null,null,null,"1005FACCNS..CA","Wayne B. Smith, Louisiana Sand","3049501113",132,"Mississippi River Sand SAND","132_SAND",536,{"$error":"#N/A"},{"$error":"#N/A"},null,null,null,null,null,null,null,null,null,null,null,null,null,null,null,null,null,null,null,null,null,null,"1005GECMLS","Holt Co Ready Mix","",null,null,null,null,{"$error":"#N/A"}]
[null,null,null,null,null,"1005FACCNS..CA","Western Sand & Gravel, Louisville Pit","3034300411",3345,"Platte River Sand SAND","3345_SAND",6709,{"$error":"#N/A"},{"$error":"#N/A"},null,null,null,null,null,null,null,null,null,null,null,null,null,null,null,null,null,null,null,null,null,null,"1005GECMLS","Ideal Ready Mix","",null,null,null,null,{"$error":"#N/A"}]
[null,null,null,null,null,"1005FACCNS..CA","Winter Brothers, Hagemann","3050600216",3729,"Meramec River Sand SAND","3729_SAND",6841,{"$error":"#N/A"},{"$error":"#N/A"},null,null,null,null,null,null,null,null,null,null,null,null,null,null,null,null,null,null,null,null,null,null,"1005GECMLS","Indian Creek Materials/Couch","",null,null,null,null,{"$error":"#N/A"}]
[null,null,null,null,null,"1005FACCNS..CA","Yeary Trucking, Beaver Creek","3197800118",1954,"Natural Sand - Beaver Creek SAND","1954_SAND",5499,{"$error":"#N/A"},{"$error":"#N/A"},null,null,null,null,null,null,null,null,null,null,null,null,null,null,null,null,null,null,null,null,null,null,"1005GECMLS","Kerford Limestone Co., NE","",null,null,null,null,{"$error":"#N/A"}]
[null,null,null,null,null,"1005FACCNS..CB","BMC Sand (Lincoln County Sand & Gravel,Old Monroe)","3212600113",2020,"Glacial Sand GLACIAL SAND","2020_GLACIAL SAND",5646,{"$error":"#N/A"},{"$error":"#N/A"},null,null,null,null,null,null,null,null,null,null,null,null,null,null,null,null,null,null,null,null,null,null,"1005GECMLS","Land-Chariton County Concrete","",null,null,null,null,{"$error":"#N/A"}]
[null,null,null,null,null,"1005FACCNS..CB","Brenda Kay Sand, LLC (Shakespear Oil)","3172000110",1185,"Mississippi River Field Sand FIELD SAND","1185_FIELD SAND",3831,{"$error":"#N/A"},{"$error":"#N/A"},null,null,null,null,null,null,null,null,null,null,null,null,null,null,null,null,null,null,null,null,null,null,"1005GECMLS","Loch Sand","",null,null,null,null,{"$error":"#N/A"}]
[null,null,null,null,null,"1005FACCNS..CB","Dexter Sand & Gravel","3457000110",4586,"Field Sand SAND","4586_SAND",6946,{"$error":"#N/A"},{"$error":"#N/A"},null,null,null,null,null,null,null,null,null,null,null,null,null,null,null,null,null,null,null,null,null,null,"1005GECMLS","Martin Marietta, Ferrelview (Stamper)","",null,null,null,null,{"$error":"#N/A"}]
[null,null,null,null,null,"1005FACCNS..CB","Douds Stone, Eldon Sand, Eldon, IA","3125500212",926,"River Sand SAND","926_SAND",2870,{"$error":"#N/A"},{"$error":"#N/A"},null,null,null,null,null,null,null,null,null,null,null,null,null,null,null,null,null,null,null,null,null,null,"1005GECMLS","Martin Marietta, Randolph","",null,null,null,null,{"$error":"#N/A"}]
[null,null,null,null,null,"1005FACCNS..CB","Douds Stone, LLC, Ottumwa Sand, Ottumwa, IA","3125500313",5531,"Glacial Sand Glacial Sand","5531_Glacial Sand",7965,{"$error":"#N/A"},{"$error":"#N/A"},null,null,null,null,null,null,null,null,null,null,null,null,null,null,null,null,null,null,null,null,null,null,"1005GECMLS","Martin Marietta, Weeping Water,NE","",null,null,null,null,{"$error":"#N/A"}]
[null,null,null,null,null,"1005FACCNS..CB","Fischer Concrete","3151700135",1019,"Fischer Concrete, Bethany (Bethany Ready Mix) Bethany","1019_Bethany",3283,{"$error":"#N/A"},{"$error":"#N/A"},null,null,null,null,null,null,null,null,null,null,null,null,null,null,null,null,null,null,null,null,null,null,"1005GECMLS","Mid Missouri Limestone (Auxvasse - South Gate)","",null,null,null,null,{"$error":"#N/A"}]
[null,null,null,null,null,"1005FACCNS..CB","Fischer Concrete","3151700135",1019,"Fischer Concrete, Trenton (Trenton Ready Mix) Trenton","1019_Trenton",7346,{"$error":"#N/A"},{"$error":"#N/A"},null,null,null,null,null,null,null,null,null,null,null,null,null,null,null,null,null,null,null,null,null,null,"1005GECMLS","Mid-States Materials, Plummer Creek, Scranton, KS","",null,null,null,null,{"$error":"#N/A"}]
[null,null,null,null,null,"1005FACCNS..CB","Keyesport Sand and Gravel","3024800116",700,"Glacial Sand SAND","700_SAND",1811,{"$error":"#N/A"},{"$error":"#N/A"},null,null,null,null,null,null,null,null,null,null,null,null,null,null,null,null,null,null,null,null,null,null,"1005GECMLS","Milan Ready Mix (Sullivan County RM)","",null,null,null,null,{"$error":"#N/A"}]
[null,null,null,null,null,"1005FACCNS..CB","Kimaterials","3025200113",678,"Glacial Sand SAND","678_SAND",1714,{"$error":"#N/A"},{"$error":"#N/A"},null,null,null,null,null,null,null,null,null,null,null,null,null,null,null,null,null,null,null,null,null,null,"1005GECMLS","New Frontier, Alton Weber #8","",null,null,null,null,{"$error":"#N/A"}]
[null,null,null,null,null,"1005FACCNS..CB","Lincoln County Sand & Gravel, Winfield","3212600213",5073,"Mississippi River Sand SAND","5073_SAND",7316,{"$error":"#N/A"},{"$error":"#N/A"},null,null,null,null,null,null,null,null,null,null,null,null,null,null,null,null,null,null,null,null,null,null,"1005GECMLS","New Frontier, New Melle Quarry","",null,null,null,null,{"$error":"#N/A"}]
[null,null,null,null,null,"1005FACCNS..CB","Norris Quarries Sand (Kenny Stoner)","3061700111",197,"Thompson River Sand SAND","197_SAND",630,{"$f":"IF(AND($F$17=H753,$AK$44=F753),J753,\"\")","v":{"$error":"#N/A"}},{"$f":"IF(AND($F$17=H753,$AK$44=F753),L753,\"\")","v":{"$error":"#N/A"}},null,null,null,null,null,null,null,null,null,null,null,null,null,null,null,null,null,null,null,null,null,null,"1005GECMLS","Norris Quarries LLC, Akron (Jefferies Quarry)","",null,null,null,null,{"$error":"#N/A"}]
[null,null,null,null,null,"1005FACCNS..CB","Norris Sand, Stanberry","3140300111",493,"Grand River Sand SAND","493_SAND",1357,{"$error":"#N/A"},{"$error":"#N/A"},null,null,null,null,null,null,null,null,null,null,null,null,null,null,null,null,null,null,null,null,null,null,"1005GECMLS","Norris Quarries LLC, Kingston (APAC - Kingston)","",null,null,null,null,{"$error":"#N/A"}]
[null,null,null,null,null,"1005FACCNS..CB","Old Monroe Materials","3227400213",3029,"Glacial Sand SAND","3029_SAND",6493,{"$error":"#N/A"},{"$error":"#N/A"},null,null,null,null,null,null,null,null,null,null,null,null,null,null,null,null,null,null,null,null,null,null,"1005GECMLS","Norris Quarries, Amazonia Quarry","",null,null,null,null,{"$error":"#N/A"}]
[null,null,null,null,null,"1005FACCNS..CB","River Bend Materials, Pit #2 (County Materials)","3422900113",3739,"Glacial Sand SAND","3739_SAND",6847,{"$error":"#N/A"},{"$error":"#N/A"},null,null,null,null,null,null,null,null,null,null,null,null,null,null,null,null,null,null,null,null,null,null,"1005GECMLS","Norris Quarries, Bethany","",null,null,null,null,{"$error":"#N/A"}]
[null,null,null,null,null,"1005FACCNS..CB","River Valley Materials, LLC","3525900117",5089,"Arkansas River Sand SAND","5089_SAND",7322,{"$error":"#N/A"},{"$error":"#N/A"},null,null,null,null,null,null,null,null,null,null,null,null,null,null,null,null,null,null,null,null,null,null,"1005GECMLS","Norris Quarries, Blue Mound","",null,null,null,null,{"$error":"#N/A"}]
[null,null,null,null,null,"1005FACCNS..CB","Simpson S&G, Peerless Park","3042400216",240,"Meramec River SAND","240_SAND",759,{"$error":"#N/A"},{"$error":"#N/A"},null,null,null,null,null,null,null,null,null,null,null,null,null,null,null,null,null,null,null,null,null,null,"1005GECMLS","Norris Quarries, Breit Quarry, Savannah","",null,null,null,null,{"$error":"#N/A"}]
[null,null,null,null,null,"1005FACCNS..CB","Viking Aggregates, Wayland Sand","3021900313",886,"Glacial sand SAND","886_SAND",2702,{"$error":"#N/A"},{"$error":"#N/A"},null,null,null,null,null,null,null,null,null,null,null,null,null,null,null,null,null,null,null,null,null,null,"1005GECMLS","Norris Quarries, Gallatin Quarry","",null,null,null,null,{"$error":"#N/A"}]
[null,null,null,null,null,"1005FACCNS..CB","Wayland Sand (M & O Concrete)","3185200213",5438,"Glacial Sand 1","5438_1",7821,{"$error":"#N/A"},{"$error":"#N/A"},null,null,null,null,null,null,null,null,null,null,null,null,null,null,null,null,null,null,null,null,null,null,"1005GECMLS","Norris Quarries, Trenton","",null,null,null,null,{"$error":"#N/A"}]
[null,null,null,null,null,"1005FACCNS..CC","11 Point Sand and Gravel","3542200119",5374,"Eleven Point River Sand SAND","5374_SAND",7707,{"$error":"#N/A"},{"$error":"#N/A"},null,null,null,null,null,null,null,null,null,null,null,null,null,null,null,null,null,null,null,null,null,null,"1005GECMLS","Oldcastle Infrastructure, Topeka, KS","",null,null,null,null,{"$error":"#N/A"}]
[null,null,null,null,null,"1005FACCNS..CC","49 Sand & Gravel Products","3228100110",2365,"Natural Sand SAND","2365_SAND",6047,{"$error":"#N/A"},{"$error":"#N/A"},null,null,null,null,null,null,null,null,null,null,null,null,null,null,null,null,null,null,null,null,null,null,"1005GECMLS","Payless Concrete","",null,null,null,null,{"$error":"#N/A"}]
[null,null,null,null,null,"1005FACCNS..CC","B & B Materials","3917300155",5057,"Tavern Creek Sand SAND","5057_SAND",7314,{"$error":"#N/A"},{"$error":"#N/A"},null,null,null,null,null,null,null,null,null,null,null,null,null,null,null,null,null,null,null,null,null,null,"1005GECMLS","Penny's Concrete","",null,null,null,null,{"$error":"#N/A"}]
[null,null,null,null,null,"1005FACCNS..CC","Big Piney Sand, Houston (River Rock)","3020900119",916,"Piney Creek Sand SAND","916_SAND",2817,{"$error":"#N/A"},{"$error":"#N/A"},null,null,null,null,null,null,null,null,null,null,null,null,null,null,null,null,null,null,null,null,null,null,"1005GECMLS","Southeast Missouri Stone (SEMO)","",null,null,null,null,{"$error":"#N/A"}]
[null,null,null,null,null,"1005FACCNS..CC","Bluewing Materials, Doniphan Sand and Gravel","3411400239",5356,"Cane Creek Stone, Sand SAND","5356_SAND",7689,{"$error":"#N/A"},{"$error":"#N/A"},null,null,null,null,null,null,null,null,null,null,null,null,null,null,null,null,null,null,null,null,null,null,"1005GECMLS","Summit Materials, Marshall (Boone Quarries)","",null,null,null,null,{"$error":"#N/A"}]
[null,null,null,null,null,"1005FACCNS..CC","Callaway Gravel, Sand, and Soil","3919100155",5214,"Auxvasee,Middle River, Crows Fork, Stenson Creek SAND","5214_SAND",7448,{"$error":"#N/A"},{"$error":"#N/A"},null,null,null,null,null,null,null,null,null,null,null,null,null,null,null,null,null,null,null,null,null,null,"1005GECMLS","Thompson Bros Ready Mix","",null,null,null,null,{"$error":"#N/A"}]
[null,null,null,null,null,"1005FACCNS..CC","Hermann Sand & Gravel","3020300115",659,"Bear Creek Sand NATURAL SAND 4","659_NATURAL SAND 4",1650,{"$error":"#N/A"},{"$error":"#N/A"},null,null,null,null,null,null,null,null,null,null,null,null,null,null,null,null,null,null,null,null,null,null,"1005GECMLS","Trager Limestone, Gallatin (SOUTH)","",null,null,null,null,{"$error":"#N/A"}]
[null,null,null,null,null,"1005FACCNS..CC","JR Sand and Gravel","3506200119",4758,"Bryant Creek Sand SAND","4758_SAND",7157,{"$error":"#N/A"},{"$error":"#N/A"},null,null,null,null,null,null,null,null,null,null,null,null,null,null,null,null,null,null,null,null,null,null,"1005GECMLS","Trager Limestone, Nettleton","",null,null,null,null,{"$error":"#N/A"}]
[null,null,null,null,null,"1005FACCNS..CC","Smith Sand & Gravel (Salem)","3427700219",5477,"Meramec River Sand SAND","5477_SAND",7874,{"$error":"#N/A"},{"$error":"#N/A"},null,null,null,null,null,null,null,null,null,null,null,null,null,null,null,null,null,null,null,null,null,null,"1005GECMLS","Williamsville Stone #1","",null,null,null,null,{"$error":"#N/A"}]
[null,null,null,null,null,"1005FACCNS..CC","Stewart-Morrison - Spring Creek Materials","3112700139",194,"Spring Creek Sand SAND","194_SAND",626,{"$error":"#N/A"},{"$error":"#N/A"},null,null,null,null,null,null,null,null,null,null,null,null,null,null,null,null,null,null,null,null,null,null,"1005GECMLSBD","Cantera Aggregates #1, Plano Qy, Plano, IA","",null,null,null,null,{"$error":"#N/A"}]
[null,null,null,null,null,"1005FACCNS..CC","Tucker Sand & Gravel, LLC.","3528100110",5125,"Logan Creek Sand SAND","5125_SAND",7342,{"$error":"#N/A"},{"$error":"#N/A"},null,null,null,null,null,null,null,null,null,null,null,null,null,null,null,null,null,null,null,null,null,null,"1005GECMLSBD","Capital Materials, Tightwad (APAC)","",null,null,null,null,{"$error":"#N/A"}]
[null,null,null,null,null,"1005FACCNS..CC","Yeary Trucking, Beaver Creek","3197800118",1954,"Natural Sand - Beaver Creek SAND","1954_SAND",5499,{"$error":"#N/A"},{"$error":"#N/A"},null,null,null,null,null,null,null,null,null,null,null,null,null,null,null,null,null,null,null,null,null,null,"1005GECMLSBD","Capital Quarries #10, Quinn Pit (Beck)","",null,null,null,null,{"$error":"#N/A"}]
[null,null,null,null,null,"1005FACCNS..CD","Yeary Trucking, Beaver Creek","3197800118",1954,"Natural Sand - Beaver Creek SAND","1954_SAND",5499,{"$error":"#N/A"},{"$error":"#N/A"},null,null,null,null,null,null,null,null,null,null,null,null,null,null,null,null,null,null,null,null,null,null,"1005GECMLSBD","Capital Quarries #17, Sullivan","",null,null,null,null,{"$error":"#N/A"}]
[null,null,null,null,null,"1005GDCMGV","Capital Sand #1,  Wardsville (Osage Riv)","3006400615",1922,"Osage River gravel GRAVEL","1922_GRAVEL",5469,{"$error":"#N/A"},{"$error":"#N/A"},null,null,null,null,null,null,null,null,null,null,null,null,null,null,null,null,null,null,null,null,null,null,"1005GECMLSBD","Central Stone #1, Hannibal (Huntington)","",null,null,null,null,{"$error":"#N/A"}]
[null,null,null,null,null,"1005GDCMGV","Central Stone #61, LaGrange Sand & Gravel","3007926113",4546,"Glacial Gravel GRAVEL","4546_GRAVEL",6924,{"$error":"#N/A"},{"$error":"#N/A"},null,null,null,null,null,null,null,null,null,null,null,null,null,null,null,null,null,null,null,null,null,null,"1005GECMLSBD","Central Stone #31, Florissant","",null,null,null,null,{"$error":"#N/A"}]
[null,null,null,null,null,"1005GDCMGV","Havin Materials, Meramec Aggr, St. Clair","3019600716",2049,"Meramec River Gravel GRAVEL","2049_GRAVEL",5694,{"$error":"#N/A"},{"$error":"#N/A"},null,null,null,null,null,null,null,null,null,null,null,null,null,null,null,null,null,null,null,null,null,null,"1005GECMLSBD","Central Stone #31, Sand Plant, Florissant","",null,null,null,null,{"$error":"#N/A"}]
[null,null,null,null,null,"1005GDCMGV","Houston Ready Mix, Spring Creek","3020900319",268,"Spring Creek Gravel GRAVEL","268_GRAVEL",908,{"$error":"#N/A"},{"$error":"#N/A"},null,null,null,null,null,null,null,null,null,null,null,null,null,null,null,null,null,null,null,null,null,null,"1005GECMLSBD","Central Stone #74, Trautman Quarry","",null,null,null,null,{"$error":"#N/A"}]
[null,null,null,null,null,"1005GDCMGV","Politte Ready Mix LLC, Big River","3037000619",500,"Big River Gravel GRAVEL","500_GRAVEL",1359,{"$error":"#N/A"},{"$error":"#N/A"},null,null,null,null,null,null,null,null,null,null,null,null,null,null,null,null,null,null,null,null,null,null,"1005GECMLSBD","Conco Quarries, Willard","",null,null,null,null,{"$error":"#N/A"}]
[null,null,null,null,null,"1005GDCMGV","Winter Brothers, Hagemann","3050600216",3729,"Meramec River Gravel GRAVEL","3729_GRAVEL",6842,{"$error":"#N/A"},{"$error":"#N/A"},null,null,null,null,null,null,null,null,null,null,null,null,null,null,null,null,null,null,null,null,null,null,"1005GECMLSBD","Kerford Limestone Co., NE","",null,null,null,null,{"$error":"#N/A"}]
[null,null,null,null,null,"1005GDCMGV","Yeary Trucking, Beaver Creek","3197800118",1954,"Gravel - Beaver Creek GRAVEL","1954_GRAVEL",5500,{"$error":"#N/A"},{"$error":"#N/A"},null,null,null,null,null,null,null,null,null,null,null,null,null,null,null,null,null,null,null,null,null,null,"1005GECMLSBD","Millstone Weber Concrete plants","",null,null,null,null,{"$error":"#N/A"}]
[null,null,null,null,null,"1005GDCMLD","APAC-Kansas Bates City Quarry","3176703314",1752,"Bethany Falls 1-4","1752_1-4",5086,{"$error":"#N/A"},{"$error":"#N/A"},null,null,null,null,null,null,null,null,null,null,null,null,null,null,null,null,null,null,null,null,null,null,"1005GECMLSBD","New Frontier, Alton Weber #8","",null,null,null,null,{"$error":"#N/A"}]
[null,null,null,null,null,"1005GDCMLD","APAC-Kansas Harrisonville Quarry","3176703014",1750,"Bethany Falls 1-3","1750_1-3",5069,{"$error":"#N/A"},{"$error":"#N/A"},null,null,null,null,null,null,null,null,null,null,null,null,null,null,null,null,null,null,null,null,null,null,"1005GECMLSBD","New Frontier, New Melle Quarry","",null,null,null,null,{"$error":"#N/A"}]
[null,null,null,null,null,"1005GDCMLD","Base Rock Minerals, Fruitland","3242100310",4680,"Kimmswick 24-25","4680_24-25",7009,{"$error":"#N/A"},{"$error":"#N/A"},null,null,null,null,null,null,null,null,null,null,null,null,null,null,null,null,null,null,null,null,null,null,"1005GECMLSBD","Norris Quarries, Breit Quarry, Savannah","",null,null,null,null,{"$error":"#N/A"}]
[null,null,null,null,null,"1005GDCMLD","Cameron Concrete Company","3015500231",1132,"Cameron Concrete Co., Cameron cameron","1132_cameron",3595,{"$error":"#N/A"},{"$error":"#N/A"},null,null,null,null,null,null,null,null,null,null,null,null,null,null,null,null,null,null,null,null,null,null,"1005GECMLSBD","Summit Materials, Marshall (Boone Quarries)","",null,null,null,null,{"$error":"#N/A"}]
[null,null,null,null,null,"1005GDCMLD","Cantera Aggregates #1, Plano Qy, Plano, IA","3532100111",5171,"Exline 1","5171_1",7377,{"$error":"#N/A"},{"$error":"#N/A"},null,null,null,null,null,null,null,null,null,null,null,null,null,null,null,null,null,null,null,null,null,null,"1005GECMLSBD","Western Ready Mix, (Metro Materials)","",null,null,null,null,{"$error":"#N/A"}]
[null,null,null,null,null,"1005GDCMLD","Cantera Aggregates #5, Walnut City Quarry IA","3026300512",670,"Exline 1E","670_1E",1669,{"$error":"#N/A"},{"$error":"#N/A"},null,null,null,null,null,null,null,null,null,null,null,null,null,null,null,null,null,null,null,null,null,null,"1005GFCPLS","Cameron Concrete Company","",null,null,null,null,{"$error":"#N/A"}]
[null,null,null,null,null,"1005GDCMLD","Capital Materials, Tightwad (APAC)","3020600114",927,"Burlington 1,2,3","927_1,2,3",2872,{"$error":"#N/A"},{"$error":"#N/A"},null,null,null,null,null,null,null,null,null,null,null,null,null,null,null,null,null,null,null,null,null,null,"1005GFCPLS","Capital Materials, Tightwad (APAC)","",null,null,null,null,{"$error":"#N/A"}]
[null,null,null,null,null,"1005GDCMLD","Capital Quarries #5, California","3170701615",1436,"Burlington-Chouteau 3-7","1436_3-7",4506,{"$error":"#N/A"},{"$error":"#N/A"},null,null,null,null,null,null,null,null,null,null,null,null,null,null,null,null,null,null,null,null,null,null,"1005GFCPLS","Central Stone #1, Hannibal (Huntington)","",null,null,null,null,{"$error":"#N/A"}]
[null,null,null,null,null,"1005GDCMLD","Central Stone #1, Hannibal (Huntington)","3007900113",948,"Cedar Valley 13-11","948_13-11",3038,{"$error":"#N/A"},{"$error":"#N/A"},null,null,null,null,null,null,null,null,null,null,null,null,null,null,null,null,null,null,null,null,null,null,"1005GFCPLS","Concrete Industries","",null,null,null,null,{"$error":"#N/A"}]
[null,null,null,null,null,"1005GDCMLD","Central Stone #1, Hannibal (Huntington)","3007900113",948,"Kimmswick 10-1","948_10-1",3041,{"$error":"#N/A"},{"$error":"#N/A"},null,null,null,null,null,null,null,null,null,null,null,null,null,null,null,null,null,null,null,null,null,null,"1005GFCPLS","Fischer Concrete","",null,null,null,null,{"$error":"#N/A"}]
[null,null,null,null,null,"1005GDCMLD","Concrete Industries","3009900331",2923,"Concrete Industries,  Auburn, NE Auburn","2923_Auburn",6444,{"$error":"#N/A"},{"$error":"#N/A"},null,null,null,null,null,null,null,null,null,null,null,null,null,null,null,null,null,null,null,null,null,null,"1005GFCPLS","Hamm Quarries, Lee's Summit (Barber and Sons)","",null,null,null,null,{"$error":"#N/A"}]
[null,null,null,null,null,"1005GDCMLD","Concrete Industries","3009900331",2923,"Concrete Industries, Falls City, NE Falls City","2923_Falls City",6442,{"$error":"#N/A"},{"$error":"#N/A"},null,null,null,null,null,null,null,null,null,null,null,null,null,null,null,null,null,null,null,null,null,null,"1005GFCPLS","Herzog, Wathena Stone","",null,null,null,null,{"$error":"#N/A"}]
[null,null,null,null,null,"1005GDCMLD","Concrete Industries","3009900331",2923,"Concrete Industries, Nebraska City, NE Nebraska City","2923_Nebraska City",6443,{"$error":"#N/A"},{"$error":"#N/A"},null,null,null,null,null,null,null,null,null,null,null,null,null,null,null,null,null,null,null,null,null,null,"1005GFCPLS","Holt Co Ready Mix","",null,null,null,null,{"$error":"#N/A"}]
[null,null,null,null,null,"1005GDCMLD","Fischer Concrete","3151700135",1019,"Fischer Concrete, Bethany (Bethany Ready Mix) Bethany","1019_Bethany",3283,{"$error":"#N/A"},{"$error":"#N/A"},null,null,null,null,null,null,null,null,null,null,null,null,null,null,null,null,null,null,null,null,null,null,"1005GFCPLS","Ideal Ready Mix",{"$f":"IF(AK794=$AK$44,AL794,\"\")","v":""},null,null,null,null,{"$error":"#N/A"}]
[null,null,null,null,null,"1005GDCMLD","Fischer Concrete","3151700135",1019,"Fischer Concrete, Chillicothe Chillicothe","1019_Chillicothe",7388,{"$error":"#N/A"},{"$error":"#N/A"},null,null,null,null,null,null,null,null,null,null,null,null,null,null,null,null,null,null,null,null,null,null,"1005GFCPLS","Kerford Limestone Co., NE","",null,null,null,null,{"$error":"#N/A"}]
[null,null,null,null,null,"1005GDCMLD","Fischer Concrete","3151700135",1019,"Fischer Concrete, Trenton (Trenton Ready Mix) Trenton","1019_Trenton",7346,{"$error":"#N/A"},{"$error":"#N/A"},null,null,null,null,null,null,null,null,null,null,null,null,null,null,null,null,null,null,null,null,null,null,"1005GFCPLS","Loch Sand","",null,null,null,null,{"$error":"#N/A"}]
[null,null,null,null,null,"1005GDCMLD","Herzog, Wathena Stone","3020400411",663,"Amazonia 1A-2A","663_1A-2A",1655,{"$error":"#N/A"},{"$error":"#N/A"},null,null,null,null,null,null,null,null,null,null,null,null,null,null,null,null,null,null,null,null,null,null,"1005GFCPLS","Martin Marietta, Ferrelview (Stamper)","",null,null,null,null,{"$error":"#N/A"}]
[null,null,null,null,null,"1005GDCMLD","Holt Co Ready Mix","3406500131",3341,"Holt Co Ready Mix, Mound City Mound City","3341_Mound City",6705,{"$error":"#N/A"},{"$error":"#N/A"},null,null,null,null,null,null,null,null,null,null,null,null,null,null,null,null,null,null,null,null,null,null,"1005GFCPLS","Martin Marietta, Weeping Water,NE","",null,null,null,null,{"$error":"#N/A"}]
[null,null,null,null,null,"1005GDCMLD","Ideal Ready Mix","3021910033",4713,"Ideal Ready Mix, Canton Canton","4713_Canton",7064,{"$error":"#N/A"},{"$error":"#N/A"},null,null,null,null,null,null,null,null,null,null,null,null,null,null,null,null,null,null,null,null,null,null,"1005GFCPLS","Milan Ready Mix (Sullivan County RM)","",null,null,null,null,{"$error":"#N/A"}]
[null,null,null,null,null,"1005GDCMLD","Ideal Ready Mix","3021910033",4713,"Ideal Ready Mix, Centerville, IA Centerville","4713_Centerville",7065,{"$error":"#N/A"},{"$error":"#N/A"},null,null,null,null,null,null,null,null,null,null,null,null,null,null,null,null,null,null,null,null,null,null,"1005GFCPLS","Norris Quarries, Breit Quarry, Savannah","",null,null,null,null,{"$error":"#N/A"}]
[null,null,null,null,null,"1005GDCMLD","Ideal Ready Mix","3021910033",4713,"Ideal Ready Mix, Kahoka Kahoka","4713_Kahoka",7063,{"$error":"#N/A"},{"$error":"#N/A"},null,null,null,null,null,null,null,null,null,null,null,null,null,null,null,null,null,null,null,null,null,null,"1005GFCPLS","Payless Concrete","",null,null,null,null,{"$error":"#N/A"}]
[null,null,null,null,null,"1005GDCMLD","Ideal Ready Mix","3021910033",4713,"Ideal Ready Mix, Unionville Unionville","4713_Unionville",7062,{"$error":"#N/A"},{"$error":"#N/A"},null,null,null,null,null,null,null,null,null,null,null,null,null,null,null,null,null,null,null,null,null,null,"1005GFCPLS","Penny's Concrete","",null,null,null,null,{"$error":"#N/A"}]
[null,null,null,null,null,"1005GDCMLD","Loch Sand","3028200131",615,"Loch Sand, Maryville Maryville","615_Maryville",1496,{"$error":"#N/A"},{"$error":"#N/A"},null,null,null,null,null,null,null,null,null,null,null,null,null,null,null,null,null,null,null,null,null,null,"1005GFCPLS","Producer Supplier not designated.","",null,null,null,null,{"$error":"#N/A"}]
[null,null,null,null,null,"1005GDCMLD","Martin Marietta, Ferrelview (Stamper)","3021300214",925,"Bethany Falls 1BF","925_1BF",2854,{"$error":"#N/A"},{"$error":"#N/A"},null,null,null,null,null,null,null,null,null,null,null,null,null,null,null,null,null,null,null,null,null,null,"1005GFCPLS","Summit Materials, Marshall (Boone Quarries)","",null,null,null,null,{"$error":"#N/A"}]
[null,null,null,null,null,"1005GDCMLD","Martin Marietta, Ferrelview (Stamper)","3021300214",925,"Bethany Falls 1BF-2BF-3BF","925_1BF-2BF-3BF",2860,{"$error":"#N/A"},{"$error":"#N/A"},null,null,null,null,null,null,null,null,null,null,null,null,null,null,null,null,null,null,null,null,null,null,"1005LWA","Arcosa Lightweight (IN)","",null,null,null,null,{"$error":"#N/A"}]
[null,null,null,null,null,"1005GDCMLD","Martin Marietta, Ferrelview (Stamper)","3021300214",925,"Bethany Falls 3BF","925_3BF",2856,{"$error":"#N/A"},{"$error":"#N/A"},null,null,null,null,null,null,null,null,null,null,null,null,null,null,null,null,null,null,null,null,null,null,"1005LWA","Arcosa Lightweight (KY)","",null,null,null,null,{"$error":"#N/A"}]
[null,null,null,null,null,"1005GDCMLD","Martin Marietta, Ferrelview (Stamper)","3021300214",925,"Spring Hill 1-3","925_1-3",2864,{"$error":"#N/A"},{"$error":"#N/A"},null,null,null,null,null,null,null,null,null,null,null,null,null,null,null,null,null,null,null,null,null,null,"1005LWA","Buildex, Inc., New Market, MO","",null,null,null,null,{"$error":"#N/A"}]
[null,null,null,null,null,"1005GDCMLD","Martin Marietta, Weeping Water,NE","3030627311",789,"Kereford and Plattsmouth 1K-5P","789_1K-5P",2108,{"$error":"#N/A"},{"$error":"#N/A"},null,null,null,null,null,null,null,null,null,null,null,null,null,null,null,null,null,null,null,null,null,null,"1005LWA","Lafarge Slag, East Chicago, IN","",null,null,null,null,{"$error":"#N/A"}]
[null,null,null,null,null,"1005GDCMLD","Milan Ready Mix (Sullivan County RM)","3198400132",1874,"Milan Ready Mix,  Milan Milan","1874_Milan",5374,{"$error":"#N/A"},{"$error":"#N/A"},null,null,null,null,null,null,null,null,null,null,null,null,null,null,null,null,null,null,null,null,null,null,"1005MSCCMS..CD","Capital Materials, Sedalia (Snow Rd-Dresden)","",null,null,null,null,{"$error":"#N/A"}]
[null,null,null,null,null,"1005GDCMLD","Norris Quarries LLC, Akron (Jefferies Quarry)","3030615411",807,"Bethany Falls 2BF-4BF","807_2BF-4BF",2207,{"$error":"#N/A"},{"$error":"#N/A"},null,null,null,null,null,null,null,null,null,null,null,null,null,null,null,null,null,null,null,null,null,null,"1005MSCCMS..CD","Capital Quarries #10, Quinn Pit (Beck)","",null,null,null,null,{"$error":"#N/A"}]
[null,null,null,null,null,"1005GDCMLD","Norris Quarries LLC, Kingston (APAC - Kingston)","3014800411",1033,"Bethany Falls 1BF-4BF","1033_1BF-4BF",3337,{"$error":"#N/A"},{"$error":"#N/A"},null,null,null,null,null,null,null,null,null,null,null,null,null,null,null,null,null,null,null,null,null,null,"1005MSCCMS..CD","Conco Quarries, Willard","",null,null,null,null,{"$error":"#N/A"}]
[null,null,null,null,null,"1005GDCMLD","Norris Quarries, Amazonia Quarry","3061800211",888,"Kereford 1K","888_1K",2717,{"$error":"#N/A"},{"$error":"#N/A"},null,null,null,null,null,null,null,null,null,null,null,null,null,null,null,null,null,null,null,null,null,null,"1005MSCCMS..CD","Martin Marietta, Randolph","",null,null,null,null,{"$error":"#N/A"}]
[null,null,null,null,null,"1005GDCMLD","Norris Quarries, Bethany","3030616611",809,"Bethany Falls 9BF-12BF","809_9BF-12BF",2228,{"$error":"#N/A"},{"$error":"#N/A"},null,null,null,null,null,null,null,null,null,null,null,null,null,null,null,null,null,null,null,null,null,null,"1007..RAP1","Herzog Asphalt","",null,null,null,null,{"$error":"#N/A"}]
[null,null,null,null,null,"1005GDCMLD","Norris Quarries, Bethany","3030616611",809,"Bethany Falls 9BF-14B","809_9BF-14B",2226,{"$error":"#N/A"},{"$error":"#N/A"},null,null,null,null,null,null,null,null,null,null,null,null,null,null,null,null,null,null,null,null,null,null,"1007..RAP1","MoDOT (Jobsite, roadway or other similar site)","",null,null,null,null,{"$error":"#N/A"}]
[null,null,null,null,null,"1005GDCMLD","Norris Quarries, Bethany","3030616611",809,"Winterset 3-5","809_3-5",2232,{"$error":"#N/A"},{"$error":"#N/A"},null,null,null,null,null,null,null,null,null,null,null,null,null,null,null,null,null,null,null,null,null,null,"1007..RCBT1T5","Amino Brothers Company, Inc.","",null,null,null,null,{"$error":"#N/A"}]
[null,null,null,null,null,"1005GDCMLD","Norris Quarries, Blue Mound","3018700212",849,"Bethany Falls 2BF-3BF","849_2BF-3BF",2612,{"$error":"#N/A"},{"$error":"#N/A"},null,null,null,null,null,null,null,null,null,null,null,null,null,null,null,null,null,null,null,null,null,null,"1007..RCBT1T5","ECO Recycling Inc.","",null,null,null,null,{"$error":"#N/A"}]
[null,null,null,null,null,"1005GDCMLD","Norris Quarries, Breit Quarry, Savannah","3030693411",806,"Amazonia 8AZ","806_8AZ",2184,{"$f":"IF(AND($F$17=H817,$AK$44=F817),J817,\"\")","v":{"$error":"#N/A"}},{"$f":"IF(AND($F$17=H817,$AK$44=F817),L817,\"\")","v":{"$error":"#N/A"}},null,null,null,null,null,null,null,null,null,null,null,null,null,null,null,null,null,null,null,null,null,null,"1007..RCBT1T5","Geiger Ready Mix","",null,null,null,null,{"$error":"#N/A"}]
[null,null,null,null,null,"1005GDCMLD","Norris Quarries, Breit Quarry, Savannah","3030693411",806,"Kereford 1K","806_1K",2194,{"$error":"#N/A"},{"$error":"#N/A"},null,null,null,null,null,null,null,null,null,null,null,null,null,null,null,null,null,null,null,null,null,null,"1007..RCBT1T5","Houston Excavating & Demolition, Kansas City, MO","",null,null,null,null,{"$error":"#N/A"}]
[null,null,null,null,null,"1005GDCMLD","Norris Quarries, Breit Quarry, Savannah","3030693411",806,"Plattsmouth 1P-4P","806_1P-4P",2190,{"$error":"#N/A"},{"$error":"#N/A"},null,null,null,null,null,null,null,null,null,null,null,null,null,null,null,null,null,null,null,null,null,null,"1007..RCBT1T5","Ideal Industrial Solutions, Manchester","",null,null,null,null,{"$error":"#N/A"}]
[null,null,null,null,null,"1005GDCMLD","Norris Quarries, Breit Quarry, Savannah","3030693411",806,"Toronto 6T","806_6T",2182,{"$error":"#N/A"},{"$error":"#N/A"},null,null,null,null,null,null,null,null,null,null,null,null,null,null,null,null,null,null,null,null,null,null,"1007..RCBT1T5","Leavenworth Exc.","",null,null,null,null,{"$error":"#N/A"}]
[null,null,null,null,null,"1005GDCMLD","Norris Quarries, Gallatin Quarry","3030616511",811,"Bethany Falls 2BF-3BF","811_2BF-3BF",2271,{"$error":"#N/A"},{"$error":"#N/A"},null,null,null,null,null,null,null,null,null,null,null,null,null,null,null,null,null,null,null,null,null,null,"1007..RCBT1T5","Metropolitan Concrete Recycling","",null,null,null,null,{"$error":"#N/A"}]
[null,null,null,null,null,"1005GDCMLD","Norris Quarries, Knoxville (Ray County, #1 SW Pit)","3021301914",2347,"Bethany Falls 1-3","2347_1-3",5983,{"$error":"#N/A"},{"$error":"#N/A"},null,null,null,null,null,null,null,null,null,null,null,null,null,null,null,null,null,null,null,null,null,null,"1007..RCBT1T5","MoDOT (Jobsite, roadway or other similar site)","",null,null,null,null,{"$error":"#N/A"}]
[null,null,null,null,null,"1005GDCMLD","Norris Quarries, Trenton","3030601212",788,"Bethany Falls 1B-3B","788_1B-3B",2080,{"$error":"#N/A"},{"$error":"#N/A"},null,null,null,null,null,null,null,null,null,null,null,null,null,null,null,null,null,null,null,null,null,null,"1007..RCBT1T5","Producer Supplier not designated.","",null,null,null,null,{"$error":"#N/A"}]
[null,null,null,null,null,"1005GDCMLD","Payless Concrete","3131800131",519,"Payless Concrete, St. Joesph st. joesph","519_st. joesph",1380,{"$error":"#N/A"},{"$error":"#N/A"},null,null,null,null,null,null,null,null,null,null,null,null,null,null,null,null,null,null,null,null,null,null,"1007..RCBT1T5","Scott County Aggregate, LLC, Scott City","",null,null,null,null,{"$error":"#N/A"}]
[null,null,null,null,null,"1005GDCMLD","Penny's Concrete","3055810037",4719,"Penny's, Carrolton (Green) Carrolton","4719_Carrolton",7091,{"$error":"#N/A"},{"$error":"#N/A"},null,null,null,null,null,null,null,null,null,null,null,null,null,null,null,null,null,null,null,null,null,null,"1007..RCBT1T5","Simpson S&G, Peerless Park","",null,null,null,null,{"$error":"#N/A"}]
[null,null,null,null,null,"1005GDCMLD","Penny's Concrete","3055810037",4719,"Penny's, Chillicothe (Green) Chillicothe","4719_Chillicothe",7092,{"$error":"#N/A"},{"$error":"#N/A"},null,null,null,null,null,null,null,null,null,null,null,null,null,null,null,null,null,null,null,null,null,null,"1007CAAB.","Hamm Quarries, Leavenworth","",null,null,null,null,{"$error":"#N/A"}]
[null,null,null,null,null,"1005GDCMLD","Penny's Concrete","3055810037",4719,"Penny's, Concordia (Green) Concordia","4719_Concordia",7093,{"$error":"#N/A"},{"$error":"#N/A"},null,null,null,null,null,null,null,null,null,null,null,null,null,null,null,null,null,null,null,null,null,null,"1007CAAB.","Westside Stone (Springfield Underground, Airport)","",null,null,null,null,{"$error":"#N/A"}]
[null,null,null,null,null,"1005GDCMLD","Penny's Concrete","3055810037",4719,"Penny's, Excelsior Springs (Green) ExcelsiorSpring","4719_ExcelsiorSpring",7094,{"$error":"#N/A"},{"$error":"#N/A"},null,null,null,null,null,null,null,null,null,null,null,null,null,null,null,null,null,null,null,null,null,null,"1007T1ABDO..T5","Emery Sapp","",null,null,null,null,{"$error":"#N/A"}]
[null,null,null,null,null,"1005GDCMLD","Penny's Concrete","3055810037",4719,"Penny's, Grain Valley Grain Valley","4719_Grain Valley",7100,{"$error":"#N/A"},{"$error":"#N/A"},null,null,null,null,null,null,null,null,null,null,null,null,null,null,null,null,null,null,null,null,null,null,"1007T1ABDO..T5","Indian Creek Materials, Zalma","",null,null,null,null,{"$error":"#N/A"}]
[null,null,null,null,null,"1005GDCMLD","Penny's Concrete","3055810037",4719,"Penny's, Higginsville (Green) Higginsville","4719_Higginsville",7096,{"$error":"#N/A"},{"$error":"#N/A"},null,null,null,null,null,null,null,null,null,null,null,null,null,null,null,null,null,null,null,null,null,null,"1007T1ABDO..T5","Producer Supplier not designated.","",null,null,null,null,{"$error":"#N/A"}]
[null,null,null,null,null,"1005GDCMLD","Penny's Concrete","3055810037",4719,"Penny's, Lansing KS Lansing","4719_Lansing",7097,{"$error":"#N/A"},{"$error":"#N/A"},null,null,null,null,null,null,null,null,null,null,null,null,null,null,null,null,null,null,null,null,null,null,"1007T1ABLD","AA Quarry, LLC","",null,null,null,null,{"$error":"#N/A"}]
[null,null,null,null,null,"1005GDCMLD","Penny's Concrete","3055810037",4719,"Penny's, Martin City Martin City","4719_Martin City",7098,{"$error":"#N/A"},{"$error":"#N/A"},null,null,null,null,null,null,null,null,null,null,null,null,null,null,null,null,null,null,null,null,null,null,"1007T1ABLD","Boone Quarries, Gilliam (Skyline)","",null,null,null,null,{"$error":"#N/A"}]
[null,null,null,null,null,"1005GDCMLD","Penny's Concrete","3055810037",4719,"Penny's, Parvin Rd Parvin","4719_Parvin",7099,{"$error":"#N/A"},{"$error":"#N/A"},null,null,null,null,null,null,null,null,null,null,null,null,null,null,null,null,null,null,null,null,null,null,"1007T1ABLD","Boone Quarry #1, Columbia","",null,null,null,null,{"$error":"#N/A"}]
[null,null,null,null,null,"1005GDCMLD","Penny's Concrete","3055810037",4719,"Penny's, Richmond (Green) Richmond","4719_Richmond",7095,{"$error":"#N/A"},{"$error":"#N/A"},null,null,null,null,null,null,null,null,null,null,null,null,null,null,null,null,null,null,null,null,null,null,"1007T1ABLD","Capital Materials, Palo Quarry (Smasal)","",null,null,null,null,{"$error":"#N/A"}]
[null,null,null,null,null,"1005GDCMLD","Summit Materials, Marshall (Boone Quarries)","3176713215",1976,"Burlington 1B-2B","1976_1B-2B",5586,{"$error":"#N/A"},{"$error":"#N/A"},null,null,null,null,null,null,null,null,null,null,null,null,null,null,null,null,null,null,null,null,null,null,"1007T1ABLD","Capital Materials, Sedalia (Snow Rd-Dresden)","",null,null,null,null,{"$error":"#N/A"}]
[null,null,null,null,null,"1005GDCMLD","Summit Materials, Marshall (Boone Quarries)","3176713215",1976,"Cedar Valley 5CA-9CA","1976_5CA-9CA",5592,{"$error":"#N/A"},{"$error":"#N/A"},null,null,null,null,null,null,null,null,null,null,null,null,null,null,null,null,null,null,null,null,null,null,"1007T1ABLD","Capital Quarries #14 (Staggenborg) - North Pit","",null,null,null,null,{"$error":"#N/A"}]
[null,null,null,null,null,"1005GDCMLD","Summit Materials, Marshall (Boone Quarries)","3176713215",1976,"Cedar Valley 8CA-9CA","1976_8CA-9CA",5587,{"$error":"#N/A"},{"$error":"#N/A"},null,null,null,null,null,null,null,null,null,null,null,null,null,null,null,null,null,null,null,null,null,null,"1007T1ABLD","Capital Quarries, Cuba (Voss Quarry)","",null,null,null,null,{"$error":"#N/A"}]
[null,null,null,null,null,"1005GDCMLD","Summit Materials, Marshall (Boone Quarries)","3176713215",1976,"Chouteau 2C-3C","1976_2C-3C",5589,{"$error":"#N/A"},{"$error":"#N/A"},null,null,null,null,null,null,null,null,null,null,null,null,null,null,null,null,null,null,null,null,null,null,"1007T1ABLD","Capital Quarries, Stadium W","",null,null,null,null,{"$error":"#N/A"}]
[null,null,null,null,null,"1005GDCMLD","Summit Materials, Marshall (Boone Quarries)","3176713215",1976,"Chouteau - Cedar Valley 4C,5-9CA","1976_4C,5-9CA",5593,{"$error":"#N/A"},{"$error":"#N/A"},null,null,null,null,null,null,null,null,null,null,null,null,null,null,null,null,null,null,null,null,null,null,"1007T1ABLD","Capital Quarries, Treloar (Mertens #6)","",null,null,null,null,{"$error":"#N/A"}]
[null,null,null,null,null,"1005GDCMLD","Thompson Bros Ready Mix","3046000232",1657,"Thompsom Bros Ready Mix, Brookfield Brookfield","1657_Brookfield",5021,{"$error":"#N/A"},{"$error":"#N/A"},null,null,null,null,null,null,null,null,null,null,null,null,null,null,null,null,null,null,null,null,null,null,"1007T1ABLD","Central Stone #1, Hannibal (Huntington)","",null,null,null,null,{"$error":"#N/A"}]
[null,null,null,null,null,"1005GDCMLD","Trager Limestone, Gallatin (NORTH)","3176702014",1096,"Bethany Falls 1BF-2BF-3BF","1096_1BF-2BF-3BF",3529,{"$error":"#N/A"},{"$error":"#N/A"},null,null,null,null,null,null,null,null,null,null,null,null,null,null,null,null,null,null,null,null,null,null,"1007T1ABLD","Central Stone #4, Paris","",null,null,null,null,{"$error":"#N/A"}]
[null,null,null,null,null,"1005GDCMLD","Trager Limestone, Gallatin (SOUTH)","3160800111",365,"Bethany Falls 2BF - 5BF","365_2BF - 5BF",1146,{"$error":"#N/A"},{"$error":"#N/A"},null,null,null,null,null,null,null,null,null,null,null,null,null,null,null,null,null,null,null,null,null,null,"1007T1ABLD","Central Stone #6, New London","",null,null,null,null,{"$error":"#N/A"}]
[null,null,null,null,null,"1005GDCMLD","Trager Limestone, Nettleton","3176715011",2385,"Bethany Falls 1BF","2385_1BF",6078,{"$error":"#N/A"},{"$error":"#N/A"},null,null,null,null,null,null,null,null,null,null,null,null,null,null,null,null,null,null,null,null,null,null,"1007T1ABLD","Central Stone #7, Curryville","",null,null,null,null,{"$error":"#N/A"}]
[null,null,null,null,null,"1005GDCMLD","Trager Limestone, Nettleton","3176715011",2385,"Bethany Falls 1BF-4BF","2385_1BF-4BF",6079,{"$error":"#N/A"},{"$error":"#N/A"},null,null,null,null,null,null,null,null,null,null,null,null,null,null,null,null,null,null,null,null,null,null,"1007T1ABLD","Holliday Sand and Stone, Wheatland (Ash Grove)","",null,null,null,null,{"$error":"#N/A"}]
[null,null,null,null,null,"1005GDCMLD","Trager Limestone, Nettleton","3176715011",2385,"Winterset 1W-4W","2385_1W-4W",6081,{"$error":"#N/A"},{"$error":"#N/A"},null,null,null,null,null,null,null,null,null,null,null,null,null,null,null,null,null,null,null,null,null,null,"1007T1ABLD","Ideker Mosby Quarry","",null,null,null,null,{"$error":"#N/A"}]
[null,null,null,null,null,"1005GDCMLD","Westside Stone (Springfield Underground, Airport)","3415300118",3510,"Burlington E","3510_E",6765,{"$error":"#N/A"},{"$error":"#N/A"},null,null,null,null,null,null,null,null,null,null,null,null,null,null,null,null,null,null,null,null,null,null,"1007T1ABLD","Jo Rock Quarry","",null,null,null,null,{"$error":"#N/A"}]
[null,null,null,null,null,"1005GDCMLD","Williamsville Stone #1","3050400110",81,"Gasconade 14-6","81_14-6",7673,{"$error":"#N/A"},{"$error":"#N/A"},null,null,null,null,null,null,null,null,null,null,null,null,null,null,null,null,null,null,null,null,null,null,"1007T1ABLD","Magruder Limestone #1, Troy","",null,null,null,null,{"$error":"#N/A"}]
[null,null,null,null,null,"1005GDCMLS","Magruder Limestone #1, Troy","3029700113",842,"Burlington 1-7","842_1-7",2543,{"$error":"#N/A"},{"$error":"#N/A"},null,null,null,null,null,null,null,null,null,null,null,null,null,null,null,null,null,null,null,null,null,null,"1007T1ABLD","Magruder Limestone, Ashley","",null,null,null,null,{"$error":"#N/A"}]
[null,null,null,null,null,"1005GDCMLS","Magruder Limestone #1, Troy","3029700113",842,"Burlington 3-7","842_3-7",2538,{"$error":"#N/A"},{"$error":"#N/A"},null,null,null,null,null,null,null,null,null,null,null,null,null,null,null,null,null,null,null,null,null,null,"1007T1ABLD","Mid Missouri Limestone (Big Springs)","",null,null,null,null,{"$error":"#N/A"}]
[null,null,null,null,null,"1005GDCMLS","Magruder Limestone #1, Troy","3029700113",842,"Chouteau 1C-8C","842_1C-8C",2537,{"$error":"#N/A"},{"$error":"#N/A"},null,null,null,null,null,null,null,null,null,null,null,null,null,null,null,null,null,null,null,null,null,null,"1007T1ABLD","New Frontier, Bedrock Quarry","",null,null,null,null,{"$error":"#N/A"}]
[null,null,null,null,null,"1005GDCMLS","Magruder Limestone, Ashley","3029700313",838,"Burlington 1-3","838_1-3",2477,{"$error":"#N/A"},{"$error":"#N/A"},null,null,null,null,null,null,null,null,null,null,null,null,null,null,null,null,null,null,null,null,null,null,"1007T1ABLD","Norris Quarries LLC, Agency (APAC - Agency)","",null,null,null,null,{"$error":"#N/A"}]
[null,null,null,null,null,"1005GDCMLS","Martin Marietta, Randolph","3021300114",900,"Cedar Valley 1CV","900_1CV",2774,{"$error":"#N/A"},{"$error":"#N/A"},null,null,null,null,null,null,null,null,null,null,null,null,null,null,null,null,null,null,null,null,null,null,"1007T1ABLD","Norris Quarries LLC, Akron (Jefferies Quarry)","",null,null,null,null,{"$error":"#N/A"}]
[null,null,null,null,null,"1005GECMDO","VLC Aggregate Inc., Desloge","3027000410",627,"Bonne Terre 1-2","627_1-2",1518,{"$error":"#N/A"},{"$error":"#N/A"},null,null,null,null,null,null,null,null,null,null,null,null,null,null,null,null,null,null,null,null,null,null,"1007T1ABLD","Norris Quarries LLC, Cameron South (APAC)","",null,null,null,null,{"$error":"#N/A"}]
[null,null,null,null,null,"1005GECMGTBD","Martin Marietta (Mill Creek Quarry), OK","3434900114",3595,"Troy Granite 1","3595_1",6810,{"$error":"#N/A"},{"$error":"#N/A"},null,null,null,null,null,null,null,null,null,null,null,null,null,null,null,null,null,null,null,null,null,null,"1007T1ABLD","Norris Quarries LLC, Kingston (APAC - Kingston)","",null,null,null,null,{"$error":"#N/A"}]
[null,null,null,null,null,"1005GECMGV","Winter Brothers, Hagemann","3050600216",3729,"Meramec River Gravel GRAVEL","3729_GRAVEL",6842,{"$error":"#N/A"},{"$error":"#N/A"},null,null,null,null,null,null,null,null,null,null,null,null,null,null,null,null,null,null,null,null,null,null,"1007T1ABLD","Norris Quarries LLC, Plattsburg South (APAC)","",null,null,null,null,{"$error":"#N/A"}]
[null,null,null,null,null,"1005GECMLS","Base Rock Minerals, Pit 3","3038300310",1757,"Bonne Terre 7-10","1757_7-10",5108,{"$error":"#N/A"},{"$error":"#N/A"},null,null,null,null,null,null,null,null,null,null,null,null,null,null,null,null,null,null,null,null,null,null,"1007T1ABLD","Norris Quarries LLC, Stanberry (APAC - Stanberry)","",null,null,null,null,{"$error":"#N/A"}]
[null,null,null,null,null,"1005GECMLS","Cameron Concrete Company","3015500231",1132,"Cameron Concrete Co., Cameron cameron","1132_cameron",3595,{"$error":"#N/A"},{"$error":"#N/A"},null,null,null,null,null,null,null,null,null,null,null,null,null,null,null,null,null,null,null,null,null,null,"1007T1ABLD","Norris Quarries, Amazonia Quarry","",null,null,null,null,{"$error":"#N/A"}]
[null,null,null,null,null,"1005GECMLS","Cantera Aggregates #5, Walnut City Quarry IA","3026300512",670,"Exline 1E","670_1E",1669,{"$error":"#N/A"},{"$error":"#N/A"},null,null,null,null,null,null,null,null,null,null,null,null,null,null,null,null,null,null,null,null,null,null,"1007T1ABLD","Norris Quarries, Barnard Quarry",{"$f":"IF(AK858=$AK$44,AL858,\"\")","v":""},null,null,null,null,{"$error":"#N/A"}]
[null,null,null,null,null,"1005GECMLS","Capital Materials, Sedalia (Snow Rd-Dresden)","3026603615",641,"Burlington 1 - 4","641_1 - 4",1540,{"$error":"#N/A"},{"$error":"#N/A"},null,null,null,null,null,null,null,null,null,null,null,null,null,null,null,null,null,null,null,null,null,null,"1007T1ABLD","Norris Quarries, Bethany","",null,null,null,null,{"$error":"#N/A"}]
[null,null,null,null,null,"1005GECMLS","Capital Materials, Tightwad (APAC)","3020600114",927,"Burlington 1,2,3","927_1,2,3",2872,{"$error":"#N/A"},{"$error":"#N/A"},null,null,null,null,null,null,null,null,null,null,null,null,null,null,null,null,null,null,null,null,null,null,"1007T1ABLD","Norris Quarries, Blue Mound","",null,null,null,null,{"$error":"#N/A"}]
[null,null,null,null,null,"1005GECMLS","Capital Quarries #10, Quinn Pit (Beck)","3170701015",1979,"Burlington-Cedar Valley 2-4","1979_2-4",5600,{"$error":"#N/A"},{"$error":"#N/A"},null,null,null,null,null,null,null,null,null,null,null,null,null,null,null,null,null,null,null,null,null,null,"1007T1ABLD","Norris Quarries, Breit Quarry, Savannah","",null,null,null,null,{"$error":"#N/A"}]
[null,null,null,null,null,"1005GECMLS","Capital Quarries #17, Sullivan","3170701719",1801,"Potosi 1-2","1801_1-2",5312,{"$error":"#N/A"},{"$error":"#N/A"},null,null,null,null,null,null,null,null,null,null,null,null,null,null,null,null,null,null,null,null,null,null,"1007T1ABLD","Norris Quarries, Gallatin Quarry","",null,null,null,null,{"$error":"#N/A"}]
[null,null,null,null,null,"1005GECMLS","Capital Quarries #17, Sullivan","3170701719",1801,"Potosi 2","1801_2",5310,{"$error":"#N/A"},{"$error":"#N/A"},null,null,null,null,null,null,null,null,null,null,null,null,null,null,null,null,null,null,null,null,null,null,"1007T1ABLD","Norris Quarries, Gooden Quarry, Ravenwood","",null,null,null,null,{"$error":"#N/A"}]
[null,null,null,null,null,"1005GECMLS","Central Stone #1, Hannibal (Huntington)","3007900113",948,"Cedar Valley 13-11","948_13-11",3038,{"$error":"#N/A"},{"$error":"#N/A"},null,null,null,null,null,null,null,null,null,null,null,null,null,null,null,null,null,null,null,null,null,null,"1007T1ABLD","Norris Quarries, Maitland Quarry","",null,null,null,null,{"$error":"#N/A"}]
[null,null,null,null,null,"1005GECMLS","Central Stone #1, Hannibal (Huntington)","3007900113",948,"Kimmswick 10-1","948_10-1",3041,{"$error":"#N/A"},{"$error":"#N/A"},null,null,null,null,null,null,null,null,null,null,null,null,null,null,null,null,null,null,null,null,null,null,"1007T1ABLD","Norris Quarries, Mercer (S. Pit)","",null,null,null,null,{"$error":"#N/A"}]
[null,null,null,null,null,"1005GECMLS","Central Stone #31, Florissant","3007903116",947,"St. Louis 3-9","947_3-9",2997,{"$error":"#N/A"},{"$error":"#N/A"},null,null,null,null,null,null,null,null,null,null,null,null,null,null,null,null,null,null,null,null,null,null,"1007T1ABLD","Norris Quarries, Princeton Quarry","",null,null,null,null,{"$error":"#N/A"}]
[null,null,null,null,null,"1005GECMLS","Central Stone #54 (Bellefontaine)  Farmington","3044000110",1463,"Derby-Doe Run 5","1463_5",4522,{"$error":"#N/A"},{"$error":"#N/A"},null,null,null,null,null,null,null,null,null,null,null,null,null,null,null,null,null,null,null,null,null,null,"1007T1ABLD","Norris Quarries, Trenton","",null,null,null,null,{"$error":"#N/A"}]
[null,null,null,null,null,"1005GECMLS","Central Stone #72, Antire Quarry","3005700316",1154,"Plattin 15-18,19-21","1154_15-18,19-21",3751,{"$error":"#N/A"},{"$error":"#N/A"},null,null,null,null,null,null,null,null,null,null,null,null,null,null,null,null,null,null,null,null,null,null,"1007T1ABLD","Producer Supplier not designated.","",null,null,null,null,{"$error":"#N/A"}]
[null,null,null,null,null,"1005GECMLS","Central Stone #74, Trautman Quarry","3005700416",1155,"Plattin 1-5","1155_1-5",7816,{"$error":"#N/A"},{"$error":"#N/A"},null,null,null,null,null,null,null,null,null,null,null,null,null,null,null,null,null,null,null,null,null,null,"1007T1ABLD","Schildberg Construction, Braddyville, IA","",null,null,null,null,{"$error":"#N/A"}]
[null,null,null,null,null,"1005GECMLS","Central Stone #74, Trautman Quarry","3005700416",1155,"Plattin 3-5","1155_3-5",3782,{"$error":"#N/A"},{"$error":"#N/A"},null,null,null,null,null,null,null,null,null,null,null,null,null,null,null,null,null,null,null,null,null,null,"1007T1ABLD","Schildberg Construction, Graham","",null,null,null,null,{"$error":"#N/A"}]
[null,null,null,null,null,"1005GECMLS","Central Stone, Potosi (GP Materials)","3505200115",4864,"Eminence 3","4864_3",7240,{"$error":"#N/A"},{"$error":"#N/A"},null,null,null,null,null,null,null,null,null,null,null,null,null,null,null,null,null,null,null,null,null,null,"1007T1ABLD","Skyline Materials - Shelby County","",null,null,null,null,{"$error":"#N/A"}]
[null,null,null,null,null,"1005GECMLS","Conco Quarries, Willard","3009800218",1275,"Burlington 1E,1AE,1BE,1CE","1275_1E,1AE,1BE,1CE",7902,{"$error":"#N/A"},{"$error":"#N/A"},null,null,null,null,null,null,null,null,null,null,null,null,null,null,null,null,null,null,null,null,null,null,"1007T1ABLD","Trager Limestone, Gallatin (NORTH)","",null,null,null,null,{"$error":"#N/A"}]
[null,null,null,null,null,"1005GECMLS","Conco Quarries, Willard","3009800218",1275,"Burlington 1E-1BE","1275_1E-1BE",7838,{"$error":"#N/A"},{"$error":"#N/A"},null,null,null,null,null,null,null,null,null,null,null,null,null,null,null,null,null,null,null,null,null,null,"1007T1ABLD","Trager Limestone, Gallatin (SOUTH)","",null,null,null,null,{"$error":"#N/A"}]
[null,null,null,null,null,"1005GECMLS","Conco Quarries, Willard","3009800218",1275,"Burlington 1E-1BE & 1W-1CW","1275_1E-1BE & 1W-1CW",7740,{"$error":"#N/A"},{"$error":"#N/A"},null,null,null,null,null,null,null,null,null,null,null,null,null,null,null,null,null,null,null,null,null,null,"1007T1ABLD","Trager Limestone, Nettleton","",null,null,null,null,{"$error":"#N/A"}]
[null,null,null,null,null,"1005GECMLS","Conco Quarries, Willard","3009800218",1275,"Burlington 1E-1BE & 2W-1W","1275_1E-1BE & 2W-1W",7839,{"$error":"#N/A"},{"$error":"#N/A"},null,null,null,null,null,null,null,null,null,null,null,null,null,null,null,null,null,null,null,null,null,null,"1007T1ABLD","Twin States Sand & Gravel","",null,null,null,null,{"$error":"#N/A"}]
[null,null,null,null,null,"1005GECMLS","Conco Quarries, Willard","3009800218",1275,"Burlington 2E-1BE & 2W-1CW","1275_2E-1BE & 2W-1CW",7453,{"$error":"#N/A"},{"$error":"#N/A"},null,null,null,null,null,null,null,null,null,null,null,null,null,null,null,null,null,null,null,null,null,null,"1007T1ABLD..T5","AA Quarry, LLC","",null,null,null,null,{"$error":"#N/A"}]
[null,null,null,null,null,"1005GECMLS","Concrete Industries","3009900331",2923,"Concrete Industries,  Auburn, NE Auburn","2923_Auburn",6444,{"$error":"#N/A"},{"$error":"#N/A"},null,null,null,null,null,null,null,null,null,null,null,null,null,null,null,null,null,null,null,null,null,null,"1007T1ABLD..T5","APAC-Central, Busiek (Anderson Qy)","",null,null,null,null,{"$error":"#N/A"}]
[null,null,null,null,null,"1005GECMLS","Concrete Industries","3009900331",2923,"Concrete Industries, Falls City, NE Falls City","2923_Falls City",6442,{"$error":"#N/A"},{"$error":"#N/A"},null,null,null,null,null,null,null,null,null,null,null,null,null,null,null,null,null,null,null,null,null,null,"1007T1ABLD..T5","APAC-Kansas Bates City Quarry","",null,null,null,null,{"$error":"#N/A"}]
[null,null,null,null,null,"1005GECMLS","Concrete Industries","3009900331",2923,"Concrete Industries, Nebraska City, NE Nebraska City","2923_Nebraska City",6443,{"$error":"#N/A"},{"$error":"#N/A"},null,null,null,null,null,null,null,null,null,null,null,null,null,null,null,null,null,null,null,null,null,null,"1007T1ABLD..T5","APAC-Kansas Harrisonville Quarry","",null,null,null,null,{"$error":"#N/A"}]
[null,null,null,null,null,"1005GECMLS","Fischer Concrete","3151700135",1019,"Fischer Concrete, Bethany (Bethany Ready Mix) Bethany","1019_Bethany",3283,{"$error":"#N/A"},{"$error":"#N/A"},null,null,null,null,null,null,null,null,null,null,null,null,null,null,null,null,null,null,null,null,null,null,"1007T1ABLD..T5","AQ Properties LLC","",null,null,null,null,{"$error":"#N/A"}]
[null,null,null,null,null,"1005GECMLS","Fischer Concrete","3151700135",1019,"Fischer Concrete, Chillicothe Chillicothe","1019_Chillicothe",7388,{"$f":"IF(AND($F$17=H881,$AK$44=F881),J881,\"\")","v":{"$error":"#N/A"}},{"$f":"IF(AND($F$17=H881,$AK$44=F881),L881,\"\")","v":{"$error":"#N/A"}},null,null,null,null,null,null,null,null,null,null,null,null,null,null,null,null,null,null,null,null,null,null,"1007T1ABLD..T5","American Rock R & C - dba Buchanan Materials","",null,null,null,null,{"$error":"#N/A"}]
[null,null,null,null,null,"1005GECMLS","Fischer Concrete","3151700135",1019,"Fischer Concrete, Trenton (Trenton Ready Mix) Trenton","1019_Trenton",7346,{"$error":"#N/A"},{"$error":"#N/A"},null,null,null,null,null,null,null,null,null,null,null,null,null,null,null,null,null,null,null,null,null,null,"1007T1ABLD..T5","Anchor Stone - Joplin","",null,null,null,null,{"$error":"#N/A"}]
[null,null,null,null,null,"1005GECMLS","Herzog, Wathena Stone","3020400411",663,"Amazonia 1A-2A","663_1A-2A",1655,{"$error":"#N/A"},{"$error":"#N/A"},null,null,null,null,null,null,null,null,null,null,null,null,null,null,null,null,null,null,null,null,null,null,"1007T1ABLD..T5","Anchor Stone, Jane (Bailey)","",null,null,null,null,{"$error":"#N/A"}]
[null,null,null,null,null,"1005GECMLS","Holt Co Ready Mix","3406500131",3341,"Holt Co Ready Mix, Mound City Mound City","3341_Mound City",6705,{"$error":"#N/A"},{"$error":"#N/A"},null,null,null,null,null,null,null,null,null,null,null,null,null,null,null,null,null,null,null,null,null,null,"1007T1ABLD..T5","BMC Stone, LLC, Defiance  (APAC Defiance Quarry)","",null,null,null,null,{"$error":"#N/A"}]
[null,null,null,null,null,"1005GECMLS","Ideal Ready Mix","3021910033",4713,"Ideal Ready Mix, Canton Canton","4713_Canton",7064,{"$error":"#N/A"},{"$error":"#N/A"},null,null,null,null,null,null,null,null,null,null,null,null,null,null,null,null,null,null,null,null,null,null,"1007T1ABLD..T5","Bailey (Roach) Quarry","",null,null,null,null,{"$error":"#N/A"}]
[null,null,null,null,null,"1005GECMLS","Ideal Ready Mix","3021910033",4713,"Ideal Ready Mix, Centerville, IA Centerville","4713_Centerville",7065,{"$error":"#N/A"},{"$error":"#N/A"},null,null,null,null,null,null,null,null,null,null,null,null,null,null,null,null,null,null,null,null,null,null,"1007T1ABLD..T5","Bailey Quarries #3, Stockton","",null,null,null,null,{"$error":"#N/A"}]
[null,null,null,null,null,"1005GECMLS","Ideal Ready Mix","3021910033",4713,"Ideal Ready Mix, Kahoka Kahoka","4713_Kahoka",7063,{"$error":"#N/A"},{"$error":"#N/A"},null,null,null,null,null,null,null,null,null,null,null,null,null,null,null,null,null,null,null,null,null,null,"1007T1ABLD..T5","Base Rock Minerals, Fruitland","",null,null,null,null,{"$error":"#N/A"}]
[null,null,null,null,null,"1005GECMLS","Ideal Ready Mix","3021910033",4713,"Ideal Ready Mix, Unionville Unionville","4713_Unionville",7062,{"$error":"#N/A"},{"$error":"#N/A"},null,null,null,null,null,null,null,null,null,null,null,null,null,null,null,null,null,null,null,null,null,null,"1007T1ABLD..T5","Base Rock Minerals, Pit 3","",null,null,null,null,{"$error":"#N/A"}]
[null,null,null,null,null,"1005GECMLS","Indian Creek Materials/Couch","3012905219",1228,"Jefferson City 1","1228_1",3937,{"$error":"#N/A"},{"$error":"#N/A"},null,null,null,null,null,null,null,null,null,null,null,null,null,null,null,null,null,null,null,null,null,null,"1007T1ABLD..T5","Beyers Crushed Rock Co.","",null,null,null,null,{"$error":"#N/A"}]
[null,null,null,null,null,"1005GECMLS","Kerford Limestone Co., NE","3024600111",699,"Kereford & Plattsmouth 1K-4P","699_1K-4P",1805,{"$error":"#N/A"},{"$error":"#N/A"},null,null,null,null,null,null,null,null,null,null,null,null,null,null,null,null,null,null,null,null,null,null,"1007T1ABLD..T5","Big Creek Quarry, Moscow Mills","",null,null,null,null,{"$error":"#N/A"}]
[null,null,null,null,null,"1005GECMLS","Kerford Limestone Co., NE","3024600111",699,"Plattsmouth 1P-4P","699_1P-4P",1801,{"$error":"#N/A"},{"$error":"#N/A"},null,null,null,null,null,null,null,null,null,null,null,null,null,null,null,null,null,null,null,null,null,null,"1007T1ABLD..T5","Blevins - Brewster Chat Pile","",null,null,null,null,{"$error":"#N/A"}]
[null,null,null,null,null,"1005GECMLS","Land-Chariton County Concrete","3026800132",623,"Land-Chariton County Concrete, Moberly Moberly","623_Moberly",1514,{"$error":"#N/A"},{"$error":"#N/A"},null,null,null,null,null,null,null,null,null,null,null,null,null,null,null,null,null,null,null,null,null,null,"1007T1ABLD..T5","Bluewing Materials, Poplar Bluff Stone","",null,null,null,null,{"$error":"#N/A"}]
[null,null,null,null,null,"1005GECMLS","Loch Sand","3028200131",615,"Loch Sand, Maryville Maryville","615_Maryville",1496,{"$error":"#N/A"},{"$error":"#N/A"},null,null,null,null,null,null,null,null,null,null,null,null,null,null,null,null,null,null,null,null,null,null,"1007T1ABLD..T5","Boone Quarries East (Southdown)","",null,null,null,null,{"$error":"#N/A"}]
[null,null,null,null,null,"1005GECMLS","Martin Marietta, Ferrelview (Stamper)","3021300214",925,"Bethany Falls 1BF-2BF-3BF","925_1BF-2BF-3BF",2860,{"$error":"#N/A"},{"$error":"#N/A"},null,null,null,null,null,null,null,null,null,null,null,null,null,null,null,null,null,null,null,null,null,null,"1007T1ABLD..T5","Boone Quarries, Gilliam (Skyline)","",null,null,null,null,{"$error":"#N/A"}]
[null,null,null,null,null,"1005GECMLS","Martin Marietta, Randolph","3021300114",900,"Cedar Valley 1CV","900_1CV",2774,{"$error":"#N/A"},{"$error":"#N/A"},null,null,null,null,null,null,null,null,null,null,null,null,null,null,null,null,null,null,null,null,null,null,"1007T1ABLD..T5","Boone Quarries, Glasgow (Skyline)","",null,null,null,null,{"$error":"#N/A"}]
[null,null,null,null,null,"1005GECMLS","Martin Marietta, Weeping Water,NE","3030627311",789,"Kereford and Plattsmouth 1K-5P","789_1K-5P",2108,{"$error":"#N/A"},{"$error":"#N/A"},null,null,null,null,null,null,null,null,null,null,null,null,null,null,null,null,null,null,null,null,null,null,"1007T1ABLD..T5","Boone Quarries, Riggs (Mid MO Mertens)","",null,null,null,null,{"$error":"#N/A"}]
[null,null,null,null,null,"1005GECMLS","Mid Missouri Limestone (Auxvasse - South Gate)","3001900115",1351,"Cedar Valley 6-7-8-9","1351_6-7-8-9",7393,{"$error":"#N/A"},{"$error":"#N/A"},null,null,null,null,null,null,null,null,null,null,null,null,null,null,null,null,null,null,null,null,null,null,"1007T1ABLD..T5","Boone Quarries, Tipton (Mid MO Prestage)","",null,null,null,null,{"$error":"#N/A"}]
[null,null,null,null,null,"1005GECMLS","Milan Ready Mix (Sullivan County RM)","3198400132",1874,"Milan Ready Mix,  Milan Milan","1874_Milan",5374,{"$error":"#N/A"},{"$error":"#N/A"},null,null,null,null,null,null,null,null,null,null,null,null,null,null,null,null,null,null,null,null,null,null,"1007T1ABLD..T5","Cantera Aggregates #5, Walnut City Quarry IA","",null,null,null,null,{"$error":"#N/A"}]
[null,null,null,null,null,"1005GECMLS","New Frontier, Alton Weber #8","3032400116",577,"St. Louis 1-7","577_1-7",1423,{"$error":"#N/A"},{"$error":"#N/A"},null,null,null,null,null,null,null,null,null,null,null,null,null,null,null,null,null,null,null,null,null,null,"1007T1ABLD..T5","Capital Materials, Adrian (APAC)","",null,null,null,null,{"$error":"#N/A"}]
[null,null,null,null,null,"1005GECMLS","New Frontier, New Melle Quarry","3016600716",117,"Plattin 2-4,4-7","117_2-4,4-7",443,{"$error":"#N/A"},{"$error":"#N/A"},null,null,null,null,null,null,null,null,null,null,null,null,null,null,null,null,null,null,null,null,null,null,"1007T1ABLD..T5","Capital Materials, Bagnell (APAC)","",null,null,null,null,{"$error":"#N/A"}]
[null,null,null,null,null,"1005GECMLS","Norris Quarries LLC, Akron (Jefferies Quarry)","3030615411",807,"Bethany Falls 2BF-4BF","807_2BF-4BF",2207,{"$error":"#N/A"},{"$error":"#N/A"},null,null,null,null,null,null,null,null,null,null,null,null,null,null,null,null,null,null,null,null,null,null,"1007T1ABLD..T5","Capital Materials, Fairplay (T & M Stone Quarry)","",null,null,null,null,{"$error":"#N/A"}]
[null,null,null,null,null,"1005GECMLS","Norris Quarries LLC, Kingston (APAC - Kingston)","3014800411",1033,"Bethany Falls 1BF-4BF","1033_1BF-4BF",3337,{"$error":"#N/A"},{"$error":"#N/A"},null,null,null,null,null,null,null,null,null,null,null,null,null,null,null,null,null,null,null,null,null,null,"1007T1ABLD..T5","Capital Materials, Laurie (APAC)","",null,null,null,null,{"$error":"#N/A"}]
[null,null,null,null,null,"1005GECMLS","Norris Quarries, Amazonia Quarry","3061800211",888,"Kereford 1K","888_1K",2717,{"$error":"#N/A"},{"$error":"#N/A"},null,null,null,null,null,null,null,null,null,null,null,null,null,null,null,null,null,null,null,null,null,null,"1007T1ABLD..T5","Capital Materials, Leeton (APAC)","",null,null,null,null,{"$error":"#N/A"}]
[null,null,null,null,null,"1005GECMLS","Norris Quarries, Amazonia Quarry","3061800211",888,"Kereford 1K-2K","888_1K-2K",2703,{"$error":"#N/A"},{"$error":"#N/A"},null,null,null,null,null,null,null,null,null,null,null,null,null,null,null,null,null,null,null,null,null,null,"1007T1ABLD..T5","Capital Materials, Linn Creek (APAC)","",null,null,null,null,{"$error":"#N/A"}]
[null,null,null,null,null,"1005GECMLS","Norris Quarries, Amazonia Quarry","3061800211",888,"Kereford 2K","888_2K",2715,{"$error":"#N/A"},{"$error":"#N/A"},null,null,null,null,null,null,null,null,null,null,null,null,null,null,null,null,null,null,null,null,null,null,"1007T1ABLD..T5","Capital Materials, Palo Quarry (Smasal)","",null,null,null,null,{"$error":"#N/A"}]
[null,null,null,null,null,"1005GECMLS","Norris Quarries, Bethany","3030616611",809,"Bethany Falls 9BF-12BF","809_9BF-12BF",2228,{"$error":"#N/A"},{"$error":"#N/A"},null,null,null,null,null,null,null,null,null,null,null,null,null,null,null,null,null,null,null,null,null,null,"1007T1ABLD..T5","Capital Materials, Sedalia (Snow Rd-Dresden)","",null,null,null,null,{"$error":"#N/A"}]
[null,null,null,null,null,"1005GECMLS","Norris Quarries, Bethany","3030616611",809,"Bethany Falls 9BF-14B","809_9BF-14B",2226,{"$error":"#N/A"},{"$error":"#N/A"},null,null,null,null,null,null,null,null,null,null,null,null,null,null,null,null,null,null,null,null,null,null,"1007T1ABLD..T5","Capital Materials, South Hollister (Journagan #7)","",null,null,null,null,{"$error":"#N/A"}]
[null,null,null,null,null,"1005GECMLS","Norris Quarries, Blue Mound","3018700212",849,"Bethany Falls 2BF-3BF","849_2BF-3BF",2612,{"$error":"#N/A"},{"$error":"#N/A"},null,null,null,null,null,null,null,null,null,null,null,null,null,null,null,null,null,null,null,null,null,null,"1007T1ABLD..T5","Capital Materials, Tightwad (APAC)","",null,null,null,null,{"$error":"#N/A"}]
[null,null,null,null,null,"1005GECMLS","Norris Quarries, Breit Quarry, Savannah","3030693411",806,"Amazonia 8AZ","806_8AZ",2184,{"$error":"#N/A"},{"$error":"#N/A"},null,null,null,null,null,null,null,null,null,null,null,null,null,null,null,null,null,null,null,null,null,null,"1007T1ABLD..T5","Capital Quarries #10, Quinn Pit (Beck)","",null,null,null,null,{"$error":"#N/A"}]
[null,null,null,null,null,"1005GECMLS","Norris Quarries, Breit Quarry, Savannah","3030693411",806,"Kereford 1K","806_1K",2194,{"$error":"#N/A"},{"$error":"#N/A"},null,null,null,null,null,null,null,null,null,null,null,null,null,null,null,null,null,null,null,null,null,null,"1007T1ABLD..T5","Capital Quarries #12, South","",null,null,null,null,{"$error":"#N/A"}]
[null,null,null,null,null,"1005GECMLS","Norris Quarries, Breit Quarry, Savannah","3030693411",806,"Leavenworth 5L","806_5L",2183,{"$error":"#N/A"},{"$error":"#N/A"},null,null,null,null,null,null,null,null,null,null,null,null,null,null,null,null,null,null,null,null,null,null,"1007T1ABLD..T5","Capital Quarries #13, Owensville","",null,null,null,null,{"$error":"#N/A"}]
[null,null,null,null,null,"1005GECMLS","Norris Quarries, Gallatin Quarry","3030616511",811,"Bethany Falls 2BF-3BF","811_2BF-3BF",2271,{"$error":"#N/A"},{"$error":"#N/A"},null,null,null,null,null,null,null,null,null,null,null,null,null,null,null,null,null,null,null,null,null,null,"1007T1ABLD..T5","Capital Quarries #14 (Staggenborg) - North Pit","",null,null,null,null,{"$error":"#N/A"}]
[null,null,null,null,null,"1005GECMLS","Norris Quarries, Trenton","3030601212",788,"Bethany Falls 1B-3B","788_1B-3B",2080,{"$error":"#N/A"},{"$error":"#N/A"},null,null,null,null,null,null,null,null,null,null,null,null,null,null,null,null,null,null,null,null,null,null,"1007T1ABLD..T5","Capital Quarries #17, Sullivan","",null,null,null,null,{"$error":"#N/A"}]
[null,null,null,null,null,"1005GECMLS","Norris Quarries, Trenton","3030601212",788,"Bethany Falls 1B-4B","788_1B-4B",2076,{"$error":"#N/A"},{"$error":"#N/A"},null,null,null,null,null,null,null,null,null,null,null,null,null,null,null,null,null,null,null,null,null,null,"1007T1ABLD..T5","Capital Quarries #5, California","",null,null,null,null,{"$error":"#N/A"}]
[null,null,null,null,null,"1005GECMLS","Norris Quarries, Trenton","3030601212",788,"Bethany Falls 1B-5B","788_1B-5B",2083,{"$error":"#N/A"},{"$error":"#N/A"},null,null,null,null,null,null,null,null,null,null,null,null,null,null,null,null,null,null,null,null,null,null,"1007T1ABLD..T5","Capital Quarries #7, Salem","",null,null,null,null,{"$error":"#N/A"}]
[null,null,null,null,null,"1005GECMLS","Norris Quarries, Trenton","3030601212",788,"Bethany Falls 4-5","788_4-5",2079,{"$error":"#N/A"},{"$error":"#N/A"},null,null,null,null,null,null,null,null,null,null,null,null,null,null,null,null,null,null,null,null,null,null,"1007T1ABLD..T5","Capital Quarries, Arcadia","",null,null,null,null,{"$error":"#N/A"}]
[null,null,null,null,null,"1005GECMLS","Norris Quarries, Trenton","3030601212",788,"Winterset 1-5","788_1-5",2086,{"$error":"#N/A"},{"$error":"#N/A"},null,null,null,null,null,null,null,null,null,null,null,null,null,null,null,null,null,null,null,null,null,null,"1007T1ABLD..T5","Capital Quarries, Cuba (Voss Quarry)","",null,null,null,null,{"$error":"#N/A"}]
[null,null,null,null,null,"1005GECMLS","Payless Concrete","3131800131",519,"Payless Concrete, St. Joesph st. joesph","519_st. joesph",1380,{"$error":"#N/A"},{"$error":"#N/A"},null,null,null,null,null,null,null,null,null,null,null,null,null,null,null,null,null,null,null,null,null,null,"1007T1ABLD..T5","Capital Quarries, Danville (Pace Construction)","",null,null,null,null,{"$error":"#N/A"}]
[null,null,null,null,null,"1005GECMLS","Penny's Concrete","3055810037",4719,"Penny's, Carrolton (Green) Carrolton","4719_Carrolton",7091,{"$error":"#N/A"},{"$error":"#N/A"},null,null,null,null,null,null,null,null,null,null,null,null,null,null,null,null,null,null,null,null,null,null,"1007T1ABLD..T5","Capital Quarries, Holts Summit 1A","",null,null,null,null,{"$error":"#N/A"}]
[null,null,null,null,null,"1005GECMLS","Penny's Concrete","3055810037",4719,"Penny's, Chillicothe (Green) Chillicothe","4719_Chillicothe",7092,{"$error":"#N/A"},{"$error":"#N/A"},null,null,null,null,null,null,null,null,null,null,null,null,null,null,null,null,null,null,null,null,null,null,"1007T1ABLD..T5","Capital Quarries, Thayer (King Quarry)","",null,null,null,null,{"$error":"#N/A"}]
[null,null,null,null,null,"1005GECMLS","Penny's Concrete","3055810037",4719,"Penny's, Concordia (Green) Concordia","4719_Concordia",7093,{"$error":"#N/A"},{"$error":"#N/A"},null,null,null,null,null,null,null,null,null,null,null,null,null,null,null,null,null,null,null,null,null,null,"1007T1ABLD..T5","Capital Quarries, Treloar (Mertens #6)","",null,null,null,null,{"$error":"#N/A"}]
[null,null,null,null,null,"1005GECMLS","Penny's Concrete","3055810037",4719,"Penny's, Excelsior Springs (Green) ExcelsiorSpring","4719_ExcelsiorSpring",7094,{"$error":"#N/A"},{"$error":"#N/A"},null,null,null,null,null,null,null,null,null,null,null,null,null,null,null,null,null,null,null,null,null,null,"1007T1ABLD..T5","Carl R Jones Excavating and Hauling LLC",{"$f":"IF(AK922=$AK$44,AL922,\"\")","v":""},null,null,null,null,{"$error":"#N/A"}]
[null,null,null,null,null,"1005GECMLS","Penny's Concrete","3055810037",4719,"Penny's, Grain Valley Grain Valley","4719_Grain Valley",7100,{"$error":"#N/A"},{"$error":"#N/A"},null,null,null,null,null,null,null,null,null,null,null,null,null,null,null,null,null,null,null,null,null,null,"1007T1ABLD..T5","Carthage Crushed Limestone","",null,null,null,null,{"$error":"#N/A"}]
[null,null,null,null,null,"1005GECMLS","Penny's Concrete","3055810037",4719,"Penny's, Higginsville (Green) Higginsville","4719_Higginsville",7096,{"$error":"#N/A"},{"$error":"#N/A"},null,null,null,null,null,null,null,null,null,null,null,null,null,null,null,null,null,null,null,null,null,null,"1007T1ABLD..T5","Central Stone #1, Hannibal (Huntington)","",null,null,null,null,{"$error":"#N/A"}]
[null,null,null,null,null,"1005GECMLS","Penny's Concrete","3055810037",4719,"Penny's, Lansing KS Lansing","4719_Lansing",7097,{"$error":"#N/A"},{"$error":"#N/A"},null,null,null,null,null,null,null,null,null,null,null,null,null,null,null,null,null,null,null,null,null,null,"1007T1ABLD..T5","Central Stone #2, Bethel","",null,null,null,null,{"$error":"#N/A"}]
[null,null,null,null,null,"1005GECMLS","Penny's Concrete","3055810037",4719,"Penny's, Martin City Martin City","4719_Martin City",7098,{"$error":"#N/A"},{"$error":"#N/A"},null,null,null,null,null,null,null,null,null,null,null,null,null,null,null,null,null,null,null,null,null,null,"1007T1ABLD..T5","Central Stone #31, Florissant","",null,null,null,null,{"$error":"#N/A"}]
[null,null,null,null,null,"1005GECMLS","Penny's Concrete","3055810037",4719,"Penny's, Parvin Rd Parvin","4719_Parvin",7099,{"$error":"#N/A"},{"$error":"#N/A"},null,null,null,null,null,null,null,null,null,null,null,null,null,null,null,null,null,null,null,null,null,null,"1007T1ABLD..T5","Central Stone #36, Ewing","",null,null,null,null,{"$error":"#N/A"}]
[null,null,null,null,null,"1005GECMLS","Penny's Concrete","3055810037",4719,"Penny's, Richmond (Green) Richmond","4719_Richmond",7095,{"$error":"#N/A"},{"$error":"#N/A"},null,null,null,null,null,null,null,null,null,null,null,null,null,null,null,null,null,null,null,null,null,null,"1007T1ABLD..T5","Central Stone #39, Taylor","",null,null,null,null,{"$error":"#N/A"}]
[null,null,null,null,null,"1005GECMLS","Southeast Missouri Stone (SEMO)","3042800110",248,"Plattin 21-20","248_21-20",856,{"$error":"#N/A"},{"$error":"#N/A"},null,null,null,null,null,null,null,null,null,null,null,null,null,null,null,null,null,null,null,null,null,null,"1007T1ABLD..T5","Central Stone #4, Paris","",null,null,null,null,{"$error":"#N/A"}]
[null,null,null,null,null,"1005GECMLS","Southeast Missouri Stone (SEMO)","3042800110",248,"Plattin 6A-26A","248_6A-26A",854,{"$error":"#N/A"},{"$error":"#N/A"},null,null,null,null,null,null,null,null,null,null,null,null,null,null,null,null,null,null,null,null,null,null,"1007T1ABLD..T5","Central Stone #54 (Bellefontaine)  Farmington","",null,null,null,null,{"$error":"#N/A"}]
[null,null,null,null,null,"1005GECMLS","Summit Materials, Marshall (Boone Quarries)","3176713215",1976,"Cedar Valley 5CA-9CA","1976_5CA-9CA",5592,{"$error":"#N/A"},{"$error":"#N/A"},null,null,null,null,null,null,null,null,null,null,null,null,null,null,null,null,null,null,null,null,null,null,"1007T1ABLD..T5","Central Stone #55 (Bellefontaine North)","",null,null,null,null,{"$error":"#N/A"}]
[null,null,null,null,null,"1005GECMLS","Summit Materials, Marshall (Boone Quarries)","3176713215",1976,"Cedar Valley 8CA-9CA","1976_8CA-9CA",5587,{"$error":"#N/A"},{"$error":"#N/A"},null,null,null,null,null,null,null,null,null,null,null,null,null,null,null,null,null,null,null,null,null,null,"1007T1ABLD..T5","Central Stone #57, Moscow Mills (Lincoln Co Stone)","",null,null,null,null,{"$error":"#N/A"}]
[null,null,null,null,null,"1005GECMLS","Summit Materials, Marshall (Boone Quarries)","3176713215",1976,"Cedar Valley 9CA","1976_9CA",5579,{"$error":"#N/A"},{"$error":"#N/A"},null,null,null,null,null,null,null,null,null,null,null,null,null,null,null,null,null,null,null,null,null,null,"1007T1ABLD..T5","Central Stone #6, New London","",null,null,null,null,{"$error":"#N/A"}]
[null,null,null,null,null,"1005GECMLS","Summit Materials, Marshall (Boone Quarries)","3176713215",1976,"Chouteau - Cedar Valley 4C,5-9CA","1976_4C,5-9CA",5593,{"$error":"#N/A"},{"$error":"#N/A"},null,null,null,null,null,null,null,null,null,null,null,null,null,null,null,null,null,null,null,null,null,null,"1007T1ABLD..T5","Central Stone #7, Curryville","",null,null,null,null,{"$error":"#N/A"}]
[null,null,null,null,null,"1005GECMLS","Summit Materials, Marshall (Boone Quarries)","3176713215",1976,"Chouteau-Cedar Valley 4C,5-6CA,8-9CA","1976_4C,5-6CA,8-9CA",5591,{"$error":"#N/A"},{"$error":"#N/A"},null,null,null,null,null,null,null,null,null,null,null,null,null,null,null,null,null,null,null,null,null,null,"1007T1ABLD..T5","Central Stone #71, Jefferson Barracks Quarry","",null,null,null,null,{"$error":"#N/A"}]
[null,null,null,null,null,"1005GECMLS","Thompson Bros Ready Mix","3046000232",1657,"Thompsom Bros Ready Mix, Brookfield Brookfield","1657_Brookfield",5021,{"$error":"#N/A"},{"$error":"#N/A"},null,null,null,null,null,null,null,null,null,null,null,null,null,null,null,null,null,null,null,null,null,null,"1007T1ABLD..T5","Central Stone #72, Antire Quarry","",null,null,null,null,{"$error":"#N/A"}]
[null,null,null,null,null,"1005GECMLS","Trager Limestone, Gallatin (SOUTH)","3160800111",365,"Bethany Falls 2BF - 5BF","365_2BF - 5BF",1146,{"$error":"#N/A"},{"$error":"#N/A"},null,null,null,null,null,null,null,null,null,null,null,null,null,null,null,null,null,null,null,null,null,null,"1007T1ABLD..T5","Central Stone #73, House Springs Quarry","",null,null,null,null,{"$error":"#N/A"}]
[null,null,null,null,null,"1005GECMLS","Trager Limestone, Nettleton","3176715011",2385,"Bethany Falls 1BF-4BF","2385_1BF-4BF",6079,{"$error":"#N/A"},{"$error":"#N/A"},null,null,null,null,null,null,null,null,null,null,null,null,null,null,null,null,null,null,null,null,null,null,"1007T1ABLD..T5","Central Stone #74, Trautman Quarry","",null,null,null,null,{"$error":"#N/A"}]
[null,null,null,null,null,"1005GECMLS","Williamsville Stone #1","3050400110",81,"Gasconade 14-6","81_14-6",7673,{"$error":"#N/A"},{"$error":"#N/A"},null,null,null,null,null,null,null,null,null,null,null,null,null,null,null,null,null,null,null,null,null,null,"1007T1ABLD..T5","Central Stone, Potosi (GP Materials)","",null,null,null,null,{"$error":"#N/A"}]
[null,null,null,null,null,"1005GECMLSBD","Cantera Aggregates #1, Plano Qy, Plano, IA","3532100111",5171,"Exline 1","5171_1",7377,{"$error":"#N/A"},{"$error":"#N/A"},null,null,null,null,null,null,null,null,null,null,null,null,null,null,null,null,null,null,null,null,null,null,"1007T1ABLD..T5","Clever Stone Co","",null,null,null,null,{"$error":"#N/A"}]
[null,null,null,null,null,"1005GECMLSBD","Capital Materials, Tightwad (APAC)","3020600114",927,"Burlington 1,2,3","927_1,2,3",2872,{"$error":"#N/A"},{"$error":"#N/A"},null,null,null,null,null,null,null,null,null,null,null,null,null,null,null,null,null,null,null,null,null,null,"1007T1ABLD..T5","Colonial Limestone, Princeton","",null,null,null,null,{"$error":"#N/A"}]
[null,null,null,null,null,"1005GECMLSBD","Capital Quarries #10, Quinn Pit (Beck)","3170701015",1979,"Burlington-Cedar Valley 2-4","1979_2-4",5600,{"$error":"#N/A"},{"$error":"#N/A"},null,null,null,null,null,null,null,null,null,null,null,null,null,null,null,null,null,null,null,null,null,null,"1007T1ABLD..T5","Colt Rock and Lime, Patterson (Scaggs)","",null,null,null,null,{"$error":"#N/A"}]
[null,null,null,null,null,"1005GECMLSBD","Capital Quarries #17, Sullivan","3170701719",1801,"Potosi 1-2","1801_1-2",5312,{"$error":"#N/A"},{"$error":"#N/A"},null,null,null,null,null,null,null,null,null,null,null,null,null,null,null,null,null,null,null,null,null,null,"1007T1ABLD..T5","Colt Rock and Lime, Scott City","",null,null,null,null,{"$error":"#N/A"}]
[null,null,null,null,null,"1005GECMLSBD","Central Stone #1, Hannibal (Huntington)","3007900113",948,"Cedar Valley 13-11","948_13-11",3038,{"$error":"#N/A"},{"$error":"#N/A"},null,null,null,null,null,null,null,null,null,null,null,null,null,null,null,null,null,null,null,null,null,null,"1007T1ABLD..T5","Conco #0478, Montevallo (Ash Grove)","",null,null,null,null,{"$error":"#N/A"}]
[null,null,null,null,null,"1005GECMLSBD","Central Stone #1, Hannibal (Huntington)","3007900113",948,"Kimmswick 10-1","948_10-1",3041,{"$f":"IF(AND($F$17=H945,$AK$44=F945),J945,\"\")","v":{"$error":"#N/A"}},{"$f":"IF(AND($F$17=H945,$AK$44=F945),L945,\"\")","v":{"$error":"#N/A"}},null,null,null,null,null,null,null,null,null,null,null,null,null,null,null,null,null,null,null,null,null,null,"1007T1ABLD..T5","Conco #0496, Marshfield (Ash Grove)","",null,null,null,null,{"$error":"#N/A"}]
[null,null,null,null,null,"1005GECMLSBD","Central Stone #31, Florissant","3007903116",947,"St. Louis 3-9","947_3-9",2997,{"$error":"#N/A"},{"$error":"#N/A"},null,null,null,null,null,null,null,null,null,null,null,null,null,null,null,null,null,null,null,null,null,null,"1007T1ABLD..T5","Conco Quarries, Willard","",null,null,null,null,{"$error":"#N/A"}]
[null,null,null,null,null,"1005GECMLSBD","Central Stone #74, Trautman Quarry","3005700416",1155,"Plattin 3-5","1155_3-5",3782,{"$error":"#N/A"},{"$error":"#N/A"},null,null,null,null,null,null,null,null,null,null,null,null,null,null,null,null,null,null,null,null,null,null,"1007T1ABLD..T5","Crider Bros, Eminence","",null,null,null,null,{"$error":"#N/A"}]
[null,null,null,null,null,"1005GECMLSBD","Conco Quarries, Willard","3009800218",1275,"Burlington 1E-1BE","1275_1E-1BE",7838,{"$error":"#N/A"},{"$error":"#N/A"},null,null,null,null,null,null,null,null,null,null,null,null,null,null,null,null,null,null,null,null,null,null,"1007T1ABLD..T5","Double Eagle Aggregate LLC (Ottendorf), Diggins","",null,null,null,null,{"$error":"#N/A"}]
[null,null,null,null,null,"1005GECMLSBD","Conco Quarries, Willard","3009800218",1275,"Burlington 2E-1BE & 2W-1CW","1275_2E-1BE & 2W-1CW",7453,{"$error":"#N/A"},{"$error":"#N/A"},null,null,null,null,null,null,null,null,null,null,null,null,null,null,null,null,null,null,null,null,null,null,"1007T1ABLD..T5","Double Eagle Quarry, Ava (Journagan)","",null,null,null,null,{"$error":"#N/A"}]
[null,null,null,null,null,"1005GECMLSBD","New Frontier, Alton Weber #8","3032400116",577,"St. Louis 1-7","577_1-7",1423,{"$error":"#N/A"},{"$error":"#N/A"},null,null,null,null,null,null,null,null,null,null,null,null,null,null,null,null,null,null,null,null,null,null,"1007T1ABLD..T5","Duffield Aggregate, Potosi","",null,null,null,null,{"$error":"#N/A"}]
[null,null,null,null,null,"1005GECMLSBD","New Frontier, New Melle Quarry","3016600716",117,"Plattin 2-4,4-7","117_2-4,4-7",443,{"$error":"#N/A"},{"$error":"#N/A"},null,null,null,null,null,null,null,null,null,null,null,null,null,null,null,null,null,null,null,null,null,null,"1007T1ABLD..T5","E and S Rock, LLC","",null,null,null,null,{"$error":"#N/A"}]
[null,null,null,null,null,"1005GECMLSBD","Norris Quarries, Breit Quarry, Savannah","3030693411",806,"Amazonia 8AZ","806_8AZ",2184,{"$error":"#N/A"},{"$error":"#N/A"},null,null,null,null,null,null,null,null,null,null,null,null,null,null,null,null,null,null,null,null,null,null,"1007T1ABLD..T5","ESI, 63rd Street Quarry","",null,null,null,null,{"$error":"#N/A"}]
[null,null,null,null,null,"1005GECMLSBD","Norris Quarries, Breit Quarry, Savannah","3030693411",806,"Kereford 1K","806_1K",2194,{"$error":"#N/A"},{"$error":"#N/A"},null,null,null,null,null,null,null,null,null,null,null,null,null,null,null,null,null,null,null,null,null,null,"1007T1ABLD..T5","Emery Sapp, Purdy (Hutchens)","",null,null,null,null,{"$error":"#N/A"}]
[null,null,null,null,null,"1005GECMLSBD","Summit Materials, Marshall (Boone Quarries)","3176713215",1976,"Chouteau - Cedar Valley 4C,5-9CA","1976_4C,5-9CA",5593,{"$error":"#N/A"},{"$error":"#N/A"},null,null,null,null,null,null,null,null,null,null,null,null,null,null,null,null,null,null,null,null,null,null,"1007T1ABLD..T5","Emery Sapp, Shell Knob (Hutchens)","",null,null,null,null,{"$error":"#N/A"}]
[null,null,null,null,null,"1005GECMLSBD","Summit Materials, Marshall (Boone Quarries)","3176713215",1976,"Chouteau-Cedar Valley 4C,5-6CA,8-9CA","1976_4C,5-6CA,8-9CA",5591,{"$error":"#N/A"},{"$error":"#N/A"},null,null,null,null,null,null,null,null,null,null,null,null,null,null,null,null,null,null,null,null,null,null,"1007T1ABLD..T5","Engineering Surveys & Services, Columbia","",null,null,null,null,{"$error":"#N/A"}]
[null,null,null,null,null,"1005GECMLSBD","Western Ready Mix, (Metro Materials)","3169610036",4551,"Western RM, Western Elm Western Elm","4551_Western Elm",6925,{"$error":"#N/A"},{"$error":"#N/A"},null,null,null,null,null,null,null,null,null,null,null,null,null,null,null,null,null,null,null,null,null,null,"1007T1ABLD..T5","Fischer Bros Pit #2, Ste. Genevieve","",null,null,null,null,{"$error":"#N/A"}]
[null,null,null,null,null,"1005GFCPLS","Cameron Concrete Company","3015500231",1132,"Cameron Concrete Co., Cameron cameron","1132_cameron",3595,{"$error":"#N/A"},{"$error":"#N/A"},null,null,null,null,null,null,null,null,null,null,null,null,null,null,null,null,null,null,null,null,null,null,"1007T1ABLD..T5","Fischer Quarry & Hauling, Burfordville (T&M Stone)","",null,null,null,null,{"$error":"#N/A"}]
[null,null,null,null,null,"1005GFCPLS","Capital Materials, Tightwad (APAC)","3020600114",927,"Burlington 1,2,3","927_1,2,3",2872,{"$error":"#N/A"},{"$error":"#N/A"},null,null,null,null,null,null,null,null,null,null,null,null,null,null,null,null,null,null,null,null,null,null,"1007T1ABLD..T5","G-71 Sand, Oskaloosa, IA","",null,null,null,null,{"$error":"#N/A"}]
[null,null,null,null,null,"1005GFCPLS","Central Stone #1, Hannibal (Huntington)","3007900113",948,"Cedar Valley 13-11","948_13-11",3038,{"$error":"#N/A"},{"$error":"#N/A"},null,null,null,null,null,null,null,null,null,null,null,null,null,null,null,null,null,null,null,null,null,null,"1007T1ABLD..T5","Gray Quarry, Hamilton,IL","",null,null,null,null,{"$error":"#N/A"}]
[null,null,null,null,null,"1005GFCPLS","Central Stone #1, Hannibal (Huntington)","3007900113",948,"Kimmswick 10-1","948_10-1",3041,{"$error":"#N/A"},{"$error":"#N/A"},null,null,null,null,null,null,null,null,null,null,null,null,null,null,null,null,null,null,null,null,null,null,"1007T1ABLD..T5","Grays Point Stone & Materials, Scott City","",null,null,null,null,{"$error":"#N/A"}]
[null,null,null,null,null,"1005GFCPLS","Concrete Industries","3009900331",2923,"Concrete Industries,  Auburn, NE Auburn","2923_Auburn",6444,{"$error":"#N/A"},{"$error":"#N/A"},null,null,null,null,null,null,null,null,null,null,null,null,null,null,null,null,null,null,null,null,null,null,"1007T1ABLD..T5","Hamm Quarry, La Cygne, KS (Mid-State)","",null,null,null,null,{"$error":"#N/A"}]
[null,null,null,null,null,"1005GFCPLS","Concrete Industries","3009900331",2923,"Concrete Industries, Falls City, NE Falls City","2923_Falls City",6442,{"$error":"#N/A"},{"$error":"#N/A"},null,null,null,null,null,null,null,null,null,null,null,null,null,null,null,null,null,null,null,null,null,null,"1007T1ABLD..T5","Heartland Materials, LLC","",null,null,null,null,{"$error":"#N/A"}]
[null,null,null,null,null,"1005GFCPLS","Concrete Industries","3009900331",2923,"Concrete Industries, Nebraska City, NE Nebraska City","2923_Nebraska City",6443,{"$error":"#N/A"},{"$error":"#N/A"},null,null,null,null,null,null,null,null,null,null,null,null,null,null,null,null,null,null,null,null,null,null,"1007T1ABLD..T5","Higgins Materials, LLC - Otterville","",null,null,null,null,{"$error":"#N/A"}]
[null,null,null,null,null,"1005GFCPLS","Fischer Concrete","3151700135",1019,"Fischer Concrete, Bethany (Bethany Ready Mix) Bethany","1019_Bethany",3283,{"$error":"#N/A"},{"$error":"#N/A"},null,null,null,null,null,null,null,null,null,null,null,null,null,null,null,null,null,null,null,null,null,null,"1007T1ABLD..T5","Holliday Sand and Stone, Deepwater (East)","",null,null,null,null,{"$error":"#N/A"}]
[null,null,null,null,null,"1005GFCPLS","Fischer Concrete","3151700135",1019,"Fischer Concrete, Chillicothe Chillicothe","1019_Chillicothe",7388,{"$error":"#N/A"},{"$error":"#N/A"},null,null,null,null,null,null,null,null,null,null,null,null,null,null,null,null,null,null,null,null,null,null,"1007T1ABLD..T5","Holliday Sand and Stone, Dever (Ash Grove)","",null,null,null,null,{"$error":"#N/A"}]
[null,null,null,null,null,"1005GFCPLS","Fischer Concrete","3151700135",1019,"Fischer Concrete, Trenton (Trenton Ready Mix) Trenton","1019_Trenton",7346,{"$error":"#N/A"},{"$error":"#N/A"},null,null,null,null,null,null,null,null,null,null,null,null,null,null,null,null,null,null,null,null,null,null,"1007T1ABLD..T5","Holliday Sand and Stone, La Cygnes (Ash Grove)","",null,null,null,null,{"$error":"#N/A"}]
[null,null,null,null,null,"1005GFCPLS","Hamm Quarries, Lee's Summit (Barber and Sons)","3002600114",1497,"Bethany Falls 1-4","1497_1-4",4615,{"$error":"#N/A"},{"$error":"#N/A"},null,null,null,null,null,null,null,null,null,null,null,null,null,null,null,null,null,null,null,null,null,null,"1007T1ABLD..T5","Holliday Sand and Stone, S&K (Ash Grove)","",null,null,null,null,{"$error":"#N/A"}]
[null,null,null,null,null,"1005GFCPLS","Herzog, Wathena Stone","3020400411",663,"Amazonia 1A-2A","663_1A-2A",1655,{"$error":"#N/A"},{"$error":"#N/A"},null,null,null,null,null,null,null,null,null,null,null,null,null,null,null,null,null,null,null,null,null,null,"1007T1ABLD..T5","Holliday Sand and Stone, Wheatland (Ash Grove)","",null,null,null,null,{"$error":"#N/A"}]
[null,null,null,null,null,"1005GFCPLS","Holt Co Ready Mix","3406500131",3341,"Holt Co Ready Mix, Mound City Mound City","3341_Mound City",6705,{"$error":"#N/A"},{"$error":"#N/A"},null,null,null,null,null,null,null,null,null,null,null,null,null,null,null,null,null,null,null,null,null,null,"1007T1ABLD..T5","Houston Excavating & Demolition, Kansas City, MO","",null,null,null,null,{"$error":"#N/A"}]
[null,null,null,null,null,"1005GFCPLS","Ideal Ready Mix","3021910033",4713,"Ideal Ready Mix, Canton Canton","4713_Canton",7064,{"$error":"#N/A"},{"$error":"#N/A"},null,null,null,null,null,null,null,null,null,null,null,null,null,null,null,null,null,null,null,null,null,null,"1007T1ABLD..T5","Hutchens Quarries, Sarcoxie (Bailey)","",null,null,null,null,{"$error":"#N/A"}]
[null,null,null,null,null,"1005GFCPLS","Ideal Ready Mix","3021910033",4713,"Ideal Ready Mix, Centerville, IA Centerville","4713_Centerville",7065,{"$error":"#N/A"},{"$error":"#N/A"},null,null,null,null,null,null,null,null,null,null,null,null,null,null,null,null,null,null,null,null,null,null,"1007T1ABLD..T5","ILC Resources, Jasper","",null,null,null,null,{"$error":"#N/A"}]
[null,null,null,null,null,"1005GFCPLS","Ideal Ready Mix","3021910033",4713,"Ideal Ready Mix, Kahoka Kahoka","4713_Kahoka",7063,{"$error":"#N/A"},{"$error":"#N/A"},null,null,null,null,null,null,null,null,null,null,null,null,null,null,null,null,null,null,null,null,null,null,"1007T1ABLD..T5","Ideker Mosby Quarry","",null,null,null,null,{"$error":"#N/A"}]
[null,null,null,null,null,"1005GFCPLS","Ideal Ready Mix","3021910033",4713,"Ideal Ready Mix, Unionville Unionville","4713_Unionville",7062,{"$error":"#N/A"},{"$error":"#N/A"},null,null,null,null,null,null,null,null,null,null,null,null,null,null,null,null,null,null,null,null,null,null,"1007T1ABLD..T5","Indian Creek Materials, Doniphan","",null,null,null,null,{"$error":"#N/A"}]
[null,null,null,null,null,"1005GFCPLS","Kerford Limestone Co., NE","3024600111",699,"Kereford & Plattsmouth 1K-4P","699_1K-4P",1805,{"$error":"#N/A"},{"$error":"#N/A"},null,null,null,null,null,null,null,null,null,null,null,null,null,null,null,null,null,null,null,null,null,null,"1007T1ABLD..T5","Indian Creek Materials, Hunter (Hunter Stone)","",null,null,null,null,{"$error":"#N/A"}]
[null,null,null,null,null,"1005GFCPLS","Loch Sand","3028200131",615,"Loch Sand, Maryville Maryville","615_Maryville",1496,{"$error":"#N/A"},{"$error":"#N/A"},null,null,null,null,null,null,null,null,null,null,null,null,null,null,null,null,null,null,null,null,null,null,"1007T1ABLD..T5","Indian Creek Materials, Zalma","",null,null,null,null,{"$error":"#N/A"}]
[null,null,null,null,null,"1005GFCPLS","Martin Marietta, Ferrelview (Stamper)","3021300214",925,"Bethany Falls 1BF-2BF-3BF","925_1BF-2BF-3BF",2860,{"$error":"#N/A"},{"$error":"#N/A"},null,null,null,null,null,null,null,null,null,null,null,null,null,null,null,null,null,null,null,null,null,null,"1007T1ABLD..T5","Jo Rock Quarry","",null,null,null,null,{"$error":"#N/A"}]
[null,null,null,null,null,"1005GFCPLS","Martin Marietta, Weeping Water,NE","3030627311",789,"Kereford and Plattsmouth 1K-5P","789_1K-5P",2108,{"$error":"#N/A"},{"$error":"#N/A"},null,null,null,null,null,null,null,null,null,null,null,null,null,null,null,null,null,null,null,null,null,null,"1007T1ABLD..T5","Joplin Stone","",null,null,null,null,{"$error":"#N/A"}]
[null,null,null,null,null,"1005GFCPLS","Milan Ready Mix (Sullivan County RM)","3198400132",1874,"Milan Ready Mix,  Milan Milan","1874_Milan",5374,{"$error":"#N/A"},{"$error":"#N/A"},null,null,null,null,null,null,null,null,null,null,null,null,null,null,null,null,null,null,null,null,null,null,"1007T1ABLD..T5","Kemp Stone, Neosho (Inland River Aggregates)","",null,null,null,null,{"$error":"#N/A"}]
[null,null,null,null,null,"1005GFCPLS","Norris Quarries, Breit Quarry, Savannah","3030693411",806,"Amazonia 8AZ","806_8AZ",2184,{"$error":"#N/A"},{"$error":"#N/A"},null,null,null,null,null,null,null,null,null,null,null,null,null,null,null,null,null,null,null,null,null,null,"1007T1ABLD..T5","Knox County Stone","",null,null,null,null,{"$error":"#N/A"}]
[null,null,null,null,null,"1005GFCPLS","Payless Concrete","3131800131",519,"Payless Concrete, St. Joesph st. joesph","519_st. joesph",1380,{"$error":"#N/A"},{"$error":"#N/A"},null,null,null,null,null,null,null,null,null,null,null,null,null,null,null,null,null,null,null,null,null,null,"1007T1ABLD..T5","Lead Belt, Park Hills Stone","",null,null,null,null,{"$error":"#N/A"}]
[null,null,null,null,null,"1005GFCPLS","Penny's Concrete","3055810037",4719,"Penny's, Carrolton (Green) Carrolton","4719_Carrolton",7091,{"$error":"#N/A"},{"$error":"#N/A"},null,null,null,null,null,null,null,null,null,null,null,null,null,null,null,null,null,null,null,null,null,null,"1007T1ABLD..T5","Liberty Aggregates","",null,null,null,null,{"$error":"#N/A"}]
[null,null,null,null,null,"1005GFCPLS","Penny's Concrete","3055810037",4719,"Penny's, Chillicothe (Green) Chillicothe","4719_Chillicothe",7092,{"$error":"#N/A"},{"$error":"#N/A"},null,null,null,null,null,null,null,null,null,null,null,null,null,null,null,null,null,null,null,null,null,null,"1007T1ABLD..T5","Magruder Limestone #1, Troy","",null,null,null,null,{"$error":"#N/A"}]
[null,null,null,null,null,"1005GFCPLS","Penny's Concrete","3055810037",4719,"Penny's, Concordia (Green) Concordia","4719_Concordia",7093,{"$error":"#N/A"},{"$error":"#N/A"},null,null,null,null,null,null,null,null,null,null,null,null,null,null,null,null,null,null,null,null,null,null,"1007T1ABLD..T5","Magruder Limestone, Ashley","",null,null,null,null,{"$error":"#N/A"}]
[null,null,null,null,null,"1005GFCPLS","Penny's Concrete","3055810037",4719,"Penny's, Excelsior Springs (Green) ExcelsiorSpring","4719_ExcelsiorSpring",7094,{"$error":"#N/A"},{"$error":"#N/A"},null,null,null,null,null,null,null,null,null,null,null,null,null,null,null,null,null,null,null,null,null,null,"1007T1ABLD..T5","Magruder Limestone, Foley","",null,null,null,null,{"$error":"#N/A"}]
[null,null,null,null,null,"1005GFCPLS","Penny's Concrete","3055810037",4719,"Penny's, Grain Valley Grain Valley","4719_Grain Valley",7100,{"$error":"#N/A"},{"$error":"#N/A"},null,null,null,null,null,null,null,null,null,null,null,null,null,null,null,null,null,null,null,null,null,null,"1007T1ABLD..T5","Magruder Limestone, Frankford","",null,null,null,null,{"$error":"#N/A"}]
[null,null,null,null,null,"1005GFCPLS","Penny's Concrete","3055810037",4719,"Penny's, Higginsville (Green) Higginsville","4719_Higginsville",7096,{"$error":"#N/A"},{"$error":"#N/A"},null,null,null,null,null,null,null,null,null,null,null,null,null,null,null,null,null,null,null,null,null,null,"1007T1ABLD..T5","Magruder Limestone, Shelby County Quarry",{"$f":"IF(AK986=$AK$44,AL986,\"\")","v":""},null,null,null,null,{"$error":"#N/A"}]
[null,null,null,null,null,"1005GFCPLS","Penny's Concrete","3055810037",4719,"Penny's, Lansing KS Lansing","4719_Lansing",7097,{"$error":"#N/A"},{"$error":"#N/A"},null,null,null,null,null,null,null,null,null,null,null,null,null,null,null,null,null,null,null,null,null,null,"1007T1ABLD..T5","Magruder Limestone, Silex","",null,null,null,null,{"$error":"#N/A"}]
[null,null,null,null,null,"1005GFCPLS","Penny's Concrete","3055810037",4719,"Penny's, Martin City Martin City","4719_Martin City",7098,{"$error":"#N/A"},{"$error":"#N/A"},null,null,null,null,null,null,null,null,null,null,null,null,null,null,null,null,null,null,null,null,null,null,"1007T1ABLD..T5","Martin Marietta, Ferrelview (Stamper)","",null,null,null,null,{"$error":"#N/A"}]
[null,null,null,null,null,"1005GFCPLS","Penny's Concrete","3055810037",4719,"Penny's, Parvin Rd Parvin","4719_Parvin",7099,{"$error":"#N/A"},{"$error":"#N/A"},null,null,null,null,null,null,null,null,null,null,null,null,null,null,null,null,null,null,null,null,null,null,"1007T1ABLD..T5","Martin Marietta, Greenwood SW","",null,null,null,null,{"$error":"#N/A"}]
[null,null,null,null,null,"1005GFCPLS","Penny's Concrete","3055810037",4719,"Penny's, Richmond (Green) Richmond","4719_Richmond",7095,{"$error":"#N/A"},{"$error":"#N/A"},null,null,null,null,null,null,null,null,null,null,null,null,null,null,null,null,null,null,null,null,null,null,"1007T1ABLD..T5","Melrose Quarry and Asphalt","",null,null,null,null,{"$error":"#N/A"}]
[null,null,null,null,null,"1005GFCPLS","Summit Materials, Marshall (Boone Quarries)","3176713215",1976,"Cedar Valley 5CA-9CA","1976_5CA-9CA",5592,{"$error":"#N/A"},{"$error":"#N/A"},null,null,null,null,null,null,null,null,null,null,null,null,null,null,null,null,null,null,null,null,null,null,"1007T1ABLD..T5","Mertens, Femme Osage","",null,null,null,null,{"$error":"#N/A"}]
[null,null,null,null,null,"1005GFCPLS","Summit Materials, Marshall (Boone Quarries)","3176713215",1976,"Chouteau - Cedar Valley 4C,5-9CA","1976_4C,5-9CA",5593,{"$error":"#N/A"},{"$error":"#N/A"},null,null,null,null,null,null,null,null,null,null,null,null,null,null,null,null,null,null,null,null,null,null,"1007T1ABLD..T5","Mid Missouri Limestone (Auxvasse - South Gate)","",null,null,null,null,{"$error":"#N/A"}]
[null,null,null,null,null,"1005LWA","Arcosa Lightweight (IN)","3533800319",5304,"Lightweight Aggregate - Haydite Haydite","5304_Haydite",7590,{"$error":"#N/A"},{"$error":"#N/A"},null,null,null,null,null,null,null,null,null,null,null,null,null,null,null,null,null,null,null,null,null,null,"1007T1ABLD..T5","Mid Missouri Limestone (Big Springs)","",null,null,null,null,{"$error":"#N/A"}]
[null,null,null,null,null,"1005LWA","Arcosa Lightweight (KY)","3533800219",5220,"Lightweight Aggregate - Haydite Haydite","5220_Haydite",7459,{"$error":"#N/A"},{"$error":"#N/A"},null,null,null,null,null,null,null,null,null,null,null,null,null,null,null,null,null,null,null,null,null,null,"1007T1ABLD..T5","Mid Missouri Limestone (Reform)","",null,null,null,null,{"$error":"#N/A"}]
[null,null,null,null,null,"1005LWA","Buildex, Inc., New Market, MO","3005500314",3091,"Lightweight Aggregate - Weston Shale LT WT","3091_LT WT",6507,{"$error":"#N/A"},{"$error":"#N/A"},null,null,null,null,null,null,null,null,null,null,null,null,null,null,null,null,null,null,null,null,null,null,"1007T1ABLD..T5","Mid-States Materials, LLC, Northview","",null,null,null,null,{"$error":"#N/A"}]
[null,null,null,null,null,"1005LWA","Lafarge Slag, East Chicago, IN","3026606113",5055,"Expanded Blast Furnace Slag Slag","5055_Slag",7312,{"$error":"#N/A"},{"$error":"#N/A"},null,null,null,null,null,null,null,null,null,null,null,null,null,null,null,null,null,null,null,null,null,null,"1007T1ABLD..T5","Midwest Minerals, Fort Scott, KS","",null,null,null,null,{"$error":"#N/A"}]
[null,null,null,null,null,"1005MSCCMS..CD","Capital Materials, Sedalia (Snow Rd-Dresden)","3026603615",641,"Burlington 1 - 4","641_1 - 4",1540,{"$error":"#N/A"},{"$error":"#N/A"},null,null,null,null,null,null,null,null,null,null,null,null,null,null,null,null,null,null,null,null,null,null,"1007T1ABLD..T5","Midwest Minerals, Jasper","",null,null,null,null,{"$error":"#N/A"}]
[null,null,null,null,null,"1005MSCCMS..CD","Capital Quarries #10, Quinn Pit (Beck)","3170701015",1979,"Burlington 2","1979_2",5604,{"$error":"#N/A"},{"$error":"#N/A"},null,null,null,null,null,null,null,null,null,null,null,null,null,null,null,null,null,null,null,null,null,null,"1007T1ABLD..T5","Mill Creek Quarry (Kemp Quarries)","",null,null,null,null,{"$error":"#N/A"}]
[null,null,null,null,null,"1005MSCCMS..CD","Capital Quarries #10, Quinn Pit (Beck)","3170701015",1979,"Burlington-Cedar Valley 2-4","1979_2-4",5600,{"$error":"#N/A"},{"$error":"#N/A"},null,null,null,null,null,null,null,null,null,null,null,null,null,null,null,null,null,null,null,null,null,null,"1007T1ABLD..T5","Missouri Rock, Orrick Quarry","",null,null,null,null,{"$error":"#N/A"}]
[null,null,null,null,null,"1005MSCCMS..CD","Conco Quarries, Willard","3009800218",1275,"Burlington 1BE, 1BW, & 1CW","1275_1BE, 1BW, & 1CW",7427,{"$error":"#N/A"},{"$error":"#N/A"},null,null,null,null,null,null,null,null,null,null,null,null,null,null,null,null,null,null,null,null,null,null,"1007T1ABLD..T5","MoDOT (Jobsite, roadway or other similar site)","",null,null,null,null,{"$error":"#N/A"}]
[null,null,null,null,null,"1005MSCCMS..CD","Conco Quarries, Willard","3009800218",1275,"Burlington 1E-1BE & 2W-1W","1275_1E-1BE & 2W-1W",7839,{"$error":"#N/A"},{"$error":"#N/A"},null,null,null,null,null,null,null,null,null,null,null,null,null,null,null,null,null,null,null,null,null,null,"1007T1ABLD..T5","Mulberry Limestone – Joplin Quarry","",null,null,null,null,{"$error":"#N/A"}]
[null,null,null,null,null,"1007..RAP1","Herzog Asphalt","3020400021",1794,"Herzog, Maryville - port Maryville","1794_Maryville",5289,{"$error":"#N/A"},{"$error":"#N/A"},null,null,null,null,null,null,null,null,null,null,null,null,null,null,null,null,null,null,null,null,null,null,"1007T1ABLD..T5","New Frontier, Auburn Quarry","",null,null,null,null,{"$error":"#N/A"}]
[null,null,null,null,null,"1007..RCBT1T5","Geiger Ready Mix","3135210034",4711,"Geiger Ready Mix, Leavenworth Leavenworth","4711_Leavenworth",7057,{"$error":"#N/A"},{"$error":"#N/A"},null,null,null,null,null,null,null,null,null,null,null,null,null,null,null,null,null,null,null,null,null,null,"1007T1ABLD..T5","Norris Quarries LLC, Akron (Jefferies Quarry)","",null,null,null,null,{"$error":"#N/A"}]
[null,null,null,null,null,"1007CAAB.","Hamm Quarries, Leavenworth","3171900514",4613,"Plattsmouth 2P","4613_2P",6962,{"$error":"#N/A"},{"$error":"#N/A"},null,null,null,null,null,null,null,null,null,null,null,null,null,null,null,null,null,null,null,null,null,null,"1007T1ABLD..T5","Norris Quarries, Amazonia Quarry","",null,null,null,null,{"$error":"#N/A"}]
[null,null,null,null,null,"1007T1ABLD","Capital Quarries #14 (Staggenborg) - North Pit","3044400215",216,"Jefferson City 1","216_1",649,{"$error":"#N/A"},{"$error":"#N/A"},null,null,null,null,null,null,null,null,null,null,null,null,null,null,null,null,null,null,null,null,null,null,"1007T1ABLD..T5","Norris Quarries, Breit Quarry, Savannah","",null,null,null,null,{"$error":"#N/A"}]
[null,null,null,null,null,"1007T1ABLD","Ideker Mosby Quarry","3503800114",4856,"Winterset 1W","4856_1W",7221,{"$error":"#N/A"},{"$error":"#N/A"},null,null,null,null,null,null,null,null,null,null,null,null,null,null,null,null,null,null,null,null,null,null,"1007T1ABLD..T5","Norris Quarries, Maitland Quarry","",null,null,null,null,{"$error":"#N/A"}]
[null,null,null,null,null,"1007T1ABLD","Norris Quarries LLC, Agency (APAC - Agency)","3014800211",1030,"Stoner 2S-5S","1030_2S-5S",3301,{"$error":"#N/A"},{"$error":"#N/A"},null,null,null,null,null,null,null,null,null,null,null,null,null,null,null,null,null,null,null,null,null,null,"1007T1ABLD..T5","Producer Supplier not designated.","",null,null,null,null,{"$error":"#N/A"}]
[null,null,null,null,null,"1007T1ABLD","Norris Quarries LLC, Cameron South (APAC)","3014800311",1032,"Stoner 1S-2S","1032_1S-2S",3321,{"$error":"#N/A"},{"$error":"#N/A"},null,null,null,null,null,null,null,null,null,null,null,null,null,null,null,null,null,null,null,null,null,null,"1007T1ABLD..T5","Shawnee Stone - Buncombe, IL","",null,null,null,null,{"$error":"#N/A"}]
[null,null,null,null,null,"1007T1ABLD","Norris Quarries, Amazonia Quarry","3061800211",888,"Kereford 1K-2K","888_1K-2K",2703,{"$error":"#N/A"},{"$error":"#N/A"},null,null,null,null,null,null,null,null,null,null,null,null,null,null,null,null,null,null,null,null,null,null,"1007T1ABLD..T5","Summit Materials, Marshall (Boone Quarries)","",null,null,null,null,{"$error":"#N/A"}]
[null,null,null,null,null,"1007T1ABLD","Norris Quarries, Amazonia Quarry","3061800211",888,"Plattsmouth 3P","888_3P",2705,{"$error":"#N/A"},{"$error":"#N/A"},null,null,null,null,null,null,null,null,null,null,null,null,null,null,null,null,null,null,null,null,null,null,"1007T1ABLD..T5","Trager Limestone, Gallatin (NORTH)","",null,null,null,null,{"$error":"#N/A"}]
[null,null,null,null,null,"1007T1ABLD","Norris Quarries, Bethany","3030616611",809,"Winterset 2-7","809_2-7",2229,{"$error":"#N/A"},{"$error":"#N/A"},null,null,null,null,null,null,null,null,null,null,null,null,null,null,null,null,null,null,null,null,null,null,"1007T1ABLD..T5","Wayne B. Smith, Pit #8","",null,null,null,null,{"$error":"#N/A"}]
[null,null,null,null,null,"1007T1ABLD","Norris Quarries, Bethany","3030616611",809,"Winterset 3-5","809_3-5",2232,{"$error":"#N/A"},{"$error":"#N/A"},null,null,null,null,null,null,null,null,null,null,null,null,null,null,null,null,null,null,null,null,null,null,"1007T1ABLD..T5","Westside Stone (Springfield Underground, Airport)","",null,null,null,null,{"$error":"#N/A"}]
[null,null,null,null,null,"1007T1ABLD","Norris Quarries, Breit Quarry, Savannah","3030693411",806,"Plattsmouth 1P-3P","806_1P-3P",2188,{"$error":"#N/A"},{"$error":"#N/A"},null,null,null,null,null,null,null,null,null,null,null,null,null,null,null,null,null,null,null,null,null,null,"1007T1ABLD..T5","Wright City Quarry - BMC Stone, LLC","",null,null,null,null,{"$error":"#N/A"}]
[null,null,null,null,null,"1007T1ABLD","Norris Quarries, Gallatin Quarry","3030616511",811,"Winterset 4W-6W","811_4W-6W",2273,{"$error":"#N/A"},{"$error":"#N/A"},null,null,null,null,null,null,null,null,null,null,null,null,null,null,null,null,null,null,null,null,null,null,"1007T1ABLS","Producer Supplier not designated.","",null,null,null,null,{"$error":"#N/A"}]
[null,null,null,null,null,"1007T1ABLD","Norris Quarries, Trenton","3030601212",788,"Winterset 1-5","788_1-5",2086,{"$error":"#N/A"},{"$error":"#N/A"},null,null,null,null,null,null,null,null,null,null,null,null,null,null,null,null,null,null,null,null,null,null,"1007T1ABLS..T5","Magruder Limestone #1, Troy","",null,null,null,null,{"$error":"#N/A"}]
[null,null,null,null,null,"1007T1ABLD","Schildberg Construction, Braddyville, IA","3041404311",292,"Ervine Creek 3EC-4EC","292_3EC-4EC",992,{"$f":"IF(AND($F$17=H1073,$AK$44=F1073),J1073,\"\")","v":{"$error":"#N/A"}},{"$f":"IF(AND($F$17=H1073,$AK$44=F1073),L1073,\"\")","v":{"$error":"#N/A"}},null,null,null,null,null,null,null,null,null,null,null,null,null,null,null,null,null,null,null,null,null,null,"1007T1ABLS..T5","Producer Supplier not designated.","",null,null,null,null,{"$error":"#N/A"}]
[null,null,null,null,null,"1007T1ABLD","Trager Limestone, Gallatin (SOUTH)","3160800111",365,"Winterset 1W - 5W","365_1W - 5W",1147,{"$error":"#N/A"},{"$error":"#N/A"},null,null,null,null,null,null,null,null,null,null,null,null,null,null,null,null,null,null,null,null,null,null,"1007T5ABLD..T5","Norris Quarries LLC, Plattsburg South (APAC)","",null,null,null,null,{"$error":"#N/A"}]
[null,null,null,null,null,"1007T1ABLD..T5","AA Quarry, LLC","3514700114",4621,"Bethany Falls 1BF-3BF","4621_1BF-3BF",6981,{"$error":"#N/A"},{"$error":"#N/A"},null,null,null,null,null,null,null,null,null,null,null,null,null,null,null,null,null,null,null,null,null,null,"1007T7ABLD","Bluewing Materials, Poplar Bluff Stone","",null,null,null,null,{"$error":"#N/A"}]
[null,null,null,null,null,"1007T1ABLD..T5","AA Quarry, LLC","3514700114",4621,"Burlington 2B-5B","4621_2B-5B",7796,{"$error":"#N/A"},{"$error":"#N/A"},null,null,null,null,null,null,null,null,null,null,null,null,null,null,null,null,null,null,null,null,null,null,"1007T7ABLD","Jo Rock Quarry","",null,null,null,null,{"$error":"#N/A"}]
[null,null,null,null,null,"1007T1ABLD..T5","APAC-Central, Busiek (Anderson Qy)","3176704018",1957,"Cotter 2-14","1957_2-14",5521,{"$error":"#N/A"},{"$error":"#N/A"},null,null,null,null,null,null,null,null,null,null,null,null,null,null,null,null,null,null,null,null,null,null,"1007T7ABLD","MoDOT (Jobsite, roadway or other similar site)","",null,null,null,null,{"$error":"#N/A"}]
[null,null,null,null,null,"1007T1ABLD..T5","Anchor Stone - Joplin","3150800217",1091,"Warsaw 4","1091_4",3492,{"$error":"#N/A"},{"$error":"#N/A"},null,null,null,null,null,null,null,null,null,null,null,null,null,null,null,null,null,null,null,null,null,null,"1007T7ABRCP","Scott County Aggregate, LLC, Scott City","",null,null,null,null,{"$error":"#N/A"}]
[null,null,null,null,null,"1007T1ABLD..T5","Bailey Quarries #3, Stockton","3002200317",45,"Burlington 1-3","45_1-3",49,{"$error":"#N/A"},{"$error":"#N/A"},null,null,null,null,null,null,null,null,null,null,null,null,null,null,null,null,null,null,null,null,null,null,"1009G1DRNS","Dexter Sand & Gravel","",null,null,null,null,{"$error":"#N/A"}]
[null,null,null,null,null,"1007T1ABLD..T5","Base Rock Minerals, Pit 3","3038300310",1757,"Bonne Terre 7-10","1757_7-10",5108,{"$error":"#N/A"},{"$error":"#N/A"},null,null,null,null,null,null,null,null,null,null,null,null,null,null,null,null,null,null,null,null,null,null,"1009G3DRLD","Anchor Stone - Joplin","",null,null,null,null,{"$error":"#N/A"}]
[null,null,null,null,null,"1007T1ABLD..T5","Bluewing Materials, Poplar Bluff Stone","3520200119",4957,"Potosi 2","4957_2",7263,{"$error":"#N/A"},{"$error":"#N/A"},null,null,null,null,null,null,null,null,null,null,null,null,null,null,null,null,null,null,null,null,null,null,"1009G3DRLD","Capital Materials, Ozark (Journagan, Journagan Qy)","",null,null,null,null,{"$error":"#N/A"}]
[null,null,null,null,null,"1007T1ABLD..T5","Boone Quarries, Glasgow (Skyline)","3018300112",1006,"Chouteau 3-4C","1006_3-4C",3224,{"$error":"#N/A"},{"$error":"#N/A"},null,null,null,null,null,null,null,null,null,null,null,null,null,null,null,null,null,null,null,null,null,null,"1009G3DRLD","Capital Materials, Tightwad (APAC)","",null,null,null,null,{"$error":"#N/A"}]
[null,null,null,null,null,"1007T1ABLD..T5","Capital Materials, Adrian (APAC)","3234300117",2636,"Bethany Falls 10-12","2636_10-12",6249,{"$error":"#N/A"},{"$error":"#N/A"},null,null,null,null,null,null,null,null,null,null,null,null,null,null,null,null,null,null,null,null,null,null,"1009G3DRLD","Central Stone #31, Florissant","",null,null,null,null,{"$error":"#N/A"}]
[null,null,null,null,null,"1007T1ABLD..T5","Capital Materials, Linn Creek (APAC)","3176702715",1465,"Gasconade 1-2-3","1465_1-2-3",4536,{"$error":"#N/A"},{"$error":"#N/A"},null,null,null,null,null,null,null,null,null,null,null,null,null,null,null,null,null,null,null,null,null,null,"1009G3DRLD","Heartland Materials, LLC","",null,null,null,null,{"$error":"#N/A"}]
[null,null,null,null,null,"1007T1ABLD..T5","Capital Materials, Sedalia (Snow Rd-Dresden)","3026603615",641,"Chouteau 5-11","641_5-11",7422,{"$error":"#N/A"},{"$error":"#N/A"},null,null,null,null,null,null,null,null,null,null,null,null,null,null,null,null,null,null,null,null,null,null,"1009G3DRLD","Southeast Missouri Stone (SEMO)","",null,null,null,null,{"$error":"#N/A"}]
[null,null,null,null,null,"1007T1ABLD..T5","Capital Quarries #10, Quinn Pit (Beck)","3170701015",1979,"Plattin-Cotter 5-6","1979_5-6",5603,{"$error":"#N/A"},{"$error":"#N/A"},null,null,null,null,null,null,null,null,null,null,null,null,null,null,null,null,null,null,null,null,null,null,"1009G3DRLS","Producer Supplier not designated.","",null,null,null,null,{"$error":"#N/A"}]
[null,null,null,null,null,"1007T1ABLD..T5","Capital Quarries #7, Salem","3170700819",1616,"Gasconade 1-5","1616_1-5",4771,{"$error":"#N/A"},{"$error":"#N/A"},null,null,null,null,null,null,null,null,null,null,null,null,null,null,null,null,null,null,null,null,null,null,"1009G4DRLDAA","Central Stone #71, Jefferson Barracks Quarry","",null,null,null,null,{"$error":"#N/A"}]
[null,null,null,null,null,"1007T1ABLD..T5","Capital Quarries, Thayer (King Quarry)","3025300119",679,"Jefferson City 5-6","679_5-6",1718,{"$error":"#N/A"},{"$error":"#N/A"},null,null,null,null,null,null,null,null,null,null,null,null,null,null,null,null,null,null,null,null,null,null,"1009G4DRLDAA","New Frontier, North Quarry #6","",null,null,null,null,{"$error":"#N/A"}]
[null,null,null,null,null,"1007T1ABLD..T5","Central Stone #1, Hannibal (Huntington)","3007900113",948,"Kimmswick 10-1","948_10-1",3041,{"$error":"#N/A"},{"$error":"#N/A"},null,null,null,null,null,null,null,null,null,null,null,null,null,null,null,null,null,null,null,null,null,null,"1009G4DRLDAB","BMC Stone, LLC, Defiance  (APAC Defiance Quarry)","",null,null,null,null,{"$error":"#N/A"}]
[null,null,null,null,null,"1007T1ABLD..T5","Central Stone #31, Florissant","3007903116",947,"St. Louis 10-11","947_10-11",2995,{"$error":"#N/A"},{"$error":"#N/A"},null,null,null,null,null,null,null,null,null,null,null,null,null,null,null,null,null,null,null,null,null,null,"1009G4DRLDAB","Indian Creek Materials, Zalma","",null,null,null,null,{"$error":"#N/A"}]
[null,null,null,null,null,"1007T1ABLD..T5","Central Stone #4, Paris","3007900413",950,"Burlington 4-15","950_4-15",3089,{"$error":"#N/A"},{"$error":"#N/A"},null,null,null,null,null,null,null,null,null,null,null,null,null,null,null,null,null,null,null,null,null,null,"1009G4DRLDAB","Producer Supplier not designated.","",null,null,null,null,{"$error":"#N/A"}]
[null,null,null,null,null,"1007T1ABLD..T5","Central Stone #6, New London","3007900613",949,"Cedar Valley 2 - 6","949_2 - 6",3075,{"$error":"#N/A"},{"$error":"#N/A"},null,null,null,null,null,null,null,null,null,null,null,null,null,null,null,null,null,null,null,null,null,null,"1009G4DRLSABSB","Martin Marietta, Randolph","",null,null,null,null,{"$error":"#N/A"}]
[null,null,null,null,null,"1007T1ABLD..T5","Central Stone #72, Antire Quarry","3005700316",1154,"Plattin 18-15","1154_18-15",3731,{"$error":"#N/A"},{"$error":"#N/A"},null,null,null,null,null,null,null,null,null,null,null,null,null,null,null,null,null,null,null,null,null,null,"1009G5DRLS","APAC-Kansas Bates City Quarry","",null,null,null,null,{"$error":"#N/A"}]
[null,null,null,null,null,"1007T1ABLD..T5","Clever Stone Co","3009100118",1289,"Burlington-Reed Springs 1-D","1289_1-D",7647,{"$error":"#N/A"},{"$error":"#N/A"},null,null,null,null,null,null,null,null,null,null,null,null,null,null,null,null,null,null,null,null,null,null,"1009G5DRLS","Capital Materials, Bagnell (APAC)","",null,null,null,null,{"$error":"#N/A"}]
[null,null,null,null,null,"1007T1ABLD..T5","Clever Stone Co","3009100118",1289,"Burlington-Reeds Spring 1-3,1A","1289_1-3,1A",7739,{"$error":"#N/A"},{"$error":"#N/A"},null,null,null,null,null,null,null,null,null,null,null,null,null,null,null,null,null,null,null,null,null,null,"1009G5DRLS","Capital Materials, Ozark (Journagan, Journagan Qy)",{"$f":"IF(AK1178=$AK$44,AL1178,\"\")","v":""},null,null,null,null,{"$error":"#N/A"}]
[null,null,null,null,null,"1007T1ABLD..T5","Conco #0478, Montevallo (Ash Grove)","3002900817",1366,"Warsaw 1-3","1366_1-3",4307,{"$error":"#N/A"},{"$error":"#N/A"},null,null,null,null,null,null,null,null,null,null,null,null,null,null,null,null,null,null,null,null,null,null,"1009G5DRLS","Central Stone #4, Paris","",null,null,null,null,{"$error":"#N/A"}]
[null,null,null,null,null,"1007T1ABLD..T5","Double Eagle Aggregate LLC (Ottendorf), Diggins","3235900118",2656,"Cotter Dolomite B","2656_B",7893,{"$error":"#N/A"},{"$error":"#N/A"},null,null,null,null,null,null,null,null,null,null,null,null,null,null,null,null,null,null,null,null,null,null,"1009G5DRLS","Hamm Quarries, Lee's Summit (Barber and Sons)","",null,null,null,null,{"$error":"#N/A"}]
[null,null,null,null,null,"1007T1ABLD..T5","Emery Sapp, Purdy (Hutchens)","3021500117",903,"Burlington-Reeds Spring 2-3","903_2-3",2802,{"$error":"#N/A"},{"$error":"#N/A"},null,null,null,null,null,null,null,null,null,null,null,null,null,null,null,null,null,null,null,null,null,null,"1009G5DRLS","Martin Marietta, Ferrelview (Stamper)","",null,null,null,null,{"$error":"#N/A"}]
[null,null,null,null,null,"1007T1ABLD..T5","Fischer Bros Pit #2, Ste. Genevieve","3035100310",2357,"Salem 22 - 25","2357_22 - 25",6024,{"$error":"#N/A"},{"$error":"#N/A"},null,null,null,null,null,null,null,null,null,null,null,null,null,null,null,null,null,null,null,null,null,null,"1009G5DRLS","Norris Quarries, Blue Mound","",null,null,null,null,{"$error":"#N/A"}]
[null,null,null,null,null,"1007T1ABLD..T5","Gray Quarry, Hamilton,IL","3018600113",1009,"Burlington-Keokuk 7","1009_7",3259,{"$error":"#N/A"},{"$error":"#N/A"},null,null,null,null,null,null,null,null,null,null,null,null,null,null,null,null,null,null,null,null,null,null,"1009G5DRLS","Springfield Underground","",null,null,null,null,{"$error":"#N/A"}]
[null,null,null,null,null,"1007T1ABLD..T5","Heartland Materials, LLC","3453100150",4779,"Kimmswick 30","4779_30",7168,{"$error":"#N/A"},{"$error":"#N/A"},null,null,null,null,null,null,null,null,null,null,null,null,null,null,null,null,null,null,null,null,null,null,"1010SGBF","Anchor Stone - Joplin","",null,null,null,null,{"$error":"#N/A"}]
[null,null,null,null,null,"1007T1ABLD..T5","Holliday Sand and Stone, Dever (Ash Grove)","3002948617",3010,"Warsaw 3","3010_3",6489,{"$error":"#N/A"},{"$error":"#N/A"},null,null,null,null,null,null,null,null,null,null,null,null,null,null,null,null,null,null,null,null,null,null,"1010SGBF","Bailey (Roach) Quarry","",null,null,null,null,{"$error":"#N/A"}]
[null,null,null,null,null,"1007T1ABLD..T5","Ideker Mosby Quarry","3503800114",4856,"Bethany Falls 1BF-3BF","4856_1BF-3BF",7216,{"$error":"#N/A"},{"$error":"#N/A"},null,null,null,null,null,null,null,null,null,null,null,null,null,null,null,null,null,null,null,null,null,null,"1010SGBF","Boone Quarries, Boonville (APAC)","",null,null,null,null,{"$error":"#N/A"}]
[null,null,null,null,null,"1007T1ABLD..T5","Jo Rock Quarry","3538600111",5314,"Plattsmouth 1","5314_1",7609,{"$error":"#N/A"},{"$error":"#N/A"},null,null,null,null,null,null,null,null,null,null,null,null,null,null,null,null,null,null,null,null,null,null,"1010SGBF","Capital Materials, Sedalia (Snow Rd-Dresden)","",null,null,null,null,{"$error":"#N/A"}]
[null,null,null,null,null,"1007T1ABLD..T5","Knox County Stone","3025800113",683,"Burlington-Keokuk 1-14","683_1-14",1744,{"$error":"#N/A"},{"$error":"#N/A"},null,null,null,null,null,null,null,null,null,null,null,null,null,null,null,null,null,null,null,null,null,null,"1010SGBF","Capital Quarries, Rolla","",null,null,null,null,{"$error":"#N/A"}]
[null,null,null,null,null,"1007T1ABLD..T5","Magruder Limestone, Ashley","3029700313",838,"Burlington 1-3","838_1-3",2477,{"$error":"#N/A"},{"$error":"#N/A"},null,null,null,null,null,null,null,null,null,null,null,null,null,null,null,null,null,null,null,null,null,null,"1010SGBF","Central Stone #56 (Bellefontaine South)","",null,null,null,null,{"$error":"#N/A"}]
[null,null,null,null,null,"1007T1ABLD..T5","Magruder Limestone, Foley","3139700113",1382,"Plattin 2-4","1382_2-4",4373,{"$error":"#N/A"},{"$error":"#N/A"},null,null,null,null,null,null,null,null,null,null,null,null,null,null,null,null,null,null,null,null,null,null,"1010SGBF","Central Stone #71, Jefferson Barracks Quarry","",null,null,null,null,{"$error":"#N/A"}]
[null,null,null,null,null,"1007T1ABLD..T5","Magruder Limestone, Silex","3029700613",841,"Plattin 22","841_22",2531,{"$error":"#N/A"},{"$error":"#N/A"},null,null,null,null,null,null,null,null,null,null,null,null,null,null,null,null,null,null,null,null,null,null,"1010SGBF","Conco Quarries, Willard","",null,null,null,null,{"$error":"#N/A"}]
[null,null,null,null,null,"1007T1ABLD..T5","Mertens, Femme Osage","3061600116",2374,"Plattin 1A-1C","2374_1A-1C",7855,{"$error":"#N/A"},{"$error":"#N/A"},null,null,null,null,null,null,null,null,null,null,null,null,null,null,null,null,null,null,null,null,null,null,"1010SGBF","Indian Creek Materials, Zalma","",null,null,null,null,{"$error":"#N/A"}]
[null,null,null,null,null,"1007T1ABLD..T5","Mid-States Materials, LLC, Northview","3003900218",5077,"Jefferson City-Cotter 1-4","5077_1-4",7432,{"$error":"#N/A"},{"$error":"#N/A"},null,null,null,null,null,null,null,null,null,null,null,null,null,null,null,null,null,null,null,null,null,null,"1010SGBF","Magruder Limestone #1, Troy","",null,null,null,null,{"$error":"#N/A"}]
[null,null,null,null,null,"1007T1ABLD..T5","Mulberry Limestone – Joplin Quarry","3537700117",5303,"Warsaw 1","5303_1",7589,{"$error":"#N/A"},{"$error":"#N/A"},null,null,null,null,null,null,null,null,null,null,null,null,null,null,null,null,null,null,null,null,null,null,"1010SGBF","Martin Marietta, Randolph","",null,null,null,null,{"$error":"#N/A"}]
[null,null,null,null,null,"1007T1ABLD..T5","New Frontier, Bedrock Quarry","3016601813",108,"Burlington 12","108_12",326,{"$error":"#N/A"},{"$error":"#N/A"},null,null,null,null,null,null,null,null,null,null,null,null,null,null,null,null,null,null,null,null,null,null,"1010SGBF","Norris Quarries, Princeton Quarry","",null,null,null,null,{"$error":"#N/A"}]
[null,null,null,null,null,"1007T1ABLD..T5","New Frontier, Bedrock Quarry","3016601813",108,"Burlington 9","108_9",332,{"$error":"#N/A"},{"$error":"#N/A"},null,null,null,null,null,null,null,null,null,null,null,null,null,null,null,null,null,null,null,null,null,null,"1010SGBF","Schrimpf Landscaping","",null,null,null,null,{"$error":"#N/A"}]
[null,null,null,null,null,"1007T1ABLD..T5","Norris Quarries LLC, Akron (Jefferies Quarry)","3030615411",807,"Bethany Falls 2BF-4BF","807_2BF-4BF",2207,{"$error":"#N/A"},{"$error":"#N/A"},null,null,null,null,null,null,null,null,null,null,null,null,null,null,null,null,null,null,null,null,null,null,"1010SGBF","Williamsville Stone #1","",null,null,null,null,{"$error":"#N/A"}]
[null,null,null,null,null,"1007T1ABLD..T5","Norris Quarries LLC, Kingston (APAC - Kingston)","3014800411",1033,"Winterset 1W-3W","1033_1W-3W",3335,{"$error":"#N/A"},{"$error":"#N/A"},null,null,null,null,null,null,null,null,null,null,null,null,null,null,null,null,null,null,null,null,null,null,null,null,0,null,null,null,null,{"$error":"#N/A"}]
[null,null,null,null,null,"1007T1ABLD..T5","Norris Quarries, Amazonia Quarry","3061800211",888,"Plattsmouth 1P-3P","888_1P-3P",2704,{"$error":"#N/A"},{"$error":"#N/A"},null,null,null,null,null,null,null,null,null,null,null,null,null,null,null,null,null,null,null,null,null,null,null,null,0,null,null,null,null,{"$error":"#N/A"}]
[null,null,null,null,null,"1007T1ABLD..T5","Norris Quarries, Bethany","3030616611",809,"Bethany Falls 9BF-12BF","809_9BF-12BF",2228,{"$error":"#N/A"},{"$error":"#N/A"},null,null,null,null,null,null,null,null,null,null,null,null,null,null,null,null,null,null,null,null,null,null,null,null,0,null,null,null,null,{"$error":"#N/A"}]
[null,null,null,null,null,"1007T1ABLD..T5","Norris Quarries, Breit Quarry, Savannah","3030693411",806,"Clay Creek 1CC","806_1CC",2191,{"$error":"#N/A"},{"$error":"#N/A"},null,null,null,null,null,null,null,null,null,null,null,null,null,null,null,null,null,null,null,null,null,null,null,null,0,null,null,null,null,{"$error":"#N/A"}]
[null,null,null,null,null,"1007T1ABLD..T5","Norris Quarries, Breit Quarry, Savannah","3030693411",806,"Plattsmouth 4P","806_4P",2186,{"$error":"#N/A"},{"$error":"#N/A"},null,null,null,null,null,null,null,null,null,null,null,null,null,null,null,null,null,null,null,null,null,null,null,null,0,null,null,null,null,{"$error":"#N/A"}]
[null,null,null,null,null,"1007T1ABLD..T5","Norris Quarries, Gooden Quarry, Ravenwood","3030632711",826,"Plattsmouth 1P-4P","826_1P-4P",2395,{"$error":"#N/A"},{"$error":"#N/A"},null,null,null,null,null,null,null,null,null,null,null,null,null,null,null,null,null,null,null,null,null,null,null,null,0,null,null,null,null,{"$error":"#N/A"}]
[null,null,null,null,null,"1007T1ABLD..T5","Norris Quarries, Gooden Quarry, Ravenwood","3030632711",826,"Plattsmouth 1P-5P","826_1P-5P",2397,{"$error":"#N/A"},{"$error":"#N/A"},null,null,null,null,null,null,null,null,null,null,null,null,null,null,null,null,null,null,null,null,null,null,null,null,0,null,null,null,null,{"$error":"#N/A"}]
[null,null,null,null,null,"1007T1ABLD..T5","Norris Quarries, Princeton Quarry","3030600912",787,"Winterset 1W-3W","787_1W-3W",2057,{"$error":"#N/A"},{"$error":"#N/A"},null,null,null,null,null,null,null,null,null,null,null,null,null,null,null,null,null,null,null,null,null,null,null,null,0,null,null,null,null,{"$error":"#N/A"}]
[null,null,null,null,null,"1007T1ABLD..T5","Norris Quarries, Trenton","3030601212",788,"Winterset 1-5","788_1-5",2086,{"$error":"#N/A"},{"$error":"#N/A"},null,null,null,null,null,null,null,null,null,null,null,null,null,null,null,null,null,null,null,null,null,null,null,null,0,null,null,null,null,{"$error":"#N/A"}]
[null,null,null,null,null,"1007T1ABLD..T5","Schildberg Construction, Braddyville, IA","3041404311",292,"Ervine Creek 2EC-5EC","292_2EC-5EC",988,{"$error":"#N/A"},{"$error":"#N/A"},null,null,null,null,null,null,null,null,null,null,null,null,null,null,null,null,null,null,null,null,null,null,null,null,0,null,null,null,null,{"$error":"#N/A"}]
[null,null,null,null,null,"1007T1ABLD..T5","Shawnee Stone - Buncombe, IL","3043000110",1952,"Kincaid 1-3,6-8","1952_1-3,6-8",7835,{"$error":"#N/A"},{"$error":"#N/A"},null,null,null,null,null,null,null,null,null,null,null,null,null,null,null,null,null,null,null,null,null,null,null,null,0,null,null,null,null,{"$error":"#N/A"}]
[null,null,null,null,null,"1007T1ABLD..T5","Southeast Missouri Stone (SEMO)","3042800110",248,"Plattin 15-5A","248_15-5A",796,{"$error":"#N/A"},{"$error":"#N/A"},null,null,null,null,null,null,null,null,null,null,null,null,null,null,null,null,null,null,null,null,null,null,null,null,0,null,null,null,null,{"$error":"#N/A"}]
[null,null,null,null,null,"1007T1ABLD..T5","Summit Materials, Marshall (Boone Quarries)","3176713215",1976,"Cedar Valley 5CA-6CA-8CA-9CA","1976_5CA-6CA-8CA-9CA",5584,{"$error":"#N/A"},{"$error":"#N/A"},null,null,null,null,null,null,null,null,null,null,null,null,null,null,null,null,null,null,null,null,null,null,null,null,0,null,null,null,null,{"$error":"#N/A"}]
[null,null,null,null,null,"1007T1ABLD..T5","Summit Materials, Marshall (Boone Quarries)","3176713215",1976,"Chouteau 2C-3C","1976_2C-3C",5589,{"$error":"#N/A"},{"$error":"#N/A"},null,null,null,null,null,null,null,null,null,null,null,null,null,null,null,null,null,null,null,null,null,null,null,null,0,null,null,null,null,{"$error":"#N/A"}]
[null,null,null,null,null,"1007T1ABLD..T5","Table Rock, Kimberling City Qy","3045500318",188,"Cotter A-D","188_A-D",7914,{"$error":"#N/A"},{"$error":"#N/A"},null,null,null,null,null,null,null,null,null,null,null,null,null,null,null,null,null,null,null,null,null,null,null,null,0,null,null,null,null,{"$error":"#N/A"}]
[null,null,null,null,null,"1007T1ABLD..T5","Trager Limestone, Nettleton","3176715011",2385,"Winterset 1W-4W","2385_1W-4W",6081,{"$error":"#N/A"},{"$error":"#N/A"},null,null,null,null,null,null,null,null,null,null,null,null,null,null,null,null,null,null,null,null,null,null,null,null,0,null,null,null,null,{"$error":"#N/A"}]
[null,null,null,null,null,"1007T1ABLD..T5","Viking Aggregates, Kahoka Quarry","3163400213",672,"St. Louis 2-4","672_2-4",1690,{"$error":"#N/A"},{"$error":"#N/A"},null,null,null,null,null,null,null,null,null,null,null,null,null,null,null,null,null,null,null,null,null,null,null,null,0,null,null,null,null,{"$error":"#N/A"}]
[null,null,null,null,null,"1007T1ABLD..T5","Willard Constr, Sleeper","3050100418",77,"Jefferson City 1-2","77_1-2",156,{"$error":"#N/A"},{"$error":"#N/A"},null,null,null,null,null,null,null,null,null,null,null,null,null,null,null,null,null,null,null,null,null,null,null,null,0,null,null,null,null,{"$error":"#N/A"}]
[null,null,null,null,null,"1007T1ABLD..T5","Williamsville Stone #1","3050400110",81,"Gasconade 9A-13A","81_9A-13A",189,{"$error":"#N/A"},{"$error":"#N/A"},null,null,null,null,null,null,null,null,null,null,null,null,null,null,null,null,null,null,null,null,null,null,null,null,0,null,null,null,null,{"$error":"#N/A"}]
[null,null,null,null,null,"1007T1ABLD..T5","Wright City Quarry - BMC Stone, LLC","3050700113",62,"Burlington 8","62_8",7397,{"$error":"#N/A"},{"$error":"#N/A"},null,null,null,null,null,null,null,null,null,null,null,null,null,null,null,null,null,null,null,null,null,null,null,null,0,null,null,null,null,{"$error":"#N/A"}]
[null,null,null,null,null,"1007T1ABLS","Ray County Stone, EE Quarry","3144600114",1047,"Lower Winterset 2W","1047_2W",3398,{"$error":"#N/A"},{"$error":"#N/A"},null,null,null,null,null,null,null,null,null,null,null,null,null,null,null,null,null,null,null,null,null,null,null,null,{"$f":"IF(AK1370=$AK$44,AL1370,\"\")","v":0},null,null,null,null,{"$error":"#N/A"}]
[null,null,null,null,null,"1007T5ABLD..T5","Jo Rock Quarry","3538600111",5314,"Plattsmouth 1","5314_1",7609,{"$error":"#N/A"},{"$error":"#N/A"},null,null,null,null,null,null,null,null,null,null,null,null,null,null,null,null,null,null,null,null,null,null,null,null,0,null,null,null,null,{"$error":"#N/A"}]
[null,null,null,null,null,"1007T5ABLD..T5","Norris Quarries, LLC - Mt. Airy","3062100112",1893,"Burlington-Keokuk 1B-4B","1893_1B-4B",5420,{"$error":"#N/A"},{"$error":"#N/A"},null,null,null,null,null,null,null,null,null,null,null,null,null,null,null,null,null,null,null,null,null,null,null,null,0,null,null,null,null,{"$error":"#N/A"}]
[null,null,null,null,null,"1007T7ABLD","AQ Properties LLC","3000700117",46,"Burlington-Keokuk 7-8","46_7-8",7681,{"$error":"#N/A"},{"$error":"#N/A"},null,null,null,null,null,null,null,null,null,null,null,null,null,null,null,null,null,null,null,null,null,null,null,null,0,null,null,null,null,{"$error":"#N/A"}]
[null,null,null,null,null,"1007T7ABLD","Jo Rock Quarry","3538600111",5314,"Plattsmouth 1","5314_1",7609,{"$error":"#N/A"},{"$error":"#N/A"},null,null,null,null,null,null,null,null,null,null,null,null,null,null,null,null,null,null,null,null,null,null,null,null,0,null,null,null,null,{"$error":"#N/A"}]
[null,null,null,null,null,"1007T7ABRCP","Scott County Aggregate, LLC, Scott City","3548000110",5459,"Recycled Concrete Agg from Crushed Paver Blocks RCA","5459_RCA",7859,{"$error":"#N/A"},{"$error":"#N/A"},null,null,null,null,null,null,null,null,null,null,null,null,null,null,null,null,null,null,null,null,null,null,null,null,0,null,null,null,null,{"$error":"#N/A"}]
[null,null,null,null,null,"1009G3DRLD","Capital Materials, Ozark (Journagan, Journagan Qy)","3027400118",720,"Burlington 1-5","720_1-5",1880,{"$error":"#N/A"},{"$error":"#N/A"},null,null,null,null,null,null,null,null,null,null,null,null,null,null,null,null,null,null,null,null,null,null,null,null,0,null,null,null,null,{"$error":"#N/A"}]
[null,null,null,null,null,"1009G3DRLD","Capital Quarries, Treloar (Mertens #6)","3039000613",1839,"Jefferson City 1-2","1839_1-2",7755,{"$error":"#N/A"},{"$error":"#N/A"},null,null,null,null,null,null,null,null,null,null,null,null,null,null,null,null,null,null,null,null,null,null,null,null,0,null,null,null,null,{"$error":"#N/A"}]
[null,null,null,null,null,"1009G3DRLD","Indian Creek Materials, Zalma","3162200110",58,"Cotter-Powell 8-7","58_8-7",7581,{"$error":"#N/A"},{"$error":"#N/A"},null,null,null,null,null,null,null,null,null,null,null,null,null,null,null,null,null,null,null,null,null,null,null,null,0,null,null,null,null,{"$error":"#N/A"}]
[null,null,null,null,null,"1009G3DRLS","Central Stone #1, Hannibal (Huntington)","3007900113",948,"Cedar Valley 13-11","948_13-11",3038,{"$error":"#N/A"},{"$error":"#N/A"},null,null,null,null,null,null,null,null,null,null,null,null,null,null,null,null,null,null,null,null,null,null,null,null,0,null,null,null,null,{"$error":"#N/A"}]
[null,null,null,null,null,"1009G4DRLDAA","Central Stone #71, Jefferson Barracks Quarry","3005700116",1151,"St. Louis - Salem 5-15, 16-21","1151_5-15, 16-21",3701,{"$error":"#N/A"},{"$error":"#N/A"},null,null,null,null,null,null,null,null,null,null,null,null,null,null,null,null,null,null,null,null,null,null,null,null,0,null,null,null,null,{"$error":"#N/A"}]
[null,null,null,null,null,"1009G4DRLDAA","New Frontier, North Quarry #6","3016600116",118,"St. Louis 2-9","118_2-9",480,{"$error":"#N/A"},{"$error":"#N/A"},null,null,null,null,null,null,null,null,null,null,null,null,null,null,null,null,null,null,null,null,null,null,null,null,0,null,null,null,null,{"$error":"#N/A"}]
[null,null,null,null,null,"1009G4DRLDAA","Wayne B. Smith, Pit #5, Lake South Hill","3049500513",2219,"Burlington 20-17","2219_20-17",5854,{"$error":"#N/A"},{"$error":"#N/A"},null,null,null,null,null,null,null,null,null,null,null,null,null,null,null,null,null,null,null,null,null,null,null,null,0,null,null,null,null,{"$error":"#N/A"}]
[null,null,null,null,null,"1009G4DRLDAB","BMC Stone, LLC, Defiance  (APAC Defiance Quarry)","3043801216",234,"Plattin 16-18","234_16-18",738,{"$error":"#N/A"},{"$error":"#N/A"},null,null,null,null,null,null,null,null,null,null,null,null,null,null,null,null,null,null,null,null,null,null,null,null,0,null,null,null,null,{"$error":"#N/A"}]
[null,null,null,null,null,"1009G4DRLDAB","Magruder Limestone, Frankford","3029700213",840,"Kimmswick 1","840_1",2508,{"$error":"#N/A"},{"$error":"#N/A"},null,null,null,null,null,null,null,null,null,null,null,null,null,null,null,null,null,null,null,null,null,null,null,null,0,null,null,null,null,{"$error":"#N/A"}]
[null,null,null,null,null,"1009G5DRLS","Capital Materials, Palo Quarry (Smasal)","3133300715",2947,"Chouteau 4","2947_4",7433,{"$error":"#N/A"},{"$error":"#N/A"},null,null,null,null,null,null,null,null,null,null,null,null,null,null,null,null,null,null,null,null,null,null,null,null,0,null,null,null,null,{"$error":"#N/A"}]
[null,null,null,null,null,"1009G5DRLS","Hamm Quarries, Lee's Summit (Barber and Sons)","3002600114",1497,"Bethany Falls 1-4","1497_1-4",4615,{"$error":"#N/A"},{"$error":"#N/A"},null,null,null,null,null,null,null,null,null,null,null,null,null,null,null,null,null,null,null,null,null,null,null,null,0,null,null,null,null,{"$error":"#N/A"}]
[null,null,null,null,null,"1009G5DRLS","Norris Quarries, LLC - Mt. Airy","3062100112",1893,"Burlington-Keokuk 1B-5B","1893_1B-5B",5424,{"$error":"#N/A"},{"$error":"#N/A"},null,null,null,null,null,null,null,null,null,null,null,null,null,null,null,null,null,null,null,null,null,null,null,null,0,null,null,null,null,{"$error":"#N/A"}]
[null,null,null,null,null,"1010SGBF","Anchor Stone - Joplin","3150800217",1091,"Warsaw 2","1091_2",3494,{"$error":"#N/A"},{"$error":"#N/A"},null,null,null,null,null,null,null,null,null,null,null,null,null,null,null,null,null,null,null,null,null,null,null,null,0,null,null,null,null,{"$error":"#N/A"}]
[null,null,null,null,null,"1010SGBF","Boone Quarries East (Southdown)","3008800115",1281,"Burlington-Chouteau 5-7","1281_5-7",4043,{"$error":"#N/A"},{"$error":"#N/A"},null,null,null,null,null,null,null,null,null,null,null,null,null,null,null,null,null,null,null,null,null,null,null,null,0,null,null,null,null,{"$error":"#N/A"}]
[null,null,null,null,null,"1010SGBF","Cantera Aggregates #5, Walnut City Quarry IA","3026300512",670,"Exline 1E","670_1E",1669,{"$error":"#N/A"},{"$error":"#N/A"},null,null,null,null,null,null,null,null,null,null,null,null,null,null,null,null,null,null,null,null,null,null,null,null,0,null,null,null,null,{"$error":"#N/A"}]
[null,null,null,null,null,"1010SGBF","Capital Quarries, Rolla","3170700719",1143,"Jefferson City 2","1143_2",3652,{"$error":"#N/A"},{"$error":"#N/A"},null,null,null,null,null,null,null,null,null,null,null,null,null,null,null,null,null,null,null,null,null,null,null,null,0,null,null,null,null,{"$error":"#N/A"}]
[null,null,null,null,null,"1010SGBF","Capital Sand #1,  Wardsville (Osage Riv)","3006400615",1922,"Osage River gravel GRAVEL","1922_GRAVEL",5469,{"$error":"#N/A"},{"$error":"#N/A"},null,null,null,null,null,null,null,null,null,null,null,null,null,null,null,null,null,null,null,null,null,null,null,null,0,null,null,null,null,{"$error":"#N/A"}]
[null,null,null,null,null,"1010SGBF","Central Stone #57, Moscow Mills (Lincoln Co Stone)","3194100213",1745,"Burlington-Keokuk, Warsaw 16,17,18","1745_16,17,18",5050,{"$error":"#N/A"},{"$error":"#N/A"},null,null,null,null,null,null,null,null,null,null,null,null,null,null,null,null,null,null,null,null,null,null,null,null,0,null,null,null,null,{"$error":"#N/A"}]
[null,null,null,null,null,"1010SGBF","Ideker Mosby Quarry","3503800114",4856,"Winterset 1W","4856_1W",7221,{"$error":"#N/A"},{"$error":"#N/A"},null,null,null,null,null,null,null,null,null,null,null,null,null,null,null,null,null,null,null,null,null,null,null,null,0,null,null,null,null,{"$error":"#N/A"}]
[null,null,null,null,null,"1010SGBF","Knox County Stone","3025800113",683,"Burlington-Keokuk 1-9","683_1-9",1746,{"$error":"#N/A"},{"$error":"#N/A"},null,null,null,null,null,null,null,null,null,null,null,null,null,null,null,null,null,null,null,null,null,null,null,null,0,null,null,null,null,{"$error":"#N/A"}]
[null,null,null,null,null,"1010SGBF","L. G. Everist, Inc., Sioux Falls, SD (#1)","3254100111",2784,"Sioux Quartzite 1","2784_1",6339,{"$error":"#N/A"},{"$error":"#N/A"},null,null,null,null,null,null,null,null,null,null,null,null,null,null,null,null,null,null,null,null,null,null,null,null,0,null,null,null,null,{"$error":"#N/A"}]
[null,null,null,null,null,"1010SGBF","Martin Marietta, Ferrelview (Stamper)","3021300214",925,"Bethany Falls 3BF","925_3BF",2856,{"$error":"#N/A"},{"$error":"#N/A"},null,null,null,null,null,null,null,null,null,null,null,null,null,null,null,null,null,null,null,null,null,null,null,null,0,null,null,null,null,{"$error":"#N/A"}]
[null,null,null,null,null,"1010SGBF","Martin Marietta, Parkville (Hunt Martin)","3115500114",515,"Bethany Falls 3BF-4BF","515_3BF-4BF",1371,{"$error":"#N/A"},{"$error":"#N/A"},null,null,null,null,null,null,null,null,null,null,null,null,null,null,null,null,null,null,null,null,null,null,null,null,0,null,null,null,null,{"$error":"#N/A"}]
[null,null,null,null,null,"1010SGBF","Mid Missouri Limestone (Reform)","3031700115",402,"Cedar Valley 1 & 2","402_1 & 2",1215,{"$error":"#N/A"},{"$error":"#N/A"},null,null,null,null,null,null,null,null,null,null,null,null,null,null,null,null,null,null,null,null,null,null,null,null,0,null,null,null,null,{"$error":"#N/A"}]
[null,null,null,null,null,"1010SGBF","Quality Aggregates (Hillside LLC)","3238600114",2290,"Bethany Falls 3-BF","2290_3-BF",5947,{"$error":"#N/A"},{"$error":"#N/A"},null,null,null,null,null,null,null,null,null,null,null,null,null,null,null,null,null,null,null,null,null,null,null,null,0,null,null,null,null,{"$error":"#N/A"}]
[null,null,null,null,null,"1010SGBF","Talon Aggregates, Courtney Ridge (Lafarge)","3026605014",2423,"Bethany Falls 1BF-3BF","2423_1BF-3BF",6123,{"$error":"#N/A"},{"$error":"#N/A"},null,null,null,null,null,null,null,null,null,null,null,null,null,null,null,null,null,null,null,null,null,null,null,null,0,null,null,null,null,{"$error":"#N/A"}]
[null,null,null,null,null,null,null,null,null,null,null,null,{"$error":"#N/A"},{"$error":"#N/A"},null,null,null,null,null,null,null,null,null,null,null,null,null,null,null,null,null,null,null,null,null,null,null,null,0,null,null,null,null,{"$error":"#N/A"}]
[null,null,null,null,null,null,null,null,null,null,null,null,{"$error":"#N/A"},{"$error":"#N/A"},null,null,null,null,null,null,null,null,null,null,null,null,null,null,null,null,null,null,null,null,null,null,null,null,0,null,null,null,null,{"$error":"#N/A"}]
[null,null,null,null,null,null,null,null,null,null,null,null,{"$error":"#N/A"},{"$error":"#N/A"},null,null,null,null,null,null,null,null,null,null,null,null,null,null,null,null,null,null,null,null,null,null,null,null,0,null,null,null,null,{"$error":"#N/A"}]
[null,null,null,null,null,null,null,null,null,null,null,null,{"$error":"#N/A"},{"$error":"#N/A"},null,null,null,null,null,null,null,null,null,null,null,null,null,null,null,null,null,null,null,null,null,null,null,null,0,null,null,null,null,{"$error":"#N/A"}]
[null,null,null,null,null,null,null,null,null,null,null,null,{"$error":"#N/A"},{"$error":"#N/A"},null,null,null,null,null,null,null,null,null,null,null,null,null,null,null,null,null,null,null,null,null,null,null,null,0,null,null,null,null,{"$error":"#N/A"}]
[null,null,null,null,null,null,null,null,null,null,null,null,{"$error":"#N/A"},{"$error":"#N/A"},null,null,null,null,null,null,null,null,null,null,null,null,null,null,null,null,null,null,null,null,null,null,null,null,0,null,null,null,null,{"$error":"#N/A"}]
[null,null,null,null,null,null,null,null,null,null,null,null,{"$error":"#N/A"},{"$error":"#N/A"},null,null,null,null,null,null,null,null,null,null,null,null,null,null,null,null,null,null,null,null,null,null,null,null,0,null,null,null,null,{"$error":"#N/A"}]
[null,null,null,null,null,null,null,null,null,null,null,null,{"$error":"#N/A"},{"$error":"#N/A"},null,null,null,null,null,null,null,null,null,null,null,null,null,null,null,null,null,null,null,null,null,null,null,null,0,null,null,null,null,{"$error":"#N/A"}]
[null,null,null,null,null,null,null,null,null,null,null,null,{"$error":"#N/A"},{"$error":"#N/A"},null,null,null,null,null,null,null,null,null,null,null,null,null,null,null,null,null,null,null,null,null,null,null,null,{"$f":"IF(AK1562=$AK$44,AL1562,\"\")","v":0},null,null,null,null,{"$error":"#N/A"}]
[null,null,null,null,null,null,null,null,null,null,null,null,{"$error":"#N/A"},{"$error":"#N/A"},null,null,null,null,null,null,null,null,null,null,null,null,null,null,null,null,null,null,null,null,null,null,null,null,0,null,null,null,null,{"$error":"#N/A"}]
[null,null,null,null,null,null,null,null,null,null,null,null,{"$error":"#N/A"},{"$error":"#N/A"},null,null,null,null,null,null,null,null,null,null,null,null,null,null,null,null,null,null,null,null,null,null,null,null,0,null,null,null,null,{"$error":"#N/A"}]
[null,null,null,null,null,null,null,null,null,null,null,null,{"$error":"#N/A"},{"$error":"#N/A"},null,null,null,null,null,null,null,null,null,null,null,null,null,null,null,null,null,null,null,null,null,null,null,null,0,null,null,null,null,{"$error":"#N/A"}]
[null,null,null,null,null,null,null,null,null,null,null,null,{"$error":"#N/A"},{"$error":"#N/A"},null,null,null,null,null,null,null,null,null,null,null,null,null,null,null,null,null,null,null,null,null,null,null,null,0,null,null,null,null,{"$error":"#N/A"}]
[null,null,null,null,null,null,null,null,null,null,null,null,{"$error":"#N/A"},{"$error":"#N/A"},null,null,null,null,null,null,null,null,null,null,null,null,null,null,null,null,null,null,null,null,null,null,null,null,0,null,null,null,null,{"$error":"#N/A"}]
[null,null,null,null,null,null,null,null,null,null,null,null,{"$error":"#N/A"},{"$error":"#N/A"},null,null,null,null,null,null,null,null,null,null,null,null,null,null,null,null,null,null,null,null,null,null,null,null,0,null,null,null,null,{"$error":"#N/A"}]
[null,null,null,null,null,null,null,null,null,null,null,null,{"$error":"#N/A"},{"$error":"#N/A"},null,null,null,null,null,null,null,null,null,null,null,null,null,null,null,null,null,null,null,null,null,null,null,null,0,null,null,null,null,{"$error":"#N/A"}]
[null,null,null,null,null,null,null,null,null,null,null,null,{"$error":"#N/A"},{"$error":"#N/A"},null,null,null,null,null,null,null,null,null,null,null,null,null,null,null,null,null,null,null,null,null,null,null,null,0,null,null,null,null,{"$error":"#N/A"}]
[null,null,null,null,null,null,null,null,null,null,null,null,{"$error":"#N/A"},{"$error":"#N/A"},null,null,null,null,null,null,null,null,null,null,null,null,null,null,null,null,null,null,null,null,null,null,null,null,0,null,null,null,null,{"$error":"#N/A"}]
[null,null,null,null,null,null,null,null,null,null,null,null,{"$error":"#N/A"},{"$error":"#N/A"},null,null,null,null,null,null,null,null,null,null,null,null,null,null,null,null,null,null,null,null,null,null,null,null,0,null,null,null,null,{"$error":"#N/A"}]
[null,null,null,null,null,null,null,null,null,null,null,null,{"$error":"#N/A"},{"$error":"#N/A"},null,null,null,null,null,null,null,null,null,null,null,null,null,null,null,null,null,null,null,null,null,null,null,null,0,null,null,null,null,{"$error":"#N/A"}]
[null,null,null,null,null,null,null,null,null,null,null,null,{"$error":"#N/A"},{"$error":"#N/A"},null,null,null,null,null,null,null,null,null,null,null,null,null,null,null,null,null,null,null,null,null,null,null,null,0,null,null,null,null,{"$error":"#N/A"}]
[null,null,null,null,null,null,null,null,null,null,null,null,{"$error":"#N/A"},{"$error":"#N/A"},null,null,null,null,null,null,null,null,null,null,null,null,null,null,null,null,null,null,null,null,null,null,null,null,0,null,null,null,null,{"$error":"#N/A"}]
[null,null,null,null,null,null,null,null,null,null,null,null,{"$error":"#N/A"},{"$error":"#N/A"},null,null,null,null,null,null,null,null,null,null,null,null,null,null,null,null,null,null,null,null,null,null,null,null,0,null,null,null,null,{"$error":"#N/A"}]
[null,null,null,null,null,null,null,null,null,null,null,null,{"$error":"#N/A"},{"$error":"#N/A"},null,null,null,null,null,null,null,null,null,null,null,null,null,null,null,null,null,null,null,null,null,null,null,null,0,null,null,null,null,{"$error":"#N/A"}]
[null,null,null,null,null,null,null,null,null,null,null,null,{"$error":"#N/A"},{"$error":"#N/A"},null,null,null,null,null,null,null,null,null,null,null,null,null,null,null,null,null,null,null,null,null,null,null,null,0,null,null,null,null,{"$error":"#N/A"}]
[null,null,null,null,null,null,null,null,null,null,null,null,{"$error":"#N/A"},{"$error":"#N/A"},null,null,null,null,null,null,null,null,null,null,null,null,null,null,null,null,null,null,null,null,null,null,null,null,0,null,null,null,null,{"$error":"#N/A"}]
[null,null,null,null,null,null,null,null,null,null,null,null,{"$error":"#N/A"},{"$error":"#N/A"},null,null,null,null,null,null,null,null,null,null,null,null,null,null,null,null,null,null,null,null,null,null,null,null,0,null,null,null,null,{"$error":"#N/A"}]
[null,null,null,null,null,null,null,null,null,null,null,null,{"$error":"#N/A"},{"$error":"#N/A"},null,null,null,null,null,null,null,null,null,null,null,null,null,null,null,null,null,null,null,null,null,null,null,null,0,null,null,null,null,{"$error":"#N/A"}]
[null,null,null,null,null,null,null,null,null,null,null,null,{"$error":"#N/A"},{"$error":"#N/A"},null,null,null,null,null,null,null,null,null,null,null,null,null,null,null,null,null,null,null,null,null,null,null,null,0,null,null,null,null,{"$error":"#N/A"}]
[null,null,null,null,null,null,null,null,null,null,null,null,{"$error":"#N/A"},{"$error":"#N/A"},null,null,null,null,null,null,null,null,null,null,null,null,null,null,null,null,null,null,null,null,null,null,null,null,0,null,null,null,null,{"$error":"#N/A"}]
[null,null,null,null,null,null,null,null,null,null,null,null,{"$error":"#N/A"},{"$error":"#N/A"},null,null,null,null,null,null,null,null,null,null,null,null,null,null,null,null,null,null,null,null,null,null,null,null,0,null,null,null,null,{"$error":"#N/A"}]
[null,null,null,null,null,null,null,null,null,null,null,null,{"$error":"#N/A"},{"$error":"#N/A"},null,null,null,null,null,null,null,null,null,null,null,null,null,null,null,null,null,null,null,null,null,null,null,null,0,null,null,null,null,{"$error":"#N/A"}]
[null,null,null,null,null,null,null,null,null,null,null,null,{"$error":"#N/A"},{"$error":"#N/A"},null,null,null,null,null,null,null,null,null,null,null,null,null,null,null,null,null,null,null,null,null,null,null,null,0,null,null,null,null,{"$error":"#N/A"}]
[null,null,null,null,null,null,null,null,null,null,null,null,{"$error":"#N/A"},{"$error":"#N/A"},null,null,null,null,null,null,null,null,null,null,null,null,null,null,null,null,null,null,null,null,null,null,null,null,0,null,null,null,null,{"$error":"#N/A"}]
[null,null,null,null,null,null,null,null,null,null,null,null,{"$error":"#N/A"},{"$error":"#N/A"},null,null,null,null,null,null,null,null,null,null,null,null,null,null,null,null,null,null,null,null,null,null,null,null,0,null,null,null,null,{"$error":"#N/A"}]
[null,null,null,null,null,null,null,null,null,null,null,null,{"$error":"#N/A"},{"$error":"#N/A"},null,null,null,null,null,null,null,null,null,null,null,null,null,null,null,null,null,null,null,null,null,null,null,null,0,null,null,null,null,{"$error":"#N/A"}]
[null,null,null,null,null,null,null,null,null,null,null,null,{"$error":"#N/A"},{"$error":"#N/A"},null,null,null,null,null,null,null,null,null,null,null,null,null,null,null,null,null,null,null,null,null,null,null,null,0,null,null,null,null,{"$error":"#N/A"}]
[null,null,null,null,null,null,null,null,null,null,null,null,{"$error":"#N/A"},{"$error":"#N/A"},null,null,null,null,null,null,null,null,null,null,null,null,null,null,null,null,null,null,null,null,null,null,null,null,0,null,null,null,null,{"$error":"#N/A"}]
[null,null,null,null,null,null,null,null,null,null,null,null,{"$error":"#N/A"},{"$error":"#N/A"},null,null,null,null,null,null,null,null,null,null,null,null,null,null,null,null,null,null,null,null,null,null,null,null,0,null,null,null,null,{"$error":"#N/A"}]
[null,null,null,null,null,null,null,null,null,null,null,null,{"$error":"#N/A"},{"$error":"#N/A"},null,null,null,null,null,null,null,null,null,null,null,null,null,null,null,null,null,null,null,null,null,null,null,null,0,null,null,null,null,{"$error":"#N/A"}]
[null,null,null,null,null,null,null,null,null,null,null,null,{"$error":"#N/A"},{"$error":"#N/A"},null,null,null,null,null,null,null,null,null,null,null,null,null,null,null,null,null,null,null,null,null,null,null,null,0,null,null,null,null,{"$error":"#N/A"}]
[null,null,null,null,null,null,null,null,null,null,null,null,{"$error":"#N/A"},{"$error":"#N/A"},null,null,null,null,null,null,null,null,null,null,null,null,null,null,null,null,null,null,null,null,null,null,null,null,0,null,null,null,null,{"$error":"#N/A"}]
[null,null,null,null,null,null,null,null,null,null,null,null,{"$error":"#N/A"},{"$error":"#N/A"},null,null,null,null,null,null,null,null,null,null,null,null,null,null,null,null,null,null,null,null,null,null,null,null,0,null,null,null,null,{"$error":"#N/A"}]
[null,null,null,null,null,null,null,null,null,null,null,null,{"$error":"#N/A"},{"$error":"#N/A"},null,null,null,null,null,null,null,null,null,null,null,null,null,null,null,null,null,null,null,null,null,null,null,null,0,null,null,null,null,{"$error":"#N/A"}]
[null,null,null,null,null,null,null,null,null,null,null,null,{"$error":"#N/A"},{"$error":"#N/A"},null,null,null,null,null,null,null,null,null,null,null,null,null,null,null,null,null,null,null,null,null,null,null,null,0,null,null,null,null,{"$error":"#N/A"}]
[null,null,null,null,null,null,null,null,null,null,null,null,{"$error":"#N/A"},{"$error":"#N/A"},null,null,null,null,null,null,null,null,null,null,null,null,null,null,null,null,null,null,null,null,null,null,null,null,0,null,null,null,null,{"$error":"#N/A"}]
[null,null,null,null,null,null,null,null,null,null,null,null,{"$error":"#N/A"},{"$error":"#N/A"},null,null,null,null,null,null,null,null,null,null,null,null,null,null,null,null,null,null,null,null,null,null,null,null,0,null,null,null,null,{"$error":"#N/A"}]
[null,null,null,null,null,null,null,null,null,null,null,null,{"$error":"#N/A"},{"$error":"#N/A"},null,null,null,null,null,null,null,null,null,null,null,null,null,null,null,null,null,null,null,null,null,null,null,null,0,null,null,null,null,{"$error":"#N/A"}]
[null,null,null,null,null,null,null,null,null,null,null,null,{"$error":"#N/A"},{"$error":"#N/A"},null,null,null,null,null,null,null,null,null,null,null,null,null,null,null,null,null,null,null,null,null,null,null,null,{"$f":"IF(AK1754=$AK$44,AL1754,\"\")","v":0},null,null,null,null,{"$error":"#N/A"}]
[null,null,null,null,null,null,null,null,null,null,null,null,{"$error":"#N/A"},{"$error":"#N/A"},null,null,null,null,null,null,null,null,null,null,null,null,null,null,null,null,null,null,null,null,null,null,null,null,0,null,null,null,null,{"$error":"#N/A"}]
[null,null,null,null,null,null,null,null,null,null,null,null,{"$error":"#N/A"},{"$error":"#N/A"},null,null,null,null,null,null,null,null,null,null,null,null,null,null,null,null,null,null,null,null,null,null,null,null,0,null,null,null,null,{"$error":"#N/A"}]
[null,null,null,null,null,null,null,null,null,null,null,null,{"$error":"#N/A"},{"$error":"#N/A"},null,null,null,null,null,null,null,null,null,null,null,null,null,null,null,null,null,null,null,null,null,null,null,null,0,null,null,null,null,{"$error":"#N/A"}]
[null,null,null,null,null,null,null,null,null,null,null,null,{"$error":"#N/A"},{"$error":"#N/A"},null,null,null,null,null,null,null,null,null,null,null,null,null,null,null,null,null,null,null,null,null,null,null,null,0,null,null,null,null,{"$error":"#N/A"}]
[null,null,null,null,null,null,null,null,null,null,null,null,{"$error":"#N/A"},{"$error":"#N/A"},null,null,null,null,null,null,null,null,null,null,null,null,null,null,null,null,null,null,null,null,null,null,null,null,0,null,null,null,null,{"$error":"#N/A"}]
[null,null,null,null,null,null,null,null,null,null,null,null,{"$error":"#N/A"},{"$error":"#N/A"},null,null,null,null,null,null,null,null,null,null,null,null,null,null,null,null,null,null,null,null,null,null,null,null,0,null,null,null,null,{"$error":"#N/A"}]
[null,null,null,null,null,null,null,null,null,null,null,null,{"$error":"#N/A"},{"$error":"#N/A"},null,null,null,null,null,null,null,null,null,null,null,null,null,null,null,null,null,null,null,null,null,null,null,null,0,null,null,null,null,{"$error":"#N/A"}]
[null,null,null,null,null,null,null,null,null,null,null,null,{"$error":"#N/A"},{"$error":"#N/A"},null,null,null,null,null,null,null,null,null,null,null,null,null,null,null,null,null,null,null,null,null,null,null,null,0,null,null,null,null,{"$error":"#N/A"}]
[null,null,null,null,null,null,null,null,null,null,null,null,{"$error":"#N/A"},{"$error":"#N/A"},null,null,null,null,null,null,null,null,null,null,null,null,null,null,null,null,null,null,null,null,null,null,null,null,0,null,null,null,null,{"$error":"#N/A"}]
[null,null,null,null,null,null,null,null,null,null,null,null,{"$error":"#N/A"},{"$error":"#N/A"},null,null,null,null,null,null,null,null,null,null,null,null,null,null,null,null,null,null,null,null,null,null,null,null,0,null,null,null,null,{"$error":"#N/A"}]
[null,null,null,null,null,null,null,null,null,null,null,null,{"$error":"#N/A"},{"$error":"#N/A"},null,null,null,null,null,null,null,null,null,null,null,null,null,null,null,null,null,null,null,null,null,null,null,null,0,null,null,null,null,{"$error":"#N/A"}]
[null,null,null,null,null,null,null,null,null,null,null,null,{"$error":"#N/A"},{"$error":"#N/A"},null,null,null,null,null,null,null,null,null,null,null,null,null,null,null,null,null,null,null,null,null,null,null,null,0,null,null,null,null,{"$error":"#N/A"}]
[null,null,null,null,null,null,null,null,null,null,null,null,{"$error":"#N/A"},{"$error":"#N/A"},null,null,null,null,null,null,null,null,null,null,null,null,null,null,null,null,null,null,null,null,null,null,null,null,0,null,null,null,null,{"$error":"#N/A"}]
[null,null,null,null,null,null,null,null,null,null,null,null,{"$error":"#N/A"},{"$error":"#N/A"},null,null,null,null,null,null,null,null,null,null,null,null,null,null,null,null,null,null,null,null,null,null,null,null,0,null,null,null,null,{"$error":"#N/A"}]
[null,null,null,null,null,null,null,null,null,null,null,null,{"$error":"#N/A"},{"$error":"#N/A"},null,null,null,null,null,null,null,null,null,null,null,null,null,null,null,null,null,null,null,null,null,null,null,null,0,null,null,null,null,{"$error":"#N/A"}]
[null,null,null,null,null,null,null,null,null,null,null,null,{"$error":"#N/A"},{"$error":"#N/A"},null,null,null,null,null,null,null,null,null,null,null,null,null,null,null,null,null,null,null,null,null,null,null,null,{"$f":"IF(AK1833=$AK$44,AL1833,\"\")","v":0},null,null,null,null,{"$error":"#N/A"}]
[null,null,null,null,null,null,null,null,null,null,null,null,{"$error":"#N/A"},{"$error":"#N/A"},null,null,null,null,null,null,null,null,null,null,null,null,null,null,null,null,null,null,null,null,null,null,null,null,0,null,null,null,null,{"$error":"#N/A"}]
[null,null,null,null,null,null,null,null,null,null,null,null,{"$error":"#N/A"},{"$error":"#N/A"},null,null,null,null,null,null,null,null,null,null,null,null,null,null,null,null,null,null,null,null,null,null,null,null,null,null,null,null,null,{"$error":"#N/A"}]
[null,null,null,null,null,null,null,null,null,null,null,null,{"$error":"#N/A"},{"$error":"#N/A"},null,null,null,null,null,null,null,null,null,null,null,null,null,null,null,null,null,null,null,null,null,null,null,null,null,null,null,null,null,{"$error":"#N/A"}]
[null,null,null,null,null,null,null,null,null,null,null,null,{"$error":"#N/A"},{"$error":"#N/A"},null,null,null,null,null,null,null,null,null,null,null,null,null,null,null,null,null,null,null,null,null,null,null,null,null,null,null,null,null,{"$error":"#N/A"}]
[null,null,null,null,null,null,null,null,null,null,null,null,{"$error":"#N/A"},{"$error":"#N/A"},null,null,null,null,null,null,null,null,null,null,null,null,null,null,null,null,null,null,null,null,null,null,null,null,null,null,null,null,null,{"$error":"#N/A"}]
[null,null,null,null,null,null,null,null,null,null,null,null,{"$error":"#N/A"},{"$error":"#N/A"},null,null,null,null,null,null,null,null,null,null,null,null,null,null,null,null,null,null,null,null,null,null,null,null,null,null,null,null,null,{"$error":"#N/A"}]
[null,null,null,null,null,null,null,null,null,null,null,null,{"$error":"#N/A"},{"$error":"#N/A"},null,null,null,null,null,null,null,null,null,null,null,null,null,null,null,null,null,null,null,null,null,null,null,null,null,null,null,null,null,{"$error":"#N/A"}]
[null,null,null,null,null,null,null,null,null,null,null,null,{"$error":"#N/A"},{"$error":"#N/A"},null,null,null,null,null,null,null,null,null,null,null,null,null,null,null,null,null,null,null,null,null,null,null,null,null,null,null,null,null,{"$error":"#N/A"}]
[null,null,null,null,null,null,null,null,null,null,null,null,{"$error":"#N/A"},{"$error":"#N/A"},null,null,null,null,null,null,null,null,null,null,null,null,null,null,null,null,null,null,null,null,null,null,null,null,null,null,null,null,null,{"$error":"#N/A"}]
[null,null,null,null,null,null,null,null,null,null,null,null,{"$error":"#N/A"},{"$error":"#N/A"},null,null,null,null,null,null,null,null,null,null,null,null,null,null,null,null,null,null,null,null,null,null,null,null,null,null,null,null,null,{"$error":"#N/A"}]
[null,null,null,null,null,null,null,null,null,null,null,null,{"$error":"#N/A"},{"$error":"#N/A"},null,null,null,null,null,null,null,null,null,null,null,null,null,null,null,null,null,null,null,null,null,null,null,null,null,null,null,null,null,{"$error":"#N/A"}]
[null,null,null,null,null,null,null,null,null,null,null,null,{"$error":"#N/A"},{"$error":"#N/A"},null,null,null,null,null,null,null,null,null,null,null,null,null,null,null,null,null,null,null,null,null,null,null,null,null,null,null,null,null,{"$error":"#N/A"}]
[null,null,null,null,null,null,null,null,null,null,null,null,{"$error":"#N/A"},{"$error":"#N/A"},null,null,null,null,null,null,null,null,null,null,null,null,null,null,null,null,null,null,null,null,null,null,null,null,null,null,null,null,null,{"$error":"#N/A"}]
[null,null,null,null,null,null,null,null,null,null,null,null,{"$error":"#N/A"},{"$error":"#N/A"},null,null,null,null,null,null,null,null,null,null,null,null,null,null,null,null,null,null,null,null,null,null,null,null,null,null,null,null,null,{"$error":"#N/A"}]
[null,null,null,null,null,null,null,null,null,null,null,null,{"$error":"#N/A"},{"$error":"#N/A"},null,null,null,null,null,null,null,null,null,null,null,null,null,null,null,null,null,null,null,null,null,null,null,null,null,null,null,null,null,{"$error":"#N/A"}]
[null,null,null,null,null,null,null,null,null,null,null,null,{"$error":"#N/A"},{"$error":"#N/A"},null,null,null,null,null,null,null,null,null,null,null,null,null,null,null,null,null,null,null,null,null,null,null,null,null,null,null,null,null,{"$error":"#N/A"}]
[null,null,null,null,null,null,null,null,null,null,null,null,{"$error":"#N/A"},{"$error":"#N/A"},null,null,null,null,null,null,null,null,null,null,null,null,null,null,null,null,null,null,null,null,null,null,null,null,null,null,null,null,null,{"$error":"#N/A"}]
[null,null,null,null,null,null,null,null,null,null,null,null,{"$error":"#N/A"},{"$error":"#N/A"},null,null,null,null,null,null,null,null,null,null,null,null,null,null,null,null,null,null,null,null,null,null,null,null,null,null,null,null,null,{"$error":"#N/A"}]
[null,null,null,null,null,null,null,null,null,null,null,null,{"$error":"#N/A"},{"$error":"#N/A"},null,null,null,null,null,null,null,null,null,null,null,null,null,null,null,null,null,null,null,null,null,null,null,null,null,null,null,null,null,{"$error":"#N/A"}]
[null,null,null,null,null,null,null,null,null,null,null,null,{"$error":"#N/A"},{"$error":"#N/A"},null,null,null,null,null,null,null,null,null,null,null,null,null,null,null,null,null,null,null,null,null,null,null,null,null,null,null,null,null,{"$error":"#N/A"}]
[null,null,null,null,null,null,null,null,null,null,null,null,{"$error":"#N/A"},{"$error":"#N/A"},null,null,null,null,null,null,null,null,null,null,null,null,null,null,null,null,null,null,null,null,null,null,null,null,null,null,null,null,null,{"$error":"#N/A"}]
[null,null,null,null,null,null,null,null,null,null,null,null,{"$error":"#N/A"},{"$error":"#N/A"},null,null,null,null,null,null,null,null,null,null,null,null,null,null,null,null,null,null,null,null,null,null,null,null,null,null,null,null,null,{"$error":"#N/A"}]
[null,null,null,null,null,null,null,null,null,null,null,null,{"$error":"#N/A"},{"$error":"#N/A"},null,null,null,null,null,null,null,null,null,null,null,null,null,null,null,null,null,null,null,null,null,null,null,null,null,null,null,null,null,{"$error":"#N/A"}]
[null,null,null,null,null,null,null,null,null,null,null,null,{"$error":"#N/A"},{"$error":"#N/A"},null,null,null,null,null,null,null,null,null,null,null,null,null,null,null,null,null,null,null,null,null,null,null,null,null,null,null,null,null,{"$error":"#N/A"}]
[null,null,null,null,null,null,null,null,null,null,null,null,{"$error":"#N/A"},{"$error":"#N/A"},null,null,null,null,null,null,null,null,null,null,null,null,null,null,null,null,null,null,null,null,null,null,null,null,null,null,null,null,null,{"$error":"#N/A"}]
[null,null,null,null,null,null,null,null,null,null,null,null,{"$error":"#N/A"},{"$error":"#N/A"},null,null,null,null,null,null,null,null,null,null,null,null,null,null,null,null,null,null,null,null,null,null,null,null,null,null,null,null,null,{"$error":"#N/A"}]
[null,null,null,null,null,null,null,null,null,null,null,null,{"$error":"#N/A"},{"$error":"#N/A"},null,null,null,null,null,null,null,null,null,null,null,null,null,null,null,null,null,null,null,null,null,null,null,null,null,null,null,null,null,{"$error":"#N/A"}]
[null,null,null,null,null,null,null,null,null,null,null,null,{"$error":"#N/A"},{"$error":"#N/A"},null,null,null,null,null,null,null,null,null,null,null,null,null,null,null,null,null,null,null,null,null,null,null,null,null,null,null,null,null,{"$error":"#N/A"}]
[null,null,null,null,null,null,null,null,null,null,null,null,{"$error":"#N/A"},{"$error":"#N/A"},null,null,null,null,null,null,null,null,null,null,null,null,null,null,null,null,null,null,null,null,null,null,null,null,null,null,null,null,null,{"$error":"#N/A"}]
[null,null,null,null,null,null,null,null,null,null,null,null,{"$error":"#N/A"},{"$error":"#N/A"},null,null,null,null,null,null,null,null,null,null,null,null,null,null,null,null,null,null,null,null,null,null,null,null,null,null,null,null,null,{"$error":"#N/A"}]
[null,null,null,null,null,null,null,null,null,null,null,null,{"$error":"#N/A"},{"$error":"#N/A"},null,null,null,null,null,null,null,null,null,null,null,null,null,null,null,null,null,null,null,null,null,null,null,null,null,null,null,null,null,{"$error":"#N/A"}]
[null,null,null,null,null,null,null,null,null,null,null,null,{"$error":"#N/A"},{"$error":"#N/A"},null,null,null,null,null,null,null,null,null,null,null,null,null,null,null,null,null,null,null,null,null,null,null,null,null,null,null,null,null,{"$error":"#N/A"}]
[null,null,null,null,null,null,null,null,null,null,null,null,{"$error":"#N/A"},{"$error":"#N/A"},null,null,null,null,null,null,null,null,null,null,null,null,null,null,null,null,null,null,null,null,null,null,null,null,null,null,null,null,null,{"$error":"#N/A"}]
[null,null,null,null,null,null,null,null,null,null,null,null,{"$error":"#N/A"},{"$error":"#N/A"},null,null,null,null,null,null,null,null,null,null,null,null,null,null,null,null,null,null,null,null,null,null,null,null,null,null,null,null,null,{"$error":"#N/A"}]
[null,null,null,null,null,null,null,null,null,null,null,null,{"$error":"#N/A"},{"$error":"#N/A"},null,null,null,null,null,null,null,null,null,null,null,null,null,null,null,null,null,null,null,null,null,null,null,null,null,null,null,null,null,{"$error":"#N/A"}]
[null,null,null,null,null,null,null,null,null,null,null,null,{"$error":"#N/A"},{"$error":"#N/A"},null,null,null,null,null,null,null,null,null,null,null,null,null,null,null,null,null,null,null,null,null,null,null,null,null,null,null,null,null,{"$error":"#N/A"}]
[null,null,null,null,null,null,null,null,null,null,null,null,{"$error":"#N/A"},{"$error":"#N/A"},null,null,null,null,null,null,null,null,null,null,null,null,null,null,null,null,null,null,null,null,null,null,null,null,null,null,null,null,null,{"$error":"#N/A"}]
[null,null,null,null,null,null,null,null,null,null,null,null,{"$error":"#N/A"},{"$error":"#N/A"},null,null,null,null,null,null,null,null,null,null,null,null,null,null,null,null,null,null,null,null,null,null,null,null,null,null,null,null,null,{"$error":"#N/A"}]
[null,null,null,null,null,null,null,null,null,null,null,null,{"$error":"#N/A"},{"$error":"#N/A"},null,null,null,null,null,null,null,null,null,null,null,null,null,null,null,null,null,null,null,null,null,null,null,null,null,null,null,null,null,{"$error":"#N/A"}]
[null,null,null,null,null,null,null,null,null,null,null,null,{"$error":"#N/A"},{"$error":"#N/A"},null,null,null,null,null,null,null,null,null,null,null,null,null,null,null,null,null,null,null,null,null,null,null,null,null,null,null,null,null,{"$error":"#N/A"}]
[null,null,null,null,null,null,null,null,null,null,null,null,{"$error":"#N/A"},{"$error":"#N/A"},null,null,null,null,null,null,null,null,null,null,null,null,null,null,null,null,null,null,null,null,null,null,null,null,null,null,null,null,null,{"$error":"#N/A"}]
[null,null,null,null,null,null,null,null,null,null,null,null,{"$error":"#N/A"},{"$error":"#N/A"},null,null,null,null,null,null,null,null,null,null,null,null,null,null,null,null,null,null,null,null,null,null,null,null,null,null,null,null,null,{"$error":"#N/A"}]
[null,null,null,null,null,null,null,null,null,null,null,null,{"$error":"#N/A"},{"$error":"#N/A"},null,null,null,null,null,null,null,null,null,null,null,null,null,null,null,null,null,null,null,null,null,null,null,null,null,null,null,null,null,{"$error":"#N/A"}]
[null,null,null,null,null,null,null,null,null,null,null,null,{"$error":"#N/A"},{"$error":"#N/A"},null,null,null,null,null,null,null,null,null,null,null,null,null,null,null,null,null,null,null,null,null,null,null,null,null,null,null,null,null,{"$error":"#N/A"}]
[null,null,null,null,null,null,null,null,null,null,null,null,{"$error":"#N/A"},{"$error":"#N/A"},null,null,null,null,null,null,null,null,null,null,null,null,null,null,null,null,null,null,null,null,null,null,null,null,null,null,null,null,null,{"$error":"#N/A"}]
[null,null,null,null,null,null,null,null,null,null,null,null,{"$error":"#N/A"},{"$error":"#N/A"},null,null,null,null,null,null,null,null,null,null,null,null,null,null,null,null,null,null,null,null,null,null,null,null,null,null,null,null,null,{"$error":"#N/A"}]
[null,null,null,null,null,null,null,null,null,null,null,null,{"$error":"#N/A"},{"$error":"#N/A"},null,null,null,null,null,null,null,null,null,null,null,null,null,null,null,null,null,null,null,null,null,null,null,null,null,null,null,null,null,{"$error":"#N/A"}]
[null,null,null,null,null,null,null,null,null,null,null,null,{"$error":"#N/A"},{"$error":"#N/A"},null,null,null,null,null,null,null,null,null,null,null,null,null,null,null,null,null,null,null,null,null,null,null,null,null,null,null,null,null,{"$error":"#N/A"}]
[null,null,null,null,null,null,null,null,null,null,null,null,{"$error":"#N/A"},{"$error":"#N/A"},null,null,null,null,null,null,null,null,null,null,null,null,null,null,null,null,null,null,null,null,null,null,null,null,null,null,null,null,null,{"$error":"#N/A"}]
[null,null,null,null,null,null,null,null,null,null,null,null,{"$error":"#N/A"},{"$error":"#N/A"},null,null,null,null,null,null,null,null,null,null,null,null,null,null,null,null,null,null,null,null,null,null,null,null,null,null,null,null,null,{"$error":"#N/A"}]
[null,null,null,null,null,null,null,null,null,null,null,null,{"$error":"#N/A"},{"$error":"#N/A"},null,null,null,null,null,null,null,null,null,null,null,null,null,null,null,null,null,null,null,null,null,null,null,null,null,null,null,null,null,{"$error":"#N/A"}]
[null,null,null,null,null,null,null,null,null,null,null,null,{"$error":"#N/A"},{"$error":"#N/A"},null,null,null,null,null,null,null,null,null,null,null,null,null,null,null,null,null,null,null,null,null,null,null,null,null,null,null,null,null,{"$error":"#N/A"}]
[null,null,null,null,null,null,null,null,null,null,null,null,{"$error":"#N/A"},{"$error":"#N/A"},null,null,null,null,null,null,null,null,null,null,null,null,null,null,null,null,null,null,null,null,null,null,null,null,null,null,null,null,null,{"$error":"#N/A"}]
[null,null,null,null,null,null,null,null,null,null,null,null,{"$error":"#N/A"},{"$error":"#N/A"},null,null,null,null,null,null,null,null,null,null,null,null,null,null,null,null,null,null,null,null,null,null,null,null,null,null,null,null,null,{"$error":"#N/A"}]
[null,null,null,null,null,null,null,null,null,null,null,null,{"$f":"IF(AND($F$17=H2097,$AK$44=F2097),J2097,\"\")","v":{"$error":"#N/A"}},{"$f":"IF(AND($F$17=H2097,$AK$44=F2097),L2097,\"\")","v":{"$error":"#N/A"}},null,null,null,null,null,null,null,null,null,null,null,null,null,null,null,null,null,null,null,null,null,null,null,null,null,null,null,null,null,{"$error":"#N/A"}]
[null,null,null,null,null,null,null,null,null,null,null,null,{"$error":"#N/A"},{"$error":"#N/A"},null,null,null,null,null,null,null,null,null,null,null,null,null,null,null,null,null,null,null,null,null,null,null,null,null,null,null,null,null,{"$error":"#N/A"}]
[null,null,null,null,null,null,null,null,null,null,null,null,{"$error":"#N/A"},{"$error":"#N/A"},null,null,null,null,null,null,null,null,null,null,null,null,null,null,null,null,null,null,null,null,null,null,null,null,null,null,null,null,null,{"$error":"#N/A"}]
[null,null,null,null,null,null,null,null,null,null,null,null,{"$error":"#N/A"},{"$error":"#N/A"},null,null,null,null,null,null,null,null,null,null,null,null,null,null,null,null,null,null,null,null,null,null,null,null,null,null,null,null,null,{"$error":"#N/A"}]
[null,null,null,null,null,null,null,null,null,null,null,null,{"$error":"#N/A"},{"$error":"#N/A"},null,null,null,null,null,null,null,null,null,null,null,null,null,null,null,null,null,null,null,null,null,null,null,null,null,null,null,null,null,{"$error":"#N/A"}]
[null,null,null,null,null,null,null,null,null,null,null,null,{"$error":"#N/A"},{"$error":"#N/A"},null,null,null,null,null,null,null,null,null,null,null,null,null,null,null,null,null,null,null,null,null,null,null,null,null,null,null,null,null,{"$error":"#N/A"}]
[null,null,null,null,null,null,null,null,null,null,null,null,{"$error":"#N/A"},{"$error":"#N/A"},null,null,null,null,null,null,null,null,null,null,null,null,null,null,null,null,null,null,null,null,null,null,null,null,null,null,null,null,null,{"$error":"#N/A"}]
[null,null,null,null,null,null,null,null,null,null,null,null,{"$error":"#N/A"},{"$error":"#N/A"},null,null,null,null,null,null,null,null,null,null,null,null,null,null,null,null,null,null,null,null,null,null,null,null,null,null,null,null,null,{"$error":"#N/A"}]
[null,null,null,null,null,null,null,null,null,null,null,null,{"$error":"#N/A"},{"$error":"#N/A"},null,null,null,null,null,null,null,null,null,null,null,null,null,null,null,null,null,null,null,null,null,null,null,null,null,null,null,null,null,{"$error":"#N/A"}]
[null,null,null,null,null,null,null,null,null,null,null,null,{"$error":"#N/A"},{"$error":"#N/A"},null,null,null,null,null,null,null,null,null,null,null,null,null,null,null,null,null,null,null,null,null,null,null,null,null,null,null,null,null,{"$error":"#N/A"}]
[null,null,null,null,null,null,null,null,null,null,null,null,{"$error":"#N/A"},{"$error":"#N/A"},null,null,null,null,null,null,null,null,null,null,null,null,null,null,null,null,null,null,null,null,null,null,null,null,null,null,null,null,null,{"$error":"#N/A"}]
[null,null,null,null,null,null,null,null,null,null,null,null,{"$error":"#N/A"},{"$error":"#N/A"},null,null,null,null,null,null,null,null,null,null,null,null,null,null,null,null,null,null,null,null,null,null,null,null,null,null,null,null,null,{"$error":"#N/A"}]
[null,null,null,null,null,null,null,null,null,null,null,null,{"$error":"#N/A"},{"$error":"#N/A"},null,null,null,null,null,null,null,null,null,null,null,null,null,null,null,null,null,null,null,null,null,null,null,null,null,null,null,null,null,{"$error":"#N/A"}]
[null,null,null,null,null,null,null,null,null,null,null,null,{"$error":"#N/A"},{"$error":"#N/A"},null,null,null,null,null,null,null,null,null,null,null,null,null,null,null,null,null,null,null,null,null,null,null,null,null,null,null,null,null,{"$error":"#N/A"}]
[null,null,null,null,null,null,null,null,null,null,null,null,{"$error":"#N/A"},{"$error":"#N/A"},null,null,null,null,null,null,null,null,null,null,null,null,null,null,null,null,null,null,null,null,null,null,null,null,null,null,null,null,null,{"$error":"#N/A"}]
[null,null,null,null,null,null,null,null,null,null,null,null,{"$error":"#N/A"},{"$error":"#N/A"},null,null,null,null,null,null,null,null,null,null,null,null,null,null,null,null,null,null,null,null,null,null,null,null,null,null,null,null,null,{"$error":"#N/A"}]
[null,null,null,null,null,null,null,null,null,null,null,null,{"$error":"#N/A"},{"$error":"#N/A"},null,null,null,null,null,null,null,null,null,null,null,null,null,null,null,null,null,null,null,null,null,null,null,null,null,null,null,null,null,{"$error":"#N/A"}]
[null,null,null,null,null,null,null,null,null,null,null,null,{"$error":"#N/A"},{"$error":"#N/A"},null,null,null,null,null,null,null,null,null,null,null,null,null,null,null,null,null,null,null,null,null,null,null,null,null,null,null,null,null,{"$error":"#N/A"}]
[null,null,null,null,null,null,null,null,null,null,null,null,{"$error":"#N/A"},{"$error":"#N/A"},null,null,null,null,null,null,null,null,null,null,null,null,null,null,null,null,null,null,null,null,null,null,null,null,null,null,null,null,null,{"$error":"#N/A"}]
[null,null,null,null,null,null,null,null,null,null,null,null,{"$error":"#N/A"},{"$error":"#N/A"},null,null,null,null,null,null,null,null,null,null,null,null,null,null,null,null,null,null,null,null,null,null,null,null,null,null,null,null,null,{"$error":"#N/A"}]
[null,null,null,null,null,null,null,null,null,null,null,null,{"$error":"#N/A"},{"$error":"#N/A"},null,null,null,null,null,null,null,null,null,null,null,null,null,null,null,null,null,null,null,null,null,null,null,null,null,null,null,null,null,{"$error":"#N/A"}]
[null,null,null,null,null,null,null,null,null,null,null,null,{"$error":"#N/A"},{"$error":"#N/A"},null,null,null,null,null,null,null,null,null,null,null,null,null,null,null,null,null,null,null,null,null,null,null,null,null,null,null,null,null,{"$error":"#N/A"}]
[null,null,null,null,null,null,null,null,null,null,null,null,{"$error":"#N/A"},{"$error":"#N/A"},null,null,null,null,null,null,null,null,null,null,null,null,null,null,null,null,null,null,null,null,null,null,null,null,null,null,null,null,null,{"$error":"#N/A"}]
[null,null,null,null,null,null,null,null,null,null,null,null,{"$error":"#N/A"},{"$error":"#N/A"},null,null,null,null,null,null,null,null,null,null,null,null,null,null,null,null,null,null,null,null,null,null,null,null,null,null,null,null,null,{"$error":"#N/A"}]
[null,null,null,null,null,null,null,null,null,null,null,null,{"$error":"#N/A"},{"$error":"#N/A"},null,null,null,null,null,null,null,null,null,null,null,null,null,null,null,null,null,null,null,null,null,null,null,null,null,null,null,null,null,{"$error":"#N/A"}]
[null,null,null,null,null,null,null,null,null,null,null,null,{"$error":"#N/A"},{"$error":"#N/A"},null,null,null,null,null,null,null,null,null,null,null,null,null,null,null,null,null,null,null,null,null,null,null,null,null,null,null,null,null,{"$error":"#N/A"}]
[null,null,null,null,null,null,null,null,null,null,null,null,{"$error":"#N/A"},{"$error":"#N/A"},null,null,null,null,null,null,null,null,null,null,null,null,null,null,null,null,null,null,null,null,null,null,null,null,null,null,null,null,null,{"$error":"#N/A"}]
[null,null,null,null,null,null,null,null,null,null,null,null,{"$error":"#N/A"},{"$error":"#N/A"},null,null,null,null,null,null,null,null,null,null,null,null,null,null,null,null,null,null,null,null,null,null,null,null,null,null,null,null,null,{"$error":"#N/A"}]
[null,null,null,null,null,null,null,null,null,null,null,null,{"$error":"#N/A"},{"$error":"#N/A"},null,null,null,null,null,null,null,null,null,null,null,null,null,null,null,null,null,null,null,null,null,null,null,null,null,null,null,null,null,{"$error":"#N/A"}]
[null,null,null,null,null,null,null,null,null,null,null,null,{"$error":"#N/A"},{"$error":"#N/A"},null,null,null,null,null,null,null,null,null,null,null,null,null,null,null,null,null,null,null,null,null,null,null,null,null,null,null,null,null,{"$error":"#N/A"}]
[null,null,null,null,null,null,null,null,null,null,null,null,{"$error":"#N/A"},{"$error":"#N/A"},null,null,null,null,null,null,null,null,null,null,null,null,null,null,null,null,null,null,null,null,null,null,null,null,null,null,null,null,null,{"$error":"#N/A"}]
[null,null,null,null,null,null,null,null,null,null,null,null,{"$error":"#N/A"},{"$error":"#N/A"},null,null,null,null,null,null,null,null,null,null,null,null,null,null,null,null,null,null,null,null,null,null,null,null,null,null,null,null,null,{"$error":"#N/A"}]
[null,null,null,null,null,null,null,null,null,null,null,null,{"$error":"#N/A"},{"$error":"#N/A"},null,null,null,null,null,null,null,null,null,null,null,null,null,null,null,null,null,null,null,null,null,null,null,null,null,null,null,null,null,{"$error":"#N/A"}]
[null,null,null,null,null,null,null,null,null,null,null,null,{"$error":"#N/A"},{"$error":"#N/A"},null,null,null,null,null,null,null,null,null,null,null,null,null,null,null,null,null,null,null,null,null,null,null,null,null,null,null,null,null,{"$error":"#N/A"}]
[null,null,null,null,null,null,null,null,null,null,null,null,{"$error":"#N/A"},{"$error":"#N/A"},null,null,null,null,null,null,null,null,null,null,null,null,null,null,null,null,null,null,null,null,null,null,null,null,null,null,null,null,null,{"$error":"#N/A"}]
[null,null,null,null,null,null,null,null,null,null,null,null,{"$error":"#N/A"},{"$error":"#N/A"},null,null,null,null,null,null,null,null,null,null,null,null,null,null,null,null,null,null,null,null,null,null,null,null,null,null,null,null,null,{"$error":"#N/A"}]
[null,null,null,null,null,null,null,null,null,null,null,null,{"$error":"#N/A"},{"$error":"#N/A"},null,null,null,null,null,null,null,null,null,null,null,null,null,null,null,null,null,null,null,null,null,null,null,null,null,null,null,null,null,{"$error":"#N/A"}]
[null,null,null,null,null,null,null,null,null,null,null,null,{"$error":"#N/A"},{"$error":"#N/A"},null,null,null,null,null,null,null,null,null,null,null,null,null,null,null,null,null,null,null,null,null,null,null,null,null,null,null,null,null,{"$error":"#N/A"}]
[null,null,null,null,null,null,null,null,null,null,null,null,{"$error":"#N/A"},{"$error":"#N/A"},null,null,null,null,null,null,null,null,null,null,null,null,null,null,null,null,null,null,null,null,null,null,null,null,null,null,null,null,null,{"$error":"#N/A"}]
[null,null,null,null,null,null,null,null,null,null,null,null,{"$error":"#N/A"},{"$error":"#N/A"},null,null,null,null,null,null,null,null,null,null,null,null,null,null,null,null,null,null,null,null,null,null,null,null,null,null,null,null,null,{"$error":"#N/A"}]
[null,null,null,null,null,null,null,null,null,null,null,null,{"$f":"IF(AND($F$17=H2289,$AK$44=F2289),J2289,\"\")","v":{"$error":"#N/A"}},{"$f":"IF(AND($F$17=H2289,$AK$44=F2289),L2289,\"\")","v":{"$error":"#N/A"}},null,null,null,null,null,null,null,null,null,null,null,null,null,null,null,null,null,null,null,null,null,null,null,null,null,null,null,null,null,{"$error":"#N/A"}]
[null,null,null,null,null,null,null,null,null,null,null,null,{"$error":"#N/A"},{"$error":"#N/A"},null,null,null,null,null,null,null,null,null,null,null,null,null,null,null,null,null,null,null,null,null,null,null,null,null,null,null,null,null,{"$error":"#N/A"}]
[null,null,null,null,null,null,null,null,null,null,null,null,{"$error":"#N/A"},{"$error":"#N/A"},null,null,null,null,null,null,null,null,null,null,null,null,null,null,null,null,null,null,null,null,null,null,null,null,null,null,null,null,null,{"$error":"#N/A"}]
[null,null,null,null,null,null,null,null,null,null,null,null,{"$error":"#N/A"},{"$error":"#N/A"},null,null,null,null,null,null,null,null,null,null,null,null,null,null,null,null,null,null,null,null,null,null,null,null,null,null,null,null,null,{"$error":"#N/A"}]
[null,null,null,null,null,null,null,null,null,null,null,null,{"$error":"#N/A"},{"$error":"#N/A"},null,null,null,null,null,null,null,null,null,null,null,null,null,null,null,null,null,null,null,null,null,null,null,null,null,null,null,null,null,{"$error":"#N/A"}]
[null,null,null,null,null,null,null,null,null,null,null,null,{"$error":"#N/A"},{"$error":"#N/A"},null,null,null,null,null,null,null,null,null,null,null,null,null,null,null,null,null,null,null,null,null,null,null,null,null,null,null,null,null,{"$error":"#N/A"}]
[null,null,null,null,null,null,null,null,null,null,null,null,{"$error":"#N/A"},{"$error":"#N/A"},null,null,null,null,null,null,null,null,null,null,null,null,null,null,null,null,null,null,null,null,null,null,null,null,null,null,null,null,null,{"$error":"#N/A"}]
[null,null,null,null,null,null,null,null,null,null,null,null,{"$error":"#N/A"},{"$error":"#N/A"},null,null,null,null,null,null,null,null,null,null,null,null,null,null,null,null,null,null,null,null,null,null,null,null,null,null,null,null,null,{"$error":"#N/A"}]
[null,null,null,null,null,null,null,null,null,null,null,null,{"$error":"#N/A"},{"$error":"#N/A"},null,null,null,null,null,null,null,null,null,null,null,null,null,null,null,null,null,null,null,null,null,null,null,null,null,null,null,null,null,{"$error":"#N/A"}]
[null,null,null,null,null,null,null,null,null,null,null,null,{"$error":"#N/A"},{"$error":"#N/A"},null,null,null,null,null,null,null,null,null,null,null,null,null,null,null,null,null,null,null,null,null,null,null,null,null,null,null,null,null,{"$error":"#N/A"}]
[null,null,null,null,null,null,null,null,null,null,null,null,{"$error":"#N/A"},{"$error":"#N/A"},null,null,null,null,null,null,null,null,null,null,null,null,null,null,null,null,null,null,null,null,null,null,null,null,null,null,null,null,null,{"$error":"#N/A"}]
[null,null,null,null,null,null,null,null,null,null,null,null,{"$error":"#N/A"},{"$error":"#N/A"},null,null,null,null,null,null,null,null,null,null,null,null,null,null,null,null,null,null,null,null,null,null,null,null,null,null,null,null,null,{"$error":"#N/A"}]
[null,null,null,null,null,null,null,null,null,null,null,null,{"$error":"#N/A"},{"$error":"#N/A"},null,null,null,null,null,null,null,null,null,null,null,null,null,null,null,null,null,null,null,null,null,null,null,null,null,null,null,null,null,{"$error":"#N/A"}]
[null,null,null,null,null,null,null,null,null,null,null,null,{"$error":"#N/A"},{"$error":"#N/A"},null,null,null,null,null,null,null,null,null,null,null,null,null,null,null,null,null,null,null,null,null,null,null,null,null,null,null,null,null,{"$error":"#N/A"}]
[null,null,null,null,null,null,null,null,null,null,null,null,{"$error":"#N/A"},{"$error":"#N/A"},null,null,null,null,null,null,null,null,null,null,null,null,null,null,null,null,null,null,null,null,null,null,null,null,null,null,null,null,null,{"$error":"#N/A"}]
[null,null,null,null,null,null,null,null,null,null,null,null,{"$error":"#N/A"},{"$error":"#N/A"},null,null,null,null,null,null,null,null,null,null,null,null,null,null,null,null,null,null,null,null,null,null,null,null,null,null,null,null,null,{"$error":"#N/A"}]
[null,null,null,null,null,null,null,null,null,null,null,null,{"$error":"#N/A"},{"$error":"#N/A"},null,null,null,null,null,null,null,null,null,null,null,null,null,null,null,null,null,null,null,null,null,null,null,null,null,null,null,null,null,{"$error":"#N/A"}]
[null,null,null,null,null,null,null,null,null,null,null,null,{"$error":"#N/A"},{"$error":"#N/A"},null,null,null,null,null,null,null,null,null,null,null,null,null,null,null,null,null,null,null,null,null,null,null,null,null,null,null,null,null,{"$error":"#N/A"}]
[null,null,null,null,null,null,null,null,null,null,null,null,{"$error":"#N/A"},{"$error":"#N/A"},null,null,null,null,null,null,null,null,null,null,null,null,null,null,null,null,null,null,null,null,null,null,null,null,null,null,null,null,null,{"$error":"#N/A"}]
[null,null,null,null,null,null,null,null,null,null,null,null,{"$error":"#N/A"},{"$error":"#N/A"},null,null,null,null,null,null,null,null,null,null,null,null,null,null,null,null,null,null,null,null,null,null,null,null,null,null,null,null,null,{"$error":"#N/A"}]
[null,null,null,null,null,null,null,null,null,null,null,null,{"$error":"#N/A"},{"$error":"#N/A"},null,null,null,null,null,null,null,null,null,null,null,null,null,null,null,null,null,null,null,null,null,null,null,null,null,null,null,null,null,{"$error":"#N/A"}]
[null,null,null,null,null,null,null,null,null,null,null,null,{"$error":"#N/A"},{"$error":"#N/A"},null,null,null,null,null,null,null,null,null,null,null,null,null,null,null,null,null,null,null,null,null,null,null,null,null,null,null,null,null,{"$error":"#N/A"}]
[null,null,null,null,null,null,null,null,null,null,null,null,{"$error":"#N/A"},{"$error":"#N/A"},null,null,null,null,null,null,null,null,null,null,null,null,null,null,null,null,null,null,null,null,null,null,null,null,null,null,null,null,null,{"$error":"#N/A"}]
[null,null,null,null,null,null,null,null,null,null,null,null,{"$error":"#N/A"},{"$error":"#N/A"},null,null,null,null,null,null,null,null,null,null,null,null,null,null,null,null,null,null,null,null,null,null,null,null,null,null,null,null,null,{"$error":"#N/A"}]
[null,null,null,null,null,null,null,null,null,null,null,null,{"$error":"#N/A"},{"$error":"#N/A"},null,null,null,null,null,null,null,null,null,null,null,null,null,null,null,null,null,null,null,null,null,null,null,null,null,null,null,null,null,{"$error":"#N/A"}]
[null,null,null,null,null,null,null,null,null,null,null,null,{"$error":"#N/A"},{"$error":"#N/A"},null,null,null,null,null,null,null,null,null,null,null,null,null,null,null,null,null,null,null,null,null,null,null,null,null,null,null,null,null,{"$error":"#N/A"}]
[null,null,null,null,null,null,null,null,null,null,null,null,{"$error":"#N/A"},{"$error":"#N/A"},null,null,null,null,null,null,null,null,null,null,null,null,null,null,null,null,null,null,null,null,null,null,null,null,null,null,null,null,null,{"$error":"#N/A"}]
[null,null,null,null,null,null,null,null,null,null,null,null,{"$error":"#N/A"},{"$error":"#N/A"},null,null,null,null,null,null,null,null,null,null,null,null,null,null,null,null,null,null,null,null,null,null,null,null,null,null,null,null,null,{"$error":"#N/A"}]
[null,null,null,null,null,null,null,null,null,null,null,null,{"$error":"#N/A"},{"$error":"#N/A"},null,null,null,null,null,null,null,null,null,null,null,null,null,null,null,null,null,null,null,null,null,null,null,null,null,null,null,null,null,{"$error":"#N/A"}]
[null,null,null,null,null,null,null,null,null,null,null,null,{"$error":"#N/A"},{"$error":"#N/A"},null,null,null,null,null,null,null,null,null,null,null,null,null,null,null,null,null,null,null,null,null,null,null,null,null,null,null,null,null,{"$error":"#N/A"}]
[null,null,null,null,null,null,null,null,null,null,null,null,{"$error":"#N/A"},{"$error":"#N/A"},null,null,null,null,null,null,null,null,null,null,null,null,null,null,null,null,null,null,null,null,null,null,null,null,null,null,null,null,null,{"$error":"#N/A"}]
[null,null,null,null,null,null,null,null,null,null,null,null,{"$error":"#N/A"},{"$error":"#N/A"},null,null,null,null,null,null,null,null,null,null,null,null,null,null,null,null,null,null,null,null,null,null,null,null,null,null,null,null,null,{"$error":"#N/A"}]
[null,null,null,null,null,null,null,null,null,null,null,null,{"$error":"#N/A"},{"$error":"#N/A"},null,null,null,null,null,null,null,null,null,null,null,null,null,null,null,null,null,null,null,null,null,null,null,null,null,null,null,null,null,{"$error":"#N/A"}]
[null,null,null,null,null,null,null,null,null,null,null,null,{"$error":"#N/A"},{"$error":"#N/A"},null,null,null,null,null,null,null,null,null,null,null,null,null,null,null,null,null,null,null,null,null,null,null,null,null,null,null,null,null,{"$error":"#N/A"}]
[null,null,null,null,null,null,null,null,null,null,null,null,{"$error":"#N/A"},{"$error":"#N/A"},null,null,null,null,null,null,null,null,null,null,null,null,null,null,null,null,null,null,null,null,null,null,null,null,null,null,null,null,null,{"$error":"#N/A"}]
[null,null,null,null,null,null,null,null,null,null,null,null,{"$error":"#N/A"},{"$error":"#N/A"},null,null,null,null,null,null,null,null,null,null,null,null,null,null,null,null,null,null,null,null,null,null,null,null,null,null,null,null,null,{"$error":"#N/A"}]
[null,null,null,null,null,null,null,null,null,null,null,null,{"$error":"#N/A"},{"$error":"#N/A"},null,null,null,null,null,null,null,null,null,null,null,null,null,null,null,null,null,null,null,null,null,null,null,null,null,null,null,null,null,{"$error":"#N/A"}]
[null,null,null,null,null,null,null,null,null,null,null,null,{"$error":"#N/A"},{"$error":"#N/A"},null,null,null,null,null,null,null,null,null,null,null,null,null,null,null,null,null,null,null,null,null,null,null,null,null,null,null,null,null,{"$error":"#N/A"}]
[null,null,null,null,null,null,null,null,null,null,null,null,{"$error":"#N/A"},{"$error":"#N/A"},null,null,null,null,null,null,null,null,null,null,null,null,null,null,null,null,null,null,null,null,null,null,null,null,null,null,null,null,null,{"$error":"#N/A"}]
[null,null,null,null,null,null,null,null,null,null,null,null,{"$error":"#N/A"},{"$error":"#N/A"},null,null,null,null,null,null,null,null,null,null,null,null,null,null,null,null,null,null,null,null,null,null,null,null,null,null,null,null,null,{"$error":"#N/A"}]
[null,null,null,null,null,null,null,null,null,null,null,null,{"$f":"IF(AND($F$17=H2481,$AK$44=F2481),J2481,\"\")","v":{"$error":"#N/A"}},{"$f":"IF(AND($F$17=H2481,$AK$44=F2481),L2481,\"\")","v":{"$error":"#N/A"}},null,null,null,null,null,null,null,null,null,null,null,null,null,null,null,null,null,null,null,null,null,null,null,null,null,null,null,null,null,{"$error":"#N/A"}]
[null,null,null,null,null,null,null,null,null,null,null,null,{"$error":"#N/A"},{"$error":"#N/A"},null,null,null,null,null,null,null,null,null,null,null,null,null,null,null,null,null,null,null,null,null,null,null,null,null,null,null,null,null,{"$error":"#N/A"}]
[null,null,null,null,null,null,null,null,null,null,null,null,{"$error":"#N/A"},{"$error":"#N/A"},null,null,null,null,null,null,null,null,null,null,null,null,null,null,null,null,null,null,null,null,null,null,null,null,null,null,null,null,null,{"$error":"#N/A"}]
[null,null,null,null,null,null,null,null,null,null,null,null,{"$error":"#N/A"},{"$error":"#N/A"},null,null,null,null,null,null,null,null,null,null,null,null,null,null,null,null,null,null,null,null,null,null,null,null,null,null,null,null,null,{"$error":"#N/A"}]
[null,null,null,null,null,null,null,null,null,null,null,null,{"$error":"#N/A"},{"$error":"#N/A"},null,null,null,null,null,null,null,null,null,null,null,null,null,null,null,null,null,null,null,null,null,null,null,null,null,null,null,null,null,{"$error":"#N/A"}]
[null,null,null,null,null,null,null,null,null,null,null,null,{"$error":"#N/A"},{"$error":"#N/A"},null,null,null,null,null,null,null,null,null,null,null,null,null,null,null,null,null,null,null,null,null,null,null,null,null,null,null,null,null,{"$error":"#N/A"}]
[null,null,null,null,null,null,null,null,null,null,null,null,{"$error":"#N/A"},{"$error":"#N/A"},null,null,null,null,null,null,null,null,null,null,null,null,null,null,null,null,null,null,null,null,null,null,null,null,null,null,null,null,null,{"$error":"#N/A"}]
[null,null,null,null,null,null,null,null,null,null,null,null,{"$error":"#N/A"},{"$error":"#N/A"},null,null,null,null,null,null,null,null,null,null,null,null,null,null,null,null,null,null,null,null,null,null,null,null,null,null,null,null,null,{"$error":"#N/A"}]
[null,null,null,null,null,null,null,null,null,null,null,null,{"$error":"#N/A"},{"$error":"#N/A"},null,null,null,null,null,null,null,null,null,null,null,null,null,null,null,null,null,null,null,null,null,null,null,null,null,null,null,null,null,{"$error":"#N/A"}]
[null,null,null,null,null,null,null,null,null,null,null,null,{"$error":"#N/A"},{"$error":"#N/A"},null,null,null,null,null,null,null,null,null,null,null,null,null,null,null,null,null,null,null,null,null,null,null,null,null,null,null,null,null,{"$error":"#N/A"}]
[null,null,null,null,null,null,null,null,null,null,null,null,{"$error":"#N/A"},{"$error":"#N/A"},null,null,null,null,null,null,null,null,null,null,null,null,null,null,null,null,null,null,null,null,null,null,null,null,null,null,null,null,null,{"$error":"#N/A"}]
[null,null,null,null,null,null,null,null,null,null,null,null,{"$error":"#N/A"},{"$error":"#N/A"},null,null,null,null,null,null,null,null,null,null,null,null,null,null,null,null,null,null,null,null,null,null,null,null,null,null,null,null,null,{"$error":"#N/A"}]
[null,null,null,null,null,null,null,null,null,null,null,null,{"$error":"#N/A"},{"$error":"#N/A"},null,null,null,null,null,null,null,null,null,null,null,null,null,null,null,null,null,null,null,null,null,null,null,null,null,null,null,null,null,{"$error":"#N/A"}]
[null,null,null,null,null,null,null,null,null,null,null,null,{"$error":"#N/A"},{"$error":"#N/A"},null,null,null,null,null,null,null,null,null,null,null,null,null,null,null,null,null,null,null,null,null,null,null,null,null,null,null,null,null,{"$error":"#N/A"}]
[null,null,null,null,null,null,null,null,null,null,null,null,{"$error":"#N/A"},{"$error":"#N/A"},null,null,null,null,null,null,null,null,null,null,null,null,null,null,null,null,null,null,null,null,null,null,null,null,null,null,null,null,null,{"$error":"#N/A"}]
[null,null,null,null,null,null,null,null,null,null,null,null,{"$error":"#N/A"},{"$error":"#N/A"},null,null,null,null,null,null,null,null,null,null,null,null,null,null,null,null,null,null,null,null,null,null,null,null,null,null,null,null,null,{"$error":"#N/A"}]
[null,null,null,null,null,null,null,null,null,null,null,null,{"$error":"#N/A"},{"$error":"#N/A"},null,null,null,null,null,null,null,null,null,null,null,null,null,null,null,null,null,null,null,null,null,null,null,null,null,null,null,null,null,{"$error":"#N/A"}]
[null,null,null,null,null,null,null,null,null,null,null,null,{"$error":"#N/A"},{"$error":"#N/A"},null,null,null,null,null,null,null,null,null,null,null,null,null,null,null,null,null,null,null,null,null,null,null,null,null,null,null,null,null,{"$error":"#N/A"}]
[null,null,null,null,null,null,null,null,null,null,null,null,{"$error":"#N/A"},{"$error":"#N/A"},null,null,null,null,null,null,null,null,null,null,null,null,null,null,null,null,null,null,null,null,null,null,null,null,null,null,null,null,null,{"$error":"#N/A"}]
[null,null,null,null,null,null,null,null,null,null,null,null,{"$error":"#N/A"},{"$error":"#N/A"},null,null,null,null,null,null,null,null,null,null,null,null,null,null,null,null,null,null,null,null,null,null,null,null,null,null,null,null,null,{"$error":"#N/A"}]
[null,null,null,null,null,null,null,null,null,null,null,null,{"$error":"#N/A"},{"$error":"#N/A"},null,null,null,null,null,null,null,null,null,null,null,null,null,null,null,null,null,null,null,null,null,null,null,null,null,null,null,null,null,{"$error":"#N/A"}]
[null,null,null,null,null,null,null,null,null,null,null,null,{"$error":"#N/A"},{"$error":"#N/A"},null,null,null,null,null,null,null,null,null,null,null,null,null,null,null,null,null,null,null,null,null,null,null,null,null,null,null,null,null,{"$error":"#N/A"}]
[null,null,null,null,null,null,null,null,null,null,null,null,{"$error":"#N/A"},{"$error":"#N/A"},null,null,null,null,null,null,null,null,null,null,null,null,null,null,null,null,null,null,null,null,null,null,null,null,null,null,null,null,null,{"$error":"#N/A"}]
[null,null,null,null,null,null,null,null,null,null,null,null,{"$error":"#N/A"},{"$error":"#N/A"},null,null,null,null,null,null,null,null,null,null,null,null,null,null,null,null,null,null,null,null,null,null,null,null,null,null,null,null,null,{"$error":"#N/A"}]
[null,null,null,null,null,null,null,null,null,null,null,null,{"$error":"#N/A"},{"$error":"#N/A"},null,null,null,null,null,null,null,null,null,null,null,null,null,null,null,null,null,null,null,null,null,null,null,null,null,null,null,null,null,{"$error":"#N/A"}]
[null,null,null,null,null,null,null,null,null,null,null,null,{"$error":"#N/A"},{"$error":"#N/A"},null,null,null,null,null,null,null,null,null,null,null,null,null,null,null,null,null,null,null,null,null,null,null,null,null,null,null,null,null,{"$error":"#N/A"}]
[null,null,null,null,null,null,null,null,null,null,null,null,{"$error":"#N/A"},{"$error":"#N/A"},null,null,null,null,null,null,null,null,null,null,null,null,null,null,null,null,null,null,null,null,null,null,null,null,null,null,null,null,null,{"$error":"#N/A"}]
[null,null,null,null,null,null,null,null,null,null,null,null,{"$error":"#N/A"},{"$error":"#N/A"},null,null,null,null,null,null,null,null,null,null,null,null,null,null,null,null,null,null,null,null,null,null,null,null,null,null,null,null,null,{"$error":"#N/A"}]
[null,null,null,null,null,null,null,null,null,null,null,null,{"$error":"#N/A"},{"$error":"#N/A"},null,null,null,null,null,null,null,null,null,null,null,null,null,null,null,null,null,null,null,null,null,null,null,null,null,null,null,null,null,{"$error":"#N/A"}]
[null,null,null,null,null,null,null,null,null,null,null,null,{"$error":"#N/A"},{"$error":"#N/A"},null,null,null,null,null,null,null,null,null,null,null,null,null,null,null,null,null,null,null,null,null,null,null,null,null,null,null,null,null,{"$error":"#N/A"}]
[null,null,null,null,null,null,null,null,null,null,null,null,{"$error":"#N/A"},{"$error":"#N/A"},null,null,null,null,null,null,null,null,null,null,null,null,null,null,null,null,null,null,null,null,null,null,null,null,null,null,null,null,null,{"$error":"#N/A"}]
[null,null,null,null,null,null,null,null,null,null,null,null,{"$error":"#N/A"},{"$error":"#N/A"},null,null,null,null,null,null,null,null,null,null,null,null,null,null,null,null,null,null,null,null,null,null,null,null,null,null,null,null,null,{"$error":"#N/A"}]
[null,null,null,null,null,null,null,null,null,null,null,null,{"$error":"#N/A"},{"$error":"#N/A"},null,null,null,null,null,null,null,null,null,null,null,null,null,null,null,null,null,null,null,null,null,null,null,null,null,null,null,null,null,{"$error":"#N/A"}]
[null,null,null,null,null,null,null,null,null,null,null,null,{"$error":"#N/A"},{"$error":"#N/A"},null,null,null,null,null,null,null,null,null,null,null,null,null,null,null,null,null,null,null,null,null,null,null,null,null,null,null,null,null,{"$error":"#N/A"}]
[null,null,null,null,null,null,null,null,null,null,null,null,{"$error":"#N/A"},{"$error":"#N/A"},null,null,null,null,null,null,null,null,null,null,null,null,null,null,null,null,null,null,null,null,null,null,null,null,null,null,null,null,null,{"$error":"#N/A"}]
[null,null,null,null,null,null,null,null,null,null,null,null,{"$error":"#N/A"},{"$error":"#N/A"},null,null,null,null,null,null,null,null,null,null,null,null,null,null,null,null,null,null,null,null,null,null,null,null,null,null,null,null,null,{"$error":"#N/A"}]
[null,null,null,null,null,null,null,null,null,null,null,null,{"$error":"#N/A"},{"$error":"#N/A"},null,null,null,null,null,null,null,null,null,null,null,null,null,null,null,null,null,null,null,null,null,null,null,null,null,null,null,null,null,{"$error":"#N/A"}]
[null,null,null,null,null,null,null,null,null,null,null,null,{"$error":"#N/A"},{"$error":"#N/A"},null,null,null,null,null,null,null,null,null,null,null,null,null,null,null,null,null,null,null,null,null,null,null,null,null,null,null,null,null,{"$error":"#N/A"}]
[null,null,null,null,null,null,null,null,null,null,null,null,{"$error":"#N/A"},{"$error":"#N/A"},null,null,null,null,null,null,null,null,null,null,null,null,null,null,null,null,null,null,null,null,null,null,null,null,null,null,null,null,null,{"$error":"#N/A"}]
[null,null,null,null,null,null,null,null,null,null,null,null,{"$error":"#N/A"},{"$error":"#N/A"},null,null,null,null,null,null,null,null,null,null,null,null,null,null,null,null,null,null,null,null,null,null,null,null,null,null,null,null,null,{"$error":"#N/A"}]
[null,null,null,null,null,null,null,null,null,null,null,null,{"$f":"IF(AND($F$17=H2673,$AK$44=F2673),J2673,\"\")","v":{"$error":"#N/A"}},{"$f":"IF(AND($F$17=H2673,$AK$44=F2673),L2673,\"\")","v":{"$error":"#N/A"}},null,null,null,null,null,null,null,null,null,null,null,null,null,null,null,null,null,null,null,null,null,null,null,null,null,null,null,null,null,{"$error":"#N/A"}]
[null,null,null,null,null,null,null,null,null,null,null,null,{"$error":"#N/A"},{"$error":"#N/A"},null,null,null,null,null,null,null,null,null,null,null,null,null,null,null,null,null,null,null,null,null,null,null,null,null,null,null,null,null,{"$error":"#N/A"}]
[null,null,null,null,null,null,null,null,null,null,null,null,{"$error":"#N/A"},{"$error":"#N/A"},null,null,null,null,null,null,null,null,null,null,null,null,null,null,null,null,null,null,null,null,null,null,null,null,null,null,null,null,null,{"$error":"#N/A"}]
[null,null,null,null,null,null,null,null,null,null,null,null,{"$error":"#N/A"},{"$error":"#N/A"},null,null,null,null,null,null,null,null,null,null,null,null,null,null,null,null,null,null,null,null,null,null,null,null,null,null,null,null,null,{"$error":"#N/A"}]
[null,null,null,null,null,null,null,null,null,null,null,null,{"$error":"#N/A"},{"$error":"#N/A"},null,null,null,null,null,null,null,null,null,null,null,null,null,null,null,null,null,null,null,null,null,null,null,null,null,null,null,null,null,{"$error":"#N/A"}]
[null,null,null,null,null,null,null,null,null,null,null,null,{"$error":"#N/A"},{"$error":"#N/A"},null,null,null,null,null,null,null,null,null,null,null,null,null,null,null,null,null,null,null,null,null,null,null,null,null,null,null,null,null,{"$error":"#N/A"}]
[null,null,null,null,null,null,null,null,null,null,null,null,{"$error":"#N/A"},{"$error":"#N/A"},null,null,null,null,null,null,null,null,null,null,null,null,null,null,null,null,null,null,null,null,null,null,null,null,null,null,null,null,null,{"$error":"#N/A"}]
[null,null,null,null,null,null,null,null,null,null,null,null,{"$error":"#N/A"},{"$error":"#N/A"},null,null,null,null,null,null,null,null,null,null,null,null,null,null,null,null,null,null,null,null,null,null,null,null,null,null,null,null,null,{"$error":"#N/A"}]
[null,null,null,null,null,null,null,null,null,null,null,null,{"$error":"#N/A"},{"$error":"#N/A"},null,null,null,null,null,null,null,null,null,null,null,null,null,null,null,null,null,null,null,null,null,null,null,null,null,null,null,null,null,{"$error":"#N/A"}]
[null,null,null,null,null,null,null,null,null,null,null,null,{"$error":"#N/A"},{"$error":"#N/A"},null,null,null,null,null,null,null,null,null,null,null,null,null,null,null,null,null,null,null,null,null,null,null,null,null,null,null,null,null,{"$error":"#N/A"}]
[null,null,null,null,null,null,null,null,null,null,null,null,{"$error":"#N/A"},{"$error":"#N/A"},null,null,null,null,null,null,null,null,null,null,null,null,null,null,null,null,null,null,null,null,null,null,null,null,null,null,null,null,null,{"$error":"#N/A"}]
[null,null,null,null,null,null,null,null,null,null,null,null,{"$error":"#N/A"},{"$error":"#N/A"},null,null,null,null,null,null,null,null,null,null,null,null,null,null,null,null,null,null,null,null,null,null,null,null,null,null,null,null,null,{"$error":"#N/A"}]
[null,null,null,null,null,null,null,null,null,null,null,null,{"$error":"#N/A"},{"$error":"#N/A"},null,null,null,null,null,null,null,null,null,null,null,null,null,null,null,null,null,null,null,null,null,null,null,null,null,null,null,null,null,{"$error":"#N/A"}]
[null,null,null,null,null,null,null,null,null,null,null,null,{"$error":"#N/A"},{"$error":"#N/A"},null,null,null,null,null,null,null,null,null,null,null,null,null,null,null,null,null,null,null,null,null,null,null,null,null,null,null,null,null,{"$error":"#N/A"}]
[null,null,null,null,null,null,null,null,null,null,null,null,{"$error":"#N/A"},{"$error":"#N/A"},null,null,null,null,null,null,null,null,null,null,null,null,null,null,null,null,null,null,null,null,null,null,null,null,null,null,null,null,null,{"$error":"#N/A"}]
[null,null,null,null,null,null,null,null,null,null,null,null,{"$error":"#N/A"},{"$error":"#N/A"},null,null,null,null,null,null,null,null,null,null,null,null,null,null,null,null,null,null,null,null,null,null,null,null,null,null,null,null,null,{"$error":"#N/A"}]
[null,null,null,null,null,null,null,null,null,null,null,null,{"$error":"#N/A"},{"$error":"#N/A"},null,null,null,null,null,null,null,null,null,null,null,null,null,null,null,null,null,null,null,null,null,null,null,null,null,null,null,null,null,{"$error":"#N/A"}]
[null,null,null,null,null,null,null,null,null,null,null,null,{"$error":"#N/A"},{"$error":"#N/A"},null,null,null,null,null,null,null,null,null,null,null,null,null,null,null,null,null,null,null,null,null,null,null,null,null,null,null,null,null,{"$error":"#N/A"}]
[null,null,null,null,null,null,null,null,null,null,null,null,{"$error":"#N/A"},{"$error":"#N/A"},null,null,null,null,null,null,null,null,null,null,null,null,null,null,null,null,null,null,null,null,null,null,null,null,null,null,null,null,null,{"$error":"#N/A"}]
[null,null,null,null,null,null,null,null,null,null,null,null,{"$error":"#N/A"},{"$error":"#N/A"},null,null,null,null,null,null,null,null,null,null,null,null,null,null,null,null,null,null,null,null,null,null,null,null,null,null,null,null,null,{"$error":"#N/A"}]
[null,null,null,null,null,null,null,null,null,null,null,null,{"$error":"#N/A"},{"$error":"#N/A"},null,null,null,null,null,null,null,null,null,null,null,null,null,null,null,null,null,null,null,null,null,null,null,null,null,null,null,null,null,{"$error":"#N/A"}]
[null,null,null,null,null,null,null,null,null,null,null,null,{"$error":"#N/A"},{"$error":"#N/A"},null,null,null,null,null,null,null,null,null,null,null,null,null,null,null,null,null,null,null,null,null,null,null,null,null,null,null,null,null,{"$error":"#N/A"}]
[null,null,null,null,null,null,null,null,null,null,null,null,{"$error":"#N/A"},{"$error":"#N/A"},null,null,null,null,null,null,null,null,null,null,null,null,null,null,null,null,null,null,null,null,null,null,null,null,null,null,null,null,null,{"$error":"#N/A"}]
[null,null,null,null,null,null,null,null,null,null,null,null,{"$error":"#N/A"},{"$error":"#N/A"},null,null,null,null,null,null,null,null,null,null,null,null,null,null,null,null,null,null,null,null,null,null,null,null,null,null,null,null,null,{"$error":"#N/A"}]
[null,null,null,null,null,null,null,null,null,null,null,null,{"$error":"#N/A"},{"$error":"#N/A"},null,null,null,null,null,null,null,null,null,null,null,null,null,null,null,null,null,null,null,null,null,null,null,null,null,null,null,null,null,{"$error":"#N/A"}]
[null,null,null,null,null,null,null,null,null,null,null,null,{"$error":"#N/A"},{"$error":"#N/A"},null,null,null,null,null,null,null,null,null,null,null,null,null,null,null,null,null,null,null,null,null,null,null,null,null,null,null,null,null,{"$error":"#N/A"}]
[null,null,null,null,null,null,null,null,null,null,null,null,{"$error":"#N/A"},{"$error":"#N/A"},null,null,null,null,null,null,null,null,null,null,null,null,null,null,null,null,null,null,null,null,null,null,null,null,null,null,null,null,null,{"$error":"#N/A"}]
[null,null,null,null,null,null,null,null,null,null,null,null,{"$error":"#N/A"},{"$error":"#N/A"},null,null,null,null,null,null,null,null,null,null,null,null,null,null,null,null,null,null,null,null,null,null,null,null,null,null,null,null,null,{"$error":"#N/A"}]
[null,null,null,null,null,null,null,null,null,null,null,null,{"$error":"#N/A"},{"$error":"#N/A"},null,null,null,null,null,null,null,null,null,null,null,null,null,null,null,null,null,null,null,null,null,null,null,null,null,null,null,null,null,{"$error":"#N/A"}]
[null,null,null,null,null,null,null,null,null,null,null,null,{"$error":"#N/A"},{"$error":"#N/A"},null,null,null,null,null,null,null,null,null,null,null,null,null,null,null,null,null,null,null,null,null,null,null,null,null,null,null,null,null,{"$error":"#N/A"}]
[null,null,null,null,null,null,null,null,null,null,null,null,{"$error":"#N/A"},{"$error":"#N/A"},null,null,null,null,null,null,null,null,null,null,null,null,null,null,null,null,null,null,null,null,null,null,null,null,null,null,null,null,null,{"$error":"#N/A"}]
[null,null,null,null,null,null,null,null,null,null,null,null,{"$error":"#N/A"},{"$error":"#N/A"},null,null,null,null,null,null,null,null,null,null,null,null,null,null,null,null,null,null,null,null,null,null,null,null,null,null,null,null,null,{"$error":"#N/A"}]
[null,null,null,null,null,null,null,null,null,null,null,null,{"$error":"#N/A"},{"$error":"#N/A"},null,null,null,null,null,null,null,null,null,null,null,null,null,null,null,null,null,null,null,null,null,null,null,null,null,null,null,null,null,{"$error":"#N/A"}]
[null,null,null,null,null,null,null,null,null,null,null,null,{"$error":"#N/A"},{"$error":"#N/A"},null,null,null,null,null,null,null,null,null,null,null,null,null,null,null,null,null,null,null,null,null,null,null,null,null,null,null,null,null,{"$error":"#N/A"}]
[null,null,null,null,null,null,null,null,null,null,null,null,{"$error":"#N/A"},{"$error":"#N/A"},null,null,null,null,null,null,null,null,null,null,null,null,null,null,null,null,null,null,null,null,null,null,null,null,null,null,null,null,null,{"$error":"#N/A"}]
[null,null,null,null,null,null,null,null,null,null,null,null,{"$error":"#N/A"},{"$error":"#N/A"},null,null,null,null,null,null,null,null,null,null,null,null,null,null,null,null,null,null,null,null,null,null,null,null,null,null,null,null,null,{"$error":"#N/A"}]
[null,null,null,null,null,null,null,null,null,null,null,null,{"$error":"#N/A"},{"$error":"#N/A"},null,null,null,null,null,null,null,null,null,null,null,null,null,null,null,null,null,null,null,null,null,null,null,null,null,null,null,null,null,{"$error":"#N/A"}]
[null,null,null,null,null,null,null,null,null,null,null,null,{"$error":"#N/A"},{"$error":"#N/A"},null,null,null,null,null,null,null,null,null,null,null,null,null,null,null,null,null,null,null,null,null,null,null,null,null,null,null,null,null,{"$error":"#N/A"}]
[null,null,null,null,null,null,null,null,null,null,null,null,{"$error":"#N/A"},{"$error":"#N/A"},null,null,null,null,null,null,null,null,null,null,null,null,null,null,null,null,null,null,null,null,null,null,null,null,null,null,null,null,null,{"$error":"#N/A"}]
[null,null,null,null,null,null,null,null,null,null,null,null,{"$error":"#N/A"},{"$error":"#N/A"},null,null,null,null,null,null,null,null,null,null,null,null,null,null,null,null,null,null,null,null,null,null,null,null,null,null,null,null,null,{"$error":"#N/A"}]
[null,null,null,null,null,null,null,null,null,null,null,null,{"$error":"#N/A"},{"$error":"#N/A"},null,null,null,null,null,null,null,null,null,null,null,null,null,null,null,null,null,null,null,null,null,null,null,null,null,null,null,null,null,{"$error":"#N/A"}]
[null,null,null,null,null,null,null,null,null,null,null,null,{"$error":"#N/A"},{"$error":"#N/A"},null,null,null,null,null,null,null,null,null,null,null,null,null,null,null,null,null,null,null,null,null,null,null,null,null,null,null,null,null,{"$error":"#N/A"}]
[null,null,null,null,null,null,null,null,null,null,null,null,{"$error":"#N/A"},{"$error":"#N/A"},null,null,null,null,null,null,null,null,null,null,null,null,null,null,null,null,null,null,null,null,null,null,null,null,null,null,null,null,null,{"$error":"#N/A"}]
[null,null,null,null,null,null,null,null,null,null,null,null,{"$error":"#N/A"},{"$error":"#N/A"},null,null,null,null,null,null,null,null,null,null,null,null,null,null,null,null,null,null,null,null,null,null,null,null,null,null,null,null,null,{"$error":"#N/A"}]
[null,null,null,null,null,null,null,null,null,null,null,null,{"$error":"#N/A"},{"$error":"#N/A"},null,null,null,null,null,null,null,null,null,null,null,null,null,null,null,null,null,null,null,null,null,null,null,null,null,null,null,null,null,{"$error":"#N/A"}]
[null,null,null,null,null,null,null,null,null,null,null,null,{"$error":"#N/A"},{"$error":"#N/A"},null,null,null,null,null,null,null,null,null,null,null,null,null,null,null,null,null,null,null,null,null,null,null,null,null,null,null,null,null,{"$error":"#N/A"}]
[null,null,null,null,null,null,null,null,null,null,null,null,{"$error":"#N/A"},{"$error":"#N/A"},null,null,null,null,null,null,null,null,null,null,null,null,null,null,null,null,null,null,null,null,null,null,null,null,null,null,null,null,null,{"$error":"#N/A"}]
[null,null,null,null,null,null,null,null,null,null,null,null,{"$error":"#N/A"},{"$error":"#N/A"},null,null,null,null,null,null,null,null,null,null,null,null,null,null,null,null,null,null,null,null,null,null,null,null,null,null,null,null,null,{"$error":"#N/A"}]
[null,null,null,null,null,null,null,null,null,null,null,null,{"$error":"#N/A"},{"$error":"#N/A"},null,null,null,null,null,null,null,null,null,null,null,null,null,null,null,null,null,null,null,null,null,null,null,null,null,null,null,null,null,{"$error":"#N/A"}]
[null,null,null,null,null,null,null,null,null,null,null,null,{"$error":"#N/A"},{"$error":"#N/A"},null,null,null,null,null,null,null,null,null,null,null,null,null,null,null,null,null,null,null,null,null,null,null,null,null,null,null,null,null,{"$error":"#N/A"}]
[null,null,null,null,null,null,null,null,null,null,null,null,{"$error":"#N/A"},{"$error":"#N/A"},null,null,null,null,null,null,null,null,null,null,null,null,null,null,null,null,null,null,null,null,null,null,null,null,null,null,null,null,null,{"$error":"#N/A"}]
[null,null,null,null,null,null,null,null,null,null,null,null,{"$error":"#N/A"},{"$error":"#N/A"},null,null,null,null,null,null,null,null,null,null,null,null,null,null,null,null,null,null,null,null,null,null,null,null,null,null,null,null,null,{"$error":"#N/A"}]
[null,null,null,null,null,null,null,null,null,null,null,null,{"$error":"#N/A"},{"$error":"#N/A"},null,null,null,null,null,null,null,null,null,null,null,null,null,null,null,null,null,null,null,null,null,null,null,null,null,null,null,null,null,{"$error":"#N/A"}]
[null,null,null,null,null,null,null,null,null,null,null,null,{"$error":"#N/A"},{"$error":"#N/A"},null,null,null,null,null,null,null,null,null,null,null,null,null,null,null,null,null,null,null,null,null,null,null,null,null,null,null,null,null,{"$error":"#N/A"}]
[null,null,null,null,null,null,null,null,null,null,null,null,{"$error":"#N/A"},{"$error":"#N/A"},null,null,null,null,null,null,null,null,null,null,null,null,null,null,null,null,null,null,null,null,null,null,null,null,null,null,null,null,null,{"$error":"#N/A"}]
[null,null,null,null,null,null,null,null,null,null,null,null,{"$error":"#N/A"},{"$error":"#N/A"},null,null,null,null,null,null,null,null,null,null,null,null,null,null,null,null,null,null,null,null,null,null,null,null,null,null,null,null,null,{"$error":"#N/A"}]
[null,null,null,null,null,null,null,null,null,null,null,null,{"$error":"#N/A"},{"$error":"#N/A"},null,null,null,null,null,null,null,null,null,null,null,null,null,null,null,null,null,null,null,null,null,null,null,null,null,null,null,null,null,{"$error":"#N/A"}]
[null,null,null,null,null,null,null,null,null,null,null,null,{"$error":"#N/A"},{"$error":"#N/A"},null,null,null,null,null,null,null,null,null,null,null,null,null,null,null,null,null,null,null,null,null,null,null,null,null,null,null,null,null,{"$error":"#N/A"}]
[null,null,null,null,null,null,null,null,null,null,null,null,{"$error":"#N/A"},{"$error":"#N/A"},null,null,null,null,null,null,null,null,null,null,null,null,null,null,null,null,null,null,null,null,null,null,null,null,null,null,null,null,null,{"$error":"#N/A"}]
[null,null,null,null,null,null,null,null,null,null,null,null,{"$error":"#N/A"},{"$error":"#N/A"},null,null,null,null,null,null,null,null,null,null,null,null,null,null,null,null,null,null,null,null,null,null,null,null,null,null,null,null,null,{"$error":"#N/A"}]
[null,null,null,null,null,null,null,null,null,null,null,null,{"$error":"#N/A"},{"$error":"#N/A"},null,null,null,null,null,null,null,null,null,null,null,null,null,null,null,null,null,null,null,null,null,null,null,null,null,null,null,null,null,{"$error":"#N/A"}]
[null,null,null,null,null,null,null,null,null,null,null,null,{"$error":"#N/A"},{"$error":"#N/A"},null,null,null,null,null,null,null,null,null,null,null,null,null,null,null,null,null,null,null,null,null,null,null,null,null,null,null,null,null,{"$error":"#N/A"}]
[null,null,null,null,null,null,null,null,null,null,null,null,{"$error":"#N/A"},{"$error":"#N/A"},null,null,null,null,null,null,null,null,null,null,null,null,null,null,null,null,null,null,null,null,null,null,null,null,null,null,null,null,null,{"$error":"#N/A"}]
[null,null,null,null,null,null,null,null,null,null,null,null,{"$error":"#N/A"},{"$error":"#N/A"},null,null,null,null,null,null,null,null,null,null,null,null,null,null,null,null,null,null,null,null,null,null,null,null,null,null,null,null,null,{"$error":"#N/A"}]
[null,null,null,null,null,null,null,null,null,null,null,null,{"$error":"#N/A"},{"$error":"#N/A"},null,null,null,null,null,null,null,null,null,null,null,null,null,null,null,null,null,null,null,null,null,null,null,null,null,null,null,null,null,{"$error":"#N/A"}]
[null,null,null,null,null,null,null,null,null,null,null,null,{"$error":"#N/A"},{"$error":"#N/A"},null,null,null,null,null,null,null,null,null,null,null,null,null,null,null,null,null,null,null,null,null,null,null,null,null,null,null,null,null,{"$error":"#N/A"}]
[null,null,null,null,null,null,null,null,null,null,null,null,{"$error":"#N/A"},{"$error":"#N/A"},null,null,null,null,null,null,null,null,null,null,null,null,null,null,null,null,null,null,null,null,null,null,null,null,null,null,null,null,null,{"$error":"#N/A"}]
[null,null,null,null,null,null,null,null,null,null,null,null,{"$error":"#N/A"},{"$error":"#N/A"},null,null,null,null,null,null,null,null,null,null,null,null,null,null,null,null,null,null,null,null,null,null,null,null,null,null,null,null,null,{"$error":"#N/A"}]
[null,null,null,null,null,null,null,null,null,null,null,null,{"$error":"#N/A"},{"$error":"#N/A"},null,null,null,null,null,null,null,null,null,null,null,null,null,null,null,null,null,null,null,null,null,null,null,null,null,null,null,null,null,{"$error":"#N/A"}]
[null,null,null,null,null,null,null,null,null,null,null,null,{"$error":"#N/A"},{"$error":"#N/A"},null,null,null,null,null,null,null,null,null,null,null,null,null,null,null,null,null,null,null,null,null,null,null,null,null,null,null,null,null,{"$error":"#N/A"}]
[null,null,null,null,null,null,null,null,null,null,null,null,{"$error":"#N/A"},{"$error":"#N/A"},null,null,null,null,null,null,null,null,null,null,null,null,null,null,null,null,null,null,null,null,null,null,null,null,null,null,null,null,null,{"$error":"#N/A"}]
[null,null,null,null,null,null,null,null,null,null,null,null,{"$error":"#N/A"},{"$error":"#N/A"},null,null,null,null,null,null,null,null,null,null,null,null,null,null,null,null,null,null,null,null,null,null,null,null,null,null,null,null,null,{"$error":"#N/A"}]
[null,null,null,null,null,null,null,null,null,null,null,null,{"$error":"#N/A"},{"$error":"#N/A"},null,null,null,null,null,null,null,null,null,null,null,null,null,null,null,null,null,null,null,null,null,null,null,null,null,null,null,null,null,{"$error":"#N/A"}]
[null,null,null,null,null,null,null,null,null,null,null,null,{"$error":"#N/A"},{"$error":"#N/A"},null,null,null,null,null,null,null,null,null,null,null,null,null,null,null,null,null,null,null,null,null,null,null,null,null,null,null,null,null,{"$error":"#N/A"}]
[null,null,null,null,null,null,null,null,null,null,null,null,{"$error":"#N/A"},{"$error":"#N/A"},null,null,null,null,null,null,null,null,null,null,null,null,null,null,null,null,null,null,null,null,null,null,null,null,null,null,null,null,null,{"$error":"#N/A"}]
[null,null,null,null,null,null,null,null,null,null,null,null,{"$error":"#N/A"},{"$error":"#N/A"},null,null,null,null,null,null,null,null,null,null,null,null,null,null,null,null,null,null,null,null,null,null,null,null,null,null,null,null,null,{"$error":"#N/A"}]
[null,null,null,null,null,null,null,null,null,null,null,null,{"$error":"#N/A"},{"$error":"#N/A"},null,null,null,null,null,null,null,null,null,null,null,null,null,null,null,null,null,null,null,null,null,null,null,null,null,null,null,null,null,{"$error":"#N/A"}]
[null,null,null,null,null,null,null,null,null,null,null,null,{"$error":"#N/A"},{"$error":"#N/A"},null,null,null,null,null,null,null,null,null,null,null,null,null,null,null,null,null,null,null,null,null,null,null,null,null,null,null,null,null,{"$error":"#N/A"}]
[null,null,null,null,null,null,null,null,null,null,null,null,{"$error":"#N/A"},{"$error":"#N/A"},null,null,null,null,null,null,null,null,null,null,null,null,null,null,null,null,null,null,null,null,null,null,null,null,null,null,null,null,null,{"$error":"#N/A"}]
[null,null,null,null,null,null,null,null,null,null,null,null,{"$error":"#N/A"},{"$error":"#N/A"},null,null,null,null,null,null,null,null,null,null,null,null,null,null,null,null,null,null,null,null,null,null,null,null,null,null,null,null,null,{"$error":"#N/A"}]
[null,null,null,null,null,null,null,null,null,null,null,null,{"$error":"#N/A"},{"$error":"#N/A"},null,null,null,null,null,null,null,null,null,null,null,null,null,null,null,null,null,null,null,null,null,null,null,null,null,null,null,null,null,{"$error":"#N/A"}]
[null,null,null,null,null,null,null,null,null,null,null,null,{"$error":"#N/A"},{"$error":"#N/A"},null,null,null,null,null,null,null,null,null,null,null,null,null,null,null,null,null,null,null,null,null,null,null,null,null,null,null,null,null,{"$error":"#N/A"}]
[null,null,null,null,null,null,null,null,null,null,null,null,{"$error":"#N/A"},{"$error":"#N/A"},null,null,null,null,null,null,null,null,null,null,null,null,null,null,null,null,null,null,null,null,null,null,null,null,null,null,null,null,null,{"$error":"#N/A"}]
[null,null,null,null,null,null,null,null,null,null,null,null,{"$error":"#N/A"},{"$error":"#N/A"},null,null,null,null,null,null,null,null,null,null,null,null,null,null,null,null,null,null,null,null,null,null,null,null,null,null,null,null,null,{"$error":"#N/A"}]
[null,null,null,null,null,null,null,null,null,null,null,null,{"$error":"#N/A"},{"$error":"#N/A"},null,null,null,null,null,null,null,null,null,null,null,null,null,null,null,null,null,null,null,null,null,null,null,null,null,null,null,null,null,{"$error":"#N/A"}]
[null,null,null,null,null,null,null,null,null,null,null,null,{"$error":"#N/A"},{"$error":"#N/A"},null,null,null,null,null,null,null,null,null,null,null,null,null,null,null,null,null,null,null,null,null,null,null,null,null,null,null,null,null,{"$error":"#N/A"}]
[null,null,null,null,null,null,null,null,null,null,null,null,{"$error":"#N/A"},{"$error":"#N/A"},null,null,null,null,null,null,null,null,null,null,null,null,null,null,null,null,null,null,null,null,null,null,null,null,null,null,null,null,null,{"$error":"#N/A"}]
[null,null,null,null,null,null,null,null,null,null,null,null,{"$error":"#N/A"},{"$error":"#N/A"},null,null,null,null,null,null,null,null,null,null,null,null,null,null,null,null,null,null,null,null,null,null,null,null,null,null,null,null,null,{"$error":"#N/A"}]
[null,null,null,null,null,null,null,null,null,null,null,null,{"$error":"#N/A"},{"$error":"#N/A"},null,null,null,null,null,null,null,null,null,null,null,null,null,null,null,null,null,null,null,null,null,null,null,null,null,null,null,null,null,{"$error":"#N/A"}]
[null,null,null,null,null,null,null,null,null,null,null,null,{"$error":"#N/A"},{"$error":"#N/A"},null,null,null,null,null,null,null,null,null,null,null,null,null,null,null,null,null,null,null,null,null,null,null,null,null,null,null,null,null,{"$error":"#N/A"}]
[null,null,null,null,null,null,null,null,null,null,null,null,{"$error":"#N/A"},{"$error":"#N/A"},null,null,null,null,null,null,null,null,null,null,null,null,null,null,null,null,null,null,null,null,null,null,null,null,null,null,null,null,null,{"$error":"#N/A"}]
[null,null,null,null,null,null,null,null,null,null,null,null,{"$error":"#N/A"},{"$error":"#N/A"},null,null,null,null,null,null,null,null,null,null,null,null,null,null,null,null,null,null,null,null,null,null,null,null,null,null,null,null,null,{"$error":"#N/A"}]
[null,null,null,null,null,null,null,null,null,null,null,null,{"$error":"#N/A"},{"$error":"#N/A"},null,null,null,null,null,null,null,null,null,null,null,null,null,null,null,null,null,null,null,null,null,null,null,null,null,null,null,null,null,{"$error":"#N/A"}]
[null,null,null,null,null,null,null,null,null,null,null,null,{"$error":"#N/A"},{"$error":"#N/A"},null,null,null,null,null,null,null,null,null,null,null,null,null,null,null,null,null,null,null,null,null,null,null,null,null,null,null,null,null,{"$error":"#N/A"}]
[null,null,null,null,null,null,null,null,null,null,null,null,{"$error":"#N/A"},{"$error":"#N/A"},null,null,null,null,null,null,null,null,null,null,null,null,null,null,null,null,null,null,null,null,null,null,null,null,null,null,null,null,null,{"$error":"#N/A"}]
[null,null,null,null,null,null,null,null,null,null,null,null,{"$error":"#N/A"},{"$error":"#N/A"},null,null,null,null,null,null,null,null,null,null,null,null,null,null,null,null,null,null,null,null,null,null,null,null,null,null,null,null,null,{"$error":"#N/A"}]
[null,null,null,null,null,null,null,null,null,null,null,null,{"$error":"#N/A"},{"$error":"#N/A"},null,null,null,null,null,null,null,null,null,null,null,null,null,null,null,null,null,null,null,null,null,null,null,null,null,null,null,null,null,{"$error":"#N/A"}]
[null,null,null,null,null,null,null,null,null,null,null,null,{"$error":"#N/A"},{"$error":"#N/A"},null,null,null,null,null,null,null,null,null,null,null,null,null,null,null,null,null,null,null,null,null,null,null,null,null,null,null,null,null,{"$error":"#N/A"}]
[null,null,null,null,null,null,null,null,null,null,null,null,{"$error":"#N/A"},{"$error":"#N/A"},null,null,null,null,null,null,null,null,null,null,null,null,null,null,null,null,null,null,null,null,null,null,null,null,null,null,null,null,null,{"$error":"#N/A"}]
[null,null,null,null,null,null,null,null,null,null,null,null,{"$error":"#N/A"},{"$error":"#N/A"},null,null,null,null,null,null,null,null,null,null,null,null,null,null,null,null,null,null,null,null,null,null,null,null,null,null,null,null,null,{"$error":"#N/A"}]
[null,null,null,null,null,null,null,null,null,null,null,null,{"$error":"#N/A"},{"$error":"#N/A"},null,null,null,null,null,null,null,null,null,null,null,null,null,null,null,null,null,null,null,null,null,null,null,null,null,null,null,null,null,{"$error":"#N/A"}]
[null,null,null,null,null,null,null,null,null,null,null,null,{"$error":"#N/A"},{"$error":"#N/A"},null,null,null,null,null,null,null,null,null,null,null,null,null,null,null,null,null,null,null,null,null,null,null,null,null,null,null,null,null,{"$error":"#N/A"}]
[null,null,null,null,null,null,null,null,null,null,null,null,{"$error":"#N/A"},{"$error":"#N/A"},null,null,null,null,null,null,null,null,null,null,null,null,null,null,null,null,null,null,null,null,null,null,null,null,null,null,null,null,null,{"$error":"#N/A"}]
[null,null,null,null,null,null,null,null,null,null,null,null,{"$error":"#N/A"},{"$error":"#N/A"},null,null,null,null,null,null,null,null,null,null,null,null,null,null,null,null,null,null,null,null,null,null,null,null,null,null,null,null,null,{"$error":"#N/A"}]
[null,null,null,null,null,null,null,null,null,null,null,null,{"$error":"#N/A"},{"$error":"#N/A"},null,null,null,null,null,null,null,null,null,null,null,null,null,null,null,null,null,null,null,null,null,null,null,null,null,null,null,null,null,{"$error":"#N/A"}]
[null,null,null,null,null,null,null,null,null,null,null,null,{"$error":"#N/A"},{"$error":"#N/A"},null,null,null,null,null,null,null,null,null,null,null,null,null,null,null,null,null,null,null,null,null,null,null,null,null,null,null,null,null,{"$error":"#N/A"}]
[null,null,null,null,null,null,null,null,null,null,null,null,{"$error":"#N/A"},{"$error":"#N/A"},null,null,null,null,null,null,null,null,null,null,null,null,null,null,null,null,null,null,null,null,null,null,null,null,null,null,null,null,null,{"$error":"#N/A"}]
[null,null,null,null,null,null,null,null,null,null,null,null,{"$error":"#N/A"},{"$error":"#N/A"},null,null,null,null,null,null,null,null,null,null,null,null,null,null,null,null,null,null,null,null,null,null,null,null,null,null,null,null,null,{"$error":"#N/A"}]
[null,null,null,null,null,null,null,null,null,null,null,null,{"$error":"#N/A"},{"$error":"#N/A"},null,null,null,null,null,null,null,null,null,null,null,null,null,null,null,null,null,null,null,null,null,null,null,null,null,null,null,null,null,{"$error":"#N/A"}]
[null,null,null,null,null,null,null,null,null,null,null,null,{"$error":"#N/A"},{"$error":"#N/A"},null,null,null,null,null,null,null,null,null,null,null,null,null,null,null,null,null,null,null,null,null,null,null,null,null,null,null,null,null,{"$error":"#N/A"}]
[null,null,null,null,null,null,null,null,null,null,null,null,{"$error":"#N/A"},{"$error":"#N/A"},null,null,null,null,null,null,null,null,null,null,null,null,null,null,null,null,null,null,null,null,null,null,null,null,null,null,null,null,null,{"$error":"#N/A"}]
[null,null,null,null,null,null,null,null,null,null,null,null,{"$error":"#N/A"},{"$error":"#N/A"},null,null,null,null,null,null,null,null,null,null,null,null,null,null,null,null,null,null,null,null,null,null,null,null,null,null,null,null,null,{"$error":"#N/A"}]
[null,null,null,null,null,null,null,null,null,null,null,null,{"$error":"#N/A"},{"$error":"#N/A"},null,null,null,null,null,null,null,null,null,null,null,null,null,null,null,null,null,null,null,null,null,null,null,null,null,null,null,null,null,{"$error":"#N/A"}]
[null,null,null,null,null,null,null,null,null,null,null,null,{"$error":"#N/A"},{"$error":"#N/A"},null,null,null,null,null,null,null,null,null,null,null,null,null,null,null,null,null,null,null,null,null,null,null,null,null,null,null,null,null,{"$error":"#N/A"}]
[null,null,null,null,null,null,null,null,null,null,null,null,{"$error":"#N/A"},{"$error":"#N/A"},null,null,null,null,null,null,null,null,null,null,null,null,null,null,null,null,null,null,null,null,null,null,null,null,null,null,null,null,null,{"$error":"#N/A"}]
[null,null,null,null,null,null,null,null,null,null,null,null,{"$error":"#N/A"},{"$error":"#N/A"},null,null,null,null,null,null,null,null,null,null,null,null,null,null,null,null,null,null,null,null,null,null,null,null,null,null,null,null,null,{"$error":"#N/A"}]
[null,null,null,null,null,null,null,null,null,null,null,null,{"$error":"#N/A"},{"$error":"#N/A"},null,null,null,null,null,null,null,null,null,null,null,null,null,null,null,null,null,null,null,null,null,null,null,null,null,null,null,null,null,{"$error":"#N/A"}]
[null,null,null,null,null,null,null,null,null,null,null,null,{"$error":"#N/A"},{"$error":"#N/A"},null,null,null,null,null,null,null,null,null,null,null,null,null,null,null,null,null,null,null,null,null,null,null,null,null,null,null,null,null,{"$error":"#N/A"}]
[null,null,null,null,null,null,null,null,null,null,null,null,{"$error":"#N/A"},{"$error":"#N/A"},null,null,null,null,null,null,null,null,null,null,null,null,null,null,null,null,null,null,null,null,null,null,null,null,null,null,null,null,null,{"$error":"#N/A"}]
[null,null,null,null,null,null,null,null,null,null,null,null,{"$error":"#N/A"},{"$error":"#N/A"},null,null,null,null,null,null,null,null,null,null,null,null,null,null,null,null,null,null,null,null,null,null,null,null,null,null,null,null,null,{"$error":"#N/A"}]
[null,null,null,null,null,null,null,null,null,null,null,null,{"$error":"#N/A"},{"$error":"#N/A"},null,null,null,null,null,null,null,null,null,null,null,null,null,null,null,null,null,null,null,null,null,null,null,null,null,null,null,null,null,{"$error":"#N/A"}]
[null,null,null,null,null,null,null,null,null,null,null,null,{"$error":"#N/A"},{"$error":"#N/A"},null,null,null,null,null,null,null,null,null,null,null,null,null,null,null,null,null,null,null,null,null,null,null,null,null,null,null,null,null,{"$error":"#N/A"}]
[null,null,null,null,null,null,null,null,null,null,null,null,{"$error":"#N/A"},{"$error":"#N/A"},null,null,null,null,null,null,null,null,null,null,null,null,null,null,null,null,null,null,null,null,null,null,null,null,null,null,null,null,null,{"$error":"#N/A"}]
[null,null,null,null,null,null,null,null,null,null,null,null,{"$error":"#N/A"},{"$error":"#N/A"},null,null,null,null,null,null,null,null,null,null,null,null,null,null,null,null,null,null,null,null,null,null,null,null,null,null,null,null,null,{"$error":"#N/A"}]
[null,null,null,null,null,null,null,null,null,null,null,null,{"$error":"#N/A"},{"$error":"#N/A"},null,null,null,null,null,null,null,null,null,null,null,null,null,null,null,null,null,null,null,null,null,null,null,null,null,null,null,null,null,{"$error":"#N/A"}]
[null,null,null,null,null,null,null,null,null,null,null,null,{"$error":"#N/A"},{"$error":"#N/A"},null,null,null,null,null,null,null,null,null,null,null,null,null,null,null,null,null,null,null,null,null,null,null,null,null,null,null,null,null,{"$error":"#N/A"}]
[null,null,null,null,null,null,null,null,null,null,null,null,{"$error":"#N/A"},{"$error":"#N/A"},null,null,null,null,null,null,null,null,null,null,null,null,null,null,null,null,null,null,null,null,null,null,null,null,null,null,null,null,null,{"$error":"#N/A"}]
[null,null,null,null,null,null,null,null,null,null,null,null,{"$error":"#N/A"},{"$error":"#N/A"},null,null,null,null,null,null,null,null,null,null,null,null,null,null,null,null,null,null,null,null,null,null,null,null,null,null,null,null,null,{"$error":"#N/A"}]
[null,null,null,null,null,null,null,null,null,null,null,null,{"$error":"#N/A"},{"$error":"#N/A"},null,null,null,null,null,null,null,null,null,null,null,null,null,null,null,null,null,null,null,null,null,null,null,null,null,null,null,null,null,{"$error":"#N/A"}]
[null,null,null,null,null,null,null,null,null,null,null,null,{"$error":"#N/A"},{"$error":"#N/A"},null,null,null,null,null,null,null,null,null,null,null,null,null,null,null,null,null,null,null,null,null,null,null,null,null,null,null,null,null,{"$error":"#N/A"}]
[null,null,null,null,null,null,null,null,null,null,null,null,{"$error":"#N/A"},{"$error":"#N/A"},null,null,null,null,null,null,null,null,null,null,null,null,null,null,null,null,null,null,null,null,null,null,null,null,null,null,null,null,null,{"$error":"#N/A"}]
[null,null,null,null,null,null,null,null,null,null,null,null,{"$error":"#N/A"},{"$error":"#N/A"},null,null,null,null,null,null,null,null,null,null,null,null,null,null,null,null,null,null,null,null,null,null,null,null,null,null,null,null,null,{"$error":"#N/A"}]
[null,null,null,null,null,null,null,null,null,null,null,null,{"$error":"#N/A"},{"$error":"#N/A"},null,null,null,null,null,null,null,null,null,null,null,null,null,null,null,null,null,null,null,null,null,null,null,null,null,null,null,null,null,{"$error":"#N/A"}]
[null,null,null,null,null,null,null,null,null,null,null,null,{"$error":"#N/A"},{"$error":"#N/A"},null,null,null,null,null,null,null,null,null,null,null,null,null,null,null,null,null,null,null,null,null,null,null,null,null,null,null,null,null,{"$error":"#N/A"}]
[null,null,null,null,null,null,null,null,null,null,null,null,{"$f":"IF(AND($F$17=H3313,$AK$44=F3313),J3313,\"\")","v":{"$error":"#N/A"}},{"$f":"IF(AND($F$17=H3313,$AK$44=F3313),L3313,\"\")","v":{"$error":"#N/A"}},null,null,null,null,null,null,null,null,null,null,null,null,null,null,null,null,null,null,null,null,null,null,null,null,null,null,null,null,null,{"$error":"#N/A"}]
[null,null,null,null,null,null,null,null,null,null,null,null,{"$error":"#N/A"},{"$error":"#N/A"},null,null,null,null,null,null,null,null,null,null,null,null,null,null,null,null,null,null,null,null,null,null,null,null,null,null,null,null,null,{"$error":"#N/A"}]
[null,null,null,null,null,null,null,null,null,null,null,null,{"$error":"#N/A"},{"$error":"#N/A"},null,null,null,null,null,null,null,null,null,null,null,null,null,null,null,null,null,null,null,null,null,null,null,null,null,null,null,null,null,{"$error":"#N/A"}]
[null,null,null,null,null,null,null,null,null,null,null,null,{"$error":"#N/A"},{"$error":"#N/A"},null,null,null,null,null,null,null,null,null,null,null,null,null,null,null,null,null,null,null,null,null,null,null,null,null,null,null,null,null,{"$error":"#N/A"}]
[null,null,null,null,null,null,null,null,null,null,null,null,{"$error":"#N/A"},{"$error":"#N/A"},null,null,null,null,null,null,null,null,null,null,null,null,null,null,null,null,null,null,null,null,null,null,null,null,null,null,null,null,null,{"$error":"#N/A"}]
[null,null,null,null,null,null,null,null,null,null,null,null,{"$error":"#N/A"},{"$error":"#N/A"},null,null,null,null,null,null,null,null,null,null,null,null,null,null,null,null,null,null,null,null,null,null,null,null,null,null,null,null,null,{"$error":"#N/A"}]
[null,null,null,null,null,null,null,null,null,null,null,null,{"$error":"#N/A"},{"$error":"#N/A"},null,null,null,null,null,null,null,null,null,null,null,null,null,null,null,null,null,null,null,null,null,null,null,null,null,null,null,null,null,{"$error":"#N/A"}]
[null,null,null,null,null,null,null,null,null,null,null,null,{"$error":"#N/A"},{"$error":"#N/A"},null,null,null,null,null,null,null,null,null,null,null,null,null,null,null,null,null,null,null,null,null,null,null,null,null,null,null,null,null,{"$error":"#N/A"}]
[null,null,null,null,null,null,null,null,null,null,null,null,{"$error":"#N/A"},{"$error":"#N/A"},null,null,null,null,null,null,null,null,null,null,null,null,null,null,null,null,null,null,null,null,null,null,null,null,null,null,null,null,null,{"$error":"#N/A"}]
[null,null,null,null,null,null,null,null,null,null,null,null,{"$error":"#N/A"},{"$error":"#N/A"},null,null,null,null,null,null,null,null,null,null,null,null,null,null,null,null,null,null,null,null,null,null,null,null,null,null,null,null,null,{"$error":"#N/A"}]
[null,null,null,null,null,null,null,null,null,null,null,null,{"$error":"#N/A"},{"$error":"#N/A"},null,null,null,null,null,null,null,null,null,null,null,null,null,null,null,null,null,null,null,null,null,null,null,null,null,null,null,null,null,{"$error":"#N/A"}]
[null,null,null,null,null,null,null,null,null,null,null,null,{"$error":"#N/A"},{"$error":"#N/A"},null,null,null,null,null,null,null,null,null,null,null,null,null,null,null,null,null,null,null,null,null,null,null,null,null,null,null,null,null,{"$error":"#N/A"}]
[null,null,null,null,null,null,null,null,null,null,null,null,{"$error":"#N/A"},{"$error":"#N/A"},null,null,null,null,null,null,null,null,null,null,null,null,null,null,null,null,null,null,null,null,null,null,null,null,null,null,null,null,null,{"$error":"#N/A"}]
[null,null,null,null,null,null,null,null,null,null,null,null,{"$error":"#N/A"},{"$error":"#N/A"},null,null,null,null,null,null,null,null,null,null,null,null,null,null,null,null,null,null,null,null,null,null,null,null,null,null,null,null,null,{"$error":"#N/A"}]
[null,null,null,null,null,null,null,null,null,null,null,null,{"$error":"#N/A"},{"$error":"#N/A"},null,null,null,null,null,null,null,null,null,null,null,null,null,null,null,null,null,null,null,null,null,null,null,null,null,null,null,null,null,{"$error":"#N/A"}]
[null,null,null,null,null,null,null,null,null,null,null,null,{"$error":"#N/A"},{"$error":"#N/A"},null,null,null,null,null,null,null,null,null,null,null,null,null,null,null,null,null,null,null,null,null,null,null,null,null,null,null,null,null,{"$error":"#N/A"}]
[null,null,null,null,null,null,null,null,null,null,null,null,{"$error":"#N/A"},{"$error":"#N/A"},null,null,null,null,null,null,null,null,null,null,null,null,null,null,null,null,null,null,null,null,null,null,null,null,null,null,null,null,null,{"$error":"#N/A"}]
[null,null,null,null,null,null,null,null,null,null,null,null,{"$error":"#N/A"},{"$error":"#N/A"},null,null,null,null,null,null,null,null,null,null,null,null,null,null,null,null,null,null,null,null,null,null,null,null,null,null,null,null,null,{"$error":"#N/A"}]
[null,null,null,null,null,null,null,null,null,null,null,null,{"$error":"#N/A"},{"$error":"#N/A"},null,null,null,null,null,null,null,null,null,null,null,null,null,null,null,null,null,null,null,null,null,null,null,null,null,null,null,null,null,{"$error":"#N/A"}]
[null,null,null,null,null,null,null,null,null,null,null,null,{"$error":"#N/A"},{"$error":"#N/A"},null,null,null,null,null,null,null,null,null,null,null,null,null,null,null,null,null,null,null,null,null,null,null,null,null,null,null,null,null,{"$error":"#N/A"}]
[null,null,null,null,null,null,null,null,null,null,null,null,{"$error":"#N/A"},{"$error":"#N/A"},null,null,null,null,null,null,null,null,null,null,null,null,null,null,null,null,null,null,null,null,null,null,null,null,null,null,null,null,null,{"$error":"#N/A"}]
[null,null,null,null,null,null,null,null,null,null,null,null,{"$error":"#N/A"},{"$error":"#N/A"},null,null,null,null,null,null,null,null,null,null,null,null,null,null,null,null,null,null,null,null,null,null,null,null,null,null,null,null,null,{"$error":"#N/A"}]
[null,null,null,null,null,null,null,null,null,null,null,null,{"$error":"#N/A"},{"$error":"#N/A"},null,null,null,null,null,null,null,null,null,null,null,null,null,null,null,null,null,null,null,null,null,null,null,null,null,null,null,null,null,{"$error":"#N/A"}]
[null,null,null,null,null,null,null,null,null,null,null,null,{"$error":"#N/A"},{"$error":"#N/A"},null,null,null,null,null,null,null,null,null,null,null,null,null,null,null,null,null,null,null,null,null,null,null,null,null,null,null,null,null,{"$error":"#N/A"}]
[null,null,null,null,null,null,null,null,null,null,null,null,{"$error":"#N/A"},{"$error":"#N/A"},null,null,null,null,null,null,null,null,null,null,null,null,null,null,null,null,null,null,null,null,null,null,null,null,null,null,null,null,null,{"$error":"#N/A"}]
[null,null,null,null,null,null,null,null,null,null,null,null,{"$error":"#N/A"},{"$error":"#N/A"},null,null,null,null,null,null,null,null,null,null,null,null,null,null,null,null,null,null,null,null,null,null,null,null,null,null,null,null,null,{"$error":"#N/A"}]
[null,null,null,null,null,null,null,null,null,null,null,null,{"$error":"#N/A"},{"$error":"#N/A"},null,null,null,null,null,null,null,null,null,null,null,null,null,null,null,null,null,null,null,null,null,null,null,null,null,null,null,null,null,{"$error":"#N/A"}]
[null,null,null,null,null,null,null,null,null,null,null,null,{"$error":"#N/A"},{"$error":"#N/A"},null,null,null,null,null,null,null,null,null,null,null,null,null,null,null,null,null,null,null,null,null,null,null,null,null,null,null,null,null,{"$error":"#N/A"}]
[null,null,null,null,null,null,null,null,null,null,null,null,{"$error":"#N/A"},{"$error":"#N/A"},null,null,null,null,null,null,null,null,null,null,null,null,null,null,null,null,null,null,null,null,null,null,null,null,null,null,null,null,null,{"$error":"#N/A"}]
[null,null,null,null,null,null,null,null,null,null,null,null,{"$error":"#N/A"},{"$error":"#N/A"},null,null,null,null,null,null,null,null,null,null,null,null,null,null,null,null,null,null,null,null,null,null,null,null,null,null,null,null,null,{"$error":"#N/A"}]
[null,null,null,null,null,null,null,null,null,null,null,null,{"$error":"#N/A"},{"$error":"#N/A"},null,null,null,null,null,null,null,null,null,null,null,null,null,null,null,null,null,null,null,null,null,null,null,null,null,null,null,null,null,{"$error":"#N/A"}]
[null,null,null,null,null,null,null,null,null,null,null,null,{"$error":"#N/A"},{"$error":"#N/A"},null,null,null,null,null,null,null,null,null,null,null,null,null,null,null,null,null,null,null,null,null,null,null,null,null,null,null,null,null,{"$error":"#N/A"}]
[null,null,null,null,null,null,null,null,null,null,null,null,{"$error":"#N/A"},{"$error":"#N/A"},null,null,null,null,null,null,null,null,null,null,null,null,null,null,null,null,null,null,null,null,null,null,null,null,null,null,null,null,null,{"$error":"#N/A"}]
[null,null,null,null,null,null,null,null,null,null,null,null,{"$error":"#N/A"},{"$error":"#N/A"},null,null,null,null,null,null,null,null,null,null,null,null,null,null,null,null,null,null,null,null,null,null,null,null,null,null,null,null,null,{"$error":"#N/A"}]
[null,null,null,null,null,null,null,null,null,null,null,null,{"$error":"#N/A"},{"$error":"#N/A"},null,null,null,null,null,null,null,null,null,null,null,null,null,null,null,null,null,null,null,null,null,null,null,null,null,null,null,null,null,{"$error":"#N/A"}]
[null,null,null,null,null,null,null,null,null,null,null,null,{"$error":"#N/A"},{"$error":"#N/A"},null,null,null,null,null,null,null,null,null,null,null,null,null,null,null,null,null,null,null,null,null,null,null,null,null,null,null,null,null,{"$error":"#N/A"}]
[null,null,null,null,null,null,null,null,null,null,null,null,{"$error":"#N/A"},{"$error":"#N/A"},null,null,null,null,null,null,null,null,null,null,null,null,null,null,null,null,null,null,null,null,null,null,null,null,null,null,null,null,null,{"$error":"#N/A"}]
[null,null,null,null,null,null,null,null,null,null,null,null,{"$error":"#N/A"},{"$error":"#N/A"},null,null,null,null,null,null,null,null,null,null,null,null,null,null,null,null,null,null,null,null,null,null,null,null,null,null,null,null,null,{"$error":"#N/A"}]
[null,null,null,null,null,null,null,null,null,null,null,null,{"$error":"#N/A"},{"$error":"#N/A"},null,null,null,null,null,null,null,null,null,null,null,null,null,null,null,null,null,null,null,null,null,null,null,null,null,null,null,null,null,{"$error":"#N/A"}]
[null,null,null,null,null,null,null,null,null,null,null,null,{"$error":"#N/A"},{"$error":"#N/A"},null,null,null,null,null,null,null,null,null,null,null,null,null,null,null,null,null,null,null,null,null,null,null,null,null,null,null,null,null,{"$error":"#N/A"}]
[null,null,null,null,null,null,null,null,null,null,null,null,{"$f":"IF(AND($F$17=H3505,$AK$44=F3505),J3505,\"\")","v":{"$error":"#N/A"}},{"$f":"IF(AND($F$17=H3505,$AK$44=F3505),L3505,\"\")","v":{"$error":"#N/A"}},null,null,null,null,null,null,null,null,null,null,null,null,null,null,null,null,null,null,null,null,null,null,null,null,null,null,null,null,null,{"$error":"#N/A"}]
[null,null,null,null,null,null,null,null,null,null,null,null,{"$error":"#N/A"},{"$error":"#N/A"},null,null,null,null,null,null,null,null,null,null,null,null,null,null,null,null,null,null,null,null,null,null,null,null,null,null,null,null,null,{"$error":"#N/A"}]
[null,null,null,null,null,null,null,null,null,null,null,null,{"$error":"#N/A"},{"$error":"#N/A"},null,null,null,null,null,null,null,null,null,null,null,null,null,null,null,null,null,null,null,null,null,null,null,null,null,null,null,null,null,{"$error":"#N/A"}]
[null,null,null,null,null,null,null,null,null,null,null,null,{"$error":"#N/A"},{"$error":"#N/A"},null,null,null,null,null,null,null,null,null,null,null,null,null,null,null,null,null,null,null,null,null,null,null,null,null,null,null,null,null,{"$error":"#N/A"}]
[null,null,null,null,null,null,null,null,null,null,null,null,{"$error":"#N/A"},{"$error":"#N/A"},null,null,null,null,null,null,null,null,null,null,null,null,null,null,null,null,null,null,null,null,null,null,null,null,null,null,null,null,null,{"$error":"#N/A"}]
[null,null,null,null,null,null,null,null,null,null,null,null,{"$error":"#N/A"},{"$error":"#N/A"},null,null,null,null,null,null,null,null,null,null,null,null,null,null,null,null,null,null,null,null,null,null,null,null,null,null,null,null,null,{"$error":"#N/A"}]
[null,null,null,null,null,null,null,null,null,null,null,null,{"$error":"#N/A"},{"$error":"#N/A"},null,null,null,null,null,null,null,null,null,null,null,null,null,null,null,null,null,null,null,null,null,null,null,null,null,null,null,null,null,{"$error":"#N/A"}]
[null,null,null,null,null,null,null,null,null,null,null,null,{"$error":"#N/A"},{"$error":"#N/A"},null,null,null,null,null,null,null,null,null,null,null,null,null,null,null,null,null,null,null,null,null,null,null,null,null,null,null,null,null,{"$error":"#N/A"}]
[null,null,null,null,null,null,null,null,null,null,null,null,{"$error":"#N/A"},{"$error":"#N/A"},null,null,null,null,null,null,null,null,null,null,null,null,null,null,null,null,null,null,null,null,null,null,null,null,null,null,null,null,null,{"$error":"#N/A"}]
[null,null,null,null,null,null,null,null,null,null,null,null,{"$error":"#N/A"},{"$error":"#N/A"},null,null,null,null,null,null,null,null,null,null,null,null,null,null,null,null,null,null,null,null,null,null,null,null,null,null,null,null,null,{"$error":"#N/A"}]
[null,null,null,null,null,null,null,null,null,null,null,null,{"$error":"#N/A"},{"$error":"#N/A"},null,null,null,null,null,null,null,null,null,null,null,null,null,null,null,null,null,null,null,null,null,null,null,null,null,null,null,null,null,{"$error":"#N/A"}]
[null,null,null,null,null,null,null,null,null,null,null,null,{"$error":"#N/A"},{"$error":"#N/A"},null,null,null,null,null,null,null,null,null,null,null,null,null,null,null,null,null,null,null,null,null,null,null,null,null,null,null,null,null,{"$error":"#N/A"}]
[null,null,null,null,null,null,null,null,null,null,null,null,{"$error":"#N/A"},{"$error":"#N/A"},null,null,null,null,null,null,null,null,null,null,null,null,null,null,null,null,null,null,null,null,null,null,null,null,null,null,null,null,null,{"$error":"#N/A"}]
[null,null,null,null,null,null,null,null,null,null,null,null,{"$error":"#N/A"},{"$error":"#N/A"},null,null,null,null,null,null,null,null,null,null,null,null,null,null,null,null,null,null,null,null,null,null,null,null,null,null,null,null,null,{"$error":"#N/A"}]
[null,null,null,null,null,null,null,null,null,null,null,null,{"$error":"#N/A"},{"$error":"#N/A"},null,null,null,null,null,null,null,null,null,null,null,null,null,null,null,null,null,null,null,null,null,null,null,null,null,null,null,null,null,{"$error":"#N/A"}]
[null,null,null,null,null,null,null,null,null,null,null,null,{"$error":"#N/A"},{"$error":"#N/A"},null,null,null,null,null,null,null,null,null,null,null,null,null,null,null,null,null,null,null,null,null,null,null,null,null,null,null,null,null,{"$error":"#N/A"}]
[null,null,null,null,null,null,null,null,null,null,null,null,{"$error":"#N/A"},{"$error":"#N/A"},null,null,null,null,null,null,null,null,null,null,null,null,null,null,null,null,null,null,null,null,null,null,null,null,null,null,null,null,null,{"$error":"#N/A"}]
[null,null,null,null,null,null,null,null,null,null,null,null,{"$error":"#N/A"},{"$error":"#N/A"},null,null,null,null,null,null,null,null,null,null,null,null,null,null,null,null,null,null,null,null,null,null,null,null,null,null,null,null,null,{"$error":"#N/A"}]
[null,null,null,null,null,null,null,null,null,null,null,null,{"$error":"#N/A"},{"$error":"#N/A"},null,null,null,null,null,null,null,null,null,null,null,null,null,null,null,null,null,null,null,null,null,null,null,null,null,null,null,null,null,{"$error":"#N/A"}]
[null,null,null,null,null,null,null,null,null,null,null,null,{"$error":"#N/A"},{"$error":"#N/A"},null,null,null,null,null,null,null,null,null,null,null,null,null,null,null,null,null,null,null,null,null,null,null,null,null,null,null,null,null,{"$error":"#N/A"}]
[null,null,null,null,null,null,null,null,null,null,null,null,{"$error":"#N/A"},{"$error":"#N/A"},null,null,null,null,null,null,null,null,null,null,null,null,null,null,null,null,null,null,null,null,null,null,null,null,null,null,null,null,null,{"$error":"#N/A"}]
[null,null,null,null,null,null,null,null,null,null,null,null,{"$error":"#N/A"},{"$error":"#N/A"},null,null,null,null,null,null,null,null,null,null,null,null,null,null,null,null,null,null,null,null,null,null,null,null,null,null,null,null,null,{"$error":"#N/A"}]
[null,null,null,null,null,null,null,null,null,null,null,null,{"$error":"#N/A"},{"$error":"#N/A"},null,null,null,null,null,null,null,null,null,null,null,null,null,null,null,null,null,null,null,null,null,null,null,null,null,null,null,null,null,{"$error":"#N/A"}]
[null,null,null,null,null,null,null,null,null,null,null,null,{"$error":"#N/A"},{"$error":"#N/A"},null,null,null,null,null,null,null,null,null,null,null,null,null,null,null,null,null,null,null,null,null,null,null,null,null,null,null,null,null,{"$error":"#N/A"}]
[null,null,null,null,null,null,null,null,null,null,null,null,{"$error":"#N/A"},{"$error":"#N/A"},null,null,null,null,null,null,null,null,null,null,null,null,null,null,null,null,null,null,null,null,null,null,null,null,null,null,null,null,null,{"$error":"#N/A"}]
[null,null,null,null,null,null,null,null,null,null,null,null,{"$error":"#N/A"},{"$error":"#N/A"},null,null,null,null,null,null,null,null,null,null,null,null,null,null,null,null,null,null,null,null,null,null,null,null,null,null,null,null,null,{"$error":"#N/A"}]
[null,null,null,null,null,null,null,null,null,null,null,null,{"$error":"#N/A"},{"$error":"#N/A"},null,null,null,null,null,null,null,null,null,null,null,null,null,null,null,null,null,null,null,null,null,null,null,null,null,null,null,null,null,{"$error":"#N/A"}]
[null,null,null,null,null,null,null,null,null,null,null,null,{"$error":"#N/A"},{"$error":"#N/A"},null,null,null,null,null,null,null,null,null,null,null,null,null,null,null,null,null,null,null,null,null,null,null,null,null,null,null,null,null,{"$error":"#N/A"}]
[null,null,null,null,null,null,null,null,null,null,null,null,{"$error":"#N/A"},{"$error":"#N/A"},null,null,null,null,null,null,null,null,null,null,null,null,null,null,null,null,null,null,null,null,null,null,null,null,null,null,null,null,null,{"$error":"#N/A"}]
[null,null,null,null,null,null,null,null,null,null,null,null,{"$error":"#N/A"},{"$error":"#N/A"},null,null,null,null,null,null,null,null,null,null,null,null,null,null,null,null,null,null,null,null,null,null,null,null,null,null,null,null,null,{"$error":"#N/A"}]
[null,null,null,null,null,null,null,null,null,null,null,null,{"$error":"#N/A"},{"$error":"#N/A"},null,null,null,null,null,null,null,null,null,null,null,null,null,null,null,null,null,null,null,null,null,null,null,null,null,null,null,null,null,{"$error":"#N/A"}]
[null,null,null,null,null,null,null,null,null,null,null,null,{"$error":"#N/A"},{"$error":"#N/A"},null,null,null,null,null,null,null,null,null,null,null,null,null,null,null,null,null,null,null,null,null,null,null,null,null,null,null,null,null,{"$error":"#N/A"}]
[null,null,null,null,null,null,null,null,null,null,null,null,{"$error":"#N/A"},{"$error":"#N/A"},null,null,null,null,null,null,null,null,null,null,null,null,null,null,null,null,null,null,null,null,null,null,null,null,null,null,null,null,null,{"$error":"#N/A"}]
[null,null,null,null,null,null,null,null,null,null,null,null,{"$error":"#N/A"},{"$error":"#N/A"},null,null,null,null,null,null,null,null,null,null,null,null,null,null,null,null,null,null,null,null,null,null,null,null,null,null,null,null,null,{"$error":"#N/A"}]
[null,null,null,null,null,null,null,null,null,null,null,null,{"$error":"#N/A"},{"$error":"#N/A"},null,null,null,null,null,null,null,null,null,null,null,null,null,null,null,null,null,null,null,null,null,null,null,null,null,null,null,null,null,{"$error":"#N/A"}]
[null,null,null,null,null,null,null,null,null,null,null,null,{"$error":"#N/A"},{"$error":"#N/A"},null,null,null,null,null,null,null,null,null,null,null,null,null,null,null,null,null,null,null,null,null,null,null,null,null,null,null,null,null,{"$error":"#N/A"}]
[null,null,null,null,null,null,null,null,null,null,null,null,{"$error":"#N/A"},{"$error":"#N/A"},null,null,null,null,null,null,null,null,null,null,null,null,null,null,null,null,null,null,null,null,null,null,null,null,null,null,null,null,null,{"$error":"#N/A"}]
[null,null,null,null,null,null,null,null,null,null,null,null,{"$error":"#N/A"},{"$error":"#N/A"},null,null,null,null,null,null,null,null,null,null,null,null,null,null,null,null,null,null,null,null,null,null,null,null,null,null,null,null,null,{"$error":"#N/A"}]
[null,null,null,null,null,null,null,null,null,null,null,null,{"$error":"#N/A"},{"$error":"#N/A"},null,null,null,null,null,null,null,null,null,null,null,null,null,null,null,null,null,null,null,null,null,null,null,null,null,null,null,null,null,{"$error":"#N/A"}]
[null,null,null,null,null,null,null,null,null,null,null,null,{"$error":"#N/A"},{"$error":"#N/A"},null,null,null,null,null,null,null,null,null,null,null,null,null,null,null,null,null,null,null,null,null,null,null,null,null,null,null,null,null,{"$error":"#N/A"}]
[null,null,null,null,null,null,null,null,null,null,null,null,{"$f":"IF(AND($F$17=H3697,$AK$44=F3697),J3697,\"\")","v":{"$error":"#N/A"}},{"$f":"IF(AND($F$17=H3697,$AK$44=F3697),L3697,\"\")","v":{"$error":"#N/A"}},null,null,null,null,null,null,null,null,null,null,null,null,null,null,null,null,null,null,null,null,null,null,null,null,null,null,null,null,null,{"$error":"#N/A"}]
[null,null,null,null,null,null,null,null,null,null,null,null,{"$error":"#N/A"},{"$error":"#N/A"},null,null,null,null,null,null,null,null,null,null,null,null,null,null,null,null,null,null,null,null,null,null,null,null,null,null,null,null,null,{"$error":"#N/A"}]
[null,null,null,null,null,null,null,null,null,null,null,null,{"$error":"#N/A"},{"$error":"#N/A"},null,null,null,null,null,null,null,null,null,null,null,null,null,null,null,null,null,null,null,null,null,null,null,null,null,null,null,null,null,{"$error":"#N/A"}]
[null,null,null,null,null,null,null,null,null,null,null,null,{"$error":"#N/A"},{"$error":"#N/A"},null,null,null,null,null,null,null,null,null,null,null,null,null,null,null,null,null,null,null,null,null,null,null,null,null,null,null,null,null,{"$error":"#N/A"}]
[null,null,null,null,null,null,null,null,null,null,null,null,{"$error":"#N/A"},{"$error":"#N/A"},null,null,null,null,null,null,null,null,null,null,null,null,null,null,null,null,null,null,null,null,null,null,null,null,null,null,null,null,null,{"$error":"#N/A"}]
[null,null,null,null,null,null,null,null,null,null,null,null,{"$error":"#N/A"},{"$error":"#N/A"},null,null,null,null,null,null,null,null,null,null,null,null,null,null,null,null,null,null,null,null,null,null,null,null,null,null,null,null,null,{"$error":"#N/A"}]
[null,null,null,null,null,null,null,null,null,null,null,null,{"$error":"#N/A"},{"$error":"#N/A"},null,null,null,null,null,null,null,null,null,null,null,null,null,null,null,null,null,null,null,null,null,null,null,null,null,null,null,null,null,{"$error":"#N/A"}]
[null,null,null,null,null,null,null,null,null,null,null,null,{"$error":"#N/A"},{"$error":"#N/A"},null,null,null,null,null,null,null,null,null,null,null,null,null,null,null,null,null,null,null,null,null,null,null,null,null,null,null,null,null,{"$error":"#N/A"}]
[null,null,null,null,null,null,null,null,null,null,null,null,{"$error":"#N/A"},{"$error":"#N/A"},null,null,null,null,null,null,null,null,null,null,null,null,null,null,null,null,null,null,null,null,null,null,null,null,null,null,null,null,null,{"$error":"#N/A"}]
[null,null,null,null,null,null,null,null,null,null,null,null,{"$error":"#N/A"},{"$error":"#N/A"},null,null,null,null,null,null,null,null,null,null,null,null,null,null,null,null,null,null,null,null,null,null,null,null,null,null,null,null,null,{"$error":"#N/A"}]
[null,null,null,null,null,null,null,null,null,null,null,null,{"$error":"#N/A"},{"$error":"#N/A"},null,null,null,null,null,null,null,null,null,null,null,null,null,null,null,null,null,null,null,null,null,null,null,null,null,null,null,null,null,{"$error":"#N/A"}]
[null,null,null,null,null,null,null,null,null,null,null,null,{"$error":"#N/A"},{"$error":"#N/A"},null,null,null,null,null,null,null,null,null,null,null,null,null,null,null,null,null,null,null,null,null,null,null,null,null,null,null,null,null,{"$error":"#N/A"}]
[null,null,null,null,null,null,null,null,null,null,null,null,{"$error":"#N/A"},{"$error":"#N/A"},null,null,null,null,null,null,null,null,null,null,null,null,null,null,null,null,null,null,null,null,null,null,null,null,null,null,null,null,null,{"$error":"#N/A"}]
[null,null,null,null,null,null,null,null,null,null,null,null,{"$error":"#N/A"},{"$error":"#N/A"},null,null,null,null,null,null,null,null,null,null,null,null,null,null,null,null,null,null,null,null,null,null,null,null,null,null,null,null,null,{"$error":"#N/A"}]
[null,null,null,null,null,null,null,null,null,null,null,null,{"$error":"#N/A"},{"$error":"#N/A"},null,null,null,null,null,null,null,null,null,null,null,null,null,null,null,null,null,null,null,null,null,null,null,null,null,null,null,null,null,{"$error":"#N/A"}]
[null,null,null,null,null,null,null,null,null,null,null,null,{"$error":"#N/A"},{"$error":"#N/A"},null,null,null,null,null,null,null,null,null,null,null,null,null,null,null,null,null,null,null,null,null,null,null,null,null,null,null,null,null,{"$error":"#N/A"}]
[null,null,null,null,null,null,null,null,null,null,null,null,{"$error":"#N/A"},{"$error":"#N/A"},null,null,null,null,null,null,null,null,null,null,null,null,null,null,null,null,null,null,null,null,null,null,null,null,null,null,null,null,null,{"$error":"#N/A"}]
[null,null,null,null,null,null,null,null,null,null,null,null,{"$error":"#N/A"},{"$error":"#N/A"},null,null,null,null,null,null,null,null,null,null,null,null,null,null,null,null,null,null,null,null,null,null,null,null,null,null,null,null,null,{"$error":"#N/A"}]
[null,null,null,null,null,null,null,null,null,null,null,null,{"$error":"#N/A"},{"$error":"#N/A"},null,null,null,null,null,null,null,null,null,null,null,null,null,null,null,null,null,null,null,null,null,null,null,null,null,null,null,null,null,{"$error":"#N/A"}]
[null,null,null,null,null,null,null,null,null,null,null,null,{"$error":"#N/A"},{"$error":"#N/A"},null,null,null,null,null,null,null,null,null,null,null,null,null,null,null,null,null,null,null,null,null,null,null,null,null,null,null,null,null,{"$error":"#N/A"}]
[null,null,null,null,null,null,null,null,null,null,null,null,{"$error":"#N/A"},{"$error":"#N/A"},null,null,null,null,null,null,null,null,null,null,null,null,null,null,null,null,null,null,null,null,null,null,null,null,null,null,null,null,null,{"$error":"#N/A"}]
[null,null,null,null,null,null,null,null,null,null,null,null,{"$error":"#N/A"},{"$error":"#N/A"},null,null,null,null,null,null,null,null,null,null,null,null,null,null,null,null,null,null,null,null,null,null,null,null,null,null,null,null,null,{"$error":"#N/A"}]
[null,null,null,null,null,null,null,null,null,null,null,null,{"$error":"#N/A"},{"$error":"#N/A"},null,null,null,null,null,null,null,null,null,null,null,null,null,null,null,null,null,null,null,null,null,null,null,null,null,null,null,null,null,{"$error":"#N/A"}]
[null,null,null,null,null,null,null,null,null,null,null,null,{"$error":"#N/A"},{"$error":"#N/A"},null,null,null,null,null,null,null,null,null,null,null,null,null,null,null,null,null,null,null,null,null,null,null,null,null,null,null,null,null,{"$error":"#N/A"}]
[null,null,null,null,null,null,null,null,null,null,null,null,{"$error":"#N/A"},{"$error":"#N/A"},null,null,null,null,null,null,null,null,null,null,null,null,null,null,null,null,null,null,null,null,null,null,null,null,null,null,null,null,null,{"$error":"#N/A"}]
[null,null,null,null,null,null,null,null,null,null,null,null,{"$error":"#N/A"},{"$error":"#N/A"},null,null,null,null,null,null,null,null,null,null,null,null,null,null,null,null,null,null,null,null,null,null,null,null,null,null,null,null,null,{"$error":"#N/A"}]
[null,null,null,null,null,null,null,null,null,null,null,null,{"$error":"#N/A"},{"$error":"#N/A"},null,null,null,null,null,null,null,null,null,null,null,null,null,null,null,null,null,null,null,null,null,null,null,null,null,null,null,null,null,{"$error":"#N/A"}]
[null,null,null,null,null,null,null,null,null,null,null,null,{"$error":"#N/A"},{"$error":"#N/A"},null,null,null,null,null,null,null,null,null,null,null,null,null,null,null,null,null,null,null,null,null,null,null,null,null,null,null,null,null,{"$error":"#N/A"}]
[null,null,null,null,null,null,null,null,null,null,null,null,{"$error":"#N/A"},{"$error":"#N/A"},null,null,null,null,null,null,null,null,null,null,null,null,null,null,null,null,null,null,null,null,null,null,null,null,null,null,null,null,null,{"$error":"#N/A"}]
[null,null,null,null,null,null,null,null,null,null,null,null,{"$error":"#N/A"},{"$error":"#N/A"},null,null,null,null,null,null,null,null,null,null,null,null,null,null,null,null,null,null,null,null,null,null,null,null,null,null,null,null,null,{"$error":"#N/A"}]
[null,null,null,null,null,null,null,null,null,null,null,null,{"$error":"#N/A"},{"$error":"#N/A"},null,null,null,null,null,null,null,null,null,null,null,null,null,null,null,null,null,null,null,null,null,null,null,null,null,null,null,null,null,{"$error":"#N/A"}]
[null,null,null,null,null,null,null,null,null,null,null,null,{"$error":"#N/A"},{"$error":"#N/A"},null,null,null,null,null,null,null,null,null,null,null,null,null,null,null,null,null,null,null,null,null,null,null,null,null,null,null,null,null,{"$error":"#N/A"}]
[null,null,null,null,null,null,null,null,null,null,null,null,{"$error":"#N/A"},{"$error":"#N/A"},null,null,null,null,null,null,null,null,null,null,null,null,null,null,null,null,null,null,null,null,null,null,null,null,null,null,null,null,null,{"$error":"#N/A"}]
[null,null,null,null,null,null,null,null,null,null,null,null,{"$error":"#N/A"},{"$error":"#N/A"},null,null,null,null,null,null,null,null,null,null,null,null,null,null,null,null,null,null,null,null,null,null,null,null,null,null,null,null,null,{"$error":"#N/A"}]
[null,null,null,null,null,null,null,null,null,null,null,null,{"$error":"#N/A"},{"$error":"#N/A"},null,null,null,null,null,null,null,null,null,null,null,null,null,null,null,null,null,null,null,null,null,null,null,null,null,null,null,null,null,{"$error":"#N/A"}]
[null,null,null,null,null,null,null,null,null,null,null,null,{"$error":"#N/A"},{"$error":"#N/A"},null,null,null,null,null,null,null,null,null,null,null,null,null,null,null,null,null,null,null,null,null,null,null,null,null,null,null,null,null,{"$error":"#N/A"}]
[null,null,null,null,null,null,null,null,null,null,null,null,{"$error":"#N/A"},{"$error":"#N/A"},null,null,null,null,null,null,null,null,null,null,null,null,null,null,null,null,null,null,null,null,null,null,null,null,null,null,null,null,null,{"$error":"#N/A"}]
[null,null,null,null,null,null,null,null,null,null,null,null,{"$error":"#N/A"},{"$error":"#N/A"},null,null,null,null,null,null,null,null,null,null,null,null,null,null,null,null,null,null,null,null,null,null,null,null,null,null,null,null,null,{"$error":"#N/A"}]
[null,null,null,null,null,null,null,null,null,null,null,null,{"$error":"#N/A"},{"$error":"#N/A"},null,null,null,null,null,null,null,null,null,null,null,null,null,null,null,null,null,null,null,null,null,null,null,null,null,null,null,null,null,{"$error":"#N/A"}]
[null,null,null,null,null,null,null,null,null,null,null,null,{"$error":"#N/A"},{"$error":"#N/A"},null,null,null,null,null,null,null,null,null,null,null,null,null,null,null,null,null,null,null,null,null,null,null,null,null,null,null,null,null,{"$error":"#N/A"}]
[null,null,null,null,null,null,null,null,null,null,null,null,{"$f":"IF(AND($F$17=H3889,$AK$44=F3889),J3889,\"\")","v":{"$error":"#N/A"}},{"$f":"IF(AND($F$17=H3889,$AK$44=F3889),L3889,\"\")","v":{"$error":"#N/A"}},null,null,null,null,null,null,null,null,null,null,null,null,null,null,null,null,null,null,null,null,null,null,null,null,null,null,null,null,null,{"$error":"#N/A"}]
[null,null,null,null,null,null,null,null,null,null,null,null,{"$error":"#N/A"},{"$error":"#N/A"},null,null,null,null,null,null,null,null,null,null,null,null,null,null,null,null,null,null,null,null,null,null,null,null,null,null,null,null,null,{"$error":"#N/A"}]
[null,null,null,null,null,null,null,null,null,null,null,null,{"$error":"#N/A"},{"$error":"#N/A"},null,null,null,null,null,null,null,null,null,null,null,null,null,null,null,null,null,null,null,null,null,null,null,null,null,null,null,null,null,{"$error":"#N/A"}]
[null,null,null,null,null,null,null,null,null,null,null,null,{"$error":"#N/A"},{"$error":"#N/A"},null,null,null,null,null,null,null,null,null,null,null,null,null,null,null,null,null,null,null,null,null,null,null,null,null,null,null,null,null,{"$error":"#N/A"}]
[null,null,null,null,null,null,null,null,null,null,null,null,{"$error":"#N/A"},{"$error":"#N/A"},null,null,null,null,null,null,null,null,null,null,null,null,null,null,null,null,null,null,null,null,null,null,null,null,null,null,null,null,null,{"$error":"#N/A"}]
[null,null,null,null,null,null,null,null,null,null,null,null,{"$error":"#N/A"},{"$error":"#N/A"},null,null,null,null,null,null,null,null,null,null,null,null,null,null,null,null,null,null,null,null,null,null,null,null,null,null,null,null,null,{"$error":"#N/A"}]
[null,null,null,null,null,null,null,null,null,null,null,null,{"$error":"#N/A"},{"$error":"#N/A"},null,null,null,null,null,null,null,null,null,null,null,null,null,null,null,null,null,null,null,null,null,null,null,null,null,null,null,null,null,{"$error":"#N/A"}]
[null,null,null,null,null,null,null,null,null,null,null,null,{"$error":"#N/A"},{"$error":"#N/A"},null,null,null,null,null,null,null,null,null,null,null,null,null,null,null,null,null,null,null,null,null,null,null,null,null,null,null,null,null,{"$error":"#N/A"}]
[null,null,null,null,null,null,null,null,null,null,null,null,{"$error":"#N/A"},{"$error":"#N/A"},null,null,null,null,null,null,null,null,null,null,null,null,null,null,null,null,null,null,null,null,null,null,null,null,null,null,null,null,null,{"$error":"#N/A"}]
[null,null,null,null,null,null,null,null,null,null,null,null,{"$error":"#N/A"},{"$error":"#N/A"},null,null,null,null,null,null,null,null,null,null,null,null,null,null,null,null,null,null,null,null,null,null,null,null,null,null,null,null,null,{"$error":"#N/A"}]
[null,null,null,null,null,null,null,null,null,null,null,null,{"$error":"#N/A"},{"$error":"#N/A"},null,null,null,null,null,null,null,null,null,null,null,null,null,null,null,null,null,null,null,null,null,null,null,null,null,null,null,null,null,{"$error":"#N/A"}]
[null,null,null,null,null,null,null,null,null,null,null,null,{"$error":"#N/A"},{"$error":"#N/A"},null,null,null,null,null,null,null,null,null,null,null,null,null,null,null,null,null,null,null,null,null,null,null,null,null,null,null,null,null,{"$error":"#N/A"}]
[null,null,null,null,null,null,null,null,null,null,null,null,{"$error":"#N/A"},{"$error":"#N/A"},null,null,null,null,null,null,null,null,null,null,null,null,null,null,null,null,null,null,null,null,null,null,null,null,null,null,null,null,null,{"$error":"#N/A"}]
[null,null,null,null,null,null,null,null,null,null,null,null,{"$error":"#N/A"},{"$error":"#N/A"},null,null,null,null,null,null,null,null,null,null,null,null,null,null,null,null,null,null,null,null,null,null,null,null,null,null,null,null,null,{"$error":"#N/A"}]
[null,null,null,null,null,null,null,null,null,null,null,null,{"$error":"#N/A"},{"$error":"#N/A"},null,null,null,null,null,null,null,null,null,null,null,null,null,null,null,null,null,null,null,null,null,null,null,null,null,null,null,null,null,{"$error":"#N/A"}]
[null,null,null,null,null,null,null,null,null,null,null,null,{"$error":"#N/A"},{"$error":"#N/A"},null,null,null,null,null,null,null,null,null,null,null,null,null,null,null,null,null,null,null,null,null,null,null,null,null,null,null,null,null,{"$error":"#N/A"}]
[null,null,null,null,null,null,null,null,null,null,null,null,{"$error":"#N/A"},{"$error":"#N/A"},null,null,null,null,null,null,null,null,null,null,null,null,null,null,null,null,null,null,null,null,null,null,null,null,null,null,null,null,null,{"$error":"#N/A"}]
[null,null,null,null,null,null,null,null,null,null,null,null,{"$error":"#N/A"},{"$error":"#N/A"},null,null,null,null,null,null,null,null,null,null,null,null,null,null,null,null,null,null,null,null,null,null,null,null,null,null,null,null,null,{"$error":"#N/A"}]
[null,null,null,null,null,null,null,null,null,null,null,null,{"$error":"#N/A"},{"$error":"#N/A"},null,null,null,null,null,null,null,null,null,null,null,null,null,null,null,null,null,null,null,null,null,null,null,null,null,null,null,null,null,{"$error":"#N/A"}]
[null,null,null,null,null,null,null,null,null,null,null,null,{"$error":"#N/A"},{"$error":"#N/A"},null,null,null,null,null,null,null,null,null,null,null,null,null,null,null,null,null,null,null,null,null,null,null,null,null,null,null,null,null,{"$error":"#N/A"}]
[null,null,null,null,null,null,null,null,null,null,null,null,{"$error":"#N/A"},{"$error":"#N/A"},null,null,null,null,null,null,null,null,null,null,null,null,null,null,null,null,null,null,null,null,null,null,null,null,null,null,null,null,null,{"$error":"#N/A"}]
[null,null,null,null,null,null,null,null,null,null,null,null,{"$error":"#N/A"},{"$error":"#N/A"},null,null,null,null,null,null,null,null,null,null,null,null,null,null,null,null,null,null,null,null,null,null,null,null,null,null,null,null,null,{"$error":"#N/A"}]
[null,null,null,null,null,null,null,null,null,null,null,null,{"$error":"#N/A"},{"$error":"#N/A"},null,null,null,null,null,null,null,null,null,null,null,null,null,null,null,null,null,null,null,null,null,null,null,null,null,null,null,null,null,{"$error":"#N/A"}]
[null,null,null,null,null,null,null,null,null,null,null,null,{"$error":"#N/A"},{"$error":"#N/A"},null,null,null,null,null,null,null,null,null,null,null,null,null,null,null,null,null,null,null,null,null,null,null,null,null,null,null,null,null,{"$error":"#N/A"}]
[null,null,null,null,null,null,null,null,null,null,null,null,{"$error":"#N/A"},{"$error":"#N/A"},null,null,null,null,null,null,null,null,null,null,null,null,null,null,null,null,null,null,null,null,null,null,null,null,null,null,null,null,null,{"$error":"#N/A"}]
[null,null,null,null,null,null,null,null,null,null,null,null,{"$error":"#N/A"},{"$error":"#N/A"},null,null,null,null,null,null,null,null,null,null,null,null,null,null,null,null,null,null,null,null,null,null,null,null,null,null,null,null,null,{"$error":"#N/A"}]
[null,null,null,null,null,null,null,null,null,null,null,null,{"$error":"#N/A"},{"$error":"#N/A"},null,null,null,null,null,null,null,null,null,null,null,null,null,null,null,null,null,null,null,null,null,null,null,null,null,null,null,null,null,{"$error":"#N/A"}]
[null,null,null,null,null,null,null,null,null,null,null,null,{"$error":"#N/A"},{"$error":"#N/A"},null,null,null,null,null,null,null,null,null,null,null,null,null,null,null,null,null,null,null,null,null,null,null,null,null,null,null,null,null,{"$error":"#N/A"}]
[null,null,null,null,null,null,null,null,null,null,null,null,{"$error":"#N/A"},{"$error":"#N/A"},null,null,null,null,null,null,null,null,null,null,null,null,null,null,null,null,null,null,null,null,null,null,null,null,null,null,null,null,null,{"$error":"#N/A"}]
[null,null,null,null,null,null,null,null,null,null,null,null,{"$error":"#N/A"},{"$error":"#N/A"},null,null,null,null,null,null,null,null,null,null,null,null,null,null,null,null,null,null,null,null,null,null,null,null,null,null,null,null,null,{"$error":"#N/A"}]
[null,null,null,null,null,null,null,null,null,null,null,null,{"$error":"#N/A"},{"$error":"#N/A"},null,null,null,null,null,null,null,null,null,null,null,null,null,null,null,null,null,null,null,null,null,null,null,null,null,null,null,null,null,{"$error":"#N/A"}]
[null,null,null,null,null,null,null,null,null,null,null,null,{"$error":"#N/A"},{"$error":"#N/A"},null,null,null,null,null,null,null,null,null,null,null,null,null,null,null,null,null,null,null,null,null,null,null,null,null,null,null,null,null,{"$error":"#N/A"}]
[null,null,null,null,null,null,null,null,null,null,null,null,{"$error":"#N/A"},{"$error":"#N/A"},null,null,null,null,null,null,null,null,null,null,null,null,null,null,null,null,null,null,null,null,null,null,null,null,null,null,null,null,null,{"$error":"#N/A"}]
[null,null,null,null,null,null,null,null,null,null,null,null,{"$error":"#N/A"},{"$error":"#N/A"},null,null,null,null,null,null,null,null,null,null,null,null,null,null,null,null,null,null,null,null,null,null,null,null,null,null,null,null,null,{"$error":"#N/A"}]
[null,null,null,null,null,null,null,null,null,null,null,null,{"$error":"#N/A"},{"$error":"#N/A"},null,null,null,null,null,null,null,null,null,null,null,null,null,null,null,null,null,null,null,null,null,null,null,null,null,null,null,null,null,{"$error":"#N/A"}]
[null,null,null,null,null,null,null,null,null,null,null,null,{"$error":"#N/A"},{"$error":"#N/A"},null,null,null,null,null,null,null,null,null,null,null,null,null,null,null,null,null,null,null,null,null,null,null,null,null,null,null,null,null,{"$error":"#N/A"}]
[null,null,null,null,null,null,null,null,null,null,null,null,{"$error":"#N/A"},{"$error":"#N/A"},null,null,null,null,null,null,null,null,null,null,null,null,null,null,null,null,null,null,null,null,null,null,null,null,null,null,null,null,null,{"$error":"#N/A"}]
[null,null,null,null,null,null,null,null,null,null,null,null,{"$error":"#N/A"},{"$error":"#N/A"},null,null,null,null,null,null,null,null,null,null,null,null,null,null,null,null,null,null,null,null,null,null,null,null,null,null,null,null,null,{"$error":"#N/A"}]
[null,null,null,null,null,null,null,null,null,null,null,null,{"$error":"#N/A"},{"$error":"#N/A"},null,null,null,null,null,null,null,null,null,null,null,null,null,null,null,null,null,null,null,null,null,null,null,null,null,null,null,null,null,{"$error":"#N/A"}]
[null,null,null,null,null,null,null,null,null,null,null,null,{"$error":"#N/A"},{"$error":"#N/A"},null,null,null,null,null,null,null,null,null,null,null,null,null,null,null,null,null,null,null,null,null,null,null,null,null,null,null,null,null,{"$error":"#N/A"}]
[null,null,null,null,null,null,null,null,null,null,null,null,{"$error":"#N/A"},{"$error":"#N/A"},null,null,null,null,null,null,null,null,null,null,null,null,null,null,null,null,null,null,null,null,null,null,null,null,null,null,null,null,null,{"$error":"#N/A"}]
[null,null,null,null,null,null,null,null,null,null,null,null,{"$error":"#N/A"},{"$error":"#N/A"},null,null,null,null,null,null,null,null,null,null,null,null,null,null,null,null,null,null,null,null,null,null,null,null,null,null,null,null,null,{"$error":"#N/A"}]
[null,null,null,null,null,null,null,null,null,null,null,null,{"$error":"#N/A"},{"$error":"#N/A"},null,null,null,null,null,null,null,null,null,null,null,null,null,null,null,null,null,null,null,null,null,null,null,null,null,null,null,null,null,{"$error":"#N/A"}]
[null,null,null,null,null,null,null,null,null,null,null,null,{"$error":"#N/A"},{"$error":"#N/A"},null,null,null,null,null,null,null,null,null,null,null,null,null,null,null,null,null,null,null,null,null,null,null,null,null,null,null,null,null,{"$error":"#N/A"}]
[null,null,null,null,null,null,null,null,null,null,null,null,{"$error":"#N/A"},{"$error":"#N/A"},null,null,null,null,null,null,null,null,null,null,null,null,null,null,null,null,null,null,null,null,null,null,null,null,null,null,null,null,null,{"$error":"#N/A"}]
[null,null,null,null,null,null,null,null,null,null,null,null,{"$error":"#N/A"},{"$error":"#N/A"},null,null,null,null,null,null,null,null,null,null,null,null,null,null,null,null,null,null,null,null,null,null,null,null,null,null,null,null,null,{"$error":"#N/A"}]
[null,null,null,null,null,null,null,null,null,null,null,null,{"$error":"#N/A"},{"$error":"#N/A"},null,null,null,null,null,null,null,null,null,null,null,null,null,null,null,null,null,null,null,null,null,null,null,null,null,null,null,null,null,{"$error":"#N/A"}]
[null,null,null,null,null,null,null,null,null,null,null,null,{"$error":"#N/A"},{"$error":"#N/A"},null,null,null,null,null,null,null,null,null,null,null,null,null,null,null,null,null,null,null,null,null,null,null,null,null,null,null,null,null,{"$error":"#N/A"}]
[null,null,null,null,null,null,null,null,null,null,null,null,{"$error":"#N/A"},{"$error":"#N/A"},null,null,null,null,null,null,null,null,null,null,null,null,null,null,null,null,null,null,null,null,null,null,null,null,null,null,null,null,null,{"$error":"#N/A"}]
[null,null,null,null,null,null,null,null,null,null,null,null,{"$error":"#N/A"},{"$error":"#N/A"},null,null,null,null,null,null,null,null,null,null,null,null,null,null,null,null,null,null,null,null,null,null,null,null,null,null,null,null,null,{"$error":"#N/A"}]
[null,null,null,null,null,null,null,null,null,null,null,null,{"$error":"#N/A"},{"$error":"#N/A"},null,null,null,null,null,null,null,null,null,null,null,null,null,null,null,null,null,null,null,null,null,null,null,null,null,null,null,null,null,{"$error":"#N/A"}]
[null,null,null,null,null,null,null,null,null,null,null,null,{"$error":"#N/A"},{"$error":"#N/A"},null,null,null,null,null,null,null,null,null,null,null,null,null,null,null,null,null,null,null,null,null,null,null,null,null,null,null,null,null,{"$error":"#N/A"}]
[null,null,null,null,null,null,null,null,null,null,null,null,{"$error":"#N/A"},{"$error":"#N/A"},null,null,null,null,null,null,null,null,null,null,null,null,null,null,null,null,null,null,null,null,null,null,null,null,null,null,null,null,null,{"$error":"#N/A"}]
[null,null,null,null,null,null,null,null,null,null,null,null,{"$error":"#N/A"},{"$error":"#N/A"},null,null,null,null,null,null,null,null,null,null,null,null,null,null,null,null,null,null,null,null,null,null,null,null,null,null,null,null,null,{"$error":"#N/A"}]
[null,null,null,null,null,null,null,null,null,null,null,null,{"$error":"#N/A"},{"$error":"#N/A"},null,null,null,null,null,null,null,null,null,null,null,null,null,null,null,null,null,null,null,null,null,null,null,null,null,null,null,null,null,{"$error":"#N/A"}]
[null,null,null,null,null,null,null,null,null,null,null,null,{"$error":"#N/A"},{"$error":"#N/A"},null,null,null,null,null,null,null,null,null,null,null,null,null,null,null,null,null,null,null,null,null,null,null,null,null,null,null,null,null,{"$error":"#N/A"}]
[null,null,null,null,null,null,null,null,null,null,null,null,{"$error":"#N/A"},{"$error":"#N/A"},null,null,null,null,null,null,null,null,null,null,null,null,null,null,null,null,null,null,null,null,null,null,null,null,null,null,null,null,null,{"$error":"#N/A"}]
[null,null,null,null,null,null,null,null,null,null,null,null,{"$error":"#N/A"},{"$error":"#N/A"},null,null,null,null,null,null,null,null,null,null,null,null,null,null,null,null,null,null,null,null,null,null,null,null,null,null,null,null,null,{"$error":"#N/A"}]
[null,null,null,null,null,null,null,null,null,null,null,null,{"$error":"#N/A"},{"$error":"#N/A"},null,null,null,null,null,null,null,null,null,null,null,null,null,null,null,null,null,null,null,null,null,null,null,null,null,null,null,null,null,{"$error":"#N/A"}]
[null,null,null,null,null,null,null,null,null,null,null,null,{"$error":"#N/A"},{"$error":"#N/A"},null,null,null,null,null,null,null,null,null,null,null,null,null,null,null,null,null,null,null,null,null,null,null,null,null,null,null,null,null,{"$error":"#N/A"}]
[null,null,null,null,null,null,null,null,null,null,null,null,{"$error":"#N/A"},{"$error":"#N/A"},null,null,null,null,null,null,null,null,null,null,null,null,null,null,null,null,null,null,null,null,null,null,null,null,null,null,null,null,null,{"$error":"#N/A"}]
[null,null,null,null,null,null,null,null,null,null,null,null,{"$error":"#N/A"},{"$error":"#N/A"},null,null,null,null,null,null,null,null,null,null,null,null,null,null,null,null,null,null,null,null,null,null,null,null,null,null,null,null,null,{"$error":"#N/A"}]
[null,null,null,null,null,null,null,null,null,null,null,null,{"$error":"#N/A"},{"$error":"#N/A"},null,null,null,null,null,null,null,null,null,null,null,null,null,null,null,null,null,null,null,null,null,null,null,null,null,null,null,null,null,{"$error":"#N/A"}]
[null,null,null,null,null,null,null,null,null,null,null,null,{"$error":"#N/A"},{"$error":"#N/A"},null,null,null,null,null,null,null,null,null,null,null,null,null,null,null,null,null,null,null,null,null,null,null,null,null,null,null,null,null,{"$error":"#N/A"}]
[null,null,null,null,null,null,null,null,null,null,null,null,{"$error":"#N/A"},{"$error":"#N/A"},null,null,null,null,null,null,null,null,null,null,null,null,null,null,null,null,null,null,null,null,null,null,null,null,null,null,null,null,null,{"$error":"#N/A"}]
[null,null,null,null,null,null,null,null,null,null,null,null,{"$error":"#N/A"},{"$error":"#N/A"},null,null,null,null,null,null,null,null,null,null,null,null,null,null,null,null,null,null,null,null,null,null,null,null,null,null,null,null,null,{"$error":"#N/A"}]
[null,null,null,null,null,null,null,null,null,null,null,null,{"$error":"#N/A"},{"$error":"#N/A"},null,null,null,null,null,null,null,null,null,null,null,null,null,null,null,null,null,null,null,null,null,null,null,null,null,null,null,null,null,{"$error":"#N/A"}]
[null,null,null,null,null,null,null,null,null,null,null,null,{"$error":"#N/A"},{"$error":"#N/A"},null,null,null,null,null,null,null,null,null,null,null,null,null,null,null,null,null,null,null,null,null,null,null,null,null,null,null,null,null,{"$error":"#N/A"}]
[null,null,null,null,null,null,null,null,null,null,null,null,{"$error":"#N/A"},{"$error":"#N/A"},null,null,null,null,null,null,null,null,null,null,null,null,null,null,null,null,null,null,null,null,null,null,null,null,null,null,null,null,null,{"$error":"#N/A"}]
[null,null,null,null,null,null,null,null,null,null,null,null,{"$error":"#N/A"},{"$error":"#N/A"},null,null,null,null,null,null,null,null,null,null,null,null,null,null,null,null,null,null,null,null,null,null,null,null,null,null,null,null,null,{"$error":"#N/A"}]
[null,null,null,null,null,null,null,null,null,null,null,null,{"$error":"#N/A"},{"$error":"#N/A"},null,null,null,null,null,null,null,null,null,null,null,null,null,null,null,null,null,null,null,null,null,null,null,null,null,null,null,null,null,{"$error":"#N/A"}]
[null,null,null,null,null,null,null,null,null,null,null,null,{"$error":"#N/A"},{"$error":"#N/A"},null,null,null,null,null,null,null,null,null,null,null,null,null,null,null,null,null,null,null,null,null,null,null,null,null,null,null,null,null,{"$error":"#N/A"}]
[null,null,null,null,null,null,null,null,null,null,null,null,{"$error":"#N/A"},{"$error":"#N/A"},null,null,null,null,null,null,null,null,null,null,null,null,null,null,null,null,null,null,null,null,null,null,null,null,null,null,null,null,null,{"$error":"#N/A"}]
[null,null,null,null,null,null,null,null,null,null,null,null,{"$error":"#N/A"},{"$error":"#N/A"},null,null,null,null,null,null,null,null,null,null,null,null,null,null,null,null,null,null,null,null,null,null,null,null,null,null,null,null,null,{"$error":"#N/A"}]
[null,null,null,null,null,null,null,null,null,null,null,null,{"$error":"#N/A"},{"$error":"#N/A"},null,null,null,null,null,null,null,null,null,null,null,null,null,null,null,null,null,null,null,null,null,null,null,null,null,null,null,null,null,{"$error":"#N/A"}]
[null,null,null,null,null,null,null,null,null,null,null,null,{"$error":"#N/A"},{"$error":"#N/A"},null,null,null,null,null,null,null,null,null,null,null,null,null,null,null,null,null,null,null,null,null,null,null,null,null,null,null,null,null,{"$error":"#N/A"}]
[null,null,null,null,null,null,null,null,null,null,null,null,{"$error":"#N/A"},{"$error":"#N/A"},null,null,null,null,null,null,null,null,null,null,null,null,null,null,null,null,null,null,null,null,null,null,null,null,null,null,null,null,null,{"$error":"#N/A"}]
[null,null,null,null,null,null,null,null,null,null,null,null,{"$error":"#N/A"},{"$error":"#N/A"},null,null,null,null,null,null,null,null,null,null,null,null,null,null,null,null,null,null,null,null,null,null,null,null,null,null,null,null,null,{"$error":"#N/A"}]
[null,null,null,null,null,null,null,null,null,null,null,null,{"$error":"#N/A"},{"$error":"#N/A"},null,null,null,null,null,null,null,null,null,null,null,null,null,null,null,null,null,null,null,null,null,null,null,null,null,null,null,null,null,{"$error":"#N/A"}]
[null,null,null,null,null,null,null,null,null,null,null,null,{"$error":"#N/A"},{"$error":"#N/A"},null,null,null,null,null,null,null,null,null,null,null,null,null,null,null,null,null,null,null,null,null,null,null,null,null,null,null,null,null,{"$error":"#N/A"}]
[null,null,null,null,null,null,null,null,null,null,null,null,{"$error":"#N/A"},{"$error":"#N/A"},null,null,null,null,null,null,null,null,null,null,null,null,null,null,null,null,null,null,null,null,null,null,null,null,null,null,null,null,null,{"$error":"#N/A"}]
[null,null,null,null,null,null,null,null,null,null,null,null,{"$error":"#N/A"},{"$error":"#N/A"},null,null,null,null,null,null,null,null,null,null,null,null,null,null,null,null,null,null,null,null,null,null,null,null,null,null,null,null,null,{"$error":"#N/A"}]
[null,null,null,null,null,null,null,null,null,null,null,null,{"$error":"#N/A"},{"$error":"#N/A"},null,null,null,null,null,null,null,null,null,null,null,null,null,null,null,null,null,null,null,null,null,null,null,null,null,null,null,null,null,{"$error":"#N/A"}]
[null,null,null,null,null,null,null,null,null,null,null,null,{"$error":"#N/A"},{"$error":"#N/A"},null,null,null,null,null,null,null,null,null,null,null,null,null,null,null,null,null,null,null,null,null,null,null,null,null,null,null,null,null,{"$error":"#N/A"}]
[null,null,null,null,null,null,null,null,null,null,null,null,{"$error":"#N/A"},{"$error":"#N/A"},null,null,null,null,null,null,null,null,null,null,null,null,null,null,null,null,null,null,null,null,null,null,null,null,null,null,null,null,null,{"$error":"#N/A"}]
[null,null,null,null,null,null,null,null,null,null,null,null,{"$error":"#N/A"},{"$error":"#N/A"},null,null,null,null,null,null,null,null,null,null,null,null,null,null,null,null,null,null,null,null,null,null,null,null,null,null,null,null,null,{"$error":"#N/A"}]
[null,null,null,null,null,null,null,null,null,null,null,null,{"$error":"#N/A"},{"$error":"#N/A"},null,null,null,null,null,null,null,null,null,null,null,null,null,null,null,null,null,null,null,null,null,null,null,null,null,null,null,null,null,{"$error":"#N/A"}]
[null,null,null,null,null,null,null,null,null,null,null,null,{"$error":"#N/A"},{"$error":"#N/A"},null,null,null,null,null,null,null,null,null,null,null,null,null,null,null,null,null,null,null,null,null,null,null,null,null,null,null,null,null,{"$error":"#N/A"}]
[null,null,null,null,null,null,null,null,null,null,null,null,{"$error":"#N/A"},{"$error":"#N/A"},null,null,null,null,null,null,null,null,null,null,null,null,null,null,null,null,null,null,null,null,null,null,null,null,null,null,null,null,null,{"$error":"#N/A"}]
[null,null,null,null,null,null,null,null,null,null,null,null,{"$error":"#N/A"},{"$error":"#N/A"},null,null,null,null,null,null,null,null,null,null,null,null,null,null,null,null,null,null,null,null,null,null,null,null,null,null,null,null,null,{"$error":"#N/A"}]
[null,null,null,null,null,null,null,null,null,null,null,null,{"$error":"#N/A"},{"$error":"#N/A"},null,null,null,null,null,null,null,null,null,null,null,null,null,null,null,null,null,null,null,null,null,null,null,null,null,null,null,null,null,{"$error":"#N/A"}]
[null,null,null,null,null,null,null,null,null,null,null,null,{"$error":"#N/A"},{"$error":"#N/A"},null,null,null,null,null,null,null,null,null,null,null,null,null,null,null,null,null,null,null,null,null,null,null,null,null,null,null,null,null,{"$error":"#N/A"}]
[null,null,null,null,null,null,null,null,null,null,null,null,{"$error":"#N/A"},{"$error":"#N/A"},null,null,null,null,null,null,null,null,null,null,null,null,null,null,null,null,null,null,null,null,null,null,null,null,null,null,null,null,null,{"$error":"#N/A"}]
[null,null,null,null,null,null,null,null,null,null,null,null,{"$error":"#N/A"},{"$error":"#N/A"},null,null,null,null,null,null,null,null,null,null,null,null,null,null,null,null,null,null,null,null,null,null,null,null,null,null,null,null,null,{"$error":"#N/A"}]
[null,null,null,null,null,null,null,null,null,null,null,null,{"$error":"#N/A"},{"$error":"#N/A"},null,null,null,null,null,null,null,null,null,null,null,null,null,null,null,null,null,null,null,null,null,null,null,null,null,null,null,null,null,{"$error":"#N/A"}]
[null,null,null,null,null,null,null,null,null,null,null,null,{"$error":"#N/A"},{"$error":"#N/A"},null,null,null,null,null,null,null,null,null,null,null,null,null,null,null,null,null,null,null,null,null,null,null,null,null,null,null,null,null,{"$error":"#N/A"}]
[null,null,null,null,null,null,null,null,null,null,null,null,{"$error":"#N/A"},{"$error":"#N/A"},null,null,null,null,null,null,null,null,null,null,null,null,null,null,null,null,null,null,null,null,null,null,null,null,null,null,null,null,null,{"$error":"#N/A"}]
[null,null,null,null,null,null,null,null,null,null,null,null,{"$error":"#N/A"},{"$error":"#N/A"},null,null,null,null,null,null,null,null,null,null,null,null,null,null,null,null,null,null,null,null,null,null,null,null,null,null,null,null,null,{"$error":"#N/A"}]
[null,null,null,null,null,null,null,null,null,null,null,null,{"$error":"#N/A"},{"$error":"#N/A"},null,null,null,null,null,null,null,null,null,null,null,null,null,null,null,null,null,null,null,null,null,null,null,null,null,null,null,null,null,{"$error":"#N/A"}]
[null,null,null,null,null,null,null,null,null,null,null,null,{"$error":"#N/A"},{"$error":"#N/A"},null,null,null,null,null,null,null,null,null,null,null,null,null,null,null,null,null,null,null,null,null,null,null,null,null,null,null,null,null,{"$error":"#N/A"}]
[null,null,null,null,null,null,null,null,null,null,null,null,{"$error":"#N/A"},{"$error":"#N/A"},null,null,null,null,null,null,null,null,null,null,null,null,null,null,null,null,null,null,null,null,null,null,null,null,null,null,null,null,null,{"$error":"#N/A"}]
[null,null,null,null,null,null,null,null,null,null,null,null,{"$error":"#N/A"},{"$error":"#N/A"},null,null,null,null,null,null,null,null,null,null,null,null,null,null,null,null,null,null,null,null,null,null,null,null,null,null,null,null,null,{"$error":"#N/A"}]
[null,null,null,null,null,null,null,null,null,null,null,null,{"$error":"#N/A"},{"$error":"#N/A"},null,null,null,null,null,null,null,null,null,null,null,null,null,null,null,null,null,null,null,null,null,null,null,null,null,null,null,null,null,{"$error":"#N/A"}]
[null,null,null,null,null,null,null,null,null,null,null,null,{"$error":"#N/A"},{"$error":"#N/A"},null,null,null,null,null,null,null,null,null,null,null,null,null,null,null,null,null,null,null,null,null,null,null,null,null,null,null,null,null,{"$error":"#N/A"}]
[null,null,null,null,null,null,null,null,null,null,null,null,{"$error":"#N/A"},{"$error":"#N/A"},null,null,null,null,null,null,null,null,null,null,null,null,null,null,null,null,null,null,null,null,null,null,null,null,null,null,null,null,null,{"$error":"#N/A"}]
[null,null,null,null,null,null,null,null,null,null,null,null,{"$error":"#N/A"},{"$error":"#N/A"},null,null,null,null,null,null,null,null,null,null,null,null,null,null,null,null,null,null,null,null,null,null,null,null,null,null,null,null,null,{"$error":"#N/A"}]
[null,null,null,null,null,null,null,null,null,null,null,null,{"$error":"#N/A"},{"$error":"#N/A"},null,null,null,null,null,null,null,null,null,null,null,null,null,null,null,null,null,null,null,null,null,null,null,null,null,null,null,null,null,{"$error":"#N/A"}]
[null,null,null,null,null,null,null,null,null,null,null,null,{"$error":"#N/A"},{"$error":"#N/A"},null,null,null,null,null,null,null,null,null,null,null,null,null,null,null,null,null,null,null,null,null,null,null,null,null,null,null,null,null,{"$error":"#N/A"}]
[null,null,null,null,null,null,null,null,null,null,null,null,{"$error":"#N/A"},{"$error":"#N/A"},null,null,null,null,null,null,null,null,null,null,null,null,null,null,null,null,null,null,null,null,null,null,null,null,null,null,null,null,null,{"$error":"#N/A"}]
[null,null,null,null,null,null,null,null,null,null,null,null,{"$error":"#N/A"},{"$error":"#N/A"},null,null,null,null,null,null,null,null,null,null,null,null,null,null,null,null,null,null,null,null,null,null,null,null,null,null,null,null,null,{"$error":"#N/A"}]
[null,null,null,null,null,null,null,null,null,null,null,null,{"$error":"#N/A"},{"$error":"#N/A"},null,null,null,null,null,null,null,null,null,null,null,null,null,null,null,null,null,null,null,null,null,null,null,null,null,null,null,null,null,{"$error":"#N/A"}]
[null,null,null,null,null,null,null,null,null,null,null,null,{"$error":"#N/A"},{"$error":"#N/A"},null,null,null,null,null,null,null,null,null,null,null,null,null,null,null,null,null,null,null,null,null,null,null,null,null,null,null,null,null,{"$error":"#N/A"}]
[null,null,null,null,null,null,null,null,null,null,null,null,{"$error":"#N/A"},{"$error":"#N/A"},null,null,null,null,null,null,null,null,null,null,null,null,null,null,null,null,null,null,null,null,null,null,null,null,null,null,null,null,null,{"$error":"#N/A"}]
[null,null,null,null,null,null,null,null,null,null,null,null,{"$error":"#N/A"},{"$error":"#N/A"},null,null,null,null,null,null,null,null,null,null,null,null,null,null,null,null,null,null,null,null,null,null,null,null,null,null,null,null,null,{"$error":"#N/A"}]
[null,null,null,null,null,null,null,null,null,null,null,null,{"$error":"#N/A"},{"$error":"#N/A"},null,null,null,null,null,null,null,null,null,null,null,null,null,null,null,null,null,null,null,null,null,null,null,null,null,null,null,null,null,{"$error":"#N/A"}]
[null,null,null,null,null,null,null,null,null,null,null,null,{"$error":"#N/A"},{"$error":"#N/A"},null,null,null,null,null,null,null,null,null,null,null,null,null,null,null,null,null,null,null,null,null,null,null,null,null,null,null,null,null,{"$error":"#N/A"}]
[null,null,null,null,null,null,null,null,null,null,null,null,{"$error":"#N/A"},{"$error":"#N/A"},null,null,null,null,null,null,null,null,null,null,null,null,null,null,null,null,null,null,null,null,null,null,null,null,null,null,null,null,null,{"$error":"#N/A"}]
[null,null,null,null,null,null,null,null,null,null,null,null,{"$error":"#N/A"},{"$error":"#N/A"},null,null,null,null,null,null,null,null,null,null,null,null,null,null,null,null,null,null,null,null,null,null,null,null,null,null,null,null,null,{"$error":"#N/A"}]
[null,null,null,null,null,null,null,null,null,null,null,null,{"$error":"#N/A"},{"$error":"#N/A"},null,null,null,null,null,null,null,null,null,null,null,null,null,null,null,null,null,null,null,null,null,null,null,null,null,null,null,null,null,{"$error":"#N/A"}]
[null,null,null,null,null,null,null,null,null,null,null,null,{"$error":"#N/A"},{"$error":"#N/A"},null,null,null,null,null,null,null,null,null,null,null,null,null,null,null,null,null,null,null,null,null,null,null,null,null,null,null,null,null,{"$error":"#N/A"}]
[null,null,null,null,null,null,null,null,null,null,null,null,{"$error":"#N/A"},{"$error":"#N/A"},null,null,null,null,null,null,null,null,null,null,null,null,null,null,null,null,null,null,null,null,null,null,null,null,null,null,null,null,null,{"$error":"#N/A"}]
[null,null,null,null,null,null,null,null,null,null,null,null,{"$error":"#N/A"},{"$error":"#N/A"},null,null,null,null,null,null,null,null,null,null,null,null,null,null,null,null,null,null,null,null,null,null,null,null,null,null,null,null,null,{"$error":"#N/A"}]
[null,null,null,null,null,null,null,null,null,null,null,null,{"$error":"#N/A"},{"$error":"#N/A"},null,null,null,null,null,null,null,null,null,null,null,null,null,null,null,null,null,null,null,null,null,null,null,null,null,null,null,null,null,{"$error":"#N/A"}]
[null,null,null,null,null,null,null,null,null,null,null,null,{"$error":"#N/A"},{"$error":"#N/A"},null,null,null,null,null,null,null,null,null,null,null,null,null,null,null,null,null,null,null,null,null,null,null,null,null,null,null,null,null,{"$error":"#N/A"}]
[null,null,null,null,null,null,null,null,null,null,null,null,{"$error":"#N/A"},{"$error":"#N/A"},null,null,null,null,null,null,null,null,null,null,null,null,null,null,null,null,null,null,null,null,null,null,null,null,null,null,null,null,null,{"$error":"#N/A"}]
[null,null,null,null,null,null,null,null,null,null,null,null,{"$error":"#N/A"},{"$error":"#N/A"},null,null,null,null,null,null,null,null,null,null,null,null,null,null,null,null,null,null,null,null,null,null,null,null,null,null,null,null,null,{"$error":"#N/A"}]
[null,null,null,null,null,null,null,null,null,null,null,null,{"$error":"#N/A"},{"$error":"#N/A"},null,null,null,null,null,null,null,null,null,null,null,null,null,null,null,null,null,null,null,null,null,null,null,null,null,null,null,null,null,{"$error":"#N/A"}]
[null,null,null,null,null,null,null,null,null,null,null,null,{"$error":"#N/A"},{"$error":"#N/A"},null,null,null,null,null,null,null,null,null,null,null,null,null,null,null,null,null,null,null,null,null,null,null,null,null,null,null,null,null,{"$error":"#N/A"}]
[null,null,null,null,null,null,null,null,null,null,null,null,{"$error":"#N/A"},{"$error":"#N/A"},null,null,null,null,null,null,null,null,null,null,null,null,null,null,null,null,null,null,null,null,null,null,null,null,null,null,null,null,null,{"$error":"#N/A"}]
[null,null,null,null,null,null,null,null,null,null,null,null,{"$error":"#N/A"},{"$error":"#N/A"},null,null,null,null,null,null,null,null,null,null,null,null,null,null,null,null,null,null,null,null,null,null,null,null,null,null,null,null,null,{"$error":"#N/A"}]
[null,null,null,null,null,null,null,null,null,null,null,null,{"$error":"#N/A"},{"$error":"#N/A"},null,null,null,null,null,null,null,null,null,null,null,null,null,null,null,null,null,null,null,null,null,null,null,null,null,null,null,null,null,{"$error":"#N/A"}]
[null,null,null,null,null,null,null,null,null,null,null,null,{"$error":"#N/A"},{"$error":"#N/A"},null,null,null,null,null,null,null,null,null,null,null,null,null,null,null,null,null,null,null,null,null,null,null,null,null,null,null,null,null,{"$error":"#N/A"}]
[null,null,null,null,null,null,null,null,null,null,null,null,{"$error":"#N/A"},{"$error":"#N/A"},null,null,null,null,null,null,null,null,null,null,null,null,null,null,null,null,null,null,null,null,null,null,null,null,null,null,null,null,null,{"$error":"#N/A"}]
[null,null,null,null,null,null,null,null,null,null,null,null,{"$error":"#N/A"},{"$error":"#N/A"},null,null,null,null,null,null,null,null,null,null,null,null,null,null,null,null,null,null,null,null,null,null,null,null,null,null,null,null,null,{"$error":"#N/A"}]
[null,null,null,null,null,null,null,null,null,null,null,null,{"$error":"#N/A"},{"$error":"#N/A"},null,null,null,null,null,null,null,null,null,null,null,null,null,null,null,null,null,null,null,null,null,null,null,null,null,null,null,null,null,{"$error":"#N/A"}]
[null,null,null,null,null,null,null,null,null,null,null,null,{"$error":"#N/A"},{"$error":"#N/A"},null,null,null,null,null,null,null,null,null,null,null,null,null,null,null,null,null,null,null,null,null,null,null,null,null,null,null,null,null,{"$error":"#N/A"}]
[null,null,null,null,null,null,null,null,null,null,null,null,{"$error":"#N/A"},{"$error":"#N/A"},null,null,null,null,null,null,null,null,null,null,null,null,null,null,null,null,null,null,null,null,null,null,null,null,null,null,null,null,null,{"$error":"#N/A"}]
[null,null,null,null,null,null,null,null,null,null,null,null,{"$error":"#N/A"},{"$error":"#N/A"},null,null,null,null,null,null,null,null,null,null,null,null,null,null,null,null,null,null,null,null,null,null,null,null,null,null,null,null,null,{"$error":"#N/A"}]
[null,null,null,null,null,null,null,null,null,null,null,null,{"$error":"#N/A"},{"$error":"#N/A"},null,null,null,null,null,null,null,null,null,null,null,null,null,null,null,null,null,null,null,null,null,null,null,null,null,null,null,null,null,{"$error":"#N/A"}]
[null,null,null,null,null,null,null,null,null,null,null,null,{"$error":"#N/A"},{"$error":"#N/A"},null,null,null,null,null,null,null,null,null,null,null,null,null,null,null,null,null,null,null,null,null,null,null,null,null,null,null,null,null,{"$error":"#N/A"}]
[null,null,null,null,null,null,null,null,null,null,null,null,{"$error":"#N/A"},{"$error":"#N/A"},null,null,null,null,null,null,null,null,null,null,null,null,null,null,null,null,null,null,null,null,null,null,null,null,null,null,null,null,null,{"$error":"#N/A"}]
[null,null,null,null,null,null,null,null,null,null,null,null,{"$error":"#N/A"},{"$error":"#N/A"},null,null,null,null,null,null,null,null,null,null,null,null,null,null,null,null,null,null,null,null,null,null,null,null,null,null,null,null,null,{"$error":"#N/A"}]
[null,null,null,null,null,null,null,null,null,null,null,null,{"$error":"#N/A"},{"$error":"#N/A"},null,null,null,null,null,null,null,null,null,null,null,null,null,null,null,null,null,null,null,null,null,null,null,null,null,null,null,null,null,{"$error":"#N/A"}]
[null,null,null,null,null,null,null,null,null,null,null,null,{"$error":"#N/A"},{"$error":"#N/A"},null,null,null,null,null,null,null,null,null,null,null,null,null,null,null,null,null,null,null,null,null,null,null,null,null,null,null,null,null,{"$error":"#N/A"}]
[null,null,null,null,null,null,null,null,null,null,null,null,{"$error":"#N/A"},{"$error":"#N/A"},null,null,null,null,null,null,null,null,null,null,null,null,null,null,null,null,null,null,null,null,null,null,null,null,null,null,null,null,null,{"$error":"#N/A"}]
[null,null,null,null,null,null,null,null,null,null,null,null,{"$error":"#N/A"},{"$error":"#N/A"},null,null,null,null,null,null,null,null,null,null,null,null,null,null,null,null,null,null,null,null,null,null,null,null,null,null,null,null,null,{"$error":"#N/A"}]
[null,null,null,null,null,null,null,null,null,null,null,null,{"$error":"#N/A"},{"$error":"#N/A"},null,null,null,null,null,null,null,null,null,null,null,null,null,null,null,null,null,null,null,null,null,null,null,null,null,null,null,null,null,{"$error":"#N/A"}]
[null,null,null,null,null,null,null,null,null,null,null,null,{"$error":"#N/A"},{"$error":"#N/A"},null,null,null,null,null,null,null,null,null,null,null,null,null,null,null,null,null,null,null,null,null,null,null,null,null,null,null,null,null,{"$error":"#N/A"}]
[null,null,null,null,null,null,null,null,null,null,null,null,{"$error":"#N/A"},{"$error":"#N/A"},null,null,null,null,null,null,null,null,null,null,null,null,null,null,null,null,null,null,null,null,null,null,null,null,null,null,null,null,null,{"$error":"#N/A"}]
[null,null,null,null,null,null,null,null,null,null,null,null,{"$error":"#N/A"},{"$error":"#N/A"},null,null,null,null,null,null,null,null,null,null,null,null,null,null,null,null,null,null,null,null,null,null,null,null,null,null,null,null,null,{"$error":"#N/A"}]
[null,null,null,null,null,null,null,null,null,null,null,null,{"$error":"#N/A"},{"$error":"#N/A"},null,null,null,null,null,null,null,null,null,null,null,null,null,null,null,null,null,null,null,null,null,null,null,null,null,null,null,null,null,{"$error":"#N/A"}]
[null,null,null,null,null,null,null,null,null,null,null,null,{"$error":"#N/A"},{"$error":"#N/A"},null,null,null,null,null,null,null,null,null,null,null,null,null,null,null,null,null,null,null,null,null,null,null,null,null,null,null,null,null,{"$error":"#N/A"}]
[null,null,null,null,null,null,null,null,null,null,null,null,{"$error":"#N/A"},{"$error":"#N/A"},null,null,null,null,null,null,null,null,null,null,null,null,null,null,null,null,null,null,null,null,null,null,null,null,null,null,null,null,null,{"$error":"#N/A"}]
[null,null,null,null,null,null,null,null,null,null,null,null,{"$error":"#N/A"},{"$error":"#N/A"},null,null,null,null,null,null,null,null,null,null,null,null,null,null,null,null,null,null,null,null,null,null,null,null,null,null,null,null,null,{"$error":"#N/A"}]
[null,null,null,null,null,null,null,null,null,null,null,null,{"$error":"#N/A"},{"$error":"#N/A"},null,null,null,null,null,null,null,null,null,null,null,null,null,null,null,null,null,null,null,null,null,null,null,null,null,null,null,null,null,{"$error":"#N/A"}]
[null,null,null,null,null,null,null,null,null,null,null,null,{"$error":"#N/A"},{"$error":"#N/A"},null,null,null,null,null,null,null,null,null,null,null,null,null,null,null,null,null,null,null,null,null,null,null,null,null,null,null,null,null,{"$error":"#N/A"}]
[null,null,null,null,null,null,null,null,null,null,null,null,{"$error":"#N/A"},{"$error":"#N/A"},null,null,null,null,null,null,null,null,null,null,null,null,null,null,null,null,null,null,null,null,null,null,null,null,null,null,null,null,null,{"$error":"#N/A"}]
[null,null,null,null,null,null,null,null,null,null,null,null,{"$error":"#N/A"},{"$error":"#N/A"},null,null,null,null,null,null,null,null,null,null,null,null,null,null,null,null,null,null,null,null,null,null,null,null,null,null,null,null,null,{"$error":"#N/A"}]
[null,null,null,null,null,null,null,null,null,null,null,null,{"$error":"#N/A"},{"$error":"#N/A"},null,null,null,null,null,null,null,null,null,null,null,null,null,null,null,null,null,null,null,null,null,null,null,null,null,null,null,null,null,{"$error":"#N/A"}]
[null,null,null,null,null,null,null,null,null,null,null,null,{"$error":"#N/A"},{"$error":"#N/A"},null,null,null,null,null,null,null,null,null,null,null,null,null,null,null,null,null,null,null,null,null,null,null,null,null,null,null,null,null,{"$error":"#N/A"}]
[null,null,null,null,null,null,null,null,null,null,null,null,{"$error":"#N/A"},{"$error":"#N/A"},null,null,null,null,null,null,null,null,null,null,null,null,null,null,null,null,null,null,null,null,null,null,null,null,null,null,null,null,null,{"$error":"#N/A"}]
[null,null,null,null,null,null,null,null,null,null,null,null,{"$error":"#N/A"},{"$error":"#N/A"},null,null,null,null,null,null,null,null,null,null,null,null,null,null,null,null,null,null,null,null,null,null,null,null,null,null,null,null,null,{"$error":"#N/A"}]
[null,null,null,null,null,null,null,null,null,null,null,null,{"$error":"#N/A"},{"$error":"#N/A"},null,null,null,null,null,null,null,null,null,null,null,null,null,null,null,null,null,null,null,null,null,null,null,null,null,null,null,null,null,{"$error":"#N/A"}]
[null,null,null,null,null,null,null,null,null,null,null,null,{"$error":"#N/A"},{"$error":"#N/A"},null,null,null,null,null,null,null,null,null,null,null,null,null,null,null,null,null,null,null,null,null,null,null,null,null,null,null,null,null,{"$error":"#N/A"}]
[null,null,null,null,null,null,null,null,null,null,null,null,{"$error":"#N/A"},{"$error":"#N/A"},null,null,null,null,null,null,null,null,null,null,null,null,null,null,null,null,null,null,null,null,null,null,null,null,null,null,null,null,null,{"$error":"#N/A"}]
[null,null,null,null,null,null,null,null,null,null,null,null,{"$error":"#N/A"},{"$error":"#N/A"},null,null,null,null,null,null,null,null,null,null,null,null,null,null,null,null,null,null,null,null,null,null,null,null,null,null,null,null,null,{"$error":"#N/A"}]
[null,null,null,null,null,null,null,null,null,null,null,null,{"$error":"#N/A"},{"$error":"#N/A"},null,null,null,null,null,null,null,null,null,null,null,null,null,null,null,null,null,null,null,null,null,null,null,null,null,null,null,null,null,{"$error":"#N/A"}]
[null,null,null,null,null,null,null,null,null,null,null,null,{"$error":"#N/A"},{"$error":"#N/A"},null,null,null,null,null,null,null,null,null,null,null,null,null,null,null,null,null,null,null,null,null,null,null,null,null,null,null,null,null,{"$error":"#N/A"}]
[null,null,null,null,null,null,null,null,null,null,null,null,{"$error":"#N/A"},{"$error":"#N/A"},null,null,null,null,null,null,null,null,null,null,null,null,null,null,null,null,null,null,null,null,null,null,null,null,null,null,null,null,null,{"$error":"#N/A"}]
[null,null,null,null,null,null,null,null,null,null,null,null,{"$error":"#N/A"},{"$error":"#N/A"},null,null,null,null,null,null,null,null,null,null,null,null,null,null,null,null,null,null,null,null,null,null,null,null,null,null,null,null,null,{"$error":"#N/A"}]
[null,null,null,null,null,null,null,null,null,null,null,null,{"$error":"#N/A"},{"$error":"#N/A"},null,null,null,null,null,null,null,null,null,null,null,null,null,null,null,null,null,null,null,null,null,null,null,null,null,null,null,null,null,{"$error":"#N/A"}]
[null,null,null,null,null,null,null,null,null,null,null,null,{"$error":"#N/A"},{"$error":"#N/A"},null,null,null,null,null,null,null,null,null,null,null,null,null,null,null,null,null,null,null,null,null,null,null,null,null,null,null,null,null,{"$error":"#N/A"}]
[null,null,null,null,null,null,null,null,null,null,null,null,{"$error":"#N/A"},{"$error":"#N/A"},null,null,null,null,null,null,null,null,null,null,null,null,null,null,null,null,null,null,null,null,null,null,null,null,null,null,null,null,null,{"$error":"#N/A"}]
[null,null,null,null,null,null,null,null,null,null,null,null,{"$f":"IF(AND($F$17=H4721,$AK$44=F4721),J4721,\"\")","v":{"$error":"#N/A"}},{"$f":"IF(AND($F$17=H4721,$AK$44=F4721),L4721,\"\")","v":{"$error":"#N/A"}},null,null,null,null,null,null,null,null,null,null,null,null,null,null,null,null,null,null,null,null,null,null,null,null,null,null,null,null,null,{"$error":"#N/A"}]
[null,null,null,null,null,null,null,null,null,null,null,null,{"$error":"#N/A"},{"$error":"#N/A"},null,null,null,null,null,null,null,null,null,null,null,null,null,null,null,null,null,null,null,null,null,null,null,null,null,null,null,null,null,{"$error":"#N/A"}]
[null,null,null,null,null,null,null,null,null,null,null,null,{"$error":"#N/A"},{"$error":"#N/A"},null,null,null,null,null,null,null,null,null,null,null,null,null,null,null,null,null,null,null,null,null,null,null,null,null,null,null,null,null,{"$error":"#N/A"}]
[null,null,null,null,null,null,null,null,null,null,null,null,{"$error":"#N/A"},{"$error":"#N/A"},null,null,null,null,null,null,null,null,null,null,null,null,null,null,null,null,null,null,null,null,null,null,null,null,null,null,null,null,null,{"$error":"#N/A"}]
[null,null,null,null,null,null,null,null,null,null,null,null,{"$error":"#N/A"},{"$error":"#N/A"},null,null,null,null,null,null,null,null,null,null,null,null,null,null,null,null,null,null,null,null,null,null,null,null,null,null,null,null,null,{"$error":"#N/A"}]
[null,null,null,null,null,null,null,null,null,null,null,null,{"$error":"#N/A"},{"$error":"#N/A"},null,null,null,null,null,null,null,null,null,null,null,null,null,null,null,null,null,null,null,null,null,null,null,null,null,null,null,null,null,{"$error":"#N/A"}]
[null,null,null,null,null,null,null,null,null,null,null,null,{"$error":"#N/A"},{"$error":"#N/A"},null,null,null,null,null,null,null,null,null,null,null,null,null,null,null,null,null,null,null,null,null,null,null,null,null,null,null,null,null,{"$error":"#N/A"}]
[null,null,null,null,null,null,null,null,null,null,null,null,{"$error":"#N/A"},{"$error":"#N/A"},null,null,null,null,null,null,null,null,null,null,null,null,null,null,null,null,null,null,null,null,null,null,null,null,null,null,null,null,null,{"$error":"#N/A"}]
[null,null,null,null,null,null,null,null,null,null,null,null,{"$error":"#N/A"},{"$error":"#N/A"},null,null,null,null,null,null,null,null,null,null,null,null,null,null,null,null,null,null,null,null,null,null,null,null,null,null,null,null,null,{"$error":"#N/A"}]
[null,null,null,null,null,null,null,null,null,null,null,null,{"$error":"#N/A"},{"$error":"#N/A"},null,null,null,null,null,null,null,null,null,null,null,null,null,null,null,null,null,null,null,null,null,null,null,null,null,null,null,null,null,{"$error":"#N/A"}]
[null,null,null,null,null,null,null,null,null,null,null,null,{"$error":"#N/A"},{"$error":"#N/A"},null,null,null,null,null,null,null,null,null,null,null,null,null,null,null,null,null,null,null,null,null,null,null,null,null,null,null,null,null,{"$error":"#N/A"}]
[null,null,null,null,null,null,null,null,null,null,null,null,{"$error":"#N/A"},{"$error":"#N/A"},null,null,null,null,null,null,null,null,null,null,null,null,null,null,null,null,null,null,null,null,null,null,null,null,null,null,null,null,null,{"$error":"#N/A"}]
[null,null,null,null,null,null,null,null,null,null,null,null,{"$error":"#N/A"},{"$error":"#N/A"},null,null,null,null,null,null,null,null,null,null,null,null,null,null,null,null,null,null,null,null,null,null,null,null,null,null,null,null,null,{"$error":"#N/A"}]
[null,null,null,null,null,null,null,null,null,null,null,null,{"$error":"#N/A"},{"$error":"#N/A"},null,null,null,null,null,null,null,null,null,null,null,null,null,null,null,null,null,null,null,null,null,null,null,null,null,null,null,null,null,{"$error":"#N/A"}]
[null,null,null,null,null,null,null,null,null,null,null,null,{"$error":"#N/A"},{"$error":"#N/A"},null,null,null,null,null,null,null,null,null,null,null,null,null,null,null,null,null,null,null,null,null,null,null,null,null,null,null,null,null,{"$error":"#N/A"}]
[null,null,null,null,null,null,null,null,null,null,null,null,{"$error":"#N/A"},{"$error":"#N/A"},null,null,null,null,null,null,null,null,null,null,null,null,null,null,null,null,null,null,null,null,null,null,null,null,null,null,null,null,null,{"$error":"#N/A"}]
[null,null,null,null,null,null,null,null,null,null,null,null,{"$error":"#N/A"},{"$error":"#N/A"},null,null,null,null,null,null,null,null,null,null,null,null,null,null,null,null,null,null,null,null,null,null,null,null,null,null,null,null,null,{"$error":"#N/A"}]
[null,null,null,null,null,null,null,null,null,null,null,null,{"$error":"#N/A"},{"$error":"#N/A"},null,null,null,null,null,null,null,null,null,null,null,null,null,null,null,null,null,null,null,null,null,null,null,null,null,null,null,null,null,{"$error":"#N/A"}]
[null,null,null,null,null,null,null,null,null,null,null,null,{"$error":"#N/A"},{"$error":"#N/A"},null,null,null,null,null,null,null,null,null,null,null,null,null,null,null,null,null,null,null,null,null,null,null,null,null,null,null,null,null,{"$error":"#N/A"}]
[null,null,null,null,null,null,null,null,null,null,null,null,{"$error":"#N/A"},{"$error":"#N/A"},null,null,null,null,null,null,null,null,null,null,null,null,null,null,null,null,null,null,null,null,null,null,null,null,null,null,null,null,null,{"$error":"#N/A"}]
[null,null,null,null,null,null,null,null,null,null,null,null,{"$error":"#N/A"},{"$error":"#N/A"},null,null,null,null,null,null,null,null,null,null,null,null,null,null,null,null,null,null,null,null,null,null,null,null,null,null,null,null,null,{"$error":"#N/A"}]
[null,null,null,null,null,null,null,null,null,null,null,null,{"$error":"#N/A"},{"$error":"#N/A"},null,null,null,null,null,null,null,null,null,null,null,null,null,null,null,null,null,null,null,null,null,null,null,null,null,null,null,null,null,{"$error":"#N/A"}]
[null,null,null,null,null,null,null,null,null,null,null,null,{"$error":"#N/A"},{"$error":"#N/A"},null,null,null,null,null,null,null,null,null,null,null,null,null,null,null,null,null,null,null,null,null,null,null,null,null,null,null,null,null,{"$error":"#N/A"}]
[null,null,null,null,null,null,null,null,null,null,null,null,{"$error":"#N/A"},{"$error":"#N/A"},null,null,null,null,null,null,null,null,null,null,null,null,null,null,null,null,null,null,null,null,null,null,null,null,null,null,null,null,null,{"$error":"#N/A"}]
[null,null,null,null,null,null,null,null,null,null,null,null,{"$error":"#N/A"},{"$error":"#N/A"},null,null,null,null,null,null,null,null,null,null,null,null,null,null,null,null,null,null,null,null,null,null,null,null,null,null,null,null,null,{"$error":"#N/A"}]
[null,null,null,null,null,null,null,null,null,null,null,null,{"$error":"#N/A"},{"$error":"#N/A"},null,null,null,null,null,null,null,null,null,null,null,null,null,null,null,null,null,null,null,null,null,null,null,null,null,null,null,null,null,{"$error":"#N/A"}]
[null,null,null,null,null,null,null,null,null,null,null,null,{"$error":"#N/A"},{"$error":"#N/A"},null,null,null,null,null,null,null,null,null,null,null,null,null,null,null,null,null,null,null,null,null,null,null,null,null,null,null,null,null,{"$error":"#N/A"}]
[null,null,null,null,null,null,null,null,null,null,null,null,{"$error":"#N/A"},{"$error":"#N/A"},null,null,null,null,null,null,null,null,null,null,null,null,null,null,null,null,null,null,null,null,null,null,null,null,null,null,null,null,null,{"$error":"#N/A"}]
[null,null,null,null,null,null,null,null,null,null,null,null,{"$error":"#N/A"},{"$error":"#N/A"},null,null,null,null,null,null,null,null,null,null,null,null,null,null,null,null,null,null,null,null,null,null,null,null,null,null,null,null,null,{"$error":"#N/A"}]
[null,null,null,null,null,null,null,null,null,null,null,null,{"$error":"#N/A"},{"$error":"#N/A"},null,null,null,null,null,null,null,null,null,null,null,null,null,null,null,null,null,null,null,null,null,null,null,null,null,null,null,null,null,{"$error":"#N/A"}]
[null,null,null,null,null,null,null,null,null,null,null,null,{"$error":"#N/A"},{"$error":"#N/A"},null,null,null,null,null,null,null,null,null,null,null,null,null,null,null,null,null,null,null,null,null,null,null,null,null,null,null,null,null,{"$error":"#N/A"}]
[null,null,null,null,null,null,null,null,null,null,null,null,{"$error":"#N/A"},{"$error":"#N/A"},null,null,null,null,null,null,null,null,null,null,null,null,null,null,null,null,null,null,null,null,null,null,null,null,null,null,null,null,null,{"$error":"#N/A"}]
[null,null,null,null,null,null,null,null,null,null,null,null,{"$error":"#N/A"},{"$error":"#N/A"},null,null,null,null,null,null,null,null,null,null,null,null,null,null,null,null,null,null,null,null,null,null,null,null,null,null,null,null,null,{"$error":"#N/A"}]
[null,null,null,null,null,null,null,null,null,null,null,null,{"$error":"#N/A"},{"$error":"#N/A"},null,null,null,null,null,null,null,null,null,null,null,null,null,null,null,null,null,null,null,null,null,null,null,null,null,null,null,null,null,{"$error":"#N/A"}]
[null,null,null,null,null,null,null,null,null,null,null,null,{"$error":"#N/A"},{"$error":"#N/A"},null,null,null,null,null,null,null,null,null,null,null,null,null,null,null,null,null,null,null,null,null,null,null,null,null,null,null,null,null,{"$error":"#N/A"}]
[null,null,null,null,null,null,null,null,null,null,null,null,{"$error":"#N/A"},{"$error":"#N/A"},null,null,null,null,null,null,null,null,null,null,null,null,null,null,null,null,null,null,null,null,null,null,null,null,null,null,null,null,null,{"$error":"#N/A"}]
[null,null,null,null,null,null,null,null,null,null,null,null,{"$error":"#N/A"},{"$error":"#N/A"},null,null,null,null,null,null,null,null,null,null,null,null,null,null,null,null,null,null,null,null,null,null,null,null,null,null,null,null,null,{"$error":"#N/A"}]
[null,null,null,null,null,null,null,null,null,null,null,null,{"$error":"#N/A"},{"$error":"#N/A"},null,null,null,null,null,null,null,null,null,null,null,null,null,null,null,null,null,null,null,null,null,null,null,null,null,null,null,null,null,{"$error":"#N/A"}]
[null,null,null,null,null,null,null,null,null,null,null,null,{"$error":"#N/A"},{"$error":"#N/A"},null,null,null,null,null,null,null,null,null,null,null,null,null,null,null,null,null,null,null,null,null,null,null,null,null,null,null,null,null,{"$error":"#N/A"}]
[null,null,null,null,null,null,null,null,null,null,null,null,{"$error":"#N/A"},{"$error":"#N/A"},null,null,null,null,null,null,null,null,null,null,null,null,null,null,null,null,null,null,null,null,null,null,null,null,null,null,null,null,null,{"$error":"#N/A"}]
[null,null,null,null,null,null,null,null,null,null,null,null,{"$f":"IF(AND($F$17=H4913,$AK$44=F4913),J4913,\"\")","v":{"$error":"#N/A"}},{"$f":"IF(AND($F$17=H4913,$AK$44=F4913),L4913,\"\")","v":{"$error":"#N/A"}},null,null,null,null,null,null,null,null,null,null,null,null,null,null,null,null,null,null,null,null,null,null,null,null,null,null,null,null,null,{"$error":"#N/A"}]
[null,null,null,null,null,null,null,null,null,null,null,null,{"$error":"#N/A"},{"$error":"#N/A"},null,null,null,null,null,null,null,null,null,null,null,null,null,null,null,null,null,null,null,null,null,null,null,null,null,null,null,null,null,{"$error":"#N/A"}]
[null,null,null,null,null,null,null,null,null,null,null,null,{"$error":"#N/A"},{"$error":"#N/A"},null,null,null,null,null,null,null,null,null,null,null,null,null,null,null,null,null,null,null,null,null,null,null,null,null,null,null,null,null,{"$error":"#N/A"}]
[null,null,null,null,null,null,null,null,null,null,null,null,{"$error":"#N/A"},{"$error":"#N/A"},null,null,null,null,null,null,null,null,null,null,null,null,null,null,null,null,null,null,null,null,null,null,null,null,null,null,null,null,null,{"$error":"#N/A"}]
[null,null,null,null,null,null,null,null,null,null,null,null,{"$error":"#N/A"},{"$error":"#N/A"},null,null,null,null,null,null,null,null,null,null,null,null,null,null,null,null,null,null,null,null,null,null,null,null,null,null,null,null,null,{"$error":"#N/A"}]
[null,null,null,null,null,null,null,null,null,null,null,null,{"$error":"#N/A"},{"$error":"#N/A"},null,null,null,null,null,null,null,null,null,null,null,null,null,null,null,null,null,null,null,null,null,null,null,null,null,null,null,null,null,{"$error":"#N/A"}]
[null,null,null,null,null,null,null,null,null,null,null,null,{"$error":"#N/A"},{"$error":"#N/A"},null,null,null,null,null,null,null,null,null,null,null,null,null,null,null,null,null,null,null,null,null,null,null,null,null,null,null,null,null,{"$error":"#N/A"}]
[null,null,null,null,null,null,null,null,null,null,null,null,{"$error":"#N/A"},{"$error":"#N/A"},null,null,null,null,null,null,null,null,null,null,null,null,null,null,null,null,null,null,null,null,null,null,null,null,null,null,null,null,null,{"$error":"#N/A"}]
[null,null,null,null,null,null,null,null,null,null,null,null,{"$error":"#N/A"},{"$error":"#N/A"},null,null,null,null,null,null,null,null,null,null,null,null,null,null,null,null,null,null,null,null,null,null,null,null,null,null,null,null,null,{"$error":"#N/A"}]
[null,null,null,null,null,null,null,null,null,null,null,null,{"$error":"#N/A"},{"$error":"#N/A"},null,null,null,null,null,null,null,null,null,null,null,null,null,null,null,null,null,null,null,null,null,null,null,null,null,null,null,null,null,{"$error":"#N/A"}]
[null,null,null,null,null,null,null,null,null,null,null,null,{"$error":"#N/A"},{"$error":"#N/A"},null,null,null,null,null,null,null,null,null,null,null,null,null,null,null,null,null,null,null,null,null,null,null,null,null,null,null,null,null,{"$error":"#N/A"}]
[null,null,null,null,null,null,null,null,null,null,null,null,{"$error":"#N/A"},{"$error":"#N/A"},null,null,null,null,null,null,null,null,null,null,null,null,null,null,null,null,null,null,null,null,null,null,null,null,null,null,null,null,null,{"$error":"#N/A"}]
[null,null,null,null,null,null,null,null,null,null,null,null,{"$error":"#N/A"},{"$error":"#N/A"},null,null,null,null,null,null,null,null,null,null,null,null,null,null,null,null,null,null,null,null,null,null,null,null,null,null,null,null,null,{"$error":"#N/A"}]
[null,null,null,null,null,null,null,null,null,null,null,null,{"$error":"#N/A"},{"$error":"#N/A"},null,null,null,null,null,null,null,null,null,null,null,null,null,null,null,null,null,null,null,null,null,null,null,null,null,null,null,null,null,{"$error":"#N/A"}]
[null,null,null,null,null,null,null,null,null,null,null,null,{"$error":"#N/A"},{"$error":"#N/A"},null,null,null,null,null,null,null,null,null,null,null,null,null,null,null,null,null,null,null,null,null,null,null,null,null,null,null,null,null,{"$error":"#N/A"}]
[null,null,null,null,null,null,null,null,null,null,null,null,{"$error":"#N/A"},{"$error":"#N/A"},null,null,null,null,null,null,null,null,null,null,null,null,null,null,null,null,null,null,null,null,null,null,null,null,null,null,null,null,null,{"$error":"#N/A"}]
[null,null,null,null,null,null,null,null,null,null,null,null,{"$error":"#N/A"},{"$error":"#N/A"},null,null,null,null,null,null,null,null,null,null,null,null,null,null,null,null,null,null,null,null,null,null,null,null,null,null,null,null,null,{"$error":"#N/A"}]
[null,null,null,null,null,null,null,null,null,null,null,null,{"$error":"#N/A"},{"$error":"#N/A"},null,null,null,null,null,null,null,null,null,null,null,null,null,null,null,null,null,null,null,null,null,null,null,null,null,null,null,null,null,{"$error":"#N/A"}]
[null,null,null,null,null,null,null,null,null,null,null,null,{"$error":"#N/A"},{"$error":"#N/A"},null,null,null,null,null,null,null,null,null,null,null,null,null,null,null,null,null,null,null,null,null,null,null,null,null,null,null,null,null,{"$error":"#N/A"}]
[null,null,null,null,null,null,null,null,null,null,null,null,{"$error":"#N/A"},{"$error":"#N/A"},null,null,null,null,null,null,null,null,null,null,null,null,null,null,null,null,null,null,null,null,null,null,null,null,null,null,null,null,null,{"$error":"#N/A"}]
[null,null,null,null,null,null,null,null,null,null,null,null,{"$error":"#N/A"},{"$error":"#N/A"},null,null,null,null,null,null,null,null,null,null,null,null,null,null,null,null,null,null,null,null,null,null,null,null,null,null,null,null,null,{"$error":"#N/A"}]
[null,null,null,null,null,null,null,null,null,null,null,null,{"$error":"#N/A"},{"$error":"#N/A"},null,null,null,null,null,null,null,null,null,null,null,null,null,null,null,null,null,null,null,null,null,null,null,null,null,null,null,null,null,{"$error":"#N/A"}]
[null,null,null,null,null,null,null,null,null,null,null,null,{"$error":"#N/A"},{"$error":"#N/A"},null,null,null,null,null,null,null,null,null,null,null,null,null,null,null,null,null,null,null,null,null,null,null,null,null,null,null,null,null,{"$error":"#N/A"}]
[null,null,null,null,null,null,null,null,null,null,null,null,{"$error":"#N/A"},{"$error":"#N/A"},null,null,null,null,null,null,null,null,null,null,null,null,null,null,null,null,null,null,null,null,null,null,null,null,null,null,null,null,null,{"$error":"#N/A"}]
[null,null,null,null,null,null,null,null,null,null,null,null,{"$error":"#N/A"},{"$error":"#N/A"},null,null,null,null,null,null,null,null,null,null,null,null,null,null,null,null,null,null,null,null,null,null,null,null,null,null,null,null,null,{"$error":"#N/A"}]
[null,null,null,null,null,null,null,null,null,null,null,null,{"$error":"#N/A"},{"$error":"#N/A"},null,null,null,null,null,null,null,null,null,null,null,null,null,null,null,null,null,null,null,null,null,null,null,null,null,null,null,null,null,{"$error":"#N/A"}]
[null,null,null,null,null,null,null,null,null,null,null,null,{"$error":"#N/A"},{"$error":"#N/A"},null,null,null,null,null,null,null,null,null,null,null,null,null,null,null,null,null,null,null,null,null,null,null,null,null,null,null,null,null,{"$error":"#N/A"}]
[null,null,null,null,null,null,null,null,null,null,null,null,{"$error":"#N/A"},{"$error":"#N/A"},null,null,null,null,null,null,null,null,null,null,null,null,null,null,null,null,null,null,null,null,null,null,null,null,null,null,null,null,null,{"$error":"#N/A"}]
[null,null,null,null,null,null,null,null,null,null,null,null,{"$error":"#N/A"},{"$error":"#N/A"},null,null,null,null,null,null,null,null,null,null,null,null,null,null,null,null,null,null,null,null,null,null,null,null,null,null,null,null,null,{"$error":"#N/A"}]
[null,null,null,null,null,null,null,null,null,null,null,null,{"$error":"#N/A"},{"$error":"#N/A"},null,null,null,null,null,null,null,null,null,null,null,null,null,null,null,null,null,null,null,null,null,null,null,null,null,null,null,null,null,{"$error":"#N/A"}]
[null,null,null,null,null,null,null,null,null,null,null,null,{"$error":"#N/A"},{"$error":"#N/A"},null,null,null,null,null,null,null,null,null,null,null,null,null,null,null,null,null,null,null,null,null,null,null,null,null,null,null,null,null,{"$error":"#N/A"}]
[null,null,null,null,null,null,null,null,null,null,null,null,{"$error":"#N/A"},{"$error":"#N/A"},null,null,null,null,null,null,null,null,null,null,null,null,null,null,null,null,null,null,null,null,null,null,null,null,null,null,null,null,null,{"$error":"#N/A"}]
[null,null,null,null,null,null,null,null,null,null,null,null,{"$error":"#N/A"},{"$error":"#N/A"},null,null,null,null,null,null,null,null,null,null,null,null,null,null,null,null,null,null,null,null,null,null,null,null,null,null,null,null,null,{"$error":"#N/A"}]
[null,null,null,null,null,null,null,null,null,null,null,null,{"$error":"#N/A"},{"$error":"#N/A"},null,null,null,null,null,null,null,null,null,null,null,null,null,null,null,null,null,null,null,null,null,null,null,null,null,null,null,null,null,{"$error":"#N/A"}]
[null,null,null,null,null,null,null,null,null,null,null,null,{"$error":"#N/A"},{"$error":"#N/A"},null,null,null,null,null,null,null,null,null,null,null,null,null,null,null,null,null,null,null,null,null,null,null,null,null,null,null,null,null,{"$error":"#N/A"}]
[null,null,null,null,null,null,null,null,null,null,null,null,{"$error":"#N/A"},{"$error":"#N/A"},null,null,null,null,null,null,null,null,null,null,null,null,null,null,null,null,null,null,null,null,null,null,null,null,null,null,null,null,null,{"$error":"#N/A"}]
[null,null,null,null,null,null,null,null,null,null,null,null,{"$error":"#N/A"},{"$error":"#N/A"},null,null,null,null,null,null,null,null,null,null,null,null,null,null,null,null,null,null,null,null,null,null,null,null,null,null,null,null,null,{"$error":"#N/A"}]
[null,null,null,null,null,null,null,null,null,null,null,null,{"$error":"#N/A"},{"$error":"#N/A"},null,null,null,null,null,null,null,null,null,null,null,null,null,null,null,null,null,null,null,null,null,null,null,null,null,null,null,null,null,{"$error":"#N/A"}]
[null,null,null,null,null,null,null,null,null,null,null,null,{"$error":"#N/A"},{"$error":"#N/A"},null,null,null,null,null,null,null,null,null,null,null,null,null,null,null,null,null,null,null,null,null,null,null,null,null,null,null,null,null,{"$error":"#N/A"}]
[null,null,null,null,null,null,null,null,null,null,null,null,{"$error":"#N/A"},{"$error":"#N/A"},null,null,null,null,null,null,null,null,null,null,null,null,null,null,null,null,null,null,null,null,null,null,null,null,null,null,null,null,null,{"$error":"#N/A"}]
[null,null,null,null,null,null,null,null,null,null,null,null,{"$f":"IF(AND($F$17=H5105,$AK$44=F5105),J5105,\"\")","v":{"$error":"#N/A"}},{"$f":"IF(AND($F$17=H5105,$AK$44=F5105),L5105,\"\")","v":{"$error":"#N/A"}},null,null,null,null,null,null,null,null,null,null,null,null,null,null,null,null,null,null,null,null,null,null,null,null,null,null,null,null,null,{"$error":"#N/A"}]
[null,null,null,null,null,null,null,null,null,null,null,null,{"$error":"#N/A"},{"$error":"#N/A"},null,null,null,null,null,null,null,null,null,null,null,null,null,null,null,null,null,null,null,null,null,null,null,null,null,null,null,null,null,{"$error":"#N/A"}]
[null,null,null,null,null,null,null,null,null,null,null,null,{"$error":"#N/A"},{"$error":"#N/A"},null,null,null,null,null,null,null,null,null,null,null,null,null,null,null,null,null,null,null,null,null,null,null,null,null,null,null,null,null,{"$error":"#N/A"}]
[null,null,null,null,null,null,null,null,null,null,null,null,{"$error":"#N/A"},{"$error":"#N/A"},null,null,null,null,null,null,null,null,null,null,null,null,null,null,null,null,null,null,null,null,null,null,null,null,null,null,null,null,null,{"$error":"#N/A"}]
[null,null,null,null,null,null,null,null,null,null,null,null,{"$error":"#N/A"},{"$error":"#N/A"},null,null,null,null,null,null,null,null,null,null,null,null,null,null,null,null,null,null,null,null,null,null,null,null,null,null,null,null,null,{"$error":"#N/A"}]
[null,null,null,null,null,null,null,null,null,null,null,null,{"$error":"#N/A"},{"$error":"#N/A"},null,null,null,null,null,null,null,null,null,null,null,null,null,null,null,null,null,null,null,null,null,null,null,null,null,null,null,null,null,{"$error":"#N/A"}]
[null,null,null,null,null,null,null,null,null,null,null,null,{"$error":"#N/A"},{"$error":"#N/A"},null,null,null,null,null,null,null,null,null,null,null,null,null,null,null,null,null,null,null,null,null,null,null,null,null,null,null,null,null,{"$error":"#N/A"}]
[null,null,null,null,null,null,null,null,null,null,null,null,{"$error":"#N/A"},{"$error":"#N/A"},null,null,null,null,null,null,null,null,null,null,null,null,null,null,null,null,null,null,null,null,null,null,null,null,null,null,null,null,null,{"$error":"#N/A"}]
[null,null,null,null,null,null,null,null,null,null,null,null,{"$error":"#N/A"},{"$error":"#N/A"},null,null,null,null,null,null,null,null,null,null,null,null,null,null,null,null,null,null,null,null,null,null,null,null,null,null,null,null,null,{"$error":"#N/A"}]
[null,null,null,null,null,null,null,null,null,null,null,null,{"$error":"#N/A"},{"$error":"#N/A"},null,null,null,null,null,null,null,null,null,null,null,null,null,null,null,null,null,null,null,null,null,null,null,null,null,null,null,null,null,{"$error":"#N/A"}]
[null,null,null,null,null,null,null,null,null,null,null,null,{"$error":"#N/A"},{"$error":"#N/A"},null,null,null,null,null,null,null,null,null,null,null,null,null,null,null,null,null,null,null,null,null,null,null,null,null,null,null,null,null,{"$error":"#N/A"}]
[null,null,null,null,null,null,null,null,null,null,null,null,{"$error":"#N/A"},{"$error":"#N/A"},null,null,null,null,null,null,null,null,null,null,null,null,null,null,null,null,null,null,null,null,null,null,null,null,null,null,null,null,null,{"$error":"#N/A"}]
[null,null,null,null,null,null,null,null,null,null,null,null,{"$error":"#N/A"},{"$error":"#N/A"},null,null,null,null,null,null,null,null,null,null,null,null,null,null,null,null,null,null,null,null,null,null,null,null,null,null,null,null,null,{"$error":"#N/A"}]
[null,null,null,null,null,null,null,null,null,null,null,null,{"$error":"#N/A"},{"$error":"#N/A"},null,null,null,null,null,null,null,null,null,null,null,null,null,null,null,null,null,null,null,null,null,null,null,null,null,null,null,null,null,{"$error":"#N/A"}]
[null,null,null,null,null,null,null,null,null,null,null,null,{"$error":"#N/A"},{"$error":"#N/A"},null,null,null,null,null,null,null,null,null,null,null,null,null,null,null,null,null,null,null,null,null,null,null,null,null,null,null,null,null,{"$error":"#N/A"}]
[null,null,null,null,null,null,null,null,null,null,null,null,{"$error":"#N/A"},{"$error":"#N/A"},null,null,null,null,null,null,null,null,null,null,null,null,null,null,null,null,null,null,null,null,null,null,null,null,null,null,null,null,null,{"$error":"#N/A"}]
[null,null,null,null,null,null,null,null,null,null,null,null,{"$error":"#N/A"},{"$error":"#N/A"},null,null,null,null,null,null,null,null,null,null,null,null,null,null,null,null,null,null,null,null,null,null,null,null,null,null,null,null,null,{"$error":"#N/A"}]
[null,null,null,null,null,null,null,null,null,null,null,null,{"$error":"#N/A"},{"$error":"#N/A"},null,null,null,null,null,null,null,null,null,null,null,null,null,null,null,null,null,null,null,null,null,null,null,null,null,null,null,null,null,{"$error":"#N/A"}]
[null,null,null,null,null,null,null,null,null,null,null,null,{"$error":"#N/A"},{"$error":"#N/A"},null,null,null,null,null,null,null,null,null,null,null,null,null,null,null,null,null,null,null,null,null,null,null,null,null,null,null,null,null,{"$error":"#N/A"}]
[null,null,null,null,null,null,null,null,null,null,null,null,{"$error":"#N/A"},{"$error":"#N/A"},null,null,null,null,null,null,null,null,null,null,null,null,null,null,null,null,null,null,null,null,null,null,null,null,null,null,null,null,null,{"$error":"#N/A"}]
[null,null,null,null,null,null,null,null,null,null,null,null,{"$error":"#N/A"},{"$error":"#N/A"},null,null,null,null,null,null,null,null,null,null,null,null,null,null,null,null,null,null,null,null,null,null,null,null,null,null,null,null,null,{"$error":"#N/A"}]
[null,null,null,null,null,null,null,null,null,null,null,null,{"$error":"#N/A"},{"$error":"#N/A"},null,null,null,null,null,null,null,null,null,null,null,null,null,null,null,null,null,null,null,null,null,null,null,null,null,null,null,null,null,{"$error":"#N/A"}]
[null,null,null,null,null,null,null,null,null,null,null,null,{"$error":"#N/A"},{"$error":"#N/A"},null,null,null,null,null,null,null,null,null,null,null,null,null,null,null,null,null,null,null,null,null,null,null,null,null,null,null,null,null,{"$error":"#N/A"}]
[null,null,null,null,null,null,null,null,null,null,null,null,{"$error":"#N/A"},{"$error":"#N/A"},null,null,null,null,null,null,null,null,null,null,null,null,null,null,null,null,null,null,null,null,null,null,null,null,null,null,null,null,null,{"$error":"#N/A"}]
[null,null,null,null,null,null,null,null,null,null,null,null,{"$error":"#N/A"},{"$error":"#N/A"},null,null,null,null,null,null,null,null,null,null,null,null,null,null,null,null,null,null,null,null,null,null,null,null,null,null,null,null,null,{"$error":"#N/A"}]
[null,null,null,null,null,null,null,null,null,null,null,null,{"$error":"#N/A"},{"$error":"#N/A"},null,null,null,null,null,null,null,null,null,null,null,null,null,null,null,null,null,null,null,null,null,null,null,null,null,null,null,null,null,{"$error":"#N/A"}]
[null,null,null,null,null,null,null,null,null,null,null,null,{"$error":"#N/A"},{"$error":"#N/A"},null,null,null,null,null,null,null,null,null,null,null,null,null,null,null,null,null,null,null,null,null,null,null,null,null,null,null,null,null,{"$error":"#N/A"}]
[null,null,null,null,null,null,null,null,null,null,null,null,{"$error":"#N/A"},{"$error":"#N/A"},null,null,null,null,null,null,null,null,null,null,null,null,null,null,null,null,null,null,null,null,null,null,null,null,null,null,null,null,null,{"$error":"#N/A"}]
[null,null,null,null,null,null,null,null,null,null,null,null,{"$error":"#N/A"},{"$error":"#N/A"},null,null,null,null,null,null,null,null,null,null,null,null,null,null,null,null,null,null,null,null,null,null,null,null,null,null,null,null,null,{"$error":"#N/A"}]
[null,null,null,null,null,null,null,null,null,null,null,null,{"$error":"#N/A"},{"$error":"#N/A"},null,null,null,null,null,null,null,null,null,null,null,null,null,null,null,null,null,null,null,null,null,null,null,null,null,null,null,null,null,{"$error":"#N/A"}]
[null,null,null,null,null,null,null,null,null,null,null,null,{"$error":"#N/A"},{"$error":"#N/A"},null,null,null,null,null,null,null,null,null,null,null,null,null,null,null,null,null,null,null,null,null,null,null,null,null,null,null,null,null,{"$error":"#N/A"}]
[null,null,null,null,null,null,null,null,null,null,null,null,{"$error":"#N/A"},{"$error":"#N/A"},null,null,null,null,null,null,null,null,null,null,null,null,null,null,null,null,null,null,null,null,null,null,null,null,null,null,null,null,null,{"$error":"#N/A"}]
[null,null,null,null,null,null,null,null,null,null,null,null,{"$error":"#N/A"},{"$error":"#N/A"},null,null,null,null,null,null,null,null,null,null,null,null,null,null,null,null,null,null,null,null,null,null,null,null,null,null,null,null,null,{"$error":"#N/A"}]
[null,null,null,null,null,null,null,null,null,null,null,null,{"$error":"#N/A"},{"$error":"#N/A"},null,null,null,null,null,null,null,null,null,null,null,null,null,null,null,null,null,null,null,null,null,null,null,null,null,null,null,null,null,{"$error":"#N/A"}]
[null,null,null,null,null,null,null,null,null,null,null,null,{"$error":"#N/A"},{"$error":"#N/A"},null,null,null,null,null,null,null,null,null,null,null,null,null,null,null,null,null,null,null,null,null,null,null,null,null,null,null,null,null,{"$error":"#N/A"}]
[null,null,null,null,null,null,null,null,null,null,null,null,{"$error":"#N/A"},{"$error":"#N/A"},null,null,null,null,null,null,null,null,null,null,null,null,null,null,null,null,null,null,null,null,null,null,null,null,null,null,null,null,null,{"$error":"#N/A"}]
[null,null,null,null,null,null,null,null,null,null,null,null,{"$error":"#N/A"},{"$error":"#N/A"},null,null,null,null,null,null,null,null,null,null,null,null,null,null,null,null,null,null,null,null,null,null,null,null,null,null,null,null,null,{"$error":"#N/A"}]
[null,null,null,null,null,null,null,null,null,null,null,null,{"$error":"#N/A"},{"$error":"#N/A"},null,null,null,null,null,null,null,null,null,null,null,null,null,null,null,null,null,null,null,null,null,null,null,null,null,null,null,null,null,{"$error":"#N/A"}]
[null,null,null,null,null,null,null,null,null,null,null,null,{"$error":"#N/A"},{"$error":"#N/A"},null,null,null,null,null,null,null,null,null,null,null,null,null,null,null,null,null,null,null,null,null,null,null,null,null,null,null,null,null,{"$error":"#N/A"}]
[null,null,null,null,null,null,null,null,null,null,null,null,{"$error":"#N/A"},{"$error":"#N/A"},null,null,null,null,null,null,null,null,null,null,null,null,null,null,null,null,null,null,null,null,null,null,null,null,null,null,null,null,null,{"$error":"#N/A"}]
[null,null,null,null,null,null,null,null,null,null,null,null,{"$f":"IF(AND($F$17=H5297,$AK$44=F5297),J5297,\"\")","v":{"$error":"#N/A"}},{"$f":"IF(AND($F$17=H5297,$AK$44=F5297),L5297,\"\")","v":{"$error":"#N/A"}},null,null,null,null,null,null,null,null,null,null,null,null,null,null,null,null,null,null,null,null,null,null,null,null,null,null,null,null,null,{"$error":"#N/A"}]
[null,null,null,null,null,null,null,null,null,null,null,null,{"$error":"#N/A"},{"$error":"#N/A"},null,null,null,null,null,null,null,null,null,null,null,null,null,null,null,null,null,null,null,null,null,null,null,null,null,null,null,null,null,{"$error":"#N/A"}]
[null,null,null,null,null,null,null,null,null,null,null,null,{"$error":"#N/A"},{"$error":"#N/A"},null,null,null,null,null,null,null,null,null,null,null,null,null,null,null,null,null,null,null,null,null,null,null,null,null,null,null,null,null,{"$error":"#N/A"}]
[null,null,null,null,null,null,null,null,null,null,null,null,{"$error":"#N/A"},{"$error":"#N/A"},null,null,null,null,null,null,null,null,null,null,null,null,null,null,null,null,null,null,null,null,null,null,null,null,null,null,null,null,null,{"$error":"#N/A"}]
[null,null,null,null,null,null,null,null,null,null,null,null,{"$error":"#N/A"},{"$error":"#N/A"},null,null,null,null,null,null,null,null,null,null,null,null,null,null,null,null,null,null,null,null,null,null,null,null,null,null,null,null,null,{"$error":"#N/A"}]
[null,null,null,null,null,null,null,null,null,null,null,null,{"$error":"#N/A"},{"$error":"#N/A"},null,null,null,null,null,null,null,null,null,null,null,null,null,null,null,null,null,null,null,null,null,null,null,null,null,null,null,null,null,{"$error":"#N/A"}]
[null,null,null,null,null,null,null,null,null,null,null,null,{"$error":"#N/A"},{"$error":"#N/A"},null,null,null,null,null,null,null,null,null,null,null,null,null,null,null,null,null,null,null,null,null,null,null,null,null,null,null,null,null,{"$error":"#N/A"}]
[null,null,null,null,null,null,null,null,null,null,null,null,{"$error":"#N/A"},{"$error":"#N/A"},null,null,null,null,null,null,null,null,null,null,null,null,null,null,null,null,null,null,null,null,null,null,null,null,null,null,null,null,null,{"$error":"#N/A"}]
[null,null,null,null,null,null,null,null,null,null,null,null,{"$error":"#N/A"},{"$error":"#N/A"},null,null,null,null,null,null,null,null,null,null,null,null,null,null,null,null,null,null,null,null,null,null,null,null,null,null,null,null,null,{"$error":"#N/A"}]
[null,null,null,null,null,null,null,null,null,null,null,null,{"$error":"#N/A"},{"$error":"#N/A"},null,null,null,null,null,null,null,null,null,null,null,null,null,null,null,null,null,null,null,null,null,null,null,null,null,null,null,null,null,{"$error":"#N/A"}]
[null,null,null,null,null,null,null,null,null,null,null,null,{"$error":"#N/A"},{"$error":"#N/A"},null,null,null,null,null,null,null,null,null,null,null,null,null,null,null,null,null,null,null,null,null,null,null,null,null,null,null,null,null,{"$error":"#N/A"}]
[null,null,null,null,null,null,null,null,null,null,null,null,{"$error":"#N/A"},{"$error":"#N/A"},null,null,null,null,null,null,null,null,null,null,null,null,null,null,null,null,null,null,null,null,null,null,null,null,null,null,null,null,null,{"$error":"#N/A"}]
[null,null,null,null,null,null,null,null,null,null,null,null,{"$error":"#N/A"},{"$error":"#N/A"},null,null,null,null,null,null,null,null,null,null,null,null,null,null,null,null,null,null,null,null,null,null,null,null,null,null,null,null,null,{"$error":"#N/A"}]
[null,null,null,null,null,null,null,null,null,null,null,null,{"$error":"#N/A"},{"$error":"#N/A"},null,null,null,null,null,null,null,null,null,null,null,null,null,null,null,null,null,null,null,null,null,null,null,null,null,null,null,null,null,{"$error":"#N/A"}]
[null,null,null,null,null,null,null,null,null,null,null,null,{"$error":"#N/A"},{"$error":"#N/A"},null,null,null,null,null,null,null,null,null,null,null,null,null,null,null,null,null,null,null,null,null,null,null,null,null,null,null,null,null,{"$error":"#N/A"}]
[null,null,null,null,null,null,null,null,null,null,null,null,{"$error":"#N/A"},{"$error":"#N/A"},null,null,null,null,null,null,null,null,null,null,null,null,null,null,null,null,null,null,null,null,null,null,null,null,null,null,null,null,null,{"$error":"#N/A"}]
[null,null,null,null,null,null,null,null,null,null,null,null,{"$error":"#N/A"},{"$error":"#N/A"},null,null,null,null,null,null,null,null,null,null,null,null,null,null,null,null,null,null,null,null,null,null,null,null,null,null,null,null,null,{"$error":"#N/A"}]
[null,null,null,null,null,null,null,null,null,null,null,null,{"$error":"#N/A"},{"$error":"#N/A"},null,null,null,null,null,null,null,null,null,null,null,null,null,null,null,null,null,null,null,null,null,null,null,null,null,null,null,null,null,{"$error":"#N/A"}]
[null,null,null,null,null,null,null,null,null,null,null,null,{"$error":"#N/A"},{"$error":"#N/A"},null,null,null,null,null,null,null,null,null,null,null,null,null,null,null,null,null,null,null,null,null,null,null,null,null,null,null,null,null,{"$error":"#N/A"}]
[null,null,null,null,null,null,null,null,null,null,null,null,{"$error":"#N/A"},{"$error":"#N/A"},null,null,null,null,null,null,null,null,null,null,null,null,null,null,null,null,null,null,null,null,null,null,null,null,null,null,null,null,null,{"$error":"#N/A"}]
[null,null,null,null,null,null,null,null,null,null,null,null,{"$error":"#N/A"},{"$error":"#N/A"},null,null,null,null,null,null,null,null,null,null,null,null,null,null,null,null,null,null,null,null,null,null,null,null,null,null,null,null,null,{"$error":"#N/A"}]
[null,null,null,null,null,null,null,null,null,null,null,null,{"$error":"#N/A"},{"$error":"#N/A"},null,null,null,null,null,null,null,null,null,null,null,null,null,null,null,null,null,null,null,null,null,null,null,null,null,null,null,null,null,{"$error":"#N/A"}]
[null,null,null,null,null,null,null,null,null,null,null,null,{"$error":"#N/A"},{"$error":"#N/A"},null,null,null,null,null,null,null,null,null,null,null,null,null,null,null,null,null,null,null,null,null,null,null,null,null,null,null,null,null,{"$error":"#N/A"}]
[null,null,null,null,null,null,null,null,null,null,null,null,{"$error":"#N/A"},{"$error":"#N/A"},null,null,null,null,null,null,null,null,null,null,null,null,null,null,null,null,null,null,null,null,null,null,null,null,null,null,null,null,null,{"$error":"#N/A"}]
[null,null,null,null,null,null,null,null,null,null,null,null,{"$error":"#N/A"},{"$error":"#N/A"},null,null,null,null,null,null,null,null,null,null,null,null,null,null,null,null,null,null,null,null,null,null,null,null,null,null,null,null,null,{"$error":"#N/A"}]
[null,null,null,null,null,null,null,null,null,null,null,null,{"$error":"#N/A"},{"$error":"#N/A"},null,null,null,null,null,null,null,null,null,null,null,null,null,null,null,null,null,null,null,null,null,null,null,null,null,null,null,null,null,{"$error":"#N/A"}]
[null,null,null,null,null,null,null,null,null,null,null,null,{"$error":"#N/A"},{"$error":"#N/A"},null,null,null,null,null,null,null,null,null,null,null,null,null,null,null,null,null,null,null,null,null,null,null,null,null,null,null,null,null,{"$error":"#N/A"}]
[null,null,null,null,null,null,null,null,null,null,null,null,{"$error":"#N/A"},{"$error":"#N/A"},null,null,null,null,null,null,null,null,null,null,null,null,null,null,null,null,null,null,null,null,null,null,null,null,null,null,null,null,null,{"$error":"#N/A"}]
[null,null,null,null,null,null,null,null,null,null,null,null,{"$error":"#N/A"},{"$error":"#N/A"},null,null,null,null,null,null,null,null,null,null,null,null,null,null,null,null,null,null,null,null,null,null,null,null,null,null,null,null,null,{"$error":"#N/A"}]
[null,null,null,null,null,null,null,null,null,null,null,null,{"$error":"#N/A"},{"$error":"#N/A"},null,null,null,null,null,null,null,null,null,null,null,null,null,null,null,null,null,null,null,null,null,null,null,null,null,null,null,null,null,{"$error":"#N/A"}]
[null,null,null,null,null,null,null,null,null,null,null,null,{"$error":"#N/A"},{"$error":"#N/A"},null,null,null,null,null,null,null,null,null,null,null,null,null,null,null,null,null,null,null,null,null,null,null,null,null,null,null,null,null,{"$error":"#N/A"}]
[null,null,null,null,null,null,null,null,null,null,null,null,{"$error":"#N/A"},{"$error":"#N/A"},null,null,null,null,null,null,null,null,null,null,null,null,null,null,null,null,null,null,null,null,null,null,null,null,null,null,null,null,null,{"$error":"#N/A"}]
[null,null,null,null,null,null,null,null,null,null,null,null,{"$error":"#N/A"},{"$error":"#N/A"},null,null,null,null,null,null,null,null,null,null,null,null,null,null,null,null,null,null,null,null,null,null,null,null,null,null,null,null,null,{"$error":"#N/A"}]
[null,null,null,null,null,null,null,null,null,null,null,null,{"$error":"#N/A"},{"$error":"#N/A"},null,null,null,null,null,null,null,null,null,null,null,null,null,null,null,null,null,null,null,null,null,null,null,null,null,null,null,null,null,{"$error":"#N/A"}]
[null,null,null,null,null,null,null,null,null,null,null,null,{"$error":"#N/A"},{"$error":"#N/A"},null,null,null,null,null,null,null,null,null,null,null,null,null,null,null,null,null,null,null,null,null,null,null,null,null,null,null,null,null,{"$error":"#N/A"}]
[null,null,null,null,null,null,null,null,null,null,null,null,{"$error":"#N/A"},{"$error":"#N/A"},null,null,null,null,null,null,null,null,null,null,null,null,null,null,null,null,null,null,null,null,null,null,null,null,null,null,null,null,null,{"$error":"#N/A"}]
[null,null,null,null,null,null,null,null,null,null,null,null,{"$error":"#N/A"},{"$error":"#N/A"},null,null,null,null,null,null,null,null,null,null,null,null,null,null,null,null,null,null,null,null,null,null,null,null,null,null,null,null,null,{"$error":"#N/A"}]
[null,null,null,null,null,null,null,null,null,null,null,null,{"$error":"#N/A"},{"$error":"#N/A"},null,null,null,null,null,null,null,null,null,null,null,null,null,null,null,null,null,null,null,null,null,null,null,null,null,null,null,null,null,{"$error":"#N/A"}]
[null,null,null,null,null,null,null,null,null,null,null,null,{"$error":"#N/A"},{"$error":"#N/A"},null,null,null,null,null,null,null,null,null,null,null,null,null,null,null,null,null,null,null,null,null,null,null,null,null,null,null,null,null,{"$error":"#N/A"}]
[null,null,null,null,null,null,null,null,null,null,null,null,{"$error":"#N/A"},{"$error":"#N/A"},null,null,null,null,null,null,null,null,null,null,null,null,null,null,null,null,null,null,null,null,null,null,null,null,null,null,null,null,null,{"$error":"#N/A"}]
[null,null,null,null,null,null,null,null,null,null,null,null,{"$error":"#N/A"},{"$error":"#N/A"},null,null,null,null,null,null,null,null,null,null,null,null,null,null,null,null,null,null,null,null,null,null,null,null,null,null,null,null,null,{"$error":"#N/A"}]
[null,null,null,null,null,null,null,null,null,null,null,null,{"$error":"#N/A"},{"$error":"#N/A"},null,null,null,null,null,null,null,null,null,null,null,null,null,null,null,null,null,null,null,null,null,null,null,null,null,null,null,null,null,{"$error":"#N/A"}]
[null,null,null,null,null,null,null,null,null,null,null,null,{"$error":"#N/A"},{"$error":"#N/A"},null,null,null,null,null,null,null,null,null,null,null,null,null,null,null,null,null,null,null,null,null,null,null,null,null,null,null,null,null,{"$error":"#N/A"}]
[null,null,null,null,null,null,null,null,null,null,null,null,{"$error":"#N/A"},{"$error":"#N/A"},null,null,null,null,null,null,null,null,null,null,null,null,null,null,null,null,null,null,null,null,null,null,null,null,null,null,null,null,null,{"$error":"#N/A"}]
[null,null,null,null,null,null,null,null,null,null,null,null,{"$error":"#N/A"},{"$error":"#N/A"},null,null,null,null,null,null,null,null,null,null,null,null,null,null,null,null,null,null,null,null,null,null,null,null,null,null,null,null,null,{"$error":"#N/A"}]
[null,null,null,null,null,null,null,null,null,null,null,null,{"$error":"#N/A"},{"$error":"#N/A"},null,null,null,null,null,null,null,null,null,null,null,null,null,null,null,null,null,null,null,null,null,null,null,null,null,null,null,null,null,{"$error":"#N/A"}]
[null,null,null,null,null,null,null,null,null,null,null,null,{"$error":"#N/A"},{"$error":"#N/A"},null,null,null,null,null,null,null,null,null,null,null,null,null,null,null,null,null,null,null,null,null,null,null,null,null,null,null,null,null,{"$error":"#N/A"}]
[null,null,null,null,null,null,null,null,null,null,null,null,{"$error":"#N/A"},{"$error":"#N/A"},null,null,null,null,null,null,null,null,null,null,null,null,null,null,null,null,null,null,null,null,null,null,null,null,null,null,null,null,null,{"$error":"#N/A"}]
[null,null,null,null,null,null,null,null,null,null,null,null,{"$error":"#N/A"},{"$error":"#N/A"},null,null,null,null,null,null,null,null,null,null,null,null,null,null,null,null,null,null,null,null,null,null,null,null,null,null,null,null,null,{"$error":"#N/A"}]
[null,null,null,null,null,null,null,null,null,null,null,null,{"$error":"#N/A"},{"$error":"#N/A"},null,null,null,null,null,null,null,null,null,null,null,null,null,null,null,null,null,null,null,null,null,null,null,null,null,null,null,null,null,{"$error":"#N/A"}]
[null,null,null,null,null,null,null,null,null,null,null,null,{"$error":"#N/A"},{"$error":"#N/A"},null,null,null,null,null,null,null,null,null,null,null,null,null,null,null,null,null,null,null,null,null,null,null,null,null,null,null,null,null,{"$error":"#N/A"}]
[null,null,null,null,null,null,null,null,null,null,null,null,{"$error":"#N/A"},{"$error":"#N/A"},null,null,null,null,null,null,null,null,null,null,null,null,null,null,null,null,null,null,null,null,null,null,null,null,null,null,null,null,null,{"$error":"#N/A"}]
[null,null,null,null,null,null,null,null,null,null,null,null,{"$error":"#N/A"},{"$error":"#N/A"},null,null,null,null,null,null,null,null,null,null,null,null,null,null,null,null,null,null,null,null,null,null,null,null,null,null,null,null,null,{"$error":"#N/A"}]
[null,null,null,null,null,null,null,null,null,null,null,null,{"$error":"#N/A"},{"$error":"#N/A"},null,null,null,null,null,null,null,null,null,null,null,null,null,null,null,null,null,null,null,null,null,null,null,null,null,null,null,null,null,{"$error":"#N/A"}]
[null,null,null,null,null,null,null,null,null,null,null,null,{"$error":"#N/A"},{"$error":"#N/A"},null,null,null,null,null,null,null,null,null,null,null,null,null,null,null,null,null,null,null,null,null,null,null,null,null,null,null,null,null,{"$error":"#N/A"}]
[null,null,null,null,null,null,null,null,null,null,null,null,{"$error":"#N/A"},{"$error":"#N/A"},null,null,null,null,null,null,null,null,null,null,null,null,null,null,null,null,null,null,null,null,null,null,null,null,null,null,null,null,null,{"$error":"#N/A"}]
[null,null,null,null,null,null,null,null,null,null,null,null,{"$error":"#N/A"},{"$error":"#N/A"},null,null,null,null,null,null,null,null,null,null,null,null,null,null,null,null,null,null,null,null,null,null,null,null,null,null,null,null,null,{"$error":"#N/A"}]
[null,null,null,null,null,null,null,null,null,null,null,null,{"$error":"#N/A"},{"$error":"#N/A"},null,null,null,null,null,null,null,null,null,null,null,null,null,null,null,null,null,null,null,null,null,null,null,null,null,null,null,null,null,{"$error":"#N/A"}]
[null,null,null,null,null,null,null,null,null,null,null,null,{"$error":"#N/A"},{"$error":"#N/A"},null,null,null,null,null,null,null,null,null,null,null,null,null,null,null,null,null,null,null,null,null,null,null,null,null,null,null,null,null,{"$error":"#N/A"}]
[null,null,null,null,null,null,null,null,null,null,null,null,{"$error":"#N/A"},{"$error":"#N/A"},null,null,null,null,null,null,null,null,null,null,null,null,null,null,null,null,null,null,null,null,null,null,null,null,null,null,null,null,null,{"$error":"#N/A"}]
[null,null,null,null,null,null,null,null,null,null,null,null,{"$error":"#N/A"},{"$error":"#N/A"},null,null,null,null,null,null,null,null,null,null,null,null,null,null,null,null,null,null,null,null,null,null,null,null,null,null,null,null,null,{"$error":"#N/A"}]
[null,null,null,null,null,null,null,null,null,null,null,null,{"$error":"#N/A"},{"$error":"#N/A"},null,null,null,null,null,null,null,null,null,null,null,null,null,null,null,null,null,null,null,null,null,null,null,null,null,null,null,null,null,{"$error":"#N/A"}]
[null,null,null,null,null,null,null,null,null,null,null,null,{"$error":"#N/A"},{"$error":"#N/A"},null,null,null,null,null,null,null,null,null,null,null,null,null,null,null,null,null,null,null,null,null,null,null,null,null,null,null,null,null,{"$error":"#N/A"}]
[null,null,null,null,null,null,null,null,null,null,null,null,{"$error":"#N/A"},{"$error":"#N/A"},null,null,null,null,null,null,null,null,null,null,null,null,null,null,null,null,null,null,null,null,null,null,null,null,null,null,null,null,null,{"$error":"#N/A"}]
[null,null,null,null,null,null,null,null,null,null,null,null,{"$error":"#N/A"},{"$error":"#N/A"},null,null,null,null,null,null,null,null,null,null,null,null,null,null,null,null,null,null,null,null,null,null,null,null,null,null,null,null,null,{"$error":"#N/A"}]
[null,null,null,null,null,null,null,null,null,null,null,null,{"$error":"#N/A"},{"$error":"#N/A"},null,null,null,null,null,null,null,null,null,null,null,null,null,null,null,null,null,null,null,null,null,null,null,null,null,null,null,null,null,{"$error":"#N/A"}]
[null,null,null,null,null,null,null,null,null,null,null,null,{"$error":"#N/A"},{"$error":"#N/A"},null,null,null,null,null,null,null,null,null,null,null,null,null,null,null,null,null,null,null,null,null,null,null,null,null,null,null,null,null,{"$error":"#N/A"}]
[null,null,null,null,null,null,null,null,null,null,null,null,{"$error":"#N/A"},{"$error":"#N/A"},null,null,null,null,null,null,null,null,null,null,null,null,null,null,null,null,null,null,null,null,null,null,null,null,null,null,null,null,null,{"$error":"#N/A"}]
[null,null,null,null,null,null,null,null,null,null,null,null,{"$error":"#N/A"},{"$error":"#N/A"},null,null,null,null,null,null,null,null,null,null,null,null,null,null,null,null,null,null,null,null,null,null,null,null,null,null,null,null,null,{"$error":"#N/A"}]
[null,null,null,null,null,null,null,null,null,null,null,null,{"$error":"#N/A"},{"$error":"#N/A"},null,null,null,null,null,null,null,null,null,null,null,null,null,null,null,null,null,null,null,null,null,null,null,null,null,null,null,null,null,{"$error":"#N/A"}]
[null,null,null,null,null,null,null,null,null,null,null,null,{"$error":"#N/A"},{"$error":"#N/A"},null,null,null,null,null,null,null,null,null,null,null,null,null,null,null,null,null,null,null,null,null,null,null,null,null,null,null,null,null,{"$error":"#N/A"}]
[null,null,null,null,null,null,null,null,null,null,null,null,{"$error":"#N/A"},{"$error":"#N/A"},null,null,null,null,null,null,null,null,null,null,null,null,null,null,null,null,null,null,null,null,null,null,null,null,null,null,null,null,null,{"$error":"#N/A"}]
[null,null,null,null,null,null,null,null,null,null,null,null,{"$error":"#N/A"},{"$error":"#N/A"},null,null,null,null,null,null,null,null,null,null,null,null,null,null,null,null,null,null,null,null,null,null,null,null,null,null,null,null,null,{"$error":"#N/A"}]
[null,null,null,null,null,null,null,null,null,null,null,null,{"$error":"#N/A"},{"$error":"#N/A"},null,null,null,null,null,null,null,null,null,null,null,null,null,null,null,null,null,null,null,null,null,null,null,null,null,null,null,null,null,{"$error":"#N/A"}]
[null,null,null,null,null,null,null,null,null,null,null,null,{"$error":"#N/A"},{"$error":"#N/A"},null,null,null,null,null,null,null,null,null,null,null,null,null,null,null,null,null,null,null,null,null,null,null,null,null,null,null,null,null,{"$error":"#N/A"}]
[null,null,null,null,null,null,null,null,null,null,null,null,{"$error":"#N/A"},{"$error":"#N/A"},null,null,null,null,null,null,null,null,null,null,null,null,null,null,null,null,null,null,null,null,null,null,null,null,null,null,null,null,null,{"$error":"#N/A"}]
[null,null,null,null,null,null,null,null,null,null,null,null,{"$error":"#N/A"},{"$error":"#N/A"},null,null,null,null,null,null,null,null,null,null,null,null,null,null,null,null,null,null,null,null,null,null,null,null,null,null,null,null,null,{"$error":"#N/A"}]
[null,null,null,null,null,null,null,null,null,null,null,null,{"$error":"#N/A"},{"$error":"#N/A"},null,null,null,null,null,null,null,null,null,null,null,null,null,null,null,null,null,null,null,null,null,null,null,null,null,null,null,null,null,{"$error":"#N/A"}]
[null,null,null,null,null,null,null,null,null,null,null,null,{"$error":"#N/A"},{"$error":"#N/A"},null,null,null,null,null,null,null,null,null,null,null,null,null,null,null,null,null,null,null,null,null,null,null,null,null,null,null,null,null,{"$error":"#N/A"}]
[null,null,null,null,null,null,null,null,null,null,null,null,{"$error":"#N/A"},{"$error":"#N/A"},null,null,null,null,null,null,null,null,null,null,null,null,null,null,null,null,null,null,null,null,null,null,null,null,null,null,null,null,null,{"$error":"#N/A"}]
[null,null,null,null,null,null,null,null,null,null,null,null,{"$error":"#N/A"},{"$error":"#N/A"},null,null,null,null,null,null,null,null,null,null,null,null,null,null,null,null,null,null,null,null,null,null,null,null,null,null,null,null,null,{"$error":"#N/A"}]
[null,null,null,null,null,null,null,null,null,null,null,null,{"$error":"#N/A"},{"$error":"#N/A"},null,null,null,null,null,null,null,null,null,null,null,null,null,null,null,null,null,null,null,null,null,null,null,null,null,null,null,null,null,{"$error":"#N/A"}]
[null,null,null,null,null,null,null,null,null,null,null,null,{"$error":"#N/A"},{"$error":"#N/A"},null,null,null,null,null,null,null,null,null,null,null,null,null,null,null,null,null,null,null,null,null,null,null,null,null,null,null,null,null,{"$error":"#N/A"}]
[null,null,null,null,null,null,null,null,null,null,null,null,{"$error":"#N/A"},{"$error":"#N/A"},null,null,null,null,null,null,null,null,null,null,null,null,null,null,null,null,null,null,null,null,null,null,null,null,null,null,null,null,null,{"$error":"#N/A"}]
[null,null,null,null,null,null,null,null,null,null,null,null,{"$error":"#N/A"},{"$error":"#N/A"},null,null,null,null,null,null,null,null,null,null,null,null,null,null,null,null,null,null,null,null,null,null,null,null,null,null,null,null,null,{"$error":"#N/A"}]
[null,null,null,null,null,null,null,null,null,null,null,null,{"$error":"#N/A"},{"$error":"#N/A"},null,null,null,null,null,null,null,null,null,null,null,null,null,null,null,null,null,null,null,null,null,null,null,null,null,null,null,null,null,{"$error":"#N/A"}]
[null,null,null,null,null,null,null,null,null,null,null,null,{"$error":"#N/A"},{"$error":"#N/A"},null,null,null,null,null,null,null,null,null,null,null,null,null,null,null,null,null,null,null,null,null,null,null,null,null,null,null,null,null,{"$error":"#N/A"}]
[null,null,null,null,null,null,null,null,null,null,null,null,{"$error":"#N/A"},{"$error":"#N/A"},null,null,null,null,null,null,null,null,null,null,null,null,null,null,null,null,null,null,null,null,null,null,null,null,null,null,null,null,null,{"$error":"#N/A"}]
[null,null,null,null,null,null,null,null,null,null,null,null,{"$error":"#N/A"},{"$error":"#N/A"},null,null,null,null,null,null,null,null,null,null,null,null,null,null,null,null,null,null,null,null,null,null,null,null,null,null,null,null,null,{"$error":"#N/A"}]
[null,null,null,null,null,null,null,null,null,null,null,null,{"$error":"#N/A"},{"$error":"#N/A"},null,null,null,null,null,null,null,null,null,null,null,null,null,null,null,null,null,null,null,null,null,null,null,null,null,null,null,null,null,{"$error":"#N/A"}]
[null,null,null,null,null,null,null,null,null,null,null,null,{"$error":"#N/A"},{"$error":"#N/A"},null,null,null,null,null,null,null,null,null,null,null,null,null,null,null,null,null,null,null,null,null,null,null,null,null,null,null,null,null,{"$error":"#N/A"}]
[null,null,null,null,null,null,null,null,null,null,null,null,{"$error":"#N/A"},{"$error":"#N/A"},null,null,null,null,null,null,null,null,null,null,null,null,null,null,null,null,null,null,null,null,null,null,null,null,null,null,null,null,null,{"$error":"#N/A"}]
[null,null,null,null,null,null,null,null,null,null,null,null,{"$error":"#N/A"},{"$error":"#N/A"},null,null,null,null,null,null,null,null,null,null,null,null,null,null,null,null,null,null,null,null,null,null,null,null,null,null,null,null,null,{"$error":"#N/A"}]
[null,null,null,null,null,null,null,null,null,null,null,null,{"$error":"#N/A"},{"$error":"#N/A"},null,null,null,null,null,null,null,null,null,null,null,null,null,null,null,null,null,null,null,null,null,null,null,null,null,null,null,null,null,{"$error":"#N/A"}]
[null,null,null,null,null,null,null,null,null,null,null,null,{"$error":"#N/A"},{"$error":"#N/A"},null,null,null,null,null,null,null,null,null,null,null,null,null,null,null,null,null,null,null,null,null,null,null,null,null,null,null,null,null,{"$error":"#N/A"}]
[null,null,null,null,null,null,null,null,null,null,null,null,{"$error":"#N/A"},{"$error":"#N/A"},null,null,null,null,null,null,null,null,null,null,null,null,null,null,null,null,null,null,null,null,null,null,null,null,null,null,null,null,null,{"$error":"#N/A"}]
[null,null,null,null,null,null,null,null,null,null,null,null,{"$error":"#N/A"},{"$error":"#N/A"},null,null,null,null,null,null,null,null,null,null,null,null,null,null,null,null,null,null,null,null,null,null,null,null,null,null,null,null,null,{"$error":"#N/A"}]
[null,null,null,null,null,null,null,null,null,null,null,null,{"$error":"#N/A"},{"$error":"#N/A"},null,null,null,null,null,null,null,null,null,null,null,null,null,null,null,null,null,null,null,null,null,null,null,null,null,null,null,null,null,{"$error":"#N/A"}]
[null,null,null,null,null,null,null,null,null,null,null,null,{"$error":"#N/A"},{"$error":"#N/A"},null,null,null,null,null,null,null,null,null,null,null,null,null,null,null,null,null,null,null,null,null,null,null,null,null,null,null,null,null,{"$error":"#N/A"}]
[null,null,null,null,null,null,null,null,null,null,null,null,{"$error":"#N/A"},{"$error":"#N/A"},null,null,null,null,null,null,null,null,null,null,null,null,null,null,null,null,null,null,null,null,null,null,null,null,null,null,null,null,null,{"$error":"#N/A"}]
[null,null,null,null,null,null,null,null,null,null,null,null,{"$error":"#N/A"},{"$error":"#N/A"},null,null,null,null,null,null,null,null,null,null,null,null,null,null,null,null,null,null,null,null,null,null,null,null,null,null,null,null,null,{"$error":"#N/A"}]
[null,null,null,null,null,null,null,null,null,null,null,null,{"$error":"#N/A"},{"$error":"#N/A"},null,null,null,null,null,null,null,null,null,null,null,null,null,null,null,null,null,null,null,null,null,null,null,null,null,null,null,null,null,{"$error":"#N/A"}]
[null,null,null,null,null,null,null,null,null,null,null,null,{"$error":"#N/A"},{"$error":"#N/A"},null,null,null,null,null,null,null,null,null,null,null,null,null,null,null,null,null,null,null,null,null,null,null,null,null,null,null,null,null,{"$error":"#N/A"}]
[null,null,null,null,null,null,null,null,null,null,null,null,{"$error":"#N/A"},{"$error":"#N/A"},null,null,null,null,null,null,null,null,null,null,null,null,null,null,null,null,null,null,null,null,null,null,null,null,null,null,null,null,null,{"$error":"#N/A"}]
[null,null,null,null,null,null,null,null,null,null,null,null,{"$error":"#N/A"},{"$error":"#N/A"},null,null,null,null,null,null,null,null,null,null,null,null,null,null,null,null,null,null,null,null,null,null,null,null,null,null,null,null,null,{"$error":"#N/A"}]
[null,null,null,null,null,null,null,null,null,null,null,null,{"$error":"#N/A"},{"$error":"#N/A"},null,null,null,null,null,null,null,null,null,null,null,null,null,null,null,null,null,null,null,null,null,null,null,null,null,null,null,null,null,{"$error":"#N/A"}]
[null,null,null,null,null,null,null,null,null,null,null,null,{"$error":"#N/A"},{"$error":"#N/A"},null,null,null,null,null,null,null,null,null,null,null,null,null,null,null,null,null,null,null,null,null,null,null,null,null,null,null,null,null,{"$error":"#N/A"}]
[null,null,null,null,null,null,null,null,null,null,null,null,{"$error":"#N/A"},{"$error":"#N/A"},null,null,null,null,null,null,null,null,null,null,null,null,null,null,null,null,null,null,null,null,null,null,null,null,null,null,null,null,null,{"$error":"#N/A"}]
[null,null,null,null,null,null,null,null,null,null,null,null,{"$error":"#N/A"},{"$error":"#N/A"},null,null,null,null,null,null,null,null,null,null,null,null,null,null,null,null,null,null,null,null,null,null,null,null,null,null,null,null,null,{"$error":"#N/A"}]
[null,null,null,null,null,null,null,null,null,null,null,null,{"$error":"#N/A"},{"$error":"#N/A"},null,null,null,null,null,null,null,null,null,null,null,null,null,null,null,null,null,null,null,null,null,null,null,null,null,null,null,null,null,{"$error":"#N/A"}]
[null,null,null,null,null,null,null,null,null,null,null,null,{"$error":"#N/A"},{"$error":"#N/A"},null,null,null,null,null,null,null,null,null,null,null,null,null,null,null,null,null,null,null,null,null,null,null,null,null,null,null,null,null,{"$error":"#N/A"}]
[null,null,null,null,null,null,null,null,null,null,null,null,{"$error":"#N/A"},{"$error":"#N/A"},null,null,null,null,null,null,null,null,null,null,null,null,null,null,null,null,null,null,null,null,null,null,null,null,null,null,null,null,null,{"$error":"#N/A"}]
[null,null,null,null,null,null,null,null,null,null,null,null,{"$error":"#N/A"},{"$error":"#N/A"},null,null,null,null,null,null,null,null,null,null,null,null,null,null,null,null,null,null,null,null,null,null,null,null,null,null,null,null,null,{"$error":"#N/A"}]
[null,null,null,null,null,null,null,null,null,null,null,null,{"$error":"#N/A"},{"$error":"#N/A"},null,null,null,null,null,null,null,null,null,null,null,null,null,null,null,null,null,null,null,null,null,null,null,null,null,null,null,null,null,{"$error":"#N/A"}]
[null,null,null,null,null,null,null,null,null,null,null,null,{"$error":"#N/A"},{"$error":"#N/A"},null,null,null,null,null,null,null,null,null,null,null,null,null,null,null,null,null,null,null,null,null,null,null,null,null,null,null,null,null,{"$error":"#N/A"}]
[null,null,null,null,null,null,null,null,null,null,null,null,{"$f":"IF(AND($F$17=H5809,$AK$44=F5809),J5809,\"\")","v":{"$error":"#N/A"}},{"$f":"IF(AND($F$17=H5809,$AK$44=F5809),L5809,\"\")","v":{"$error":"#N/A"}},null,null,null,null,null,null,null,null,null,null,null,null,null,null,null,null,null,null,null,null,null,null,null,null,null,null,null,null,null,{"$error":"#N/A"}]
[null,null,null,null,null,null,null,null,null,null,null,null,{"$error":"#N/A"},{"$error":"#N/A"},null,null,null,null,null,null,null,null,null,null,null,null,null,null,null,null,null,null,null,null,null,null,null,null,null,null,null,null,null,{"$error":"#N/A"}]
[null,null,null,null,null,null,null,null,null,null,null,null,{"$error":"#N/A"},{"$error":"#N/A"},null,null,null,null,null,null,null,null,null,null,null,null,null,null,null,null,null,null,null,null,null,null,null,null,null,null,null,null,null,{"$error":"#N/A"}]
[null,null,null,null,null,null,null,null,null,null,null,null,{"$error":"#N/A"},{"$error":"#N/A"},null,null,null,null,null,null,null,null,null,null,null,null,null,null,null,null,null,null,null,null,null,null,null,null,null,null,null,null,null,{"$error":"#N/A"}]
[null,null,null,null,null,null,null,null,null,null,null,null,{"$error":"#N/A"},{"$error":"#N/A"},null,null,null,null,null,null,null,null,null,null,null,null,null,null,null,null,null,null,null,null,null,null,null,null,null,null,null,null,null,{"$error":"#N/A"}]
[null,null,null,null,null,null,null,null,null,null,null,null,{"$error":"#N/A"},{"$error":"#N/A"},null,null,null,null,null,null,null,null,null,null,null,null,null,null,null,null,null,null,null,null,null,null,null,null,null,null,null,null,null,{"$error":"#N/A"}]
[null,null,null,null,null,null,null,null,null,null,null,null,{"$error":"#N/A"},{"$error":"#N/A"},null,null,null,null,null,null,null,null,null,null,null,null,null,null,null,null,null,null,null,null,null,null,null,null,null,null,null,null,null,{"$error":"#N/A"}]
[null,null,null,null,null,null,null,null,null,null,null,null,{"$error":"#N/A"},{"$error":"#N/A"},null,null,null,null,null,null,null,null,null,null,null,null,null,null,null,null,null,null,null,null,null,null,null,null,null,null,null,null,null,{"$error":"#N/A"}]
[null,null,null,null,null,null,null,null,null,null,null,null,{"$error":"#N/A"},{"$error":"#N/A"},null,null,null,null,null,null,null,null,null,null,null,null,null,null,null,null,null,null,null,null,null,null,null,null,null,null,null,null,null,{"$error":"#N/A"}]
[null,null,null,null,null,null,null,null,null,null,null,null,{"$error":"#N/A"},{"$error":"#N/A"},null,null,null,null,null,null,null,null,null,null,null,null,null,null,null,null,null,null,null,null,null,null,null,null,null,null,null,null,null,{"$error":"#N/A"}]
[null,null,null,null,null,null,null,null,null,null,null,null,{"$error":"#N/A"},{"$error":"#N/A"},null,null,null,null,null,null,null,null,null,null,null,null,null,null,null,null,null,null,null,null,null,null,null,null,null,null,null,null,null,{"$error":"#N/A"}]
[null,null,null,null,null,null,null,null,null,null,null,null,{"$error":"#N/A"},{"$error":"#N/A"},null,null,null,null,null,null,null,null,null,null,null,null,null,null,null,null,null,null,null,null,null,null,null,null,null,null,null,null,null,{"$error":"#N/A"}]
[null,null,null,null,null,null,null,null,null,null,null,null,{"$error":"#N/A"},{"$error":"#N/A"},null,null,null,null,null,null,null,null,null,null,null,null,null,null,null,null,null,null,null,null,null,null,null,null,null,null,null,null,null,{"$error":"#N/A"}]
[null,null,null,null,null,null,null,null,null,null,null,null,{"$error":"#N/A"},{"$error":"#N/A"},null,null,null,null,null,null,null,null,null,null,null,null,null,null,null,null,null,null,null,null,null,null,null,null,null,null,null,null,null,{"$error":"#N/A"}]
[null,null,null,null,null,null,null,null,null,null,null,null,{"$error":"#N/A"},{"$error":"#N/A"},null,null,null,null,null,null,null,null,null,null,null,null,null,null,null,null,null,null,null,null,null,null,null,null,null,null,null,null,null,{"$error":"#N/A"}]
[null,null,null,null,null,null,null,null,null,null,null,null,{"$error":"#N/A"},{"$error":"#N/A"},null,null,null,null,null,null,null,null,null,null,null,null,null,null,null,null,null,null,null,null,null,null,null,null,null,null,null,null,null,{"$error":"#N/A"}]
[null,null,null,null,null,null,null,null,null,null,null,null,{"$error":"#N/A"},{"$error":"#N/A"},null,null,null,null,null,null,null,null,null,null,null,null,null,null,null,null,null,null,null,null,null,null,null,null,null,null,null,null,null,{"$error":"#N/A"}]
[null,null,null,null,null,null,null,null,null,null,null,null,{"$error":"#N/A"},{"$error":"#N/A"},null,null,null,null,null,null,null,null,null,null,null,null,null,null,null,null,null,null,null,null,null,null,null,null,null,null,null,null,null,{"$error":"#N/A"}]
[null,null,null,null,null,null,null,null,null,null,null,null,{"$error":"#N/A"},{"$error":"#N/A"},null,null,null,null,null,null,null,null,null,null,null,null,null,null,null,null,null,null,null,null,null,null,null,null,null,null,null,null,null,{"$error":"#N/A"}]
[null,null,null,null,null,null,null,null,null,null,null,null,{"$error":"#N/A"},{"$error":"#N/A"},null,null,null,null,null,null,null,null,null,null,null,null,null,null,null,null,null,null,null,null,null,null,null,null,null,null,null,null,null,{"$error":"#N/A"}]
[null,null,null,null,null,null,null,null,null,null,null,null,{"$error":"#N/A"},{"$error":"#N/A"},null,null,null,null,null,null,null,null,null,null,null,null,null,null,null,null,null,null,null,null,null,null,null,null,null,null,null,null,null,{"$error":"#N/A"}]
[null,null,null,null,null,null,null,null,null,null,null,null,{"$error":"#N/A"},{"$error":"#N/A"},null,null,null,null,null,null,null,null,null,null,null,null,null,null,null,null,null,null,null,null,null,null,null,null,null,null,null,null,null,{"$error":"#N/A"}]
[null,null,null,null,null,null,null,null,null,null,null,null,{"$error":"#N/A"},{"$error":"#N/A"},null,null,null,null,null,null,null,null,null,null,null,null,null,null,null,null,null,null,null,null,null,null,null,null,null,null,null,null,null,{"$error":"#N/A"}]
[null,null,null,null,null,null,null,null,null,null,null,null,{"$error":"#N/A"},{"$error":"#N/A"},null,null,null,null,null,null,null,null,null,null,null,null,null,null,null,null,null,null,null,null,null,null,null,null,null,null,null,null,null,{"$error":"#N/A"}]
[null,null,null,null,null,null,null,null,null,null,null,null,{"$error":"#N/A"},{"$error":"#N/A"},null,null,null,null,null,null,null,null,null,null,null,null,null,null,null,null,null,null,null,null,null,null,null,null,null,null,null,null,null,{"$error":"#N/A"}]
[null,null,null,null,null,null,null,null,null,null,null,null,{"$error":"#N/A"},{"$error":"#N/A"},null,null,null,null,null,null,null,null,null,null,null,null,null,null,null,null,null,null,null,null,null,null,null,null,null,null,null,null,null,{"$error":"#N/A"}]
[null,null,null,null,null,null,null,null,null,null,null,null,{"$error":"#N/A"},{"$error":"#N/A"},null,null,null,null,null,null,null,null,null,null,null,null,null,null,null,null,null,null,null,null,null,null,null,null,null,null,null,null,null,{"$error":"#N/A"}]
[null,null,null,null,null,null,null,null,null,null,null,null,{"$error":"#N/A"},{"$error":"#N/A"},null,null,null,null,null,null,null,null,null,null,null,null,null,null,null,null,null,null,null,null,null,null,null,null,null,null,null,null,null,{"$error":"#N/A"}]
[null,null,null,null,null,null,null,null,null,null,null,null,{"$error":"#N/A"},{"$error":"#N/A"},null,null,null,null,null,null,null,null,null,null,null,null,null,null,null,null,null,null,null,null,null,null,null,null,null,null,null,null,null,{"$error":"#N/A"}]
[null,null,null,null,null,null,null,null,null,null,null,null,{"$error":"#N/A"},{"$error":"#N/A"},null,null,null,null,null,null,null,null,null,null,null,null,null,null,null,null,null,null,null,null,null,null,null,null,null,null,null,null,null,{"$error":"#N/A"}]
[null,null,null,null,null,null,null,null,null,null,null,null,{"$error":"#N/A"},{"$error":"#N/A"},null,null,null,null,null,null,null,null,null,null,null,null,null,null,null,null,null,null,null,null,null,null,null,null,null,null,null,null,null,{"$error":"#N/A"}]
[null,null,null,null,null,null,null,null,null,null,null,null,{"$error":"#N/A"},{"$error":"#N/A"},null,null,null,null,null,null,null,null,null,null,null,null,null,null,null,null,null,null,null,null,null,null,null,null,null,null,null,null,null,{"$error":"#N/A"}]
[null,null,null,null,null,null,null,null,null,null,null,null,{"$error":"#N/A"},{"$error":"#N/A"},null,null,null,null,null,null,null,null,null,null,null,null,null,null,null,null,null,null,null,null,null,null,null,null,null,null,null,null,null,{"$error":"#N/A"}]
[null,null,null,null,null,null,null,null,null,null,null,null,{"$error":"#N/A"},{"$error":"#N/A"},null,null,null,null,null,null,null,null,null,null,null,null,null,null,null,null,null,null,null,null,null,null,null,null,null,null,null,null,null,{"$error":"#N/A"}]
[null,null,null,null,null,null,null,null,null,null,null,null,{"$error":"#N/A"},{"$error":"#N/A"},null,null,null,null,null,null,null,null,null,null,null,null,null,null,null,null,null,null,null,null,null,null,null,null,null,null,null,null,null,{"$error":"#N/A"}]
[null,null,null,null,null,null,null,null,null,null,null,null,{"$error":"#N/A"},{"$error":"#N/A"},null,null,null,null,null,null,null,null,null,null,null,null,null,null,null,null,null,null,null,null,null,null,null,null,null,null,null,null,null,{"$error":"#N/A"}]
[null,null,null,null,null,null,null,null,null,null,null,null,{"$error":"#N/A"},{"$error":"#N/A"},null,null,null,null,null,null,null,null,null,null,null,null,null,null,null,null,null,null,null,null,null,null,null,null,null,null,null,null,null,{"$error":"#N/A"}]
[null,null,null,null,null,null,null,null,null,null,null,null,{"$error":"#N/A"},{"$error":"#N/A"},null,null,null,null,null,null,null,null,null,null,null,null,null,null,null,null,null,null,null,null,null,null,null,null,null,null,null,null,null,{"$error":"#N/A"}]
[null,null,null,null,null,null,null,null,null,null,null,null,{"$error":"#N/A"},{"$error":"#N/A"},null,null,null,null,null,null,null,null,null,null,null,null,null,null,null,null,null,null,null,null,null,null,null,null,null,null,null,null,null,{"$error":"#N/A"}]
[null,null,null,null,null,null,null,null,null,null,null,null,{"$error":"#N/A"},{"$error":"#N/A"},null,null,null,null,null,null,null,null,null,null,null,null,null,null,null,null,null,null,null,null,null,null,null,null,null,null,null,null,null,{"$error":"#N/A"}]
[null,null,null,null,null,null,null,null,null,null,null,null,{"$error":"#N/A"},{"$error":"#N/A"},null,null,null,null,null,null,null,null,null,null,null,null,null,null,null,null,null,null,null,null,null,null,null,null,null,null,null,null,null,{"$error":"#N/A"}]
[null,null,null,null,null,null,null,null,null,null,null,null,{"$error":"#N/A"},{"$error":"#N/A"},null,null,null,null,null,null,null,null,null,null,null,null,null,null,null,null,null,null,null,null,null,null,null,null,null,null,null,null,null,{"$error":"#N/A"}]
[null,null,null,null,null,null,null,null,null,null,null,null,{"$error":"#N/A"},{"$error":"#N/A"},null,null,null,null,null,null,null,null,null,null,null,null,null,null,null,null,null,null,null,null,null,null,null,null,null,null,null,null,null,{"$error":"#N/A"}]
[null,null,null,null,null,null,null,null,null,null,null,null,{"$error":"#N/A"},{"$error":"#N/A"},null,null,null,null,null,null,null,null,null,null,null,null,null,null,null,null,null,null,null,null,null,null,null,null,null,null,null,null,null,{"$error":"#N/A"}]
[null,null,null,null,null,null,null,null,null,null,null,null,{"$error":"#N/A"},{"$error":"#N/A"},null,null,null,null,null,null,null,null,null,null,null,null,null,null,null,null,null,null,null,null,null,null,null,null,null,null,null,null,null,{"$error":"#N/A"}]
[null,null,null,null,null,null,null,null,null,null,null,null,{"$error":"#N/A"},{"$error":"#N/A"},null,null,null,null,null,null,null,null,null,null,null,null,null,null,null,null,null,null,null,null,null,null,null,null,null,null,null,null,null,{"$error":"#N/A"}]
[null,null,null,null,null,null,null,null,null,null,null,null,{"$error":"#N/A"},{"$error":"#N/A"},null,null,null,null,null,null,null,null,null,null,null,null,null,null,null,null,null,null,null,null,null,null,null,null,null,null,null,null,null,{"$error":"#N/A"}]
[null,null,null,null,null,null,null,null,null,null,null,null,{"$error":"#N/A"},{"$error":"#N/A"},null,null,null,null,null,null,null,null,null,null,null,null,null,null,null,null,null,null,null,null,null,null,null,null,null,null,null,null,null,{"$error":"#N/A"}]
[null,null,null,null,null,null,null,null,null,null,null,null,{"$error":"#N/A"},{"$error":"#N/A"},null,null,null,null,null,null,null,null,null,null,null,null,null,null,null,null,null,null,null,null,null,null,null,null,null,null,null,null,null,{"$error":"#N/A"}]
[null,null,null,null,null,null,null,null,null,null,null,null,{"$error":"#N/A"},{"$error":"#N/A"},null,null,null,null,null,null,null,null,null,null,null,null,null,null,null,null,null,null,null,null,null,null,null,null,null,null,null,null,null,{"$error":"#N/A"}]
[null,null,null,null,null,null,null,null,null,null,null,null,{"$error":"#N/A"},{"$error":"#N/A"},null,null,null,null,null,null,null,null,null,null,null,null,null,null,null,null,null,null,null,null,null,null,null,null,null,null,null,null,null,{"$error":"#N/A"}]
[null,null,null,null,null,null,null,null,null,null,null,null,{"$error":"#N/A"},{"$error":"#N/A"},null,null,null,null,null,null,null,null,null,null,null,null,null,null,null,null,null,null,null,null,null,null,null,null,null,null,null,null,null,{"$error":"#N/A"}]
[null,null,null,null,null,null,null,null,null,null,null,null,{"$error":"#N/A"},{"$error":"#N/A"},null,null,null,null,null,null,null,null,null,null,null,null,null,null,null,null,null,null,null,null,null,null,null,null,null,null,null,null,null,{"$error":"#N/A"}]
[null,null,null,null,null,null,null,null,null,null,null,null,{"$error":"#N/A"},{"$error":"#N/A"},null,null,null,null,null,null,null,null,null,null,null,null,null,null,null,null,null,null,null,null,null,null,null,null,null,null,null,null,null,{"$error":"#N/A"}]
[null,null,null,null,null,null,null,null,null,null,null,null,{"$error":"#N/A"},{"$error":"#N/A"},null,null,null,null,null,null,null,null,null,null,null,null,null,null,null,null,null,null,null,null,null,null,null,null,null,null,null,null,null,{"$error":"#N/A"}]
[null,null,null,null,null,null,null,null,null,null,null,null,{"$error":"#N/A"},{"$error":"#N/A"},null,null,null,null,null,null,null,null,null,null,null,null,null,null,null,null,null,null,null,null,null,null,null,null,null,null,null,null,null,{"$error":"#N/A"}]
[null,null,null,null,null,null,null,null,null,null,null,null,{"$error":"#N/A"},{"$error":"#N/A"},null,null,null,null,null,null,null,null,null,null,null,null,null,null,null,null,null,null,null,null,null,null,null,null,null,null,null,null,null,{"$error":"#N/A"}]
[null,null,null,null,null,null,null,null,null,null,null,null,{"$error":"#N/A"},{"$error":"#N/A"},null,null,null,null,null,null,null,null,null,null,null,null,null,null,null,null,null,null,null,null,null,null,null,null,null,null,null,null,null,{"$error":"#N/A"}]
[null,null,null,null,null,null,null,null,null,null,null,null,{"$error":"#N/A"},{"$error":"#N/A"},null,null,null,null,null,null,null,null,null,null,null,null,null,null,null,null,null,null,null,null,null,null,null,null,null,null,null,null,null,{"$error":"#N/A"}]
[null,null,null,null,null,null,null,null,null,null,null,null,{"$error":"#N/A"},{"$error":"#N/A"},null,null,null,null,null,null,null,null,null,null,null,null,null,null,null,null,null,null,null,null,null,null,null,null,null,null,null,null,null,{"$error":"#N/A"}]
[null,null,null,null,null,null,null,null,null,null,null,null,{"$error":"#N/A"},{"$error":"#N/A"},null,null,null,null,null,null,null,null,null,null,null,null,null,null,null,null,null,null,null,null,null,null,null,null,null,null,null,null,null,{"$error":"#N/A"}]
[null,null,null,null,null,null,null,null,null,null,null,null,{"$error":"#N/A"},{"$error":"#N/A"},null,null,null,null,null,null,null,null,null,null,null,null,null,null,null,null,null,null,null,null,null,null,null,null,null,null,null,null,null,{"$error":"#N/A"}]
[null,null,null,null,null,null,null,null,null,null,null,null,{"$error":"#N/A"},{"$error":"#N/A"},null,null,null,null,null,null,null,null,null,null,null,null,null,null,null,null,null,null,null,null,null,null,null,null,null,null,null,null,null,{"$error":"#N/A"}]
[null,null,null,null,null,null,null,null,null,null,null,null,{"$error":"#N/A"},{"$error":"#N/A"},null,null,null,null,null,null,null,null,null,null,null,null,null,null,null,null,null,null,null,null,null,null,null,null,null,null,null,null,null,{"$error":"#N/A"}]
[null,null,null,null,null,null,null,null,null,null,null,null,{"$f":"IF(AND($F$17=H5873,$AK$44=F5873),J5873,\"\")","v":{"$error":"#N/A"}},{"$f":"IF(AND($F$17=H5873,$AK$44=F5873),L5873,\"\")","v":{"$error":"#N/A"}},null,null,null,null,null,null,null,null,null,null,null,null,null,null,null,null,null,null,null,null,null,null,null,null,null,null,null,null,null,{"$error":"#N/A"}]
[null,null,null,null,null,null,null,null,null,null,null,null,{"$error":"#N/A"},{"$error":"#N/A"},null,null,null,null,null,null,null,null,null,null,null,null,null,null,null,null,null,null,null,null,null,null,null,null,null,null,null,null,null,{"$error":"#N/A"}]
[null,null,null,null,null,null,null,null,null,null,null,null,{"$error":"#N/A"},{"$error":"#N/A"},null,null,null,null,null,null,null,null,null,null,null,null,null,null,null,null,null,null,null,null,null,null,null,null,null,null,null,null,null,{"$error":"#N/A"}]
[null,null,null,null,null,null,null,null,null,null,null,null,{"$error":"#N/A"},{"$error":"#N/A"},null,null,null,null,null,null,null,null,null,null,null,null,null,null,null,null,null,null,null,null,null,null,null,null,null,null,null,null,null,{"$error":"#N/A"}]
[null,null,null,null,null,null,null,null,null,null,null,null,{"$error":"#N/A"},{"$error":"#N/A"},null,null,null,null,null,null,null,null,null,null,null,null,null,null,null,null,null,null,null,null,null,null,null,null,null,null,null,null,null,{"$error":"#N/A"}]
[null,null,null,null,null,null,null,null,null,null,null,null,{"$error":"#N/A"},{"$error":"#N/A"},null,null,null,null,null,null,null,null,null,null,null,null,null,null,null,null,null,null,null,null,null,null,null,null,null,null,null,null,null,{"$error":"#N/A"}]
[null,null,null,null,null,null,null,null,null,null,null,null,{"$error":"#N/A"},{"$error":"#N/A"},null,null,null,null,null,null,null,null,null,null,null,null,null,null,null,null,null,null,null,null,null,null,null,null,null,null,null,null,null,{"$error":"#N/A"}]
[null,null,null,null,null,null,null,null,null,null,null,null,{"$error":"#N/A"},{"$error":"#N/A"},null,null,null,null,null,null,null,null,null,null,null,null,null,null,null,null,null,null,null,null,null,null,null,null,null,null,null,null,null,{"$error":"#N/A"}]
[null,null,null,null,null,null,null,null,null,null,null,null,{"$error":"#N/A"},{"$error":"#N/A"},null,null,null,null,null,null,null,null,null,null,null,null,null,null,null,null,null,null,null,null,null,null,null,null,null,null,null,null,null,{"$error":"#N/A"}]
[null,null,null,null,null,null,null,null,null,null,null,null,{"$error":"#N/A"},{"$error":"#N/A"},null,null,null,null,null,null,null,null,null,null,null,null,null,null,null,null,null,null,null,null,null,null,null,null,null,null,null,null,null,{"$error":"#N/A"}]
[null,null,null,null,null,null,null,null,null,null,null,null,{"$error":"#N/A"},{"$error":"#N/A"},null,null,null,null,null,null,null,null,null,null,null,null,null,null,null,null,null,null,null,null,null,null,null,null,null,null,null,null,null,{"$error":"#N/A"}]
[null,null,null,null,null,null,null,null,null,null,null,null,{"$error":"#N/A"},{"$error":"#N/A"},null,null,null,null,null,null,null,null,null,null,null,null,null,null,null,null,null,null,null,null,null,null,null,null,null,null,null,null,null,{"$error":"#N/A"}]
[null,null,null,null,null,null,null,null,null,null,null,null,{"$error":"#N/A"},{"$error":"#N/A"},null,null,null,null,null,null,null,null,null,null,null,null,null,null,null,null,null,null,null,null,null,null,null,null,null,null,null,null,null,{"$error":"#N/A"}]
[null,null,null,null,null,null,null,null,null,null,null,null,{"$error":"#N/A"},{"$error":"#N/A"},null,null,null,null,null,null,null,null,null,null,null,null,null,null,null,null,null,null,null,null,null,null,null,null,null,null,null,null,null,{"$error":"#N/A"}]
[null,null,null,null,null,null,null,null,null,null,null,null,{"$error":"#N/A"},{"$error":"#N/A"},null,null,null,null,null,null,null,null,null,null,null,null,null,null,null,null,null,null,null,null,null,null,null,null,null,null,null,null,null,{"$error":"#N/A"}]
[null,null,null,null,null,null,null,null,null,null,null,null,{"$error":"#N/A"},{"$error":"#N/A"},null,null,null,null,null,null,null,null,null,null,null,null,null,null,null,null,null,null,null,null,null,null,null,null,null,null,null,null,null,{"$error":"#N/A"}]
[null,null,null,null,null,null,null,null,null,null,null,null,{"$error":"#N/A"},{"$error":"#N/A"},null,null,null,null,null,null,null,null,null,null,null,null,null,null,null,null,null,null,null,null,null,null,null,null,null,null,null,null,null,{"$error":"#N/A"}]
[null,null,null,null,null,null,null,null,null,null,null,null,{"$error":"#N/A"},{"$error":"#N/A"},null,null,null,null,null,null,null,null,null,null,null,null,null,null,null,null,null,null,null,null,null,null,null,null,null,null,null,null,null,{"$error":"#N/A"}]
[null,null,null,null,null,null,null,null,null,null,null,null,{"$error":"#N/A"},{"$error":"#N/A"},null,null,null,null,null,null,null,null,null,null,null,null,null,null,null,null,null,null,null,null,null,null,null,null,null,null,null,null,null,{"$error":"#N/A"}]
[null,null,null,null,null,null,null,null,null,null,null,null,{"$error":"#N/A"},{"$error":"#N/A"},null,null,null,null,null,null,null,null,null,null,null,null,null,null,null,null,null,null,null,null,null,null,null,null,null,null,null,null,null,{"$error":"#N/A"}]
[null,null,null,null,null,null,null,null,null,null,null,null,{"$error":"#N/A"},{"$error":"#N/A"},null,null,null,null,null,null,null,null,null,null,null,null,null,null,null,null,null,null,null,null,null,null,null,null,null,null,null,null,null,{"$error":"#N/A"}]
[null,null,null,null,null,null,null,null,null,null,null,null,{"$error":"#N/A"},{"$error":"#N/A"},null,null,null,null,null,null,null,null,null,null,null,null,null,null,null,null,null,null,null,null,null,null,null,null,null,null,null,null,null,{"$error":"#N/A"}]
[null,null,null,null,null,null,null,null,null,null,null,null,{"$error":"#N/A"},{"$error":"#N/A"},null,null,null,null,null,null,null,null,null,null,null,null,null,null,null,null,null,null,null,null,null,null,null,null,null,null,null,null,null,{"$error":"#N/A"}]
[null,null,null,null,null,null,null,null,null,null,null,null,{"$error":"#N/A"},{"$error":"#N/A"},null,null,null,null,null,null,null,null,null,null,null,null,null,null,null,null,null,null,null,null,null,null,null,null,null,null,null,null,null,{"$error":"#N/A"}]
[null,null,null,null,null,null,null,null,null,null,null,null,{"$error":"#N/A"},{"$error":"#N/A"},null,null,null,null,null,null,null,null,null,null,null,null,null,null,null,null,null,null,null,null,null,null,null,null,null,null,null,null,null,{"$error":"#N/A"}]
[null,null,null,null,null,null,null,null,null,null,null,null,{"$error":"#N/A"},{"$error":"#N/A"},null,null,null,null,null,null,null,null,null,null,null,null,null,null,null,null,null,null,null,null,null,null,null,null,null,null,null,null,null,{"$error":"#N/A"}]
[null,null,null,null,null,null,null,null,null,null,null,null,{"$error":"#N/A"},{"$error":"#N/A"},null,null,null,null,null,null,null,null,null,null,null,null,null,null,null,null,null,null,null,null,null,null,null,null,null,null,null,null,null,{"$error":"#N/A"}]
[null,null,null,null,null,null,null,null,null,null,null,null,{"$error":"#N/A"},{"$error":"#N/A"},null,null,null,null,null,null,null,null,null,null,null,null,null,null,null,null,null,null,null,null,null,null,null,null,null,null,null,null,null,{"$error":"#N/A"}]
[null,null,null,null,null,null,null,null,null,null,null,null,{"$error":"#N/A"},{"$error":"#N/A"},null,null,null,null,null,null,null,null,null,null,null,null,null,null,null,null,null,null,null,null,null,null,null,null,null,null,null,null,null,{"$error":"#N/A"}]
[null,null,null,null,null,null,null,null,null,null,null,null,{"$error":"#N/A"},{"$error":"#N/A"},null,null,null,null,null,null,null,null,null,null,null,null,null,null,null,null,null,null,null,null,null,null,null,null,null,null,null,null,null,{"$error":"#N/A"}]
[null,null,null,null,null,null,null,null,null,null,null,null,{"$error":"#N/A"},{"$error":"#N/A"},null,null,null,null,null,null,null,null,null,null,null,null,null,null,null,null,null,null,null,null,null,null,null,null,null,null,null,null,null,{"$error":"#N/A"}]
[null,null,null,null,null,null,null,null,null,null,null,null,{"$error":"#N/A"},{"$error":"#N/A"},null,null,null,null,null,null,null,null,null,null,null,null,null,null,null,null,null,null,null,null,null,null,null,null,null,null,null,null,null,{"$error":"#N/A"}]
[null,null,null,null,null,null,null,null,null,null,null,null,{"$error":"#N/A"},{"$error":"#N/A"},null,null,null,null,null,null,null,null,null,null,null,null,null,null,null,null,null,null,null,null,null,null,null,null,null,null,null,null,null,{"$error":"#N/A"}]
[null,null,null,null,null,null,null,null,null,null,null,null,{"$error":"#N/A"},{"$error":"#N/A"},null,null,null,null,null,null,null,null,null,null,null,null,null,null,null,null,null,null,null,null,null,null,null,null,null,null,null,null,null,{"$error":"#N/A"}]
[null,null,null,null,null,null,null,null,null,null,null,null,{"$error":"#N/A"},{"$error":"#N/A"},null,null,null,null,null,null,null,null,null,null,null,null,null,null,null,null,null,null,null,null,null,null,null,null,null,null,null,null,null,{"$error":"#N/A"}]
[null,null,null,null,null,null,null,null,null,null,null,null,{"$error":"#N/A"},{"$error":"#N/A"},null,null,null,null,null,null,null,null,null,null,null,null,null,null,null,null,null,null,null,null,null,null,null,null,null,null,null,null,null,{"$error":"#N/A"}]
[null,null,null,null,null,null,null,null,null,null,null,null,{"$error":"#N/A"},{"$error":"#N/A"},null,null,null,null,null,null,null,null,null,null,null,null,null,null,null,null,null,null,null,null,null,null,null,null,null,null,null,null,null,{"$error":"#N/A"}]
[null,null,null,null,null,null,null,null,null,null,null,null,{"$error":"#N/A"},{"$error":"#N/A"},null,null,null,null,null,null,null,null,null,null,null,null,null,null,null,null,null,null,null,null,null,null,null,null,null,null,null,null,null,{"$error":"#N/A"}]
[null,null,null,null,null,null,null,null,null,null,null,null,{"$error":"#N/A"},{"$error":"#N/A"},null,null,null,null,null,null,null,null,null,null,null,null,null,null,null,null,null,null,null,null,null,null,null,null,null,null,null,null,null,{"$error":"#N/A"}]
[null,null,null,null,null,null,null,null,null,null,null,null,{"$error":"#N/A"},{"$error":"#N/A"},null,null,null,null,null,null,null,null,null,null,null,null,null,null,null,null,null,null,null,null,null,null,null,null,null,null,null,null,null,{"$error":"#N/A"}]
[null,null,null,null,null,null,null,null,null,null,null,null,{"$error":"#N/A"},{"$error":"#N/A"},null,null,null,null,null,null,null,null,null,null,null,null,null,null,null,null,null,null,null,null,null,null,null,null,null,null,null,null,null,{"$error":"#N/A"}]
[null,null,null,null,null,null,null,null,null,null,null,null,{"$error":"#N/A"},{"$error":"#N/A"},null,null,null,null,null,null,null,null,null,null,null,null,null,null,null,null,null,null,null,null,null,null,null,null,null,null,null,null,null,{"$error":"#N/A"}]
[null,null,null,null,null,null,null,null,null,null,null,null,{"$error":"#N/A"},{"$error":"#N/A"},null,null,null,null,null,null,null,null,null,null,null,null,null,null,null,null,null,null,null,null,null,null,null,null,null,null,null,null,null,{"$error":"#N/A"}]
[null,null,null,null,null,null,null,null,null,null,null,null,{"$error":"#N/A"},{"$error":"#N/A"},null,null,null,null,null,null,null,null,null,null,null,null,null,null,null,null,null,null,null,null,null,null,null,null,null,null,null,null,null,{"$error":"#N/A"}]
[null,null,null,null,null,null,null,null,null,null,null,null,{"$error":"#N/A"},{"$error":"#N/A"},null,null,null,null,null,null,null,null,null,null,null,null,null,null,null,null,null,null,null,null,null,null,null,null,null,null,null,null,null,{"$error":"#N/A"}]
[null,null,null,null,null,null,null,null,null,null,null,null,{"$error":"#N/A"},{"$error":"#N/A"},null,null,null,null,null,null,null,null,null,null,null,null,null,null,null,null,null,null,null,null,null,null,null,null,null,null,null,null,null,{"$error":"#N/A"}]
[null,null,null,null,null,null,null,null,null,null,null,null,{"$error":"#N/A"},{"$error":"#N/A"},null,null,null,null,null,null,null,null,null,null,null,null,null,null,null,null,null,null,null,null,null,null,null,null,null,null,null,null,null,{"$error":"#N/A"}]
[null,null,null,null,null,null,null,null,null,null,null,null,{"$error":"#N/A"},{"$error":"#N/A"},null,null,null,null,null,null,null,null,null,null,null,null,null,null,null,null,null,null,null,null,null,null,null,null,null,null,null,null,null,{"$error":"#N/A"}]
[null,null,null,null,null,null,null,null,null,null,null,null,{"$error":"#N/A"},{"$error":"#N/A"},null,null,null,null,null,null,null,null,null,null,null,null,null,null,null,null,null,null,null,null,null,null,null,null,null,null,null,null,null,{"$error":"#N/A"}]
[null,null,null,null,null,null,null,null,null,null,null,null,{"$error":"#N/A"},{"$error":"#N/A"},null,null,null,null,null,null,null,null,null,null,null,null,null,null,null,null,null,null,null,null,null,null,null,null,null,null,null,null,null,{"$error":"#N/A"}]
[null,null,null,null,null,null,null,null,null,null,null,null,{"$error":"#N/A"},{"$error":"#N/A"},null,null,null,null,null,null,null,null,null,null,null,null,null,null,null,null,null,null,null,null,null,null,null,null,null,null,null,null,null,{"$error":"#N/A"}]
[null,null,null,null,null,null,null,null,null,null,null,null,{"$error":"#N/A"},{"$error":"#N/A"},null,null,null,null,null,null,null,null,null,null,null,null,null,null,null,null,null,null,null,null,null,null,null,null,null,null,null,null,null,{"$error":"#N/A"}]
[null,null,null,null,null,null,null,null,null,null,null,null,{"$error":"#N/A"},{"$error":"#N/A"},null,null,null,null,null,null,null,null,null,null,null,null,null,null,null,null,null,null,null,null,null,null,null,null,null,null,null,null,null,{"$error":"#N/A"}]
[null,null,null,null,null,null,null,null,null,null,null,null,{"$error":"#N/A"},{"$error":"#N/A"},null,null,null,null,null,null,null,null,null,null,null,null,null,null,null,null,null,null,null,null,null,null,null,null,null,null,null,null,null,{"$error":"#N/A"}]
[null,null,null,null,null,null,null,null,null,null,null,null,{"$error":"#N/A"},{"$error":"#N/A"},null,null,null,null,null,null,null,null,null,null,null,null,null,null,null,null,null,null,null,null,null,null,null,null,null,null,null,null,null,{"$error":"#N/A"}]
[null,null,null,null,null,null,null,null,null,null,null,null,{"$error":"#N/A"},{"$error":"#N/A"},null,null,null,null,null,null,null,null,null,null,null,null,null,null,null,null,null,null,null,null,null,null,null,null,null,null,null,null,null,{"$error":"#N/A"}]
[null,null,null,null,null,null,null,null,null,null,null,null,{"$error":"#N/A"},{"$error":"#N/A"},null,null,null,null,null,null,null,null,null,null,null,null,null,null,null,null,null,null,null,null,null,null,null,null,null,null,null,null,null,{"$error":"#N/A"}]
[null,null,null,null,null,null,null,null,null,null,null,null,{"$error":"#N/A"},{"$error":"#N/A"},null,null,null,null,null,null,null,null,null,null,null,null,null,null,null,null,null,null,null,null,null,null,null,null,null,null,null,null,null,{"$error":"#N/A"}]
[null,null,null,null,null,null,null,null,null,null,null,null,{"$error":"#N/A"},{"$error":"#N/A"},null,null,null,null,null,null,null,null,null,null,null,null,null,null,null,null,null,null,null,null,null,null,null,null,null,null,null,null,null,{"$error":"#N/A"}]
[null,null,null,null,null,null,null,null,null,null,null,null,{"$error":"#N/A"},{"$error":"#N/A"},null,null,null,null,null,null,null,null,null,null,null,null,null,null,null,null,null,null,null,null,null,null,null,null,null,null,null,null,null,{"$error":"#N/A"}]
[null,null,null,null,null,null,null,null,null,null,null,null,{"$error":"#N/A"},{"$error":"#N/A"},null,null,null,null,null,null,null,null,null,null,null,null,null,null,null,null,null,null,null,null,null,null,null,null,null,null,null,null,null,{"$error":"#N/A"}]
[null,null,null,null,null,null,null,null,null,null,null,null,{"$error":"#N/A"},{"$error":"#N/A"},null,null,null,null,null,null,null,null,null,null,null,null,null,null,null,null,null,null,null,null,null,null,null,null,null,null,null,null,null,{"$error":"#N/A"}]
[null,null,null,null,null,null,null,null,null,null,null,null,{"$error":"#N/A"},{"$error":"#N/A"},null,null,null,null,null,null,null,null,null,null,null,null,null,null,null,null,null,null,null,null,null,null,null,null,null,null,null,null,null,{"$error":"#N/A"}]
[null,null,null,null,null,null,null,null,null,null,null,null,{"$error":"#N/A"},{"$error":"#N/A"},null,null,null,null,null,null,null,null,null,null,null,null,null,null,null,null,null,null,null,null,null,null,null,null,null,null,null,null,null,{"$error":"#N/A"}]
[null,null,null,null,null,null,null,null,null,null,null,null,{"$f":"IF(AND($F$17=H5937,$AK$44=F5937),J5937,\"\")","v":{"$error":"#N/A"}},{"$f":"IF(AND($F$17=H5937,$AK$44=F5937),L5937,\"\")","v":{"$error":"#N/A"}},null,null,null,null,null,null,null,null,null,null,null,null,null,null,null,null,null,null,null,null,null,null,null,null,null,null,null,null,null,{"$error":"#N/A"}]
[null,null,null,null,null,null,null,null,null,null,null,null,{"$error":"#N/A"},{"$error":"#N/A"},null,null,null,null,null,null,null,null,null,null,null,null,null,null,null,null,null,null,null,null,null,null,null,null,null,null,null,null,null,{"$error":"#N/A"}]
[null,null,null,null,null,null,null,null,null,null,null,null,{"$error":"#N/A"},{"$error":"#N/A"},null,null,null,null,null,null,null,null,null,null,null,null,null,null,null,null,null,null,null,null,null,null,null,null,null,null,null,null,null,{"$error":"#N/A"}]
[null,null,null,null,null,null,null,null,null,null,null,null,{"$error":"#N/A"},{"$error":"#N/A"},null,null,null,null,null,null,null,null,null,null,null,null,null,null,null,null,null,null,null,null,null,null,null,null,null,null,null,null,null,{"$error":"#N/A"}]
[null,null,null,null,null,null,null,null,null,null,null,null,{"$error":"#N/A"},{"$error":"#N/A"},null,null,null,null,null,null,null,null,null,null,null,null,null,null,null,null,null,null,null,null,null,null,null,null,null,null,null,null,null,{"$error":"#N/A"}]
[null,null,null,null,null,null,null,null,null,null,null,null,{"$error":"#N/A"},{"$error":"#N/A"},null,null,null,null,null,null,null,null,null,null,null,null,null,null,null,null,null,null,null,null,null,null,null,null,null,null,null,null,null,{"$error":"#N/A"}]
[null,null,null,null,null,null,null,null,null,null,null,null,{"$error":"#N/A"},{"$error":"#N/A"},null,null,null,null,null,null,null,null,null,null,null,null,null,null,null,null,null,null,null,null,null,null,null,null,null,null,null,null,null,{"$error":"#N/A"}]
[null,null,null,null,null,null,null,null,null,null,null,null,{"$error":"#N/A"},{"$error":"#N/A"},null,null,null,null,null,null,null,null,null,null,null,null,null,null,null,null,null,null,null,null,null,null,null,null,null,null,null,null,null,{"$error":"#N/A"}]
[null,null,null,null,null,null,null,null,null,null,null,null,{"$error":"#N/A"},{"$error":"#N/A"},null,null,null,null,null,null,null,null,null,null,null,null,null,null,null,null,null,null,null,null,null,null,null,null,null,null,null,null,null,{"$error":"#N/A"}]
[null,null,null,null,null,null,null,null,null,null,null,null,{"$error":"#N/A"},{"$error":"#N/A"},null,null,null,null,null,null,null,null,null,null,null,null,null,null,null,null,null,null,null,null,null,null,null,null,null,null,null,null,null,{"$error":"#N/A"}]
[null,null,null,null,null,null,null,null,null,null,null,null,{"$error":"#N/A"},{"$error":"#N/A"},null,null,null,null,null,null,null,null,null,null,null,null,null,null,null,null,null,null,null,null,null,null,null,null,null,null,null,null,null,{"$error":"#N/A"}]
[null,null,null,null,null,null,null,null,null,null,null,null,{"$error":"#N/A"},{"$error":"#N/A"},null,null,null,null,null,null,null,null,null,null,null,null,null,null,null,null,null,null,null,null,null,null,null,null,null,null,null,null,null,{"$error":"#N/A"}]
[null,null,null,null,null,null,null,null,null,null,null,null,{"$error":"#N/A"},{"$error":"#N/A"},null,null,null,null,null,null,null,null,null,null,null,null,null,null,null,null,null,null,null,null,null,null,null,null,null,null,null,null,null,{"$error":"#N/A"}]
[null,null,null,null,null,null,null,null,null,null,null,null,{"$error":"#N/A"},{"$error":"#N/A"},null,null,null,null,null,null,null,null,null,null,null,null,null,null,null,null,null,null,null,null,null,null,null,null,null,null,null,null,null,{"$error":"#N/A"}]
[null,null,null,null,null,null,null,null,null,null,null,null,{"$error":"#N/A"},{"$error":"#N/A"},null,null,null,null,null,null,null,null,null,null,null,null,null,null,null,null,null,null,null,null,null,null,null,null,null,null,null,null,null,{"$error":"#N/A"}]
[null,null,null,null,null,null,null,null,null,null,null,null,{"$error":"#N/A"},{"$error":"#N/A"},null,null,null,null,null,null,null,null,null,null,null,null,null,null,null,null,null,null,null,null,null,null,null,null,null,null,null,null,null,{"$error":"#N/A"}]
[null,null,null,null,null,null,null,null,null,null,null,null,{"$error":"#N/A"},{"$error":"#N/A"},null,null,null,null,null,null,null,null,null,null,null,null,null,null,null,null,null,null,null,null,null,null,null,null,null,null,null,null,null,{"$error":"#N/A"}]
[null,null,null,null,null,null,null,null,null,null,null,null,{"$error":"#N/A"},{"$error":"#N/A"},null,null,null,null,null,null,null,null,null,null,null,null,null,null,null,null,null,null,null,null,null,null,null,null,null,null,null,null,null,{"$error":"#N/A"}]
[null,null,null,null,null,null,null,null,null,null,null,null,{"$error":"#N/A"},{"$error":"#N/A"},null,null,null,null,null,null,null,null,null,null,null,null,null,null,null,null,null,null,null,null,null,null,null,null,null,null,null,null,null,{"$error":"#N/A"}]
[null,null,null,null,null,null,null,null,null,null,null,null,{"$error":"#N/A"},{"$error":"#N/A"},null,null,null,null,null,null,null,null,null,null,null,null,null,null,null,null,null,null,null,null,null,null,null,null,null,null,null,null,null,{"$error":"#N/A"}]
[null,null,null,null,null,null,null,null,null,null,null,null,{"$error":"#N/A"},{"$error":"#N/A"},null,null,null,null,null,null,null,null,null,null,null,null,null,null,null,null,null,null,null,null,null,null,null,null,null,null,null,null,null,{"$error":"#N/A"}]
[null,null,null,null,null,null,null,null,null,null,null,null,{"$error":"#N/A"},{"$error":"#N/A"},null,null,null,null,null,null,null,null,null,null,null,null,null,null,null,null,null,null,null,null,null,null,null,null,null,null,null,null,null,{"$error":"#N/A"}]
[null,null,null,null,null,null,null,null,null,null,null,null,{"$error":"#N/A"},{"$error":"#N/A"},null,null,null,null,null,null,null,null,null,null,null,null,null,null,null,null,null,null,null,null,null,null,null,null,null,null,null,null,null,{"$error":"#N/A"}]
[null,null,null,null,null,null,null,null,null,null,null,null,{"$error":"#N/A"},{"$error":"#N/A"},null,null,null,null,null,null,null,null,null,null,null,null,null,null,null,null,null,null,null,null,null,null,null,null,null,null,null,null,null,{"$error":"#N/A"}]
[null,null,null,null,null,null,null,null,null,null,null,null,{"$error":"#N/A"},{"$error":"#N/A"},null,null,null,null,null,null,null,null,null,null,null,null,null,null,null,null,null,null,null,null,null,null,null,null,null,null,null,null,null,{"$error":"#N/A"}]
[null,null,null,null,null,null,null,null,null,null,null,null,{"$error":"#N/A"},{"$error":"#N/A"},null,null,null,null,null,null,null,null,null,null,null,null,null,null,null,null,null,null,null,null,null,null,null,null,null,null,null,null,null,{"$error":"#N/A"}]
[null,null,null,null,null,null,null,null,null,null,null,null,{"$error":"#N/A"},{"$error":"#N/A"},null,null,null,null,null,null,null,null,null,null,null,null,null,null,null,null,null,null,null,null,null,null,null,null,null,null,null,null,null,{"$error":"#N/A"}]
[null,null,null,null,null,null,null,null,null,null,null,null,{"$error":"#N/A"},{"$error":"#N/A"},null,null,null,null,null,null,null,null,null,null,null,null,null,null,null,null,null,null,null,null,null,null,null,null,null,null,null,null,null,{"$error":"#N/A"}]
[null,null,null,null,null,null,null,null,null,null,null,null,{"$error":"#N/A"},{"$error":"#N/A"},null,null,null,null,null,null,null,null,null,null,null,null,null,null,null,null,null,null,null,null,null,null,null,null,null,null,null,null,null,{"$error":"#N/A"}]
[null,null,null,null,null,null,null,null,null,null,null,null,{"$error":"#N/A"},{"$error":"#N/A"},null,null,null,null,null,null,null,null,null,null,null,null,null,null,null,null,null,null,null,null,null,null,null,null,null,null,null,null,null,{"$error":"#N/A"}]
[null,null,null,null,null,null,null,null,null,null,null,null,{"$error":"#N/A"},{"$error":"#N/A"},null,null,null,null,null,null,null,null,null,null,null,null,null,null,null,null,null,null,null,null,null,null,null,null,null,null,null,null,null,{"$error":"#N/A"}]
[null,null,null,null,null,null,null,null,null,null,null,null,{"$error":"#N/A"},{"$error":"#N/A"},null,null,null,null,null,null,null,null,null,null,null,null,null,null,null,null,null,null,null,null,null,null,null,null,null,null,null,null,null,{"$error":"#N/A"}]
[null,null,null,null,null,null,null,null,null,null,null,null,{"$error":"#N/A"},{"$error":"#N/A"},null,null,null,null,null,null,null,null,null,null,null,null,null,null,null,null,null,null,null,null,null,null,null,null,null,null,null,null,null,{"$error":"#N/A"}]
[null,null,null,null,null,null,null,null,null,null,null,null,{"$error":"#N/A"},{"$error":"#N/A"},null,null,null,null,null,null,null,null,null,null,null,null,null,null,null,null,null,null,null,null,null,null,null,null,null,null,null,null,null,{"$error":"#N/A"}]
[null,null,null,null,null,null,null,null,null,null,null,null,{"$error":"#N/A"},{"$error":"#N/A"},null,null,null,null,null,null,null,null,null,null,null,null,null,null,null,null,null,null,null,null,null,null,null,null,null,null,null,null,null,{"$error":"#N/A"}]
[null,null,null,null,null,null,null,null,null,null,null,null,{"$error":"#N/A"},{"$error":"#N/A"},null,null,null,null,null,null,null,null,null,null,null,null,null,null,null,null,null,null,null,null,null,null,null,null,null,null,null,null,null,{"$error":"#N/A"}]
[null,null,null,null,null,null,null,null,null,null,null,null,{"$error":"#N/A"},{"$error":"#N/A"},null,null,null,null,null,null,null,null,null,null,null,null,null,null,null,null,null,null,null,null,null,null,null,null,null,null,null,null,null,{"$error":"#N/A"}]
[null,null,null,null,null,null,null,null,null,null,null,null,{"$error":"#N/A"},{"$error":"#N/A"},null,null,null,null,null,null,null,null,null,null,null,null,null,null,null,null,null,null,null,null,null,null,null,null,null,null,null,null,null,{"$error":"#N/A"}]
[null,null,null,null,null,null,null,null,null,null,null,null,{"$error":"#N/A"},{"$error":"#N/A"},null,null,null,null,null,null,null,null,null,null,null,null,null,null,null,null,null,null,null,null,null,null,null,null,null,null,null,null,null,{"$error":"#N/A"}]
[null,null,null,null,null,null,null,null,null,null,null,null,{"$error":"#N/A"},{"$error":"#N/A"},null,null,null,null,null,null,null,null,null,null,null,null,null,null,null,null,null,null,null,null,null,null,null,null,null,null,null,null,null,{"$error":"#N/A"}]
[null,null,null,null,null,null,null,null,null,null,null,null,{"$error":"#N/A"},{"$error":"#N/A"},null,null,null,null,null,null,null,null,null,null,null,null,null,null,null,null,null,null,null,null,null,null,null,null,null,null,null,null,null,{"$error":"#N/A"}]
[null,null,null,null,null,null,null,null,null,null,null,null,{"$error":"#N/A"},{"$error":"#N/A"},null,null,null,null,null,null,null,null,null,null,null,null,null,null,null,null,null,null,null,null,null,null,null,null,null,null,null,null,null,{"$error":"#N/A"}]
[null,null,null,null,null,null,null,null,null,null,null,null,{"$error":"#N/A"},{"$error":"#N/A"},null,null,null,null,null,null,null,null,null,null,null,null,null,null,null,null,null,null,null,null,null,null,null,null,null,null,null,null,null,{"$error":"#N/A"}]
[null,null,null,null,null,null,null,null,null,null,null,null,{"$error":"#N/A"},{"$error":"#N/A"},null,null,null,null,null,null,null,null,null,null,null,null,null,null,null,null,null,null,null,null,null,null,null,null,null,null,null,null,null,{"$error":"#N/A"}]
[null,null,null,null,null,null,null,null,null,null,null,null,{"$error":"#N/A"},{"$error":"#N/A"},null,null,null,null,null,null,null,null,null,null,null,null,null,null,null,null,null,null,null,null,null,null,null,null,null,null,null,null,null,{"$error":"#N/A"}]
[null,null,null,null,null,null,null,null,null,null,null,null,{"$error":"#N/A"},{"$error":"#N/A"},null,null,null,null,null,null,null,null,null,null,null,null,null,null,null,null,null,null,null,null,null,null,null,null,null,null,null,null,null,{"$error":"#N/A"}]
[null,null,null,null,null,null,null,null,null,null,null,null,{"$error":"#N/A"},{"$error":"#N/A"},null,null,null,null,null,null,null,null,null,null,null,null,null,null,null,null,null,null,null,null,null,null,null,null,null,null,null,null,null,{"$error":"#N/A"}]
[null,null,null,null,null,null,null,null,null,null,null,null,{"$error":"#N/A"},{"$error":"#N/A"},null,null,null,null,null,null,null,null,null,null,null,null,null,null,null,null,null,null,null,null,null,null,null,null,null,null,null,null,null,{"$error":"#N/A"}]
[null,null,null,null,null,null,null,null,null,null,null,null,{"$error":"#N/A"},{"$error":"#N/A"},null,null,null,null,null,null,null,null,null,null,null,null,null,null,null,null,null,null,null,null,null,null,null,null,null,null,null,null,null,{"$error":"#N/A"}]
[null,null,null,null,null,null,null,null,null,null,null,null,{"$error":"#N/A"},{"$error":"#N/A"},null,null,null,null,null,null,null,null,null,null,null,null,null,null,null,null,null,null,null,null,null,null,null,null,null,null,null,null,null,{"$error":"#N/A"}]
[null,null,null,null,null,null,null,null,null,null,null,null,{"$error":"#N/A"},{"$error":"#N/A"},null,null,null,null,null,null,null,null,null,null,null,null,null,null,null,null,null,null,null,null,null,null,null,null,null,null,null,null,null,{"$error":"#N/A"}]
[null,null,null,null,null,null,null,null,null,null,null,null,{"$error":"#N/A"},{"$error":"#N/A"},null,null,null,null,null,null,null,null,null,null,null,null,null,null,null,null,null,null,null,null,null,null,null,null,null,null,null,null,null,{"$error":"#N/A"}]
[null,null,null,null,null,null,null,null,null,null,null,null,{"$error":"#N/A"},{"$error":"#N/A"},null,null,null,null,null,null,null,null,null,null,null,null,null,null,null,null,null,null,null,null,null,null,null,null,null,null,null,null,null,{"$error":"#N/A"}]
[null,null,null,null,null,null,null,null,null,null,null,null,{"$error":"#N/A"},{"$error":"#N/A"},null,null,null,null,null,null,null,null,null,null,null,null,null,null,null,null,null,null,null,null,null,null,null,null,null,null,null,null,null,{"$error":"#N/A"}]
[null,null,null,null,null,null,null,null,null,null,null,null,{"$error":"#N/A"},{"$error":"#N/A"},null,null,null,null,null,null,null,null,null,null,null,null,null,null,null,null,null,null,null,null,null,null,null,null,null,null,null,null,null,{"$error":"#N/A"}]
[null,null,null,null,null,null,null,null,null,null,null,null,{"$error":"#N/A"},{"$error":"#N/A"},null,null,null,null,null,null,null,null,null,null,null,null,null,null,null,null,null,null,null,null,null,null,null,null,null,null,null,null,null,{"$error":"#N/A"}]
[null,null,null,null,null,null,null,null,null,null,null,null,{"$error":"#N/A"},{"$error":"#N/A"},null,null,null,null,null,null,null,null,null,null,null,null,null,null,null,null,null,null,null,null,null,null,null,null,null,null,null,null,null,{"$error":"#N/A"}]
[null,null,null,null,null,null,null,null,null,null,null,null,{"$error":"#N/A"},{"$error":"#N/A"},null,null,null,null,null,null,null,null,null,null,null,null,null,null,null,null,null,null,null,null,null,null,null,null,null,null,null,null,null,{"$error":"#N/A"}]
[null,null,null,null,null,null,null,null,null,null,null,null,{"$error":"#N/A"},{"$error":"#N/A"},null,null,null,null,null,null,null,null,null,null,null,null,null,null,null,null,null,null,null,null,null,null,null,null,null,null,null,null,null,{"$error":"#N/A"}]
[null,null,null,null,null,null,null,null,null,null,null,null,{"$error":"#N/A"},{"$error":"#N/A"},null,null,null,null,null,null,null,null,null,null,null,null,null,null,null,null,null,null,null,null,null,null,null,null,null,null,null,null,null,{"$error":"#N/A"}]
[null,null,null,null,null,null,null,null,null,null,null,null,{"$error":"#N/A"},{"$error":"#N/A"},null,null,null,null,null,null,null,null,null,null,null,null,null,null,null,null,null,null,null,null,null,null,null,null,null,null,null,null,null,{"$error":"#N/A"}]
[null,null,null,null,null,null,null,null,null,null,null,null,{"$error":"#N/A"},{"$error":"#N/A"},null,null,null,null,null,null,null,null,null,null,null,null,null,null,null,null,null,null,null,null,null,null,null,null,null,null,null,null,null,{"$error":"#N/A"}]
[null,null,null,null,null,null,null,null,null,null,null,null,{"$error":"#N/A"},{"$error":"#N/A"},null,null,null,null,null,null,null,null,null,null,null,null,null,null,null,null,null,null,null,null,null,null,null,null,null,null,null,null,null,{"$error":"#N/A"}]
[null,null,null,null,null,null,null,null,null,null,null,null,{"$error":"#N/A"},{"$error":"#N/A"},null,null,null,null,null,null,null,null,null,null,null,null,null,null,null,null,null,null,null,null,null,null,null,null,null,null,null,null,null,{"$error":"#N/A"}]
[null,null,null,null,null,null,null,null,null,null,null,null,{"$f":"IF(AND($F$17=H6001,$AK$44=F6001),J6001,\"\")","v":{"$error":"#N/A"}},{"$f":"IF(AND($F$17=H6001,$AK$44=F6001),L6001,\"\")","v":{"$error":"#N/A"}},null,null,null,null,null,null,null,null,null,null,null,null,null,null,null,null,null,null,null,null,null,null,null,null,null,null,null,null,null,{"$error":"#N/A"}]
[null,null,null,null,null,null,null,null,null,null,null,null,{"$error":"#N/A"},{"$error":"#N/A"},null,null,null,null,null,null,null,null,null,null,null,null,null,null,null,null,null,null,null,null,null,null,null,null,null,null,null,null,null,{"$error":"#N/A"}]
[null,null,null,null,null,null,null,null,null,null,null,null,{"$error":"#N/A"},{"$error":"#N/A"},null,null,null,null,null,null,null,null,null,null,null,null,null,null,null,null,null,null,null,null,null,null,null,null,null,null,null,null,null,{"$error":"#N/A"}]
[null,null,null,null,null,null,null,null,null,null,null,null,{"$error":"#N/A"},{"$error":"#N/A"},null,null,null,null,null,null,null,null,null,null,null,null,null,null,null,null,null,null,null,null,null,null,null,null,null,null,null,null,null,{"$error":"#N/A"}]
[null,null,null,null,null,null,null,null,null,null,null,null,{"$error":"#N/A"},{"$error":"#N/A"},null,null,null,null,null,null,null,null,null,null,null,null,null,null,null,null,null,null,null,null,null,null,null,null,null,null,null,null,null,{"$error":"#N/A"}]
[null,null,null,null,null,null,null,null,null,null,null,null,{"$error":"#N/A"},{"$error":"#N/A"},null,null,null,null,null,null,null,null,null,null,null,null,null,null,null,null,null,null,null,null,null,null,null,null,null,null,null,null,null,{"$error":"#N/A"}]
[null,null,null,null,null,null,null,null,null,null,null,null,{"$error":"#N/A"},{"$error":"#N/A"},null,null,null,null,null,null,null,null,null,null,null,null,null,null,null,null,null,null,null,null,null,null,null,null,null,null,null,null,null,{"$error":"#N/A"}]
[null,null,null,null,null,null,null,null,null,null,null,null,{"$error":"#N/A"},{"$error":"#N/A"},null,null,null,null,null,null,null,null,null,null,null,null,null,null,null,null,null,null,null,null,null,null,null,null,null,null,null,null,null,{"$error":"#N/A"}]
[null,null,null,null,null,null,null,null,null,null,null,null,{"$error":"#N/A"},{"$error":"#N/A"},null,null,null,null,null,null,null,null,null,null,null,null,null,null,null,null,null,null,null,null,null,null,null,null,null,null,null,null,null,{"$error":"#N/A"}]
[null,null,null,null,null,null,null,null,null,null,null,null,{"$error":"#N/A"},{"$error":"#N/A"},null,null,null,null,null,null,null,null,null,null,null,null,null,null,null,null,null,null,null,null,null,null,null,null,null,null,null,null,null,{"$error":"#N/A"}]
[null,null,null,null,null,null,null,null,null,null,null,null,{"$error":"#N/A"},{"$error":"#N/A"},null,null,null,null,null,null,null,null,null,null,null,null,null,null,null,null,null,null,null,null,null,null,null,null,null,null,null,null,null,{"$error":"#N/A"}]
[null,null,null,null,null,null,null,null,null,null,null,null,{"$error":"#N/A"},{"$error":"#N/A"},null,null,null,null,null,null,null,null,null,null,null,null,null,null,null,null,null,null,null,null,null,null,null,null,null,null,null,null,null,{"$error":"#N/A"}]
[null,null,null,null,null,null,null,null,null,null,null,null,{"$error":"#N/A"},{"$error":"#N/A"},null,null,null,null,null,null,null,null,null,null,null,null,null,null,null,null,null,null,null,null,null,null,null,null,null,null,null,null,null,{"$error":"#N/A"}]
[null,null,null,null,null,null,null,null,null,null,null,null,{"$error":"#N/A"},{"$error":"#N/A"},null,null,null,null,null,null,null,null,null,null,null,null,null,null,null,null,null,null,null,null,null,null,null,null,null,null,null,null,null,{"$error":"#N/A"}]
[null,null,null,null,null,null,null,null,null,null,null,null,{"$error":"#N/A"},{"$error":"#N/A"},null,null,null,null,null,null,null,null,null,null,null,null,null,null,null,null,null,null,null,null,null,null,null,null,null,null,null,null,null,{"$error":"#N/A"}]
[null,null,null,null,null,null,null,null,null,null,null,null,{"$error":"#N/A"},{"$error":"#N/A"},null,null,null,null,null,null,null,null,null,null,null,null,null,null,null,null,null,null,null,null,null,null,null,null,null,null,null,null,null,{"$error":"#N/A"}]
[null,null,null,null,null,null,null,null,null,null,null,null,{"$error":"#N/A"},{"$error":"#N/A"},null,null,null,null,null,null,null,null,null,null,null,null,null,null,null,null,null,null,null,null,null,null,null,null,null,null,null,null,null,{"$error":"#N/A"}]
[null,null,null,null,null,null,null,null,null,null,null,null,{"$error":"#N/A"},{"$error":"#N/A"},null,null,null,null,null,null,null,null,null,null,null,null,null,null,null,null,null,null,null,null,null,null,null,null,null,null,null,null,null,{"$error":"#N/A"}]
[null,null,null,null,null,null,null,null,null,null,null,null,{"$error":"#N/A"},{"$error":"#N/A"},null,null,null,null,null,null,null,null,null,null,null,null,null,null,null,null,null,null,null,null,null,null,null,null,null,null,null,null,null,{"$error":"#N/A"}]
[null,null,null,null,null,null,null,null,null,null,null,null,{"$error":"#N/A"},{"$error":"#N/A"},null,null,null,null,null,null,null,null,null,null,null,null,null,null,null,null,null,null,null,null,null,null,null,null,null,null,null,null,null,{"$error":"#N/A"}]
[null,null,null,null,null,null,null,null,null,null,null,null,{"$error":"#N/A"},{"$error":"#N/A"},null,null,null,null,null,null,null,null,null,null,null,null,null,null,null,null,null,null,null,null,null,null,null,null,null,null,null,null,null,{"$error":"#N/A"}]
[null,null,null,null,null,null,null,null,null,null,null,null,{"$error":"#N/A"},{"$error":"#N/A"},null,null,null,null,null,null,null,null,null,null,null,null,null,null,null,null,null,null,null,null,null,null,null,null,null,null,null,null,null,{"$error":"#N/A"}]
[null,null,null,null,null,null,null,null,null,null,null,null,{"$error":"#N/A"},{"$error":"#N/A"},null,null,null,null,null,null,null,null,null,null,null,null,null,null,null,null,null,null,null,null,null,null,null,null,null,null,null,null,null,{"$error":"#N/A"}]
[null,null,null,null,null,null,null,null,null,null,null,null,{"$error":"#N/A"},{"$error":"#N/A"},null,null,null,null,null,null,null,null,null,null,null,null,null,null,null,null,null,null,null,null,null,null,null,null,null,null,null,null,null,{"$error":"#N/A"}]
[null,null,null,null,null,null,null,null,null,null,null,null,{"$error":"#N/A"},{"$error":"#N/A"},null,null,null,null,null,null,null,null,null,null,null,null,null,null,null,null,null,null,null,null,null,null,null,null,null,null,null,null,null,{"$error":"#N/A"}]
[null,null,null,null,null,null,null,null,null,null,null,null,{"$error":"#N/A"},{"$error":"#N/A"},null,null,null,null,null,null,null,null,null,null,null,null,null,null,null,null,null,null,null,null,null,null,null,null,null,null,null,null,null,{"$error":"#N/A"}]
[null,null,null,null,null,null,null,null,null,null,null,null,{"$error":"#N/A"},{"$error":"#N/A"},null,null,null,null,null,null,null,null,null,null,null,null,null,null,null,null,null,null,null,null,null,null,null,null,null,null,null,null,null,{"$error":"#N/A"}]
[null,null,null,null,null,null,null,null,null,null,null,null,{"$error":"#N/A"},{"$error":"#N/A"},null,null,null,null,null,null,null,null,null,null,null,null,null,null,null,null,null,null,null,null,null,null,null,null,null,null,null,null,null,{"$error":"#N/A"}]
[null,null,null,null,null,null,null,null,null,null,null,null,{"$error":"#N/A"},{"$error":"#N/A"},null,null,null,null,null,null,null,null,null,null,null,null,null,null,null,null,null,null,null,null,null,null,null,null,null,null,null,null,null,{"$error":"#N/A"}]
[null,null,null,null,null,null,null,null,null,null,null,null,{"$error":"#N/A"},{"$error":"#N/A"},null,null,null,null,null,null,null,null,null,null,null,null,null,null,null,null,null,null,null,null,null,null,null,null,null,null,null,null,null,{"$error":"#N/A"}]
[null,null,null,null,null,null,null,null,null,null,null,null,{"$error":"#N/A"},{"$error":"#N/A"},null,null,null,null,null,null,null,null,null,null,null,null,null,null,null,null,null,null,null,null,null,null,null,null,null,null,null,null,null,{"$error":"#N/A"}]
[null,null,null,null,null,null,null,null,null,null,null,null,{"$error":"#N/A"},{"$error":"#N/A"},null,null,null,null,null,null,null,null,null,null,null,null,null,null,null,null,null,null,null,null,null,null,null,null,null,null,null,null,null,{"$error":"#N/A"}]
[null,null,null,null,null,null,null,null,null,null,null,null,{"$error":"#N/A"},{"$error":"#N/A"},null,null,null,null,null,null,null,null,null,null,null,null,null,null,null,null,null,null,null,null,null,null,null,null,null,null,null,null,null,{"$error":"#N/A"}]
[null,null,null,null,null,null,null,null,null,null,null,null,{"$error":"#N/A"},{"$error":"#N/A"},null,null,null,null,null,null,null,null,null,null,null,null,null,null,null,null,null,null,null,null,null,null,null,null,null,null,null,null,null,{"$error":"#N/A"}]
[null,null,null,null,null,null,null,null,null,null,null,null,{"$error":"#N/A"},{"$error":"#N/A"},null,null,null,null,null,null,null,null,null,null,null,null,null,null,null,null,null,null,null,null,null,null,null,null,null,null,null,null,null,{"$error":"#N/A"}]
[null,null,null,null,null,null,null,null,null,null,null,null,{"$error":"#N/A"},{"$error":"#N/A"},null,null,null,null,null,null,null,null,null,null,null,null,null,null,null,null,null,null,null,null,null,null,null,null,null,null,null,null,null,{"$error":"#N/A"}]
[null,null,null,null,null,null,null,null,null,null,null,null,{"$error":"#N/A"},{"$error":"#N/A"},null,null,null,null,null,null,null,null,null,null,null,null,null,null,null,null,null,null,null,null,null,null,null,null,null,null,null,null,null,{"$error":"#N/A"}]
[null,null,null,null,null,null,null,null,null,null,null,null,{"$error":"#N/A"},{"$error":"#N/A"},null,null,null,null,null,null,null,null,null,null,null,null,null,null,null,null,null,null,null,null,null,null,null,null,null,null,null,null,null,{"$error":"#N/A"}]
[null,null,null,null,null,null,null,null,null,null,null,null,{"$error":"#N/A"},{"$error":"#N/A"},null,null,null,null,null,null,null,null,null,null,null,null,null,null,null,null,null,null,null,null,null,null,null,null,null,null,null,null,null,{"$error":"#N/A"}]
[null,null,null,null,null,null,null,null,null,null,null,null,{"$error":"#N/A"},{"$error":"#N/A"},null,null,null,null,null,null,null,null,null,null,null,null,null,null,null,null,null,null,null,null,null,null,null,null,null,null,null,null,null,{"$error":"#N/A"}]
[null,null,null,null,null,null,null,null,null,null,null,null,{"$error":"#N/A"},{"$error":"#N/A"},null,null,null,null,null,null,null,null,null,null,null,null,null,null,null,null,null,null,null,null,null,null,null,null,null,null,null,null,null,{"$error":"#N/A"}]
[null,null,null,null,null,null,null,null,null,null,null,null,{"$error":"#N/A"},{"$error":"#N/A"},null,null,null,null,null,null,null,null,null,null,null,null,null,null,null,null,null,null,null,null,null,null,null,null,null,null,null,null,null,{"$error":"#N/A"}]
[null,null,null,null,null,null,null,null,null,null,null,null,{"$error":"#N/A"},{"$error":"#N/A"},null,null,null,null,null,null,null,null,null,null,null,null,null,null,null,null,null,null,null,null,null,null,null,null,null,null,null,null,null,{"$error":"#N/A"}]
[null,null,null,null,null,null,null,null,null,null,null,null,{"$error":"#N/A"},{"$error":"#N/A"},null,null,null,null,null,null,null,null,null,null,null,null,null,null,null,null,null,null,null,null,null,null,null,null,null,null,null,null,null,{"$error":"#N/A"}]
[null,null,null,null,null,null,null,null,null,null,null,null,{"$error":"#N/A"},{"$error":"#N/A"},null,null,null,null,null,null,null,null,null,null,null,null,null,null,null,null,null,null,null,null,null,null,null,null,null,null,null,null,null,{"$error":"#N/A"}]
[null,null,null,null,null,null,null,null,null,null,null,null,{"$error":"#N/A"},{"$error":"#N/A"},null,null,null,null,null,null,null,null,null,null,null,null,null,null,null,null,null,null,null,null,null,null,null,null,null,null,null,null,null,{"$error":"#N/A"}]
[null,null,null,null,null,null,null,null,null,null,null,null,{"$error":"#N/A"},{"$error":"#N/A"},null,null,null,null,null,null,null,null,null,null,null,null,null,null,null,null,null,null,null,null,null,null,null,null,null,null,null,null,null,{"$error":"#N/A"}]
[null,null,null,null,null,null,null,null,null,null,null,null,{"$error":"#N/A"},{"$error":"#N/A"},null,null,null,null,null,null,null,null,null,null,null,null,null,null,null,null,null,null,null,null,null,null,null,null,null,null,null,null,null,{"$error":"#N/A"}]

{"sheet":"Contract and Quantities","index":1,"n_rows":11076,"n_cols":42,"rows_kept":2250,"cut":true,"hidden":false,"merged":[[37,37,37,40],[137,1,137,3],[137,4,137,6],[137,17,137,18],[137,19,137,21],[137,23,137,24],[138,1,138,3],[138,4,138,6],[138,17,138,18],[138,19,138,21],[138,23,138,24],[135,1,135,3],[135,4,135,6],[135,17,135,18],[134,19,134,21],[134,23,134,24],[133,17,133,18],[133,19,133,21],[133,23,133,24],[134,1,134,3],[134,4,134,6],[130,19,130,21],[130,23,130,24],[131,1,131,3],[37,33,37,36],[132,1,132,3],[132,4,132,6],[132,17,132,18],[132,19,132,21],[132,23,132,24],[135,19,135,21],[135,23,135,24],[136,1,136,3],[136,4,136,6],[136,17,136,18],[136,19,136,21],[136,23,136,24],[133,1,133,3],[133,4,133,6],[134,17,134,18],[130,1,130,3],[130,4,130,6],[130,17,130,18],[131,7,131,13],[131,14,131,16],[132,7,132,13],[132,14,132,16],[128,1,128,3],[139,1,139,3],[139,4,139,6],[139,17,139,18],[139,19,139,21],[139,23,139,24],[133,7,133,13],[133,14,133,16],[134,7,134,13],[134,14,134,16],[135,7,135,13],[135,14,135,16],[136,7,136,13],[136,14,136,16],[137,7,137,13],[137,14,137,16],[138,7,138,13],[138,14,138,16],[139,7,139,13],[139,14,139,16],[129,1,129,3],[129,4,129,6],[129,17,129,18],[129,19,129,21],[129,23,129,24],[128,7,128,13],[128,14,128,16],[129,7,129,13],[129,14,129,16],[131,4,131,6],[131,17,131,18],[131,19,131,21],[131,23,131,24],[130,7,130,13],[130,14,130,16],[126,1,126,3],[126,4,126,6],[126,17,126,18],[126,19,126,21],[126,23,126,24],[127,1,127,3],[127,4,127,6],[127,17,127,18],[127,19,127,21],[127,23,127,24],[126,7,126,13],[126,14,126,16],[127,7,127,13],[127,14,127,16],[128,4,128,6],[128,17,128,18],[128,19,128,21],[128,23,128,24],[124,1,124,3],[124,4,124,6],[124,17,124,18],[124,19,124,21],[124,23,124,24],[125,1,125,3],[125,4,125,6],[125,17,125,18],[125,19,125,21],[125,23,125,24],[124,7,124,13],[124,14,124,16],[125,7,125,13],[125,14,125,16],[122,1,122,3],[122,4,122,6],[122,17,122,18],[122,19,122,21],[122,23,122,24],[123,1,123,3],[123,4,123,6],[123,17,123,18],[123,19,123,21],[123,23,123,24],[122,7,122,13],[122,14,122,16],[123,7,123,13],[123,14,123,16],[120,1,120,3],[120,4,120,6],[120,17,120,18],[120,19,120,21],[120,23,120,24],[121,1,121,3],[121,4,121,6],[121,17,121,18],[121,19,121,21],[121,23,121,24],[120,7,120,13],[120,14,120,16],[121,7,121,13],[121,14,121,16],[118,1,118,3],[118,4,118,6],[118,17,118,18],[118,19,118,21],[118,23,118,24],[119,1,119,3],[119,4,119,6],[119,17,119,18],[119,19,119,21],[119,23,119,24],[118,7,118,13],[118,14,118,16],[119,7,119,13],[119,14,119,16],[116,1,116,3],[116,4,116,6],[116,17,116,18],[116,19,116,21],[116,23,116,24],[117,1,117,3],[117,4,117,6],[117,17,117,18],[117,19,117,21],[117,23,117,24],[116,7,116,13],[116,14,116,16],[117,7,117,13],[117,14,117,16],[114,1,114,3],[114,4,114,6],[114,17,114,18],[114,19,114,21],[114,23,114,24],[115,1,115,3],[115,4,115,6],[115,17,115,18],[115,19,115,21],[115,23,115,24],[114,7,114,13],[114,14,114,16],[115,7,115,13],[115,14,115,16],[112,1,112,3],[112,4,112,6],[112,17,112,18],[112,19,112,21],[112,23,112,24],[113,1,113,3],[113,4,113,6],[113,17,113,18],[113,19,113,21],[113,23,113,24],[112,7,112,13],[112,14,112,16],[113,7,113,13],[113,14,113,16],[110,1,110,3],[110,4,110,6],[110,17,110,18],[110,19,110,21],[110,23,110,24],[111,1,111,3],[111,4,111,6],[111,17,111,18],[111,19,111,21],[111,23,111,24],[110,7,110,13],[110,14,110,16],[111,7,111,13],[111,14,111,16],[108,1,108,3],[108,4,108,6],[108,17,108,18],[108,19,108,21],[108,23,108,24],[109,1,109,3],[109,4,109,6],[109,17,109,18],[109,19,109,21],[109,23,109,24],[108,7,108,13],[108,14,108,16],[109,7,109,13],[109,14,109,16],[106,1,106,3],[106,4,106,6],[106,17,106,18],[106,19,106,21],[106,23,106,24],[107,1,107,3],[107,4,107,6],[107,17,107,18],[107,19,107,21],[107,23,107,24],[106,7,106,13],[106,14,106,16],[107,7,107,13],[107,14,107,16],[104,1,104,3],[104,4,104,6],[104,17,104,18],[104,19,104,21],[104,23,104,24],[105,1,105,3],[105,4,105,6],[105,17,105,18],[105,19,105,21],[105,23,105,24],[104,7,104,13],[104,14,104,16],[105,7,105,13],[105,14,105,16],[102,1,102,3],[102,4,102,6],[102,17,102,18],[102,19,102,21],[102,23,102,24],[103,1,103,3],[103,4,103,6],[103,17,103,18],[103,19,103,21],[103,23,103,24],[102,7,102,13],[102,14,102,16],[103,7,103,13],[103,14,103,16],[100,1,100,3],[100,4,100,6],[100,17,100,18],[100,19,100,21],[100,23,100,24],[101,1,101,3],[101,4,101,6],[101,17,101,18],[101,19,101,21],[101,23,101,24],[100,7,100,13],[100,14,100,16],[101,7,101,13],[101,14,101,16],[98,1,98,3],[98,4,98,6],[98,17,98,18],[98,19,98,21],[98,23,98,24],[99,1,99,3],[99,4,99,6],[99,17,99,18],[99,19,99,21],[99,23,99,24],[98,7,98,13],[98,14,98,16],[99,7,99,13],[99,14,99,16],[96,1,96,3],[96,4,96,6],[96,17,96,18],[96,19,96,21],[96,23,96,24],[97,1,97,3],[97,4,97,6],[97,17,97,18],[97,19,97,21],[97,23,97,24],[96,7,96,13],[96,14,96,16],[97,7,97,13],[97,14,97,16],[94,1,94,3],[94,4,94,6],[94,17,94,18],[94,19,94,21],[94,23,94,24],[95,1,95,3],[95,4,95,6],[95,17,95,18],[95,19,95,21],[95,23,95,24],[94,7,94,13],[94,14,94,16],[95,7,95,13],[95,14,95,16],[92,1,92,3],[92,4,92,6],[92,17,92,18],[92,19,92,21],[92,23,92,24],[93,1,93,3],[93,4,93,6],[93,17,93,18],[93,19,93,21],[93,23,93,24],[92,7,92,13],[92,14,92,16],[93,7,93,13],[93,14,93,16],[90,1,90,3],[90,4,90,6],[90,17,90,18],[90,19,90,21],[90,23,90,24],[91,1,91,3],[91,4,91,6],[91,17,91,18],[91,19,91,21],[91,23,91,24],[90,7,90,13],[90,14,90,16],[91,7,91,13],[91,14,91,16],[88,1,88,3],[88,4,88,6],[88,17,88,18],[88,19,88,21],[88,23,88,24],[89,1,89,3],[89,4,89,6],[89,17,89,18],[89,19,89,21],[89,23,89,24],[88,7,88,13],[88,14,88,16],[89,7,89,13],[89,14,89,16],[86,1,86,3],[86,4,86,6],[86,17,86,18],[86,19,86,21],[86,23,86,24],[87,1,87,3],[87,4,87,6],[87,17,87,18],[87,19,87,21],[87,23,87,24],[86,7,86,13],[86,14,86,16],[87,7,87,13],[87,14,87,16],[84,1,84,3],[84,4,84,6],[84,17,84,18],[84,19,84,21],[84,23,84,24],[85,1,85,3],[85,4,85,6],[85,17,85,18],[85,19,85,21],[85,23,85,24],[84,7,84,13],[84,14,84,16],[85,7,85,13],[85,14,85,16],[82,1,82,3],[82,4,82,6],[82,17,82,18],[82,19,82,21],[82,23,82,24],[83,1,83,3],[83,4,83,6],[83,17,83,18],[83,19,83,21],[83,23,83,24],[82,7,82,13],[82,14,82,16],[83,7,83,13],[83,14,83,16],[80,1,80,3],[80,4,80,6],[80,17,80,18],[80,19,80,21],[80,23,80,24],[81,1,81,3],[81,4,81,6],[81,17,81,18],[81,19,81,21],[81,23,81,24],[80,7,80,13],[80,14,80,16],[81,7,81,13],[81,14,81,16],[78,1,78,3],[78,4,78,6],[78,17,78,18],[78,19,78,21],[78,23,78,24],[79,1,79,3],[79,4,79,6],[79,17,79,18],[79,19,79,21],[79,23,79,24],[78,7,78,13],[78,14,78,16],[79,7,79,13],[79,14,79,16],[76,1,76,3],[76,4,76,6],[76,17,76,18],[76,19,76,21],[76,23,76,24],[77,1,77,3],[77,4,77,6],[77,17,77,18],[77,19,77,21],[77,23,77,24],[76,7,76,13],[76,14,76,16],[77,7,77,13],[77,14,77,16],[74,1,74,3],[74,4,74,6],[74,17,74,18],[74,19,74,21],[74,23,74,24],[75,1,75,3],[75,4,75,6],[75,17,75,18],[75,19,75,21],[75,23,75,24],[74,7,74,13],[74,14,74,16],[75,7,75,13],[75,14,75,16],[72,1,72,3],[72,4,72,6],[72,17,72,18],[72,19,72,21],[72,23,72,24],[73,1,73,3],[73,4,73,6],[73,17,73,18],[73,19,73,21],[73,23,73,24],[72,7,72,13],[72,14,72,16],[73,7,73,13],[73,14,73,16],[70,1,70,3],[70,4,70,6],[70,17,70,18],[70,19,70,21],[70,23,70,24],[71,1,71,3],[71,4,71,6],[71,17,71,18],[71,19,71,21],[71,23,71,24],[70,7,70,13],[70,14,70,16],[71,7,71,13],[71,14,71,16],[68,1,68,3],[68,4,68,6],[68,17,68,18],[68,19,68,21],[68,23,68,24],[69,1,69,3],[69,4,69,6],[69,17,69,18],[69,19,69,21],[69,23,69,24],[68,7,68,13],[68,14,68,16],[69,7,69,13],[69,14,69,16],[66,1,66,3],[66,4,66,6],[66,17,66,18],[66,19,66,21],[66,23,66,24],[67,1,67,3],[67,4,67,6],[67,17,67,18],[67,19,67,21],[67,23,67,24],[66,7,66,13],[66,14,66,16],[67,7,67,13],[67,14,67,16],[64,1,64,3],[64,4,64,6],[64,17,64,18],[64,19,64,21],[64,23,64,24],[65,1,65,3],[65,4,65,6],[65,17,65,18],[65,19,65,21],[65,23,65,24],[64,7,64,13],[64,14,64,16],[65,7,65,13],[65,14,65,16],[62,1,62,3],[62,4,62,6],[62,17,62,18],[62,19,62,21],[62,23,62,24],[63,1,63,3],[63,4,63,6],[63,17,63,18],[63,19,63,21],[63,23,63,24],[62,7,62,13],[62,14,62,16],[63,7,63,13],[63,14,63,16],[60,1,60,3],[60,4,60,6],[60,17,60,18],[60,19,60,21],[60,23,60,24],[61,1,61,3],[61,4,61,6],[61,17,61,18],[61,19,61,21],[61,23,61,24],[60,7,60,13],[60,14,60,16],[61,7,61,13],[61,14,61,16],[58,1,58,3],[58,4,58,6],[58,17,58,18],[58,19,58,21],[58,23,58,24],[59,1,59,3],[59,4,59,6],[59,17,59,18],[59,19,59,21],[59,23,59,24],[58,7,58,13],[58,14,58,16],[59,7,59,13],[59,14,59,16],[56,1,56,3],[56,4,56,6],[56,17,56,18],[56,19,56,21],[56,23,56,24],[57,1,57,3],[57,4,57,6],[57,17,57,18],[57,19,57,21],[57,23,57,24],[56,7,56,13],[56,14,56,16],[57,7,57,13],[57,14,57,16],[54,1,54,3],[54,4,54,6],[54,17,54,18],[54,19,54,21],[54,23,54,24],[55,1,55,3],[55,4,55,6],[55,17,55,18],[55,19,55,21],[55,23,55,24],[54,7,54,13],[54,14,54,16],[55,7,55,13],[55,14,55,16],[52,1,52,3],[52,4,52,6],[52,17,52,18],[52,19,52,21],[52,23,52,24],[53,1,53,3],[53,4,53,6],[53,17,53,18],[53,19,53,21],[53,23,53,24],[52,7,52,13],[52,14,52,16],[53,7,53,13],[53,14,53,16],[50,1,50,3],[50,4,50,6],[50,17,50,18],[50,19,50,21],[50,23,50,24],[51,1,51,3],[51,4,51,6],[51,17,51,18],[51,19,51,21],[51,23,51,24],[50,7,50,13],[50,14,50,16],[51,7,51,13],[51,14,51,16],[48,1,48,3],[48,4,48,6],[48,17,48,18],[48,19,48,21],[48,23,48,24],[49,1,49,3],[49,4,49,6],[49,17,49,18],[49,19,49,21],[49,23,49,24],[48,7,48,13],[48,14,48,16],[49,7,49,13],[49,14,49,16],[46,1,46,3],[46,4,46,6],[46,17,46,18],[46,19,46,21],[46,23,46,24],[47,1,47,3],[47,4,47,6],[47,17,47,18],[47,19,47,21],[47,23,47,24],[46,7,46,13],[46,14,46,16],[47,7,47,13],[47,14,47,16],[44,1,44,3],[44,4,44,6],[44,17,44,18],[44,19,44,21],[44,23,44,24],[45,1,45,3],[45,4,45,6],[45,17,45,18],[45,19,45,21],[45,23,45,24],[44,7,44,13],[44,14,44,16],[45,7,45,13],[45,14,45,16],[42,1,42,3],[42,17,42,18],[42,23,42,24],[43,17,43,18],[43,23,43,24],[41,7,41,13],[41,14,41,16],[42,7,42,13],[42,14,42,16],[43,7,43,13],[43,14,43,16],[38,23,38,24],[39,1,39,3],[39,4,39,6],[39,17,39,18],[39,23,39,24],[40,17,40,18],[40,23,40,24],[41,1,41,3],[41,17,41,18],[41,23,41,24],[37,1,37,3],[40,1,40,3],[40,4,40,6],[40,19,40,21],[36,19,36,21],[38,1,38,3],[38,4,38,6],[38,17,38,18],[37,4,37,6],[37,7,37,13],[37,14,37,16],[38,7,38,13],[38,14,38,16],[39,7,39,13],[39,14,39,16],[40,7,40,13],[40,14,40,16],[21,17,21,20],[5,10,6,12],[5,13,6,15],[18,1,18,15],[19,1,19,15],[19,17,19,20],[19,21,19,22],[20,1,20,15],[21,1,22,15],[2,22,3,24],[8,2,8,10],[9,2,10,10],[17,1,17,6],[23,1,24,15],[25,1,26,15],[25,23,25,25],[30,1,30,5],[2,19,3,21],[2,7,3,9],[23,21,23,22],[27,17,27,20],[5,7,6,9],[5,22,6,24],[21,21,21,22],[28,17,28,20],[22,23,22,26],[20,17,20,20],[5,16,6,18],[5,19,6,21],[20,21,20,22],[8,12,10,25],[12,17,12,20],[2,4,3,6],[0,4,1,24],[155,2,155,6],[15,2,15,16],[41,19,41,21],[43,1,43,3],[43,4,43,6],[41,4,41,6],[42,4,42,6],[43,19,43,21],[42,19,42,21],[39,19,39,21],[38,19,38,21],[37,17,37,18],[37,19,37,21],[37,22,37,25],[5,1,6,6],[23,17,23,20],[2,10,3,12],[2,13,3,15],[2,16,3,18],[32,9,32,12],[32,14,32,17],[32,19,32,22],[35,19,35,21]],"bounds":{"rows_first":1000,"rows_last":250,"rows_between":1000,"halvings":1}}
[null,null,null,null,{"$f":"Main!E1","v":"AWP Contractor Reporting E2O - Aggregates Contractor QC"}]
[null,null,null,null,null,null,null,null,null,null,null,null,null,null,null,null,null,null,null,null,null,null,null,null,null,"v",{"$f":"Main!AA2","v":"5.00"}]
[null,null,null,null," ",null,null,{"$f":"Main!H3","v":"Main"},null,null,{"$f":"Main!K3","v":"Quantity"},null,null,null,null,null,{"$f":"Main!Q3","v":"Send/Sync"},null,null,{"$f":"Main!T3","v":"Reports"},null,null,{"$f":"Main!W3","v":"Help"}]
[]
[]
[null,"Contract and Quantities"]
[]
[null,null,null,null,null,null,null,null,null,null,null,null,null,null,null,null,null,null,null,null,null,null,null,null,null,null,null,null,null,null,null,null,null,null,null,null,"District  For Geographic area type"]
[null,null,{"$f":" Main!C43","v":{"$error":"#N/A"}},null,null,null,null,null,null,null,null,null,{"$f":"CONCATENATE(\"All materials reporting for \", Main!F13, \" must be in \", Main!C43, \" units.  If you have other units you need to convert them to the required units.\")","v":{"$error":"#N/A"}},null,null,null,null,null,null,null,null,null,null,null,null,null,null,null,null,null,null,null,null,null,null,null,{"$f":"SEARCH(\"-\",AN39)","v":{"$error":"#VALUE!"}}]
[null,null,"VALUES ONLY",null,null,null,null,null,null,null,null,null,null,null,null,null,null,null,null,null,null,null,null,null,null,null,null,null,null,null,null,null,null,null,null,null,{"$f":"RIGHT(LEFT(AN39,AK9+1),1)","v":{"$error":"#VALUE!"}}]
[null,null,null,null,null,null,null,null,null,null,null,null,null,null,null,null,null,null,null,null,null,null,null,null,null,null,null,null,null,null,null,null,null,null,null,null,{"$f":"VLOOKUP(AK10,AK13:AL29,2,FALSE)","v":{"$error":"#VALUE!"}}]
[null,null,null,null,null,null,null,null,null,null,null,null,null,null,null,null,null,null,null,null,null,null,null,null,null,null,null,null,"Checks",null,null,null,null,null,null,null,"District indicated in first contract ID"]
[null,"Total quanitity inspected, including non-conforming work. ",null,null,null,null,null,null,null,null,null,null,null,null,null,null,null,null,null,null,null,{"$f":"Main!C43","v":{"$error":"#N/A"}},null,null,null,null,null,null,{"$f":"IF(R13>0, 0,1)","v":1},null,"quantity for template",{"$f":"VALUE(FIXED(R13,1))","v":0},null,null,null,null,"A","NW"]
[null,null,null,null,null,null,null,null,null,null,null,null,null,null,null,null,null,null,null,null,null,null,null,null,null,null,null,null,null,null,null,null,null,null,null,null,"B","NE"]
[null,null,null,null,null,null,null,null,null,null,null,null,null,null,null,null,null,null,null,null,null,null,null,null,null,null,null,null,null,null,null,null,null,null,null,null,"C","KC"]
[null,null,"The STATUS for this material record will be submitted as:",null,null,null,null,null,null,null,null,null,null,null,null,null,null,{"$f":"VLOOKUP(I156,C157:D160,2,FALSE)","v":"Approved"},null,null,null,null,null,null,null,null,null,null,null,null,null,null,null,null,null,null,"D","CD"]
[null,null,null,null,null,null,null,null,null,null,null,null,null,null,null,null,null,null,null,null,null,null,null,null,null,null,null,null,null,null,null,null,null,null,null,null,"F","SL"]
[null,"Quality Management",null,null,null,null,null,null,null,null,null,null,null,null,null,null,null,null,null,null,null,null,null,null,null,null,null,null,null,null,null,null,null,"All corrected?",{"$f":"(IF(AF20=1,IF(AF26=1,1,0),0))","v":0},null,"G","SW"]
[null,"Is there non-conforming material associated with this report?",null,null,null,null,null,null,null,null,null,null,null,null,null,null,null,null,null,null,null,null,null,null,null,null,null,null,null,null,null,null,null,null,null,null,"H","SE"]
[null,"How much material was found to be initially non-conforming?",null,null,null,null,null,null,null,null,null,null,null,null,null,null,null,null,null,null,null,{"$f":"V13","v":{"$error":"#N/A"}},null,null,null,null,null,null,{"$f":"IF(AND((AE20=TRUE),(R21+R22+R23+R24>0)),1,0)","v":0},false,true,{"$f":"IF(AD20,1,0)","v":0},null,null,null,null,"1","D01"]
[null,"How much non-conforming material was rejected or discarded?",null,null,null,null,null,null,null,null,null,null,null,null,null,null,null,null,null,null,null,{"$f":"V13","v":{"$error":"#N/A"}},null,null,null,null,null,null,{"$f":"IF(AND((AD20=TRUE),(ISBLANK(R21))),1,0)","v":0},null,null,null,null,null,null,null,"2","D02"]
[null,"How much non-conforming material was accepted by the Engineer \"AS IS\" or otherwise on a documented corrective action report?",null,null,null,null,null,null,null,null,null,null,null,null,null,null,null,null,null,null,null,{"$f":"V13","v":{"$error":"#N/A"}},null,null,null,null,null,null,null,null,null,null,null,null,null,null,"3","D03"]
[null,null,null,null,null,null,null,null,null,null,null,null,null,null,null,null,null,null,null,null,null,null,null,"Unaccounted for:",null,null,null,null,null,null,null,null,null,null,null,null,"4","D04"]
[null,"How much non-conforming material was reworked to contract compliance?",null,null,null,null,null,null,null,null,null,null,null,null,null,null,null,null,null,null,null,{"$f":"V13","v":{"$error":"#N/A"}},null,null,null,null,null,null,null,null,null,null,null,null,null,null,"5","D05"]
[null,null,null,null,null,null,null,null,null,null,null,null,null,null,null,null,null,null,null,null,null,null,null,null,null,null,null,null,null,null,null,null,null,null,null,null,"6","D06"]
[null,"Is the acceptance of any non-conforming material still to be determined?",null,null,null,null,null,null,null,null,null,null,null,null,null,null,null,null,null,null,null,null,null,{"$f":"R20-R21-R22-R24","v":0},null,null,null,null,null,false,true,{"$f":"IF(AD26,1,0)","v":0},null,null,null,null,"7","D07"]
[null,null,null,null,null,null,null,null,null,null,null,null,null,null,null,null,null,null,null,null,null,null,null,null,null,null,null,null,null,null,null,null,null,null,null,null,"8","D08"]
[null,"Amount of non-conforming material not rejected.",null,null,null,null,null,null,null,null,null,null,null,null,null,null,null,{"$f":"R20-R21","v":0},null,null,null,{"$f":"V13","v":{"$error":"#N/A"}},null,null,null,null,null,null,"Speed Fill  Checks",null,null,null,null,null,null,null,"9","D09"]
[null,"Amount of inspected material that can be reported to a pay item:",null,null,null,null,null,null,null,null,null,null,null,null,null,null,null,{"$f":"R13-R21-X26","v":0},null,null,null,{"$f":"V13","v":{"$error":"#N/A"}},null,null,null,null,null,null,null,null,null,null,null,null,null,null,"X","D10"]
[]
[null,"Contract Acceptance"]
[]
[null,"Please choose a contract(s)",null,null,null,null,null,null,null,null,null,null,null,"or",null,null,null,null,"or",null,null,null,null,null,null,null,null,null,"No Contract",null,null,null,"total of lines"]
[null,"The lines displayed are those corresponding to the material chosen.",null,null,null,null,null,null,null,null,null,null,null,null,null,null,null,null,null,null,null,null,null,null,null,null,null,null,{"$f":"IF(J33=\"\", 1,0)","v":1},null,null,null,{"$f":"SUM(T39:V140)","v":0}]
[null,"If you don't see a line #, please contact your district.",null,null,null,null,null,null,null,null,null,null,null,null,"Contract quantity differs from the inspected quantity",null,null,null,null,null,null,null,null,null,null,null,null,null,null,null,null,"over limit at","10% difference"]
[null,"Adding \"0\" quantity is approriate to include pay lines associated with a report.",null,null,null,null,null,null,null,null,null,null,null,null,null,null,null,null,null,{"$f":"SUM(T39:V140)-R29","v":0},null,null,{"$f":"V13","v":{"$error":"#N/A"}},null,null,null,null,null,null,"count of lines",null,51,{"$f":"IF((ABS(AG34-R29)/(R29+0.00001))>0.1,\"Y\",\"N\")","v":"N"}]
[null,null,null,null,null,null,null,null,null,null,null,null,null,null,null,null,null,null,null,{"$f":"C9","v":{"$error":"#N/A"}},null,null,null,null,null,null,null,null,null,{"$f":"COUNTIF(AD39:AD140,\"Y\")","v":0},null,"Too many ?"]
[null,"Contract ",null,null,"Job",null,null,"Description",null,null,null,null,null,null,"Material Set",null,null,"Line",null,"Quantity ",null,null,"Will Be Submitted",null,null,null,null,null,"No lines","user pop","First 50 pop",{"$f":"IFERROR(VLOOKUP(AF36,AF39:AF140,1,FALSE),\"N\")","v":"N"},"oracle populate-able","Used to create the oracle tab list",null,null,null,"Oracle Tab feed created by code"]
[null,{"$f":"U163","v":""},null,null,{"$f":"V163","v":""},null,null,{"$f":"Y163","v":0},null,null,null,null,null,null,{"$f":"X163","v":0},null,null,{"$f":"W163","v":""},null,null,null,null,{"$f":"Z163","v":0},{"$f":"IF(OR(NOT(LEN(R39)>1),T39=\"\"),\"\",IF(AF39=AG39,\"Yes\",\"No\"))","v":""},null,{"$f":"AA163","v":0},null,null,{"$f":"IF(AE140=0, 1,0)","v":1},{"$f":"IF(T39=\"\",\"N\",IF(LEN(R39)>1,\"Y\",\"N\"))","v":"N"},{"$f":"IF(AD39=\"Y\",1,0)","v":0},{"$f":"IF(AD39=\"Y\",AE39,\"\")","v":""},{"$f":"IF(AF39<$AF$36,AF39,\"\")","v":""},{"$f":"IF($AG39=\"\",\"\",B39)","v":""},{"$f":"IF($AG39=\"\",\"\",E39)","v":""},{"$f":"IF($AG39=\"\",\"\",R39)","v":""},{"$f":"IF($AG39=\"\",\"\",T39)","v":""},{"$f":"IF($AG39=\"\",\"\",W39)","v":""},{"$f":"IF($AG39=\"\",\"\",Z39)","v":""},"",null,""]
[null,"",null,null,"",null,null,0,null,null,null,null,null,null,0,null,null,"",null,null,null,null,0,{"$f":"IF(OR(NOT(LEN(R40)>1),T40=\"\"),\"\",IF(AF40=AG40,\"Yes\",\"No\"))","v":""},null,0,null,null,null,{"$f":"IF(T40=\"\",\"N\",IF(LEN(R40)>1,\"Y\",\"N\"))","v":"N"},{"$f":"IF(AD40=\"Y\",AE39+1,AE39)","v":0},{"$f":"IF(AD40=\"Y\",AE40,\"\")","v":""},{"$f":"IF(AF40<$AF$36,AF40,\"\")","v":""},"","","",{"$f":"IF($AG40=\"\",\"\",T40)","v":""},{"$f":"IF($AG40=\"\",\"\",W40)","v":""},{"$f":"IF($AG40=\"\",\"\",Z40)","v":""},"",null,""]
[null,"",null,null,"",null,null,0,null,null,null,null,null,null,0,null,null,"",null,null,null,null,0,"",null,0,null,null,null,"N",{"$f":"IF(AD41=\"Y\",AE40+1,AE40)","v":0},"","","","","","","","","",null,""]
[null,"",null,null,"",null,null,0,null,null,null,null,null,null,0,null,null,"",null,null,null,null,0,"",null,0,null,null,null,"N",0,"","","","","","","","","",null,""]
[null,"",null,null,"",null,null,0,null,null,null,null,null,null,0,null,null,"",null,null,null,null,0,"",null,0,null,null,null,"N",0,"","","","","","","","","",null,""]
[null,"",null,null,"",null,null,0,null,null,null,null,null,null,0,null,null,"",null,null,null,null,0,"",null,0,null,null,null,"N",0,"","","","","","","","","",null,""]
[null,"",null,null,"",null,null,0,null,null,null,null,null,null,0,null,null,"",null,null,null,null,0,"",null,0,null,null,null,"N",0,"","","","","","","","","",null,""]
[null,"",null,null,"",null,null,0,null,null,null,null,null,null,0,null,null,"",null,null,null,null,0,"",null,0,null,null,null,"N",0,"","","","","","","","","",null,""]
[null,"",null,null,"",null,null,0,null,null,null,null,null,null,0,null,null,"",null,null,null,null,0,"",null,0,null,null,null,"N",0,"","","","","","","","","",null,""]
[null,"",null,null,"",null,null,0,null,null,null,null,null,null,0,null,null,"",null,null,null,null,0,"",null,0,null,null,null,"N",0,"","","","","","","","","",null,""]
[null,"",null,null,"",null,null,0,null,null,null,null,null,null,0,null,null,"",null,null,null,null,0,"",null,0,null,null,null,"N",0,"","","","","","","","","",null,""]
[null,"",null,null,"",null,null,0,null,null,null,null,null,null,0,null,null,"",null,null,null,null,0,"",null,0,null,null,null,"N",0,"","","","","","","","","",null,""]
[null,"",null,null,"",null,null,0,null,null,null,null,null,null,0,null,null,"",null,null,null,null,0,"",null,0,null,null,null,"N",0,"","","","","","","","","",null,""]
[null,"",null,null,"",null,null,0,null,null,null,null,null,null,0,null,null,"",null,null,null,null,0,"",null,0,null,null,null,"N",0,"","","","","","","","","",null,""]
[null,"",null,null,"",null,null,0,null,null,null,null,null,null,0,null,null,"",null,null,null,null,0,"",null,0,null,null,null,"N",0,"","","","","","","","","",null,""]
[null,"",null,null,"",null,null,0,null,null,null,null,null,null,0,null,null,"",null,null,null,null,0,"",null,0,null,null,null,"N",0,"","","","","","","","","",null,""]
[null,"",null,null,"",null,null,0,null,null,null,null,null,null,0,null,null,"",null,null,null,null,0,"",null,0,null,null,null,"N",0,"","","","","","","","","",null,""]
[null,"",null,null,"",null,null,0,null,null,null,null,null,null,0,null,null,"",null,null,null,null,0,"",null,0,null,null,null,"N",0,"","","","","","","","","",null,""]
[null,"",null,null,"",null,null,0,null,null,null,null,null,null,0,null,null,"",null,null,null,null,0,"",null,0,null,null,null,"N",0,"","","","","","","","","",null,""]
[null,"",null,null,"",null,null,0,null,null,null,null,null,null,0,null,null,"",null,null,null,null,0,"",null,0,null,null,null,"N",0,"","","","","","","","","",null,""]
[null,"",null,null,"",null,null,0,null,null,null,null,null,null,0,null,null,"",null,null,null,null,0,"",null,0,null,null,null,"N",0,"","","","","","","","","",null,""]
[null,"",null,null,"",null,null,0,null,null,null,null,null,null,0,null,null,"",null,null,null,null,0,"",null,0,null,null,null,"N",0,"","","","","","","","","",null,""]
[null,"",null,null,"",null,null,0,null,null,null,null,null,null,0,null,null,"",null,null,null,null,0,"",null,0,null,null,null,"N",0,"","","","","","","","","",null,""]
[null,"",null,null,"",null,null,0,null,null,null,null,null,null,0,null,null,"",null,null,null,null,0,"",null,0,null,null,null,"N",0,"","","","","","","","","",null,""]
[null,0,null,null,0,null,null,0,null,null,null,null,null,null,0,null,null,0,null,null,null,null,0,"",null,0,null,null,null,"N",0,"","","","","","","","","",null,""]
[null,0,null,null,0,null,null,0,null,null,null,null,null,null,0,null,null,0,null,null,null,null,0,"",null,0,null,null,null,"N",0,"","","","","","","","","",null,""]
[null,0,null,null,0,null,null,0,null,null,null,null,null,null,0,null,null,0,null,null,null,null,0,"",null,0,null,null,null,"N",0,"","","","","","","","","",null,""]
[null,0,null,null,0,null,null,0,null,null,null,null,null,null,0,null,null,0,null,null,null,null,0,"",null,0,null,null,null,"N",0,"","","","","","","","","",null,""]
[null,0,null,null,0,null,null,0,null,null,null,null,null,null,0,null,null,0,null,null,null,null,0,"",null,0,null,null,null,"N",0,"","","","","","","","","",null,""]
[null,0,null,null,0,null,null,0,null,null,null,null,null,null,0,null,null,0,null,null,null,null,0,"",null,0,null,null,null,"N",0,"","","","","","","","","",null,""]
[null,0,null,null,0,null,null,0,null,null,null,null,null,null,0,null,null,0,null,null,null,null,0,"",null,0,null,null,null,"N",0,"","","","","","","","","",null,""]
[null,0,null,null,0,null,null,0,null,null,null,null,null,null,0,null,null,0,null,null,null,null,0,"",null,0,null,null,null,"N",0,"","","","","","","","","",null,""]
[null,0,null,null,0,null,null,0,null,null,null,null,null,null,0,null,null,0,null,null,null,null,0,"",null,0,null,null,null,"N",0,"","","","","","","","","",null,""]
[null,0,null,null,0,null,null,0,null,null,null,null,null,null,0,null,null,0,null,null,null,null,0,"",null,0,null,null,null,"N",0,"","","","","","","","","",null,""]
[null,0,null,null,0,null,null,0,null,null,null,null,null,null,0,null,null,0,null,null,null,null,0,"",null,0,null,null,null,"N",0,"","","","","","","","","",null,""]
[null,0,null,null,0,null,null,0,null,null,null,null,null,null,0,null,null,0,null,null,null,null,0,"",null,0,null,null,null,"N",0,"","","","","","","","","",null,""]
[null,0,null,null,0,null,null,0,null,null,null,null,null,null,0,null,null,0,null,null,null,null,0,"",null,0,null,null,null,"N",0,"","","","","","","","","",null,""]
[null,0,null,null,0,null,null,0,null,null,null,null,null,null,0,null,null,0,null,null,null,null,0,"",null,0,null,null,null,"N",0,"","","","","","","","","",null,""]
[null,0,null,null,0,null,null,0,null,null,null,null,null,null,0,null,null,0,null,null,null,null,0,"",null,0,null,null,null,"N",0,"","","","","","","","","",null,""]
[null,0,null,null,0,null,null,0,null,null,null,null,null,null,0,null,null,0,null,null,null,null,0,"",null,0,null,null,null,"N",0,"","","","","","","","","",null,""]
[null,0,null,null,0,null,null,0,null,null,null,null,null,null,0,null,null,0,null,null,null,null,0,"",null,0,null,null,null,"N",0,"","","","","","","","","",null,""]
[null,0,null,null,0,null,null,0,null,null,null,null,null,null,0,null,null,0,null,null,null,null,0,"",null,0,null,null,null,"N",0,"","","","","","","","","",null,""]
[null,0,null,null,0,null,null,0,null,null,null,null,null,null,0,null,null,0,null,null,null,null,0,"",null,0,null,null,null,"N",0,"","","","","","","","","",null,""]
[null,0,null,null,0,null,null,0,null,null,null,null,null,null,0,null,null,0,null,null,null,null,0,"",null,0,null,null,null,"N",0,"","","","","","","","","",null,""]
[null,0,null,null,0,null,null,0,null,null,null,null,null,null,0,null,null,0,null,null,null,null,0,"",null,0,null,null,null,"N",0,"","","","","","","","","",null,""]
[null,0,null,null,0,null,null,0,null,null,null,null,null,null,0,null,null,0,null,null,null,null,0,"",null,0,null,null,null,"N",0,"","","","","","","","","",null,""]
[null,0,null,null,0,null,null,0,null,null,null,null,null,null,0,null,null,0,null,null,null,null,0,"",null,0,null,null,null,"N",0,"","","","","","","","","",null,""]
[null,0,null,null,0,null,null,0,null,null,null,null,null,null,0,null,null,0,null,null,null,null,0,"",null,0,null,null,null,"N",0,"","","","","","","","","",null,""]
[null,0,null,null,0,null,null,0,null,null,null,null,null,null,0,null,null,0,null,null,null,null,0,"",null,0,null,null,null,"N",0,"","","","","","","","","",null,""]
[null,0,null,null,0,null,null,0,null,null,null,null,null,null,0,null,null,0,null,null,null,null,0,"",null,0,null,null,null,"N",0,"","","","","","","","","",null,""]
[null,0,null,null,0,null,null,0,null,null,null,null,null,null,0,null,null,0,null,null,null,null,0,"",null,0,null,null,null,"N",0,"","","","","","","","","",null,""]
[null,0,null,null,0,null,null,0,null,null,null,null,null,null,0,null,null,0,null,null,null,null,0,"",null,0,null,null,null,"N",0,"","","","","","","","","",null,""]
[null,0,null,null,0,null,null,0,null,null,null,null,null,null,0,null,null,0,null,null,null,null,0,"",null,0,null,null,null,"N",0,"","","","","","","","","",null,""]
[null,0,null,null,0,null,null,0,null,null,null,null,null,null,0,null,null,0,null,null,null,null,0,"",null,0,null,null,null,"N",0,"","","","","","","","","",null,""]
[null,0,null,null,0,null,null,0,null,null,null,null,null,null,0,null,null,0,null,null,null,null,0,"",null,0,null,null,null,"N",0,"","","","","","","","","",null,""]
[null,0,null,null,0,null,null,0,null,null,null,null,null,null,0,null,null,0,null,null,null,null,0,"",null,0,null,null,null,"N",0,"","","","","","","","","",null,""]
[null,0,null,null,0,null,null,0,null,null,null,null,null,null,0,null,null,0,null,null,null,null,0,"",null,0,null,null,null,"N",0,"","","","","","","","","",null,""]
[null,0,null,null,0,null,null,0,null,null,null,null,null,null,0,null,null,0,null,null,null,null,0,"",null,0,null,null,null,"N",0,"","","","","","","","","",null,""]
[null,0,null,null,0,null,null,0,null,null,null,null,null,null,0,null,null,0,null,null,null,null,0,"",null,0,null,null,null,"N",0,"","","","","","","","","",null,""]
[null,0,null,null,0,null,null,0,null,null,null,null,null,null,0,null,null,0,null,null,null,null,0,"",null,0,null,null,null,"N",0,"","","","","","","","","",null,""]
[null,0,null,null,0,null,null,0,null,null,null,null,null,null,0,null,null,0,null,null,null,null,0,"",null,0,null,null,null,"N",0,"","","","","","","","","",null,""]
[null,0,null,null,0,null,null,0,null,null,null,null,null,null,0,null,null,0,null,null,null,null,0,"",null,0,null,null,null,"N",0,"","","","","","","","","",null,""]
[null,0,null,null,0,null,null,0,null,null,null,null,null,null,0,null,null,0,null,null,null,null,0,"",null,0,null,null,null,"N",0,"","","","","","","","","",null,""]
[null,0,null,null,0,null,null,0,null,null,null,null,null,null,0,null,null,0,null,null,null,null,0,"",null,0,null,null,null,"N",0,"","","","","","","","","",null,""]
[null,{"$f":"U227","v":0},null,null,{"$f":"V227","v":0},null,null,{"$f":"Y227","v":0},null,null,null,null,null,null,{"$f":"X227","v":0},null,null,{"$f":"W227","v":0},null,null,null,null,{"$f":"Z227","v":0},"",null,{"$f":"AA227","v":0},null,null,null,"N",0,"","",{"$f":"IF($AG103=\"\",\"\",B103)","v":""},{"$f":"IF($AG103=\"\",\"\",E103)","v":""},{"$f":"IF($AG103=\"\",\"\",R103)","v":""},"","","","",null,""]
[null,0,null,null,0,null,null,0,null,null,null,null,null,null,0,null,null,0,null,null,null,null,0,{"$f":"IF(OR(NOT(LEN(R104)>1),T104=\"\"),\"\",IF(AF104=AG104,\"Yes\",\"No\"))","v":""},null,0,null,null,null,{"$f":"IF(T104=\"\",\"N\",IF(LEN(R104)>1,\"Y\",\"N\"))","v":"N"},0,{"$f":"IF(AD104=\"Y\",AE104,\"\")","v":""},{"$f":"IF(AF104<$AF$36,AF104,\"\")","v":""},"","","",{"$f":"IF($AG104=\"\",\"\",T104)","v":""},{"$f":"IF($AG104=\"\",\"\",W104)","v":""},{"$f":"IF($AG104=\"\",\"\",Z104)","v":""},"",null,""]
[null,0,null,null,0,null,null,0,null,null,null,null,null,null,0,null,null,0,null,null,null,null,0,"",null,0,null,null,null,"N",{"$f":"IF(AD105=\"Y\",AE104+1,AE104)","v":0},"","","","","","","","","",null,""]
[null,0,null,null,0,null,null,0,null,null,null,null,null,null,0,null,null,0,null,null,null,null,0,"",null,0,null,null,null,"N",0,"","","","","","","","","",null,""]
[null,0,null,null,0,null,null,0,null,null,null,null,null,null,0,null,null,0,null,null,null,null,0,"",null,0,null,null,null,"N",0,"","","","","","","","","",null,""]
[null,0,null,null,0,null,null,0,null,null,null,null,null,null,0,null,null,0,null,null,null,null,0,"",null,0,null,null,null,"N",0,"","","","","","","","","",null,""]
[null,0,null,null,0,null,null,0,null,null,null,null,null,null,0,null,null,0,null,null,null,null,0,"",null,0,null,null,null,"N",0,"","","","","","","","","",null,""]
[null,0,null,null,0,null,null,0,null,null,null,null,null,null,0,null,null,0,null,null,null,null,0,"",null,0,null,null,null,"N",0,"","","","","","","","","",null,""]
[null,0,null,null,0,null,null,0,null,null,null,null,null,null,0,null,null,0,null,null,null,null,0,"",null,0,null,null,null,"N",0,"","","","","","","","","",null,""]
[null,0,null,null,0,null,null,0,null,null,null,null,null,null,0,null,null,0,null,null,null,null,0,"",null,0,null,null,null,"N",0,"","","","","","","","","",null,""]
[null,0,null,null,0,null,null,0,null,null,null,null,null,null,0,null,null,0,null,null,null,null,0,"",null,0,null,null,null,"N",0,"","","","","","","","","",null,""]
[null,0,null,null,0,null,null,0,null,null,null,null,null,null,0,null,null,0,null,null,null,null,0,"",null,0,null,null,null,"N",0,"","","","","","","","","",null,""]
[null,0,null,null,0,null,null,0,null,null,null,null,null,null,0,null,null,0,null,null,null,null,0,"",null,0,null,null,null,"N",0,"","","","","","","","","",null,""]
[null,0,null,null,0,null,null,0,null,null,null,null,null,null,0,null,null,0,null,null,null,null,0,"",null,0,null,null,null,"N",0,"","","","","","","","","",null,""]
[null,0,null,null,0,null,null,0,null,null,null,null,null,null,0,null,null,0,null,null,null,null,0,"",null,0,null,null,null,"N",0,"","","","","","","","","",null,""]
[null,0,null,null,0,null,null,0,null,null,null,null,null,null,0,null,null,0,null,null,null,null,0,"",null,0,null,null,null,"N",0,"","","","","","","","","",null,""]
[null,0,null,null,0,null,null,0,null,null,null,null,null,null,0,null,null,0,null,null,null,null,0,"",null,0,null,null,null,"N",0,"","","","","","","","","",null,""]
[null,0,null,null,0,null,null,0,null,null,null,null,null,null,0,null,null,0,null,null,null,null,0,"",null,0,null,null,null,"N",0,"","","","","","","","","",null,""]
[null,0,null,null,0,null,null,0,null,null,null,null,null,null,0,null,null,0,null,null,null,null,0,"",null,0,null,null,null,"N",0,"","","","","","","","","",null,""]
[null,0,null,null,0,null,null,0,null,null,null,null,null,null,0,null,null,0,null,null,null,null,0,"",null,0,null,null,null,"N",0,"","","","","","","","","",null,""]
[null,0,null,null,0,null,null,0,null,null,null,null,null,null,0,null,null,0,null,null,null,null,0,"",null,0,null,null,null,"N",0,"","","","","","","","","",null,""]
[null,0,null,null,0,null,null,0,null,null,null,null,null,null,0,null,null,0,null,null,null,null,0,"",null,0,null,null,null,"N",0,"","","","","","","","","",null,""]
[null,0,null,null,0,null,null,0,null,null,null,null,null,null,0,null,null,0,null,null,null,null,0,"",null,0,null,null,null,"N",0,"","","","","","","","","",null,""]
[null,0,null,null,0,null,null,0,null,null,null,null,null,null,0,null,null,0,null,null,null,null,0,"",null,0,null,null,null,"N",0,"","","","","","","","","",null,""]
[null,0,null,null,0,null,null,0,null,null,null,null,null,null,0,null,null,0,null,null,null,null,0,"",null,0,null,null,null,"N",0,"","","","","","","","","",null,""]
[null,0,null,null,0,null,null,0,null,null,null,null,null,null,0,null,null,0,null,null,null,null,0,"",null,0,null,null,null,"N",0,"","","","","","","","","",null,""]
[null,0,null,null,0,null,null,0,null,null,null,null,null,null,0,null,null,0,null,null,null,null,0,"",null,0,null,null,null,"N",0,"","","","","","","","","",null,""]
[null,0,null,null,0,null,null,0,null,null,null,null,null,null,0,null,null,0,null,null,null,null,0,"",null,0,null,null,null,"N",0,"","","","","","","","","",null,""]
[null,0,null,null,0,null,null,0,null,null,null,null,null,null,0,null,null,0,null,null,null,null,0,"",null,0,null,null,null,"N",0,"","","","","","","","","",null,""]
[null,0,null,null,0,null,null,0,null,null,null,null,null,null,0,null,null,0,null,null,null,null,0,"",null,0,null,null,null,"N",0,"","","","","","","","","",null,""]
[null,0,null,null,0,null,null,0,null,null,null,null,null,null,0,null,null,0,null,null,null,null,0,"",null,0,null,null,null,"N",0,"","","","","","","","","",null,""]
[null,0,null,null,0,null,null,0,null,null,null,null,null,null,0,null,null,0,null,null,null,null,0,"",null,0,null,null,null,"N",0,"","","","","","","","","",null,""]
[null,0,null,null,0,null,null,0,null,null,null,null,null,null,0,null,null,0,null,null,null,null,0,"",null,0,null,null,null,"N",0,"","","","","","","","","",null,""]
[null,0,null,null,0,null,null,0,null,null,null,null,null,null,0,null,null,0,null,null,null,null,0,"",null,0,null,null,null,"N",0,"","","","","","","","","",null,""]
[null,0,null,null,0,null,null,0,null,null,null,null,null,null,0,null,null,0,null,null,null,null,0,"",null,0,null,null,null,"N",0,"","","","","","","","","",null,""]
[null,0,null,null,0,null,null,0,null,null,null,null,null,null,0,null,null,0,null,null,null,null,0,"",null,0,null,null,null,"N",0,"","","","","","","","","",null,""]
[null,0,null,null,0,null,null,0,null,null,null,null,null,null,0,null,null,0,null,null,null,null,0,"",null,0,null,null,null,"N",0,"","","","","","","","","",null,""]
[null,0,null,null,0,null,null,0,null,null,null,null,null,null,0,null,null,0,null,null,null,null,0,"",null,0,null,null,null,"N",0,"","","","","","","","","",null,""]
[]
[]
[]
[]
[]
[null,null,null,null,null,null,null,null,null,null,null,null,null,null,null,null,null,null,null,null,null,null,null,null,null,null,null,null,{"$f":"SUM(AC13:AC26,AC30:AC143)","v":3}]
[]
[]
[null,"Status determination",null,null,null,null,null,null,null,"Status",null,null,null,null,null,null,null,null,"Line Number Lookups ",""]
[null,"Check for no defficient or non-compliant",null,null,null,null,null,null,null,{"$f":"IF(AF20+AF26=0,C158,\"\")","v":9},null,null,null,null,null,null,null,null,null,null,null,null,{"$f":"IF(NOT(ISBLANK(N120)),VLOOKUP($N$120,N163:P257,2, FALSE),\"\")","v":""},{"$f":"IF(NOT(ISBLANK(Q120)),VLOOKUP($Q$120,N163:P257,2, FALSE),\"\")","v":""}]
[null,"Check for total rejection",null,null,null,null,null,null,null,{"$f":"IF(AND(R21=R13,AF26=0,NOT(R21=0)),C159,\"\")","v":""},null,null,null,null,null,null,null,null,null,null,null,null,{"$f":"IF(NOT(ISBLANK(N120)),VLOOKUP($N$120,N163:P257,3, FALSE),\"\")","v":""},{"$f":"IF(NOT(ISBLANK(Q120)),VLOOKUP($Q$120,N163:P257,3, FALSE),\"\")","v":""},null,null,null,null,null,null,null,null,null,null,null,2,610]
[null,"Check for non-compl all corrected",null,null,null,null,null,null,null,{"$f":"IF(AND(NOT(R13=R21),AF20=1,AI18=0,NOT(R22>0)),C158,\"\")","v":""}]
[null,"Check for non-compl and unresolved",null,null,null,null,null,null,null,{"$f":"IF(AI18=1,C157,\"\")","v":""},null,null,null,null,null,null,null,null,null,null,null,null,{"$f":"IF(NOT(ISBLANK(N126)),VLOOKUP($N$126,U163:W257,2, FALSE),\"\")","v":""},{"$f":"IF(NOT(ISBLANK(Q126)),VLOOKUP($Q$126,U163:W257,2, FALSE),\"\")","v":""}]
[null,"Check for non-compl and used as is",null,null,null,null,null,null,null,{"$f":"IF(AND(AF20=1,R22>0,NOT(AI18=1)),C160,\"\")","v":""},null,null,null,null,null,null,null,null,null,null,null,null,{"$f":"IF(NOT(ISBLANK(N126)),VLOOKUP($N$126,U163:W257,3, FALSE),\"\")","v":""},{"$f":"IF(NOT(ISBLANK(Q126)),VLOOKUP($Q$126,U163:W257,3, FALSE),\"\")","v":""}]
["These two boxes combine the found statusii and if there is none found default it to pending",null,null,null,null,null,null,null,null,null,null,null,null,null,null,null,null,null,null,null,null,null,null,null,null,null,null,null,null,null,null,null,null,{"$f":"O163=AH163","v":true},{"$f":"Q163=AJ163","v":true},null,{"$f":"MATCH(AK151,AJ163:AJ165,0)","v":{"$error":"#N/A"}}]
[null,null,{"$f":"CONCATENATE(J150,J151,J152,J153,J154)","v":"9"},null,null,null,null,null,{"$f":"IF(C156=\"\",C157,INT(C156))","v":9}]
["code",null,6,"Pending Authorization"]
["table",null,9,"Approved"]
[null,null,16,"FAIL - Fail/Rejected"]
[null,null,20,"FAIU - Failed- Matl used as is w-w/o deduct",null,null,null,null,null,null,null,"First contract specific item list",null,null,null,null,null,null,"Second contract specific item list"]
[null,null,null,null,null,null,null,null,null,null,null,null,null,null,null,null,null,null,null,null,null,null,null,null,null,null,null,null,null,null,null,null,null,"Saved Contract Quantiies area for code use"]
[null,null,{"$f":"Main!F14","v":""},null,null,null,null,null,null,null,"list of contracts with the correct material","Contracts matching material","Filtered Contracts matching material","User selected contracts","User selected Line #s","User Selected Job #","User Select matl Set","User selected descriptions","User selected units","User selected mat set ids","sorted contract ids for display","Sorted job #s","Sorted Line","sorted material set","sorted description","sorted units","sorted mat set ids","Lookup for already entered quantities","corrects for the Xs and na values from removed contracts",null,"Contract","Project","Line no","matset","desc","units","matset id","qty","This row is used to change 0s to Xs as a means to work around the lookup limitations"]
[null,null,"1003ASCHD","230616-A01","J1I3437","0020","409400296",77763,"SEAL COAT AGGREGATE, GRADE A2","E042",{"$f":"IF(C163=$C$162,D163,\"\")","v":""},0,0,{"$f":"(IF(K163=\"\",\"\",IF(OR(D163=$J$33,D163=$T$33, D163=$O$33),D163,\"\")))","v":""},{"$f":"IF(N163=\"\",\"\",F163)","v":""},{"$f":"IF(N163=\"\", \"\", E163)","v":""},{"$f":"IF(N163=\"\", \"\", G163)","v":""},{"$f":"IF(N163=\"\",\"\",I163)","v":""},{"$f":"IF(N163=\"\",\"\",J163)","v":""},{"$f":"IF(N163=\"\",\"\",H163)","v":""},"","","",null,null,null,null,{"$f":"IF(U163=\"\",\"\",INDEX($AE$163:$AM$189,MATCH(U163&W163&AA163,$AE$163:$AE$189&$AG$163:$AG$189&$AK$163:$AK$189,0),9))","v":""},{"$f":"IF(ISNA(AB163),\"\",IF(AB163=\"X\",\"\",AB163))","v":""},null,null,null,"",null,null,null,null,null,{"$f":"IF(ISBLANK(AL163),\"X\",AL163)","v":"X"}]
[null,null,"1003ASCHD","240621-A01","JNW0024","0490","413200096",91734,"SCRUB SEAL","E042","",0,0,"","","","",{"$f":"IF(N164=\"\",\"\",I164)","v":""},{"$f":"IF(N164=\"\",\"\",J164)","v":""},{"$f":"IF(N164=\"\",\"\",H164)","v":""},"","","",null,null,null,null,{"$f":"IF(U164=\"\",\"\",INDEX($AE$163:$AM$189,MATCH(U164&W164&AA164,$AE$163:$AE$189&$AG$163:$AG$189&$AK$163:$AK$189,0),9))","v":""},"",null,null,null,"",null,null,null,null,null,{"$f":"IF(ISBLANK(AL164),\"X\",AL164)","v":"X"}]
[null,null,"1003ASCHD","240621-A04","JNW0036","0010","413200096",91913,"SCRUB SEAL","E042","",0,null,"","","","","","","","","","",null,null,null,null,{"$f":"IF(U165=\"\",\"\",INDEX($AE$163:$AM$189,MATCH(U165&W165&AA165,$AE$163:$AE$189&$AG$163:$AG$189&$AK$163:$AK$189,0),9))","v":""},"",null,null,null,"",null,null,null,null,null,"X"]
[null,null,"1003ASCHD","250314-A03","JNW0148","0040","413200096",104613,"SCRUB SEAL","E042","",0,null,"","","","","","","","","","",null,null,null,null,{"$f":"IF(U166=\"\",\"\",INDEX($AE$163:$AM$189,MATCH(U166&W166&AA166,$AE$163:$AE$189&$AG$163:$AG$189&$AK$163:$AK$189,0),9))","v":""},"",null,null,null,"",null,null,null,null,null,"X"]
[null,null,"1003ASCHD","250314-A03","JNW0148","0060","413200096",104615,"SCRUB SEAL","E042","",0,null,"","","","","","","","","","",null,null,null,null,{"$f":"IF(U167=\"\",\"\",INDEX($AE$163:$AM$189,MATCH(U167&W167&AA167,$AE$163:$AE$189&$AG$163:$AG$189&$AK$163:$AK$189,0),9))","v":""},"",null,null,null,"",null,null,null,null,null,"X"]
[null,null,"1003ASCHD","250314-A03","JNW0148","0090","413200096",104618,"SCRUB SEAL","E042","",0,null,"","","","","","","","","","",null,null,null,null,{"$f":"IF(U168=\"\",\"\",INDEX($AE$163:$AM$189,MATCH(U168&W168&AA168,$AE$163:$AE$189&$AG$163:$AG$189&$AK$163:$AK$189,0),9))","v":""},"",null,null,null,"",null,null,null,null,null,"X"]
[null,null,"1003ASCHD","250314-A03","JNW0148","0110","413200096",104620,"SCRUB SEAL","E042","",0,null,"","","","","","","","","","",null,null,null,null,{"$f":"IF(U169=\"\",\"\",INDEX($AE$163:$AM$189,MATCH(U169&W169&AA169,$AE$163:$AE$189&$AG$163:$AG$189&$AK$163:$AK$189,0),9))","v":""},"",null,null,null,"",null,null,null,null,null,"X"]
[null,null,"1003ASCHD","250314-A03","JNW0148","0130","413200096",104622,"SCRUB SEAL","E042","",0,null,"","","","","","","","","","",null,null,null,null,{"$f":"IF(U170=\"\",\"\",INDEX($AE$163:$AM$189,MATCH(U170&W170&AA170,$AE$163:$AE$189&$AG$163:$AG$189&$AK$163:$AK$189,0),9))","v":""},"",null,null,null,"",null,null,null,null,null,"X"]
[null,null,"1003ASCHD","250314-A03","JNW0148","0160","413200096",104625,"SCRUB SEAL","E042","",0,null,"","","","","","","","","","",null,null,null,null,{"$f":"IF(U171=\"\",\"\",INDEX($AE$163:$AM$189,MATCH(U171&W171&AA171,$AE$163:$AE$189&$AG$163:$AG$189&$AK$163:$AK$189,0),9))","v":""},"",null,null,null,"",null,null,null,null,null,"X"]
[null,null,"1003ASCHD","250314-A03","JNW0148","0190","413200096",104628,"SCRUB SEAL","E042","",0,null,"","","","","","","","","","",null,null,null,null,{"$f":"IF(U172=\"\",\"\",INDEX($AE$163:$AM$189,MATCH(U172&W172&AA172,$AE$163:$AE$189&$AG$163:$AG$189&$AK$163:$AK$189,0),9))","v":""},"",null,null,null,"",null,null,null,null,null,"X"]
[null,null,"1003ASCHD","250314-A03","JNW0148","0220","413200096",104631,"SCRUB SEAL","E042","",0,null,"","","","","","","","","","",null,null,null,null,{"$f":"IF(U173=\"\",\"\",INDEX($AE$163:$AM$189,MATCH(U173&W173&AA173,$AE$163:$AE$189&$AG$163:$AG$189&$AK$163:$AK$189,0),9))","v":""},"",null,null,null,"",null,null,null,null,null,"X"]
[null,null,"1003ASCHD","250314-A03","JNW0148","0250","413200096",104634,"SCRUB SEAL","E042","",0,null,"","","","","","","","","","",null,null,null,null,{"$f":"IF(U174=\"\",\"\",INDEX($AE$163:$AM$189,MATCH(U174&W174&AA174,$AE$163:$AE$189&$AG$163:$AG$189&$AK$163:$AK$189,0),9))","v":""},"",null,null,null,"",null,null,null,null,null,"X"]
[null,null,"1003ASCHD","250314-A03","JNW0148","0280","413200096",104637,"SCRUB SEAL","E042","",0,null,"","","","","","","","","","",null,null,null,null,{"$f":"IF(U175=\"\",\"\",INDEX($AE$163:$AM$189,MATCH(U175&W175&AA175,$AE$163:$AE$189&$AG$163:$AG$189&$AK$163:$AK$189,0),9))","v":""},"",null,null,null,"",null,null,null,null,null,"X"]
[null,null,"1003ASCHD","250314-A03","JNW0148","0310","413200096",104640,"SCRUB SEAL","E042","",0,null,"","","","","","","","","","",null,null,null,null,{"$f":"IF(U176=\"\",\"\",INDEX($AE$163:$AM$189,MATCH(U176&W176&AA176,$AE$163:$AE$189&$AG$163:$AG$189&$AK$163:$AK$189,0),9))","v":""},"",null,null,null,"",null,null,null,null,null,"X"]
[null,null,"1003ASCHD","250314-A03","JNW0148","0330","413200096",104641,"SCRUB SEAL","E042","",0,null,"","","","","","","","","","",null,null,null,null,{"$f":"IF(U177=\"\",\"\",INDEX($AE$163:$AM$189,MATCH(U177&W177&AA177,$AE$163:$AE$189&$AG$163:$AG$189&$AK$163:$AK$189,0),9))","v":""},"",null,null,null,"",null,null,null,null,null,"X"]
[null,null,"1003ASCHD","250314-A03","JNW0148","0360","413200096",104644,"SCRUB SEAL","E042","",0,null,"","","","","","","","","","",null,null,null,null,{"$f":"IF(U178=\"\",\"\",INDEX($AE$163:$AM$189,MATCH(U178&W178&AA178,$AE$163:$AE$189&$AG$163:$AG$189&$AK$163:$AK$189,0),9))","v":""},"",null,null,null,"",null,null,null,null,null,"X"]
[null,null,"1003ASCHD","250314-A03","JNW0148","0390","413200096",104647,"SCRUB SEAL","E042","",0,null,"","","","","","","","","","",null,null,null,null,{"$f":"IF(U179=\"\",\"\",INDEX($AE$163:$AM$189,MATCH(U179&W179&AA179,$AE$163:$AE$189&$AG$163:$AG$189&$AK$163:$AK$189,0),9))","v":""},"",null,null,null,"",null,null,null,null,null,"X"]
[null,null,"1003ASCHD","250314-A03","JNW0148","0420","413200096",104650,"SCRUB SEAL","E042","",0,null,"","","","","","","","","","",null,null,null,null,{"$f":"IF(U180=\"\",\"\",INDEX($AE$163:$AM$189,MATCH(U180&W180&AA180,$AE$163:$AE$189&$AG$163:$AG$189&$AK$163:$AK$189,0),9))","v":""},"",null,null,null,"",null,null,null,null,null,"X"]
[null,null,"1003ASCHD","250620-A01","JNW0003","0010","413200096",108914,"SCRUB SEAL","E042","",0,null,"","","","","","","","","","",null,null,null,null,{"$f":"IF(U181=\"\",\"\",INDEX($AE$163:$AM$189,MATCH(U181&W181&AA181,$AE$163:$AE$189&$AG$163:$AG$189&$AK$163:$AK$189,0),9))","v":""},"",null,null,null,"",null,null,null,null,null,"X"]
[null,null,"1003ASCHD","250620-A03","JNW0084","0010","413200096",108887,"SCRUB SEAL","E042","",0,null,"","","","","","","","","","",null,null,null,null,{"$f":"IF(U182=\"\",\"\",INDEX($AE$163:$AM$189,MATCH(U182&W182&AA182,$AE$163:$AE$189&$AG$163:$AG$189&$AK$163:$AK$189,0),9))","v":""},"",null,null,null,"",null,null,null,null,null,"X"]
[null,null,"1003ASCHD","250620-A04","JNWM0090","0010","413200096",108900,"SCRUB SEAL","E042","",0,null,"","","","","","","","","","",null,null,null,null,{"$f":"IF(U183=\"\",\"\",INDEX($AE$163:$AM$189,MATCH(U183&W183&AA183,$AE$163:$AE$189&$AG$163:$AG$189&$AK$163:$AK$189,0),9))","v":""},"",null,null,null,"",null,null,null,null,null,"X"]
[null,null,"1003ASCHD","250620-A05","JNWM0091","0010","413200096",108907,"SCRUB SEAL","E042","",0,null,"","","","","","","","","","",null,null,null,null,{"$f":"IF(U184=\"\",\"\",INDEX($AE$163:$AM$189,MATCH(U184&W184&AA184,$AE$163:$AE$189&$AG$163:$AG$189&$AK$163:$AK$189,0),9))","v":""},"",null,null,null,"",null,null,null,null,null,"X"]
[null,null,"1003ASCHD","251017-A02","JNW0037","0010","413200096",113146,"SCRUB SEAL","E042","",0,null,"","","","","","","","","","",null,null,null,null,{"$f":"IF(U185=\"\",\"\",INDEX($AE$163:$AM$189,MATCH(U185&W185&AA185,$AE$163:$AE$189&$AG$163:$AG$189&$AK$163:$AK$189,0),9))","v":""},"",null,null,null,"",null,null,null,null,null,"X"]
[null,null,"1003ASCTR","240119-H02","J9P3784","0010","413990596",85774,"MINERAL AGGREGATE","E042","",0,null,"","","","","","","","","","",null,null,null,null,{"$f":"IF(U186=\"\",\"\",INDEX($AE$163:$AM$189,MATCH(U186&W186&AA186,$AE$163:$AE$189&$AG$163:$AG$189&$AK$163:$AK$189,0),9))","v":""},"",null,null,null,"",null,null,null,null,null,"X"]
[null,null,"1003ASCTR","240119-H02","J9P3785","0100","413990596",85758,"MINERAL AGGREGATE","E042","",0,null,"","","","","","","",0,0,0,0,0,0,0,{"$f":"IF(U187=\"\",\"\",INDEX($AE$163:$AM$189,MATCH(U187&W187&AA187,$AE$163:$AE$189&$AG$163:$AG$189&$AK$163:$AK$189,0),9))","v":"X"},"",null,0,0,0,0,0,0,0,null,"X"]
[null,null,"1003ASCTR","240119-H02","J9S3783","0190","413990596",85795,"MINERAL AGGREGATE","E042","",0,null,"","","","","","","",0,0,0,0,0,0,0,{"$f":"IF(U188=\"\",\"\",INDEX($AE$163:$AM$189,MATCH(U188&W188&AA188,$AE$163:$AE$189&$AG$163:$AG$189&$AK$163:$AK$189,0),9))","v":"X"},"",null,0,0,0,0,0,0,0,null,"X"]
[null,null,"1003ASCTR","240119-H02","J9S3786","0280","413990596",85751,"MINERAL AGGREGATE","E042","",0,null,"","","","","","","",0,0,0,0,0,0,0,{"$f":"IF(U189=\"\",\"\",INDEX($AE$163:$AM$189,MATCH(U189&W189&AA189,$AE$163:$AE$189&$AG$163:$AG$189&$AK$163:$AK$189,0),9))","v":"X"},"",null,0,0,0,0,0,0,0,null,"X"]
[null,null,"1003ASCTR","240119-H02","J9S3787","0370","413990596",85781,"MINERAL AGGREGATE","E042","",0,null,"","","","","","","",0,0,0,0,0,0,0,{"$f":"IF(U190=\"\",\"\",INDEX($AE$163:$AM$189,MATCH(U190&W190&AA190,$AE$163:$AE$189&$AG$163:$AG$189&$AK$163:$AK$189,0),9))","v":"X"},"",null,0,0,0,0,0,0,0,null,"X"]
[null,null,"1003ASCTR","240119-H02","J9S3788","0460","413990596",85802,"MINERAL AGGREGATE","E042","",0,null,"","","","","","","",0,0,0,0,0,0,0,{"$f":"IF(U191=\"\",\"\",INDEX($AE$163:$AM$189,MATCH(U191&W191&AA191,$AE$163:$AE$189&$AG$163:$AG$189&$AK$163:$AK$189,0),9))","v":"X"},"",null,0,0,0,0,0,0,0,null,"X"]
[null,null,"1003ASCTR","240119-H02","J9S3789","0550","413990596",85765,"MINERAL AGGREGATE","E042","",0,null,"","","","","","","",0,0,0,0,0,0,0,{"$f":"IF(U192=\"\",\"\",INDEX($AE$163:$AM$189,MATCH(U192&W192&AA192,$AE$163:$AE$189&$AG$163:$AG$189&$AK$163:$AK$189,0),9))","v":"X"},"",null,0,0,0,0,0,0,0,null,"X"]
[null,null,"1003ASCTR","240119-H02","J9S3797","0660","413990596",85788,"MINERAL AGGREGATE","E042","",0,null,"","","","","","","",0,0,0,0,0,0,0,{"$f":"IF(U193=\"\",\"\",INDEX($AE$163:$AM$189,MATCH(U193&W193&AA193,$AE$163:$AE$189&$AG$163:$AG$189&$AK$163:$AK$189,0),9))","v":"X"},"",null,0,0,0,0,0,0,0,null,"X"]
[null,null,"1003ASCTR","240119-H11","J9S3791","0010","413990596",84324,"Mineral Aggregate","E042","",0,null,"","","","","","","",0,0,0,0,0,0,0,{"$f":"IF(U194=\"\",\"\",INDEX($AE$163:$AM$189,MATCH(U194&W194&AA194,$AE$163:$AE$189&$AG$163:$AG$189&$AK$163:$AK$189,0),9))","v":"X"},"",null,0,0,0,0,0,0,0,null,"X"]
[null,null,"1003ASCTR","240119-H11","J9S3792","0100","413990596",84301,"Mineral Aggregate","E042","",0,null,"","","","","","","",0,0,0,0,0,0,0,{"$f":"IF(U195=\"\",\"\",INDEX($AE$163:$AM$189,MATCH(U195&W195&AA195,$AE$163:$AE$189&$AG$163:$AG$189&$AK$163:$AK$189,0),9))","v":"X"},"",null,0,0,0,0,0,0,0,null,"X"]
[null,null,"1003ASCTR","240119-H11","J9S3793","0200","413990596",84316,"Mineral Aggregate","E042","",0,null,"","","","","","","",0,0,0,0,0,0,0,{"$f":"IF(U196=\"\",\"\",INDEX($AE$163:$AM$189,MATCH(U196&W196&AA196,$AE$163:$AE$189&$AG$163:$AG$189&$AK$163:$AK$189,0),9))","v":"X"},"",null,0,0,0,0,0,0,0,null,"X"]
[null,null,"1003ASCTR","240119-H11","J9S3799","0300","413990596",84309,"Mineral Aggregate","E042","",0,null,"","","","","","","",0,0,0,0,0,0,0,{"$f":"IF(U197=\"\",\"\",INDEX($AE$163:$AM$189,MATCH(U197&W197&AA197,$AE$163:$AE$189&$AG$163:$AG$189&$AK$163:$AK$189,0),9))","v":"X"},"",null,0,0,0,0,0,0,0,null,"X"]
[null,null,"1003ASCTR","241018-H06","JSE0047","0010","413990596",96094,"MINERAL AGGREGATE","E042","",0,null,"","","","","","","",0,0,0,0,0,0,0,{"$f":"IF(U198=\"\",\"\",INDEX($AE$163:$AM$189,MATCH(U198&W198&AA198,$AE$163:$AE$189&$AG$163:$AG$189&$AK$163:$AK$189,0),9))","v":"X"},"",null,0,0,0,0,0,0,0,null,"X"]
[null,null,"1003ASCTR","250117-H04","J9S3716","0060","413990596",101187,"MINERAL AGGREGATE","E042","",0,null,"","","","","","","",0,0,0,0,0,0,0,{"$f":"IF(U199=\"\",\"\",INDEX($AE$163:$AM$189,MATCH(U199&W199&AA199,$AE$163:$AE$189&$AG$163:$AG$189&$AK$163:$AK$189,0),9))","v":"X"},"",null,0,0,0,0,0,0,0,null,"X"]
[null,null,"1003ASCTR","250117-H9A","JSE0052","0010","413990596",101125,"Mineral Aggregate","E042","",0,null,"","","","","","","",0,0,0,0,0,0,0,{"$f":"IF(U200=\"\",\"\",INDEX($AE$163:$AM$189,MATCH(U200&W200&AA200,$AE$163:$AE$189&$AG$163:$AG$189&$AK$163:$AK$189,0),9))","v":"X"},"",null,0,0,0,0,0,0,0,null,"X"]
[null,null,"1003ASCTR","250117-H9A","JSE0053","0130","413990596",101173,"Mineral Aggregate","E042","",0,null,"","","","","","","",0,0,0,0,0,0,0,{"$f":"IF(U201=\"\",\"\",INDEX($AE$163:$AM$189,MATCH(U201&W201&AA201,$AE$163:$AE$189&$AG$163:$AG$189&$AK$163:$AK$189,0),9))","v":"X"},"",null,0,0,0,0,0,0,0,null,"X"]
[null,null,"1003ASCTR","250117-H9A","JSE0054","0220","413990596",101166,"Mineral Aggregate","E042","",0,null,"","","","","","","",0,0,0,0,0,0,0,{"$f":"IF(U202=\"\",\"\",INDEX($AE$163:$AM$189,MATCH(U202&W202&AA202,$AE$163:$AE$189&$AG$163:$AG$189&$AK$163:$AK$189,0),9))","v":"X"},"",null,0,0,0,0,0,0,0,null,"X"]
[null,null,"1003ASCTR","250117-H9A","JSE0079","0310","413990596",101141,"Mineral Aggregate","E042","",0,null,"","","","","","","",0,0,0,0,0,0,0,{"$f":"IF(U203=\"\",\"\",INDEX($AE$163:$AM$189,MATCH(U203&W203&AA203,$AE$163:$AE$189&$AG$163:$AG$189&$AK$163:$AK$189,0),9))","v":"X"},"",null,0,0,0,0,0,0,0,null,"X"]
[null,null,"1003ASCTR","250117-H9A","JSE0080","0420","413990596",101156,"Mineral Aggregate","E042","",0,null,"","","","","","","",0,0,0,0,0,0,0,{"$f":"IF(U204=\"\",\"\",INDEX($AE$163:$AM$189,MATCH(U204&W204&AA204,$AE$163:$AE$189&$AG$163:$AG$189&$AK$163:$AK$189,0),9))","v":"X"},"",null,0,0,0,0,0,0,0,null,"X"]
[null,null,"1003ASCTR","250117-H9A","JSE0081","0540","413990596",101150,"Mineral Aggregate","E042","",0,null,"","","","","","","",0,0,0,0,0,0,0,{"$f":"IF(U205=\"\",\"\",INDEX($AE$163:$AM$189,MATCH(U205&W205&AA205,$AE$163:$AE$189&$AG$163:$AG$189&$AK$163:$AK$189,0),9))","v":"X"},"",null,0,0,0,0,0,0,0,null,"X"]
[null,null,"1003ASCTR","250117-H9A","JSE0082","0620","413990596",101135,"Mineral Aggregate","E042","",0,null,"","","","","","","",0,0,0,0,0,0,0,{"$f":"IF(U206=\"\",\"\",INDEX($AE$163:$AM$189,MATCH(U206&W206&AA206,$AE$163:$AE$189&$AG$163:$AG$189&$AK$163:$AK$189,0),9))","v":"X"},"",null,0,0,0,0,0,0,0,null,"X"]
[null,null,"1003ASCTR","250117-H9B","JSE0055","0010","413990596",101243,"Mineral Aggregate","E042","",0,null,"","","","","","","",0,0,0,0,0,0,0,{"$f":"IF(U207=\"\",\"\",INDEX($AE$163:$AM$189,MATCH(U207&W207&AA207,$AE$163:$AE$189&$AG$163:$AG$189&$AK$163:$AK$189,0),9))","v":"X"},"",null,0,0,0,0,0,0,0,null,"X"]
[null,null,"1003ASCTR","250221-H03","JSE0152","0090","413990596",102431,"MINERAL AGGREGATE","E042","",0,null,"","","","","","","",0,0,0,0,0,0,0,{"$f":"IF(U208=\"\",\"\",INDEX($AE$163:$AM$189,MATCH(U208&W208&AA208,$AE$163:$AE$189&$AG$163:$AG$189&$AK$163:$AK$189,0),9))","v":"X"},"",null,0,0,0,0,0,0,0,null,"X"]
[null,null,"1003ASCTR","250516-H03","J9P3796","0130","413990596",108496,"MINERAL AGGREGATE","E042","",0,null,"","","","","","","",0,0,0,0,0,0,0,{"$f":"IF(U209=\"\",\"\",INDEX($AE$163:$AM$189,MATCH(U209&W209&AA209,$AE$163:$AE$189&$AG$163:$AG$189&$AK$163:$AK$189,0),9))","v":"X"},"",null,0,0,0,0,0,0,0,null,"X"]
[null,null,"1003ASCTR","250516-H08","JSE0108","0120","413990596",108665,"MINERAL AGGREGATE","E042","",0,null,"","","","","","","",0,0,0,0,0,0,0,{"$f":"IF(U210=\"\",\"\",INDEX($AE$163:$AM$189,MATCH(U210&W210&AA210,$AE$163:$AE$189&$AG$163:$AG$189&$AK$163:$AK$189,0),9))","v":"X"},"",null,0,0,0,0,0,0,0,null,"X"]
[null,null,"1003GA","241115-G06","JSR0296","0020","409400196",99120,"SEAL COAT AGGREGATE, GRADE A1","E042","",0,null,"","","","","","","",0,0,0,0,0,0,0,{"$f":"IF(U211=\"\",\"\",INDEX($AE$163:$AM$189,MATCH(U211&W211&AA211,$AE$163:$AE$189&$AG$163:$AG$189&$AK$163:$AK$189,0),9))","v":"X"},"",null,0,0,0,0,0,0,0,null,"X"]
[null,null,"1003GA","250815-A02","JNW0103","0060","409400196",109856,"SEAL COAT AGGREGATE, GRADE A1","E042","",0,null,"","","","","","","",0,0,0,0,0,0,0,{"$f":"IF(U212=\"\",\"\",INDEX($AE$163:$AM$189,MATCH(U212&W212&AA212,$AE$163:$AE$189&$AG$163:$AG$189&$AK$163:$AK$189,0),9))","v":"X"},"",null,0,0,0,0,0,0,0,null,"X"]
[null,null,"1003GA","251017-H03","JSE0117","0090","409400196",112878,"SEAL COAT AGGREGATE, GRADE A1","E042","",0,null,"","","","","","","",0,0,0,0,0,0,0,{"$f":"IF(U213=\"\",\"\",INDEX($AE$163:$AM$189,MATCH(U213&W213&AA213,$AE$163:$AE$189&$AG$163:$AG$189&$AK$163:$AK$189,0),9))","v":"X"},"",null,0,0,0,0,0,0,0,null,"X"]
[null,null,"1003GA","251114-G04","JSR0324","0020","409400196",115207,"SEAL COAT AGGREGATE, GRADE A1","E042","",0,null,"","","","","","","",0,0,0,0,0,0,0,{"$f":"IF(U214=\"\",\"\",INDEX($AE$163:$AM$189,MATCH(U214&W214&AA214,$AE$163:$AE$189&$AG$163:$AG$189&$AK$163:$AK$189,0),9))","v":"X"},"",null,0,0,0,0,0,0,0,null,"X"]
[null,null,"1003GA","251114-H06","JSE0057","0080","409400196",115946,"SEAL COAT AGGREGATE, GRADE A1","E042","",0,null,"","","","","","","",0,0,0,0,0,0,0,{"$f":"IF(U215=\"\",\"\",INDEX($AE$163:$AM$189,MATCH(U215&W215&AA215,$AE$163:$AE$189&$AG$163:$AG$189&$AK$163:$AK$189,0),9))","v":"X"},"",null,0,0,0,0,0,0,0,null,"X"]
[null,null,"1003GA2","240621-F01","JSL0047","0120","409400296",91839,"SEAL COAT AGGREGATE, GRADE A2","E042","",0,null,"","","","","","","",0,0,0,0,0,0,0,{"$f":"IF(U216=\"\",\"\",INDEX($AE$163:$AM$189,MATCH(U216&W216&AA216,$AE$163:$AE$189&$AG$163:$AG$189&$AK$163:$AK$189,0),9))","v":"X"},"",null,0,0,0,0,0,0,0,null,"X"]
[null,null,"1003GA2","240816-B01","JNE0020","0180","409400296",93025,"SEAL COAT AGGREGATE, GRADE A2","E042","",0,null,"","","","","","","",0,0,0,0,0,0,0,{"$f":"IF(U217=\"\",\"\",INDEX($AE$163:$AM$189,MATCH(U217&W217&AA217,$AE$163:$AE$189&$AG$163:$AG$189&$AK$163:$AK$189,0),9))","v":"X"},"",null,0,0,0,0,0,0,0,null,"X"]
[null,null,"1003GA2","240816-B01","JNE0021","0260","409400296",93030,"SEAL COAT AGGREGATE, GRADE A2","E042","",0,null,"","","","","","","",0,0,0,0,0,0,0,{"$f":"IF(U218=\"\",\"\",INDEX($AE$163:$AM$189,MATCH(U218&W218&AA218,$AE$163:$AE$189&$AG$163:$AG$189&$AK$163:$AK$189,0),9))","v":"X"},"",null,0,0,0,0,0,0,0,null,"X"]
[null,null,"1003GA2","240920-B01","JNE0032","0020","409400296",94709,"SEAL COAT AGGREGATE, GRADE A2","E042","",0,null,"","","","","","","",0,0,0,0,0,0,0,{"$f":"IF(U219=\"\",\"\",INDEX($AE$163:$AM$189,MATCH(U219&W219&AA219,$AE$163:$AE$189&$AG$163:$AG$189&$AK$163:$AK$189,0),9))","v":"X"},"",null,0,0,0,0,0,0,0,null,"X"]
[null,null,"1003GA2","240920-B01","JNE0037","0290","409400296",94725,"SEAL COAT AGGREGATE, GRADE A2","E042","",0,null,"","","","","","","",0,0,0,0,0,0,0,{"$f":"IF(U220=\"\",\"\",INDEX($AE$163:$AM$189,MATCH(U220&W220&AA220,$AE$163:$AE$189&$AG$163:$AG$189&$AK$163:$AK$189,0),9))","v":"X"},"",null,0,0,0,0,0,0,0,null,"X"]
[null,null,"1003GA2","250117-F4A","JSL0145","0020","409400296",101511,"SEAL COAT AGGREGATE, GRADE A2","E042","",0,null,"","","","","","","",0,0,0,0,0,0,0,{"$f":"IF(U221=\"\",\"\",INDEX($AE$163:$AM$189,MATCH(U221&W221&AA221,$AE$163:$AE$189&$AG$163:$AG$189&$AK$163:$AK$189,0),9))","v":"X"},"",null,0,0,0,0,0,0,0,null,"X"]
[null,null,"1003GA2","250117-F4B","JSLM0053","0020","409400296",101519,"SEAL COAT AGGREGATE, GRADE A2","E042","",0,null,"","","","","","","",0,0,0,0,0,0,0,{"$f":"IF(U222=\"\",\"\",INDEX($AE$163:$AM$189,MATCH(U222&W222&AA222,$AE$163:$AE$189&$AG$163:$AG$189&$AK$163:$AK$189,0),9))","v":"X"},"",null,0,0,0,0,0,0,0,null,"X"]
[null,null,"1003GA2","250815-B03","JNE0056","0020","409400296",110063,"SEAL COAT AGGREGATE, GRADE A2","E042","",0,null,"","","","","","","",0,0,0,0,0,0,0,{"$f":"IF(U223=\"\",\"\",INDEX($AE$163:$AM$189,MATCH(U223&W223&AA223,$AE$163:$AE$189&$AG$163:$AG$189&$AK$163:$AK$189,0),9))","v":"X"},"",null,0,0,0,0,0,0,0,null,"X"]
[null,null,"1003GA2","250815-B03","JNE0057","0090","409400296",110066,"SEAL COAT AGGREGATE, GRADE A2","E042","",0,null,"","","","","","","",0,0,0,0,0,0,0,{"$f":"IF(U224=\"\",\"\",INDEX($AE$163:$AM$189,MATCH(U224&W224&AA224,$AE$163:$AE$189&$AG$163:$AG$189&$AK$163:$AK$189,0),9))","v":"X"},"",null,0,0,0,0,0,0,0,null,"X"]
[null,null,"1003GA2","251017-B1A","JNE0087","0250","409400296",113590,"SEAL COAT AGGREGATE, GRADE A2","E042","",0,null,"","","","","","","",0,0,0,0,0,0,0,{"$f":"IF(U225=\"\",\"\",INDEX($AE$163:$AM$189,MATCH(U225&W225&AA225,$AE$163:$AE$189&$AG$163:$AG$189&$AK$163:$AK$189,0),9))","v":"X"},"",null,0,0,0,0,0,0,0,null,"X"]
[null,null,"1003GA2","251017-B1A","JNE0094","0470","409400296",113605,"SEAL COAT AGGREGATE, GRADE A2","E042","",0,null,"","","","","","","",0,0,0,0,0,0,0,{"$f":"IF(U226=\"\",\"\",INDEX($AE$163:$AM$189,MATCH(U226&W226&AA226,$AE$163:$AE$189&$AG$163:$AG$189&$AK$163:$AK$189,0),9))","v":"X"},"",null,0,0,0,0,0,0,0,null,"X"]
[null,null,"1003GALW","240621-A01","J1P3367","0110","409400196",91711,"SEAL COAT AGGREGATE, GRADE A1","E042",{"$f":"IF(C227=$C$162,D227,\"\")","v":""},0,null,{"$f":"(IF(K227=\"\",\"\",IF(OR(D227=$J$33,D227=$T$33, D227=$O$33),D227,\"\")))","v":""},{"$f":"IF(N227=\"\",\"\",F227)","v":""},{"$f":"IF(N227=\"\", \"\", E227)","v":""},{"$f":"IF(N227=\"\", \"\", G227)","v":""},"","","",0,0,0,0,0,0,0,{"$f":"IF(U227=\"\",\"\",INDEX($AE$163:$AM$189,MATCH(U227&W227&AA227,$AE$163:$AE$189&$AG$163:$AG$189&$AK$163:$AK$189,0),9))","v":"X"},{"$f":"IF(ISNA(AB227),\"\",IF(AB227=\"X\",\"\",AB227))","v":""},null,0,0,0,0,0,0,0,null,"X"]
[null,null,"1003GB","240517-H07","JSE0113","0120","409401196",90530,"SEAL COAT AGGREGATE, GRADE B1","E042","",0,null,"","","","",{"$f":"IF(N228=\"\",\"\",I228)","v":""},{"$f":"IF(N228=\"\",\"\",J228)","v":""},{"$f":"IF(N228=\"\",\"\",H228)","v":""},0,0,0,0,0,0,0,{"$f":"IF(U228=\"\",\"\",INDEX($AE$163:$AM$189,MATCH(U228&W228&AA228,$AE$163:$AE$189&$AG$163:$AG$189&$AK$163:$AK$189,0),9))","v":"X"},"",null,0,0,0,0,0,0,0,null,{"$f":"IF(ISBLANK(AL228),\"X\",AL228)","v":"X"}]
[null,null,"1003GB","240816-A01","J1S3413","0080","409401196",92712,"SEAL COAT AGGREGATE, GRADE B1","E042","",0,null,"","","","","","","",0,0,0,0,0,0,0,{"$f":"IF(U229=\"\",\"\",INDEX($AE$163:$AM$189,MATCH(U229&W229&AA229,$AE$163:$AE$189&$AG$163:$AG$189&$AK$163:$AK$189,0),9))","v":"X"},"",null,0,0,0,0,0,0,0,null,"X"]
[null,null,"1003GB","240816-A02","J1S3415","0080","409401196",92656,"SEAL COAT AGGREGATE, GRADE B1","E042","",0,null,"","","","","","","",0,0,0,0,0,0,0,{"$f":"IF(U230=\"\",\"\",INDEX($AE$163:$AM$189,MATCH(U230&W230&AA230,$AE$163:$AE$189&$AG$163:$AG$189&$AK$163:$AK$189,0),9))","v":"X"},"",null,0,0,0,0,0,0,0,null,"X"]
[null,null,"1003GB","240920-D02","JCD0099","0740","409401196",93483,"SEAL COAT AGGREGATE, GRADE B1","E042","",0,null,"","","","","","","",0,0,0,0,0,0,0,{"$f":"IF(U231=\"\",\"\",INDEX($AE$163:$AM$189,MATCH(U231&W231&AA231,$AE$163:$AE$189&$AG$163:$AG$189&$AK$163:$AK$189,0),9))","v":"X"},"",null,0,0,0,0,0,0,0,null,"X"]
[null,null,"1003GB","240920-D02","JCD0099","0780","409401196",93485,"SEAL COAT AGGREGATE, GRADE B1","E042","",0,null,"","","","","","","",0,0,0,0,0,0,0,{"$f":"IF(U232=\"\",\"\",INDEX($AE$163:$AM$189,MATCH(U232&W232&AA232,$AE$163:$AE$189&$AG$163:$AG$189&$AK$163:$AK$189,0),9))","v":"X"},"",null,0,0,0,0,0,0,0,null,"X"]
[null,null,"1003GB","241115-G06","JSR0296","0030","409401196",99121,"SEAL COAT AGGREGATE, GRADE B1","E042","",0,null,"","","","","","","",0,0,0,0,0,0,0,{"$f":"IF(U233=\"\",\"\",INDEX($AE$163:$AM$189,MATCH(U233&W233&AA233,$AE$163:$AE$189&$AG$163:$AG$189&$AK$163:$AK$189,0),9))","v":"X"},"",null,0,0,0,0,0,0,0,null,"X"]
[null,null,"1003GB","241213-H02","J9S3673","0610","409401196",99572,"SEAL COAT AGGREGATE, GRADE B1","E042","",0,null,"","","","","","","",0,0,0,0,0,0,0,{"$f":"IF(U234=\"\",\"\",INDEX($AE$163:$AM$189,MATCH(U234&W234&AA234,$AE$163:$AE$189&$AG$163:$AG$189&$AK$163:$AK$189,0),9))","v":"X"},"",null,0,0,0,0,0,0,0,null,"X"]
[null,null,"1003GB","250117-H05","J9S3813","0090","409401196",101271,"SEAL COAT AGGREGATE, GRADE B1","E042","",0,null,"","","","","","","",0,0,0,0,0,0,0,{"$f":"IF(U235=\"\",\"\",INDEX($AE$163:$AM$189,MATCH(U235&W235&AA235,$AE$163:$AE$189&$AG$163:$AG$189&$AK$163:$AK$189,0),9))","v":"X"},"",null,0,0,0,0,0,0,0,null,"X"]
[null,null,"1003GB","250314-H08","JSE0122","0100","409401196",104125,"SEAL COAT AGGREGATE, GRADE B1","E042","",0,null,"","","","","","","",0,0,0,0,0,0,0,{"$f":"IF(U236=\"\",\"\",INDEX($AE$163:$AM$189,MATCH(U236&W236&AA236,$AE$163:$AE$189&$AG$163:$AG$189&$AK$163:$AK$189,0),9))","v":"X"},"",null,0,0,0,0,0,0,0,null,"X"]
[null,null,"1003GB","250314-H5A","JSE0090","0110","409401196",104158,"SEAL COAT AGGREGATE, GRADE B1","E042","",0,null,"","","","","","","",0,0,0,0,0,0,0,{"$f":"IF(U237=\"\",\"\",INDEX($AE$163:$AM$189,MATCH(U237&W237&AA237,$AE$163:$AE$189&$AG$163:$AG$189&$AK$163:$AK$189,0),9))","v":"X"},"",null,0,0,0,0,0,0,0,null,"X"]
[null,null,"1003GB","250516-H03","J9P3796","0120","409401196",108495,"SEAL COAT AGGREGATE, GRADE B1","E042","",0,null,"","","","","","","",0,0,0,0,0,0,0,{"$f":"IF(U238=\"\",\"\",INDEX($AE$163:$AM$189,MATCH(U238&W238&AA238,$AE$163:$AE$189&$AG$163:$AG$189&$AK$163:$AK$189,0),9))","v":"X"},"",null,0,0,0,0,0,0,0,null,"X"]
[null,null,"1003GB","250516-H08","JSE0108","0117","409401196",108664,"SEAL COAT AGGREGATE, GRADE B1","E042","",0,null,"","","","","","","",0,0,0,0,0,0,0,{"$f":"IF(U239=\"\",\"\",INDEX($AE$163:$AM$189,MATCH(U239&W239&AA239,$AE$163:$AE$189&$AG$163:$AG$189&$AK$163:$AK$189,0),9))","v":"X"},"",null,0,0,0,0,0,0,0,null,"X"]
[null,null,"1003GB","250516-H5A","J9S3780","0140","409401196",108432,"SEAL COAT AGGREGATE, GRADE B1","E042","",0,null,"","","","","","","",0,0,0,0,0,0,0,{"$f":"IF(U240=\"\",\"\",INDEX($AE$163:$AM$189,MATCH(U240&W240&AA240,$AE$163:$AE$189&$AG$163:$AG$189&$AK$163:$AK$189,0),9))","v":"X"},"",null,0,0,0,0,0,0,0,null,"X"]
[null,null,"1003GB","250919-G3A","JSR0310","0280","409401196",111386,"SEAL COAT AGGREGATE, GRADE B1","E042","",0,null,"","","","","","","",0,0,0,0,0,0,0,{"$f":"IF(U241=\"\",\"\",INDEX($AE$163:$AM$189,MATCH(U241&W241&AA241,$AE$163:$AE$189&$AG$163:$AG$189&$AK$163:$AK$189,0),9))","v":"X"},"",null,0,0,0,0,0,0,0,null,"X"]
[null,null,"1003GB","251114-G04","JSR0324","0030","409401196",115208,"SEAL COAT AGGREGATE, GRADE B1","E042","",0,null,"","","","","","","",0,0,0,0,0,0,0,{"$f":"IF(U242=\"\",\"\",INDEX($AE$163:$AM$189,MATCH(U242&W242&AA242,$AE$163:$AE$189&$AG$163:$AG$189&$AK$163:$AK$189,0),9))","v":"X"},"",null,0,0,0,0,0,0,0,null,"X"]
[null,null,"1003GB","251114-G05","JSR0324B","0020","409401196",115219,"SEAL COAT AGGREGATE, GRADE B1","E042","",0,null,"","","","","","","",0,0,0,0,0,0,0,{"$f":"IF(U243=\"\",\"\",INDEX($AE$163:$AM$189,MATCH(U243&W243&AA243,$AE$163:$AE$189&$AG$163:$AG$189&$AK$163:$AK$189,0),9))","v":"X"},"",null,0,0,0,0,0,0,0,null,"X"]
[null,null,"1003GB","251114-H03","J9S3806","0550","409401196",115883,"SEAL COAT AGGREGATE, GRADE B1","E042","",0,null,"","","","","","","",0,0,0,0,0,0,0,{"$f":"IF(U244=\"\",\"\",INDEX($AE$163:$AM$189,MATCH(U244&W244&AA244,$AE$163:$AE$189&$AG$163:$AG$189&$AK$163:$AK$189,0),9))","v":"X"},"",null,0,0,0,0,0,0,0,null,"X"]
[null,null,"1003GB2","240816-D02","JCD0040","0020","409401296",92774,"SEAL COAT AGGREGATE, GRADE B2","E042","",0,null,"","","","","","","",0,0,0,0,0,0,0,{"$f":"IF(U245=\"\",\"\",INDEX($AE$163:$AM$189,MATCH(U245&W245&AA245,$AE$163:$AE$189&$AG$163:$AG$189&$AK$163:$AK$189,0),9))","v":"X"},"",null,0,0,0,0,0,0,0,null,"X"]
[null,null,"1003GB2","240816-D02","JCD0042","0130","409401296",92783,"SEAL COAT AGGREGATE, GRADE B2","E042","",0,null,"","","","","","","",0,0,0,0,0,0,0,{"$f":"IF(U246=\"\",\"\",INDEX($AE$163:$AM$189,MATCH(U246&W246&AA246,$AE$163:$AE$189&$AG$163:$AG$189&$AK$163:$AK$189,0),9))","v":"X"},"",null,0,0,0,0,0,0,0,null,"X"]
[null,null,"1003GB2","250919-B04","JNE0066","0020","409401296",111700,"SEAL COAT AGGREGATE, GRADE B2","E042","",0,null,"","","","","","","",0,0,0,0,0,0,0,{"$f":"IF(U247=\"\",\"\",INDEX($AE$163:$AM$189,MATCH(U247&W247&AA247,$AE$163:$AE$189&$AG$163:$AG$189&$AK$163:$AK$189,0),9))","v":"X"},"",null,0,0,0,0,0,0,0,null,"X"]
[null,null,"1003GB2","250919-B04","JNE0070","0090","409401296",111698,"SEAL COAT AGGREGATE, GRADE B2","E042","",0,null,"","","","","","","",0,0,0,0,0,0,0,{"$f":"IF(U248=\"\",\"\",INDEX($AE$163:$AM$189,MATCH(U248&W248&AA248,$AE$163:$AE$189&$AG$163:$AG$189&$AK$163:$AK$189,0),9))","v":"X"},"",null,0,0,0,0,0,0,0,null,"X"]
[null,null,"1003GB2","251017-B1A","JNE0092","0320","409401296",113600,"SEAL COAT AGGREGATE, GRADE B2","E042","",0,null,"","","","","","","",0,0,0,0,0,0,0,{"$f":"IF(U249=\"\",\"\",INDEX($AE$163:$AM$189,MATCH(U249&W249&AA249,$AE$163:$AE$189&$AG$163:$AG$189&$AK$163:$AK$189,0),9))","v":"X"},"",null,0,0,0,0,0,0,0,null,"X"]
[null,null,"1003GBLW","241018-C9A","JKU0421","0080","409990596",96601,"LIGHTWEIGHT HAYDITE, GRADE B1","E042","",0,null,"","","","","","","",0,0,0,0,0,0,0,{"$f":"IF(U250=\"\",\"\",INDEX($AE$163:$AM$189,MATCH(U250&W250&AA250,$AE$163:$AE$189&$AG$163:$AG$189&$AK$163:$AK$189,0),9))","v":"X"},"",null,0,0,0,0,0,0,0,null,"X"]
[null,null,"1003GBLW","241018-C9A","JKU0421","0100","409990596",96603,"LIGHTWEIGHT HAYDITE, GRADE B1","E042","",0,null,"","","","","","","",0,0,0,0,0,0,0,{"$f":"IF(U251=\"\",\"\",INDEX($AE$163:$AM$189,MATCH(U251&W251&AA251,$AE$163:$AE$189&$AG$163:$AG$189&$AK$163:$AK$189,0),9))","v":"X"},"",null,0,0,0,0,0,0,0,null,"X"]
[null,null,"1003GBLW","241018-C9A","JKU0421","0120","409990596",96605,"LIGHTWEIGHT HAYDITE, GRADE B1","E042","",0,null,"","","","","","","",0,0,0,0,0,0,0,{"$f":"IF(U252=\"\",\"\",INDEX($AE$163:$AM$189,MATCH(U252&W252&AA252,$AE$163:$AE$189&$AG$163:$AG$189&$AK$163:$AK$189,0),9))","v":"X"},"",null,0,0,0,0,0,0,0,null,"X"]
[null,null,"1003GBLW","241018-C9A","JKU0421","0140","409990596",96607,"LIGHTWEIGHT HAYDITE, GRADE B1","E042","",0,null,"","","","","","","",0,0,0,0,0,0,0,{"$f":"IF(U253=\"\",\"\",INDEX($AE$163:$AM$189,MATCH(U253&W253&AA253,$AE$163:$AE$189&$AG$163:$AG$189&$AK$163:$AK$189,0),9))","v":"X"},"",null,0,0,0,0,0,0,0,null,"X"]
[null,null,"1003GBLW","241018-C9A","JKU0421","0160","409990596",96609,"LIGHTWEIGHT HAYDITE, GRADE B1","E042","",0,null,"","","","","","","",0,0,0,0,0,0,0,{"$f":"IF(U254=\"\",\"\",INDEX($AE$163:$AM$189,MATCH(U254&W254&AA254,$AE$163:$AE$189&$AG$163:$AG$189&$AK$163:$AK$189,0),9))","v":"X"},"",null,0,0,0,0,0,0,0,null,"X"]
[null,null,"1003GBLW","241018-C9A","JKU0421","0180","409990596",96611,"LIGHTWEIGHT HAYDITE, GRADE B1","E042","",0,null,"","","","","","","",0,0,0,0,0,0,0,{"$f":"IF(U255=\"\",\"\",INDEX($AE$163:$AM$189,MATCH(U255&W255&AA255,$AE$163:$AE$189&$AG$163:$AG$189&$AK$163:$AK$189,0),9))","v":"X"},"",null,0,0,0,0,0,0,0,null,"X"]
[null,null,"1003GBLW","241018-C9A","JKU0421","0200","409990596",96613,"LIGHTWEIGHT HAYDITE, GRADE B1","E042","",0,null,"","","","","","","",0,0,0,0,0,0,0,{"$f":"IF(U256=\"\",\"\",INDEX($AE$163:$AM$189,MATCH(U256&W256&AA256,$AE$163:$AE$189&$AG$163:$AG$189&$AK$163:$AK$189,0),9))","v":"X"},"",null,0,0,0,0,0,0,0,null,"X"]
[null,null,"1003GBLW","241018-C9B","JKU0443","0070","409990596",96655,"LIGHTWEIGHT HAYDITE, GRADE B1","E042","",0,null,"","","","","","","",0,0,0,0,0,0,0,{"$f":"IF(U257=\"\",\"\",INDEX($AE$163:$AM$189,MATCH(U257&W257&AA257,$AE$163:$AE$189&$AG$163:$AG$189&$AK$163:$AK$189,0),9))","v":"X"},"",null,0,0,0,0,0,0,0,null,"X"]
[null,null,"1003GBLW","241018-C9B","JKU0443","0090","409990596",96657,"LIGHTWEIGHT HAYDITE, GRADE B1","E042","",0,null,"","","","","","","",0,0,0,0,0,0,0,{"$f":"IF(U258=\"\",\"\",INDEX($AE$163:$AM$189,MATCH(U258&W258&AA258,$AE$163:$AE$189&$AG$163:$AG$189&$AK$163:$AK$189,0),9))","v":"X"},"",null,0,0,0,0,0,0,0,null,"X"]
[null,null,"1003GBLW","241018-C9B","JKU0443","0110","409990596",96659,"LIGHTWEIGHT HAYDITE, GRADE B1","E042","",0,null,"","","","","","","",0,0,0,0,0,0,0,{"$f":"IF(U259=\"\",\"\",INDEX($AE$163:$AM$189,MATCH(U259&W259&AA259,$AE$163:$AE$189&$AG$163:$AG$189&$AK$163:$AK$189,0),9))","v":"X"},"",null,0,0,0,0,0,0,0,null,"X"]
[null,null,"1003GC","241115-H02","J9P3667","0120","409402196",97283,"SEAL COAT AGGREGATE, GRADE C","E042","",0,null,"","","","","","","",0,0,0,0,0,0,0,{"$f":"IF(U260=\"\",\"\",INDEX($AE$163:$AM$189,MATCH(U260&W260&AA260,$AE$163:$AE$189&$AG$163:$AG$189&$AK$163:$AK$189,0),9))","v":"X"},"",null,0,0,0,0,0,0,0,null,"X"]
[null,null,"1003GC","250314-H14","JST0126","0070","409402196",104265,"SEAL COAT AGGREGATE, GRADE C","E042","",0,null,"","","","","","","",0,0,0,0,0,0,0,{"$f":"IF(U261=\"\",\"\",INDEX($AE$163:$AM$189,MATCH(U261&W261&AA261,$AE$163:$AE$189&$AG$163:$AG$189&$AK$163:$AK$189,0),9))","v":"X"},"",null,0,0,0,0,0,0,0,null,"X"]
[null,null,"100504..CPCMLD","220715-F01","J6I3020C","0190","401990596",60321,"OPTIONAL TEMPORARY PAVEMENT","E042","",0,null,"","","","","","","",0,0,0,0,0,0,0,{"$f":"IF(U262=\"\",\"\",INDEX($AE$163:$AM$189,MATCH(U262&W262&AA262,$AE$163:$AE$189&$AG$163:$AG$189&$AK$163:$AK$189,0),9))","v":"X"},"",null,0,0,0,0,0,0,0,null,"X"]
[null,null,"100504..CPCMLD","220715-F01","J6I3020C","0210","502131196",60323,"CONCRETE PAVEMENT (11 IN. NON-REINFORCED 15 FT. JOINTS)","E042","",0,null,"","","","","","","",0,0,0,0,0,0,0,{"$f":"IF(U263=\"\",\"\",INDEX($AE$163:$AM$189,MATCH(U263&W263&AA263,$AE$163:$AE$189&$AG$163:$AG$189&$AK$163:$AK$189,0),9))","v":"X"},"",null,0,0,0,0,0,0,0,null,"X"]
[null,null,"100504..CPCMLD","240214-D01","JST0021","0360","Concrete Plant 1",92002," Central Concrete","E042","",0,null,"","","","","","","",0,0,0,0,0,0,0,{"$f":"IF(U264=\"\",\"\",INDEX($AE$163:$AM$189,MATCH(U264&W264&AA264,$AE$163:$AE$189&$AG$163:$AG$189&$AK$163:$AK$189,0),9))","v":"X"},"",null,0,0,0,0,0,0,0,null,"X"]
[null,null,"100504..CPCMLD","240214-D01","JST0021","0360","Concrete Plant 2",92004," ESS Materials Millersburg","E042","",0,null,"","","","","","","",0,0,0,0,0,0,0,{"$f":"IF(U265=\"\",\"\",INDEX($AE$163:$AM$189,MATCH(U265&W265&AA265,$AE$163:$AE$189&$AG$163:$AG$189&$AK$163:$AK$189,0),9))","v":"X"},"",null,0,0,0,0,0,0,0,null,"X"]
[null,null,"100504..CPCMLD","240214-D01","JST0021","0360","Concrete Plant 3",92005," MoCON Inc Fulton","E042","",0,null,"","","","","","","",0,0,0,0,0,0,0,{"$f":"IF(U266=\"\",\"\",INDEX($AE$163:$AM$189,MATCH(U266&W266&AA266,$AE$163:$AE$189&$AG$163:$AG$189&$AK$163:$AK$189,0),9))","v":"X"},"",null,null,null,null,null,null,null,null,null,"X"]
[null,null,"100504..CPCMLD","240214-D01","JST0021","0360","Concrete Plant 4",92357," Millstone Weber","E042","",0,null,"","","","","","","",0,0,0,0,0,0,0,{"$f":"IF(U267=\"\",\"\",INDEX($AE$163:$AM$189,MATCH(U267&W267&AA267,$AE$163:$AE$189&$AG$163:$AG$189&$AK$163:$AK$189,0),9))","v":"X"},"",null,null,null,null,null,null,null,null,null,"X"]
[null,null,"100504..CPCMLD","240517-G11","J7P3484C","0540","5031010A96",91156,"BRIDGE APPROACH SLAB (MAJOR)","E042","",0,null,"","","","","","","",0,0,0,0,0,0,0,{"$f":"IF(U268=\"\",\"\",INDEX($AE$163:$AM$189,MATCH(U268&W268&AA268,$AE$163:$AE$189&$AG$163:$AG$189&$AK$163:$AK$189,0),9))","v":"X"},"",null,null,null,null,null,null,null,null,null,"X"]
[null,null,"100504..CPCMLD","240517-G11","J7P3484C","0550","701111096",91157,"DRILLED SHAFTS (6 FT. 0 IN. DIA.)","E042","",0,null,"","","","","","","",0,0,0,0,0,0,0,{"$f":"IF(U269=\"\",\"\",INDEX($AE$163:$AM$189,MATCH(U269&W269&AA269,$AE$163:$AE$189&$AG$163:$AG$189&$AK$163:$AK$189,0),9))","v":"X"},"",null,null,null,null,null,null,null,null,null,"X"]
[null,null,"100504..CPCMLD","240517-G11","J7P3484C","0560","701120996",91158,"ROCK SOCKETS (5 FT  6 IN. DIA.)","E042","",0,null,"","","","","","","",0,0,0,0,0,0,0,{"$f":"IF(U270=\"\",\"\",INDEX($AE$163:$AM$189,MATCH(U270&W270&AA270,$AE$163:$AE$189&$AG$163:$AG$189&$AK$163:$AK$189,0),9))","v":"X"},"",null,null,null,null,null,null,null,null,null,"X"]
[null,null,"100504..CPCMLD","240517-G11","J7P3484C","0620","703200396",91161,"CLASS B CONCRETE (SUBSTRUCTURE)","E042","",0,null,"","","","","","","",0,0,0,0,0,0,0]
[null,null,"100504..CPCMLD","240517-G11","J7P3484C","0630","7034219A96",91162,"TYPE D BARRIER","E042","",0,null,"","","","","","","",0,0,0,0,0,0,0]
[null,null,"100504..CPCMLD","240517-G11","J7P3484C","0640","703422196",91163,"SLAB ON CONCRETE NU-GIRDER","E042","",0,null,"","","","","","","",0,0,0,0,0,0,0]
[null,null,"100504..CPCMLD","240517-G11","J7P3484C","0750","5031010A96",91171,"BRIDGE APPROACH SLAB (MAJOR)","E042","",0,null,"","","","","","","",0,0,0,0,0,0,0]
[null,null,"100504..CPCMLD","240517-G11","J7P3484C","0760","701111096",91172,"DRILLED SHAFTS (6 FT. 0 IN. DIA.)","E042","",0,null,"","","","","","","",0,0,0,0,0,0,0]
[null,null,"100504..CPCMLD","240517-G11","J7P3484C","0770","701120996",91173,"ROCK SOCKETS (5 FT  6 IN. DIA.)","E042","",0,null,"","","","","","","",0,0,0,0,0,0,0]
[null,null,"100504..CPCMLD","240517-G11","J7P3484C","0830","703200396",91176,"CLASS B CONCRETE (SUBSTRUCTURE)","E042","",0,null,"","","","","","","",0,0,0,0,0,0,0]
[null,null,"100504..CPCMLD","240517-G11","J7P3484C","0840","7034219A96",91177,"TYPE D BARRIER","E042","",0,null,"","","","","","","",0,0,0,0,0,0,0]
[null,null,"100504..CPCMLD","240517-G11","J7P3484C","0850","703422196",91178,"SLAB ON CONCRETE NU-GIRDER","E042","",0,null,"","","","","","","",0,0,0,0,0,0,0]
[null,null,"100504..CPCMLD","241018-A04","JNW0133","0290","502134096",96237,"TYPE A2 SHOULDER","E042","",0,null,"","","","","","","",0,0,0,0,0,0,0]
[null,null,"100504..CPCMLD","241108-F01","J6I3033","5101","613101096",106313,"FURNISHING AND PLACING CONCRETE MATERIAL FOR FULL DEPTH PAVEMENT REPAIR","E042","",0,null,"","","","","","","",0,0,0,0,0,0,0]
[null,null,"100507..CPCMLD","210203-C01","J4S3085C","0050","50199DB",49675,null,"E042","",0,null,"","","","","","","",0,0,0,0,0,0,0]
[null,null,"100507..CPCMLD","210203-C01","J4S3085C","0070","70199DB",49677,null,"E042","",0,null,"","","","","","","",0,0,0,0,0,0,0]
[null,null,"100507..CPCMLD","240119-H08","J9S3723","5201","703421696",94967,"TYPE H BARRIER","E042","",0,null,"","","","","","","",0,0,0,0,0,0,0]
[null,null,"100507..CPCMLD","250314-H01","J9P3448","5002","7309901",109602,"JUNCTION CHAMBER JCT A","E042","",0,null,"","","","","","","",0,0,0,0,0,0,0]
[null,null,"100507..CPCMLD","250314-H02","JSE0127","1060","703421696",105260,"TYPE H BARRIER","E042","",0,null,"","","","","","","",0,0,0,0,0,0,0]
[null,null,"100507..CPCMLD","250314-H13","JSE0198","0210","703421496",105403,"CLASS B-2 CONCRETE","E042","",0,null,"","","","","","","",0,0,0,0,0,0,0]
[null,null,"100510..CPCMLD","191206-F01","J6I3020B","0010","10199DB",24674,"I-270 Design Build","E042","",0,null,"","","","","","","",0,0,0,0,0,0,0]
[null,null,"100510..CPCMLD","210203-C01","J4S3085C","0050","50199DB",49675,null,"E042","",0,null,"","","","","","","",0,0,0,0,0,0,0]
[null,null,"100510..CPCMLD","210203-C01","J4S3085C","0070","70199DB",49677,null,"E042","",0,null,"","","","","","","",0,0,0,0,0,0,0]
[null,null,"100510..CPCMLD","210416-F02","J6S3048","0100","502131096",44297,"CONCRETE PAVEMENT (10 IN. NON-REINFORCED 15 FT. JOINTS)","E042",{"$f":"IF(C291=$C$162,D291,\"\")","v":""},0,null,{"$f":"(IF(K291=\"\",\"\",IF(OR(D291=$J$33,D291=$T$33, D291=$O$33),D291,\"\")))","v":""},{"$f":"IF(N291=\"\",\"\",F291)","v":""},{"$f":"IF(N291=\"\", \"\", E291)","v":""},{"$f":"IF(N291=\"\", \"\", G291)","v":""},"","","",0,0,0,0,0,0,0]
[null,null,"100510..CPCMLD","210416-F02","J6S3048","0150","604401196",41044,"PIPE COLLAR, TYPE A","E042","",0,null,"","","","",{"$f":"IF(N292=\"\",\"\",I292)","v":""},{"$f":"IF(N292=\"\",\"\",J292)","v":""},{"$f":"IF(N292=\"\",\"\",H292)","v":""},0,0,0,0,0,0,0]
[null,null,"100510..CPCMLD","210416-F02","J6S3048","0160","604990296",44961,"CONVERT INLET TO MANHOLE","E042","",0,null,"","","","","","","",0,0,0,0,0,0,0]
[null,null,"100510..CPCMLD","210416-F02","J6S3048","0190","608300696",44298,"6 IN. CONCRETE MEDIAN STRIP","E042","",0,null,"","","","","","","",0,0,0,0,0,0,0]
[null,null,"100510..CPCMLD","210416-F02","J6S3048","0200","608500896",41048,"PAVED APPROACH, 8 IN.","E042","",0,null,"","","","","","","",0,0,0,0,0,0,0]
[null,null,"100510..CPCMLD","210416-F02","J6S3048","0210","608600496",41049,"CONCRETE SIDEWALK, 4 IN.","E042","",0,null,"","","","","","","",0,0,0,0,0,0,0]
[null,null,"100510..CPCMLD","210416-F02","J6S3048","0220","608600796",41050,"CONCRETE SIDEWALK, 7 IN.","E042","",0,null,"","","","","","","",0,0,0,0,0,0,0]
[null,null,"100510..CPCMLD","210416-F02","J6S3048","0230","608990296",41155,"CONCRETE CURB RAMP","E042","",0,null,"","","","","","","",0,0,0,0,0,0,0]
[null,null,"100510..CPCMLD","210416-F02","J6S3048","0240","608990296",41156,"CONCRETE CURB RAMP, CORAL COLOR","E042","",0,null,"","","","","","","",0,0,0,0,0,0,0]
[null,null,"100510..CPCMLD","210416-F02","J6S3048","0250","6089905",41353,"CONCRETE SIDEWALK REPAIR, 4 IN.","E042","",0,null,"","","","","","","",0,0,0,0,0,0,0]
[null,null,"100510..CPCMLD","210416-F02","J6S3048","0260","6089905",41354,"CONCRETE SIDEWALK REPAIR, 4 IN., CORAL COLOR","E042","",0,null,"","","","","","","",0,0,0,0,0,0,0]
[null,null,"100510..CPCMLD","210416-F02","J6S3048","0270","6089905",41355,"CONCRETE SIDEWALK, 4 IN., CORAL COLOR","E042","",0,null,"","","","","","","",0,0,0,0,0,0,0]
[null,null,"100510..CPCMLD","210416-F02","J6S3048","0290","609101096",41051,"CONCRETE CURB (6 IN. HEIGHT AND UNDER) TYPE S","E042","",0,null,"","","","","","","",0,0,0,0,0,0,0]
[null,null,"100510..CPCMLD","210416-F02","J6S3048","0300","609104196",41052,"CONCRETE GUTTER TYPE A","E042","",0,null,"","","","","","","",0,0,0,0,0,0,0]
[null,null,"100510..CPCMLD","210416-F02","J6S3048","0310","609201196",41053,"INTEGRAL CURB (6 IN. HEIGHT AND UNDER) TYPE A","E042","",0,null,"","","","","","","",0,0,0,0,0,0,0]
[null,null,"100510..CPCMLD","210416-F02","J6S3048","0320","609202196",41054,"INTEGRAL CURB (OVER 6 IN. HEIGHT) TYPE A","E042","",0,null,"","","","","","","",0,0,0,0,0,0,0]
[null,null,"100510..CPCMLD","210416-F02","J6S3048","0330","609203196",41055,"CONCRETE CURB LOW PROFILE TYPE E","E042","",0,null,"","","","","","","",0,0,0,0,0,0,0]
[null,null,"100510..CPCMLD","210416-F02","J6S3048","0360","6099903",42755,"LANDSCAPE CURB","E042","",0,null,"","","","","","","",0,0,0,0,0,0,0]
[null,null,"100510..CPCMLD","210416-F02","J6S3048","0370","6099903",42756,"SLOTTED INTEGRAL CURB","E042","",0,null,"","","","","","","",0,0,0,0,0,0,0]
[null,null,"100510..CPCMLD","210416-F02","J6S3048","0380","6116010A96",41057,"SLOPE PROTECTION","E042","",0,null,"","","","","","","",0,0,0,0,0,0,0]
[null,null,"100510..CPCMLD","210416-F02","J6S3048","0390","6119905",41356,"SLOPE PROTECTION, CORAL COLOR","E042","",0,null,"","","","","","","",0,0,0,0,0,0,0]
[null,null,"100510..CPCMLD","210416-F02","J6S3048","0400","613101096",44299,"FURNISHING AND PLACING CONCRETE MATERIAL FOR FULL DEPTH PAVEMENT REPAIR","E042","",0,null,"","","","","","","",0,0,0,0,0,0,0]
[null,null,"100510..CPCMLD","210416-F02","J6S3048","0500","6179903",42764,"CONCRETE TRAFFIC BARRIER, TYPE C (PERFORATED)","E042","",0,null,"","","","","","","",0,0,0,0,0,0,0]
[null,null,"100510..CPCMLD","210416-F02","J6S3048","0750","7039903",42779,"SPECIAL GUTTER RETAINING WALL","E042","",0,null,"","","","","","","",0,0,0,0,0,0,0]
[null,null,"100510..CPCMLD","210416-F02","J6S3048","1810","903101096",41145,"CONCRETE FOOTINGS, EMBEDDED","E042","",0,null,"","","","","","","",0,0,0,0,0,0,0]
[null,null,"100510..CPCMLD","210416-F02","J6S3048","5004","608990596",44935,"Misc. Concrete Sidewalk, 7 IN. Coral Color","E042","",0,null,"","","","","","","",0,0,0,0,0,0,0]
[null,null,"100510..CPCMLD","210416-F02","J6S3048","5005","609105296",44932,"CURB AND GUTTER TYPE B","E042","",0,null,"","","","","","","",0,0,0,0,0,0,0]
[null,null,"100510..CPCMLD","210416-F02","J6S3048","5006","6099903",44947,"Integral Curb (6 IN Height and Under), Type A, Coral Color","E042","",0,null,"","","","","","","",0,0,0,0,0,0,0]
[null,null,"100510..CPCMLD","220121-D06","J5I3397","0170","502110896",52486,"CONCRETE PAVEMENT ( 8 IN. NON-REINF)","E042","",0,null,"","","","","","","",0,0,0,0,0,0,0]
[null,null,"100510..CPCMLD","220121-D06","J5I3397","0180","5062030A96",52487,"FURNISHING UNBONDED CONCRETE OVERLAY","E042","",0,null,"","","","","","","",0,0,0,0,0,0,0]
[null,null,"100510..CPCMLD","220121-D06","J5I3397","0320","613101096",52495,"FURNISHING AND PLACING CONCRETE MATERIAL FOR FULL DEPTH PAVEMENT REPAIR","E042","",0,null,"","","","","","","",0,0,0,0,0,0,0]
[null,null,"100510..CPCMLD","220121-D06","J5I3482","1450","703404096",52467,"CLASS B-1 CONCRETE (CULVERTS-BRIDGE)","E042","",0,null,"","","","","","","",0,0,0,0,0,0,0]
[null,null,"100510..CPCMLD","220121-D06","J5I3482","1520","703460096",52470,"CURB BLOCKOUT","E042","",0,null,"","","","","","","",0,0,0,0,0,0,0]
[null,null,"100510..CPCMLD","220121-D06","J5I3572","2030","703404196",52406,"CLASS B-1 CONCRETE (CULVERTS)","E042","",0,null,"","","","","","","",0,0,0,0,0,0,0]
[null,null,"100510..CPCMLD","220121-D06","J5I3572","2260","502131196",52423,"CONCRETE PAVEMENT (11 IN. NON-REINFORCED 15 FT. JOINTS)","E042","",0,null,"","","","","","","",0,0,0,0,0,0,0]
[null,null,"100510..CPCMLD","220121-D06","J5I3572","2310","502130896",52425,"CONCRETE PAVEMENT (8 IN. NON-REINFORCED, 15 FT. JOINTS)","E042","",0,null,"","","","","","","",0,0,0,0,0,0,0]
[null,null,"100510..CPCMLD","220121-H01","J9I3643","0060","502133496",51743,"CONCRETE PAVEMENT (10 1/2 IN. NON-REINFORCED, 15 FT. JOINTS)","E042","",0,null,"","","","","","","",0,0,0,0,0,0,0]
[null,null,"100510..CPCMLD","220121-H01","J9I3643","0070","504100096",51744,"CONCRETE APPROACH PAVEMENT","E042","",0,null,"","","","","","","",0,0,0,0,0,0,0]
[null,null,"100510..CPCMLD","220121-H01","J9I3643","0080","609101096",51745,"CONCRETE CURB (6 IN. HEIGHT AND UNDER) TYPE S","E042","",0,null,"","","","","","","",0,0,0,0,0,0,0]
[null,null,"100510..CPCMLD","220121-H01","J9I3643","0490","5031010A96",51775,"BRIDGE APPROACH SLAB (MAJOR)","E042","",0,null,"","","","","","","",0,0,0,0,0,0,0]
[null,null,"100510..CPCMLD","220121-H01","J9I3643","0500","703421296",51776,"SLAB ON STEEL","E042","",0,null,"","","","","","","",0,0,0,0,0,0,0]
[null,null,"100510..CPCMLD","220121-H01","J9I3643","0510","7034219A96",51777,"TYPE D BARRIER","E042","",0,null,"","","","","","","",0,0,0,0,0,0,0]
[null,null,"100510..CPCMLD","220121-H01","J9I3643","0620","5031010A96",51786,"BRIDGE APPROACH SLAB (MAJOR)","E042","",0,null,"","","","","","","",0,0,0,0,0,0,0]
[null,null,"100510..CPCMLD","220121-H01","J9I3643","0630","703421296",51787,"SLAB ON STEEL","E042","",0,null,"","","","","","","",0,0,0,0,0,0,0]
[null,null,"100510..CPCMLD","220121-H01","J9I3643","0640","7034219A96",51788,"TYPE D BARRIER","E042","",0,null,"","","","","","","",0,0,0,0,0,0,0]
[null,null,"100510..CPCMLD","220218-F06 - 1 Lines 6128-6136","J6I3187","6128","7039901",99317,"A10763 Bent 9 Backwall","E042","",0,null,"","","","","","","",0,0,0,0,0,0,0]
[null,null,"100510..CPCMLD","220218-F06 - 1 Lines 6128-6136","J6I3187","6136","9019901",111455,"Pipe Inspection and Replacement","E042","",0,null,"","","","","","","",0,0,0,0,0,0,0]
[null,null,"100510..CPCMLD","220218-F06 - 2 Lines 4450-6105","J6I3187","4450","704010296",54584,"SUBSTRUCTURE REPAIR (UNFORMED)","E042","",0,null,"","","","","","","",0,0,0,0,0,0,0]
[null,null,"100510..CPCMLD","220218-F06 - 2 Lines 4450-6105","J6I3187","4510","5031010A96",54588,"BRIDGE APPROACH SLAB (MAJOR)","E042","",0,null,"","","","","","","",0,0,0,0,0,0,0]
[null,null,"100510..CPCMLD","220218-F06 - 2 Lines 4450-6105","J6I3187","4520","703421296",54589,"SLAB ON STEEL","E042","",0,null,"","","","","","","",0,0,0,0,0,0,0]
[null,null,"100510..CPCMLD","220218-F06 - 2 Lines 4450-6105","J6I3187","4530","703421496",54590,"CLASS B-2 CONCRETE","E042","",0,null,"","","","","","","",0,0,0,0,0,0,0]
[null,null,"100510..CPCMLD","220218-F06 - 2 Lines 4450-6105","J6I3187","4540","7034219A96",54591,"TYPE D BARRIER","E042","",0,null,"","","","","","","",0,0,0,0,0,0,0]
[null,null,"100510..CPCMLD","220218-F06 - 2 Lines 4450-6105","J6I3187","4610","5031010A96",54597,"BRIDGE APPROACH SLAB (MAJOR)","E042","",0,null,"","","","","","","",0,0,0,0,0,0,0]
[null,null,"100510..CPCMLD","220218-F06 - 2 Lines 4450-6105","J6I3187","4620","703421296",54598,"SLAB ON STEEL","E042","",0,null,"","","","","","","",0,0,0,0,0,0,0]
[null,null,"100510..CPCMLD","220218-F06 - 2 Lines 4450-6105","J6I3187","4630","703421496",54599,"CLASS B-2 CONCRETE","E042","",0,null,"","","","","","","",0,0,0,0,0,0,0]
[null,null,"100510..CPCMLD","220218-F06 - 2 Lines 4450-6105","J6I3187","4640","7034219A96",54600,"TYPE D BARRIER","E042","",0,null,"","","","","","","",0,0,0,0,0,0,0]
[null,null,"100510..CPCMLD","220218-F06 - 2 Lines 4450-6105","J6I3187","4650","704010296",54601,"SUBSTRUCTURE REPAIR (UNFORMED)","E042","",0,null,"","","","","","","",0,0,0,0,0,0,0]
[null,null,"100510..CPCMLD","220218-F06 - 2 Lines 4450-6105","J6I3187","4760","5031010A96",54606,"BRIDGE APPROACH SLAB (MAJOR)","E042","",0,null,"","","","","","","",0,0,0,0,0,0,0]
[null,null,"100510..CPCMLD","220218-F06 - 2 Lines 4450-6105","J6I3187","4810","703441096",54608,"TYPE A BARRIER","E042","",0,null,"","","","","","","",0,0,0,0,0,0,0]
[null,null,"100510..CPCMLD","220218-F06 - 2 Lines 4450-6105","J6I3187","4820","704010296",54609,"SUBSTRUCTURE REPAIR (UNFORMED)","E042","",0,null,"","","","","","","",0,0,0,0,0,0,0]
[null,null,"100510..CPCMLD","220218-F06 - 2 Lines 4450-6105","J6I3187","4930","5031010A96",54617,"BRIDGE APPROACH SLAB (MAJOR)","E042","",0,null,"","","","","","","",0,0,0,0,0,0,0]
[null,null,"100510..CPCMLD","220218-F06 - 2 Lines 4450-6105","J6I3187","4940","703421296",54618,"SLAB ON STEEL","E042","",0,null,"","","","","","","",0,0,0,0,0,0,0]
[null,null,"100510..CPCMLD","220218-F06 - 2 Lines 4450-6105","J6I3187","4950","7034219A96",54619,"TYPE D BARRIER","E042","",0,null,"","","","","","","",0,0,0,0,0,0,0]
[null,null,"100510..CPCMLD","220218-F06 - 2 Lines 4450-6105","J6I3187","5120","5031010A96",54635,"BRIDGE APPROACH SLAB (MAJOR)","E042","",0,null,"","","","","","","",0,0,0,0,0,0,0]
[null,null,"100510..CPCMLD","220218-F06 - 2 Lines 4450-6105","J6I3187","5130","703421296",54636,"SLAB ON STEEL","E042",{"$f":"IF(C355=$C$162,D355,\"\")","v":""},0,null,{"$f":"(IF(K355=\"\",\"\",IF(OR(D355=$J$33,D355=$T$33, D355=$O$33),D355,\"\")))","v":""},{"$f":"IF(N355=\"\",\"\",F355)","v":""},{"$f":"IF(N355=\"\", \"\", E355)","v":""},{"$f":"IF(N355=\"\", \"\", G355)","v":""},"","","",0,0,0,0,0,0,0]
[null,null,"100510..CPCMLD","220218-F06 - 2 Lines 4450-6105","J6I3187","5140","7034219A96",54637,"TYPE D BARRIER","E042","",0,null,"","","","",{"$f":"IF(N356=\"\",\"\",I356)","v":""},{"$f":"IF(N356=\"\",\"\",J356)","v":""},{"$f":"IF(N356=\"\",\"\",H356)","v":""},0,0,0,0,0,0,0]
[null,null,"100510..CPCMLD","220218-F06 - 2 Lines 4450-6105","J6I3187","5170","704010296",54640,"SUBSTRUCTURE REPAIR (UNFORMED)","E042","",0,null,"","","","","","","",0,0,0,0,0,0,0]
[null,null,"100510..CPCMLD","220218-F06 - 2 Lines 4450-6105","J6I3187","5340","5031010A96",54652,"BRIDGE APPROACH SLAB (MAJOR)","E042","",0,null,"","","","","","","",0,0,0,0,0,0,0]
[null,null,"100510..CPCMLD","220218-F06 - 2 Lines 4450-6105","J6I3187","5390","703421496",54654,"CLASS B-2 CONCRETE","E042","",0,null,"","","","","","","",0,0,0,0,0,0,0]
[null,null,"100510..CPCMLD","220218-F06 - 2 Lines 4450-6105","J6I3187","5400","703421596",54655,"TYPE B BARRIER","E042","",0,null,"","","","","","","",0,0,0,0,0,0,0]
[null,null,"100510..CPCMLD","220218-F06 - 2 Lines 4450-6105","J6I3187","5410","703441096",54656,"TYPE A BARRIER","E042","",0,null,"","","","","","","",0,0,0,0,0,0,0]
[null,null,"100510..CPCMLD","220218-F06 - 2 Lines 4450-6105","J6I3187","5550","5031010A96",54666,"BRIDGE APPROACH SLAB (MAJOR)","E042","",0,null,"","","","","","","",0,0,0,0,0,0,0]
[null,null,"100510..CPCMLD","220218-F06 - 2 Lines 4450-6105","J6I3187","5580","703421296",54668,"SLAB ON STEEL","E042","",0,null,"","","","","","","",0,0,0,0,0,0,0]
[null,null,"100510..CPCMLD","220218-F06 - 2 Lines 4450-6105","J6I3187","5590","7034219A96",54669,"TYPE D BARRIER","E042","",0,null,"","","","","","","",0,0,0,0,0,0,0]
[null,null,"100510..CPCMLD","220218-F06 - 2 Lines 4450-6105","J6I3187","5710","5031010A96",54680,"BRIDGE APPROACH SLAB (MAJOR)","E042","",0,null,"","","","","","","",0,0,0,0,0,0,0]
[null,null,"100510..CPCMLD","220218-F06 - 2 Lines 4450-6105","J6I3187","5740","703421296",54682,"SLAB ON STEEL","E042","",0,null,"","","","","","","",0,0,0,0,0,0,0]
[null,null,"100510..CPCMLD","220218-F06 - 2 Lines 4450-6105","J6I3187","5750","7034219A96",54683,"TYPE D BARRIER","E042","",0,null,"","","","","","","",0,0,0,0,0,0,0]
[null,null,"100510..CPCMLD","220218-F06 - 2 Lines 4450-6105","J6I3149","6009","7049904",64167,"Sign truss base repair - median","E042","",0,null,"","","","","","","",0,0,0,0,0,0,0]
[null,null,"100510..CPCMLD","220218-F06 - 2 Lines 4450-6105","J6I3149","6015","7049901",81148,"Barrier and Wing Wall Repair","E042","",0,null,"","","","","","","",0,0,0,0,0,0,0]
[null,null,"100510..CPCMLD","220218-F06 - 2 Lines 4450-6105","J6I3187","6105","7049904",73349,"Sign Truss Base Repair - Median","E042","",0,null,"","","","","","","",0,0,0,0,0,0,0]
[null,null,"100510..CPCMLD","220218-F06 - 3 Lines 2640-4440","J6I3149","2640","703421496",54403,"CLASS B-2 CONCRETE","E042","",0,null,"","","","","","","",0,0,0,0,0,0,0]
[null,null,"100510..CPCMLD","220218-F06 - 3 Lines 2640-4440","J6I3149","2770","5031010A96",54414,"BRIDGE APPROACH SLAB (MAJOR)","E042","",0,null,"","","","","","","",0,0,0,0,0,0,0]
[null,null,"100510..CPCMLD","220218-F06 - 3 Lines 2640-4440","J6I3149","2780","703421296",54415,"SLAB ON STEEL","E042","",0,null,"","","","","","","",0,0,0,0,0,0,0]
[null,null,"100510..CPCMLD","220218-F06 - 3 Lines 2640-4440","J6I3149","2790","7034219A96",54416,"TYPE D BARRIER","E042","",0,null,"","","","","","","",0,0,0,0,0,0,0]
[null,null,"100510..CPCMLD","220218-F06 - 3 Lines 2640-4440","J6I3149","2960","5031010A96",54430,"BRIDGE APPROACH SLAB (MAJOR)","E042","",0,null,"","","","","","","",0,0,0,0,0,0,0]
[null,null,"100510..CPCMLD","220218-F06 - 3 Lines 2640-4440","J6I3149","2970","703421296",54431,"SLAB ON STEEL","E042","",0,null,"","","","","","","",0,0,0,0,0,0,0]
[null,null,"100510..CPCMLD","220218-F06 - 3 Lines 2640-4440","J6I3149","2980","7034219A96",54432,"TYPE D BARRIER","E042","",0,null,"","","","","","","",0,0,0,0,0,0,0]
[null,null,"100510..CPCMLD","220218-F06 - 3 Lines 2640-4440","J6I3149","3000","704010196",54434,"SUBSTRUCTURE REPAIR (FORMED)","E042","",0,null,"","","","","","","",0,0,0,0,0,0,0]
[null,null,"100510..CPCMLD","220218-F06 - 3 Lines 2640-4440","J6I3149","3160","5031010A96",54444,"BRIDGE APPROACH SLAB (MAJOR)","E042","",0,null,"","","","","","","",0,0,0,0,0,0,0]
[null,null,"100510..CPCMLD","220218-F06 - 3 Lines 2640-4440","J6I3149","3210","703421496",54446,"CLASS B-2 CONCRETE","E042","",0,null,"","","","","","","",0,0,0,0,0,0,0]
[null,null,"100510..CPCMLD","220218-F06 - 3 Lines 2640-4440","J6I3149","3220","703421596",54447,"TYPE B BARRIER","E042","",0,null,"","","","","","","",0,0,0,0,0,0,0]
[null,null,"100510..CPCMLD","220218-F06 - 3 Lines 2640-4440","J6I3149","3350","5031010A96",54455,"BRIDGE APPROACH SLAB (MAJOR)","E042","",0,null,"","","","","","","",0,0,0,0,0,0,0]
[null,null,"100510..CPCMLD","220218-F06 - 3 Lines 2640-4440","J6I3149","3400","703421496",54457,"CLASS B-2 CONCRETE","E042","",0,null,"","","","","","","",0,0,0,0,0,0,0]
[null,null,"100510..CPCMLD","220218-F06 - 3 Lines 2640-4440","J6I3149","3410","703421596",54458,"TYPE B BARRIER","E042","",0,null,"","","","","","","",0,0,0,0,0,0,0]
[null,null,"100510..CPCMLD","220218-F06 - 3 Lines 2640-4440","J6I3187","3690","502131096",54478,"CONCRETE PAVEMENT (10 IN. NON-REINFORCED 15 FT. JOINTS)","E042","",0,null,"","","","","","","",0,0,0,0,0,0,0]
[null,null,"100510..CPCMLD","220218-F06 - 3 Lines 2640-4440","J6I3187","3700","504100096",54479,"CONCRETE APPROACH PAVEMENT","E042","",0,null,"","","","","","","",0,0,0,0,0,0,0]
[null,null,"100510..CPCMLD","220218-F06 - 3 Lines 2640-4440","J6I3187","3730","608300696",54481,"6 IN. CONCRETE MEDIAN STRIP","E042","",0,null,"","","","","","","",0,0,0,0,0,0,0]
[null,null,"100510..CPCMLD","220218-F06 - 3 Lines 2640-4440","J6I3187","3740","609101096",54482,"CONCRETE CURB (6 IN. HEIGHT AND UNDER) TYPE S","E042","",0,null,"","","","","","","",0,0,0,0,0,0,0]
[null,null,"100510..CPCMLD","220218-F06 - 3 Lines 2640-4440","J6I3187","3750","609104196",54483,"CONCRETE GUTTER TYPE A","E042","",0,null,"","","","","","","",0,0,0,0,0,0,0]
[null,null,"100510..CPCMLD","220218-F06 - 3 Lines 2640-4440","J6I3187","3760","6099903",54706,"Concrete Curb Under Guardrail","E042","",0,null,"","","","","","","",0,0,0,0,0,0,0]
[null,null,"100510..CPCMLD","220218-F06 - 3 Lines 2640-4440","J6I3187","3790","6116010A96",54485,"SLOPE PROTECTION","E042","",0,null,"","","","","","","",0,0,0,0,0,0,0]
[null,null,"100510..CPCMLD","220218-F06 - 3 Lines 2640-4440","J6I3187","3840","613101096",54489,"FURNISHING AND PLACING CONCRETE MATERIAL FOR FULL DEPTH PAVEMENT REPAIR","E042","",0,null,"","","","","","","",0,0,0,0,0,0,0]
[null,null,"100510..CPCMLD","220218-F06 - 3 Lines 2640-4440","J6I3187","3930","617300096",54511,"CONCRETE TRAFFIC BARRIER, TYPE C","E042","",0,null,"","","","","","","",0,0,0,0,0,0,0]
[null,null,"100510..CPCMLD","220218-F06 - 3 Lines 2640-4440","J6I3187","3990","6179903",54802,"Concrete Traffic Barrier, Type C (Modified)","E042","",0,null,"","","","","","","",0,0,0,0,0,0,0]
[null,null,"100510..CPCMLD","220218-F06 - 3 Lines 2640-4440","J6I3187","4120","7319902",54804,"Inlet Top Replacement (In Kind)","E042","",0,null,"","","","","","","",0,0,0,0,0,0,0]
[null,null,"100510..CPCMLD","220218-F06 - 3 Lines 2640-4440","J6I3187","4300","5031010A96",54572,"BRIDGE APPROACH SLAB (MAJOR)","E042","",0,null,"","","","","","","",0,0,0,0,0,0,0]
[null,null,"100510..CPCMLD","220218-F06 - 3 Lines 2640-4440","J6I3187","4310","703421296",54573,"SLAB ON STEEL","E042","",0,null,"","","","","","","",0,0,0,0,0,0,0]
[null,null,"100510..CPCMLD","220218-F06 - 3 Lines 2640-4440","J6I3187","4320","703421496",54574,"CLASS B-2 CONCRETE","E042","",0,null,"","","","","","","",0,0,0,0,0,0,0]
[null,null,"100510..CPCMLD","220218-F06 - 3 Lines 2640-4440","J6I3187","4330","7034219A96",54575,"TYPE D BARRIER","E042","",0,null,"","","","","","","",0,0,0,0,0,0,0]
[null,null,"100510..CPCMLD","220218-F06 - 3 Lines 2640-4440","J6I3187","4410","5031010A96",54580,"BRIDGE APPROACH SLAB (MAJOR)","E042","",0,null,"","","","","","","",0,0,0,0,0,0,0]
[null,null,"100510..CPCMLD","220218-F06 - 3 Lines 2640-4440","J6I3187","4420","703421296",54581,"SLAB ON STEEL","E042","",0,null,"","","","","","","",0,0,0,0,0,0,0]
[null,null,"100510..CPCMLD","220218-F06 - 3 Lines 2640-4440","J6I3187","4430","703421496",54582,"CLASS B-2 CONCRETE","E042","",0,null,"","","","","","","",0,0,0,0,0,0,0]
[null,null,"100510..CPCMLD","220218-F06 - 3 Lines 2640-4440","J6I3187","4440","7034219A96",54583,"TYPE D BARRIER","E042","",0,null,"","","","","","","",0,0,0,0,0,0,0]
[null,null,"100510..CPCMLD","220218-F06 - 4 Lines 0110-2590","J6I3149","0110","504100096",54329,"CONCRETE APPROACH PAVEMENT","E042","",0,null,"","","","","","","",0,0,0,0,0,0,0]
[null,null,"100510..CPCMLD","220218-F06 - 4 Lines 0110-2590","J6I3149","0120","608300696",54330,"6 IN. CONCRETE MEDIAN STRIP","E042","",0,null,"","","","","","","",0,0,0,0,0,0,0]
[null,null,"100510..CPCMLD","220218-F06 - 4 Lines 0110-2590","J6I3149","0130","608600496",54331,"CONCRETE SIDEWALK, 4 IN.","E042","",0,null,"","","","","","","",0,0,0,0,0,0,0]
[null,null,"100510..CPCMLD","220218-F06 - 4 Lines 0110-2590","J6I3149","0140","609105296",54332,"CURB AND GUTTER TYPE B","E042","",0,null,"","","","","","","",0,0,0,0,0,0,0]
[null,null,"100510..CPCMLD","220218-F06 - 4 Lines 0110-2590","J6I3149","0150","6099903",54692,"Concrete Curb Under Guardrail","E042","",0,null,"","","","","","","",0,0,0,0,0,0,0]
[null,null,"100510..CPCMLD","220218-F06 - 4 Lines 0110-2590","J6I3149","0160","6116010A96",54333,"SLOPE PROTECTION","E042","",0,null,"","","","","","","",0,0,0,0,0,0,0]
[null,null,"100510..CPCMLD","220218-F06 - 4 Lines 0110-2590","J6I3149","0210","613101096",54337,"FURNISHING AND PLACING CONCRETE MATERIAL FOR FULL DEPTH PAVEMENT REPAIR","E042","",0,null,"","","","","","","",0,0,0,0,0,0,0]
[null,null,"100510..CPCMLD","220218-F06 - 4 Lines 0110-2590","J6I3149","0270","617200096",54340,"CONCRETE TRAFFIC BARRIER, TYPE B","E042","",0,null,"","","","","","","",0,0,0,0,0,0,0]
[null,null,"100510..CPCMLD","220218-F06 - 4 Lines 0110-2590","J6I3149","0280","617300096",54341,"CONCRETE TRAFFIC BARRIER, TYPE C","E042","",0,null,"","","","","","","",0,0,0,0,0,0,0]
[null,null,"100510..CPCMLD","220218-F06 - 4 Lines 0110-2590","J6I3149","0450","7319902",54761,"Inlet Top Replacement (In Kind)","E042","",0,null,"","","","","","","",0,0,0,0,0,0,0]
[null,null,"100510..CPCMLD","220218-F06 - 4 Lines 0110-2590","J6I3149","0720","5031010A96",54536,"BRIDGE APPROACH SLAB (MAJOR)","E042","",0,null,"","","","","","","",0,0,0,0,0,0,0]
[null,null,"100510..CPCMLD","220218-F06 - 4 Lines 0110-2590","J6I3149","0770","703421496",54538,"CLASS B-2 CONCRETE","E042","",0,null,"","","","","","","",0,0,0,0,0,0,0]
[null,null,"100510..CPCMLD","220218-F06 - 4 Lines 0110-2590","J6I3149","0780","7039903",54762,"Median Barrier Transition (Type B)","E042","",0,null,"","","","","","","",0,0,0,0,0,0,0]
[null,null,"100510..CPCMLD","220218-F06 - 4 Lines 0110-2590","J6I3149","0930","5031010A96",54547,"BRIDGE APPROACH SLAB (MAJOR)","E042","",0,null,"","","","","","","",0,0,0,0,0,0,0]
[null,null,"100510..CPCMLD","220218-F06 - 4 Lines 0110-2590","J6I3149","0980","703421496",54549,"CLASS B-2 CONCRETE","E042","",0,null,"","","","","","","",0,0,0,0,0,0,0]
[null,null,"100510..CPCMLD","220218-F06 - 4 Lines 0110-2590","J6I3149","1130","5031010A96",54558,"BRIDGE APPROACH SLAB (MAJOR)","E042",{"$f":"IF(C419=$C$162,D419,\"\")","v":""},0,null,{"$f":"(IF(K419=\"\",\"\",IF(OR(D419=$J$33,D419=$T$33, D419=$O$33),D419,\"\")))","v":""},{"$f":"IF(N419=\"\",\"\",F419)","v":""},{"$f":"IF(N419=\"\", \"\", E419)","v":""},{"$f":"IF(N419=\"\", \"\", G419)","v":""},"","","",0,0,0,0,0,0,0]
[null,null,"100510..CPCMLD","220218-F06 - 4 Lines 0110-2590","J6I3149","1180","703421496",54560,"CLASS B-2 CONCRETE","E042","",0,null,"","","","",{"$f":"IF(N420=\"\",\"\",I420)","v":""},{"$f":"IF(N420=\"\",\"\",J420)","v":""},{"$f":"IF(N420=\"\",\"\",H420)","v":""},0,0,0,0,0,0,0]
[null,null,"100510..CPCMLD","220218-F06 - 4 Lines 0110-2590","J6I3149","1190","7039903",54771,"Median Barrier Transition (Type B)","E042","",0,null,"","","","","","","",0,0,0,0,0,0,0]
[null,null,"100510..CPCMLD","220218-F06 - 4 Lines 0110-2590","J6I3149","1340","5031010A96",54300,"BRIDGE APPROACH SLAB (MAJOR)","E042","",0,null,"","","","","","","",0,0,0,0,0,0,0]
[null,null,"100510..CPCMLD","220218-F06 - 4 Lines 0110-2590","J6I3149","1390","703421496",54302,"CLASS B-2 CONCRETE","E042","",0,null,"","","","","","","",0,0,0,0,0,0,0]
[null,null,"100510..CPCMLD","220218-F06 - 4 Lines 0110-2590","J6I3149","1540","5031010A96",54311,"BRIDGE APPROACH SLAB (MAJOR)","E042","",0,null,"","","","","","","",0,0,0,0,0,0,0]
[null,null,"100510..CPCMLD","220218-F06 - 4 Lines 0110-2590","J6I3149","1590","703421496",54313,"CLASS B-2 CONCRETE","E042","",0,null,"","","","","","","",0,0,0,0,0,0,0]
[null,null,"100510..CPCMLD","220218-F06 - 4 Lines 0110-2590","J6I3149","1600","7039903",54778,"Median Barrier Transition (Type B)","E042","",0,null,"","","","","","","",0,0,0,0,0,0,0]
[null,null,"100510..CPCMLD","220218-F06 - 4 Lines 0110-2590","J6I3149","1760","5031010A96",54351,"BRIDGE APPROACH SLAB (MAJOR)","E042","",0,null,"","","","","","","",0,0,0,0,0,0,0]
[null,null,"100510..CPCMLD","220218-F06 - 4 Lines 0110-2590","J6I3149","1810","703421496",54353,"CLASS B-2 CONCRETE","E042","",0,null,"","","","","","","",0,0,0,0,0,0,0]
[null,null,"100510..CPCMLD","220218-F06 - 4 Lines 0110-2590","J6I3149","1950","5031010A96",54362,"BRIDGE APPROACH SLAB (MAJOR)","E042","",0,null,"","","","","","","",0,0,0,0,0,0,0]
[null,null,"100510..CPCMLD","220218-F06 - 4 Lines 0110-2590","J6I3149","2000","703421496",54364,"CLASS B-2 CONCRETE","E042","",0,null,"","","","","","","",0,0,0,0,0,0,0]
[null,null,"100510..CPCMLD","220218-F06 - 4 Lines 0110-2590","J6I3149","2170","5031010A96",54375,"BRIDGE APPROACH SLAB (MAJOR)","E042","",0,null,"","","","","","","",0,0,0,0,0,0,0]
[null,null,"100510..CPCMLD","220218-F06 - 4 Lines 0110-2590","J6I3149","2220","703421496",54377,"CLASS B-2 CONCRETE","E042","",0,null,"","","","","","","",0,0,0,0,0,0,0]
[null,null,"100510..CPCMLD","220218-F06 - 4 Lines 0110-2590","J6I3149","2380","5031010A96",54388,"BRIDGE APPROACH SLAB (MAJOR)","E042","",0,null,"","","","","","","",0,0,0,0,0,0,0]
[null,null,"100510..CPCMLD","220218-F06 - 4 Lines 0110-2590","J6I3149","2430","703421496",54390,"CLASS B-2 CONCRETE","E042","",0,null,"","","","","","","",0,0,0,0,0,0,0]
[null,null,"100510..CPCMLD","220218-F06 - 4 Lines 0110-2590","J6I3149","2440","703421596",54391,"TYPE B BARRIER","E042","",0,null,"","","","","","","",0,0,0,0,0,0,0]
[null,null,"100510..CPCMLD","220218-F06 - 4 Lines 0110-2590","J6I3149","2590","5031010A96",54401,"BRIDGE APPROACH SLAB (MAJOR)","E042","",0,null,"","","","","","","",0,0,0,0,0,0,0]
[null,null,"100510..CPCMLD","220520-G06","J8P3032C","0135","502130596",58575,"CONCRETE PAVEMENT (5 3/4 IN. NON-REINFORCED, 15 FT. JOINTS)","E042","",0,null,"","","","","","","",0,0,0,0,0,0,0]
[null,null,"100510..CPCMLD","220520-G06","J8P3032C","0137","502131296",57543,"CONCRETE PAVEMENT (12 IN. NON-REINFORCED 15 FT. JOINTS)","E042","",0,null,"","","","","","","",0,0,0,0,0,0,0]
[null,null,"100510..CPCMLD","220520-G06","J8P3032C","0150","608600496",57545,"CONCRETE SIDEWALK, 4 IN.","E042","",0,null,"","","","","","","",0,0,0,0,0,0,0]
[null,null,"100510..CPCMLD","220520-G06","J8P3032C","0170","6116010A96",57547,"SLOPE PROTECTION","E042","",0,null,"","","","","","","",0,0,0,0,0,0,0]
[null,null,"100510..CPCMLD","220520-G06","J8P3032C","0310","617300096",57560,"CONCRETE TRAFFIC BARRIER, TYPE C","E042","",0,null,"","","","","","","",0,0,0,0,0,0,0]
[null,null,"100510..CPCMLD","220520-G06","J8P3032C","0320","617310196",57561,"CONCRETE TRAFFIC BARRIER, TYPE D (MODIFIED)","E042","",0,null,"","","","","","","",0,0,0,0,0,0,0]
[null,null,"100510..CPCMLD","220520-G06","J8P3032C","0470","7209904",70519,"SOUND WALL SYSTEMS","E042","",0,null,"","","","","","","",0,0,0,0,0,0,0]
[null,null,"100510..CPCMLD","220520-G06","J8P3032C","0630","502133396",57582,"CONCRETE PAVEMENT (9 1/2 IN. NON-REINFORCED, 15 FT. JOINTS)","E042","",0,null,"","","","","","","",0,0,0,0,0,0,0]
[null,null,"100510..CPCMLD","220520-G06","J8P3032C","0640","401015096",78913,"TYPE A2 SHOULDER","E042","",0,null,"","","","","","","",0,0,0,0,0,0,0]
[null,null,"100510..CPCMLD","220520-G06","J8P3032C","0720","903102096",57588,"CONCRETE FOOTINGS, BOLT DOWN","E042","",0,null,"","","","","","","",0,0,0,0,0,0,0]
[null,null,"100510..CPCMLD","220520-G06","J8P3032C","0820","5031010A96",57593,"BRIDGE APPROACH SLAB (MAJOR)","E042","",0,null,"","","","","","","",0,0,0,0,0,0,0]
[null,null,"100510..CPCMLD","220520-G06","J8P3032C","0840","701110696",57595,"DRILLED SHAFTS (4 FT. 0 IN. DIA.)","E042","",0,null,"","","","","","","",0,0,0,0,0,0,0]
[null,null,"100510..CPCMLD","220520-G06","J8P3032C","0850","701120596",57596,"ROCK SOCKETS (3 FT 6 IN. DIA.)","E042","",0,null,"","","","","","","",0,0,0,0,0,0,0]
[null,null,"100510..CPCMLD","220520-G06","J8P3032C","0910","703200396",57599,"CLASS B CONCRETE (SUBSTRUCTURE)","E042","",0,null,"","","","","","","",0,0,0,0,0,0,0]
[null,null,"100510..CPCMLD","220520-G06","J8P3032C","0920","703421396",57600,"SLAB ON CONCRETE I-GIRDER","E042","",0,null,"","","","","","","",0,0,0,0,0,0,0]
[null,null,"100510..CPCMLD","220520-G06","J8P3032C","0930","7034219A96",57601,"TYPE D BARRIER","E042","",0,null,"","","","","","","",0,0,0,0,0,0,0]
[null,null,"100510..CPCMLD","220520-G06","J8P3032C","1100","5031010A96",57612,"BRIDGE APPROACH SLAB (MAJOR)","E042","",0,null,"","","","","","","",0,0,0,0,0,0,0]
[null,null,"100510..CPCMLD","220520-G06","J8P3032C","1120","701110696",57614,"DRILLED SHAFTS (4 FT. 0 IN. DIA.)","E042","",0,null,"","","","","","","",0,0,0,0,0,0,0]
[null,null,"100510..CPCMLD","220520-G06","J8P3032C","1130","701120596",57615,"ROCK SOCKETS (3 FT 6 IN. DIA.)","E042","",0,null,"","","","","","","",0,0,0,0,0,0,0]
[null,null,"100510..CPCMLD","220520-G06","J8P3032C","1190","703200396",57618,"CLASS B CONCRETE (SUBSTRUCTURE)","E042","",0,null,"","","","","","","",0,0,0,0,0,0,0]
[null,null,"100510..CPCMLD","220520-G06","J8P3032C","1200","703421396",57619,"SLAB ON CONCRETE I-GIRDER","E042","",0,null,"","","","","","","",0,0,0,0,0,0,0]
[null,null,"100510..CPCMLD","220520-G06","J8P3032C","1210","7034219A96",57620,"TYPE D BARRIER","E042","",0,null,"","","","","","","",0,0,0,0,0,0,0]
[null,null,"100510..CPCMLD","220520-G06","J8P3032D","1437","502131296",57648,"CONCRETE PAVEMENT (12 IN. NON-REINFORCED 15 FT. JOINTS)","E042","",0,null,"","","","","","","",0,0,0,0,0,0,0]
[null,null,"100510..CPCMLD","220520-G06","J8P3032D","1470","6116010A96",57651,"SLOPE PROTECTION","E042","",0,null,"","","","","","","",0,0,0,0,0,0,0]
[null,null,"100510..CPCMLD","220520-G06","J8P3032D","1590","617300096",57663,"CONCRETE TRAFFIC BARRIER, TYPE C","E042","",0,null,"","","","","","","",0,0,0,0,0,0,0]
[null,null,"100510..CPCMLD","220520-G06","J8P3032D","1600","617310196",57664,"CONCRETE TRAFFIC BARRIER, TYPE D (MODIFIED)","E042","",0,null,"","","","","","","",0,0,0,0,0,0,0]
[null,null,"100510..CPCMLD","220520-G06","J8P3032D","1750","7209904",70518,"SOUND WALL SYSTEMS","E042","",0,null,"","","","","","","",0,0,0,0,0,0,0]
[null,null,"100510..CPCMLD","220520-G06","J8P3032D","1920","502133396",57684,"CONCRETE PAVEMENT (9 1/2 IN. NON-REINFORCED, 15 FT. JOINTS)","E042","",0,null,"","","","","","","",0,0,0,0,0,0,0]
[null,null,"100510..CPCMLD","220520-G06","J8P3032D","1930","401015096",78912,"TYPE A2 SHOULDER","E042","",0,null,"","","","","","","",0,0,0,0,0,0,0]
[null,null,"100510..CPCMLD","220520-G06","J8P3032D","2020","903101096",57688,"CONCRETE FOOTINGS, EMBEDDED","E042","",0,null,"","","","","","","",0,0,0,0,0,0,0]
[null,null,"100510..CPCMLD","220520-G06","J8P3223","2240","502131296",60676,"CONCRETE PAVEMENT (12 IN. NON-REINFORCED 15 FT. JOINTS)","E042","",0,null,"","","","","","","",0,0,0,0,0,0,0]
[null,null,"100510..CPCMLD","220520-G06","J8P3223","2460","5031010A96",57711,"BRIDGE APPROACH SLAB (MAJOR)","E042","",0,null,"","","","","","","",0,0,0,0,0,0,0]
[null,null,"100510..CPCMLD","220520-G06","J8P3223","2490","5031010A96",57712,"BRIDGE APPROACH SLAB (MAJOR)","E042","",0,null,"","","","","","","",0,0,0,0,0,0,0]
[null,null,"100510..CPCMLD","220520-G06","J8P3032C","5024","504100096",96381,"CONCRETE APPROACH PAVEMENT","E042","",0,null,"","","","","","","",0,0,0,0,0,0,0]
[null,null,"100510..CPCMLD","220520-G06","J8P3032C","5031","6179901",111942,"Type C Barrier Wall Replacement","E042","",0,null,"","","","","","","",0,0,0,0,0,0,0]
[null,null,"100510..CPCMLD","220715-F01","J6I3020C","0180","401015096",60320,"TYPE A2 SHOULDER","E042","",0,null,"","","","","","","",0,0,0,0,0,0,0]
[null,null,"100510..CPCMLD","220715-F01","J6I3020C","0190","401990596",60321,"OPTIONAL TEMPORARY PAVEMENT","E042","",0,null,"","","","","","","",0,0,0,0,0,0,0]
[null,null,"100510..CPCMLD","220715-F01","J6I3020C","0200","502111096",60322,"CONCRETE PAVEMENT (10 IN. NON-REINF)","E042","",0,null,"","","","","","","",0,0,0,0,0,0,0]
[null,null,"100510..CPCMLD","220715-F01","J6I3020C","0210","502131196",60323,"CONCRETE PAVEMENT (11 IN. NON-REINFORCED 15 FT. JOINTS)","E042","",0,null,"","","","","","","",0,0,0,0,0,0,0]
[null,null,"100510..CPCMLD","220715-F01","J6I3020C","0220","502133396",60324,"CONCRETE PAVEMENT (9 1/2 IN. NON-REINFORCED, 15 FT. JOINTS)","E042","",0,null,"","","","","","","",0,0,0,0,0,0,0]
[null,null,"100510..CPCMLD","220715-F01","J6I3020C","0230","504100096",60325,"CONCRETE APPROACH PAVEMENT","E042","",0,null,"","","","","","","",0,0,0,0,0,0,0]
[null,null,"100510..CPCMLD","220715-F01","J6I3020C","0270","604401196",60129,"PIPE COLLAR, TYPE A","E042","",0,null,"","","","","","","",0,0,0,0,0,0,0]
[null,null,"100510..CPCMLD","220715-F01","J6I3020C","0300","607110296",60132,"MODIFIED CONCRETE GUTTER TYPE B","E042","",0,null,"","","","","","","",0,0,0,0,0,0,0]
[null,null,"100510..CPCMLD","220715-F01","J6I3020C","0310","608300696",60133,"6 IN. CONCRETE MEDIAN STRIP","E042","",0,null,"","","","","","","",0,0,0,0,0,0,0]
[null,null,"100510..CPCMLD","220715-F01","J6I3020C","0320","609101096",60134,"CONCRETE CURB (6 IN. HEIGHT AND UNDER) TYPE S","E042","",0,null,"","","","","","","",0,0,0,0,0,0,0]
[null,null,"100510..CPCMLD","220715-F01","J6I3020C","0330","609104196",60135,"CONCRETE GUTTER TYPE A","E042","",0,null,"","","","","","","",0,0,0,0,0,0,0]
[null,null,"100510..CPCMLD","220715-F01","J6I3020C","0540","617300096",60151,"CONCRETE TRAFFIC BARRIER, TYPE C","E042",{"$f":"IF(C483=$C$162,D483,\"\")","v":""},0,null,{"$f":"(IF(K483=\"\",\"\",IF(OR(D483=$J$33,D483=$T$33, D483=$O$33),D483,\"\")))","v":""},{"$f":"IF(N483=\"\",\"\",F483)","v":""},{"$f":"IF(N483=\"\", \"\", E483)","v":""},{"$f":"IF(N483=\"\", \"\", G483)","v":""},"","","",0,0,0,0,0,0,0]
[null,null,"100510..CPCMLD","220715-F01","J6I3020C","0550","617310096",60152,"CONCRETE TRAFFIC BARRIER, TYPE D","E042","",0,null,"","","","",{"$f":"IF(N484=\"\",\"\",I484)","v":""},{"$f":"IF(N484=\"\",\"\",J484)","v":""},{"$f":"IF(N484=\"\",\"\",H484)","v":""},0,0,0,0,0,0,0]
[null,null,"100510..CPCMLD","220715-F01","J6I3020C","0560","617310196",60153,"CONCRETE TRAFFIC BARRIER, TYPE D (MODIFIED)","E042","",0,null,"","","","","","","",0,0,0,0,0,0,0]
[null,null,"100510..CPCMLD","220715-F01","J6I3020C","0810","7309903",68096,"ACO HIGHWAYDRAIN HD200","E042","",0,null,"","","","","","","",0,0,0,0,0,0,0]
[null,null,"100510..CPCMLD","220715-F01","J6I3020C","1070","606411096",60193,"ANCHOR ASSEMBLY, GUARD CABLE 3-STRAND","E042","",0,null,"","","","","","","",0,0,0,0,0,0,0]
[null,null,"100510..CPCMLD","220715-F01","J6I3020C","1480","902910096",60232,"BASE, CONCRETE","E042","",0,null,"","","","","","","",0,0,0,0,0,0,0]
[null,null,"100510..CPCMLD","220715-F01","J6I3020C","1550","903101096",60239,"CONCRETE FOOTINGS, EMBEDDED","E042","",0,null,"","","","","","","",0,0,0,0,0,0,0]
[null,null,"100510..CPCMLD","220715-F01","J6I3020C","1560","903102096",60240,"CONCRETE FOOTINGS, BOLT DOWN","E042","",0,null,"","","","","","","",0,0,0,0,0,0,0]
[null,null,"100510..CPCMLD","220715-F01","J6I3020C","1830","9109902",60263,"CCTV POLE FOUNDATION, 70 FT MT. HEIGHT","E042","",0,null,"","","","","","","",0,0,0,0,0,0,0]
[null,null,"100510..CPCMLD","220715-F01","J6I3020C","1960","5031010A96",60274,"BRIDGE APPROACH SLAB (MAJOR)","E042","",0,null,"","","","","","","",0,0,0,0,0,0,0]
[null,null,"100510..CPCMLD","220715-F01","J6I3020C","1970","701110796",60275,"DRILLED SHAFTS (4 FT. 6 IN. DIA.)","E042","",0,null,"","","","","","","",0,0,0,0,0,0,0]
[null,null,"100510..CPCMLD","220715-F01","J6I3020C","1980","701120696",60276,"ROCK SOCKETS (4 FT  0 IN. DIA.)","E042","",0,null,"","","","","","","",0,0,0,0,0,0,0]
[null,null,"100510..CPCMLD","220715-F01","J6I3020C","2040","703200396",60279,"CLASS B CONCRETE (SUBSTRUCTURE)","E042","",0,null,"","","","","","","",0,0,0,0,0,0,0]
[null,null,"100510..CPCMLD","220715-F01","J6I3020C","2050","7034219A96",60280,"TYPE D BARRIER","E042","",0,null,"","","","","","","",0,0,0,0,0,0,0]
[null,null,"100510..CPCMLD","220715-F01","J6I3020C","2060","703422196",60281,"SLAB ON CONCRETE NU-GIRDER","E042","",0,null,"","","","","","","",0,0,0,0,0,0,0]
[null,null,"100510..CPCMLD","220715-F01","J6I3020C","2150","5031010A96",60289,"BRIDGE APPROACH SLAB (MAJOR)","E042","",0,null,"","","","","","","",0,0,0,0,0,0,0]
[null,null,"100510..CPCMLD","220715-F01","J6I3020C","2160","701110796",60290,"DRILLED SHAFTS (4 FT. 6 IN. DIA.)","E042","",0,null,"","","","","","","",0,0,0,0,0,0,0]
[null,null,"100510..CPCMLD","220715-F01","J6I3020C","2170","701120696",60291,"ROCK SOCKETS (4 FT  0 IN. DIA.)","E042","",0,null,"","","","","","","",0,0,0,0,0,0,0]
[null,null,"100510..CPCMLD","220715-F01","J6I3020C","2230","703200396",60294,"CLASS B CONCRETE (SUBSTRUCTURE)","E042","",0,null,"","","","","","","",0,0,0,0,0,0,0]
[null,null,"100510..CPCMLD","220715-F01","J6I3020C","2240","7034219A96",60295,"TYPE D BARRIER","E042","",0,null,"","","","","","","",0,0,0,0,0,0,0]
[null,null,"100510..CPCMLD","220715-F01","J6I3020C","2250","703422196",60296,"SLAB ON CONCRETE NU-GIRDER","E042","",0,null,"","","","","","","",0,0,0,0,0,0,0]
[null,null,"100510..CPCMLD","220715-F01","J6I3020C","2590","701110496",60308,"DRILLED SHAFTS (3 FT. 0 IN. DIA.)","E042","",0,null,"","","","","","","",0,0,0,0,0,0,0]
[null,null,"100510..CPCMLD","220715-F01","J6I3020C","2600","701120396",60309,"ROCK SOCKETS (2 FT  6IN. DIA.)","E042","",0,null,"","","","","","","",0,0,0,0,0,0,0]
[null,null,"100510..CPCMLD","220715-F01","J6I3020C","2610","702990396",60310,"GALVANIZED SOLDIER PILES (W18x119)","E042","",0,null,"","","","","","","",0,0,0,0,0,0,0]
[null,null,"100510..CPCMLD","220715-F01","J6I3020C","5003","613101096",77600,"FURNISHING AND PLACING CONCRETE MATERIAL FOR FULL DEPTH PAVEMENT REPAIR","E042","",0,null,"","","","","","","",0,0,0,0,0,0,0]
[null,null,"100510..CPCMLD","220715-F01","J6I3020C","5015","502111296",86851,"CONCRETE PAVEMENT (12 INCH NON-REINFORCED)","E042","",0,null,"","","","","","","",0,0,0,0,0,0,0]
[null,null,"100510..CPCMLD","220715-F01","J6I3020C","5017","6173001",88101,"CONCRETE TRAFFIC BARRIER, TYPE C (RETAINING WALL)","E042","",0,null,"","","","","","","",0,0,0,0,0,0,0]
[null,null,"100510..CPCMLD","221118-A08","J1S3392","0170","403990596",65977,"OPTIONAL PAVEMENT A","E042","",0,null,"","","","","","","",0,0,0,0,0,0,0]
[null,null,"100510..CPCMLD","221118-A08","J1S3392","0260","608600796",66010,"CONCRETE SIDEWALK, 7 IN.","E042","",0,null,"","","","","","","",0,0,0,0,0,0,0]
[null,null,"100510..CPCMLD","221118-A08","J1S3392","0270","609101096",66011,"CONCRETE CURB (6 IN. HEIGHT AND UNDER) TYPE S","E042","",0,null,"","","","","","","",0,0,0,0,0,0,0]
[null,null,"100510..CPCMLD","221118-A08","J1S3392","1480","5031010A96",66090,"BRIDGE APPROACH SLAB (MAJOR)","E042","",0,null,"","","","","","","",0,0,0,0,0,0,0]
[null,null,"100510..CPCMLD","221118-A08","J1S3392","1520","701110996",66092,"DRILLED SHAFTS (5 FT. 6 IN. DIA.)","E042","",0,null,"","","","","","","",0,0,0,0,0,0,0]
[null,null,"100510..CPCMLD","221118-A08","J1S3392","1530","701120896",66093,"ROCK SOCKETS (5 FT  0 IN. DIA.)","E042","",0,null,"","","","","","","",0,0,0,0,0,0,0]
[null,null,"100510..CPCMLD","221118-A08","J1S3392","1610","703200396",66096,"CLASS B CONCRETE (SUBSTRUCTURE)","E042","",0,null,"","","","","","","",0,0,0,0,0,0,0]
[null,null,"100510..CPCMLD","221118-A08","J1S3392","1620","703421696",66097,"TYPE H BARRIER","E042","",0,null,"","","","","","","",0,0,0,0,0,0,0]
[null,null,"100510..CPCMLD","221118-A08","J1S3392","1630","703422196",66098,"SLAB ON CONCRETE NU-GIRDER","E042","",0,null,"","","","","","","",0,0,0,0,0,0,0]
[null,null,"100510..CPCMLD","221118-A08","J1S3392","1720","5031010A96",66106,"BRIDGE APPROACH SLAB (MAJOR)","E042","",0,null,"","","","","","","",0,0,0,0,0,0,0]
[null,null,"100510..CPCMLD","221118-A08","J1S3392","1760","701110896",66108,"DRILLED SHAFTS (5 FT. 0 IN. DIA.)","E042","",0,null,"","","","","","","",0,0,0,0,0,0,0]
[null,null,"100510..CPCMLD","221118-A08","J1S3392","1770","701120796",66109,"ROCK SOCKETS (4 FT  6 IN. DIA.)","E042","",0,null,"","","","","","","",0,0,0,0,0,0,0]
[null,null,"100510..CPCMLD","221118-A08","J1S3392","1850","703200396",65979,"CLASS B CONCRETE (SUBSTRUCTURE)","E042","",0,null,"","","","","","","",0,0,0,0,0,0,0]
[null,null,"100510..CPCMLD","221118-A08","J1S3392","1860","703421696",65980,"TYPE H BARRIER","E042","",0,null,"","","","","","","",0,0,0,0,0,0,0]
[null,null,"100510..CPCMLD","221118-A08","J1S3392","1870","703422196",65981,"SLAB ON CONCRETE NU-GIRDER","E042","",0,null,"","","","","","","",0,0,0,0,0,0,0]
[null,null,"100510..CPCMLD","221118-A08","J1S3392","1980","5031010A96",65991,"BRIDGE APPROACH SLAB (MAJOR)","E042","",0,null,"","","","","","","",0,0,0,0,0,0,0]
[null,null,"100510..CPCMLD","221118-A08","J1S3392","2020","701111096",65993,"DRILLED SHAFTS (6 FT. 0 IN. DIA.)","E042","",0,null,"","","","","","","",0,0,0,0,0,0,0]
[null,null,"100510..CPCMLD","221118-A08","J1S3392","2030","701120996",65994,"ROCK SOCKETS (5 FT  6 IN. DIA.)","E042","",0,null,"","","","","","","",0,0,0,0,0,0,0]
[null,null,"100510..CPCMLD","221118-A08","J1S3392","2110","703200396",65997,"CLASS B CONCRETE (SUBSTRUCTURE)","E042","",0,null,"","","","","","","",0,0,0,0,0,0,0]
[null,null,"100510..CPCMLD","221118-A08","J1S3392","2120","703421696",65998,"TYPE H BARRIER","E042","",0,null,"","","","","","","",0,0,0,0,0,0,0]
[null,null,"100510..CPCMLD","221118-A08","J1S3392","2130","703422196",65999,"SLAB ON CONCRETE NU-GIRDER","E042","",0,null,"","","","","","","",0,0,0,0,0,0,0]
[null,null,"100510..CPCMLD","221118-A08","J1S3392","2220","5031010A96",66007,"BRIDGE APPROACH SLAB (MAJOR)","E042","",0,null,"","","","","","","",0,0,0,0,0,0,0]
[null,null,"100510..CPCMLD","221118-A08","J1S3392","2280","703200396",66114,"CLASS B CONCRETE (SUBSTRUCTURE)","E042","",0,null,"","","","","","","",0,0,0,0,0,0,0]
[null,null,"100510..CPCMLD","221118-A08","J1S3392","2290","703421696",66115,"TYPE H BARRIER","E042","",0,null,"","","","","","","",0,0,0,0,0,0,0]
[null,null,"100510..CPCMLD","221118-A08","J1S3392","2300","703422196",66116,"SLAB ON CONCRETE NU-GIRDER","E042","",0,null,"","","","","","","",0,0,0,0,0,0,0]
[null,null,"100510..CPCMLD","221118-G04","J7S3488","0370","502990596",76092,"CONCRETE PAVEMENT (7 1/2 IN. NON-REINF)","E042","",0,null,"","","","","","","",0,0,0,0,0,0,0]
[null,null,"100510..CPCMLD","221118-G04","J8P0683E","0700","502110896",91581,"CONCRETE PAVEMENT ( 8 IN. NON-REINF)","E042","",0,null,"","","","","","","",0,0,0,0,0,0,0]
[null,null,"100510..CPCMLD","221118-G04","J8P0683E","0710","504100096",64801,"CONCRETE APPROACH PAVEMENT","E042","",0,null,"","","","","","","",0,0,0,0,0,0,0]
[null,null,"100510..CPCMLD","221118-G04","J8P0683E","0730","608300396",64803,"3 IN. CONCRETE MEDIAN STRIP","E042","",0,null,"","","","","","","",0,0,0,0,0,0,0]
[null,null,"100510..CPCMLD","221118-G04","J8P0683E","0740","608300896",64804,"8 IN. CONCRETE MEDIAN STRIP","E042","",0,null,"","","","","","","",0,0,0,0,0,0,0]
[null,null,"100510..CPCMLD","221118-G04","J8P0683E","0750","608500896",64805,"PAVED APPROACH, 8 IN.","E042","",0,null,"","","","","","","",0,0,0,0,0,0,0]
[null,null,"100510..CPCMLD","221118-G04","J8P0683E","0760","609101096",64806,"CONCRETE CURB (6 IN. HEIGHT AND UNDER) TYPE S","E042","",0,null,"","","","","","","",0,0,0,0,0,0,0]
[null,null,"100510..CPCMLD","221118-G04","J8P0683E","0770","609104196",64807,"CONCRETE GUTTER TYPE A","E042","",0,null,"","","","","","","",0,0,0,0,0,0,0]
[null,null,"100510..CPCMLD","221118-G04","J8P0683E","0780","609104296",64808,"CONCRETE GUTTER TYPE B","E042","",0,null,"","","","","","","",0,0,0,0,0,0,0]
[null,null,"100510..CPCMLD","221118-G04","J8P0683E","0790","609105296",64809,"CURB AND GUTTER TYPE B","E042","",0,null,"","","","","","","",0,0,0,0,0,0,0]
[null,null,"100510..CPCMLD","221118-G04","J8P0683E","0800","609106096",64810,"PAVED DITCH","E042","",0,null,"","","","","","","",0,0,0,0,0,0,0]
[null,null,"100510..CPCMLD","221118-G04","J8P0683E","0810","609201196",64811,"INTEGRAL CURB (6 IN. HEIGHT AND UNDER) TYPE A","E042","",0,null,"","","","","","","",0,0,0,0,0,0,0]
[null,null,"100510..CPCMLD","221118-G04","J8P0683E","0820","609201296",64785,"INTEGRAL CURB (6 IN. HEIGHT AND UNDER) TYPE B","E042",{"$f":"IF(C547=$C$162,D547,\"\")","v":""},0,null,{"$f":"(IF(K547=\"\",\"\",IF(OR(D547=$J$33,D547=$T$33, D547=$O$33),D547,\"\")))","v":""},{"$f":"IF(N547=\"\",\"\",F547)","v":""},{"$f":"IF(N547=\"\", \"\", E547)","v":""},{"$f":"IF(N547=\"\", \"\", G547)","v":""},"","","",0,0,0,0,0,0,0]
[null,null,"100510..CPCMLD","221118-G04","J8P0683E","0850","6099903",64934,"TYPE R CURB, 2 INCH","E042","",0,null,"","","","",{"$f":"IF(N548=\"\",\"\",I548)","v":""},{"$f":"IF(N548=\"\",\"\",J548)","v":""},{"$f":"IF(N548=\"\",\"\",H548)","v":""},0,0,0,0,0,0,0]
[null,null,"100510..CPCMLD","221118-G04","J8P0683E","0880","6116010A96",64815,"SLOPE PROTECTION","E042","",0,null,"","","","","","","",0,0,0,0,0,0,0]
[null,null,"100510..CPCMLD","221118-G04","J8P0683E","1060","617300096",64831,"CONCRETE TRAFFIC BARRIER, TYPE C","E042","",0,null,"","","","","","","",0,0,0,0,0,0,0]
[null,null,"100510..CPCMLD","221118-G04","J8P0683E","1360","703404196",64851,"CLASS B-1 CONCRETE (CULVERTS)","E042","",0,null,"","","","","","","",0,0,0,0,0,0,0]
[null,null,"100510..CPCMLD","221118-G04","J8P0683E","1690","502133496",92426,"CONCRETE PAVEMENT (10 1/2 IN. NON-REINFORCED, 15 FT. JOINTS)","E042","",0,null,"","","","","","","",0,0,0,0,0,0,0]
[null,null,"100510..CPCMLD","221118-G04","J8P0683E","1740","502130996",76429,"CONCRETE PAVEMENT (9 IN. NON-REINFORCED 15 FT. JOINTS)","E042","",0,null,"","","","","","","",0,0,0,0,0,0,0]
[null,null,"100510..CPCMLD","221118-G04","J8P0683E","1780","502133196",76430,"CONCRETE PAVEMENT (7 1/2 IN. NON-REINFORCED, 15 FT. JOINTS)","E042","",0,null,"","","","","","","",0,0,0,0,0,0,0]
[null,null,"100510..CPCMLD","221118-G04","J8P0683E","2200","5031010A96dwayne",64768,"BRIDGE APPROACH SLAB (MAJOR)","E042","",0,null,"","","","","","","",0,0,0,0,0,0,0]
[null,null,"100510..CPCMLD","221118-G04","J8P0683E","2210","701110696",64769,"DRILLED SHAFTS (4 FT. 0 IN. DIA.)","E042","",0,null,"","","","","","","",0,0,0,0,0,0,0]
[null,null,"100510..CPCMLD","221118-G04","J8P0683E","2220","701120596",64770,"ROCK SOCKETS (3 FT 6 IN. DIA.)","E042","",0,null,"","","","","","","",0,0,0,0,0,0,0]
[null,null,"100510..CPCMLD","221118-G04","J8P0683E","2290","703200396",64773,"CLASS B CONCRETE (SUBSTRUCTURE)","E042","",0,null,"","","","","","","",0,0,0,0,0,0,0]
[null,null,"100510..CPCMLD","221118-G04","J8P0683E","2300","7034219A96",66363,"TYPE D BARRIER","E042","",0,null,"","","","","","","",0,0,0,0,0,0,0]
[null,null,"100510..CPCMLD","221118-G04","J8P0683E","2310","703422196",66369,"SLAB ON CONCRETE NU-GIRDER","E042","",0,null,"","","","","","","",0,0,0,0,0,0,0]
[null,null,"100510..CPCMLD","221118-G04","J8P0683E","2320","703441196",64776,"TYPE C BARRIER","E042","",0,null,"","","","","","","",0,0,0,0,0,0,0]
[null,null,"100510..CPCMLD","221118-G04","J8P0683E","2430","720100096",64784,"MECHANICALLY STABILIZED EARTH WALL SYSTEMS","E042","",0,null,"","","","","","","",0,0,0,0,0,0,0]
[null,null,"100510..CPCMLD","221118-G04","J8P0683E","2470","720100096",64902,"MECHANICALLY STABILIZED EARTH WALL SYSTEMS","E042","",0,null,"","","","","","","",0,0,0,0,0,0,0]
[null,null,"100510..CPCMLD","221118-G04","J8P0683E","5102","703400196",72058,"CLASS B-1 CONCRETE","E042","",0,null,"","","","","","","",0,0,0,0,0,0,0]
[null,null,"100510..CPCMLD","221118-G04","J8P0683E","5114","613101096",79028,"FURNISHING AND PLACING CONCRETE MATERIAL FOR FULL DEPTH PAVEMENT REPAIR","E042","",0,null,"","","","","","","",0,0,0,0,0,0,0]
[null,null,"100510..CPCMLD","230120-F02","J6I3490","0130","502110896",68647,"CONCRETE PAVEMENT ( 8 IN. NON-REINF)","E042","",0,null,"","","","","","","",0,0,0,0,0,0,0]
[null,null,"100510..CPCMLD","230120-F02","J6I3490","0140","504100096",68648,"CONCRETE APPROACH PAVEMENT","E042","",0,null,"","","","","","","",0,0,0,0,0,0,0]
[null,null,"100510..CPCMLD","230120-F02","J6I3490","0150","6042020",102162,"ADJUSTING BASIN OR INLET","E042","",0,null,"","","","","","","",0,0,0,0,0,0,0]
[null,null,"100510..CPCMLD","230120-F02","J6I3490","0160","609101096",68649,"CONCRETE CURB (6 IN. HEIGHT AND UNDER) TYPE S","E042","",0,null,"","","","","","","",0,0,0,0,0,0,0]
[null,null,"100510..CPCMLD","230120-F02","J6I3490","0270","6149902",68941,"INLET TOP REPLACEMENT","E042","",0,null,"","","","","","","",0,0,0,0,0,0,0]
[null,null,"100510..CPCMLD","230120-F02","J6I3490","0370","617100096",68664,"CONCRETE TRAFFIC BARRIER, TYPE A","E042","",0,null,"","","","","","","",0,0,0,0,0,0,0]
[null,null,"100510..CPCMLD","230120-F02","J6I3490","0380","617300096",68665,"CONCRETE TRAFFIC BARRIER, TYPE C","E042","",0,null,"","","","","","","",0,0,0,0,0,0,0]
[null,null,"100510..CPCMLD","230120-F02","J6I3490","0900","5031010A96",68745,"BRIDGE APPROACH SLAB (MAJOR)","E042","",0,null,"","","","","","","",0,0,0,0,0,0,0]
[null,null,"100510..CPCMLD","230120-F02","J6I3490","0920","703421496",68746,"CLASS B-2 CONCRETE","E042","",0,null,"","","","","","","",0,0,0,0,0,0,0]
[null,null,"100510..CPCMLD","230120-F02","J6I3490","0930","7039903",77208,"MEDIAN BARRIER TRANSITION (TYPE B)","E042","",0,null,"","","","","","","",0,0,0,0,0,0,0]
[null,null,"100510..CPCMLD","230120-F02","J6I3490","0940","7039903",77209,"MEDIAN BARRIER TRANSITION (TYPE D)","E042","",0,null,"","","","","","","",0,0,0,0,0,0,0]
[null,null,"100510..CPCMLD","230120-F02","J6I3490","0950","7039903",89244,"REMOVE AND REPLACE BARRIER","E042","",0,null,"","","","","","","",0,0,0,0,0,0,0]
[null,null,"100510..CPCMLD","230120-F02","J6I3490","1420","703421496",68765,"CLASS B-2 CONCRETE","E042","",0,null,"","","","","","","",0,0,0,0,0,0,0]
[null,null,"100510..CPCMLD","230120-F02","J6I3490","1440","704010696",68767,"FULL DEPTH REPAIR","E042","",0,null,"","","","","","","",0,0,0,0,0,0,0]
[null,null,"100510..CPCMLD","230120-F02","J6I3490","1640","5031010A96",68776,"BRIDGE APPROACH SLAB (MAJOR)","E042","",0,null,"","","","","","","",0,0,0,0,0,0,0]
[null,null,"100510..CPCMLD","230120-F02","J6I3490","1660","703421496",68777,"CLASS B-2 CONCRETE","E042","",0,null,"","","","","","","",0,0,0,0,0,0,0]
[null,null,"100510..CPCMLD","230120-F02","J6I3490","1670","7039903",77214,"MEDIAN BARRIER TRANSITION (TYPE B)","E042","",0,null,"","","","","","","",0,0,0,0,0,0,0]
[null,null,"100510..CPCMLD","230120-F02","J6I3490","1680","7039903",77215,"MEDIAN BARRIER TRANSITION (TYPE D)","E042","",0,null,"","","","","","","",0,0,0,0,0,0,0]
[null,null,"100510..CPCMLD","230120-F02","J6I3490","1690","7039903",77216,"REMOVE AND REPLACE BARRIER","E042","",0,null,"","","","","","","",0,0,0,0,0,0,0]
[null,null,"100510..CPCMLD","230120-F02","J6I3490","1910","703421496",68790,"CLASS B-2 CONCRETE","E042","",0,null,"","","","","","","",0,0,0,0,0,0,0]
[null,null,"100510..CPCMLD","230120-F02","J6I3490","1940","704010696",68793,"FULL DEPTH REPAIR","E042","",0,null,"","","","","","","",0,0,0,0,0,0,0]
[null,null,"100510..CPCMLD","230120-F02","J6I3490","2140","5031010A96",68801,"BRIDGE APPROACH SLAB (MAJOR)","E042","",0,null,"","","","","","","",0,0,0,0,0,0,0]
[null,null,"100510..CPCMLD","230120-F02","J6I3490","2170","703421496",68803,"CLASS B-2 CONCRETE","E042","",0,null,"","","","","","","",0,0,0,0,0,0,0]
[null,null,"100510..CPCMLD","230120-F02","J6I3490","2180","703441096",68804,"TYPE A BARRIER","E042","",0,null,"","","","","","","",0,0,0,0,0,0,0]
[null,null,"100510..CPCMLD","230120-F02","J6I3490","2200","704010696",70351,"FULL DEPTH REPAIR","E042","",0,null,"","","","","","","",0,0,0,0,0,0,0]
[null,null,"100510..CPCMLD","230120-F02","J6I3490","2410","5031010A96",68875,"BRIDGE APPROACH SLAB (MAJOR)","E042","",0,null,"","","","","","","",0,0,0,0,0,0,0]
[null,null,"100510..CPCMLD","230120-F02","J6I3490","2420","702990396",68876,"PILE ENCASEMENT","E042","",0,null,"","","","","","","",0,0,0,0,0,0,0]
[null,null,"100510..CPCMLD","230120-F02","J6I3490","2440","703421296",68878,"SLAB ON STEEL","E042","",0,null,"","","","","","","",0,0,0,0,0,0,0]
[null,null,"100510..CPCMLD","230120-F02","J6I3490","2450","7034219A96",68879,"TYPE D BARRIER","E042","",0,null,"","","","","","","",0,0,0,0,0,0,0]
[null,null,"100510..CPCMLD","230120-F02","J6I3490","2460","703441196",68880,"TYPE C BARRIER","E042","",0,null,"","","","","","","",0,0,0,0,0,0,0]
[null,null,"100510..CPCMLD","230120-F02","J6I3613","2700","605402096",68736,"OUTLET PIPES AND SPLASH PADS","E042","",0,null,"","","","","","","",0,0,0,0,0,0,0]
[null,null,"100510..CPCMLD","230120-F02","J6I3613","2740","613101096",68816,"FURNISHING AND PLACING CONCRETE MATERIAL FOR FULL DEPTH PAVEMENT REPAIR","E042","",0,null,"","","","","","","",0,0,0,0,0,0,0]
[null,null,"100510..CPCMLD","230120-F02","J6P3548","3190","504100096",68896,"CONCRETE APPROACH PAVEMENT","E042","",0,null,"","","","","","","",0,0,0,0,0,0,0]
[null,null,"100510..CPCMLD","230120-F02","J6P3548","3230","6116010A96",68899,"SLOPE PROTECTION","E042","",0,null,"","","","","","","",0,0,0,0,0,0,0]
[null,null,"100510..CPCMLD","230120-F02","J6P3548","3690","5031010A96",68701,"BRIDGE APPROACH SLAB (MAJOR)","E042","",0,null,"","","","","","","",0,0,0,0,0,0,0]
[null,null,"100510..CPCMLD","230120-F02","J6P3548","3730","703421496",68703,"CLASS B-2 CONCRETE","E042","",0,null,"","","","","","","",0,0,0,0,0,0,0]
[null,null,"100510..CPCMLD","230120-F02","J6P3548","3820","5031010A96",68708,"BRIDGE APPROACH SLAB (MAJOR)","E042","",0,null,"","","","","","","",0,0,0,0,0,0,0]
[null,null,"100510..CPCMLD","230120-F02","J6P3548","3860","703421496",68710,"CLASS B-2 CONCRETE","E042","",0,null,"","","","","","","",0,0,0,0,0,0,0]
[null,null,"100510..CPCMLD","230120-F02","J6P3548","3870","704010696",68711,"FULL DEPTH REPAIR","E042","",0,null,"","","","","","","",0,0,0,0,0,0,0]
[null,null,"100510..CPCMLD","230120-F02","J6P3548","3970","2169903",103974,"REMOVE AND REPLACE BARRIER CURB","E042","",0,null,"","","","","","","",0,0,0,0,0,0,0]
[null,null,"100510..CPCMLD","230120-F02","J6P3548","3980","5031010A96",68716,"BRIDGE APPROACH SLAB (MAJOR)","E042","",0,null,"","","","","","","",0,0,0,0,0,0,0]
[null,null,"100510..CPCMLD","230120-F02","J6P3548","4020","703421496",68718,"CLASS B-2 CONCRETE","E042","",0,null,"","","","","","","",0,0,0,0,0,0,0]
[null,null,"100510..CPCMLD","230120-F02","J6P3548","4050","704010696",68721,"FULL DEPTH REPAIR","E042","",0,null,"","","","","","","",0,0,0,0,0,0,0]
[null,null,"100510..CPCMLD","230120-F02","J6S3488","4190","504100096",68849,"CONCRETE APPROACH PAVEMENT","E042","",0,null,"","","","","","","",0,0,0,0,0,0,0]
[null,null,"100510..CPCMLD","230120-F02","J6S3488","4200","608300696",68850,"6 IN. CONCRETE MEDIAN STRIP","E042","",0,null,"","","","","","","",0,0,0,0,0,0,0]
[null,null,"100510..CPCMLD","230120-F02","J6S3488","4560","2169903",92358,"REMOVE AND REPLACE MEDIAN AND BARRIER CURB","E042",{"$f":"IF(C611=$C$162,D611,\"\")","v":""},0,null,{"$f":"(IF(K611=\"\",\"\",IF(OR(D611=$J$33,D611=$T$33, D611=$O$33),D611,\"\")))","v":""},{"$f":"IF(N611=\"\",\"\",F611)","v":""},{"$f":"IF(N611=\"\", \"\", E611)","v":""},{"$f":"IF(N611=\"\", \"\", G611)","v":""},"","","",0,0,0,0,0,0,0]
[null,null,"100510..CPCMLD","230120-F02","J6S3488","4570","5031010A96",68926,"BRIDGE APPROACH SLAB (MAJOR)","E042","",0,null,"","","","",{"$f":"IF(N612=\"\",\"\",I612)","v":""},{"$f":"IF(N612=\"\",\"\",J612)","v":""},{"$f":"IF(N612=\"\",\"\",H612)","v":""},0,0,0,0,0,0,0]
[null,null,"100510..CPCMLD","230120-F02","J6S3488","4610","703421496",68928,"CLASS B-2 CONCRETE","E042","",0,null,"","","","","","","",0,0,0,0,0,0,0]
[null,null,"100510..CPCMLD","230120-F02","J6S3488","4620","703442096",68929,"RAISED MEDIAN BARRIER","E042","",0,null,"","","","","","","",0,0,0,0,0,0,0]
[null,null,"100510..CPCMLD","230120-F02","J6S3488","4640","704010696",68931,"FULL DEPTH REPAIR","E042","",0,null,"","","","","","","",0,0,0,0,0,0,0]
[null,null,"100510..CPCMLD","230120-F02","J6I3490","5004","704010696",77900,"FULL DEPTH REPAIR","E042","",0,null,"","","","","","","",0,0,0,0,0,0,0]
[null,null,"100510..CPCMLD","230120-F02","J6I3490","5015","5031010A96",87917,"BRIDGE APPROACH SLAB (MAJOR)","E042","",0,null,"","","","","","","",0,0,0,0,0,0,0]
[null,null,"100510..CPCMLD","230120-F02","J6I3490","5018","504100096",87918,"CONCRETE APPROACH PAVEMENT","E042","",0,null,"","","","","","","",0,0,0,0,0,0,0]
[null,null,"100510..CPCMLD","230120-F02","J6S3488","5025","502110896",92210,"CONCRETE PAVEMENT ( 8 IN. NON-REINF)","E042","",0,null,"","","","","","","",0,0,0,0,0,0,0]
[null,null,"100510..CPCMLD","230120-F02","J6I3490","5037","1094000",110951,"FORCE ACCOUNT","E042","",0,null,"","","","","","","",0,0,0,0,0,0,0]
[null,null,"100510..CPCMLD","230120-F02","J6I3613","5038","613101096",102411,"FURNISHING AND PLACING CONCRETE MATERIAL FOR FULL DEPTH PAVEMENT REPAIR","E042","",0,null,"","","","","","","",0,0,0,0,0,0,0]
[null,null,"100510..CPCMLD","230217-F07","J6S3281","0130","502131096",71507,"CONCRETE PAVEMENT (10 IN. NON-REINFORCED 15 FT. JOINTS)","E042","",0,null,"","","","","","","",0,0,0,0,0,0,0]
[null,null,"100510..CPCMLD","230217-F07","J6S3281","0200","608300696",71514,"6 IN. CONCRETE MEDIAN STRIP","E042","",0,null,"","","","","","","",0,0,0,0,0,0,0]
[null,null,"100510..CPCMLD","230217-F07","J6S3281","0220","608500796",71515,"PAVED APPROACH, 7 IN.","E042","",0,null,"","","","","","","",0,0,0,0,0,0,0]
[null,null,"100510..CPCMLD","230217-F07","J6S3281","0230","608500896",71516,"PAVED APPROACH, 8 IN.","E042","",0,null,"","","","","","","",0,0,0,0,0,0,0]
[null,null,"100510..CPCMLD","230217-F07","J6S3281","0240","608600496",71517,"CONCRETE SIDEWALK, 4 IN.","E042","",0,null,"","","","","","","",0,0,0,0,0,0,0]
[null,null,"100510..CPCMLD","230217-F07","J6S3281","0260","608990296",71579,"CONCRETE CURB RAMP","E042","",0,null,"","","","","","","",0,0,0,0,0,0,0]
[null,null,"100510..CPCMLD","230217-F07","J6S3281","0270","609101096",71519,"CONCRETE CURB (6 IN. HEIGHT AND UNDER) TYPE S","E042","",0,null,"","","","","","","",0,0,0,0,0,0,0]
[null,null,"100510..CPCMLD","230217-F07","J6S3281","0280","609105296",71520,"CURB AND GUTTER TYPE B","E042","",0,null,"","","","","","","",0,0,0,0,0,0,0]
[null,null,"100510..CPCMLD","230217-F07","J6S3281","0290","609201196",71521,"INTEGRAL CURB (6 IN. HEIGHT AND UNDER) TYPE A","E042","",0,null,"","","","","","","",0,0,0,0,0,0,0]
[null,null,"100510..CPCMLD","230217-F07","J6S3281","0300","609202196",71522,"INTEGRAL CURB (OVER 6 IN. HEIGHT) TYPE A","E042","",0,null,"","","","","","","",0,0,0,0,0,0,0]
[null,null,"100510..CPCMLD","230217-F07","J6S3281","0320","613101096",71524,"FURNISHING AND PLACING CONCRETE MATERIAL FOR FULL DEPTH PAVEMENT REPAIR","E042","",0,null,"","","","","","","",0,0,0,0,0,0,0]
[null,null,"100510..CPCMLD","230217-F07","J6S3281","0650","7209904",71972,"SMALL BLOCK RETAINING WALL","E042","",0,null,"","","","","","","",0,0,0,0,0,0,0]
[null,null,"100510..CPCMLD","230217-F07","J6S3281","1350","902910096",71496,"BASE, CONCRETE","E042","",0,null,"","","","","","","",0,0,0,0,0,0,0]
[null,null,"100510..CPCMLD","230217-F07","J6S3281","5002","6089902",82706,"Misc Concrete Curb Ramp","E042","",0,null,"","","","","","","",0,0,0,0,0,0,0]
[null,null,"100510..CPCMLD","230217-F07","J6S3281","5003","608990296",77789,"Misc. Cut -Through Curb Ramp","E042","",0,null,"","","","","","","",0,0,0,0,0,0,0]
[null,null,"100510..CPCMLD","230217-F07","J6S3281","5004","613990596",80379,"Removal and Replacement of 10in Pavement","E042","",0,null,"","","","","","","",0,0,0,0,0,0,0]
[null,null,"100510..CPCMLD","230217-F07","J6S3281","5006","6099903",87328,"30-inch Max. Reinforcing Curb as Retaining Wall","E042","",0,null,"","","","","","","",0,0,0,0,0,0,0]
[null,null,"100510..CPCMLD","230217-H05","J9S3325","0280","5031011A96",71854,"BRIDGE APPROACH SLAB (MINOR ROAD)","E042","",0,null,"","","","","","","",0,0,0,0,0,0,0]
[null,null,"100510..CPCMLD","230217-H05","J9S3325","0290","703421296",71855,"SLAB ON STEEL","E042","",0,null,"","","","","","","",0,0,0,0,0,0,0]
[null,null,"100510..CPCMLD","230217-H05","J9S3325","0300","7034219A96",71856,"TYPE D BARRIER","E042","",0,null,"","","","","","","",0,0,0,0,0,0,0]
[null,null,"100510..CPCMLD","230217-H05","J9S3740","0590","502131096",71793,"CONCRETE PAVEMENT (10 IN. NON-REINFORCED 15 FT. JOINTS)","E042","",0,null,"","","","","","","",0,0,0,0,0,0,0]
[null,null,"100510..CPCMLD","230217-H05","J9S3740","0610","504100096",71795,"CONCRETE APPROACH PAVEMENT","E042","",0,null,"","","","","","","",0,0,0,0,0,0,0]
[null,null,"100510..CPCMLD","230217-H05","J9S3740","0620","608100096",71796,"CONCRETE MEDIAN","E042","",0,null,"","","","","","","",0,0,0,0,0,0,0]
[null,null,"100510..CPCMLD","230217-H05","J9S3740","0630","608300396",71797,"3 IN. CONCRETE MEDIAN STRIP","E042","",0,null,"","","","","","","",0,0,0,0,0,0,0]
[null,null,"100510..CPCMLD","230217-H05","J9S3740","0640","608500796",71798,"PAVED APPROACH, 7 IN.","E042","",0,null,"","","","","","","",0,0,0,0,0,0,0]
[null,null,"100510..CPCMLD","230217-H05","J9S3740","0650","608500896",71799,"PAVED APPROACH, 8 IN.","E042","",0,null,"","","","","","","",0,0,0,0,0,0,0]
[null,null,"100510..CPCMLD","230217-H05","J9S3740","0660","609201196",71803,"INTEGRAL CURB (6 IN. HEIGHT AND UNDER) TYPE A","E042","",0,null,"","","","","","","",0,0,0,0,0,0,0]
[null,null,"100510..CPCMLD","230217-H05","J9S3740","0700","613101096",71805,"FURNISHING AND PLACING CONCRETE MATERIAL FOR FULL DEPTH PAVEMENT REPAIR","E042","",0,null,"","","","","","","",0,0,0,0,0,0,0]
[null,null,"100510..CPCMLD","230317-G04","J8P3087E","0100","604401196",72497,"PIPE COLLAR, TYPE A","E042","",0,null,"","","","","","","",0,0,0,0,0,0,0]
[null,null,"100510..CPCMLD","230317-G04","J8P3087E","0110","608100096",72498,"CONCRETE MEDIAN","E042","",0,null,"","","","","","","",0,0,0,0,0,0,0]
[null,null,"100510..CPCMLD","230317-G04","J8P3087E","0120","608101096",72499,"CONCRETE CURB RAMP","E042","",0,null,"","","","","","","",0,0,0,0,0,0,0]
[null,null,"100510..CPCMLD","230317-G04","J8P3087E","0140","608300896",72501,"8 IN. CONCRETE MEDIAN STRIP","E042","",0,null,"","","","","","","",0,0,0,0,0,0,0]
[null,null,"100510..CPCMLD","230317-G04","J8P3087E","0145","608500896",72502,"PAVED APPROACH, 8 IN.","E042","",0,null,"","","","","","","",0,0,0,0,0,0,0]
[null,null,"100510..CPCMLD","230317-G04","J8P3087E","0150","608600496",72503,"CONCRETE SIDEWALK, 4 IN.","E042","",0,null,"","","","","","","",0,0,0,0,0,0,0]
[null,null,"100510..CPCMLD","230317-G04","J8P3087E","0170","609105296",72520,"CURB AND GUTTER TYPE B","E042","",0,null,"","","","","","","",0,0,0,0,0,0,0]
[null,null,"100510..CPCMLD","230317-G04","J8P3087F","1280","604401196",72386,"PIPE COLLAR, TYPE A","E042","",0,null,"","","","","","","",0,0,0,0,0,0,0]
[null,null,"100510..CPCMLD","230317-G04","J8P3087F","1290","608100096",72387,"CONCRETE MEDIAN","E042","",0,null,"","","","","","","",0,0,0,0,0,0,0]
[null,null,"100510..CPCMLD","230317-G04","J8P3087F","1300","608101096",72388,"CONCRETE CURB RAMP","E042","",0,null,"","","","","","","",0,0,0,0,0,0,0]
[null,null,"100510..CPCMLD","230317-G04","J8P3087F","1315","608500896",72390,"PAVED APPROACH, 8 IN.","E042","",0,null,"","","","","","","",0,0,0,0,0,0,0]
[null,null,"100510..CPCMLD","230317-G04","J8P3087F","1320","608600496",72391,"CONCRETE SIDEWALK, 4 IN.","E042","",0,null,"","","","","","","",0,0,0,0,0,0,0]
[null,null,"100510..CPCMLD","230317-G04","J8P3087F","1340","609105296",72392,"CURB AND GUTTER TYPE B","E042","",0,null,"","","","","","","",0,0,0,0,0,0,0]
[null,null,"100510..CPCMLD","230317-G04","J8P3087F","1620","703404196",72452,"CLASS B-1 CONCRETE (CULVERTS)","E042","",0,null,"","","","","","","",0,0,0,0,0,0,0]
[null,null,"100510..CPCMLD","230317-G04","J8P3087F","2110","902910096",72504,"BASE, CONCRETE","E042","",0,null,"","","","","","","",0,0,0,0,0,0,0]
[null,null,"100510..CPCMLD","230317-G04","J8P3087F","2360","9019903",72223,"INSTALL WHITEWAY CONTROLLER CONCRETE FOUNDATION","E042","",0,null,"","","","","","","",0,0,0,0,0,0,0]
[null,null,"100510..CPCMLD","230317-G04","J8S3173","2710","608101096",72257,"CONCRETE CURB RAMP","E042","",0,null,"","","","","","","",0,0,0,0,0,0,0]
[null,null,"100510..CPCMLD","230317-G04","J8S3173","2740","608500896",72259,"PAVED APPROACH, 8 IN.","E042","",0,null,"","","","","","","",0,0,0,0,0,0,0]
[null,null,"100510..CPCMLD","230317-G04","J8S3173","2750","608600496",72260,"CONCRETE SIDEWALK, 4 IN.","E042","",0,null,"","","","","","","",0,0,0,0,0,0,0]
[null,null,"100510..CPCMLD","230317-G04","J8S3173","2760","608600896",72261,"CONCRETE SIDEWALK, 8 IN.","E042","",0,null,"","","","","","","",0,0,0,0,0,0,0]
[null,null,"100510..CPCMLD","230317-G04","J8S3173","2770","609101096",72262,"CONCRETE CURB (6 IN. HEIGHT AND UNDER) TYPE S","E042","",0,null,"","","","","","","",0,0,0,0,0,0,0]
[null,null,"100510..CPCMLD","230317-G04","J8S3173","3260","902910096",72336,"BASE, CONCRETE","E042","",0,null,"","","","","","","",0,0,0,0,0,0,0]
[null,null,"100510..CPCMLD","230317-G04","J8S3173","3610","604401196",72363,"PIPE COLLAR, TYPE A","E042","",0,null,"","","","","","","",0,0,0,0,0,0,0]
[null,null,"100510..CPCMLD","230317-G04","J8S3173","3620","608101096",72364,"CONCRETE CURB RAMP","E042","",0,null,"","","","","","","",0,0,0,0,0,0,0]
[null,null,"100510..CPCMLD","230317-G04","J8S3173","3640","608500796",72366,"PAVED APPROACH, 7 IN.","E042","",0,null,"","","","","","","",0,0,0,0,0,0,0]
[null,null,"100510..CPCMLD","230317-G04","J8S3173","3650","608500896",72367,"PAVED APPROACH, 8 IN.","E042",{"$f":"IF(C675=$C$162,D675,\"\")","v":""},0,null,{"$f":"(IF(K675=\"\",\"\",IF(OR(D675=$J$33,D675=$T$33, D675=$O$33),D675,\"\")))","v":""},{"$f":"IF(N675=\"\",\"\",F675)","v":""},{"$f":"IF(N675=\"\", \"\", E675)","v":""},{"$f":"IF(N675=\"\", \"\", G675)","v":""},"","","",0,0,0,0,0,0,0]
[null,null,"100510..CPCMLD","230317-G04","J8S3173","3660","608600496",72368,"CONCRETE SIDEWALK, 4 IN.","E042","",0,null,"","","","",{"$f":"IF(N676=\"\",\"\",I676)","v":""},{"$f":"IF(N676=\"\",\"\",J676)","v":""},{"$f":"IF(N676=\"\",\"\",H676)","v":""},0,0,0,0,0,0,0]
[null,null,"100510..CPCMLD","230317-G04","J8S3173","3670","608600896",72369,"CONCRETE SIDEWALK, 8 IN.","E042","",0,null,"","","","","","","",0,0,0,0,0,0,0]
[null,null,"100510..CPCMLD","230317-G04","J8S3173","3680","609101096",72370,"CONCRETE CURB (6 IN. HEIGHT AND UNDER) TYPE S","E042","",0,null,"","","","","","","",0,0,0,0,0,0,0]
[null,null,"100510..CPCMLD","230317-G04","J8S3173","4020","902910096",72415,"BASE, CONCRETE","E042","",0,null,"","","","","","","",0,0,0,0,0,0,0]
[null,null,"100510..CPCMLD","230317-G04","J8S3173","5305","6099903",92369,"Sidewalk Retaining Wall","E042","",0,null,"","","","","","","",0,0,0,0,0,0,0]
[null,null,"100510..CPCMLD","230421-C07","JKU0133","0080","502130896",73896,"CONCRETE PAVEMENT (8 IN. NON-REINFORCED, 15 FT. JOINTS)","E042","",0,null,"","","","","","","",0,0,0,0,0,0,0]
[null,null,"100510..CPCMLD","230421-C07","JKU0133","0110","608101096",73898,"CONCRETE CURB RAMP","E042","",0,null,"","","","","","","",0,0,0,0,0,0,0]
[null,null,"100510..CPCMLD","230421-C07","JKU0133","0130","608500796",73900,"PAVED APPROACH, 7 IN.","E042","",0,null,"","","","","","","",0,0,0,0,0,0,0]
[null,null,"100510..CPCMLD","230421-C07","JKU0133","0140","608600496",73901,"CONCRETE SIDEWALK, 4 IN.","E042","",0,null,"","","","","","","",0,0,0,0,0,0,0]
[null,null,"100510..CPCMLD","230421-C07","JKU0133","0150","608600796",73902,"CONCRETE SIDEWALK, 7 IN.","E042","",0,null,"","","","","","","",0,0,0,0,0,0,0]
[null,null,"100510..CPCMLD","230421-C07","JKU0133","0170","609101096",73903,"CONCRETE CURB (6 IN. HEIGHT AND UNDER) TYPE S","E042","",0,null,"","","","","","","",0,0,0,0,0,0,0]
[null,null,"100510..CPCMLD","230421-C07","JKU0133","0180","609104296",73904,"CONCRETE GUTTER TYPE B","E042","",0,null,"","","","","","","",0,0,0,0,0,0,0]
[null,null,"100510..CPCMLD","230421-C07","JKU0133","0190","609201196",73905,"INTEGRAL CURB (6 IN. HEIGHT AND UNDER) TYPE A","E042","",0,null,"","","","","","","",0,0,0,0,0,0,0]
[null,null,"100510..CPCMLD","230421-C07","JKU0133","0200","609202196",73906,"INTEGRAL CURB (OVER 6 IN. HEIGHT) TYPE A","E042","",0,null,"","","","","","","",0,0,0,0,0,0,0]
[null,null,"100510..CPCMLD","230421-F06","J6P3288","0050","504100096",74401,"CONCRETE APPROACH PAVEMENT","E042","",0,null,"","","","","","","",0,0,0,0,0,0,0]
[null,null,"100510..CPCMLD","230421-F06","J6P3288","0060","609104196",74392,"CONCRETE GUTTER TYPE A","E042","",0,null,"","","","","","","",0,0,0,0,0,0,0]
[null,null,"100510..CPCMLD","230421-F06","J6P3288","0070","609201196",74393,"INTEGRAL CURB (6 IN. HEIGHT AND UNDER) TYPE A","E042","",0,null,"","","","","","","",0,0,0,0,0,0,0]
[null,null,"100510..CPCMLD","230421-F06","J6P3288","0100","6116010A96",74395,"SLOPE PROTECTION","E042","",0,null,"","","","","","","",0,0,0,0,0,0,0]
[null,null,"100510..CPCMLD","230421-F06","J6P3288","0410","5031010A96",74411,"BRIDGE APPROACH SLAB (MAJOR)","E042","",0,null,"","","","","","","",0,0,0,0,0,0,0]
[null,null,"100510..CPCMLD","230421-F06","J6P3288","0430","703421496",74412,"CLASS B-2 CONCRETE","E042","",0,null,"","","","","","","",0,0,0,0,0,0,0]
[null,null,"100510..CPCMLD","230421-F06","J6P3288","0700","5031010A96",74425,"BRIDGE APPROACH SLAB (MAJOR)","E042","",0,null,"","","","","","","",0,0,0,0,0,0,0]
[null,null,"100510..CPCMLD","230421-F06","J6P3288","0720","703421496",74426,"CLASS B-2 CONCRETE","E042","",0,null,"","","","","","","",0,0,0,0,0,0,0]
[null,null,"100510..CPCMLD","230421-F06","J6P3288","0970","703421496",74440,"CLASS B-2 CONCRETE","E042","",0,null,"","","","","","","",0,0,0,0,0,0,0]
[null,null,"100510..CPCMLD","230421-F06","J6P3288","1440","2169903",77710,"Remove and Replace Barrier Curb","E042","",0,null,"","","","","","","",0,0,0,0,0,0,0]
[null,null,"100510..CPCMLD","230421-F06","J6P3288","1450","5031010A96",74460,"BRIDGE APPROACH SLAB (MAJOR)","E042","",0,null,"","","","","","","",0,0,0,0,0,0,0]
[null,null,"100510..CPCMLD","230421-F06","J6P3288","1470","703421496",74461,"CLASS B-2 CONCRETE","E042","",0,null,"","","","","","","",0,0,0,0,0,0,0]
[null,null,"100510..CPCMLD","230421-F06","J6P3288","1760","5031010A96",74477,"BRIDGE APPROACH SLAB (MAJOR)","E042","",0,null,"","","","","","","",0,0,0,0,0,0,0]
[null,null,"100510..CPCMLD","230421-F06","J6P3288","1780","703421496",74478,"CLASS B-2 CONCRETE","E042","",0,null,"","","","","","","",0,0,0,0,0,0,0]
[null,null,"100510..CPCMLD","230421-F06","J6P3288","2360","703421496",74504,"CLASS B-2 CONCRETE","E042","",0,null,"","","","","","","",0,0,0,0,0,0,0]
[null,null,"100510..CPCMLD","230421-F06","J6P3288","2630","5031010A96",74517,"BRIDGE APPROACH SLAB (MAJOR)","E042","",0,null,"","","","","","","",0,0,0,0,0,0,0]
[null,null,"100510..CPCMLD","230421-F06","J6P3288","2650","703421496",74518,"CLASS B-2 CONCRETE","E042","",0,null,"","","","","","","",0,0,0,0,0,0,0]
[null,null,"100510..CPCMLD","230421-F06","J6P3288","3120","5031011A96",74537,"BRIDGE APPROACH SLAB (MINOR ROAD)","E042","",0,null,"","","","","","","",0,0,0,0,0,0,0]
[null,null,"100510..CPCMLD","230421-F06","J6P3288","3140","703421496",74538,"CLASS B-2 CONCRETE","E042","",0,null,"","","","","","","",0,0,0,0,0,0,0]
[null,null,"100510..CPCMLD","230421-F06","J6P3288","3360","703421496",74550,"CLASS B-2 CONCRETE","E042","",0,null,"","","","","","","",0,0,0,0,0,0,0]
[null,null,"100510..CPCMLD","230421-F06","J6S3283B","3930","608300696",74577,"6 IN. CONCRETE MEDIAN STRIP","E042","",0,null,"","","","","","","",0,0,0,0,0,0,0]
[null,null,"100510..CPCMLD","230421-F06","J6S3283B","3950","613101096",74579,"FURNISHING AND PLACING CONCRETE MATERIAL FOR FULL DEPTH PAVEMENT REPAIR","E042","",0,null,"","","","","","","",0,0,0,0,0,0,0]
[null,null,"100510..CPCMLD","230421-F06","J6P3288","5005","704010696",84091,"FULL DEPTH REPAIR","E042","",0,null,"","","","","","","",0,0,0,0,0,0,0]
[null,null,"100510..CPCMLD","230421-F06","J6P3288","5021","617300096",94474,"CONCRETE TRAFFIC BARRIER, TYPE C","E042","",0,null,"","","","","","","",0,0,0,0,0,0,0]
[null,null,"100510..CPCMLD","230421-G05","J8P0605I","0180","502133496",73534,"CONCRETE PAVEMENT (10 1/2 IN. NON-REINFORCED, 15 FT. JOINTS)","E042","",0,null,"","","","","","","",0,0,0,0,0,0,0]
[null,null,"100510..CPCMLD","230421-G05","J8P0605I","0260","613101096",73541,"FURNISHING AND PLACING CONCRETE MATERIAL FOR FULL DEPTH PAVEMENT REPAIR","E042","",0,null,"","","","","","","",0,0,0,0,0,0,0]
[null,null,"100510..CPCMLD","230421-G05","J8P0605I","0410","617300096",73553,"CONCRETE TRAFFIC BARRIER, TYPE C","E042","",0,null,"","","","","","","",0,0,0,0,0,0,0]
[null,null,"100510..CPCMLD","230421-G05","J8P0605I","0420","617310096",73554,"CONCRETE TRAFFIC BARRIER, TYPE D","E042","",0,null,"","","","","","","",0,0,0,0,0,0,0]
[null,null,"100510..CPCMLD","230421-G05","J8P0605I","0460","6179903",109185,"MODIFIED TYPE C BARRIER","E042","",0,null,"","","","","","","",0,0,0,0,0,0,0]
[null,null,"100510..CPCMLD","230421-G05","J8P0605I","0580","703200996",73563,"CLASS B CONCRETE (RETAINING WALLS)","E042","",0,null,"","","","","","","",0,0,0,0,0,0,0]
[null,null,"100510..CPCMLD","230421-G05","J8P0605I","0810","401015096",73578,"TYPE A2 SHOULDER","E042","",0,null,"","","","","","","",0,0,0,0,0,0,0]
[null,null,"100510..CPCMLD","230421-G05","J8P0605I","0930","9031010",109587,"CONCRETE FOOTINGS, EMBEDDED","E042","",0,null,"","","","","","","",0,0,0,0,0,0,0]
[null,null,"100510..CPCMLD","230421-G05","J8P0605J","1170","504100096",73439,"CONCRETE APPROACH PAVEMENT","E042","",0,null,"","","","","","","",0,0,0,0,0,0,0]
[null,null,"100510..CPCMLD","230421-G05","J8P0605J","1180","604401196",73440,"PIPE COLLAR, TYPE A","E042","",0,null,"","","","","","","",0,0,0,0,0,0,0]
[null,null,"100510..CPCMLD","230421-G05","J8P0605J","1270","613101096",73447,"FURNISHING AND PLACING CONCRETE MATERIAL FOR FULL DEPTH PAVEMENT REPAIR","E042","",0,null,"","","","","","","",0,0,0,0,0,0,0]
[null,null,"100510..CPCMLD","230421-G05","J8P0605J","1430","617300096",73461,"CONCRETE TRAFFIC BARRIER, TYPE C","E042","",0,null,"","","","","","","",0,0,0,0,0,0,0]
[null,null,"100510..CPCMLD","230421-G05","J8P0605J","1620","703404196",73470,"CLASS B-1 CONCRETE (CULVERTS)","E042","",0,null,"","","","","","","",0,0,0,0,0,0,0]
[null,null,"100510..CPCMLD","230421-G05","J8P0605J","1940","903101096",73495,"CONCRETE FOOTINGS, EMBEDDED","E042","",0,null,"","","","","","","",0,0,0,0,0,0,0]
[null,null,"100510..CPCMLD","230421-G05","J8P0605J","2110","5031010A96",73506,"BRIDGE APPROACH SLAB (MAJOR)","E042","",0,null,"","","","","","","",0,0,0,0,0,0,0]
[null,null,"100510..CPCMLD","230421-G05","J8P0605J","2120","701110596",73507,"DRILLED SHAFTS (3 FT. 6 IN. DIA.)","E042","",0,null,"","","","","","","",0,0,0,0,0,0,0]
[null,null,"100510..CPCMLD","230421-G05","J8P0605J","2130","701120496",73508,"ROCK SOCKETS (3 FT  0 IN. DIA.)","E042","",0,null,"","","","","","","",0,0,0,0,0,0,0]
[null,null,"100510..CPCMLD","230421-G05","J8P0605J","2190","703200396",73511,"CLASS B CONCRETE (SUBSTRUCTURE)","E042","",0,null,"","","","","","","",0,0,0,0,0,0,0]
[null,null,"100510..CPCMLD","230421-G05","J8P0605J","2200","703421296",73512,"SLAB ON STEEL","E042","",0,null,"","","","","","","",0,0,0,0,0,0,0]
[null,null,"100510..CPCMLD","230421-G05","J8P0605J","2210","7034219A96dwayne",73513,"TYPE D BARRIER","E042","",0,null,"","","","","","","",0,0,0,0,0,0,0]
[null,null,"100510..CPCMLD","230421-G05","J8P0605J","2430","5031010A96",73416,"BRIDGE APPROACH SLAB (MAJOR)","E042","",0,null,"","","","","","","",0,0,0,0,0,0,0]
[null,null,"100510..CPCMLD","230421-G05","J8P0605J","2440","701110596",73417,"DRILLED SHAFTS (3 FT. 6 IN. DIA.)","E042","",0,null,"","","","","","","",0,0,0,0,0,0,0]
[null,null,"100510..CPCMLD","230421-G05","J8P0605J","2450","701120496",73418,"ROCK SOCKETS (3 FT  0 IN. DIA.)","E042","",0,null,"","","","","","","",0,0,0,0,0,0,0]
[null,null,"100510..CPCMLD","230421-G05","J8P0605J","2510","703200396",73421,"CLASS B CONCRETE (SUBSTRUCTURE)","E042","",0,null,"","","","","","","",0,0,0,0,0,0,0]
[null,null,"100510..CPCMLD","230421-G05","J8P0605J","2520","703421296",73422,"SLAB ON STEEL","E042","",0,null,"","","","","","","",0,0,0,0,0,0,0]
[null,null,"100510..CPCMLD","230421-G05","J8P0605J","2530","7034219A96",73423,"TYPE D BARRIER","E042",{"$f":"IF(C739=$C$162,D739,\"\")","v":""},0,null,{"$f":"(IF(K739=\"\",\"\",IF(OR(D739=$J$33,D739=$T$33, D739=$O$33),D739,\"\")))","v":""},{"$f":"IF(N739=\"\",\"\",F739)","v":""},{"$f":"IF(N739=\"\", \"\", E739)","v":""},{"$f":"IF(N739=\"\", \"\", G739)","v":""},"","","",0,0,0,0,0,0,0]
[null,null,"100510..CPCMLD","230519-C06","J4S3405","0150","502990596",76202,"OPTIONAL PAVEMENT","E042","",0,null,"","","","",{"$f":"IF(N740=\"\",\"\",I740)","v":""},{"$f":"IF(N740=\"\",\"\",J740)","v":""},{"$f":"IF(N740=\"\",\"\",H740)","v":""},0,0,0,0,0,0,0]
[null,null,"100510..CPCMLD","230519-C06","J4S3405","0210","608101096",76205,"CONCRETE CURB RAMP","E042","",0,null,"","","","","","","",0,0,0,0,0,0,0]
[null,null,"100510..CPCMLD","230519-C06","J4S3405","0240","608300496",76207,"4 IN. CONCRETE MEDIAN STRIP","E042","",0,null,"","","","","","","",0,0,0,0,0,0,0]
[null,null,"100510..CPCMLD","230519-C06","J4S3405","0250","608300696",76208,"6 IN. CONCRETE MEDIAN STRIP","E042","",0,null,"","","","","","","",0,0,0,0,0,0,0]
[null,null,"100510..CPCMLD","230519-C06","J4S3405","0260","608500796",76209,"PAVED APPROACH, 7 IN.","E042","",0,null,"","","","","","","",0,0,0,0,0,0,0]
[null,null,"100510..CPCMLD","230519-C06","J4S3405","0270","608500896",76210,"PAVED APPROACH, 8 IN.","E042","",0,null,"","","","","","","",0,0,0,0,0,0,0]
[null,null,"100510..CPCMLD","230519-C06","J4S3405","0280","608600496",76211,"CONCRETE SIDEWALK, 4 IN.","E042","",0,null,"","","","","","","",0,0,0,0,0,0,0]
[null,null,"100510..CPCMLD","230519-C06","J4S3405","0290","608990596",76418,"6 IN. PCCP SHARED USE PATH","E042","",0,null,"","","","","","","",0,0,0,0,0,0,0]
[null,null,"100510..CPCMLD","230519-C06","J4S3405","0300","609101096",76212,"CONCRETE CURB (6 IN. HEIGHT AND UNDER) TYPE S","E042","",0,null,"","","","","","","",0,0,0,0,0,0,0]
[null,null,"100510..CPCMLD","230519-C06","J4S3405","0310","609105296",76213,"CURB AND GUTTER TYPE B","E042","",0,null,"","","","","","","",0,0,0,0,0,0,0]
[null,null,"100510..CPCMLD","230519-C06","J4S3405","0340","613101096",76193,"FURNISHING AND PLACING CONCRETE MATERIAL FOR FULL DEPTH PAVEMENT REPAIR","E042","",0,null,"","","","","","","",0,0,0,0,0,0,0]
[null,null,"100510..CPCMLD","230519-C06","J4S3405","0650","703400996",76241,"CLASS B-1 CONCRETE (RETAINING WALLS)","E042","",0,null,"","","","","","","",0,0,0,0,0,0,0]
[null,null,"100510..CPCMLD","230519-C06","J4S3405","0660","703404196",76242,"CLASS B-1 CONCRETE (CULVERTS)","E042","",0,null,"","","","","","","",0,0,0,0,0,0,0]
[null,null,"100510..CPCMLD","230519-C06","J4S3405B","1550","607110196",76309,"MODIFIED CONCRETE GUTTER TYPE A","E042","",0,null,"","","","","","","",0,0,0,0,0,0,0]
[null,null,"100510..CPCMLD","230519-C06","J4S3405B","1560","608101096",76310,"CONCRETE CURB RAMP","E042","",0,null,"","","","","","","",0,0,0,0,0,0,0]
[null,null,"100510..CPCMLD","230519-C06","J4S3405B","1580","608300696",76312,"6 IN. CONCRETE MEDIAN STRIP","E042","",0,null,"","","","","","","",0,0,0,0,0,0,0]
[null,null,"100510..CPCMLD","230519-C06","J4S3405B","1590","608500796",76313,"PAVED APPROACH, 7 IN.","E042","",0,null,"","","","","","","",0,0,0,0,0,0,0]
[null,null,"100510..CPCMLD","230519-C06","J4S3405B","1600","608500896",76314,"PAVED APPROACH, 8 IN.","E042","",0,null,"","","","","","","",0,0,0,0,0,0,0]
[null,null,"100510..CPCMLD","230519-C06","J4S3405B","1610","608600496",76315,"CONCRETE SIDEWALK, 4 IN.","E042","",0,null,"","","","","","","",0,0,0,0,0,0,0]
[null,null,"100510..CPCMLD","230519-C06","J4S3405B","1630","609101096",76316,"CONCRETE CURB (6 IN. HEIGHT AND UNDER) TYPE S","E042","",0,null,"","","","","","","",0,0,0,0,0,0,0]
[null,null,"100510..CPCMLD","230519-C06","J4S3405B","1640","609105296",76317,"CURB AND GUTTER TYPE B","E042","",0,null,"","","","","","","",0,0,0,0,0,0,0]
[null,null,"100510..CPCMLD","230519-C06","J4S3405B","1680","613101096",76321,"FURNISHING AND PLACING CONCRETE MATERIAL FOR FULL DEPTH PAVEMENT REPAIR","E042","",0,null,"","","","","","","",0,0,0,0,0,0,0]
[null,null,"100510..CPCMLD","230519-C06","J4S3405B","1960","703400996",76344,"CLASS B-1 CONCRETE (RETAINING WALLS)","E042","",0,null,"","","","","","","",0,0,0,0,0,0,0]
[null,null,"100510..CPCMLD","230519-C06","J4S3405B","1970","703404196",76345,"CLASS B-1 CONCRETE (CULVERTS)","E042","",0,null,"","","","","","","",0,0,0,0,0,0,0]
[null,null,"100510..CPCMLD","230519-D03","J5P3490","0070","502110896",76531,"CONCRETE PAVEMENT ( 8 IN. NON-REINF)","E042","",0,null,"","","","","","","",0,0,0,0,0,0,0]
[null,null,"100510..CPCMLD","230519-D03","J5P3490","0140","608101096",76533,"CONCRETE CURB RAMP","E042","",0,null,"","","","","","","",0,0,0,0,0,0,0]
[null,null,"100510..CPCMLD","230519-D03","J5P3490","0160","608300396",76535,"3 IN. CONCRETE MEDIAN STRIP","E042","",0,null,"","","","","","","",0,0,0,0,0,0,0]
[null,null,"100510..CPCMLD","230519-D03","J5P3490","0180","608500796",76536,"PAVED APPROACH, 7 IN.","E042","",0,null,"","","","","","","",0,0,0,0,0,0,0]
[null,null,"100510..CPCMLD","230519-D03","J5P3490","0190","608500896",76537,"PAVED APPROACH, 8 IN.","E042","",0,null,"","","","","","","",0,0,0,0,0,0,0]
[null,null,"100510..CPCMLD","230519-D03","J5P3490","0200","608600496",76538,"CONCRETE SIDEWALK, 4 IN.","E042","",0,null,"","","","","","","",0,0,0,0,0,0,0]
[null,null,"100510..CPCMLD","230519-D03","J5P3490","0230","608990596",76578,"7\" CONCRETE CURB RAMP","E042","",0,null,"","","","","","","",0,0,0,0,0,0,0]
[null,null,"100510..CPCMLD","230519-D03","J5P3490","0240","608990596",76579,"PAVEMENT AND MEDIAN REPLACEMENT","E042","",0,null,"","","","","","","",0,0,0,0,0,0,0]
[null,null,"100510..CPCMLD","230519-D03","J5P3490","0250","609101096",76539,"CONCRETE CURB (6 IN. HEIGHT AND UNDER) TYPE S","E042","",0,null,"","","","","","","",0,0,0,0,0,0,0]
[null,null,"100510..CPCMLD","230519-D03","J5P3490","0260","609104196",76540,"CONCRETE GUTTER TYPE A","E042","",0,null,"","","","","","","",0,0,0,0,0,0,0]
[null,null,"100510..CPCMLD","230519-D03","J5P3490","0270","609105296",76541,"CURB AND GUTTER TYPE B","E042","",0,null,"","","","","","","",0,0,0,0,0,0,0]
[null,null,"100510..CPCMLD","230519-D03","J5P3490","0290","6099903",76581,"MODIFIED CURB AND GUTTER TYPE B","E042","",0,null,"","","","","","","",0,0,0,0,0,0,0]
[null,null,"100510..CPCMLD","230519-F01","J6I2090","0110","401990596",75401,"OPTIONAL PAVEMENT","E042","",0,null,"","","","","","","",0,0,0,0,0,0,0]
[null,null,"100510..CPCMLD","230519-F01","J6I2090","0140","502110796",75405,"CONCRETE PAVEMENT ( 7 IN. NON-REINF)","E042","",0,null,"","","","","","","",0,0,0,0,0,0,0]
[null,null,"100510..CPCMLD","230519-F01","J6I2090","0170","504100096",75408,"CONCRETE APPROACH PAVEMENT","E042","",0,null,"","","","","","","",0,0,0,0,0,0,0]
[null,null,"100510..CPCMLD","230519-F01","J6I2090","0200","6079903",81753,"{DECORATIVE FENCE}","E042","",0,null,"","","","","","","",0,0,0,0,0,0,0]
[null,null,"100510..CPCMLD","230519-F01","J6I2090","0210","608101096",75410,"CONCRETE CURB RAMP","E042","",0,null,"","","","","","","",0,0,0,0,0,0,0]
[null,null,"100510..CPCMLD","230519-F01","J6I2090","0230","608600496",75412,"CONCRETE SIDEWALK, 4 IN.","E042","",0,null,"","","","","","","",0,0,0,0,0,0,0]
[null,null,"100510..CPCMLD","230519-F01","J6I2090","0240","609101096",75413,"CONCRETE CURB (6 IN. HEIGHT AND UNDER) TYPE S","E042","",0,null,"","","","","","","",0,0,0,0,0,0,0]
[null,null,"100510..CPCMLD","230519-F01","J6I2090","0250","609101196",75414,"CONCRETE CURB (OVER 6 IN. HEIGHT) TYPE S","E042","",0,null,"","","","","","","",0,0,0,0,0,0,0]
[null,null,"100510..CPCMLD","230519-F01","J6I2090","0260","609104196",75415,"CONCRETE GUTTER TYPE A","E042","",0,null,"","","","","","","",0,0,0,0,0,0,0]
[null,null,"100510..CPCMLD","230519-F01","J6I2090","0270","609104296",75416,"CONCRETE GUTTER TYPE B","E042","",0,null,"","","","","","","",0,0,0,0,0,0,0]
[null,null,"100510..CPCMLD","230519-F01","J6I2090","0280","609105196",75417,"CURB AND GUTTER TYPE A","E042","",0,null,"","","","","","","",0,0,0,0,0,0,0]
[null,null,"100510..CPCMLD","230519-F01","J6I2090","0290","609105296",75418,"CURB AND GUTTER TYPE B","E042","",0,null,"","","","","","","",0,0,0,0,0,0,0]
[null,null,"100510..CPCMLD","230519-F01","J6I2090","0300","609106096",75419,"PAVED DITCH","E042","",0,null,"","","","","","","",0,0,0,0,0,0,0]
[null,null,"100510..CPCMLD","230519-F01","J6I2090","0310","609201396",75420,"INTEGRAL CURB TYPE M","E042","",0,null,"","","","","","","",0,0,0,0,0,0,0]
[null,null,"100510..CPCMLD","230519-F01","J6I2090","0320","609203296",75421,"CONCRETE CURB LOW PROFILE TYPE F","E042","",0,null,"","","","","","","",0,0,0,0,0,0,0]
[null,null,"100510..CPCMLD","230519-F01","J6I2090","0450","6116010A96",75440,"SLOPE PROTECTION","E042","",0,null,"","","","","","","",0,0,0,0,0,0,0]
[null,null,"100510..CPCMLD","230519-F01","J6I2090","0700","617300096",75507,"CONCRETE TRAFFIC BARRIER, TYPE C","E042","",0,null,"","","","","","","",0,0,0,0,0,0,0]
[null,null,"100510..CPCMLD","230519-F01","J6I2090","0710","617310096",75508,"CONCRETE TRAFFIC BARRIER, TYPE D","E042","",0,null,"","","","","","","",0,0,0,0,0,0,0]
[null,null,"100510..CPCMLD","230519-F01","J6I2090","0720","617310296",75509,"CONCRETE TRAFFIC BARRIER, TYPE D (RETAINING WALL)","E042","",0,null,"","","","","","","",0,0,0,0,0,0,0]
[null,null,"100510..CPCMLD","230519-F01","J6I2090","0730","6173103",84208,"CONCRETE TRAFFIC BARRIER, TYPE D (MOMENT SLAB)","E042","",0,null,"","","","","","","",0,0,0,0,0,0,0]
[null,null,"100510..CPCMLD","230519-F01","J6I2090","0790","6179903",85966,"CONCRETE TRAFFIC BARRIER, TYPE C (MODIFIED)","E042","",0,null,"","","","","","","",0,0,0,0,0,0,0]
[null,null,"100510..CPCMLD","230519-F01","J6I2090","1500","502133496",75330,"CONCRETE PAVEMENT (10 1/2 IN. NON-REINFORCED, 15 FT. JOINTS)","E042","",0,null,"","","","","","","",0,0,0,0,0,0,0]
[null,null,"100510..CPCMLD","230519-F01","J6I2090","1570","502130996",75332,"CONCRETE PAVEMENT (9 IN. NON-REINFORCED 15 FT. JOINTS)","E042","",0,null,"","","","","","","",0,0,0,0,0,0,0]
[null,null,"100510..CPCMLD","230519-F01","J6I2090","1590","502134096",75324,"TYPE A2 SHOULDER","E042","",0,null,"","","","","","","",0,0,0,0,0,0,0]
[null,null,"100510..CPCMLD","230519-F01","J6I2090","1630","502133296",75333,"CONCRETE PAVEMENT (8 1/2 IN. NON-REINFORCED, 15 FT. JOINTS)","E042","",0,null,"","","","","","","",0,0,0,0,0,0,0]
[null,null,"100510..CPCMLD","230519-F01","J6I2090","1650","502134096",75334,"TYPE A2 SHOULDER","E042","",0,null,"","","","","","","",0,0,0,0,0,0,0]
[null,null,"100510..CPCMLD","230519-F01","J6I2090","2070","5031010A96",75393,"BRIDGE APPROACH SLAB (MAJOR)","E042","",0,null,"","","","","","","",0,0,0,0,0,0,0]
[null,null,"100510..CPCMLD","230519-F01","J6I2090","2100","703200396",75347,"CLASS B CONCRETE (SUBSTRUCTURE)","E042",{"$f":"IF(C803=$C$162,D803,\"\")","v":""},0,null,{"$f":"(IF(K803=\"\",\"\",IF(OR(D803=$J$33,D803=$T$33, D803=$O$33),D803,\"\")))","v":""},{"$f":"IF(N803=\"\",\"\",F803)","v":""},{"$f":"IF(N803=\"\", \"\", E803)","v":""},{"$f":"IF(N803=\"\", \"\", G803)","v":""},"","","",0,0,0,0,0,0,0]
[null,null,"100510..CPCMLD","230519-F01","J6I2090","2110","7034219A96",75348,"TYPE D BARRIER","E042","",0,null,"","","","",{"$f":"IF(N804=\"\",\"\",I804)","v":""},{"$f":"IF(N804=\"\",\"\",J804)","v":""},{"$f":"IF(N804=\"\",\"\",H804)","v":""},0,0,0,0,0,0,0]
[null,null,"100510..CPCMLD","230519-F01","J6I2090","2120","703422196",75349,"SLAB ON CONCRETE NU-GIRDER","E042","",0,null,"","","","","","","",0,0,0,0,0,0,0]
[null,null,"100510..CPCMLD","230519-F01","J6I2090","2190","5031010A96",75355,"BRIDGE APPROACH SLAB (MAJOR)","E042","",0,null,"","","","","","","",0,0,0,0,0,0,0]
[null,null,"100510..CPCMLD","230519-F01","J6I2090","2220","703200396",75357,"CLASS B CONCRETE (SUBSTRUCTURE)","E042","",0,null,"","","","","","","",0,0,0,0,0,0,0]
[null,null,"100510..CPCMLD","230519-F01","J6I2090","2230","7034219A96",75358,"TYPE D BARRIER","E042","",0,null,"","","","","","","",0,0,0,0,0,0,0]
[null,null,"100510..CPCMLD","230519-F01","J6I2090","2240","703422196",75359,"SLAB ON CONCRETE NU-GIRDER","E042","",0,null,"","","","","","","",0,0,0,0,0,0,0]
[null,null,"100510..CPCMLD","230519-F01","J6I2090","2320","5031010A96",75365,"BRIDGE APPROACH SLAB (MAJOR)","E042","",0,null,"","","","","","","",0,0,0,0,0,0,0]
[null,null,"100510..CPCMLD","230519-F01","J6I2090","2360","703200396",75368,"CLASS B CONCRETE (SUBSTRUCTURE)","E042","",0,null,"","","","","","","",0,0,0,0,0,0,0]
[null,null,"100510..CPCMLD","230519-F01","J6I2090","2370","7034219A96",75369,"TYPE D BARRIER","E042","",0,null,"","","","","","","",0,0,0,0,0,0,0]
[null,null,"100510..CPCMLD","230519-F01","J6I2090","2380","703422196",75427,"SLAB ON CONCRETE NU-GIRDER","E042","",0,null,"","","","","","","",0,0,0,0,0,0,0]
[null,null,"100510..CPCMLD","230519-F01","J6I2090","2390","703441396",75428,"TYPE C BARRIER TRANSITION","E042","",0,null,"","","","","","","",0,0,0,0,0,0,0]
[null,null,"100510..CPCMLD","230519-F01","J6I2090","2550","7049903",85066,"BARRIER REPAIR (FORMED)","E042","",0,null,"","","","","","","",0,0,0,0,0,0,0]
[null,null,"100510..CPCMLD","230519-F01","J6I2090","2640","7049903",85067,"BARRIER REPAIR (FORMED)","E042","",0,null,"","","","","","","",0,0,0,0,0,0,0]
[null,null,"100510..CPCMLD","230519-F01","J6I2090","2740","2169903",111933,"REMOVE AND REPLACE HAUNCH","E042","",0,null,"","","","","","","",0,0,0,0,0,0,0]
[null,null,"100510..CPCMLD","230519-F01","J6I2090","2750","5031010A96",75454,"BRIDGE APPROACH SLAB (MAJOR)","E042","",0,null,"","","","","","","",0,0,0,0,0,0,0]
[null,null,"100510..CPCMLD","230519-F01","J6I2090","2760","701110496",75455,"DRILLED SHAFTS (3 FT. 0 IN. DIA.)","E042","",0,null,"","","","","","","",0,0,0,0,0,0,0]
[null,null,"100510..CPCMLD","230519-F01","J6I2090","2770","701120396",75456,"ROCK SOCKETS (2 FT  6IN. DIA.)","E042","",0,null,"","","","","","","",0,0,0,0,0,0,0]
[null,null,"100510..CPCMLD","230519-F01","J6I2090","2850","703200396",75459,"CLASS B CONCRETE (SUBSTRUCTURE)","E042","",0,null,"","","","","","","",0,0,0,0,0,0,0]
[null,null,"100510..CPCMLD","230519-F01","J6I2090","2860","703421296",75460,"SLAB ON STEEL","E042","",0,null,"","","","","","","",0,0,0,0,0,0,0]
[null,null,"100510..CPCMLD","230519-F01","J6I2090","2870","7034219A96",75461,"TYPE D BARRIER","E042","",0,null,"","","","","","","",0,0,0,0,0,0,0]
[null,null,"100510..CPCMLD","230519-F01","J6I2090","2880","703441396",75462,"TYPE C BARRIER TRANSITION","E042","",0,null,"","","","","","","",0,0,0,0,0,0,0]
[null,null,"100510..CPCMLD","230519-F01","J6I2090","3060","2169903",111934,"REMOVE AND REPLACE APPROACH HAUNCH","E042","",0,null,"","","","","","","",0,0,0,0,0,0,0]
[null,null,"100510..CPCMLD","230519-F01","J6I2090","3070","701110496",75477,"DRILLED SHAFTS (3 FT. 0 IN. DIA.)","E042","",0,null,"","","","","","","",0,0,0,0,0,0,0]
[null,null,"100510..CPCMLD","230519-F01","J6I2090","3080","701120396",75478,"ROCK SOCKETS (2 FT  6IN. DIA.)","E042","",0,null,"","","","","","","",0,0,0,0,0,0,0]
[null,null,"100510..CPCMLD","230519-F01","J6I2090","3160","703200396",75481,"CLASS B CONCRETE (SUBSTRUCTURE)","E042","",0,null,"","","","","","","",0,0,0,0,0,0,0]
[null,null,"100510..CPCMLD","230519-F01","J6I2090","3170","703421296",75482,"SLAB ON STEEL","E042","",0,null,"","","","","","","",0,0,0,0,0,0,0]
[null,null,"100510..CPCMLD","230519-F01","J6I2090","3180","7034219A96",75483,"TYPE D BARRIER","E042","",0,null,"","","","","","","",0,0,0,0,0,0,0]
[null,null,"100510..CPCMLD","230519-F01","J6I2090","5009","5031010A96",105928,"BRIDGE APPROACH SLAB (MAJOR)","E042","",0,null,"","","","","","","",0,0,0,0,0,0,0]
[null,null,"100510..CPCMLD","230519-F01","J6I2090","5012","703421296",105922,"SLAB ON STEEL","E042","",0,null,"","","","","","","",0,0,0,0,0,0,0]
[null,null,"100510..CPCMLD","230519-F01","J6I2090","5013","7034219A96",105930,"TYPE D BARRIER","E042","",0,null,"","","","","","","",0,0,0,0,0,0,0]
[null,null,"100510..CPCMLD","230519-F01","J6I2090","5022","703421296",105923,"SLAB ON STEEL","E042","",0,null,"","","","","","","",0,0,0,0,0,0,0]
[null,null,"100510..CPCMLD","230519-F01","J6I2090","5023","7034219A96",105929,"TYPE D BARRIER","E042","",0,null,"","","","","","","",0,0,0,0,0,0,0]
[null,null,"100510..CPCMLD","230519-H01","J9P3735","0180","502130796",76792,"CONCRETE PAVEMENT (7 IN. NON-REINFORCED, 15 FT. JOINTS)","E042","",0,null,"","","","","","","",0,0,0,0,0,0,0]
[null,null,"100510..CPCMLD","230519-H01","J9P3735","0190","502130896",76793,"CONCRETE PAVEMENT (8 IN. NON-REINFORCED, 15 FT. JOINTS)","E042","",0,null,"","","","","","","",0,0,0,0,0,0,0]
[null,null,"100510..CPCMLD","230519-H01","J9P3735","0200","502130996",76794,"CONCRETE PAVEMENT (9 IN. NON-REINFORCED 15 FT. JOINTS)","E042","",0,null,"","","","","","","",0,0,0,0,0,0,0]
[null,null,"100510..CPCMLD","230519-H01","J9P3735","0240","608101096",76796,"CONCRETE CURB RAMP","E042","",0,null,"","","","","","","",0,0,0,0,0,0,0]
[null,null,"100510..CPCMLD","230519-H01","J9P3735","0260","608300696",76798,"6 IN. CONCRETE MEDIAN STRIP","E042","",0,null,"","","","","","","",0,0,0,0,0,0,0]
[null,null,"100510..CPCMLD","230519-H01","J9P3735","0270","608600496",76799,"CONCRETE SIDEWALK, 4 IN.","E042","",0,null,"","","","","","","",0,0,0,0,0,0,0]
[null,null,"100510..CPCMLD","230519-H01","J9P3735","0280","608600796",76800,"CONCRETE SIDEWALK, 7 IN.","E042","",0,null,"","","","","","","",0,0,0,0,0,0,0]
[null,null,"100510..CPCMLD","230519-H01","J9P3735","0290","608600896",76801,"CONCRETE SIDEWALK, 8 IN.","E042","",0,null,"","","","","","","",0,0,0,0,0,0,0]
[null,null,"100510..CPCMLD","230519-H01","J9P3735","0320","609201196",76802,"INTEGRAL CURB (6 IN. HEIGHT AND UNDER) TYPE A","E042","",0,null,"","","","","","","",0,0,0,0,0,0,0]
[null,null,"100510..CPCMLD","230519-H01","J9P3735","0470","617310196",76812,"CONCRETE TRAFFIC BARRIER, TYPE D (MODIFIED)","E042","",0,null,"","","","","","","",0,0,0,0,0,0,0]
[null,null,"100510..CPCMLD","230519-H01","J9P3735","2210","5031011A96",76975,"BRIDGE APPROACH SLAB (MINOR ROAD)","E042","",0,null,"","","","","","","",0,0,0,0,0,0,0]
[null,null,"100510..CPCMLD","230519-H01","J9P3735","2250","703200396",76978,"CLASS B CONCRETE (SUBSTRUCTURE)","E042","",0,null,"","","","","","","",0,0,0,0,0,0,0]
[null,null,"100510..CPCMLD","230519-H01","J9P3735","2260","7034219A96",76979,"TYPE D BARRIER","E042","",0,null,"","","","","","","",0,0,0,0,0,0,0]
[null,null,"100510..CPCMLD","230519-H01","J9P3735","2270","703422196",76980,"SLAB ON CONCRETE NU-GIRDER","E042","",0,null,"","","","","","","",0,0,0,0,0,0,0]
[null,null,"100510..CPCMLD","230616-G01","J8S3149","0300","608101096",77452,"CONCRETE CURB RAMP","E042","",0,null,"","","","","","","",0,0,0,0,0,0,0]
[null,null,"100510..CPCMLD","230616-G01","J8S3149","0320","608300896",77454,"8 IN. CONCRETE MEDIAN STRIP","E042","",0,null,"","","","","","","",0,0,0,0,0,0,0]
[null,null,"100510..CPCMLD","230616-G01","J8S3149","0330","608500896",77455,"PAVED APPROACH, 8 IN.","E042","",0,null,"","","","","","","",0,0,0,0,0,0,0]
[null,null,"100510..CPCMLD","230616-G01","J8S3149","0340","608600496",77456,"CONCRETE SIDEWALK, 4 IN.","E042","",0,null,"","","","","","","",0,0,0,0,0,0,0]
[null,null,"100510..CPCMLD","230616-G01","J8S3149","0350","608600896",77457,"CONCRETE SIDEWALK, 8 IN.","E042","",0,null,"","","","","","","",0,0,0,0,0,0,0]
[null,null,"100510..CPCMLD","230616-G01","J8S3149","0360","609101096",77458,"CONCRETE CURB (6 IN. HEIGHT AND UNDER) TYPE S","E042","",0,null,"","","","","","","",0,0,0,0,0,0,0]
[null,null,"100510..CPCMLD","230616-G01","J8S3149","0370","609105196",77459,"CURB AND GUTTER TYPE A","E042","",0,null,"","","","","","","",0,0,0,0,0,0,0]
[null,null,"100510..CPCMLD","230616-G01","J8S3149","0380","6099903",77551,"MODIFIED TYPE A CURB","E042","",0,null,"","","","","","","",0,0,0,0,0,0,0]
[null,null,"100510..CPCMLD","230616-G01","J8S3172","1410","608101096",77425,"CONCRETE CURB RAMP","E042","",0,null,"","","","","","","",0,0,0,0,0,0,0]
[null,null,"100510..CPCMLD","230616-G01","J8S3172","1430","608500896",77427,"PAVED APPROACH, 8 IN.","E042","",0,null,"","","","","","","",0,0,0,0,0,0,0]
[null,null,"100510..CPCMLD","230616-G01","J8S3172","1440","608600496",77428,"CONCRETE SIDEWALK, 4 IN.","E042","",0,null,"","","","","","","",0,0,0,0,0,0,0]
[null,null,"100510..CPCMLD","230616-G01","J8S3172","1450","609101096",77429,"CONCRETE CURB (6 IN. HEIGHT AND UNDER) TYPE S","E042","",0,null,"","","","","","","",0,0,0,0,0,0,0]
[null,null,"100510..CPCMLD","230616-G01","J8S3172","1460","6099903",77547,"MODIFIED TYPE S CURB, 6 IN TO 30 IN HEIGHT","E042","",0,null,"","","","","","","",0,0,0,0,0,0,0]
[null,null,"100510..CPCMLD","230616-G01","J8S3190","1780","608101096",77502,"CONCRETE CURB RAMP","E042","",0,null,"","","","","","","",0,0,0,0,0,0,0]
[null,null,"100510..CPCMLD","230616-G01","J8S3190","1810","608500896",77504,"PAVED APPROACH, 8 IN.","E042","",0,null,"","","","","","","",0,0,0,0,0,0,0]
[null,null,"100510..CPCMLD","230616-G01","J8S3190","1820","608600496",77505,"CONCRETE SIDEWALK, 4 IN.","E042","",0,null,"","","","","","","",0,0,0,0,0,0,0]
[null,null,"100510..CPCMLD","230616-G01","J8S3190","1830","608600896",77506,"CONCRETE SIDEWALK, 8 IN.","E042","",0,null,"","","","","","","",0,0,0,0,0,0,0]
[null,null,"100510..CPCMLD","230616-G01","J8S3190","1840","609101096",77507,"CONCRETE CURB (6 IN. HEIGHT AND UNDER) TYPE S","E042",{"$f":"IF(C867=$C$162,D867,\"\")","v":""},0,null,{"$f":"(IF(K867=\"\",\"\",IF(OR(D867=$J$33,D867=$T$33, D867=$O$33),D867,\"\")))","v":""},{"$f":"IF(N867=\"\",\"\",F867)","v":""},{"$f":"IF(N867=\"\", \"\", E867)","v":""},{"$f":"IF(N867=\"\", \"\", G867)","v":""},"","","",0,0,0,0,0,0,0]
[null,null,"100510..CPCMLD","230616-G01","J8S3190","1850","609101196",77508,"CONCRETE CURB (OVER 6 IN. HEIGHT) TYPE S","E042","",0,null,"","","","",{"$f":"IF(N868=\"\",\"\",I868)","v":""},{"$f":"IF(N868=\"\",\"\",J868)","v":""},{"$f":"IF(N868=\"\",\"\",H868)","v":""},0,0,0,0,0,0,0]
[null,null,"100510..CPCMLD","230616-G01","J8S3190","1860","609105196",77509,"CURB AND GUTTER TYPE A","E042","",0,null,"","","","","","","",0,0,0,0,0,0,0]
[null,null,"100510..CPCMLD","230616-G01","JSR0127","2100","608101096",77524,"CONCRETE CURB RAMP","E042","",0,null,"","","","","","","",0,0,0,0,0,0,0]
[null,null,"100510..CPCMLD","230616-G01","JSR0127","2120","608500896",77526,"PAVED APPROACH, 8 IN.","E042","",0,null,"","","","","","","",0,0,0,0,0,0,0]
[null,null,"100510..CPCMLD","230616-G01","JSR0127","2130","608600496",77527,"CONCRETE SIDEWALK, 4 IN.","E042","",0,null,"","","","","","","",0,0,0,0,0,0,0]
[null,null,"100510..CPCMLD","230616-G01","JSR0127","2150","609105196",77528,"CURB AND GUTTER TYPE A","E042","",0,null,"","","","","","","",0,0,0,0,0,0,0]
[null,null,"100510..CPCMLD","230616-G01","JSU0085","2440","608300896",77353,"8 IN. CONCRETE MEDIAN STRIP","E042","",0,null,"","","","","","","",0,0,0,0,0,0,0]
[null,null,"100510..CPCMLD","230616-H02","J9S3525","0080","608300496",77615,"4 IN. CONCRETE MEDIAN STRIP","E042","",0,null,"","","","","","","",0,0,0,0,0,0,0]
[null,null,"100510..CPCMLD","230712-F01","J6I3526B","0010","10199DB196",78980,"General All Inclusive For Combined Payment","E042","",0,null,"","","","","","","",0,0,0,0,0,0,0]
[null,null,"100510..CPCMLD","230818-A03","J1P3318","0130","401015096",78736,"TYPE A2 SHOULDER","E042","",0,null,"","","","","","","",0,0,0,0,0,0,0]
[null,null,"100510..CPCMLD","230818-A03","J1P3318","0150","401990596",78738,"OPTIONAL PAVEMENT A","E042","",0,null,"","","","","","","",0,0,0,0,0,0,0]
[null,null,"100510..CPCMLD","230818-A03","J1P3318","0160","401990596",78739,"OPTIONAL PAVEMENT B","E042","",0,null,"","","","","","","",0,0,0,0,0,0,0]
[null,null,"100510..CPCMLD","230818-A03","J1P3318","0220","502111096",78741,"CONCRETE PAVEMENT (10 IN. NON-REINF)","E042","",0,null,"","","","","","","",0,0,0,0,0,0,0]
[null,null,"100510..CPCMLD","230818-A03","J1P3318","0250","605402096",78744,"OUTLET PIPES AND SPLASH PADS","E042","",0,null,"","","","","","","",0,0,0,0,0,0,0]
[null,null,"100510..CPCMLD","230818-A03","J1P3318","0300","613101096",78748,"FURNISHING AND PLACING CONCRETE MATERIAL FOR FULL DEPTH PAVEMENT REPAIR","E042","",0,null,"","","","","","","",0,0,0,0,0,0,0]
[null,null,"100510..CPCMLD","230818-A03","J1P3318","0390","6173103",80366,"CONCRETE TRAFFIC BARRIER, TYPE D (MOMENT SLAB)","E042","",0,null,"","","","","","","",0,0,0,0,0,0,0]
[null,null,"100510..CPCMLD","230818-A08","JNW0007","0290","5031011A96",78689,"BRIDGE APPROACH SLAB (MINOR ROAD)","E042","",0,null,"","","","","","","",0,0,0,0,0,0,0]
[null,null,"100510..CPCMLD","230818-A08","JNW0007","0300","702131696",78690,"GALVANIZED CAST-IN-PLACE CONCRETE PILES (16 IN)","E042","",0,null,"","","","","","","",0,0,0,0,0,0,0]
[null,null,"100510..CPCMLD","230818-A08","JNW0007","0310","702132096",78691,"GALVANIZED CAST-IN-PLACE CONCRETE PILES (20 IN)","E042","",0,null,"","","","","","","",0,0,0,0,0,0,0]
[null,null,"100510..CPCMLD","230818-A08","JNW0007","0340","703200396",78693,"CLASS B CONCRETE (SUBSTRUCTURE)","E042","",0,null,"","","","","","","",0,0,0,0,0,0,0]
[null,null,"100510..CPCMLD","230818-A08","JNW0007","0350","703421696",78694,"TYPE H BARRIER","E042","",0,null,"","","","","","","",0,0,0,0,0,0,0]
[null,null,"100510..CPCMLD","230818-A08","JNW0007","0360","703422196",78695,"SLAB ON CONCRETE NU-GIRDER","E042","",0,null,"","","","","","","",0,0,0,0,0,0,0]
[null,null,"100510..CPCMLD","230818-G01","J7S3491","0730","608500896",78570,"PAVED APPROACH, 8 IN.","E042","",0,null,"","","","","","","",0,0,0,0,0,0,0]
[null,null,"100510..CPCMLD","230818-G01","J7S3491","0740","608600496",78571,"CONCRETE SIDEWALK, 4 IN.","E042","",0,null,"","","","","","","",0,0,0,0,0,0,0]
[null,null,"100510..CPCMLD","230818-G01","J7S3500","1400","7039902",78593,"End Post Modifications","E042","",null,null,"","","","","","","",0,0,0,0,0,0,0]
[null,null,"100510..CPCMLD","230818-G01","J7S3500","1410","7039902",78590,"End Post Modifications","E042","",null,null,"","","","","","","",0,0,0,0,0,0,0]
[null,null,"100510..CPCMLD","230915-D05","J5S3369B","0080","502110896",80115,"CONCRETE PAVEMENT ( 8 IN. NON-REINF)","E042","",null,null,"","","","","","","",0,0,0,0,0,0,0]
[null,null,"100510..CPCMLD","230915-D05","J5S3369B","0120","608101096",80117,"CONCRETE CURB RAMP","E042","",null,null,"","","","","","","",0,0,0,0,0,0,0]
[null,null,"100510..CPCMLD","230915-D05","J5S3369B","0150","608500796",80119,"PAVED APPROACH, 7 IN.","E042","",null,null,"","","","","","","",0,0,0,0,0,0,0]
[null,null,"100510..CPCMLD","230915-D05","J5S3369B","0160","608500896",80120,"PAVED APPROACH, 8 IN.","E042","",null,null,"","","","","","","",0,0,0,0,0,0,0]
[null,null,"100510..CPCMLD","230915-D05","J5S3369B","0170","608600496",80121,"CONCRETE SIDEWALK, 4 IN.","E042","",null,null,"","","","","","","",0,0,0,0,0,0,0]
[null,null,"100510..CPCMLD","230915-D05","J5S3369B","0190","609101096",80122,"CONCRETE CURB (6 IN. HEIGHT AND UNDER) TYPE S","E042","",null,null,"","","","","","","",0,0,0,0,0,0,0]
[null,null,"100510..CPCMLD","230915-D05","J5S3369B","0290","703404196",80128,"CLASS B-1 CONCRETE (CULVERTS)","E042","",null,null,"","","","","","","",0,0,0,0,0,0,0]
[null,null,"100510..CPCMLD","230915-G05","J8S3157","0110","504100096",79461,"CONCRETE APPROACH PAVEMENT","E042","",null,null,"","","","","","","",0,0,0,0,0,0,0]
[null,null,"100510..CPCMLD","230915-G05","J8S3157","0120","608101096",79462,"CONCRETE CURB RAMP","E042","",null,null,"","","","","","","",0,0,0,0,0,0,0]
[null,null,"100510..CPCMLD","230915-G05","J8S3157","0140","608300696",79464,"6 IN. CONCRETE MEDIAN STRIP","E042","",null,null,"","","","","","","",0,0,0,0,0,0,0]
[null,null,"100510..CPCMLD","230915-G05","J8S3157","0150","608500896",79465,"PAVED APPROACH, 8 IN.","E042","",null,null,"","","","","","","",0,0,0,0,0,0,0]
[null,null,"100510..CPCMLD","230915-G05","J8S3157","0160","608600496",79466,"CONCRETE SIDEWALK, 4 IN.","E042","",null,null,"","","","","","","",0,0,0,0,0,0,0]
[null,null,"100510..CPCMLD","230915-G05","J8S3157","0180","609105296",79467,"CURB AND GUTTER TYPE B","E042","",null,null,"","","","","","","",0,0,0,0,0,0,0]
[null,null,"100510..CPCMLD","230915-G05","J8S3157","0190","609106096",79468,"PAVED DITCH","E042","",null,null,"","","","","","","",0,0,0,0,0,0,0]
[null,null,"100510..CPCMLD","230915-G05","J8S3157","0460","7034219A96",79488,"TYPE D BARRIER","E042","",null,null,"","","","","","","",0,0,0,0,0,0,0]
[null,null,"100510..CPCMLD","230915-G05","J8S3157","0800","5031010A96",79516,"BRIDGE APPROACH SLAB (MAJOR)","E042","",null,null,"","","","","","","",0,0,0,0,0,0,0]
[null,null,"100510..CPCMLD","230915-G05","J8S3157","0820","608300696",79518,"6 IN. CONCRETE MEDIAN STRIP","E042","",null,null,"","","","","","","",0,0,0,0,0,0,0]
[null,null,"100510..CPCMLD","230915-G05","J8S3157","0830","701110696",79519,"DRILLED SHAFTS (4 FT. 0 IN. DIA.)","E042","",null,null,"","","","","","","",0,0,0,0,0,0,0]
[null,null,"100510..CPCMLD","230915-G05","J8S3157","0840","701120596",79520,"ROCK SOCKETS (3 FT 6 IN. DIA.)","E042","",null,null,"","","","","","","",0,0,0,0,0,0,0]
[null,null,"100510..CPCMLD","230915-G05","J8S3157","0850","701120696",79521,"ROCK SOCKETS (4 FT  0 IN. DIA.)","E042","",null,null,"","","","","","","",0,0,0,0,0,0,0]
[null,null,"100510..CPCMLD","230915-G05","J8S3157","0920","703200396",79524,"CLASS B CONCRETE (SUBSTRUCTURE)","E042","",null,null,"","","","","","","",0,0,0,0,0,0,0]
[null,null,"100510..CPCMLD","230915-G05","J8S3157","0930","7034219A96",79525,"TYPE D BARRIER","E042","",null,null,"","","","","","","",0,0,0,0,0,0,0]
[null,null,"100510..CPCMLD","230915-G05","J8S3157","0940","703463096",79526,"CONCRETE CURB (BRIDGE RAIL)","E042","",null,null,"","","","","","","",0,0,0,0,0,0,0]
[null,null,"100510..CPCMLD","230915-G05","J8S3157","0950","7039905",80301,"SLAB ON CONCRETE BEAM WITH TRANSPARENT FORMS","E042","",null,null,"","","","","","","",0,0,0,0,0,0,0]
[null,null,"100510..CPCMLD","230915-G05","J8S3157","5002","701110796",111993,"DRILLED SHAFTS (4 FT. 6 IN. DIA.)","E042","",null,null,"","","","","","","",0,0,0,0,0,0,0]
[null,null,"100510..CPCMLD","231020-F03","J6S3215","0130","502111096",81408,"CONCRETE PAVEMENT (10 IN. NON-REINF)","E042","",null,null,"","","","","","","",0,0,0,0,0,0,0]
[null,null,"100510..CPCMLD","231020-F03","J6S3215","0210","6049902",81543,"CONCRETE MANHOLE COLLAR","E042","",null,null,"","","","","","","",0,0,0,0,0,0,0]
[null,null,"100510..CPCMLD","231020-F03","J6S3215","0240","608300496",81479,"4 IN. CONCRETE MEDIAN STRIP","E042","",null,null,"","","","","","","",0,0,0,0,0,0,0]
[null,null,"100510..CPCMLD","231020-F03","J6S3215","0250","608300696",81480,"6 IN. CONCRETE MEDIAN STRIP","E042","",null,null,"","","","","","","",0,0,0,0,0,0,0]
[null,null,"100510..CPCMLD","231020-F03","J6S3215","0260","608500896",81481,"PAVED APPROACH, 8 IN.","E042","",null,null,"","","","","","","",0,0,0,0,0,0,0]
[null,null,"100510..CPCMLD","231020-F03","J6S3215","0270","608600496",81482,"CONCRETE SIDEWALK, 4 IN.","E042","",null,null,"","","","","","","",0,0,0,0,0,0,0]
[null,null,"100510..CPCMLD","231020-F03","J6S3215","0280","608990296",81545,"ADA CURB RAMP","E042","",null,null,"","","","","","","",0,0,0,0,0,0,0]
[null,null,"100510..CPCMLD","231020-F03","J6S3215","0290","609101096",81483,"CONCRETE CURB (6 IN. HEIGHT AND UNDER) TYPE S","E042","",null,null,"","","","","","","",0,0,0,0,0,0,0]
[null,null,"100510..CPCMLD","231020-F03","J6S3215","0300","609101196",81484,"CONCRETE CURB (OVER 6 IN. HEIGHT) TYPE S","E042","",null,null,"","","","","","","",0,0,0,0,0,0,0]
[null,null,"100510..CPCMLD","231020-F03","J6S3215","0310","609104196",81485,"CONCRETE GUTTER TYPE A","E042","",null,null,"","","","","","","",0,0,0,0,0,0,0]
[null,null,"100510..CPCMLD","231020-F03","J6S3215","0320","609105296",81486,"CURB AND GUTTER TYPE B","E042","",null,null,"","","","","","","",0,0,0,0,0,0,0]
[null,null,"100510..CPCMLD","231020-F03","J6S3215","0330","609201196",81487,"INTEGRAL CURB (6 IN. HEIGHT AND UNDER) TYPE A","E042","",null,null,"","","","","","","",0,0,0,0,0,0,0]
[null,null,"100510..CPCMLD","231020-F03","J6S3215","0340","609202196",81488,"INTEGRAL CURB (OVER 6 IN. HEIGHT) TYPE A","E042",{"$f":"IF(C931=$C$162,D931,\"\")","v":""},null,null,{"$f":"(IF(K931=\"\",\"\",IF(OR(D931=$J$33,D931=$T$33, D931=$O$33),D931,\"\")))","v":""},{"$f":"IF(N931=\"\",\"\",F931)","v":""},{"$f":"IF(N931=\"\", \"\", E931)","v":""},{"$f":"IF(N931=\"\", \"\", G931)","v":""},"","","",0,0,0,0,0,0,0]
[null,null,"100510..CPCMLD","231020-F03","J6S3215","0370","6116010A96",81490,"SLOPE PROTECTION","E042","",null,null,"","","","",{"$f":"IF(N932=\"\",\"\",I932)","v":""},{"$f":"IF(N932=\"\",\"\",J932)","v":""},{"$f":"IF(N932=\"\",\"\",H932)","v":""},0,0,0,0,0,0,0]
[null,null,"100510..CPCMLD","231020-F03","J6S3215","0400","613101096",81493,"FURNISHING AND PLACING CONCRETE MATERIAL FOR FULL DEPTH PAVEMENT REPAIR","E042","",null,null,"","","","","","","",0,0,0,0,0,0,0]
[null,null,"100510..CPCMLD","231020-F03","J6S3215","0810","7319902",81537,"INLET TOP AND HOOD REPLACEMENT","E042","",null,null,"","","","","","","",0,0,0,0,0,0,0]
[null,null,"100510..CPCMLD","231020-F03","J6S3215","0820","7319902",81538,"INLET TOP REPLACEMENT","E042","",null,null,"","","","","","","",0,0,0,0,0,0,0]
[null,null,"100510..CPCMLD","231020-F03","J6S3592","1730","502133196",81392,"CONCRETE PAVEMENT (7 1/2 IN. NON-REINFORCED, 15 FT. JOINTS)","E042","",null,null,"","","","","","","",0,0,0,0,0,0,0]
[null,null,"100510..CPCMLD","231020-F03","J6S3592","1770","608600496",81394,"CONCRETE SIDEWALK, 4 IN.","E042","",null,null,"","","","","","","",0,0,0,0,0,0,0]
[null,null,"100510..CPCMLD","231020-F03","J6S3592","1790","609101096",81395,"CONCRETE CURB (6 IN. HEIGHT AND UNDER) TYPE S","E042","",null,null,"","","","","","","",0,0,0,0,0,0,0]
[null,null,"100510..CPCMLD","231020-F03","J6S3592","1800","609105296",81396,"CURB AND GUTTER TYPE B","E042","",null,null,"","","","","","","",0,0,0,0,0,0,0]
[null,null,"100510..CPCMLD","231020-F03","J6S3592","1830","613101096",81363,"FURNISHING AND PLACING CONCRETE MATERIAL FOR FULL DEPTH PAVEMENT REPAIR","E042","",null,null,"","","","","","","",0,0,0,0,0,0,0]
[null,null,"100510..CPCMLD","231020-F03","J6S3592","1950","617200196",81368,"CONCRETE TRAFFIC BARRIER, TYPE B (MODIFIED)","E042","",null,null,"","","","","","","",0,0,0,0,0,0,0]
[null,null,"100510..CPCMLD","231020-F03","J6S3592","1960","617300096",81372,"CONCRETE TRAFFIC BARRIER, TYPE C","E042","",null,null,"","","","","","","",0,0,0,0,0,0,0]
[null,null,"100510..CPCMLD","231020-F03","J6S3592","1990","6179903",92272,"TYPE B CONCRETE TRAFFIC BARRIER HEIGHT TRANSITION SECTION","E042","",null,null,"","","","","","","",0,0,0,0,0,0,0]
[null,null,"100510..CPCMLD","231020-F03","J6S3592","2000","6179903",92273,"TYPE C CONCRETE TRAFFIC BARRIER HEIGHT TRANSITION","E042","",null,null,"","","","","","","",0,0,0,0,0,0,0]
[null,null,"100510..CPCMLD","231117-A01","J1P3225","0090","613101096",82748,"FURNISHING AND PLACING CONCRETE MATERIAL FOR FULL DEPTH PAVEMENT REPAIR","E042","",null,null,"","","","","","","",0,0,0,0,0,0,0]
[null,null,"100510..CPCMLD","231117-A01","J1P3226","0410","608500896",82770,"PAVED APPROACH, 8 IN.","E042","",null,null,"","","","","","","",0,0,0,0,0,0,0]
[null,null,"100510..CPCMLD","231117-A01","J1P3226","0440","613101096",82773,"FURNISHING AND PLACING CONCRETE MATERIAL FOR FULL DEPTH PAVEMENT REPAIR","E042","",null,null,"","","","","","","",0,0,0,0,0,0,0]
[null,null,"100510..CPCMLD","231117-D2A","J5P3497","0130","401990596",82406,"Optional Pavement 8\" PCCP or 9\" HMA","E042","",null,null,"","","","","","","",0,0,0,0,0,0,0]
[null,null,"100510..CPCMLD","231117-D2A","J5P3497","0140","401990596",82407,"Optional Pavement 8.5\" PCCP or 9.5\" HMA","E042","",null,null,"","","","","","","",0,0,0,0,0,0,0]
[null,null,"100510..CPCMLD","231117-D2A","J5P3497","0150","401990596",82408,"Optional Pavement 8.75\" PCCP or 9.75\" HMA","E042","",null,null,"","","","","","","",0,0,0,0,0,0,0]
[null,null,"100510..CPCMLD","231117-D2A","J5P3497","0170","604401196",82409,"PIPE COLLAR, TYPE A","E042","",null,null,"","","","","","","",0,0,0,0,0,0,0]
[null,null,"100510..CPCMLD","231117-D2B","J5S3458","0050","401990596",82542,"OPTIONAL PAVEMENT","E042","",null,null,"","","","","","","",0,0,0,0,0,0,0]
[null,null,"100510..CPCMLD","231117-D2B","J5S3458","0080","6116010A96",82544,"SLOPE PROTECTION","E042","",null,null,"","","","","","","",0,0,0,0,0,0,0]
[null,null,"100510..CPCMLD","231117-D2B","J5S3458","0610","5031011A96",82579,"BRIDGE APPROACH SLAB (MINOR ROAD)","E042","",null,null,"","","","","","","",0,0,0,0,0,0,0]
[null,null,"100510..CPCMLD","231117-D2B","J5S3458","0650","703421496",82581,"CLASS B-2 CONCRETE","E042","",null,null,"","","","","","","",0,0,0,0,0,0,0]
[null,null,"100510..CPCMLD","231117-D2B","J5S3458","0660","703460096",82582,"CURB BLOCKOUT","E042","",null,null,"","","","","","","",0,0,0,0,0,0,0]
[null,null,"100510..CPCMLD","231117-D2B","J5S3458","0840","2169903",82920,"REMOVE AND REPLACE BARRIER","E042","",null,null,"","","","","","","",0,0,0,0,0,0,0]
[null,null,"100510..CPCMLD","231117-D2B","J5S3458","0880","703421496",82594,"CLASS B-2 CONCRETE","E042","",null,null,"","","","","","","",0,0,0,0,0,0,0]
[null,null,"100510..CPCMLD","231117-D2B","J5S3458","1020","2169903",82922,"REMOVE AND REPLACE BARRIER","E042","",null,null,"","","","","","","",0,0,0,0,0,0,0]
[null,null,"100510..CPCMLD","231117-D2B","J5S3458","1060","703421496",82603,"CLASS B-2 CONCRETE","E042","",null,null,"","","","","","","",0,0,0,0,0,0,0]
[null,null,"100510..CPCMLD","231117-D2B","J5S3458","1170","2169903",82924,"REMOVE AND REPLACE BARRIER","E042","",null,null,"","","","","","","",0,0,0,0,0,0,0]
[null,null,"100510..CPCMLD","231117-D2B","J5S3458","1190","703421496",82612,"CLASS B-2 CONCRETE","E042","",null,null,"","","","","","","",0,0,0,0,0,0,0]
[null,null,"100510..CPCMLD","231117-D2B","JCD0100","1420","613101096",82670,"FURNISHING AND PLACING CONCRETE MATERIAL FOR FULL DEPTH PAVEMENT REPAIR","E042","",null,null,"","","","","","","",0,0,0,0,0,0,0]
[null,null,"100510..CPCMLD","231117-D2B","JCD0114","1960","401990596",82625,"OPTIONAL PAVEMENT","E042","",null,null,"","","","","","","",0,0,0,0,0,0,0]
[null,null,"100510..CPCMLD","231117-D2B","JCD0114","2000","608300396",82629,"3 IN. CONCRETE MEDIAN STRIP","E042","",null,null,"","","","","","","",0,0,0,0,0,0,0]
[null,null,"100510..CPCMLD","231117-D2B","JCD0100","5001","9031010",84006,"CONCRETE FOOTINGS, EMBEDDED","E042","",null,null,"","","","","","","",0,0,0,0,0,0,0]
[null,null,"100510..CPCMLD","231117-F01","J6S3280","0130","504100096",81835,"CONCRETE APPROACH PAVEMENT","E042","",null,null,"","","","","","","",0,0,0,0,0,0,0]
[null,null,"100510..CPCMLD","231117-F01","J6S3280","0180","6049902",81960,"CONCRETE MANHOLE COLLAR","E042","",null,null,"","","","","","","",0,0,0,0,0,0,0]
[null,null,"100510..CPCMLD","231117-F01","J6S3280","0230","608300696",81838,"6 IN. CONCRETE MEDIAN STRIP","E042","",null,null,"","","","","","","",0,0,0,0,0,0,0]
[null,null,"100510..CPCMLD","231117-F01","J6S3280","0260","608500896",81840,"PAVED APPROACH, 8 IN.","E042","",null,null,"","","","","","","",0,0,0,0,0,0,0]
[null,null,"100510..CPCMLD","231117-F01","J6S3280","0270","608600496",81841,"CONCRETE SIDEWALK, 4 IN.","E042","",null,null,"","","","","","","",0,0,0,0,0,0,0]
[null,null,"100510..CPCMLD","231117-F01","J6S3280","0280","608990296",81962,"ADA CURB RAMP","E042","",null,null,"","","","","","","",0,0,0,0,0,0,0]
[null,null,"100510..CPCMLD","231117-F01","J6S3280","0290","609101096",81842,"CONCRETE CURB (6 IN. HEIGHT AND UNDER) TYPE S","E042","",null,null,"","","","","","","",0,0,0,0,0,0,0]
[null,null,"100510..CPCMLD","231117-F01","J6S3280","0300","609105296",81843,"CURB AND GUTTER TYPE B","E042","",null,null,"","","","","","","",0,0,0,0,0,0,0]
[null,null,"100510..CPCMLD","231117-F01","J6S3280","0340","6099903",81963,"VARIABLE HEIGHT CURB","E042","",null,null,"","","","","","","",0,0,0,0,0,0,0]
[null,null,"100510..CPCMLD","231117-F01","J6S3280","0390","613101096",81849,"FURNISHING AND PLACING CONCRETE MATERIAL FOR FULL DEPTH PAVEMENT REPAIR","E042","",null,null,"","","","","","","",0,0,0,0,0,0,0]
[null,null,"100510..CPCMLD","231117-F01","J6S3280","0510","617100096",81857,"CONCRETE TRAFFIC BARRIER, TYPE A","E042","",null,null,"","","","","","","",0,0,0,0,0,0,0]
[null,null,"100510..CPCMLD","231117-F01","J6S3280","0520","6173103",81858,"CONCRETE TRAFFIC BARRIER, TYPE D (MOMENT SLAB)","E042","",null,null,"","","","","","","",0,0,0,0,0,0,0]
[null,null,"100510..CPCMLD","231117-F01","J6S3280","0530","617320096",81859,"CONCRETE TRAFFIC BARRIER, TYPE E","E042","",null,null,"","","","","","","",0,0,0,0,0,0,0]
[null,null,"100510..CPCMLD","231117-F01","J6S3280","0720","703200296",81871,"CLASS B CONCRETE (MISC)","E042","",null,null,"","","","","","","",0,0,0,0,0,0,0]
[null,null,"100510..CPCMLD","231117-F01","J6S3280","1560","5031010A96",81941,"BRIDGE APPROACH SLAB (MAJOR)","E042","",null,null,"","","","","","","",0,0,0,0,0,0,0]
[null,null,"100510..CPCMLD","231117-F01","J6S3280","1600","703200396",81944,"CLASS B CONCRETE (SUBSTRUCTURE)","E042","",null,null,"","","","","","","",0,0,0,0,0,0,0]
[null,null,"100510..CPCMLD","231117-F01","J6S3280","1620","7034219A96",81945,"TYPE D BARRIER","E042","",null,null,"","","","","","","",0,0,0,0,0,0,0]
[null,null,"100510..CPCMLD","231117-F01","J6S3280","1630","703422296",81946,"SLAB ON CONCRETE BEAM","E042","",null,null,"","","","","","","",0,0,0,0,0,0,0]
[null,null,"100510..CPCMLD","231117-F01","J6S3280","1640","703441096",81947,"TYPE A BARRIER","E042","",null,null,"","","","","","","",0,0,0,0,0,0,0]
[null,null,"100510..CPCMLD","231117-F01","J6S3280","1650","703443096",81948,"SIDEWALK (BRIDGES)","E042","",null,null,"","","","","","","",0,0,0,0,0,0,0]
[null,null,"100510..CPCMLD","231117-F01","J6S3280","1760","703200396",81955,"CLASS B CONCRETE (SUBSTRUCTURE)","E042","",null,null,"","","","","","","",0,0,0,0,0,0,0]
[null,null,"100510..CPCMLD","231117-F01","J6S3280","5011","1094000",99352,"FORCE ACCOUNT","E042","",null,null,"","","","","","","",0,0,0,0,0,0,0]
[null,null,"100510..CPCMLD","231117-F02","J6S3351","0130","401990596",82170,"OPTIONAL PAVEMENT","E042","",null,null,"","","","","","","",0,0,0,0,0,0,0]
[null,null,"100510..CPCMLD","231117-F02","J6S3351","0140","502110896",82171,"CONCRETE PAVEMENT ( 8 IN. NON-REINF)","E042","",null,null,"","","","","","","",0,0,0,0,0,0,0]
[null,null,"100510..CPCMLD","231117-F02","J6S3351","0150","502134096",82172,"TYPE A2 SHOULDER","E042","",null,null,"","","","","","","",0,0,0,0,0,0,0]
[null,null,"100510..CPCMLD","231117-F02","J6S3351","0170","605402096",82174,"OUTLET PIPES AND SPLASH PADS","E042","",null,null,"","","","","","","",0,0,0,0,0,0,0]
[null,null,"100510..CPCMLD","231117-F02","J6S3351","0180","607110296",82175,"MODIFIED CONCRETE GUTTER TYPE B","E042","",null,null,"","","","","","","",0,0,0,0,0,0,0]
[null,null,"100510..CPCMLD","231117-F02","J6S3351","0190","608300696",82176,"6 IN. CONCRETE MEDIAN STRIP","E042","",null,null,"","","","","","","",0,0,0,0,0,0,0]
[null,null,"100510..CPCMLD","231117-F02","J6S3351","0200","608500796",82177,"PAVED APPROACH, 7 IN.","E042",{"$f":"IF(C995=$C$162,D995,\"\")","v":""},null,null,{"$f":"(IF(K995=\"\",\"\",IF(OR(D995=$J$33,D995=$T$33, D995=$O$33),D995,\"\")))","v":""},{"$f":"IF(N995=\"\",\"\",F995)","v":""},{"$f":"IF(N995=\"\", \"\", E995)","v":""},{"$f":"IF(N995=\"\", \"\", G995)","v":""},"","","",0,0,0,0,0,0,0]
[null,null,"100510..CPCMLD","231117-F02","J6S3351","0210","608500896",82178,"PAVED APPROACH, 8 IN.","E042","",null,null,"","","","",{"$f":"IF(N996=\"\",\"\",I996)","v":""},{"$f":"IF(N996=\"\",\"\",J996)","v":""},{"$f":"IF(N996=\"\",\"\",H996)","v":""},0,0,0,0,0,0,0]
[null,null,"100510..CPCMLD","231117-F02","J6S3351","0220","609101096",82179,"CONCRETE CURB (6 IN. HEIGHT AND UNDER) TYPE S","E042","",null,null,"","","","","","","",0,0,0,0,0,0,0]
[null,null,"100510..CPCMLD","231117-F02","J6S3351","0230","609104196",82180,"CONCRETE GUTTER TYPE A","E042","",null,null,"","","","","","","",0,0,0,0,0,0,0]
[null,null,"100510..CPCMLD","231117-F02","J6S3351","0240","609104296",82181,"CONCRETE GUTTER TYPE B","E042","",null,null,"","","","","","","",0,0,0,0,0,0,0]
[null,null,"100510..CPCMLD","231117-F02","J6S3351","0250","609105296",82182,"CURB AND GUTTER TYPE B","E042","",null,null,"","","","","","","",0,0,0,0,0,0,0]
[null,null,"100510..CPCMLD","231117-F02","J6S3351","1120","701120296",82158,"ROCK SOCKETS (2 FT  0 IN. DIA.)","E042","",null,null,"","","","","","","",0,0,0,0,0,0,0]
[null,null,"100510..CPCMLD","231215-F01","J6I3427","0360","608500796",83297,"PAVED APPROACH, 7 IN.","E042","",null,null,"","","","","","","",0,0,0,0,0,0,0]
[null,null,"100510..CPCMLD","231215-F01","J6I3427","0440","609104196",83327,"CONCRETE GUTTER TYPE A","E042","",null,null,"","","","","","","",0,0,0,0,0,0,0]
[null,null,"100510..CPCMLD","231215-F01","J6I3427","0770","6179903",84149,"CONCRETE TRAFFIC BARRIER, TYPE C (MODIFIED)","E042","",null,null,"","","","","","","",0,0,0,0,0,0,0]
[null,null,"100510..CPCMLD","240109-A01","JNW0026","0080","70199DB1",82944,"Bridges and Other Structures","E042","",null,null,"","","","","","","",0,0,0,0,0,0,0]
[null,null,"100510..CPCMLD","240109-A01","JNW0026","0080","Olaughlin Marceline",84071,"Bridges and Other Structures","E042","",null,null,"","","","","","","",0,0,0,0,0,0,0]
[null,null,"100510..CPCMLD","240119-D03","J5S3464","0890","703200396",85549,"CLASS B CONCRETE (SUBSTRUCTURE)","E042","",null,null,"","","","","","","",0,0,0,0,0,0,0]
[null,null,"100510..CPCMLD","240119-H03","J9P3849","0530","703421696",85430,"TYPE H BARRIER","E042","",null,null,"","","","","","","",0,0,0,0,0,0,0]
[null,null,"100510..CPCMLD","240119-H07","J9S3645","1270","701110596",84603,"DRILLED SHAFTS (3 FT. 6 IN. DIA.)","E042","",null,null,"","","","","","","",0,0,0,0,0,0,0]
[null,null,"100510..CPCMLD","240119-H07","J9S3646","1800","703200396",84504,"CLASS B CONCRETE (SUBSTRUCTURE)","E042","",null,null,"","","","","","","",0,0,0,0,0,0,0]
[null,null,"100510..CPCMLD","240119-H08","J9S3641","5002","703421696",94968,"TYPE H BARRIER","E042","",null,null,"","","","","","","",0,0,0,0,0,0,0]
[null,null,"100510..CPCMLD","240216-H02","J9P3121B","0120","609104296",86167,"CONCRETE GUTTER TYPE B","E042","",null,null,"","","","","","","",0,0,0,0,0,0,0]
[null,null,"100510..CPCMLD","240315-F03","J6S3519","0210","608600496",88017,"CONCRETE SIDEWALK, 4 IN.","E042",{"$f":"IF(C1123=$C$162,D1123,\"\")","v":""},null,null,{"$f":"(IF(K1123=\"\",\"\",IF(OR(D1123=$J$33,D1123=$T$33, D1123=$O$33),D1123,\"\")))","v":""},{"$f":"IF(N1123=\"\",\"\",F1123)","v":""},{"$f":"IF(N1123=\"\", \"\", E1123)","v":""},{"$f":"IF(N1123=\"\", \"\", G1123)","v":""},"","","",0,0,0,0,0,0,0]
[null,null,"100510..CPCMLD","240315-F03","J6S3519","0270","609105296",88021,"CURB AND GUTTER TYPE B","E042","",null,null,"","","","","","","",0,0,0,0,0,0,0]
[null,null,"100510..CPCMLD","240315-G01","J7S3501","0480","703422196",87733,"SLAB ON CONCRETE NU-GIRDER","E042","",null,null,"","","","","","","",0,0,0,0,0,0,0]
[null,null,"100510..CPCMLD","240315-H03","J9P3768","0360","5031010A96",87466,"BRIDGE APPROACH SLAB (MAJOR)","E042","",null,null,"","","","","","","",0,0,0,0,0,0,0]
[null,null,"100510..CPCMLD","240315-H03","J9S3608","0820","703421696",87434,"TYPE H BARRIER","E042","",null,null,"","","","","","","",0,0,0,0,0,0,0]
[null,null,"100510..CPCMLD","240315-H03","J9P3768","5101","702131696",90573,"GALVANIZED CAST-IN-PLACE CONCRETE PILES (16 IN)","E042","",null,null,"","","","","","","",0,0,0,0,0,0,0]
[null,null,"100510..CPCMLD","240419-F01","J6S3368","0550","703404096",88381,"CLASS B-1 CONCRETE (CULVERTS-BRIDGE)","E042","",null,null,"","","","","","","",0,0,0,0,0,0,0]
[null,null,"100510..CPCMLD","240419-F02","J6S3417","0280","608600496",88439,"CONCRETE SIDEWALK, 4 IN.","E042","",null,null,"","","","","","","",0,0,0,0,0,0,0]
[null,null,"100510..CPCMLD","240419-F02","J6S3417","0330","609104296",88442,"CONCRETE GUTTER TYPE B","E042","",null,null,"","","","","","","",0,0,0,0,0,0,0]
[null,null,"100510..CPCMLD","240419-F05","J6S3599","0170","502133196",88798,"CONCRETE PAVEMENT (7 1/2 IN. NON-REINFORCED, 15 FT. JOINTS)","E042","",null,null,"","","","","","","",0,0,0,0,0,0,0]
[null,null,"100510..CPCMLD","240419-F05","J6S3599","0280","608600896",88652,"CONCRETE SIDEWALK, 8 IN.","E042","",null,null,"","","","","","","",0,0,0,0,0,0,0]
[null,null,"100510..CPCMLD","240419-F05","J6S3599","0850","7069902",91519,"7 FT. x 8 FT. DRAINAGE FLUME","E042","",null,null,"","","","","","","",0,0,0,0,0,0,0]
[null,null,"100510..CPCMLD","240419-G05","J8P3192","0110","608101096",89054,"CONCRETE CURB RAMP","E042","",null,null,"","","","","","","",0,0,0,0,0,0,0]
[null,null,"100510..CPCMLD","240419-G05","J8P3192","0190","609101096",89060,"CONCRETE CURB (6 IN. HEIGHT AND UNDER) TYPE S","E042","",null,null,"","","","","","","",null,null,""]
[null,null,"100510..CPCMLD","240419-H08","J9S3589","0480","703200396",89498,"CLASS B CONCRETE (SUBSTRUCTURE)","E042","",null,null,"","","","","","","",null,null,""]
[null,null,"100510..CPCMLD","240517-B01","J2P3043","0310","609105296",90129,"CURB AND GUTTER TYPE B","E042","",null,null,"","","","","","","",null,null,""]
[null,null,"100510..CPCMLD","240517-B01","J2P3043","2190","703422196",90273,"SLAB ON CONCRETE NU-GIRDER","E042","",null,null,"","","","","","","",null,null,""]
[null,null,"100510..CPCMLD","240517-C02","J4P3268C","0070","608500896",90906,"PAVED APPROACH, 8 IN.","E042","",null,null,"","","","","","","",null,null,""]
[null,null,"100510..CPCMLD","240517-D05","J5P3575","0280","608600496",91209,"CONCRETE SIDEWALK, 4 IN.","E042","",null,null,"","","","","","","",null,null,""]
[null,null,"100510..CPCMLD","240517-D05","J5P3575","0330","609201296",91214,"INTEGRAL CURB (6 IN. HEIGHT AND UNDER) TYPE B","E042","",null,null,"","","","","","","",null,null,""]
[null,null,"100510..CPCMLD","240517-D12","JCD0121","0200","608600496",90434,"CONCRETE SIDEWALK, 4 IN.","E042","",null,null,"","","","","","","",null,null,""]
[null,null,"100510..CPCMLD","240517-F08","J6S3279","0080","608300896",91042,"8 IN. CONCRETE MEDIAN STRIP","E042","",null,null,"","","","","","","",null,null,""]
[null,null,"100510..CPCMLD","240517-F08","J6S3279","0600","609101096",90952,"CONCRETE CURB (6 IN. HEIGHT AND UNDER) TYPE S","E042","",null,null,"","","","","","","",null,null,""]
[null,null,"100510..CPCMLD","240517-F08","J6S3416","0800","608300696",90966,"6 IN. CONCRETE MEDIAN STRIP","E042","",null,null,"","","","","","","",null,null,""]
[null,null,"100510..CPCMLD","240517-F08","J6S3416B","1720","608300696",91020,"6 IN. CONCRETE MEDIAN STRIP","E042","",null,null,"","","","","","","",null,null,""]
[null,null,"100510..CPCMLD","240517-F08","J6S3416B","1730","608990296",91091,"CONCRETE CURB RAMP (7 IN. THICK)","E042","",null,null,"","","","","","","",null,null,""]
[null,null,"100510..CPCMLD","240517-G11","J7P3484C","0550","701111096",91157,"DRILLED SHAFTS (6 FT. 0 IN. DIA.)","E042",{"$f":"IF(C1379=$C$162,D1379,\"\")","v":""},null,null,{"$f":"(IF(K1379=\"\",\"\",IF(OR(D1379=$J$33,D1379=$T$33, D1379=$O$33),D1379,\"\")))","v":""},{"$f":"IF(N1379=\"\",\"\",F1379)","v":""},{"$f":"IF(N1379=\"\", \"\", E1379)","v":""},{"$f":"IF(N1379=\"\", \"\", G1379)","v":""},"","","",null,null,""]
[null,null,"100510..CPCMLD","240517-G11","J7P3484C","0750","5031010A96",91171,"BRIDGE APPROACH SLAB (MAJOR)","E042","",null,null,"","","","","","","",null,null,""]
[null,null,"100510..CPCMLD","240517-H03","J9S3593","0420","703422296",90754,"SLAB ON CONCRETE BEAM","E042","",null,null,"","","","","","","",null,null,""]
[null,null,"100510..CPCMLD","240621-A06","JNW0022","0080","608500896",91772,"PAVED APPROACH, 8 IN.","E042","",null,null,"","","","","","","",null,null,""]
[null,null,"100510..CPCMLD","240816-D01","J5P3522","0420","5031010A96",92948,"BRIDGE APPROACH SLAB (MAJOR)","E042","",null,null,"","","","","","","",null,null,""]
[null,null,"100510..CPCMLD","240816-F02","J6S3633","0190","608500896",92513,"PAVED APPROACH, 8 IN.","E042","",null,null,"","","","","","","",null,null,""]
[null,null,"100510..CPCMLD","240816-G05","JSR0010","0070","607110196",93173,"MODIFIED CONCRETE GUTTER TYPE A","E042","",null,null,"","","","","","","",null,null,""]
[null,null,"100510..CPCMLD","240816-G05","JSR0010","0290","703421596",93188,"TYPE B BARRIER","E042","",null,null,"","","","","","","",null,null,""]
[null,null,"100510..CPCMLD","240920-A04","JNW0031","0430","7034219A96",93554,"TYPE D BARRIER","E042","",null,null,"","","","","","","",null,null,""]
[null,null,"100510..CPCMLD","240920-D01","J5P3498","0200","608600496",102331,"CONCRETE SIDEWALK, 4 IN.","E042","",null,null,"","","","","","","",null,null,""]
[null,null,"100510..CPCMLD","240920-D02","JCD0099","0750","7039902",93489,"Barrier End Modification","E042","",null,null,"","","","","","","",null,null,""]
[null,null,"100510..CPCMLD","240920-D07","JCD0122","0160","608500896",94286,"PAVED APPROACH, 8 IN.","E042","",null,null,"","","","","","","",null,null,""]
[null,null,"100510..CPCMLD","240920-H02","J9P3751","0990","9031010",99680,"CONCRETE FOOTINGS, EMBEDDED","E042","",null,null,"","","","","","","",null,null,""]
[null,null,"100510..CPCMLD","240920-H02","J9P3751","1370","703200396",93947,"CLASS B CONCRETE (SUBSTRUCTURE)","E042",{"$f":"IF(C1507=$C$162,D1507,\"\")","v":""},null,null,{"$f":"(IF(K1507=\"\",\"\",IF(OR(D1507=$J$33,D1507=$T$33, D1507=$O$33),D1507,\"\")))","v":""},{"$f":"IF(N1507=\"\",\"\",F1507)","v":""},{"$f":"IF(N1507=\"\", \"\", E1507)","v":""},{"$f":"IF(N1507=\"\", \"\", G1507)","v":""},"","","",null,null,""]
[null,null,"100510..CPCMLD","241018-A04","JNW0133","0290","502134096",96237,"TYPE A2 SHOULDER","E042","",null,null,"","","","","","","",null,null,""]
[null,null,"100510..CPCMLD","241018-C02","J4P3468","0690","704010696",95334,"FULL DEPTH REPAIR","E042","",null,null,"","","","","","","",null,null,""]
[null,null,"100510..CPCMLD","241018-C02","J4P3468","0890","704011296",95345,"DECK REPAIR WITH VOID TUBE REPLACEMENT","E042","",null,null,"","","","","","","",null,null,""]
[null,null,"100510..CPCMLD","241018-C10","JKU0074","0060","613101096",95690,"FURNISHING AND PLACING CONCRETE MATERIAL FOR FULL DEPTH PAVEMENT REPAIR","E042","",null,null,"","","","","","","",null,null,""]
[null,null,"100510..CPCMLD","241018-F03","J6S3582","0190","502133296",94998,"CONCRETE PAVEMENT (8 1/2 IN. NON-REINFORCED, 15 FT. JOINTS)","E042","",null,null,"","","","","","","",null,null,""]
[null,null,"100510..CPCMLD","241018-F03","J6S3582","0340","608990296",95195,"ADA CURB RAMP","E042","",null,null,"","","","","","","",null,null,""]
[null,null,"100510..CPCMLD","241018-F03","J6S3582","0420","609202196",95014,"INTEGRAL CURB (OVER 6 IN. HEIGHT) TYPE A","E042","",null,null,"","","","","","","",null,null,""]
[null,null,"100510..CPCMLD","241018-F03","J6S3582","2470","703422296",95188,"SLAB ON CONCRETE BEAM","E042","",null,null,"","","","","","","",null,null,""]
[null,null,"100510..CPCMLD","241018-F04","JSL0028","0140","502133196",96142,"CONCRETE PAVEMENT (7 1/2 IN. NON-REINFORCED, 15 FT. JOINTS)","E042","",null,null,"","","","","","","",null,null,""]
[null,null,"100510..CPCMLD","241018-H07","JSEM0061","0080","502110996",96553,"CONCRETE PAVEMENT ( 9 IN. NON-REINF)","E042","",null,null,"","","","","","","",null,null,""]
[null,null,"100510..CPCMLD","241115-A02","JNW0112","0250","703421296",96880,"SLAB ON STEEL","E042","",null,null,"","","","","","","",null,null,""]
[null,null,"100510..CPCMLD","241115-B02","J2S3314","0820","702131696",97723,"GALVANIZED CAST-IN-PLACE CONCRETE PILES (16 IN)","E042","",null,null,"","","","","","","",null,null,""]
[null,null,"100510..CPCMLD","241115-C02","J4P3268D","0170","608500796",97574,"PAVED APPROACH, 7 IN.","E042","",null,null,"","","","","","","",null,null,""]
[null,null,"100510..CPCMLD","241115-C02","J4P3268D","0240","6099903",97632,"MODIFED TYPE A GUTTER WITH STEEL PLATE","E042","",null,null,"","","","","","","",null,null,""]
[null,null,"100510..CPCMLD","241115-D02","J5P3574","0220","609101196",98773,"CONCRETE CURB (OVER 6 IN. HEIGHT) TYPE S","E042","",null,null,"","","","","","","",null,null,""]
[null,null,"100510..CPCMLD","241115-D05","JCD0115","0670","704010196",97023,"SUBSTRUCTURE REPAIR (FORMED)","E042","",null,null,"","","","","","","",null,null,""]
[null,null,"100510..CPCMLD","241115-F03","J6S3283","0200","609101096",97947,"CONCRETE CURB (6 IN. HEIGHT AND UNDER) TYPE S","E042","",null,null,"","","","","","","",null,null,""]
[null,null,"100510..CPCMLD","241115-F03","J6S3283","0230","609201396",97950,"INTEGRAL CURB TYPE M","E042","",null,null,"","","","","","","",null,null,""]
[null,null,"100510..CPCMLD","241115-F05","JSL0076","0180","608300696",98181,"6 IN. CONCRETE MEDIAN STRIP","E042","",null,null,"","","","","","",""]
[null,null,"100510..CPCMLD","241115-F10","JSL0077","0140","608300696",98264,"6 IN. CONCRETE MEDIAN STRIP","E042","",null,null,"","","","","","",""]
[null,null,"100510..CPCMLD","241115-F10","JSL0077","0230","613101096",98269,"FURNISHING AND PLACING CONCRETE MATERIAL FOR FULL DEPTH PAVEMENT REPAIR","E042","",null,null,"","","","","","",""]
[null,null,"100510..CPCMLD","241115-G02","J8S0736F","0340","609201196",98474,"INTEGRAL CURB (6 IN. HEIGHT AND UNDER) TYPE A","E042","",null,null,"","","","","","",""]
[null,null,"100510..CPCMLD","241115-G02","J8S0736F","0390","6099903",98557,"NIXA 2.5' CONCRETE CURB & GUTTER","E042","",null,null,"","","","","","",""]
[null,null,"100510..CPCMLD","241115-G04","JSR0042","0190","608300396",98579,"3 IN. CONCRETE MEDIAN STRIP","E042","",null,null,"","","","","","",""]
[null,null,"100510..CPCMLD","241115-G10","JSR0095","0320","609201196",97384,"INTEGRAL CURB (6 IN. HEIGHT AND UNDER) TYPE A","E042","",null,null,"","","","","","",""]
[null,null,"100510..CPCMLD","241115-G10","JSR0095","0820","703404196",97417,"CLASS B-1 CONCRETE (CULVERTS)","E042","",null,null,"","","","","","",""]
[null,null,"100510..CPCMLD","241115-G3A","J8S3238","1120","608500896",99017,"PAVED APPROACH, 8 IN.","E042","",null,null,"","","","","","",""]
[null,null,"100510..CPCMLD","241115-H01","J9P3548","0540","703404196",97121,"CLASS B-1 CONCRETE (CULVERTS)","E042","",null,null,"","","","","","",""]
[null,null,"100510..CPCMLD","241115-H06","JSE0115","0340","702131696",97174,"GALVANIZED CAST-IN-PLACE CONCRETE PILES (16 IN)","E042","",null,null,"","","","","","",""]
[null,null,"100510..CPCMLD","241127-C09","JST0016B","0800","703421696",98164,"TYPE H BARRIER","E042","",null,null,"","","","","","",""]
[null,null,"100510..CPCMLD","241213-C02","J4S3453","0350","7034219A96",100587,"TYPE D BARRIER","E042","",null,null,"","","","","","",""]
[null,null,"100510..CPCMLD","241213-D02","JCD0113","0130","502990596",100239,"TRUCK APRON PAVEMENT","E042","",null,null,"","","","","","",""]
[null,null,"100510..CPCMLD","241213-D4A","J5P3525","1000","617300096",100434,"CONCRETE TRAFFIC BARRIER, TYPE C","E042","",null,null,"","","","","","",""]
[null,null,"100510..CPCMLD","241213-G01","JSR0053","0040","613101096",100595,"FURNISHING AND PLACING CONCRETE MATERIAL FOR FULL DEPTH PAVEMENT REPAIR","E042","",null,null,"","","","","","",""]
[null,null,"100510..CPCMLD","241213-G01","JSR0053","0330","7039902",100638,"BARRIER END MODIFICATION","E042","",null,null,"","","","","","",""]
[null,null,"100510..CPCMLD","241213-G02","JSU0076","2130","703404196",99811,"CLASS B-1 CONCRETE (CULVERTS)","E042","",null,null,"","","","","","",""]
[null,null,"100510..CPCMLD","241213-G02","JSU0076","4030","5031010A96",99953,"BRIDGE APPROACH SLAB (MAJOR)","E042","",null,null,"","","","","","",""]
[null,null,"100510..CPCMLD","241213-G02","JSU0076","4200","703200396",99966,"CLASS B CONCRETE (SUBSTRUCTURE)","E042","",null,null,"","","","","","",""]
[null,null,"100510..CPCMLD","241213-G02","JSU0114","4830","7209904",101071,"NOISE WALL SYSTEM","E042","",null,null,"","","","","","",""]
[null,null,"100510..CPCMLD","250117-A01","J1S3414","0500","701110896",101820,"DRILLED SHAFTS (5 FT. 0 IN. DIA.)","E042","",null,null,"","","","","","",""]
[null,null,"100510..CPCMLD","250117-B01","JNE0049","0340","702131496",100712,"GALVANIZED CAST-IN-PLACE CONCRETE PILES (14 IN)","E042","",null,null,"","","","","","",""]
[null,null,"100510..CPCMLD","250117-C01","J4S3496","0560","5031010A96",101330,"BRIDGE APPROACH SLAB (MAJOR)","E042","",null,null,"","","","","","",""]
[null,null,"100510..CPCMLD","250117-C01","J4S3497","1050","5031010A96",101363,"BRIDGE APPROACH SLAB (MAJOR)","E042","",null,null,"","","","","","",""]
[null,null,"100510..CPCMLD","250117-C01","J4S3498","1750","5031010A96",101406,"BRIDGE APPROACH SLAB (MAJOR)","E042","",null,null,"","","","","","",""]
[null,null,"100510..CPCMLD","250117-F02","JSL0012","0150","608500896",101478,"PAVED APPROACH, 8 IN.","E042","",null,null,"","","","","","",""]
[null,null,"100510..CPCMLD","250117-F03","JSL0121","1310","9031010",105523,"CONCRETE FOOTINGS, EMBEDDED","E042","",null,null,"","","","","","",""]
[null,null,"100510..CPCMLD","250117-F07","J6I3624B","0130","609106096",102063,"PAVED DITCH","E042","",null,null,"","","","","","",""]
[null,null,"100510..CPCMLD","250117-G03","J7P3425C","0260","608100096",101700,"CONCRETE MEDIAN","E042","",null,null,"","","","","","",""]
[null,null,"100510..CPCMLD","250117-G03","J7P3425C","0730","703404196",101576,"CLASS B-1 CONCRETE (CULVERTS)","E042","",null,null,"","","","","","",""]
[null,null,"100510..CPCMLD","250117-G03","J7P3425C","1660","7034219A96",101601,"TYPE D BARRIER","E042","",null,null,"","","","","","",""]
[null,null,"100510..CPCMLD","250117-H03","J9P3842","0120","401015096",101887,"TYPE A2 SHOULDER","E042","",null,null,"","","","","","",""]
[null,null,"100510..CPCMLD","250117-H06","JSE0027","0350","701110596",102260,"DRILLED SHAFTS (3 FT. 6 IN. DIA.)","E042","",null,null,"","","","",{"$f":"IF(N2020=\"\",\"\",I2020)","v":""},{"$f":"IF(N2020=\"\",\"\",J2020)","v":""},{"$f":"IF(N2020=\"\",\"\",H2020)","v":""}]
[null,null,"100510..CPCMLD","250117-H06","JSE0028","0860","703422296",102230,"SLAB ON CONCRETE BEAM","E042","",null,null,"","","","","","",""]
[null,null,"100510..CPCMLD","250221-B02","J2S3438","0240","608300396",102587,"3 IN. CONCRETE MEDIAN STRIP","E042","",null,null,"","","","","","",""]
[null,null,"100510..CPCMLD","250221-B02","J2S3438","1300","702131696",102485,"GALVANIZED CAST-IN-PLACE CONCRETE PILES (16 IN)","E042","",null,null,"","","","","","",""]
[null,null,"100510..CPCMLD","250221-B03","JNE0053","0470","703422296",103036,"SLAB ON CONCRETE BEAM","E042","",null,null,"","","","","","",""]
[null,null,"100510..CPCMLD","250221-C01","J3S3178","0510","703421696",103575,"TYPE H BARRIER","E042","",null,null,"","","","","","",""]
[null,null,"100510..CPCMLD","250221-C03","JKU0009","0090","401015096",103195,"TYPE A2 SHOULDER","E042","",null,null,"","","","","","",""]
[null,null,"100510..CPCMLD","250221-C03","JKU0009","0160","609201196",103202,"INTEGRAL CURB (6 IN. HEIGHT AND UNDER) TYPE A","E042","",null,null,"","","","",{"$f":"IF(N2084=\"\",\"\",I2084)","v":""},{"$f":"IF(N2084=\"\",\"\",J2084)","v":""},{"$f":"IF(N2084=\"\",\"\",H2084)","v":""}]
[null,null,"100510..CPCMLD","250221-F01","J6P3635","0120","608300696",103890,"6 IN. CONCRETE MEDIAN STRIP","E042","",null,null,"","","","","","",""]
[null,null,"100510..CPCMLD","250221-F01","JSL0091","0810","608300696",103800,"6 IN. CONCRETE MEDIAN STRIP","E042","",null,null,"","","","","","",""]
[null,null,"100510..CPCMLD","250221-F03","J6S3669","0180","609105296",103142,"CURB AND GUTTER TYPE B","E042","",null,null,"","","","","","",""]
[null,null,"100510..CPCMLD","250221-F03","J6S3669","1000","7034219A96",103111,"TYPE D BARRIER","E042","",null,null,"","","","","","",""]
[null,null,"100510..CPCMLD","250314-B01","JNE0145","0090","604401196",105303,"PIPE COLLAR, TYPE A","E042","",null,null,"","","","","","",""]
[null,null,"100510..CPCMLD","250314-C03","JKR0134","0110","502130896",104760,"CONCRETE PAVEMENT (8 IN. NON-REINFORCED, 15 FT. JOINTS)","E042","",null,null,"","","","","","",""]
[null,null,"100510..CPCMLD","250314-D03","J5S3480B","0200","5031010A96",104936,"BRIDGE APPROACH SLAB (MAJOR)","E042","",null,null,"","","","","","",""]
[null,null,"100510..CPCMLD","250314-D07","JCD0076","0070","401990596",104861,"OPTIONAL PAVEMENT","E042","",null,null,"","","","","","",""]
[null,null,"100510..CPCMLD","250314-F01","J6I3573B","0170","608990296",104438,"ADA CURB RAMP","E042","",null,null,"","","","","","",""]
[null,null,"100510..CPCMLD","250314-F01","J6I3573B","0440","7069902",105112,"6.5 FT X 4 FT DRAINAGE FLUME","E042","",null,null,"","","","","","",""]
[null,null,"100510..CPCMLD","250314-F03","J6S3626","0330","617300096",104457,"CONCRETE TRAFFIC BARRIER, TYPE C","E042","",null,null,"","","","","","",""]
[null,null,"100510..CPCMLD","250314-F03","J6S3626","1470","701120596",104547,"ROCK SOCKETS (3 FT 6 IN. DIA.)","E042","",null,null,"","","","","","",""]
[null,null,"100510..CPCMLD","250314-G03","J8S3156","0230","608101096",104309,"CONCRETE CURB RAMP","E042",{"$f":"IF(C2211=$C$162,D2211,\"\")","v":""},null,null,{"$f":"(IF(K2211=\"\",\"\",IF(OR(D2211=$J$33,D2211=$T$33, D2211=$O$33),D2211,\"\")))","v":""},{"$f":"IF(N2211=\"\",\"\",F2211)","v":""},{"$f":"IF(N2211=\"\", \"\", E2211)","v":""},{"$f":"IF(N2211=\"\", \"\", G2211)","v":""},"","",""]
[null,null,"100510..CPCMLD","250314-G03","J8S3156","1290","720100096",104395,"MECHANICALLY STABILIZED EARTH WALL SYSTEMS","E042","",null,null,"","","","","","",""]
[null,null,"100510..CPCMLD","250314-H02","JSE0116","0680","703422196",105288,"SLAB ON CONCRETE NU-GIRDER","E042","",null,null,"","","","","","",""]
[null,null,"100510..CPCMLD","250314-H09","JSE0123","0080","609104196",104837,"CONCRETE GUTTER TYPE A","E042","",null,null,"","","","","","",""]
[null,null,"100510..CPCMLD","250418-D01","J5S3552","0360","703420896",106097,"CLASS B-2 CONCRETE (SUPERSTRUCTURE SOLID SLAB)","E042","",null,null,"","","","","","",""]
[null,null,"100510..CPCMLD","250418-F02","J6P3623","1170","902910096",105794,"BASE, CONCRETE","E042","",null,null,"","","","","","",""]
[null,null,"100510..CPCMLD","250418-F03","JSL0074","0040","5069905",108863,"FURNISHING AND PLACING UNBONDED CONCRETE OVERLAY (VARIABLE THICKNESS 8 IN. TO 10 IN.)","E042","",null,null,"","","","","","",""]
[null,null,"100510..CPCMLD","250418-H01","JSE0104","1000","702132096",105470,"GALVANIZED CAST-IN-PLACE CONCRETE PILES (20 IN)","E042","",null,null,"","","","","","",""]
[null,null,"100510..CPCMLD","250418-H03","J9S3603","0850","703460096",105664,"CURB BLOCKOUT","E042","",null,null,"","","","","","",""]
[null,null,"100510..CPCMLD","250418-H05","J9S3679","0390","703422296",106171,"SLAB ON CONCRETE BEAM","E042","",null,null,"","","","","","",""]
[null,null,"100510..CPCMLD","250507-C01","JST0019","0550","Pavements",109689," Adams Dairy to Grain Valley","E042","",null,null,"","","","","","",""]
[null,null,"100510..CPCMLD","250507-C01","JST0019","0660","Pavements",109700," Johnson Drive to Route M","E042","",null,null,"","","","","","",""]
[null,null,"100510..CPCMLD","250507-C01","JST0019","0820","Structures",109714," Horseshoe Creek","E042","",null,null,"","","","","","",""]
[null,null,"100510..CPCMLD","250516-A03","JNW0030","0180","609101096",106996,"CONCRETE CURB (6 IN. HEIGHT AND UNDER) TYPE S","E042","",null,null,"","","","","","",""]
[null,null,"100510..CPCMLD","250516-C01","J4P3196","0370","609104196",106959,"CONCRETE GUTTER TYPE A","E042","",null,null,"","","","","","",""]
[null,null,"100510..CPCMLD","250516-C01","J4P3196","0610","617300096",106729,"CONCRETE TRAFFIC BARRIER, TYPE C","E042","",null,null,"","","","","","",""]
[null,null,"100510..CPCMLD","250516-C02","J4P3268E","0140","608600496",106690,"CONCRETE SIDEWALK, 4 IN.","E042","",null,null,"","","","","","",""]
[null,null,"100510..CPCMLD","250516-C03","J4S3412","0340","613101096",106646,"FURNISHING AND PLACING CONCRETE MATERIAL FOR FULL DEPTH PAVEMENT REPAIR","E042","",null,null,"","","","","","",""]
[null,null,"100510..CPCMLD","250516-C09","JKU0039","0380","5031010A96",107656,"BRIDGE APPROACH SLAB (MAJOR)","E042","",null,null,"","","","","","",""]
[null,null,"100510..CPCMLD","250516-D03","J5P3565","0380","703421296",107798,"SLAB ON STEEL","E042","",null,null,"","","","","","",""]
[null,null,"100510..CPCMLD","250516-D07","JCD0126","0140","608500796",107674,"PAVED APPROACH, 7 IN.","E042","",null,null,"","","","","","",""]
[null,null,"100510..CPCMLD","250516-D07","JCD0126","0170","609101196",107677,"CONCRETE CURB (OVER 6 IN. HEIGHT) TYPE S","E042","",null,null,"","","","","","",""]
[null,null,"100510..CPCMLD","250516-F01","J6P3274","0370","6099903",107287,"MODIFIED CURB AND GUTTER","E042","",null,null,"","","","","","",""]
[null,null,"100510..CPCMLD","250516-F01","J6P3274","0880","720100096",107263,"MECHANICALLY STABILIZED EARTH WALL SYSTEMS","E042","",null,null,"","","","","","",""]
[null,null,"100510..CPCMLD","250516-F06","J6P3649","0130","609201496",107923,"INTEGRAL CURB TYPE N","E042","",null,null,"","","","","","",""]
[null,null,"100510..CPCMLD","250516-F07","J6S3397","0330","613101096",107472,"FURNISHING AND PLACING CONCRETE MATERIAL FOR FULL DEPTH PAVEMENT REPAIR","E042","",null,null,"","","","","","",""]
[null,null,"100510..CPCMLD","250516-F09","JSL0044","0130","608600496",108106,"CONCRETE SIDEWALK, 4 IN.","E042","",null,null,"","","","","","",""]
[null,null,"100510..CPCMLD","250516-F10","JSL0073","0110","613990596",108553,"PARTIAL DEPTH PAVEMENT REPAIRS","E042","",null,null,"","","","","","",""]
[null,null,"100510..CPCMLD","250516-F11","JSL0112","1440","7034219A96",108080,"TYPE D BARRIER","E042","",null,null,"","","","","","",""]
[null,null,"100510..CPCMLD","250516-G01","J7S3059B","0220","609105196",106498,"CURB AND GUTTER TYPE A","E042","",null,null,"","","","","","",""]
[null,null,"100510..CPCMLD","250516-G02","J7S3506","0080","608101096",106340,"CONCRETE CURB RAMP","E042","",null,null,"","","","","","",""]
[null,null,"100510..CPCMLD","250516-G02","J7S3531","0990","731103296",106413,"PRECAST CONCRETE DROP INLET 3 FT X 2 FT","E042","",null,null,"","","","","","",""]
[null,null,"100510..CPCMLD","250516-G02","J7S3531B","1150","502110896",106427,"CONCRETE PAVEMENT ( 8 IN. NON-REINF)","E042","",null,null,"","","","","","",""]
[null,null,"100510..CPCMLD","250516-G04","J8S3245","0070","608300896",107413,"8 IN. CONCRETE MEDIAN STRIP","E042","",null,null,"","","","","","",""]
[null,null,"100510..CPCMLD","250516-H02","J9P3745","0250","502133396",108579,"CONCRETE PAVEMENT (9 1/2 IN. NON-REINFORCED, 15 FT. JOINTS)","E042","",null,null,"","","","","","",""]
[null,null,"100510..CPCMLD","250516-H10","JSE0248","0640","702132496",108815,"GALVANIZED CAST-IN-PLACE CONCRETE PILES (24 IN)","E042","",null,null,"","","","","","",""]
[null,null,"100510..CPCMLD","250620-B01","JNE0147","0200","609201196",109485,"INTEGRAL CURB (6 IN. HEIGHT AND UNDER) TYPE A","E042","",null,null,"","","","","","",""]
[null,null,"100510..CPCMLD","250620-C04","JKU0024","0090","502110696",108986,"CONCRETE PAVEMENT ( 6 IN. NON-REINF)","E042","",null,null,"","","","","","",""]
[null,null,"100510..CPCMLD","250620-C04","JKU0024","0190","609201396",108992,"INTEGRAL CURB TYPE M","E042","",null,null,"","","","","","",""]
[null,null,"100510..CPCMLD","250620-C09","JKU0404","0300","609104196",109317,"CONCRETE GUTTER TYPE A","E042","",null,null,"","","","","","",""]
[null,null,"100510..CPCMLD","250620-D01","J5P3573","0240","608500896",109121,"PAVED APPROACH, 8 IN.","E042","",null,null,"","","","","","",""]
[null,null,"100510..CPCMLD","250620-D01","J5P3573","0300","609105296",109126,"CURB AND GUTTER TYPE B","E042","",null,null,"","","","","","",""]
[null,null,"100510..CPCMLD","250815-A01","JNW0010","0550","703421296",109827,"SLAB ON STEEL","E042","",null,null,"","","","","","",""]
[null,null,"100510..CPCMLD","250815-B04","JNE0137","0780","703200296",110117,"CLASS B CONCRETE (MISC)","E042","",null,null,"","","","","","",""]
[null,null,"100510..CPCMLD","250815-D01","JCD0128","0090","608100096",109950,"CONCRETE MEDIAN","E042","",null,null,"","","","","","",""]
[null,null,"100510..CPCMLD","250815-F01","J6S3215B","0250","608500896",110526,"PAVED APPROACH, 8 IN.","E042","",null,null,"","","","","","",""]
[null,null,"100510..CPCMLD","250815-F01","J6S3215B","0320","609105196",110531,"CURB AND GUTTER TYPE A","E042","",null,null,"","","","","","",""]
[null,null,"100510..CPCMLD","250815-F02","J6S3632","0290","608600896",110791,"CONCRETE SIDEWALK, 8 IN.","E042","",null,null,"","","","","","",""]
[null,null,"100510..CPCMLD","250815-F05","JSLM0063","0110","613101096",111025,"FURNISHING AND PLACING CONCRETE MATERIAL FOR FULL DEPTH PAVEMENT REPAIR","E042","",null,null,"","","","","","",""]
[null,null,"100510..CPCMLD","250815-G02","J8P3144","0190","608500896",110199,"PAVED APPROACH, 8 IN.","E042","",null,null,"","","","","","",""]
[null,null,"100510..CPCMLD","250815-G03","JSR0073","0340","703421496",110391,"CLASS B-2 CONCRETE","E042","",null,null,"","","","","","",""]
[null,null,"100510..CPCMLD","250815-H03","JSE0150","0150","609104196",110838,"CONCRETE GUTTER TYPE A","E042","",null,null,"","","","","","",""]
[null,null,"100510..CPCMLD","250815-H04","JSE0155","0430","702990396",110304,"GALVANIZED CAST-IN-PLACE CONCRETE PILES (36 IN)","E042","",null,null,"","","","","","",""]
[null,null,"100510..CPCMLD","250919-A01","JNW0013","0490","703421296",111111,"SLAB ON STEEL","E042","",null,null,"","","","","","",""]
[null,null,"100510..CPCMLD","250919-B02","JNE0152","0980","703421296",111685,"SLAB ON STEEL","E042","",null,null,"","","","","","",""]
[null,null,"100510..CPCMLD","250919-C03","JKU0226","0230","608101096",111236,"CONCRETE CURB RAMP","E042","",null,null,"","","","","","",""]
[null,null,"100510..CPCMLD","250919-C03","JKU0226","0620","703404196",111263,"CLASS B-1 CONCRETE (CULVERTS)","E042","",null,null,"","","","","","",""]
[null,null,"100510..CPCMLD","250919-F05","J6S3631","0240","608500796",111771,"PAVED APPROACH, 7 IN.","E042","",null,null,"","","","","","",""]
[null,null,"100510..CPCMLD","250919-F05","J6S3631","0250","608500896",111772,"PAVED APPROACH, 8 IN.","E042","",null,null,"","","","","","",""]
[null,null,"100510..CPCMLD","250919-H01","J9S3677","0630","703421296",111447,"SLAB ON STEEL","E042","",null,null,"","","","","","",""]
[null,null,"100510..CPCMLD","250919-H03","J9S3691","0450","703200396",111590,"CLASS B CONCRETE (SUBSTRUCTURE)","E042","",null,null,"","","","","","",""]
[null,null,"100510..CPCMLD","251017-A03","JNW0089","0200","608101096",112585,"CONCRETE CURB RAMP","E042","",null,null,"","","","","","",""]
[null,null,"100510..CPCMLD","251017-A04","JNW0122","0160","608300696",112917,"6 IN. CONCRETE MEDIAN STRIP","E042","",null,null,"","","","","","",""]
[null,null,"100510..CPCMLD","251017-C04","JKU0042","0180","609104196",112217,"CONCRETE GUTTER TYPE A","E042","",null,null,"","","","","","",""]
[null,null,"100510..CPCMLD","251017-C06","JKU0064","0120","502110896",112174,"CONCRETE PAVEMENT ( 8 IN. NON-REINF)","E042","",null,null,"","","","","","",""]
[null,null,"100510..CPCMLD","251017-F02","J6P3510C","0210","608600496",112011,"CONCRETE SIDEWALK, 4 IN.","E042","",null,null,"","","","","","",""]
[null,null,"100510..CPCMLD","251017-F02","J6P3510C","0280","609201196",112015,"INTEGRAL CURB (6 IN. HEIGHT AND UNDER) TYPE A","E042","",null,null,"","","","","","",""]
[null,null,"100510..CPCMLD","251017-F04","J6S3289","0960","7034219A96",113695,"TYPE D BARRIER","E042","",null,null,"","","","","","",""]
[null,null,"100510..CPCMLD","251017-F05","J6S3578","0250","609101096",113005,"CONCRETE CURB (6 IN. HEIGHT AND UNDER) TYPE S","E042","",null,null,"","","","","","",""]
[null,null,"100510..CPCMLD","251017-G01","J7P3511","0100","609101096",112542,"CONCRETE CURB (6 IN. HEIGHT AND UNDER) TYPE S","E042","",null,null,"","","","","","",""]
[null,null,"100510..CPCMLD","251017-G02","J8S0836D","0170","502990596",112688,"8.5 IN. TRUCK APRON (PIGMENTED & TEXTURED)","E042","",null,null,"","","","","","",""]
[null,null,"100510..CPCMLD","251017-G02","J8S0836D","0400","6099903",112863,"MODIFIED TYPE A GUTTER","E042","",null,null,"","","","","","",""]
[null,null,"100510..CPCMLD","251017-G02","J8S0836D","2120","703200396",112848,"CLASS B CONCRETE (SUBSTRUCTURE)","E042","",null,null,"","","","","","",""]
[null,null,"100510..CPCMLD","251017-G04","J8S3158","0590","5031011A96",113526,"BRIDGE APPROACH SLAB (MINOR ROAD)","E042","",null,null,"","","","","","",""]
[null,null,"100510..CPCMLD","251017-H02","J9S3798","0080","608500896",113307,"PAVED APPROACH, 8 IN.","E042","",null,null,"","","","","","",""]
[null,null,"100510..CPCMLD","251017-H04","JSE0141","0050","607110196",112509,"MODIFIED CONCRETE GUTTER TYPE A","E042","",null,null,"","","","","","",""]
[null,null,"100510..CPCMLD","251114-A01","J1S3438","0120","608600496",114215,"CONCRETE SIDEWALK, 4 IN.","E042","",null,null,"","","","","","",""]
[null,null,"100510..CPCMLD","251114-C01","JKR0077","0120","608101096",114292,"CONCRETE CURB RAMP","E042","",null,null,"","","","","","",""]
[null,null,"100510..CPCMLD","251114-C04","JKU0041","0140","613101096",114357,"FURNISHING AND PLACING CONCRETE MATERIAL FOR FULL DEPTH PAVEMENT REPAIR","E042","",null,null,"","","","","","",""]
[null,null,"100510..CPCMLD","251114-C05","JKU0098","0500","5031010A96",114409,"BRIDGE APPROACH SLAB (MAJOR)","E042","",null,null,"","","","","","",""]
[null,null,"100510..CPCMLD","251114-C11","JKU0292","0810","703421496",114496,"CLASS B-2 CONCRETE","E042","",null,null,"","","","","","",""]
[null,null,"100510..CPCMLD","251114-D01","JCD0112","1590","502131196",114613,"CONCRETE PAVEMENT (11 IN. NON-REINFORCED 15 FT. JOINTS)","E042","",null,null,"","","","","","",""]
[null,null,"100510..CPCMLD","251114-F02","J6S3557","0210","608300696",114009,"6 IN. CONCRETE MEDIAN STRIP","E042","",null,null,"","","","","","",""]
[null,null,"100510..CPCMLD","251114-F02","J6S3557","0490","617300096",114030,"CONCRETE TRAFFIC BARRIER, TYPE C","E042","",null,null,"","","","","","",""]
[null,null,"100510..CPCMLD","251114-F04","J6S3625","0170","608100096",114876,"CONCRETE MEDIAN","E042","",null,null,"","","","","","",""]
[null,null,"100510..CPCMLD","251114-F08","J6I3290","0320","617300096",115085,"CONCRETE TRAFFIC BARRIER, TYPE C","E042","",null,null,"","","","","","",""]
[null,null,"100510..CPCMLD","251114-G07","J7S3379","0450","701110796",115257,"DRILLED SHAFTS (4 FT. 6 IN. DIA.)","E042","",null,null,"","","","","","",""]
[null,null,"100510..CPCMLD","251114-G11","JSR0119","0680","7034219A96",115306,"TYPE D BARRIER","E042","",null,null,"","","","","","",""]
[null,null,"100510..CPCMLD","251114-H01","JSE0031","1640","5031011A96",115399,"BRIDGE APPROACH SLAB (MINOR ROAD)","E042","",null,null,"","","","","","",""]
[null,null,"100510..CPCMLD","251114-H05","JSE0026","0330","5031011A96",115537,"BRIDGE APPROACH SLAB (MINOR ROAD)","E042","",null,null,"","","","","","",""]
[null,null,"100520..OPTLD1","241213-F02","JSL0035","0190","6051018A96",100069,"PIPE AGGREGATE PAVEMENT CROSS DRAIN","E042","",null,null,"","","","","","",""]
[null,null,"1005FACCNS..CA","210416-F02","J6S3048","0270","6089905",41355,"CONCRETE SIDEWALK, 4 IN., CORAL COLOR","E042","",null,null,"","","","","","",""]
[null,null,"1005FACCNS..CA","210416-F02","J6S3048","0500","6179903",42764,"CONCRETE TRAFFIC BARRIER, TYPE C (PERFORATED)","E042","",null,null,"","","","","","",""]
[null,null,"1005FACCNS..CA","210416-F02","J6S3048","5006","6099903",44947,"Integral Curb (6 IN Height and Under), Type A, Coral Color","E042","",null,null,"","","","","","",""]
[null,null,"1005FACCNS..CA","220121-H01","J9I3643","0500","703421296",51776,"SLAB ON STEEL","E042","",null,null,"","","","","","",""]
[null,null,"1005FACCNS..CA","220218-F06 - 1 Lines 5470-6136","J6I3187","5590","7034219A96",54669,"TYPE D BARRIER","E042","",null,null,"","","","","","",""]
[null,null,"1005FACCNS..CA","220218-F06 - 1 Lines 5470-6136","J6I3149","6006","704010496",61227,"HALF-SOLE REPAIR","E042","",null,null,"","","","","","",""]
[null,null,"1005FACCNS..CA","220218-F06 - 2 Lines 4540-5450","J6I3187","4550","704010296",54592,"SUBSTRUCTURE REPAIR (UNFORMED)","E042","",null,null,"","","","","","",""]
[null,null,"1005FACCNS..CA","220218-F06 - 2 Lines 4540-5450","J6I3187","4650","704010296",54601,"SUBSTRUCTURE REPAIR (UNFORMED)","E042","",null,null,"","","","",{"$f":"IF(N3172=\"\",\"\",I3172)","v":""},{"$f":"IF(N3172=\"\",\"\",J3172)","v":""},{"$f":"IF(N3172=\"\",\"\",H3172)","v":""}]
[null,null,"1005FACCNS..CA","220218-F06 - 2 Lines 4540-5450","J6I3187","5130","703421296",54636,"SLAB ON STEEL","E042","",null,null,"","","","","","",""]
[null,null,"1005FACCNS..CA","220218-F06 - 2 Lines 4540-5450","J6I3187","5450","704010696",54660,"FULL DEPTH REPAIR","E042","",null,null,"","","","","","",""]
[null,null,"1005FACCNS..CA","220218-F06 - 3 Lines 3220-4530","J6I3149","3460","704011296",54463,"DECK REPAIR WITH VOID TUBE REPLACEMENT","E042","",null,null,"","","","","","",""]
[null,null,"1005FACCNS..CA","220218-F06 - 3 Lines 3220-4530","J6I3187","3990","6179903",54802,"Concrete Traffic Barrier, Type C (Modified)","E042","",null,null,"","","","","","",""]
[null,null,"1005FACCNS..CA","220218-F06 - 3 Lines 3220-4530","J6I3187","4450","704010296",54584,"SUBSTRUCTURE REPAIR (UNFORMED)","E042","",null,null,"","","","","","",""]
[null,null,"1005FACCNS..CA","220218-F06 - 4 Lines 2170-3210","J6I3149","2180","5050004",54698,"SUPPLEMENTARY WEARING SURFACE MATERIAL","E042","",null,null,"","","","","","",""]
[null,null,"1005FACCNS..CA","220218-F06 - 4 Lines 2170-3210","J6I3149","2400","505200096",54389,"LATEX MODIFIED CONCRETE WEARING SURFACE","E042","",null,null,"","","","","","",""]
[null,null,"1005FACCNS..CA","220218-F06 - 4 Lines 2170-3210","J6I3149","2700","704011296",54409,"DECK REPAIR WITH VOID TUBE REPLACEMENT","E042","",null,null,"","","","","","",""]
[null,null,"1005FACCNS..CA","220218-F06 - 4 Lines 2170-3210","J6I3149","3180","505200096",54445,"LATEX MODIFIED CONCRETE WEARING SURFACE","E042","",null,null,"","","","","","",""]
[null,null,"1005FACCNS..CA","220218-F06 - 5 Lines 1390-2090","J6I3149","1630","704010496",54345,"HALF-SOLE REPAIR","E042","",null,null,"","","","","","",""]
[null,null,"1005FACCNS..CA","220218-F06 - 5 Lines 1390-2090","J6I3149","2000","703421496",54364,"CLASS B-2 CONCRETE","E042","",null,null,"","","","","","",""]
[null,null,"1005FACCNS..CA","220218-F06 - 5 Lines 1390-2090","J6I3149","2050","704010696",54369,"FULL DEPTH REPAIR","E042","",null,null,"","","","","","",""]
[null,null,"1005FACCNS..CA","220218-F06 - 6 Lines 0110-1360","J6I3149","0270","617200096",54340,"CONCRETE TRAFFIC BARRIER, TYPE B","E042","",null,null,"","","","","","",""]
[null,null,"1005FACCNS..CA","220218-F06 - 6 Lines 0110-1360","J6I3149","0740","505200096",54537,"LATEX MODIFIED CONCRETE WEARING SURFACE","E042","",null,null,"","","","","","",""]
[null,null,"1005FACCNS..CA","220218-F06 - 6 Lines 0110-1360","J6I3149","1030","704011296",54554,"DECK REPAIR WITH VOID TUBE REPLACEMENT","E042","",null,null,"","","","","","",""]
[null,null,"1005FACCNS..CA","220520-A07","J1S3258","0660","701120596",58359,"ROCK SOCKETS (3 FT 6 IN. DIA.)","E042","",null,null,"","","","","","",""]
[null,null,"1005FACCNS..CA","220520-G06","J8P3032C","0137","502131296",57543,"CONCRETE PAVEMENT (12 IN. NON-REINFORCED 15 FT. JOINTS)","E042","",null,null,"","","","","","",""]
[null,null,"1005FACCNS..CA","220520-G06","J8P3032C","0850","701120596",57596,"ROCK SOCKETS (3 FT 6 IN. DIA.)","E042","",null,null,"","","","","","",""]
[null,null,"1005FACCNS..CA","220520-G06","J8P3032D","1920","502133396",57684,"CONCRETE PAVEMENT (9 1/2 IN. NON-REINFORCED, 15 FT. JOINTS)","E042","",null,null,"","","","","","",""]
[null,null,"1005FACCNS..CA","220520-G06","J8P3223","2500","704010496",57713,"HALF-SOLE REPAIR","E042","",null,null,"","","","","","",""]
[null,null,"1005FACCNS..CA","220715-F01","J6I3020C","0230","504100096",60325,"CONCRETE APPROACH PAVEMENT","E042","",null,null,"","","","","","",""]
[null,null,"1005FACCNS..CA","220715-F01","J6I3020C","1960","5031010A96",60274,"BRIDGE APPROACH SLAB (MAJOR)","E042","",null,null,"","","","","","",""]
[null,null,"1005FACCNS..CA","220715-F01","J6I3020C","2250","703422196",60296,"SLAB ON CONCRETE NU-GIRDER","E042","",null,null,"","","","","","",""]
[null,null,"1005FACCNS..CA","220715-F01","J6I3020C","5015","502111296",86851,"CONCRETE PAVEMENT (12 INCH NON-REINFORCED)","E042","",null,null,"","","","","","",""]
[null,null,"1005FACCNS..CA","221118-A08","J1S3392","1860","703421696",65980,"TYPE H BARRIER","E042",{"$f":"IF(C3427=$C$162,D3427,\"\")","v":""},null,null,{"$f":"(IF(K3427=\"\",\"\",IF(OR(D3427=$J$33,D3427=$T$33, D3427=$O$33),D3427,\"\")))","v":""},{"$f":"IF(N3427=\"\",\"\",F3427)","v":""},{"$f":"IF(N3427=\"\", \"\", E3427)","v":""},{"$f":"IF(N3427=\"\", \"\", G3427)","v":""},"","",""]
[null,null,"1005FACCNS..CA","221118-A08","J1S3392","2020","701111096",65993,"DRILLED SHAFTS (6 FT. 0 IN. DIA.)","E042","",null,null,"","","","","","",""]
[null,null,"1005FACCNS..CA","221118-G04","J8P0683E","0730","608300396",64803,"3 IN. CONCRETE MEDIAN STRIP","E042","",null,null,"","","","","","",""]
[null,null,"1005FACCNS..CA","221118-G04","J8P0683E","0880","6116010A96",64815,"SLOPE PROTECTION","E042","",null,null,"","","","","","",""]
[null,null,"1005FACCNS..CA","221118-G04","J8P0683E","1780","502133196",76430,"CONCRETE PAVEMENT (7 1/2 IN. NON-REINFORCED, 15 FT. JOINTS)","E042","",null,null,"","","","","","",""]
[null,null,"1005FACCNS..CA","230120-F02","J6I3490","0160","609101096",68649,"CONCRETE CURB (6 IN. HEIGHT AND UNDER) TYPE S","E042","",null,null,"","","","","","",""]
[null,null,"1005FACCNS..CA","230120-F02","J6I3490","1420","703421496",68765,"CLASS B-2 CONCRETE","E042","",null,null,"","","","","","",""]
[null,null,"1005FACCNS..CA","230120-F02","J6I3490","1670","7039903",77214,"MEDIAN BARRIER TRANSITION (TYPE B)","E042","",null,null,"","","","","","",""]
[null,null,"1005FACCNS..CA","230120-F02","J6I3490","2410","5031010A96",68875,"BRIDGE APPROACH SLAB (MAJOR)","E042","",null,null,"","","","","","",""]
[null,null,"1005FACCNS..CA","230120-F02","J6P3548","3820","5031010A96",68708,"BRIDGE APPROACH SLAB (MAJOR)","E042","",null,null,"","","","","","",""]
[null,null,"1005FACCNS..CA","230120-F02","J6P3548","3970","2169903",103974,"REMOVE AND REPLACE BARRIER CURB","E042","",null,null,"","","","","","",""]
[null,null,"1005FACCNS..CA","230120-F02","J6S3488","4590","505200096",68927,"LATEX MODIFIED CONCRETE WEARING SURFACE","E042","",null,null,"","","","","","",""]
[null,null,"1005FACCNS..CA","230217-F07","J6S3281","0220","608500796",71515,"PAVED APPROACH, 7 IN.","E042","",null,null,"","","","","","",""]
[null,null,"1005FACCNS..CA","230217-F07","J6S3281","0300","609202196",71522,"INTEGRAL CURB (OVER 6 IN. HEIGHT) TYPE A","E042","",null,null,"","","","","","",""]
[null,null,"1005FACCNS..CA","230217-H05","J9S3740","0590","502131096",71793,"CONCRETE PAVEMENT (10 IN. NON-REINFORCED 15 FT. JOINTS)","E042","",null,null,"","","","","","",""]
[null,null,"1005FACCNS..CA","230217-H05","J9S3740","0650","608500896",71799,"PAVED APPROACH, 8 IN.","E042","",null,null,"","","","","","",""]
[null,null,"1005FACCNS..CA","230317-G04","J8P3087F","1290","608100096",72387,"CONCRETE MEDIAN","E042","",null,null,"","","","","","",""]
[null,null,"1005FACCNS..CA","230317-G04","J8S3173","3620","608101096",72364,"CONCRETE CURB RAMP","E042","",null,null,"","","","","","",""]
[null,null,"1005FACCNS..CA","230421-C07","JKU0133","0110","608101096",73898,"CONCRETE CURB RAMP","E042","",null,null,"","","","","","",""]
[null,null,"1005FACCNS..CA","230421-C07","JKU0133","0190","609201196",73905,"INTEGRAL CURB (6 IN. HEIGHT AND UNDER) TYPE A","E042","",null,null,"","","","","","","",null,null,""]
[null,null,"1005FACCNS..CA","230421-F06","J6P3288","0870","505200096",74438,"LATEX MODIFIED CONCRETE WEARING SURFACE","E042","",null,null,"","","","","","","",null,null,""]
[null,null,"1005FACCNS..CA","230421-F06","J6P3288","1230","5050004",74613,"SUPPLEMENTARY WEARING SURFACE MATERIAL","E042","",null,null,"","","","","","","",null,null,""]
[null,null,"1005FACCNS..CA","230421-F06","J6P3288","1780","703421496",74478,"CLASS B-2 CONCRETE","E042","",null,null,"","","","","","","",null,null,""]
[null,null,"1005FACCNS..CA","230421-F06","J6P3288","2770","5050004",74621,"SUPPLEMENTARY WEARING SURFACE MATERIAL","E042","",null,null,"","","","","","","",null,null,""]
[null,null,"1005FACCNS..CA","230421-F06","J6P3288","3280","505200096",74549,"LATEX MODIFIED CONCRETE WEARING SURFACE","E042","",null,null,"","","","","","","",null,null,""]
[null,null,"1005FACCNS..CA","230421-F06","J6P3288","3620","5050004",74626,"SUPPLEMENTARY WEARING SURFACE MATERIAL","E042","",null,null,"","","","","","","",null,null,""]
[null,null,"1005FACCNS..CA","230421-G05","J8P0605I","0930","9031010",109587,"CONCRETE FOOTINGS, EMBEDDED","E042","",null,null,"","","","","","","",null,null,""]
[null,null,"1005FACCNS..CA","230421-G05","J8P0605J","1170","504100096",73439,"CONCRETE APPROACH PAVEMENT","E042",{"$f":"IF(C3683=$C$162,D3683,\"\")","v":""},null,null,{"$f":"(IF(K3683=\"\",\"\",IF(OR(D3683=$J$33,D3683=$T$33, D3683=$O$33),D3683,\"\")))","v":""},{"$f":"IF(N3683=\"\",\"\",F3683)","v":""},{"$f":"IF(N3683=\"\", \"\", E3683)","v":""},{"$f":"IF(N3683=\"\", \"\", G3683)","v":""},"","","",null,null,""]
[null,null,"1005FACCNS..CA","230421-G05","J8P0605J","2510","703200396",73421,"CLASS B CONCRETE (SUBSTRUCTURE)","E042","",null,null,"","","","","","","",null,null,""]
[null,null,"1005FACCNS..CA","230519-C06","J4S3405","0280","608600496",76211,"CONCRETE SIDEWALK, 4 IN.","E042","",null,null,"","","","","","","",null,null,""]
[null,null,"1005FACCNS..CA","230519-C06","J4S3405","0660","703404196",76242,"CLASS B-1 CONCRETE (CULVERTS)","E042","",null,null,"","","","","","","",null,null,""]
[null,null,"1005FACCNS..CA","230519-D03","J5P3490","0180","608500796",76536,"PAVED APPROACH, 7 IN.","E042","",null,null,"","","","","","","",null,null,""]
[null,null,"1005FACCNS..CA","230519-F01","J6I2090","0170","504100096",75408,"CONCRETE APPROACH PAVEMENT","E042","",null,null,"","","","","","","",null,null,""]
[null,null,"1005FACCNS..CA","230519-F01","J6I2090","0250","609101196",75414,"CONCRETE CURB (OVER 6 IN. HEIGHT) TYPE S","E042","",null,null,"","","","","","","",null,null,""]
[null,null,"1005FACCNS..CA","230519-F01","J6I2090","1570","502130996",75332,"CONCRETE PAVEMENT (9 IN. NON-REINFORCED 15 FT. JOINTS)","E042","",null,null,"","","","","","","",null,null,""]
[null,null,"1005FACCNS..CA","230519-F01","J6I2090","2110","7034219A96",75348,"TYPE D BARRIER","E042","",null,null,"","","","","","","",null,null,""]
[null,null,"1005FACCNS..CA","230519-F01","J6I2090","2380","703422196",75427,"SLAB ON CONCRETE NU-GIRDER","E042","",null,null,"","","","","","","",null,null,""]
[null,null,"1005FACCNS..CA","230519-F01","J6I2090","2880","703441396",75462,"TYPE C BARRIER TRANSITION","E042","",null,null,"","","","","","","",null,null,""]
[null,null,"1005FACCNS..CA","230519-H01","J9P3735","0240","608101096",76796,"CONCRETE CURB RAMP","E042","",null,null,"","","","","","","",null,null,""]
[null,null,"1005FACCNS..CA","230519-H01","J9P3735","0320","609201196",76802,"INTEGRAL CURB (6 IN. HEIGHT AND UNDER) TYPE A","E042","",null,null,"","","","","","","",null,null,""]
[null,null,"1005FACCNS..CA","230616-G01","J8S3149","0360","609101096",77458,"CONCRETE CURB (6 IN. HEIGHT AND UNDER) TYPE S","E042","",null,null,"","","","","","","",null,null,""]
[null,null,"1005FACCNS..CA","230616-G01","J8S3172","1460","6099903",77547,"MODIFIED TYPE S CURB, 6 IN TO 30 IN HEIGHT","E042","",null,null,"","","","","","","",null,null,""]
[null,null,"1005FACCNS..CA","230616-G01","JSR0127","2100","608101096",77524,"CONCRETE CURB RAMP","E042","",null,null,"","","","","","","",null,null,""]
[null,null,"1005FACCNS..CA","230915-A03","JNW0005","0390","703421296",79778,"SLAB ON STEEL","E042","",null,null,"","","","","","","",null,null,""]
[null,null,"1005FACCNS..CA","230915-A03","JNW0006","0850","703421696",79811,"TYPE H BARRIER","E042","",null,null,"","","","","","","",null,null,""]
[null,null,"1005FACCNS..CA","230915-G05","J8S3157","0140","608300696",79464,"6 IN. CONCRETE MEDIAN STRIP","E042","",null,null,"","","","","","","",null,null,""]
[null,null,"1005FACCNS..CA","230915-G05","J8S3157","5002","701110796",111993,"DRILLED SHAFTS (4 FT. 6 IN. DIA.)","E042","",null,null,"","","","","","","",null,null,""]
[null,null,"1005FACCNS..CA","231020-F03","J6S3215","0250","608300696",81480,"6 IN. CONCRETE MEDIAN STRIP","E042","",null,null,"","","","","","","",null,null,""]
[null,null,"1005FACCNS..CA","231020-F03","J6S3215","0400","613101096",81493,"FURNISHING AND PLACING CONCRETE MATERIAL FOR FULL DEPTH PAVEMENT REPAIR","E042","",null,null,"","","","","","","",null,null,""]
[null,null,"1005FACCNS..CA","231117-D2A","J5P3497","0170","604401196",82409,"PIPE COLLAR, TYPE A","E042","",null,null,"","","","","","","",null,null,""]
[null,null,"1005FACCNS..CA","231117-D2B","J5S3458","0860","5054000",82921,"LATEX MODIFIED VERY EARLY STRENGTH CONCRETE WEARING SURFACE","E042","",null,null,"","","","","","","",null,null,""]
[null,null,"1005FACCNS..CA","231117-D2B","J5S3458","1040","5054000",82923,"LATEX MODIFIED VERY EARLY STRENGTH CONCRETE WEARING SURFACE","E042","",null,null,"","","","","","","",null,null,""]
[null,null,"1005FACCNS..CA","231117-F01","J6S3280","0270","608600496",81841,"CONCRETE SIDEWALK, 4 IN.","E042","",null,null,"","","","","","","",null,null,""]
[null,null,"1005FACCNS..CA","231117-F01","J6S3280","0300","609105296",81843,"CURB AND GUTTER TYPE B","E042","",null,null,"","","","","","","",null,null,""]
[null,null,"1005FACCNS..CA","231117-F02","J6S3351","0130","401990596",82170,"OPTIONAL PAVEMENT","E042","",null,null,"","","","","","","",null,null,""]
[null,null,"1005FACCNS..CA","231117-F02","J6S3351","0190","608300696",82176,"6 IN. CONCRETE MEDIAN STRIP","E042","",null,null,"","","","","","","",null,null,""]
[null,null,"1005FACCNS..CA","231117-F02","J6S3351","1000","9031010",86695,"CONCRETE FOOTINGS, EMBEDDED","E042","",null,null,"","","","","","","",null,null,""]
[null,null,"1005FACCNS..CA","231215-F01","J6I3427","0400","608990296",84178,"ADA CURB RAMP WITH TRUNCATED DOMES","E042","",null,null,"","","","","","","",null,null,""]
[null,null,"1005FACCNS..CA","231215-F01","J6I3427","0450","609104296",83328,"CONCRETE GUTTER TYPE B","E042","",null,null,"","","","","","","",null,null,""]
[null,null,"1005FACCNS..CA","231215-F01","J6I3427","1260","703400996",83390,"CLASS B-1 CONCRETE (RETAINING WALLS)","E042","",null,null,"","","","","","","",null,null,""]
[null,null,"1005FACCNS..CA","240109-A01","JNW0026","0080","Fischer Bethany",84064,"Bridges and Other Structures","E042","",null,null,"","","","","","","",null,null,""]
[null,null,"1005FACCNS..CA","240119-D03","J5P3467","0400","704010696",85523,"FULL DEPTH REPAIR","E042","",null,null,"","","","","","","",null,null,""]
[null,null,"1005FACCNS..CA","240119-D03","J5P3467","0560","704010696",85530,"FULL DEPTH REPAIR","E042","",null,null,"","","","","","","",null,null,""]
[null,null,"1005FACCNS..CA","240119-D05","J5S3369C","0210","608600896",85111,"CONCRETE SIDEWALK, 8 IN.","E042","",null,null,"","","","","","","",null,null,""]
[null,null,"1005FACCNS..CA","240119-H07","J9S3645","1260","5031011A96",84602,"BRIDGE APPROACH SLAB (MINOR ROAD)","E042","",null,null,"","","","","","","",null,null,""]
[null,null,"1005FACCNS..CA","240119-H07","J9S3645","1370","703422196",84609,"SLAB ON CONCRETE NU-GIRDER","E042","",null,null,"","","","","","","",null,null,""]
[null,null,"1005FACCNS..CA","240119-H08","J9S3723","0760","7034219A96",84401,"TYPE D BARRIER","E042","",null,null,"","","","","","","",null,null,""]
[null,null,"1005FACCNS..CA","240119-H08","J9S3641","5002","703421696",94968,"TYPE H BARRIER","E042","",null,null,"","","","","","","",null,null,""]
[null,null,"1005FACCNS..CA","240216-A01","J1I3330","0540","7034219A96",86102,"TYPE D BARRIER","E042","",null,null,"","","","","","","",null,null,""]
[null,null,"1005FACCNS..CA","240315-F03","J6S3519","0200","608500896",88016,"PAVED APPROACH, 8 IN.","E042","",null,null,"","","","","","","",null,null,""]
[null,null,"1005FACCNS..CA","240315-F03","J6S3519","5004","613101096",109186,"FURNISHING AND PLACING CONCRETE MATERIAL FOR FULL DEPTH PAVEMENT REPAIR","E042","",null,null,"","","","","","","",null,null,""]
[null,null,"1005FACCNS..CA","240315-G01","J7S3501","0460","703200396",87731,"CLASS B CONCRETE (SUBSTRUCTURE)","E042","",null,null,"","","","","","","",null,null,""]
[null,null,"1005FACCNS..CA","240315-G04","JSR0171","0430","5031010A96",87777,"BRIDGE APPROACH SLAB (MAJOR)","E042","",null,null,"","","","",{"$f":"IF(N4132=\"\",\"\",I4132)","v":""},{"$f":"IF(N4132=\"\",\"\",J4132)","v":""},{"$f":"IF(N4132=\"\",\"\",H4132)","v":""},null,null,""]
[null,null,"1005FACCNS..CA","240315-H06","JSE0073","0330","703460096",87599,"CURB BLOCKOUT","E042","",null,null,"","","","","","","",null,null,""]
[null,null,"1005FACCNS..CA","240419-F01","J6S3368","1020","703404096",88416,"CLASS B-1 CONCRETE (CULVERTS-BRIDGE)","E042","",null,null,"","","","","","","",null,null,""]
[null,null,"1005FACCNS..CA","240419-F02","J6S3417","0320","609101096",88441,"CONCRETE CURB (6 IN. HEIGHT AND UNDER) TYPE S","E042","",null,null,"","","","","","","",null,null,""]
[null,null,"1005FACCNS..CA","240419-F02","J6S3417","0570","6179903",89601,"CONCRETE TRAFFIC BARRIER, TYPE C (MODIFIED)","E042","",null,null,"","","","","","","",null,null,""]
[null,null,"1005FACCNS..CA","240419-F05","J6S3599","0300","608990296",88800,"METRO BUS PAD","E042","",null,null,"","","","","","","",null,null,""]
[null,null,"1005FACCNS..CA","240419-F06","J6S3640","0190","608100096",88838,"CONCRETE MEDIAN","E042","",null,null,"","","","","","","",null,null,""]
[null,null,"1005FACCNS..CA","240419-F06","J6S3640","0210","608500896",88840,"PAVED APPROACH, 8 IN.","E042","",null,null,"","","","","","","",null,null,""]
[null,null,"1005FACCNS..CA","240419-G05","J8P3192","0250","6116010A96",89064,"SLOPE PROTECTION","E042","",null,null,"","","","","","","",null,null,""]
[null,null,"1005FACCNS..CA","240419-G05","J8S3224","2170","613101096",89181,"FURNISHING AND PLACING CONCRETE MATERIAL FOR FULL DEPTH PAVEMENT REPAIR","E042","",null,null,"","","","","","","",null,null,""]
[null,null,"1005FACCNS..CA","240517-B01","J2P3043","0210","502131096",90119,"CONCRETE PAVEMENT (10 IN. NON-REINFORCED 15 FT. JOINTS)","E042","",null,null,"","","","","","","",null,null,""]
[null,null,"1005FACCNS..CA","240517-B01","J2P3043","1930","903102096",90255,"CONCRETE FOOTINGS, BOLT DOWN","E042","",null,null,"","","","","","","",null,null,""]
[null,null,"1005FACCNS..CA","240517-C02","J4P3268C","0110","6099903",90926,"APWA CURB AND GUTTER TYPE CG-1","E042","",null,null,"","","","","","","",null,null,""]
[null,null,"1005FACCNS..CA","240517-D05","J5P3575","0160","502130896",91200,"CONCRETE PAVEMENT (8 IN. NON-REINFORCED, 15 FT. JOINTS)","E042","",null,null,"","","","","","","",null,null,""]
[null,null,"1005FACCNS..CA","240517-D05","J5P3575","1620","703404096",91318,"CLASS B-1 CONCRETE (CULVERTS-BRIDGE)","E042","",null,null,"","","","","","","",null,null,""]
[null,null,"1005FACCNS..CA","240517-D12","JCD0121","0210","608600896",90435,"CONCRETE SIDEWALK, 8 IN.","E042","",null,null,"","","","","","","",null,null,""]
[null,null,"1005FACCNS..CA","240517-F07","J6S3278","0150","608300696",90810,"6 IN. CONCRETE MEDIAN STRIP","E042","",null,null,"","","","","","","",null,null,""]
[null,null,"1005FACCNS..CA","240517-F08","J6S3279","0590","608990296",91070,"ADA CURB RAMP","E042","",null,null,"","","","","","","",null,null,""]
[null,null,"1005FACCNS..CA","240517-F08","J6S3416","0840","608990296",91074,"CONCRETE STAIRCASE WITH ADA HANDRAILS","E042","",null,null,"","","","","","","",null,null,""]
[null,null,"1005FACCNS..CA","240517-F08","J6S3416","0890","6099903",91077,"MODIFIED CURB AND GUTTER (2' GUTTER)","E042","",null,null,"","","","","","","",null,null,""]
[null,null,"1005FACCNS..CA","240517-F11","JSL0093","0250","703404196",91491,"CLASS B-1 CONCRETE (CULVERTS)","E042","",null,null,"","","","","","","",null,null,""]
[null,null,"1005FACCNS..CA","240517-G11","J7P3484C","0081","401015096",91121,"TYPE A2 SHOULDER","E042","",null,null,"","","","","","","",null,null,""]
[null,null,"1005FACCNS..CA","240517-G11","J7P3484C","0830","703200396",91176,"CLASS B CONCRETE (SUBSTRUCTURE)","E042","",null,null,"","","","","","","",null,null,""]
[null,null,"1005FACCNS..CA","240517-H03","J9S3595","0810","703421696",90782,"TYPE H BARRIER","E042","",null,null,"","","","","","","",null,null,""]
[null,null,"1005FACCNS..CA","240517-H03","J9S3676","1700","703200396",90720,"CLASS B CONCRETE (SUBSTRUCTURE)","E042","",null,null,"","","","","","","",null,null,""]
[null,null,"1005FACCNS..CA","240621-A06","JNW0022","0080","608500896",91772,"PAVED APPROACH, 8 IN.","E042","",null,null,"","","","","","","",null,null,""]
[null,null,"1005FACCNS..CA","240621-F01","JSL0047","0180","613101096",91850,"FURNISHING AND PLACING CONCRETE MATERIAL FOR FULL DEPTH PAVEMENT REPAIR","E042","",null,null,"","","","","","","",null,null,""]
[null,null,"1005FACCNS..CA","240816-F02","J6S3633","0230","609101096",92516,"CONCRETE CURB (6 IN. HEIGHT AND UNDER) TYPE S","E042","",null,null,"","","","","","","",null,null,""]
[null,null,"1005FACCNS..CA","240816-G05","JSR0010","0040","502110896",93172,"CONCRETE PAVEMENT ( 8 IN. NON-REINF)","E042","",null,null,"","","","","","","",null,null,""]
[null,null,"1005FACCNS..CA","240920-A01","JNW0002","0210","608101096",94359,"CONCRETE CURB RAMP","E042","",null,null,"","","","","","","",null,null,""]
[null,null,"1005FACCNS..CA","240920-A01","JNW0002","0270","609101196",94365,"CONCRETE CURB (OVER 6 IN. HEIGHT) TYPE S","E042","",null,null,"","","","","","","",null,null,""]
[null,null,"1005FACCNS..CA","240920-C04","JKU0050","0160","613101096",94055,"FURNISHING AND PLACING CONCRETE MATERIAL FOR FULL DEPTH PAVEMENT REPAIR","E042","",null,null,"","","","","","","",null,null,""]
[null,null,"1005FACCNS..CA","240920-D01","J5P3498","0830","703200396",102379,"CLASS B CONCRETE (SUBSTRUCTURE)","E042","",null,null,"","","","","","","",null,null,""]
[null,null,"1005FACCNS..CA","240920-D01","J5P3498","0840","703421396",102380,"SLAB ON CONCRETE I-GIRDER","E042","",null,null,"","","","","","","",null,null,""]
[null,null,"1005FACCNS..CA","241018-A01","JNW0008","0380","703421296",96861,"SLAB ON STEEL","E042","",null,null,"","","","","","","",null,null,""]
[null,null,"1005FACCNS..CA","241018-A03","JNW0111","0420","703421696",96804,"TYPE H BARRIER","E042","",null,null,"","","","","","","",null,null,""]
[null,null,"1005FACCNS..CA","241018-A04","JNW0133","0540","613101096",96293,"FURNISHING AND PLACING CONCRETE MATERIAL FOR FULL DEPTH PAVEMENT REPAIR","E042","",null,null,"","","","","","","",null,null,""]
[null,null,"1005FACCNS..CA","241018-C02","J4P3468","0700","704011296",95335,"DECK REPAIR WITH VOID TUBE REPLACEMENT","E042","",null,null,"","","","","","","",null,null,""]
[null,null,"1005FACCNS..CA","241018-C04","JKR0090","0120","613101096",95395,"FURNISHING AND PLACING CONCRETE MATERIAL FOR FULL DEPTH PAVEMENT REPAIR","E042","",null,null,"","","","","","","",null,null,""]
[null,null,"1005FACCNS..CA","241018-C05","JKU0029","0440","613101096",95527,"FURNISHING AND PLACING CONCRETE MATERIAL FOR FULL DEPTH PAVEMENT REPAIR","E042","",null,null,"","","","","","","",null,null,""]
[null,null,"1005FACCNS..CA","241018-F01","J6I3484","0060","617300096",96470,"CONCRETE TRAFFIC BARRIER, TYPE C","E042","",null,null,"","","","","","","",null,null,""]
[null,null,"1005FACCNS..CA","241018-F03","J6S3582","0350","608990596",95196,"MOMENT SLAB SIDEWALK","E042","",null,null,"","","","","","","",null,null,""]
[null,null,"1005FACCNS..CA","241018-F03","J6S3582","0400","609105296",95012,"CURB AND GUTTER TYPE B","E042","",null,null,"","","","","","","",null,null,""]
[null,null,"1005FACCNS..CA","241018-F03","J6S3582","2450","703200396",95186,"CLASS B CONCRETE (SUBSTRUCTURE)","E042","",null,null,"","","","","","","",null,null,""]
[null,null,"1005FACCNS..CA","241018-F03","J6S3582","2480","703442096",95189,"RAISED MEDIAN BARRIER","E042","",null,null,"","","","","","","",null,null,""]
[null,null,"1005FACCNS..CA","241018-H01","J9P3575","0050","608990596",94943,"8\" Modified Paved Approach","E042","",null,null,"","","","","","","",null,null,""]
[null,null,"1005FACCNS..CA","241115-B02","J2S3195","0380","703422196",97692,"SLAB ON CONCRETE NU-GIRDER","E042","",null,null,"","","","","","","",null,null,""]
[null,null,"1005FACCNS..CA","241115-C02","J4P3268D","0110","604401196",97569,"PIPE COLLAR, TYPE A","E042","",null,null,"","","","","","","",null,null,""]
[null,null,"1005FACCNS..CA","241115-D02","J5P3574","0170","608100096",98737,"CONCRETE MEDIAN","E042","",null,null,"","","","","","","",null,null,""]
[null,null,"1005FACCNS..CA","241115-D05","JCD0057","0300","703200396",96996,"CLASS B CONCRETE (SUBSTRUCTURE)","E042","",null,null,"","","","","","","",null,null,""]
[null,null,"1005FACCNS..CA","241115-D05","JCD0115","0430","401990596",97006,"OPTIONAL PAVEMENT (10\" HMA OR 8\" JPCP)","E042","",null,null,"","","","","","","",null,null,""]
[null,null,"1005FACCNS..CA","241115-F03","J6S3283","0190","6089902",99243,"CONCRETE CURB RAMP (7 IN. THICK)","E042","",null,null,"","","","","","","",null,null,""]
[null,null,"1005FACCNS..CA","241115-F03","J6S3283","5007","613101096",106305,"FURNISHING AND PLACING CONCRETE MATERIAL FOR FULL DEPTH PAVEMENT REPAIR","E042",{"$f":"IF(C4643=$C$162,D4643,\"\")","v":""},null,null,{"$f":"(IF(K4643=\"\",\"\",IF(OR(D4643=$J$33,D4643=$T$33, D4643=$O$33),D4643,\"\")))","v":""},{"$f":"IF(N4643=\"\",\"\",F4643)","v":""},{"$f":"IF(N4643=\"\", \"\", E4643)","v":""},{"$f":"IF(N4643=\"\", \"\", G4643)","v":""},"","","",null,null,""]
[null,null,"1005FACCNS..CA","241115-F05","JSL0076","0140","6049902",98222,"CONCRETE MANHOLE COLLAR","E042","",null,null,"","","","","","","",null,null,""]
[null,null,"1005FACCNS..CA","241115-F05","JSL0076","0270","613101096",98187,"FURNISHING AND PLACING CONCRETE MATERIAL FOR FULL DEPTH PAVEMENT REPAIR","E042","",null,null,"","","","","","","",null,null,""]
[null,null,"1005FACCNS..CA","241115-G02","J8S0736F","0190","502130996",98461,"CONCRETE PAVEMENT (9 IN. NON-REINFORCED 15 FT. JOINTS)","E042","",null,null,"","","","","","","",null,null,""]
[null,null,"1005FACCNS..CA","241115-G02","J8S0736F","0300","609101096",98470,"CONCRETE CURB (6 IN. HEIGHT AND UNDER) TYPE S","E042","",null,null,"","","","","","","",null,null,""]
[null,null,"1005FACCNS..CA","241115-G02","JSU0216","1230","608600496",98421,"CONCRETE SIDEWALK, 4 IN.","E042","",null,null,"","","","","","","",null,null,""]
[null,null,"1005FACCNS..CA","241115-G10","JSR0095","0280","608300896",97380,"8 IN. CONCRETE MEDIAN STRIP","E042","",null,null,"","","","","","","",null,null,""]
[null,null,"1005FACCNS..CA","241115-G10","JSR0095","0290","608500896",97381,"PAVED APPROACH, 8 IN.","E042","",null,null,"","","","","","","",null,null,""]
[null,null,"1005FACCNS..CA","241115-G3A","J8S3238","0240","608600496",98951,"CONCRETE SIDEWALK, 4 IN.","E042","",null,null,"","","","","","","",null,null,""]
[null,null,"1005FACCNS..CA","241115-G3A","J8S3238","1130","608600496",99018,"CONCRETE SIDEWALK, 4 IN.","E042","",null,null,"","","","","","","",null,null,""]
[null,null,"1005FACCNS..CA","241115-G3A","J8S3238","1990","9039901",99091,"TYPE S TWO TUBE OVERHEAD SIGN TRUSS 60’-0”","E042","",null,null,"","","","","","","",null,null,""]
[null,null,"1005FACCNS..CA","241127-C09","JST0016B","0610","703200396",98149,"CLASS B CONCRETE (SUBSTRUCTURE)","E042","",null,null,"","","","","","","",null,null,""]
[null,null,"1005FACCNS..CA","241127-C09","JST0016B","0780","703200396",98162,"CLASS B CONCRETE (SUBSTRUCTURE)","E042","",null,null,"","","","","","","",null,null,""]
[null,null,"1005FACCNS..CA","241213-A01","J1I3280","0730","504100096",100285,"CONCRETE APPROACH PAVEMENT","E042","",null,null,"","","","","","","",null,null,""]
[null,null,"1005FACCNS..CA","241213-C02","J4S3453","0340","703200396",100586,"CLASS B CONCRETE (SUBSTRUCTURE)","E042","",null,null,"","","","","","","",null,null,""]
[null,null,"1005FACCNS..CA","241213-D4A","J5P3523","0060","608600496",100454,"CONCRETE SIDEWALK, 4 IN.","E042","",null,null,"","","","","","","",null,null,""]
[null,null,"1005FACCNS..CA","241213-D4A","J5P3523","0470","5050004",100555,"SUPPLEMENTARY WEARING SURFACE MATERIAL","E042","",null,null,"","","","","","","",null,null,""]
[null,null,"1005FACCNS..CA","241213-D4A","J5P3525","1200","505200096",100432,"LATEX MODIFIED CONCRETE WEARING SURFACE","E042","",null,null,"","","","","","","",null,null,""]
[null,null,"1005FACCNS..CA","241213-D4A","J5P3525","1600","5050004",100552,"SUPPLEMENTARY WEARING SURFACE MATERIAL","E042","",null,null,"","","","","","","",null,null,""]
[null,null,"1005FACCNS..CA","241213-D4A","J5P3525","1730","704010496",100487,"HALF-SOLE REPAIR","E042","",null,null,"","","","","","","",null,null,""]
[null,null,"1005FACCNS..CA","241213-F02","JSL0035","0210","609201196",100071,"INTEGRAL CURB (6 IN. HEIGHT AND UNDER) TYPE A","E042","",null,null,"","","","","","","",null,null,""]
[null,null,"1005FACCNS..CA","241213-F02","JSL0035","0250","6099903",100169,"CONCRETE GUTTER TYPE A (SPECIAL)","E042","",null,null,"","","","","","","",null,null,""]
[null,null,"1005FACCNS..CA","241213-G02","J8I3044C","0620","731991396",99754,"SPECIAL INLET #1","E042","",null,null,"","","","","","","",null,null,""]
[null,null,"1005FACCNS..CA","241213-G02","JSU0076","2530","609101096",99844,"CONCRETE CURB (6 IN. HEIGHT AND UNDER) TYPE S","E042","",null,null,"","","","","","","",null,null,""]
[null,null,"1005FACCNS..CA","241213-G02","JSU0076","3640","5031010A96",99925,"BRIDGE APPROACH SLAB (MAJOR)","E042","",null,null,"","","","","","","",null,null,""]
[null,null,"1005FACCNS..CA","241213-G02","JSU0076","4220","703422196",99968,"SLAB ON CONCRETE NU-GIRDER","E042","",null,null,"","","","","","","",null,null,""]
[null,null,"1005FACCNS..CA","241213-G02","JSU0076","4580","703200396",99994,"CLASS B CONCRETE (SUBSTRUCTURE)","E042","",null,null,"","","","","","","",null,null,""]
[null,null,"1005FACCNS..CA","250117-A01","J1S3414","0120","401990596",101793,"OPTIONAL PAVEMENT (ROUTE D & STINSON DRIVE)","E042","",null,null,"","","","","","","",null,null,""]
[null,null,"1005FACCNS..CA","250117-A03","JNW0146","0010","613101096",101253,"FURNISHING AND PLACING CONCRETE MATERIAL FOR FULL DEPTH PAVEMENT REPAIR","E042","",null,null,"","","","","","","",null,null,""]
[null,null,"1005FACCNS..CA","250117-C01","J4S3496","0450","703421296",101325,"SLAB ON STEEL","E042","",null,null,"","","","","","","",null,null,""]
[null,null,"1005FACCNS..CA","250117-C01","J4S3497","0700","401015096",101338,"TYPE A2 SHOULDER","E042","",null,null,"","","","","","","",null,null,""]
[null,null,"1005FACCNS..CA","250117-C01","J4S3498","1300","502111096",101377,"CONCRETE PAVEMENT (10 IN. NON-REINF)","E042","",null,null,"","","","","","","",null,null,""]
[null,null,"1005FACCNS..CA","250117-C01","J4S3498","1760","703421296",101407,"SLAB ON STEEL","E042","",null,null,"","","","","","","",null,null,""]
[null,null,"1005FACCNS..CA","250117-D02","JCD0157","1090","703421296",101992,"SLAB ON STEEL","E042","",null,null,"","","","",{"$f":"IF(N4964=\"\",\"\",I4964)","v":""},{"$f":"IF(N4964=\"\",\"\",J4964)","v":""},{"$f":"IF(N4964=\"\",\"\",H4964)","v":""},null,null,""]
[null,null,"1005FACCNS..CA","250117-F03","JSL0121","0680","613101096",100881,"FURNISHING AND PLACING CONCRETE MATERIAL FOR FULL DEPTH PAVEMENT REPAIR","E042","",null,null,"","","","","","","",null,null,""]
[null,null,"1005FACCNS..CA","250117-F07","J6I3624B","0100","504100096",102060,"CONCRETE APPROACH PAVEMENT","E042","",null,null,"","","","","","","",null,null,""]
[null,null,"1005FACCNS..CA","250117-F07","J6I3624B","0650","7034219A96",102098,"TYPE D BARRIER","E042","",null,null,"","","","","","","",null,null,""]
[null,null,"1005FACCNS..CA","250117-G03","J7P3425C","0330","609203196",101687,"CONCRETE CURB LOW PROFILE TYPE E","E042","",null,null,"","","","","","","",null,null,""]
[null,null,"1005FACCNS..CA","250117-G03","J7P3425C","0730","703404196",101576,"CLASS B-1 CONCRETE (CULVERTS)","E042","",null,null,"","","","","","","",null,null,""]
[null,null,"1005FACCNS..CA","250117-G03","J7P3425C","1870","720100096",101618,"MECHANICALLY STABILIZED EARTH WALL SYSTEMS","E042","",null,null,"","","","","","","",null,null,""]
[null,null,"1005FACCNS..CA","250221-A01","JNW0020","0620","701120596",102820,"ROCK SOCKETS (3 FT 6 IN. DIA.)","E042","",null,null,"","","","","","","",null,null,""]
[null,null,"1005FACCNS..CA","250221-B01","J2S2160","0370","701120796",103319,"ROCK SOCKETS (4 FT  6 IN. DIA.)","E042","",null,null,"","","","","","","",null,null,""]
[null,null,"1005FACCNS..CA","250221-B02","J2S3438","1300","702131696",102485,"GALVANIZED CAST-IN-PLACE CONCRETE PILES (16 IN)","E042","",null,null,"","","","","","","",null,null,""]
[null,null,"1005FACCNS..CA","250221-B03","JNE0053","0410","5031011A96",103030,"BRIDGE APPROACH SLAB (MINOR ROAD)","E042","",null,null,"","","","","","","",null,null,""]
[null,null,"1005FACCNS..CA","250221-C01","J3S3178","0500","703421396",103574,"SLAB ON CONCRETE I-GIRDER","E042","",null,null,"","","","","","","",null,null,""]
[null,null,"1005FACCNS..CA","250221-C02","JKR0136","0890","502130896",103534,"CONCRETE PAVEMENT (8 IN. NON-REINFORCED, 15 FT. JOINTS)","E042","",null,null,"","","","","","","",null,null,""]
[null,null,"1005FACCNS..CA","250221-D01","J5S3506","0540","701120596",103649,"ROCK SOCKETS (3 FT 6 IN. DIA.)","E042","",null,null,"","","","","","","",null,null,""]
[null,null,"1005FACCNS..CA","250221-D01","J5S3506","0610","703200396",103652,"CLASS B CONCRETE (SUBSTRUCTURE)","E042","",null,null,"","","","","","","",null,null,""]
[null,null,"1005FACCNS..CA","250221-F01","JSL0091","0810","608300696",103800,"6 IN. CONCRETE MEDIAN STRIP","E042","",null,null,"","","","","","","",null,null,""]
[null,null,"1005FACCNS..CA","250221-F03","J6S3669","0750","5031010A96",103094,"BRIDGE APPROACH SLAB (MAJOR)","E042","",null,null,"","","","","","","",null,null,""]
[null,null,"1005FACCNS..CA","250221-F03","J6S3669","0790","7034219A96",103097,"TYPE D BARRIER","E042","",null,null,"","","","","","","",null,null,""]
[null,null,"1005FACCNS..CA","250314-A02","JNW0071","0330","5031011A96",105208,"BRIDGE APPROACH SLAB (MINOR ROAD)","E042","",null,null,"","","","","","","",null,null,""]
[null,null,"1005FACCNS..CA","250314-B01","JNE0145","0190","613101096",105309,"FURNISHING AND PLACING CONCRETE MATERIAL FOR FULL DEPTH PAVEMENT REPAIR","E042","",null,null,"","","","","","","",null,null,""]
[null,null,"1005FACCNS..CA","250314-C01","JKR0249","0520","613101096",104058,"FURNISHING AND PLACING CONCRETE MATERIAL FOR FULL DEPTH PAVEMENT REPAIR","E042","",null,null,"","","","","","","",null,null,""]
[null,null,"1005FACCNS..CA","250314-D03","J5S3548","0970","703460096",104917,"CURB BLOCKOUT","E042","",null,null,"","","","","","","",null,null,""]
[null,null,"1005FACCNS..CA","250314-D06","JCD0008","5001","503990596",111955,"BRIDGE APPROACH SLAB (MINOR)","E042","",null,null,"","","","","","","",null,null,""]
[null,null,"1005FACCNS..CA","250314-D07","JCD0076","0170","608600496",104866,"CONCRETE SIDEWALK, 4 IN.","E042","",null,null,"","","","","","","",null,null,""]
[null,null,"1005FACCNS..CA","250314-F01","J6I3573B","0170","608990296",104438,"ADA CURB RAMP","E042","",null,null,"","","","","","","",null,null,""]
[null,null,"1005FACCNS..CA","250314-F03","J6S3626","0190","608300496",104445,"4 IN. CONCRETE MEDIAN STRIP","E042","",null,null,"","","","","","","",null,null,""]
[null,null,"1005FACCNS..CA","250314-F03","J6S3626","0550","7319902",104570,"REPLACE INLET TOP TYPE 'T'","E042","",null,null,"","","","",{"$f":"IF(N5220=\"\",\"\",I5220)","v":""},{"$f":"IF(N5220=\"\",\"\",J5220)","v":""},{"$f":"IF(N5220=\"\",\"\",H5220)","v":""},null,null,""]
[null,null,"1005FACCNS..CA","250314-F03","J6S3626","1460","701110696",104546,"DRILLED SHAFTS (4 FT. 0 IN. DIA.)","E042","",null,null,"","","","","","","",null,null,""]
[null,null,"1005FACCNS..CA","250314-G03","J8S3156","1060","701110696",104378,"DRILLED SHAFTS (4 FT. 0 IN. DIA.)","E042","",null,null,"","","","","","","",null,null,""]
[null,null,"1005FACCNS..CA","250314-G03","J8S3156","1160","703422196",104384,"SLAB ON CONCRETE NU-GIRDER","E042","",null,null,"","","","","","","",null,null,""]
[null,null,"1005FACCNS..CA","250418-C02","JKU0120","0160","502133296",105976,"CONCRETE PAVEMENT (8 1/2 IN. NON-REINFORCED, 15 FT. JOINTS)","E042","",null,null,"","","","","","","",null,null,""]
[null,null,"1005FACCNS..CA","250418-C03","JKU0132","0090","608100096",106039,"CONCRETE MEDIAN","E042","",null,null,"","","","","","","",null,null,""]
[null,null,"1005FACCNS..CA","250418-F02","J6P3623","0260","609201196",105728,"INTEGRAL CURB (6 IN. HEIGHT AND UNDER) TYPE A","E042","",null,null,"","","","","","","",null,null,""]
[null,null,"1005FACCNS..CA","250418-F03","JSL0074","0140","613990596",105913,"FURNISHING AND PLACING RAPID STRENGTH CONCRETE MATEIAL FOR FULL DEPTH PAVEMENT REPAIR","E042","",null,null,"","","","","","","",null,null,""]
[null,null,"1005FACCNS..CA","250418-H01","J9P3678","0380","703200396",105442,"CLASS B CONCRETE (SUBSTRUCTURE)","E042","",null,null,"","","","","","","",null,null,""]
[null,null,"1005FACCNS..CA","250418-H03","J9S3603","0440","608500896",105630,"PAVED APPROACH, 8 IN.","E042","",null,null,"","","","","","","",null,null,""]
[null,null,"1005FACCNS..CA","250418-H05","JSE0076","0770","703200396",106199,"CLASS B CONCRETE (SUBSTRUCTURE)","E042","",null,null,"","","","","","","",null,null,""]
[null,null,"1005FACCNS..CA","250507-C01","JST0019","0570","Pavements",109691," Oak Grove to Bates City","E042","",null,null,"","","","","","","",null,null,""]
[null,null,"1005FACCNS..CA","250507-C01","JST0019","0620","Pavements",109696," Lefholz Road Bridge","E042","",null,null,"","","","","","","",null,null,""]
[null,null,"1005FACCNS..CA","250507-C01","JST0019","0800","Structures",109712," Lefholz Road Overpass","E042","",null,null,"","","","","","","",null,null,""]
[null,null,"1005FACCNS..CA","250513-G01","J7P3485","0050","50199DB1",105566,"All Concrete Tests","E042","",null,null,"","","","","","","",null,null,""]
[null,null,"1005FACCNS..CA","250516-C01","J4P3196","0210","504100096",106950,"CONCRETE APPROACH PAVEMENT","E042","",null,null,"","","","","","","",null,null,""]
[null,null,"1005FACCNS..CA","250516-C01","J4P3196","0300","608600496",106958,"CONCRETE SIDEWALK, 4 IN.","E042","",null,null,"","","","","","","",null,null,""]
[null,null,"1005FACCNS..CA","250516-C02","J4P3268E","0060","608101096",106685,"CONCRETE CURB RAMP","E042","",null,null,"","","","","","","",null,null,""]
[null,null,"1005FACCNS..CA","250516-C03","J4S3412","0270","608500896",106640,"PAVED APPROACH, 8 IN.","E042","",null,null,"","","","","","","",null,null,""]
[null,null,"1005FACCNS..CA","250516-C09","JKU0039","0260","505100096",107647,"LOW SLUMP CONCRETE WEARING SURFACE","E042","",null,null,"","","","","","","",null,null,""]
[null,null,"1005FACCNS..CA","250516-C09","JKU0039","0420","704010196",107660,"SUBSTRUCTURE REPAIR (FORMED)","E042","",null,null,"","","","","","","",null,null,""]
[null,null,"1005FACCNS..CA","250516-D07","JCD0126","0060","502110796",107669,"CONCRETE PAVEMENT ( 7 IN. NON-REINF)","E042","",null,null,"","","","","","","",null,null,""]
[null,null,"1005FACCNS..CA","250516-F01","J6P3274","0250","608300696",107217,"6 IN. CONCRETE MEDIAN STRIP","E042","",null,null,"","","","","","","",null,null,""]
[null,null,"1005FACCNS..CA","250516-F01","J6P3274","0310","608990596",107286,"4 IN. STAMPED CONCRETE","E042","",null,null,"","","","","","","",null,null,""]
[null,null,"1005FACCNS..CA","250516-F01","J6P3274","0880","720100096",107263,"MECHANICALLY STABILIZED EARTH WALL SYSTEMS","E042","",null,null,"","","","","","","",null,null,""]
[null,null,"1005FACCNS..CA","250516-F06","J6P3649","0110","608300696",107921,"6 IN. CONCRETE MEDIAN STRIP","E042","",null,null,"","","","","","","",null,null,""]
[null,null,"1005FACCNS..CA","250516-F07","J6S3397","0220","608500896",107466,"PAVED APPROACH, 8 IN.","E042",{"$f":"IF(C5475=$C$162,D5475,\"\")","v":""},null,null,{"$f":"(IF(K5475=\"\",\"\",IF(OR(D5475=$J$33,D5475=$T$33, D5475=$O$33),D5475,\"\")))","v":""},{"$f":"IF(N5475=\"\",\"\",F5475)","v":""},{"$f":"IF(N5475=\"\", \"\", E5475)","v":""},{"$f":"IF(N5475=\"\", \"\", G5475)","v":""},"","","",null,null,""]
[null,null,"1005FACCNS..CA","250516-F07","J6S3397","1260","902910096",107549,"BASE, CONCRETE","E042","",null,null,"","","","","","","",null,null,""]
[null,null,"1005FACCNS..CA","250516-F09","JSL0044","0130","608600496",108106,"CONCRETE SIDEWALK, 4 IN.","E042","",null,null,"","","","","","","",null,null,""]
[null,null,"1005FACCNS..CA","250516-F11","JSL0112","0800","609106096",108047,"PAVED DITCH","E042","",null,null,"","","","","","","",null,null,""]
[null,null,"1005FACCNS..CA","250516-G01","J7S3059B","0180","608500896",106494,"PAVED APPROACH, 8 IN.","E042","",null,null,"","","","","","","",null,null,""]
[null,null,"1005FACCNS..CA","250516-G01","J7S3059B","0200","609101196",106496,"CONCRETE CURB (OVER 6 IN. HEIGHT) TYPE S","E042","",null,null,"","","","","","","",null,null,""]
[null,null,"1005FACCNS..CA","250516-G02","J7S3506","0140","609105296",106345,"CURB AND GUTTER TYPE B","E042","",null,null,"","","","","","","",null,null,""]
[null,null,"1005FACCNS..CA","250516-G02","J7S3531B","1190","608600496",106431,"CONCRETE SIDEWALK, 4 IN.","E042","",null,null,"","","","","","","",null,null,""]
[null,null,"1005FACCNS..CA","250516-G03","J8P3236","0040","608101096",107324,"CONCRETE CURB RAMP","E042","",null,null,"","","","","","","",null,null,""]
[null,null,"1005FACCNS..CA","250516-G05","JSR0170","0050","502130996",107072,"CONCRETE PAVEMENT (9 IN. NON-REINFORCED 15 FT. JOINTS)","E042","",null,null,"","","","","","","",null,null,""]
[null,null,"1005FACCNS..CA","250516-H10","JSE0248","0680","7034219A96",108818,"TYPE D BARRIER","E042","",null,null,"","","","","","","",null,null,""]
[null,null,"1005FACCNS..CA","250516-H5A","J9S3780","0610","703460096",108471,"CURB BLOCKOUT","E042","",null,null,"","","","","","","",null,null,""]
[null,null,"1005FACCNS..CA","250620-C01","JKR0102","0430","5031010A96",108968,"BRIDGE APPROACH SLAB (MAJOR)","E042","",null,null,"","","","","","","",null,null,""]
[null,null,"1005FACCNS..CA","250620-C04","JKU0024","0420","6179902",114190,"CONCRETE TRAFFIC BARRIER TRANSITION","E042","",null,null,"","","","","","","",null,null,""]
[null,null,"1005FACCNS..CA","250620-C04","JKU0024","1000","5031011A96",109056,"BRIDGE APPROACH SLAB (MINOR ROAD)","E042","",null,null,"","","","","","","",null,null,""]
[null,null,"1005FACCNS..CA","250620-C09","JKU0404","1470","703200396",109293,"CLASS B CONCRETE (SUBSTRUCTURE)","E042","",null,null,"","","","","","","",null,null,""]
[null,null,"1005FACCNS..CA","250620-D01","J5P3573","0300","609105296",109126,"CURB AND GUTTER TYPE B","E042","",null,null,"","","","","","","",null,null,""]
[null,null,"1005FACCNS..CA","250620-F03","J6S3435","0100","613101096",109447,"FURNISHING AND PLACING CONCRETE MATERIAL FOR FULL DEPTH PAVEMENT REPAIR","E042","",null,null,"","","","","","","",null,null,""]
[null,null,"1005FACCNS..CA","250815-B04","JNE0137","0500","502130896",110100,"CONCRETE PAVEMENT (8 IN. NON-REINFORCED, 15 FT. JOINTS)","E042","",null,null,"","","","","","","",null,null,""]
[null,null,"1005FACCNS..CA","250815-D01","JCD0128","0090","608100096",109950,"CONCRETE MEDIAN","E042","",null,null,"","","","","","","",null,null,""]
[null,null,"1005FACCNS..CA","250815-D01","JCD0128","0160","609104296",109956,"CONCRETE GUTTER TYPE B","E042","",null,null,"","","","","","","",null,null,""]
[null,null,"1005FACCNS..CA","250815-F01","J6S3215B","1840","608500896",110495,"PAVED APPROACH, 8 IN.","E042","",null,null,"","","","","","","",null,null,""]
[null,null,"1005FACCNS..CA","250815-F02","J6S3632","0160","502111096",110781,"CONCRETE PAVEMENT (10 IN. NON-REINF)","E042","",null,null,"","","","","","","",null,null,""]
[null,null,"1005FACCNS..CA","250815-F02","J6S3632","0380","609201196",110795,"INTEGRAL CURB (6 IN. HEIGHT AND UNDER) TYPE A","E042","",null,null,"","","","","","","",null,null,""]
[null,null,"1005FACCNS..CA","250815-G02","J8P3144","0200","608600496",110200,"CONCRETE SIDEWALK, 4 IN.","E042","",null,null,"","","","","","","",null,null,""]
[null,null,"1005FACCNS..CA","250815-G03","JSR0073","0360","704010196",110393,"SUBSTRUCTURE REPAIR (FORMED)","E042","",null,null,"","","","","","","",null,null,""]
[null,null,"1005FACCNS..CA","250815-G03","JSR0073","0630","505200096",110405,"LATEX MODIFIED CONCRETE WEARING SURFACE","E042",{"$f":"IF(C5731=$C$162,D5731,\"\")","v":""},null,null,{"$f":"(IF(K5731=\"\",\"\",IF(OR(D5731=$J$33,D5731=$T$33, D5731=$O$33),D5731,\"\")))","v":""},{"$f":"IF(N5731=\"\",\"\",F5731)","v":""},{"$f":"IF(N5731=\"\", \"\", E5731)","v":""},{"$f":"IF(N5731=\"\", \"\", G5731)","v":""},"","","",null,null,""]
[null,null,"1005FACCNS..CA","250815-H04","JSE0155","0380","5031011A96",110301,"BRIDGE APPROACH SLAB (MINOR ROAD)","E042","",null,null,"","","","","","","",null,null,""]
[null,null,"1005FACCNS..CA","250815-H04","JSE0155","0450","703421296",110306,"SLAB ON STEEL","E042","",null,null,"","","","","","","",null,null,""]
[null,null,"1005FACCNS..CA","250919-A02","JNW0051","0220","613101096",111135,"FURNISHING AND PLACING CONCRETE MATERIAL FOR FULL DEPTH PAVEMENT REPAIR","E042","",null,null,"","","","","","","",null,null,""]
[null,null,"1005FACCNS..CA","250919-C01","JKU0030","0080","613101096",111195,"FURNISHING AND PLACING CONCRETE MATERIAL FOR FULL DEPTH PAVEMENT REPAIR","E042","",null,null,"","","","","","","",null,null,""]
[null,null,"1005FACCNS..CA","250919-C03","JKU0226","0280","608500796",111240,"PAVED APPROACH, 7 IN.","E042","",null,null,"","","","","","","",null,null,""]
[null,null,"1005FACCNS..CA","250919-F02","J6P3554","0250","617300096",111505,"CONCRETE TRAFFIC BARRIER, TYPE C","E042","",null,null,"","","","","","","",null,null,""]
[null,null,"1005FACCNS..CA","250919-F02","J6P3554","0990","5031010A96",111456,"BRIDGE APPROACH SLAB (MAJOR)","E042","",null,null,"","","","","","","",null,null,""]
[null,null,"1005FACCNS..CA","250919-F05","J6S3631","0240","608500796",111771,"PAVED APPROACH, 7 IN.","E042","",null,null,"","","","","","","",null,null,""]
[null,null,"1005FACCNS..CA","250919-H01","J9S3677","0480","703421696",111436,"TYPE H BARRIER","E042","",null,null,"","","","","","","",null,null,""]
[null,null,"1005FACCNS..CA","251017-A01","JNW0021","0110","608101096",112652,"CONCRETE CURB RAMP","E042","",null,null,"","","","","","","",null,null,""]
[null,null,"1005FACCNS..CA","251017-A03","JNW0089","0220","609201196",112587,"INTEGRAL CURB (6 IN. HEIGHT AND UNDER) TYPE A","E042","",null,null,"","","","","","","",null,null,""]
[null,null,"1005FACCNS..CA","251017-A03","JNW0089","0680","609201196",112613,"INTEGRAL CURB (6 IN. HEIGHT AND UNDER) TYPE A","E042","",null,null,"","","","","","","",null,null,""]
[null,null,"1005FACCNS..CA","251017-C01","JKR0079","0010","613101096",112319,"FURNISHING AND PLACING CONCRETE MATERIAL FOR FULL DEPTH PAVEMENT REPAIR","E042","",null,null,"","","","","","","",null,null,""]
[null,null,"1005FACCNS..CA","251017-C04","JKU0042","0190","609105196",112218,"CURB AND GUTTER TYPE A","E042","",null,null,"","","","","","","",null,null,""]
[null,null,"1005FACCNS..CA","251017-F02","J6P3510C","0090","502131096",112004,"CONCRETE PAVEMENT (10 IN. NON-REINFORCED 15 FT. JOINTS)","E042","",null,null,"","","","","","","",null,null,""]
[null,null,"1005FACCNS..CA","251017-F02","J6P3510C","0220","608600796",112012,"CONCRETE SIDEWALK, 7 IN.","E042","",null,null,"","","","","","","",null,null,""]
[null,null,"1005FACCNS..CA","251017-F04","J6S3289","0900","5031010A96",113690,"BRIDGE APPROACH SLAB (MAJOR)","E042","",null,null,"","","","","","","",null,null,""]
[null,null,"1005FACCNS..CA","251017-F05","J6S3578","0210","608500896",113002,"PAVED APPROACH, 8 IN.","E042","",null,null,"","","","","","","",null,null,""]
[null,null,"1005FACCNS..CA","251017-F05","J6S3578","0280","609105596",113008,"CONCRETE CURB AND GUTTER (4 INCH)","E042","",null,null,"","","","","","","",null,null,""]
[null,null,"1005FACCNS..CA","251017-G01","J7S3398","0430","608600496",112564,"CONCRETE SIDEWALK, 4 IN.","E042","",null,null,"","","","","","","",null,null,""]
[null,null,"1005FACCNS..CA","251017-G02","J8S0836D","0400","6099903",112863,"MODIFIED TYPE A GUTTER","E042","",null,null,"","","","","","","",null,null,""]
[null,null,"1005FACCNS..CA","251017-G03","JSR0269","0140","5049905",113973,"RAPID STRENGTH CONCRETE APPROACH PAVEMENT","E042","",null,null,"","","","","","","",null,null,""]
[null,null,"1005FACCNS..CA","251017-G04","J8S3158","0170","609105296",113496,"CURB AND GUTTER TYPE B","E042","",null,null,"","","","","","","",null,null,""]
[null,null,"1005FACCNS..CA","251017-H02","J9S3798","0080","608500896",113307,"PAVED APPROACH, 8 IN.","E042","",null,null,"","","","","","","",null,null,""]
[null,null,"1005FACCNS..CA","251017-H04","JSE0141","0130","608600896",112516,"CONCRETE SIDEWALK, 8 IN.","E042","",null,null,"","","","","","","",null,null,""]
[null,null,"1005FACCNS..CA","251114-A01","J1S3438","0120","608600496",114215,"CONCRETE SIDEWALK, 4 IN.","E042","",null,null,"","","","","","","",null,null,""]
[null,null,"1005FACCNS..CA","251114-A3B","JNW0073","0140","609104196",115769,"CONCRETE GUTTER TYPE A","E042","",null,null,"","","","","","","",null,null,""]
[null,null,"1005FACCNS..CA","251114-C01","JKR0077","0140","608600496",114294,"CONCRETE SIDEWALK, 4 IN.","E042","",null,null,"","","","","","","",null,null,""]
[null,null,"1005FACCNS..CA","251114-C05","JKU0098","0510","701111096",114410,"DRILLED SHAFTS (6 FT. 0 IN. DIA.)","E042","",null,null,"","","","","","","",null,null,""]
[null,null,"1005FACCNS..CA","251114-C11","JKU0292","0130","504100096",114444,"CONCRETE APPROACH PAVEMENT","E042","",null,null,"","","","","","","",null,null,""]
[null,null,"1005FACCNS..CA","251114-D01","JCD0111","0590","502131196",114544,"CONCRETE PAVEMENT (11 IN. NON-REINFORCED 15 FT. JOINTS)","E042","",null,null,"","","","","","","",null,null,""]
[null,null,"1005FACCNS..CA","251114-F02","J6S3557","0210","608300696",114009,"6 IN. CONCRETE MEDIAN STRIP","E042","",null,null,"","","","","","","",null,null,""]
[null,null,"1005FACCNS..CA","251114-F02","J6S3557","0500","617310096",114031,"CONCRETE TRAFFIC BARRIER, TYPE D","E042","",null,null,"","","","","","","",null,null,""]
[null,null,"1005FACCNS..CA","251114-F04","J6S3625","0190","608500896",114878,"PAVED APPROACH, 8 IN.","E042","",null,null,"","","","","","","",null,null,""]
[null,null,"1005FACCNS..CA","251114-F05","JSL0081","0210","608600496",114935,"CONCRETE SIDEWALK, 4 IN.","E042","",null,null,"","","","","","","",null,null,""]
[null,null,"1005FACCNS..CA","251114-F08","J6I3290","1260","505200096",115077,"LATEX MODIFIED CONCRETE WEARING SURFACE","E042","",null,null,"","","","","","","",null,null,""]
[null,null,"1005FACCNS..CA","251114-G11","JSR0119","0600","701120796",115302,"ROCK SOCKETS (4 FT  6 IN. DIA.)","E042","",null,null,"","","","","","","",null,null,""]
[null,null,"1005FACCNS..CA","251114-H01","J9S3817","0740","703421696",115436,"TYPE H BARRIER","E042","",null,null,"","","","","","","",null,null,""]
[null,null,"1005FACCNS..CA","251114-H05","JSE0026","0390","703421396",115542,"SLAB ON CONCRETE I-GIRDER","E042","",null,null,"","","","","","","",null,null,""]
[null,null,"1005FACCNS..CA","251114-H05","JSE0026","0400","703421696",115543,"TYPE H BARRIER","E042","",null,null,"","","","","","","",null,null,""]
[null,null,"1005FACCNS..CB","231117-A01","J1P3225","0090","613101096",82748,"FURNISHING AND PLACING CONCRETE MATERIAL FOR FULL DEPTH PAVEMENT REPAIR","E042","",null,null,"","","","","","","",null,null,""]
[null,null,"1005FACCNS..CB","240109-A01","JNW0026","0080","Fischer Bethany",84064,"Bridges and Other Structures","E042","",null,null,"","","","","","","",null,null,""]
[null,null,"1005FACCNS..CB","240315-H03","J9P3768","0410","703422196",87470,"SLAB ON CONCRETE NU-GIRDER","E042","",null,null,"","","","","","","",null,null,""]
[null,null,"1005FACCNS..CB","240315-H06","JSE0073","0330","703460096",87599,"CURB BLOCKOUT","E042","",null,null,"","","","","","","",null,null,""]
[null,null,"1005FACCNS..CB","240920-A04","JNW0031","0440","703422296",93570,"SLAB ON CONCRETE BEAM","E042","",null,null,"","","","","","","",null,null,""]
[null,null,"1005FACCNS..CB","240920-H02","J9P3751","1280","703422196",93939,"SLAB ON CONCRETE NU-GIRDER","E042","",null,null,"","","","","","","",null,null,""]
[null,null,"1005FACCNS..CB","241115-A01","JNW0009","0331","703421296",108830,"SLAB ON STEEL","E042","",null,null,"","","","","","","",null,null,""]
[null,null,"1005FACCNS..CB","241115-H02","J9P3667","0560","703460096",97317,"CURB BLOCKOUT","E042","",null,null,"","","","","","","",null,null,""]
[null,null,"1005FACCNS..CB","250117-H03","J9P3842","0120","401015096",101887,"TYPE A2 SHOULDER","E042","",null,null,"","","","","","","",null,null,""]
[null,null,"1005FACCNS..CB","250314-H02","JSE0116","0660","703200396",105286,"CLASS B CONCRETE (SUBSTRUCTURE)","E042","",null,null,"","","","","","","",null,null,""]
[null,null,"1005FACCNS..CB","250919-H02","JSE0083","0130","504100096",110960,"CONCRETE APPROACH PAVEMENT","E042","",null,null,"","","","","","","",null,null,""]
[null,null,"1005FACCNS..CB","250919-H02","JSE0083","0810","7034219A96",111009,"TYPE D BARRIER","E042","",null,null,"","","","","","","",null,null,""]
[null,null,"1005FACCNS..CC","240920-H01","J9P3687","0550","701120496",93836,"ROCK SOCKETS (3 FT  0 IN. DIA.)","E042","",null,null,"","","","","","","",null,null,""]
[null,null,"1005FACCNS..CC","250117-H06","JSE0027","0430","703200396",102264,"CLASS B CONCRETE (SUBSTRUCTURE)","E042","",null,null,"","","","","","","",null,null,""]
[null,null,"1005GDCMLD","220520-A07","J1S3258","0720","703200396",58362,"CLASS B CONCRETE (SUBSTRUCTURE)","E042","",null,null,"","","","","","","",null,null,""]
[null,null,"1005GDCMLD","230915-A03","JNW0006","0810","702131696",79808,"GALVANIZED CAST-IN-PLACE CONCRETE PILES (16 IN)","E042","",null,null,"","","","","","","",null,null,""]
[null,null,"1005GDCMLD","240109-A01","JNW0026","0080","Fischer Bethany",84064,"Bridges and Other Structures","E042","",null,null,"","","","","","","",null,null,""]
[null,null,"1005GDCMLD","240216-A01","J1I3330","0550","7039903",87950,"PEDESTRIAN CURB","E042","",null,null,"","","","","","","",null,null,""]
[null,null,"1005GDCMLD","241018-A01","JNW0008","0390","703421696",96862,"TYPE H BARRIER","E042","",null,null,"","","","","","","",null,null,""]
[null,null,"1005GDCMLD","241018-A03","JNW0111","0530","5031011A96",96811,"BRIDGE APPROACH SLAB (MINOR ROAD)","E042","",null,null,"","","","","","","",null,null,""]
[null,null,"1005GDCMLD","241213-A01","J1I3280","0730","504100096",100285,"CONCRETE APPROACH PAVEMENT","E042","",null,null,"","","","","","","",null,null,""]
[null,null,"1005GDCMLD","250221-A01","JNW0020","0700","703200396",102823,"CLASS B CONCRETE (SUBSTRUCTURE)","E042","",null,null,"","","","","","","",null,null,""]
[null,null,"1005GDCMLD","250314-A02","JNW0071","0350","701120696",104594,"ROCK SOCKETS (4 FT  0 IN. DIA.)","E042","",null,null,"","","","","","","",null,null,""]
[null,null,"1005GDCMLD","250507-C01","JST0019","0840","Structures",109716," East Sni-A-Bar","E042","",null,null,"","","","","","","",null,null,""]
[null,null,"1005GECMLS","220218-F06","J6I3149","1430","704010496",54306,"HALF-SOLE REPAIR","E042","",null,null,"","","","","","","",null,null,""]
[null,null,"1005GECMLS","220218-F06","J6I3149","1650","704010796",54347,"SLAB EDGE REPAIR (BRIDGES)","E042","",null,null,"","","","","","","",null,null,""]
[null,null,"1005GECMLS","220218-F06","J6I3149","2060","704010796",54370,"SLAB EDGE REPAIR (BRIDGES)","E042","",null,null,"","","","","","","",null,null,""]
[null,null,"1005GECMLS","220218-F06","J6I3149","2260","704010396",54381,"SUPERSTRUCTURE REPAIR (UNFORMED)","E042","",null,null,"","","","","","","",null,null,""]
[null,null,"1005GECMLS","220218-F06","J6I3187","4550","704010296",54592,"SUBSTRUCTURE REPAIR (UNFORMED)","E042","",null,null,"","","","","","","",null,null,""]
[null,null,"1005GECMLS","220218-F06","J6I3187","5610","704010296",54671,"SUBSTRUCTURE REPAIR (UNFORMED)","E042","",null,null,"","","","","","","",null,null,""]
[null,null,"1005GECMLS","220520-G06","J8P3223","5203","613201896",62080,"FURNISHING AND PLACING CONCRETE MATERIAL FOR CLASS A PARTIAL DEPTH PAVEMENT REPAIR","E042","",null,null,"","","","","","","",null,null,""]
[null,null,"1005GECMLS","230120-F02","J6I3490","2480","704010196",68882,"SUBSTRUCTURE REPAIR (FORMED)","E042","",null,null,"","","","",{"$f":"IF(N6436=\"\",\"\",I6436)","v":""},{"$f":"IF(N6436=\"\",\"\",J6436)","v":""},{"$f":"IF(N6436=\"\",\"\",H6436)","v":""},null,null,""]
[null,null,"1005GECMLS","241213-D4A","J5P3525","1360","704010496",100447,"HALF-SOLE REPAIR","E042","",null,null,"","","","","","","",null,null,""]
[null,null,"1005GECMLS","241213-D4A","J5P3525","1820","704010196",100491,"SUBSTRUCTURE REPAIR (FORMED)","E042","",null,null,"","","","","","","",null,null,""]
[null,null,"1005GECMLS","250117-F07","J6I3624B","0560","701110896",102092,"DRILLED SHAFTS (5 FT. 0 IN. DIA.)","E042","",null,null,"","","","","","","",null,null,""]
[null,null,"1005GECMLS","250314-F01","J6I3573B","0570","505200096",104431,"LATEX MODIFIED CONCRETE WEARING SURFACE","E042","",null,null,"","","","","","","",null,null,""]
[null,null,"1005GECMLSBD","220218-F06","J6I3149","0730","5050004",54714,"SUPPLEMENTARY WEARING SURFACE MATERIAL","E042","",null,null,"","","","","","","",null,null,""]
[null,null,"1005GECMLSBD","220218-F06","J6I3149","1150","505200096",54559,"LATEX MODIFIED CONCRETE WEARING SURFACE","E042","",null,null,"","","","","","","",null,null,""]
[null,null,"1005GECMLSBD","220218-F06","J6I3149","3170","5050004",54701,"SUPPLEMENTARY WEARING SURFACE MATERIAL","E042","",null,null,"","","","","","","",null,null,""]
[null,null,"1005GECMLSBD","220218-F06","J6I3149","3180","505200096",54445,"LATEX MODIFIED CONCRETE WEARING SURFACE","E042","",null,null,"","","","","","","",null,null,""]
[null,null,"1005GECMLSBD","230421-F06","J6P3288","0580","5050004",74609,"SUPPLEMENTARY WEARING SURFACE MATERIAL","E042","",null,null,"","","","","","","",null,null,""]
[null,null,"1005GECMLSBD","230421-F06","J6P3288","1350","5050004",74614,"SUPPLEMENTARY WEARING SURFACE MATERIAL","E042","",null,null,"","","","","","","",null,null,""]
[null,null,"1005GECMLSBD","230421-F06","J6P3288","2130","505200096",74498,"LATEX MODIFIED CONCRETE WEARING SURFACE","E042","",null,null,"","","","","","","",null,null,""]
[null,null,"1005GECMLSBD","230421-F06","J6P3288","3620","5050004",74626,"SUPPLEMENTARY WEARING SURFACE MATERIAL","E042","",null,null,"","","","","","","",null,null,""]
[null,null,"1005GECMLSBD","240119-D03","J5P3467","0360","505200096",85520,"LATEX MODIFIED CONCRETE WEARING SURFACE","E042","",null,null,"","","","","","","",null,null,""]
[null,null,"1005GECMLSBD","241018-C02","J4P3468","0510","5050004",95381,"SUPPLEMENTARY WEARING SURFACE MATERIAL","E042","",null,null,"","","","","","","",null,null,""]
[null,null,"1005GECMLSBD","241213-D4A","J5P3523","0480","505200096",100503,"LATEX MODIFIED CONCRETE WEARING SURFACE","E042","",null,null,"","","","","","","",null,null,""]
[null,null,"1005GECMLSBD","241213-D4A","J5P3525","1600","5050004",100552,"SUPPLEMENTARY WEARING SURFACE MATERIAL","E042","",null,null,"","","","","","","",null,null,""]
[null,null,"1005GECMLSBD","241213-D4A","J5P3525","1800","505200096",100490,"LATEX MODIFIED CONCRETE WEARING SURFACE","E042","",null,null,"","","","","","","",null,null,""]
[null,null,"1005GECMLSBD","250314-D03","J5S3563","1760","505200096",104989,"LATEX MODIFIED CONCRETE WEARING SURFACE","E042","",null,null,"","","","","","","",null,null,""]
[null,null,"1005GFCPLS","240216-A01","J1I3330","0120","609101096",86114,"CONCRETE CURB (6 IN. HEIGHT AND UNDER) TYPE S","E042","",null,null,"","","","","","","",null,null,""]
[null,null,"1005GFCPLS","240920-A01","JNW0002","0230","608300896",94361,"8 IN. CONCRETE MEDIAN STRIP","E042","",null,null,"","","","","","","",null,null,""]
[null,null,"1005GFCPLS","251017-A01","JNW0021","0130","608500896",112654,"PAVED APPROACH, 8 IN.","E042","",null,null,"","","","","","","",null,null,""]
[null,null,"1005MSCCMS..CD","220520-G06","J8P3223","2240","502131296",60676,"CONCRETE PAVEMENT (12 IN. NON-REINFORCED 15 FT. JOINTS)","E042","",null,null,"","","","","","","",null,null,""]
[null,null,"1007..RCBT1T5","230519-C06","J4S3405B","1450","304050696",76302,"TYPE 5 AGGREGATE FOR BASE (6 IN. THICK)","E042","",null,null,"","","","","","","",null,null,""]
[null,null,"1007..RCBT1T5","240920-C04","JKU0052","0540","304050496",94083,"TYPE 5 AGGREGATE FOR BASE (4 IN. THICK)","E042","",null,null,"","","","","","","",null,null,""]
[null,null,"1007..RCBT1T5","250516-C01","J4P3196","0090","304014396",106938,"TYPE 1 AGGREGATE FOR BASE (4 IN. THICK)","E042","",null,null,"","","","","","","",null,null,""]
[null,null,"1007T1ABLD","250513-G01","J7P3485","0030","Bridge 02: A9707",105581," Bates - IS 49","E042","",null,null,"","","","",{"$f":"IF(N6692=\"\",\"\",I6692)","v":""},{"$f":"IF(N6692=\"\",\"\",J6692)","v":""},{"$f":"IF(N6692=\"\",\"\",H6692)","v":""},null,null,""]
[null,null,"1007T1ABLD","250513-G01","J7P3485","0030","Bridge 16: 9717",105595," Henry - Rt Y","E042","",null,null,"","","","","","","",null,null,""]
[null,null,"1007T1ABLD..T5","210203-C01","J4S3085C","0030","30199DB",49680,null,"E042","",null,null,"","","","","","","",null,null,""]
[null,null,"1007T1ABLD..T5","220218-F06","J6I3149","0720","5031010A96",54536,"BRIDGE APPROACH SLAB (MAJOR)","E042","",null,null,"","","","","","","",null,null,""]
[null,null,"1007T1ABLD..T5","220218-F06","J6I3187","3700","504100096",54479,"CONCRETE APPROACH PAVEMENT","E042","",null,null,"","","","","","","",null,null,""]
[null,null,"1007T1ABLD..T5","220218-F06","J6I3187","5710","5031010A96",54680,"BRIDGE APPROACH SLAB (MAJOR)","E042","",null,null,"","","","","","","",null,null,""]
[null,null,"1007T1ABLD..T5","220520-A07","J1S3258","0100","310500296",58321,"GRAVEL (A) OR CRUSHED STONE (B)","E042","",null,null,"","","","","","","",null,null,""]
[null,null,"1007T1ABLD..T5","221118-A08","J1S3392","0100","304050496",65971,"TYPE 5 AGGREGATE FOR BASE (4 IN. THICK)","E042","",null,null,"","","","","","","",null,null,""]
[null,null,"1007T1ABLD..T5","221118-A08","J1S3392","1040","310700296",66072,"GRAVEL (A) OR CRUSHED STONE (B) OR CHAT (C)","E042","",null,null,"","","","","","","",null,null,""]
[null,null,"1007T1ABLD..T5","230120-F02","J6I3613","2760","613101396",68818,"TYPE 1 OR 5 AGGREGATE FOR BASE (4 IN. THICK)  (PAVEMENT REPAIR)","E042","",null,null,"","","","","","","",null,null,""]
[null,null,"1007T1ABLD..T5","230120-F02","J6I3490","5015","5031010A96",87917,"BRIDGE APPROACH SLAB (MAJOR)","E042","",null,null,"","","","","","","",null,null,""]
[null,null,"1007T1ABLD..T5","230317-G04","J8P3087F","1250","304050696",92404,"TYPE 5 AGGREGATE FOR BASE (6 IN. THICK)","E042","",null,null,"","","","","","","",null,null,""]
[null,null,"1007T1ABLD..T5","230421-G05","J8P0605I","0120","304991096",73528,"PERMANENT AGGREGATE EDGE TREATMENT","E042","",null,null,"","","","","","","",null,null,""]
[null,null,"1007T1ABLD..T5","230616-G01","J8S3162","0840","304991096",77307,"PERMANENT AGGREGATE EDGE TREATMENT","E042","",null,null,"","","","","","","",null,null,""]
[null,null,"1007T1ABLD..T5","230616-G01","J8S3190","1760","310500396",77500,"GRAVEL (A) OR CRUSHED STONE (B)","E042","",null,null,"","","","","","","",null,null,""]
[null,null,"1007T1ABLD..T5","230818-A03","J1P3318","5004","619100096",87905,"PAVEMENT EDGE TREATMENT","E042","",null,null,"","","","","","","",null,null,""]
[null,null,"1007T1ABLD..T5","230818-G01","J7P3533","0350","215300096",78598,"SHAPING SLOPES, CLASS III","E042","",null,null,"","","","","","","",null,null,""]
[null,null,"1007T1ABLD..T5","230818-G01","J7S3491","0670","310500296",78564,"GRAVEL (A) OR CRUSHED STONE (B)","E042","",null,null,"","","","","","","",null,null,""]
[null,null,"1007T1ABLD..T5","230915-A03","JNW0005","5004","310500296",92055,"GRAVEL (A) OR CRUSHED STONE (B)","E042","",null,null,"","","","","","","",null,null,""]
[null,null,"1007T1ABLD..T5","231117-A01","J1P3225","0110","613101396",82750,"TYPE 1 OR 5 AGGREGATE FOR BASE (4 IN. THICK)  (PAVEMENT REPAIR)","E042","",null,null,"","","","","","","",null,null,""]
[null,null,"1007T1ABLD..T5","231117-D2A","J5P3497","0080","304014396",82402,"TYPE 1 AGGREGATE FOR BASE (4 IN. THICK)","E042","",null,null,"","","","","","","",null,null,""]
[null,null,"1007T1ABLD..T5","231117-F02","J6S3351","0110","304050496",82168,"TYPE 5 AGGREGATE FOR BASE (4 IN. THICK)","E042","",null,null,"","","","","","","",null,null,""]
[null,null,"1007T1ABLD..T5","231117-H03","J9S3590","0070","304991096",81799,"PERMANENT AGGREGATE EDGE TREATMENT","E042","",null,null,"","","","","","","",null,null,""]
[null,null,"1007T1ABLD..T5","240119-D05","J5S3369C","0050","304050496",85100,"TYPE 5 AGGREGATE FOR BASE (4 IN. THICK)","E042","",null,null,"","","","","","","",null,null,""]
[null,null,"1007T1ABLD..T5","240119-H07","J9S3642","0550","310500296",84551,"GRAVEL (A) OR CRUSHED STONE (B)","E042","",null,null,"","","","","","","",null,null,""]
[null,null,"1007T1ABLD..T5","240119-H08","J9S3641","0060","310100396",84455,"GRAVEL (A)","E042","",null,null,"","","","","","","",null,null,""]
[null,null,"1007T1ABLD..T5","240216-H02","J9P3121B","0060","310500296",86162,"GRAVEL (A) OR CRUSHED STONE (B)","E042",{"$f":"IF(C6947=$C$162,D6947,\"\")","v":""},null,null,{"$f":"(IF(K6947=\"\",\"\",IF(OR(D6947=$J$33,D6947=$T$33, D6947=$O$33),D6947,\"\")))","v":""},{"$f":"IF(N6947=\"\",\"\",F6947)","v":""},{"$f":"IF(N6947=\"\", \"\", E6947)","v":""},{"$f":"IF(N6947=\"\", \"\", G6947)","v":""},"","","",null,null,""]
[null,null,"1007T1ABLD..T5","240315-H03","JSE0088","1290","304014396",87485,"TYPE 1 AGGREGATE FOR BASE (4 IN. THICK)","E042","",null,null,"","","","","","","",null,null,""]
[null,null,"1007T1ABLD..T5","240419-F01","J6S3368","0150","310500396",88355,"GRAVEL (A) OR CRUSHED STONE (B)","E042","",null,null,"","","","","","","",null,null,""]
[null,null,"1007T1ABLD..T5","240419-H04","J9P3739","0090","304050496",89377,"TYPE 5 AGGREGATE FOR BASE (4 IN. THICK)","E042","",null,null,"","","","","","","",null,null,""]
[null,null,"1007T1ABLD..T5","240517-C07","JKUP0003","0010","304991096",90100,"PERMANENT AGGREGATE EDGE TREATMENT","E042","",null,null,"","","","","","","",null,null,""]
[null,null,"1007T1ABLD..T5","240517-F07","J6S3278","5001","304990596",93136,"Type 5 Aggregate for Base (8 IN. Thick)","E042","",null,null,"","","","","","","",null,null,""]
[null,null,"1007T1ABLD..T5","240517-H03","J9S3593","0040","304050696",90728,"TYPE 5 AGGREGATE FOR BASE (6 IN. THICK)","E042","",null,null,"","","","","","","",null,null,""]
[null,null,"1007T1ABLD..T5","240621-A01","J1P3367","0050","304991096",91705,"PERMANENT AGGREGATE EDGE TREATMENT","E042","",null,null,"","","","","","","",null,null,""]
[null,null,"1007T1ABLD..T5","240621-A01","JNW0024","0440","304991096",91729,"PERMANENT AGGREGATE EDGE TREATMENT","E042","",null,null,"","","","","","","",null,null,""]
[null,null,"1007T1ABLD..T5","240816-D01","J5P3522","0060","304014396",92935,"TYPE 1 AGGREGATE FOR BASE (4 IN. THICK)","E042","",null,null,"","","","","","","",null,null,""]
[null,null,"1007T1ABLD..T5","240816-F02","J6S3633","0060","304050496",92505,"TYPE 5 AGGREGATE FOR BASE (4 IN. THICK)","E042","",null,null,"","","","","","","",null,null,""]
[null,null,"1007T1ABLD..T5","240920-A03","JNW0028","0080","304991096",93646,"Permanent Aggregate Edge Treatment","E042","",null,null,"","","","","","","",null,null,""]
[null,null,"1007T1ABLD..T5","240920-A06","JST0099","0240","304991096",93523,"Permanent Aggregate Edge Treatment","E042","",null,null,"","","","","","","",null,null,""]
[null,null,"1007T1ABLD..T5","240920-A07","JST0100","0180","304991096",94663,"PERMANENT AGGREGATE EDGE TREATMENT","E042","",null,null,"","","","","","","",null,null,""]
[null,null,"1007T1ABLD..T5","240920-C03","JKU0054","0400","304991096",93256,"PERMANENT AGGREGATE EDGE TREATMENT","E042","",null,null,"","","","","","","",null,null,""]
[null,null,"1007T1ABLD..T5","240920-G04","JST0108","0010","304991096",94209,"PERMANENT AGGREGATE EDGE TREATMENT","E042","",null,null,"","","","","","","",null,null,""]
[null,null,"1007T1ABLD..T5","240920-H02","J9P3751","0110","304050696",93856,"TYPE 5 AGGREGATE FOR BASE (6 IN. THICK)","E042","",null,null,"","","","","","","",null,null,""]
[null,null,"1007T1ABLD..T5","240920-H02","J9P3764","1655","304990596",93962,"MODIFIED ROCK BASE","E042","",null,null,"","","","","","","",null,null,""]
[null,null,"1007T1ABLD..T5","241018-A05","JST0102","0110","304991096",95583,"PERMANENT AGGREGATE EDGE TREATMENT","E042","",null,null,"","","","","","","",null,null,""]
[null,null,"1007T1ABLD..T5","241018-A05","JST0102","0360","310500296",95605,"GRAVEL (A) OR CRUSHED STONE (B)","E042","",null,null,"","","","","","","",null,null,""]
[null,null,"1007T1ABLD..T5","241018-A06","JST0101","0150","304991096",96683,"PERMANENT AGGREGATE EDGE TREATMENT","E042","",null,null,"","","","","","","",null,null,""]
[null,null,"1007T1ABLD..T5","241018-A06","JST0101","0405","304991096",96674,"PERMANT AGGREGATE EDGE TREATMENT","E042","",null,null,"","","","","","","",null,null,""]
[null,null,"1007T1ABLD..T5","241018-D01","J5P3433","0100","401015096",95729,"TYPE A2 SHOULDER","E042","",null,null,"","","","","","","",null,null,""]
[null,null,"1007T1ABLD..T5","241018-F04","JSL0028","0250","613101396",96151,"TYPE 1 OR 5 AGGREGATE FOR BASE (4 IN. THICK)  (PAVEMENT REPAIR)","E042","",null,null,"","","","","","","",null,null,""]
[null,null,"1007T1ABLD..T5","241018-G02","JST0109","0290","304991096",95955,"PERMANENT AGGREGATE EDGE TREATMENT","E042","",null,null,"","","","","","","",null,null,""]
[null,null,"1007T1ABLD..T5","241108-F01","JST0020","0080","Seg 5 Earthwork",103945,"Drainage and Sewers","E042","",null,null,"","","","","","","",null,null,""]
[null,null,"1007T1ABLD..T5","241115-C02","J4P3268D","0090","304050496",97567,"TYPE 5 AGGREGATE FOR BASE (4 IN. THICK)","E042","",null,null,"","","","","","","",null,null,""]
[null,null,"1007T1ABLD..T5","241115-F05","JSL0076","0070","304050696",98175,"TYPE 5 AGGREGATE FOR BASE (6 IN. THICK)","E042","",null,null,"","","","","","","",null,null,""]
[null,null,"1007T1ABLD..T5","241115-F10","JSL0080","1290","310500396",98363,"GRAVEL (A) OR CRUSHED STONE (B)","E042","",null,null,"","","","","","","",null,null,""]
[null,null,"1007T1ABLD..T5","241115-G04","JSR0163","0740","310500296",98620,"GRAVEL (A) OR CRUSHED STONE (B)","E042","",null,null,"","","","","","","",null,null,""]
[null,null,"1007T1ABLD..T5","241115-H02","J9P3667","0050","304050696",97277,"TYPE 5 AGGREGATE FOR BASE (6 IN. THICK)","E042","",null,null,"","","","","","","",null,null,""]
[null,null,"1007T1ABLD..T5","241115-H04","JSE0002","0140","613101396",98699,"TYPE 1 OR 5 AGGREGATE FOR BASE (4 IN. THICK)  (PAVEMENT REPAIR)","E042","",null,null,"","","","","","","",null,null,""]
[null,null,"1007T1ABLD..T5","241213-C02","J4S3453","0060","304016396",100569,"TYPE 1 AGGREGATE FOR BASE (6 IN. THICK)","E042","",null,null,"","","","","","","",null,null,""]
[null,null,"1007T1ABLD..T5","241213-G02","JST0088B","1490","304990596",100009,"OPTIONAL BASE","E042","",null,null,"","","","","","","",null,null,""]
[null,null,"1007T1ABLD..T5","241213-G02","JSU0076","1670","304050496",99800,"TYPE 5 AGGREGATE FOR BASE (4 IN. THICK)","E042","",null,null,"","","","","","","",null,null,""]
[null,null,"1007T1ABLD..T5","241213-H03","J9S3743","1060","304991096",99372,"PERMANENT AGGREGATE EDGE TREATMENT","E042","",null,null,"","","","","","","",null,null,""]
[null,null,"1007T1ABLD..T5","250117-A02","JNW0035","0020","304991096",101111,"PERMANENT AGGREGATE EDGE TREATMENT","E042","",null,null,"","","","","","","",null,null,""]
[null,null,"1007T1ABLD..T5","250117-C01","J4S3496","0060","304050696",101296,"TYPE 5 AGGREGATE FOR BASE (6 IN. THICK)","E042","",null,null,"","","","","","","",null,null,""]
[null,null,"1007T1ABLD..T5","250117-D02","J5P3560","0120","304050696",101917,"TYPE 5 AGGREGATE FOR BASE (6 IN. THICK)","E042","",null,null,"","","","","","","",null,null,""]
[null,null,"1007T1ABLD..T5","250117-F03","JSL0078","0110","613101396",100915,"TYPE 1 OR 5 AGGREGATE FOR BASE (4 IN. THICK)  (PAVEMENT REPAIR)","E042","",null,null,"","","","","","","",null,null,""]
[null,null,"1007T1ABLD..T5","250117-G03","J7P3425C","0130","304050696",101672,"TYPE 5 AGGREGATE FOR BASE (6 IN. THICK)","E042","",null,null,"","","","","","","",null,null,""]
[null,null,"1007T1ABLD..T5","250117-H06","JSE0029","0980","310100396",102169,"GRAVEL (A)","E042","",null,null,"","","","","","","",null,null,""]
[null,null,"1007T1ABLD..T5","250221-B03","JNE0053","0100","310500296",103006,"GRAVEL (A) OR CRUSHED STONE (B)","E042","",null,null,"","","","","","","",null,null,""]
[null,null,"1007T1ABLD..T5","250221-C02","JKR0136","0130","304050696",103471,"TYPE 5 AGGREGATE FOR BASE (6 IN. THICK)","E042","",null,null,"","","","","","","",null,null,""]
[null,null,"1007T1ABLD..T5","250221-F01","J6P3635","0180","613101396",103896,"TYPE 1 OR 5 AGGREGATE FOR BASE (4 IN. THICK)  (PAVEMENT REPAIR)","E042","",null,null,"","","","","","","",null,null,""]
[null,null,"1007T1ABLD..T5","250221-H02","J9S3744","0070","304050696",103683,"TYPE 5 AGGREGATE FOR BASE (6 IN. THICK)","E042","",null,null,"","","","","","","",null,null,""]
[null,null,"1007T1ABLD..T5","250314-A05","JST0132","0020","310500296",105196,"GRAVEL (A) OR CRUSHED STONE (B)","E042","",null,null,"","","","","","","",null,null,""]
[null,null,"1007T1ABLD..T5","250314-D04","J5S3540","0050","304014396",105349,"TYPE 1 AGGREGATE FOR BASE (4 IN. THICK)","E042","",null,null,"","","","","","","",null,null,""]
[null,null,"1007T1ABLD..T5","250314-F03","J6S3626","0090","304050696",104561,"TYPE 5 AGGREGATE FOR BASE (6 IN. THICK)","E042","",null,null,"","","","","","","",null,null,""]
[null,null,"1007T1ABLD..T5","250314-H08","JSE0122","0050","304991096",104120,"PERMANENT AGGREGATE EDGE TREATMENT","E042","",null,null,"","","","","","","",null,null,""]
[null,null,"1007T1ABLD..T5","250314-H14","JST0129","0320","304991096",104252,"PERMANENT AGGREGATE EDGE TREATMENT","E042","",null,null,"","","","","","","",null,null,""]
[null,null,"1007T1ABLD..T5","250314-H5A","JSE0090","0050","304991096",104152,"PERMANENT AGGREGATE EDGE TREATMENT","E042","",null,null,"","","","","","","",null,null,""]
[null,null,"1007T1ABLD..T5","250418-H01","JSE0101","0470","304014396",105478,"TYPE 1 AGGREGATE FOR BASE (4 IN. THICK)","E042","",null,null,"","","","","","","",null,null,""]
[null,null,"1007T1ABLD..T5","250418-H05","JSE0076","0490","304014396",106178,"TYPE 1 AGGREGATE FOR BASE (4 IN. THICK)","E042","",null,null,"","","","","","","",null,null,""]
[null,null,"1007T1ABLD..T5","250507-C01","JST0019","0580","Pavements",109692," Bates City to Truck Parking","E042","",null,null,"","","","","","","",null,null,""]
[null,null,"1007T1ABLD..T5","250507-C01","JST0019","0670","Pavements",109701," Route M to Route H","E042","",null,null,"","","","","","","",null,null,""]
[null,null,"1007T1ABLD..T5","250513-G01","J7P3485","0030","Bridge 07: A9710",105586," Cedar - MO 97","E042","",null,null,"","","","","","","",null,null,""]
[null,null,"1007T1ABLD..T5","250513-G01","J7P3485","0030","Bridge 12: A9714",105591," Henry - MO 2","E042","",null,null,"","","","","","","",null,null,""]
[null,null,"1007T1ABLD..T5","250516-A03","JNW0030","0090","310500396",106989,"GRAVEL (A) OR CRUSHED STONE (B)","E042","",null,null,"","","","","","","",null,null,""]
[null,null,"1007T1ABLD..T5","250516-C11","JKU0065","0090","304991096",107596,"PERMANENT AGGREGATE EDGE TREATMENT","E042","",null,null,"","","","","","","",null,null,""]
[null,null,"1007T1ABLD..T5","250516-C13","JKU0121","0070","304050696",107728,"TYPE 5 AGGREGATE FOR BASE (6 IN. THICK)","E042","",null,null,"","","","","","","",null,null,""]
[null,null,"1007T1ABLD..T5","250516-F01","J6P3274","0470","613101396",107232,"TYPE 1 OR 5 AGGREGATE FOR BASE (4 IN. THICK)  (PAVEMENT REPAIR)","E042","",null,null,"","","","","","","",null,null,""]
[null,null,"1007T1ABLD..T5","250516-F10","JSL0073","0590","304050696",108544,"TYPE 5 AGGREGATE FOR BASE (6 IN. THICK)","E042","",null,null,"","","","","","","",null,null,""]
[null,null,"1007T1ABLD..T5","250516-G01","J7S3059B","0110","304014396",106487,"TYPE 1 AGGREGATE FOR BASE (4 IN. THICK)","E042","",null,null,"","","","","","","",null,null,""]
[null,null,"1007T1ABLD..T5","250516-H08","JSE0108","0070","304990796",108658,"TYPE 1 AGGREGATE","E042","",null,null,"","","","","","","",null,null,""]
[null,null,"1007T1ABLD..T5","250516-H5A","J9S3780","0050","304050696",108424,"TYPE 5 AGGREGATE FOR BASE (6 IN. THICK)","E042","",null,null,"","","","","","","",null,null,""]
[null,null,"1007T1ABLD..T5","250620-B01","JNE0147","0090","310500396",109499,"GRAVEL (A) OR CRUSHED STONE (B)","E042","",null,null,"","","","","","","",null,null,""]
[null,null,"1007T1ABLD..T5","250815-A01","JNW0010","0060","310500396",109789,"GRAVEL (A) OR CRUSHED STONE (B)","E042",{"$f":"IF(C7612=$C$162,D7612,\"\")","v":""},null,null,{"$f":"(IF(K7612=\"\",\"\",IF(OR(D7612=$J$33,D7612=$T$33, D7612=$O$33),D7612,\"\")))","v":""},{"$f":"IF(N7612=\"\",\"\",F7612)","v":""},{"$f":"IF(N7612=\"\", \"\", E7612)","v":""},{"$f":"IF(N7612=\"\", \"\", G7612)","v":""},{"$f":"IF(N7612=\"\",\"\",I7612)","v":""},{"$f":"IF(N7612=\"\",\"\",J7612)","v":""},{"$f":"IF(N7612=\"\",\"\",H7612)","v":""},null,null,""]
[null,null,"1007T1ABLD..T5","250815-B05","JNE0146","0060","310100396",110659,"GRAVEL (A)","E042","",null,null,"","","","","","","",null,null,""]
[null,null,"1007T1ABLD..T5","250815-D01","JCD0128","0060","304014396",109949,"TYPE 1 AGGREGATE FOR BASE (4 IN. THICK)","E042","",null,null,"","","","","","","",null,null,""]
[null,null,"1007T1ABLD..T5","250815-H04","JSE0155","0030","304050696",110276,"TYPE 5 AGGREGATE FOR BASE (6 IN. THICK)","E042","",null,null,"","","","","","","",null,null,""]
[null,null,"1007T1ABLD..T5","250919-B03","JNE0058","0010","304991096",111176,"PERMANENT AGGREGATE EDGE TREATMENT","E042","",null,null,"","","","","","","",null,null,""]
[null,null,"1007T1ABLD..T5","250919-C01","JKU0030","0100","613101396",111197,"TYPE 1 OR 5 AGGREGATE FOR BASE (4 IN. THICK)  (PAVEMENT REPAIR)","E042","",null,null,"","","","","","","",null,null,""]
[null,null,"1007T1ABLD..T5","250919-H01","J9S3677","0110","310500296",111409,"GRAVEL (A) OR CRUSHED STONE (B)","E042","",null,null,"","","","","","","",null,null,""]
[null,null,"1007T1ABLD..T5","250919-H02","JSE0083","0110","401015096",110958,"TYPE A2 SHOULDER","E042","",null,null,"","","","","","","",null,null,""]
[null,null,"1007T1ABLD..T5","251017-A07","JST0154","0160","304991096",112274,"PERMANENT AGGREGATE EDGE TREATMENT","E042","",null,null,"","","","","","","",null,null,""]
[null,null,"1007T1ABLD..T5","251017-C05","JKU0062","0060","304991096",112099,"PERMANENT AGGREGATE EDGE TREATMENT","E042","",null,null,"","","","","","","",null,null,""]
[null,null,"1007T1ABLD..T5","251017-C08","JKU0400","0050","304991096",112293,"PERMANENT AGGREGATE EDGE TREATMENT","E042","",null,null,"","","","","","","",null,null,""]
[null,null,"1007T1ABLD..T5","251017-D08","JCD0248","0040","310500296",112279,"GRAVEL (A) OR CRUSHED STONE (B)","E042","",null,null,"","","","","","","",null,null,""]
[null,null,"1007T1ABLD..T5","251017-F05","J6S3578","0080","304050496",112992,"TYPE 5 AGGREGATE FOR BASE (4 IN. THICK)","E042","",null,null,"","","","","","","",null,null,""]
[null,null,"1007T1ABLD..T5","251017-G01","J7P3511","0040","304014396",112537,"TYPE 1 AGGREGATE FOR BASE (4 IN. THICK)","E042","",null,null,"","","","","","","",null,null,""]
[null,null,"1007T1ABLD..T5","251017-G05","JST0165","0015","304991096",112085,"PERMANENT AGGREGATE EDGE TREATMENT","E042","",null,null,"","","","","","","",null,"",""]
[null,null,"1007T1ABLD..T5","251017-H05","JST0161","0180","304991096",113367,"PERMANENT AGGREGATE EDGE TREATMENT","E042","",null,null,"","","","","","","",null,"",""]
[null,null,"1007T1ABLD..T5","251017-H05","JST0161","0260","304991096",113375,"PERMANENT AGGREGATE EDGE TREATMENT","E042","",null,null,"","","","","","","",null,"",""]
[null,null,"1007T1ABLD..T5","251114-A3A","JNW0045","0090","310500296",115599,"GRAVEL (A) OR CRUSHED STONE (B)","E042","",null,null,"","","","","","","",null,"",""]
[null,null,"1007T1ABLD..T5","251114-C01","JKU0419","0850","613101396",114273,"TYPE 1 OR 5 AGGREGATE FOR BASE (4 IN. THICK)  (PAVEMENT REPAIR)","E042","",null,null,"","","","","","","",null,"",""]
[null,null,"1007T1ABLD..T5","251114-C04","JKU0041","0080","304991096",114352,"PERMANENT AGGREGATE EDGE TREATMENT","E042","",null,null,"","","","","","","",null,"",""]
[null,null,"1007T1ABLD..T5","251114-D03","JCD0154","0210","310500296",114696,"GRAVEL (A) OR CRUSHED STONE (B)","E042","",null,null,"","","","","","","",null,"",""]
[null,null,"1007T1ABLD..T5","251114-D06","JCD0249","0030","310500296",115889,"GRAVEL (A) OR CRUSHED STONE (B)","E042","",null,null,"","","","","","","",null,"",""]
[null,null,"1007T1ABLD..T5","251114-F05","JSL0081","0070","401015096",114926,"TYPE A2 SHOULDER","E042","",null,null,"","","","","","","",null,"",""]
[null,null,"1007T1ABLD..T5","251114-G9B","JST0166","0130","310500296",115293,"GRAVEL (A) OR CRUSHED STONE (B)","E042","",null,null,"","","","","","","",null,"",""]
[null,null,"1007T1ABLD..T5","251114-H01","J9S3848","0890","304014396",115446,"TYPE 1 AGGREGATE FOR BASE (4 IN. THICK)","E042","",null,null,"","","","","","","",null,"",""]
[null,null,"1007T1ABLD..T5","251114-H07","JSE0059","0020","310500296",115975,"GRAVEL (A) OR CRUSHED STONE (B)","E042","",null,null,"","","","","","","",null,null,""]
[null,null,"1007T7ABLD","250507-C01","JST0019","0630","Pavements",109697," Bates City Interchange","E042","",null,null,"","","","","","","",null,null,""]
[null,null,"1007T7ABLD","250516-H5A","J9S3780","0060","304991096",108425,"PERMANENT AGGREGATE EDGE TREATMENT","E042","",null,null,"","","","","","","",null,null,""]
[null,null,"1007T7ABRCP","241018-A04","JNW0133","0140","302131196",96311,"STABILIZED PERMEABLE BASE (4IN. THICK)","E042","",null,null,"","","","","","","",null,null,""]
[null,null,"1007T7ABRCP","250507-C01","JST0019","0610","Pavements",109695," Route 7 Ramps","E042","",null,null,"","","","","","","",null,null,""]
[null,null,"1009G3DRLD","240119-H07","J9S3640","0045","206400096",84514,"POROUS BACKFILL","E042","",null,null,"","","","","","","",null,null,""]
[null,null,"1009G3DRLD","240920-H02","J9P3751","5002","206400096",110892,"POROUS BACKFILL","E042","",null,null,"","","","","","","",null,null,""]
[null,null,"1009G3DRLD","251114-A01","J1S3438","0060","6053020A96",114210,"FRENCH UNDERDRAIN","E042","",null,null,"","","","","","","",null,null,""]
[null,null,"1009G3DRLD","251114-H05","JSE0026","0020","206400096",115514,"POROUS BACKFILL","E042","",null,null,"","","","","","","",null,null,""]
[null,null,"1009G4DRLDAB","241108-F01","J6I3033","0250","Seg 11 10.5\" Pavement",103738,"Roadways and Pavement","E042","",null,null,"","","","","","","",null,null,""]
[null,null,"1009G5DRLS","240517-H03","J9S3593","0020","206400096",90727,"POROUS BACKFILL","E042","",null,null,"","","","","","","",null,null,""]
[null,null,"1009G5DRLS","241018-A04","JNW0133","0390","6053030A96",96282,"PIPE AGGREGATE PAVEMENT EDGE DRAIN","E042","",null,null,"","","","","","","",null,null,""]
[null,null,"1009G5DRLS","251017-H01","J9S3774","0040","206400096",112460,"POROUS BACKFILL","E042","",null,null,"","","","","","","",null,null,""]
[null,null,"1010SGBF","230421-G05","J8P0605I","0590","720120096",73564,"SELECT GRANULAR BACKFILL FOR STRUCTURAL SYSTEMS","E042","",null,null,"","","","","","","",null,null,""]
[null,null,"1010SGBF","230519-F01","J6I2090","2690","720100096",75453,"MECHANICALLY STABILIZED EARTH WALL SYSTEMS","E042","",null,null,"","","","","","","",null,null,""]
[null,null,"1010SGBF","241213-G02","JSU0076","4680","720100096",100002,"MECHANICALLY STABILIZED EARTH WALL SYSTEMS","E042","",null,null,"","","","","","","",null,null,""]
[null,null,"1010SGBF","250516-C01","J4P3196","3020","720100096",106930,"MECHANICALLY STABILIZED EARTH WALL SYSTEMS","E042","",null,null,"","","","","","","",null,null,""]
[null,null,"1010SGBF","250815-F02","J6S3632","0780","720100096",110684,"MECHANICALLY STABILIZED EARTH WALL SYSTEMS","E042","",null,null,"","","","","","","",null,null,""]
[null,null,null,null,null,null,null,null,null,null,0,null,null,0,0,0,0,0,0,0,null,null,""]
[null,null,null,null,null,null,null,null,null,null,0,null,null,0,0,0,0,0,0,0,null,null,""]
[null,null,null,null,null,null,null,null,null,null,0,null,null,0,0,0,0,0,0,0,null,null,""]
[null,null,null,null,null,null,null,null,null,null,0,null,null,0,0,0,0,0,0,0,null,null,""]
[null,null,null,null,null,null,null,null,null,null,0,null,null,0,0,0,0,0,0,0,null,null,""]
[null,null,null,null,null,null,null,null,null,null,0,null,null,0,0,0,0,0,0,0,null,null,""]
[null,null,null,null,null,null,null,null,null,null,0,null,null,0,0,0,0,0,0,0,null,null,""]
[null,null,null,null,null,null,null,null,null,null,0,null,null,0,0,0,0,0,0,0,null,null,""]
[null,null,null,null,null,null,null,null,null,null,0,null,null,0,0,0,0,0,0,0,null,null,""]
[null,null,null,null,null,null,null,null,null,null,0,null,null,0,0,0,0,0,0,0,null,null,""]
[null,null,null,null,null,null,null,null,null,null,0,null,null,0,0,0,0,0,0,0,null,null,""]
[null,null,null,null,null,null,null,null,null,null,0,null,null,0,0,0,0,0,0,0,null,null,""]
[null,null,null,null,null,null,null,null,null,null,0,null,null,0,0,0,0,0,0,0,null,null,""]
[null,null,null,null,null,null,null,null,null,null,0,null,null,0,0,0,0,0,0,0,null,null,""]
[null,null,null,null,null,null,null,null,null,null,0,null,null,0,0,0,0,0,0,0,null,null,""]
[null,null,null,null,null,null,null,null,null,null,0,null,null,0,0,0,0,0,0,0,null,null,""]
[null,null,null,null,null,null,null,null,null,null,0,null,null,0,0,0,0,0,0,0,null,null,""]
[null,null,null,null,null,null,null,null,null,null,0,null,null,0,0,0,0,0,0,0,null,null,""]
[null,null,null,null,null,null,null,null,null,null,0,null,null,0,0,0,0,0,0,0,null,null,""]
[null,null,null,null,null,null,null,null,null,null,0,null,null,0,0,0,0,0,0,0,null,null,""]
[null,null,null,null,null,null,null,null,null,null,0,null,null,0,0,0,0,0,0,0,null,null,""]
[null,null,null,null,null,null,null,null,null,null,0,null,null,0,0,0,0,0,0,0,null,null,""]
[null,null,null,null,null,null,null,null,null,null,0,null,null,0,0,0,0,0,0,0,null,null,""]
[null,null,null,null,null,null,null,null,null,null,0,null,null,0,0,0,0,0,0,0,null,null,""]
[null,null,null,null,null,null,null,null,null,null,0,null,null,0,0,0,0,0,0,0,null,null,""]
[null,null,null,null,null,null,null,null,null,null,0,null,null,0,0,0,0,0,0,0,null,null,""]
[null,null,null,null,null,null,null,null,null,null,0,null,null,0,0,0,0,0,0,0,null,null,""]
[null,null,null,null,null,null,null,null,null,null,0,null,null,0,0,0,0,0,0,0,null,null,""]
[null,null,null,null,null,null,null,null,null,null,0,null,null,0,0,0,0,0,0,0,null,null,""]
[null,null,null,null,null,null,null,null,null,null,{"$f":"IF(C8316=$C$162,D8316,\"\")","v":0},null,null,{"$f":"(IF(K8316=\"\",\"\",IF(OR(D8316=$J$33,D8316=$T$33, D8316=$O$33),D8316,\"\")))","v":0},{"$f":"IF(N8316=\"\",\"\",F8316)","v":0},{"$f":"IF(N8316=\"\", \"\", E8316)","v":0},{"$f":"IF(N8316=\"\", \"\", G8316)","v":0},{"$f":"IF(N8316=\"\",\"\",I8316)","v":0},{"$f":"IF(N8316=\"\",\"\",J8316)","v":0},{"$f":"IF(N8316=\"\",\"\",H8316)","v":0},null,null,""]
[null,null,null,null,null,null,null,null,null,null,0,null,null,0,0,0,0,0,0,0,null,null,""]
[null,null,null,null,null,null,null,null,null,null,0,null,null,0,0,0,0,0,0,0,null,null,""]
[null,null,null,null,null,null,null,null,null,null,0,null,null,0,0,0,0,0,0,0,null,null,""]
[null,null,null,null,null,null,null,null,null,null,0,null,null,0,0,0,0,0,0,0,null,null,""]
[null,null,null,null,null,null,null,null,null,null,0,null,null,0,0,0,0,0,0,0,null,null,""]
[null,null,null,null,null,null,null,null,null,null,0,null,null,0,0,0,0,0,0,0,null,null,""]
[null,null,null,null,null,null,null,null,null,null,0,null,null,0,0,0,0,0,0,0,null,null,""]
[null,null,null,null,null,null,null,null,null,null,0,null,null,0,0,0,0,0,0,0,null,null,""]
[null,null,null,null,null,null,null,null,null,null,0,null,null,0,0,0,0,0,0,0,null,null,""]
[null,null,null,null,null,null,null,null,null,null,0,null,null,0,0,0,0,0,0,0,null,null,""]
[null,null,null,null,null,null,null,null,null,null,0,null,null,0,0,0,0,0,0,0,null,null,""]
[null,null,null,null,null,null,null,null,null,null,0,null,null,0,0,0,0,0,0,0,null,null,""]
[null,null,null,null,null,null,null,null,null,null,0,null,null,0,0,0,0,0,0,0,null,null,""]
[null,null,null,null,null,null,null,null,null,null,0,null,null,0,0,0,0,0,0,0,null,null,""]
[null,null,null,null,null,null,null,null,null,null,0,null,null,0,0,0,0,0,0,0,null,null,""]
[null,null,null,null,null,null,null,null,null,null,0,null,null,0,0,0,0,0,0,0,null,null,""]
[null,null,null,null,null,null,null,null,null,null,0,null,null,0,0,0,0,0,0,0,null,null,""]
[null,null,null,null,null,null,null,null,null,null,0,null,null,0,0,0,0,0,0,0,null,null,""]
[null,null,null,null,null,null,null,null,null,null,0,null,null,0,0,0,0,0,0,0,null,null,""]
[null,null,null,null,null,null,null,null,null,null,0,null,null,0,0,0,0,0,0,0,null,null,""]
[null,null,null,null,null,null,null,null,null,null,0,null,null,0,0,0,0,0,0,0,null,null,""]
[null,null,null,null,null,null,null,null,null,null,0,null,null,0,0,0,0,0,0,0,null,null,""]
[null,null,null,null,null,null,null,null,null,null,0,null,null,0,0,0,0,0,0,0,null,null,""]
[null,null,null,null,null,null,null,null,null,null,0,null,null,0,0,0,0,0,0,0,null,null,""]
[null,null,null,null,null,null,null,null,null,null,0,null,null,0,0,0,0,0,0,0,null,null,""]
[null,null,null,null,null,null,null,null,null,null,0,null,null,0,0,0,0,0,0,0,null,null,""]
[null,null,null,null,null,null,null,null,null,null,0,null,null,0,0,0,0,0,0,0,null,null,""]
[null,null,null,null,null,null,null,null,null,null,0,null,null,0,0,0,0,0,0,0,null,null,""]
[null,null,null,null,null,null,null,null,null,null,0,null,null,0,0,0,0,0,0,0,null,null,""]
[null,null,null,null,null,null,null,null,null,null,0,null,null,0,0,0,0,0,0,0,null,null,""]
[null,null,null,null,null,null,null,null,null,null,0,null,null,0,0,0,0,0,0,0,null,null,""]
[null,null,null,null,null,null,null,null,null,null,0,null,null,0,0,0,0,0,0,0,null,null,""]
[null,null,null,null,null,null,null,null,null,null,0,null,null,0,0,0,0,0,0,0,null,null,""]
[null,null,null,null,null,null,null,null,null,null,0,null,null,0,0,0,0,0,0,0,null,null,""]
[null,null,null,null,null,null,null,null,null,null,0,null,null,0,0,0,0,0,0,0,null,null,""]
[null,null,null,null,null,null,null,null,null,null,0,null,null,0,0,0,0,0,0,0,null,null,""]
[null,null,null,null,null,null,null,null,null,null,0,null,null,0,0,0,0,0,0,0,null,null,""]
[null,null,null,null,null,null,null,null,null,null,0,null,null,0,0,0,0,0,0,0,null,null,""]
[null,null,null,null,null,null,null,null,null,null,0,null,null,0,0,0,0,0,0,0,null,null,""]
[null,null,null,null,null,null,null,null,null,null,0,null,null,0,0,0,0,0,0,0,null,null,""]
[null,null,null,null,null,null,null,null,null,null,0,null,null,0,0,0,0,0,0,0,null,null,""]
[null,null,null,null,null,null,null,null,null,null,0,null,null,0,0,0,0,0,0,0,null,null,""]
[null,null,null,null,null,null,null,null,null,null,0,null,null,0,0,0,0,0,0,0,null,null,""]
[null,null,null,null,null,null,null,null,null,null,0,null,null,0,0,0,0,0,0,0,null,null,""]
[null,null,null,null,null,null,null,null,null,null,0,null,null,0,0,0,0,0,0,0,null,null,""]
[null,null,null,null,null,null,null,null,null,null,0,null,null,0,0,0,0,0,0,0,null,null,""]
[null,null,null,null,null,null,null,null,null,null,0,null,null,0,0,0,0,0,0,0,null,null,""]
[null,null,null,null,null,null,null,null,null,null,0,null,null,0,0,0,0,0,0,0,null,null,""]
[null,null,null,null,null,null,null,null,null,null,0,null,null,0,0,0,0,0,0,0,null,null,""]
[null,null,null,null,null,null,null,null,null,null,0,null,null,0,0,0,0,0,0,0,null,null,""]
[null,null,null,null,null,null,null,null,null,null,0,null,null,0,0,0,0,0,0,0,null,null,""]
[null,null,null,null,null,null,null,null,null,null,0,null,null,0,0,0,0,0,0,0,null,null,""]
[null,null,null,null,null,null,null,null,null,null,0,null,null,0,0,0,0,0,0,0,null,null,""]
[null,null,null,null,null,null,null,null,null,null,0,null,null,0,0,0,0,0,0,0,null,null,""]
[null,null,null,null,null,null,null,null,null,null,0,null,null,0,0,0,0,0,0,0,null,null,""]
[null,null,null,null,null,null,null,null,null,null,0,null,null,0,0,0,0,0,0,0,null,null,""]
[null,null,null,null,null,null,null,null,null,null,0,null,null,0,0,0,0,0,0,0,null,null,""]
[null,null,null,null,null,null,null,null,null,null,0,null,null,0,0,0,0,0,0,0,null,null,""]
[null,null,null,null,null,null,null,null,null,null,0,null,null,0,0,0,0,0,0,0,null,null,""]
[null,null,null,null,null,null,null,null,null,null,0,null,null,0,0,0,0,0,0,0,null,null,""]
[null,null,null,null,null,null,null,null,null,null,0,null,null,0,0,0,0,0,0,0,null,null,""]
[null,null,null,null,null,null,null,null,null,null,0,null,null,0,0,0,0,0,0,0,null,null,""]
[null,null,null,null,null,null,null,null,null,null,0,null,null,0,0,0,0,0,0,0,null,null,""]
[null,null,null,null,null,null,null,null,null,null,0,null,null,0,0,0,0,0,0,0,null,null,""]
[null,null,null,null,null,null,null,null,null,null,0,null,null,0,0,0,0,0,0,0,null,null,""]
[null,null,null,null,null,null,null,null,null,null,0,null,null,0,0,0,0,0,0,0,null,null,""]
[null,null,null,null,null,null,null,null,null,null,0,null,null,0,0,0,0,0,0,0,null,null,""]
[null,null,null,null,null,null,null,null,null,null,0,null,null,0,0,0,0,0,0,0,null,null,""]
[null,null,null,null,null,null,null,null,null,null,0,null,null,0,0,0,0,0,0,0,null,null,""]
[null,null,null,null,null,null,null,null,null,null,0,null,null,0,0,0,0,0,0,0,null,null,""]
[null,null,null,null,null,null,null,null,null,null,0,null,null,0,0,0,0,0,0,0,null,null,""]
[null,null,null,null,null,null,null,null,null,null,0,null,null,0,0,0,0,0,0,0,null,null,""]
[null,null,null,null,null,null,null,null,null,null,0,null,null,0,0,0,0,0,0,0,null,null,""]
[null,null,null,null,null,null,null,null,null,null,0,null,null,0,0,0,0,0,0,0,null,null,""]
[null,null,null,null,null,null,null,null,null,null,0,null,null,0,0,0,0,0,0,0,null,null,""]
[null,null,null,null,null,null,null,null,null,null,0,null,null,0,0,0,0,0,0,0,null,null,""]
[null,null,null,null,null,null,null,null,null,null,0,null,null,0,0,0,0,0,0,0,null,null,""]
[null,null,null,null,null,null,null,null,null,null,0,null,null,0,0,0,0,0,0,0]
[null,null,null,null,null,null,null,null,null,null,0,null,null,0,0,0,0,0,0,0]
[null,null,null,null,null,null,null,null,null,null,0,null,null,0,0,0,0,0,0,0]
[null,null,null,null,null,null,null,null,null,null,0,null,null,0,0,0,0,0,0,0]
[null,null,null,null,null,null,null,null,null,null,0,null,null,0,0,0,0,0,0,0]
[null,null,null,null,null,null,null,null,null,null,0,null,null,0,0,0,0,0,0,0]
[null,null,null,null,null,null,null,null,null,null,0,null,null,0,0,0,0,0,0,0]
[null,null,null,null,null,null,null,null,null,null,{"$f":"IF(C9148=$C$162,D9148,\"\")","v":0},null,null,{"$f":"(IF(K9148=\"\",\"\",IF(OR(D9148=$J$33,D9148=$T$33, D9148=$O$33),D9148,\"\")))","v":0},{"$f":"IF(N9148=\"\",\"\",F9148)","v":0},{"$f":"IF(N9148=\"\", \"\", E9148)","v":0},{"$f":"IF(N9148=\"\", \"\", G9148)","v":0},{"$f":"IF(N9148=\"\",\"\",I9148)","v":0},{"$f":"IF(N9148=\"\",\"\",J9148)","v":0},{"$f":"IF(N9148=\"\",\"\",H9148)","v":0}]
[null,null,null,null,null,null,null,null,null,null,0,null,null,0,0,0,0,0,0,0]
[null,null,null,null,null,null,null,null,null,null,null,null,null,null,"","","",""]
[null,null,null,null,null,null,null,null,null,null,null,null,null,null,"","","",""]
[null,null,null,null,null,null,null,null,null,null,null,null,null,null,"","","",""]
[null,null,null,null,null,null,null,null,null,null,null,null,null,null,"","","",""]
[null,null,null,null,null,null,null,null,null,null,null,null,null,null,"","","",""]
[null,null,null,null,null,null,null,null,null,null,null,null,null,null,"","","",""]
[null,null,null,null,null,null,null,null,null,null,null,null,null,null,"","","",""]
[null,null,null,null,null,null,null,null,null,null,null,null,null,null,"","","",""]
[null,null,null,null,null,null,null,null,null,null,null,null,null,null,"","","",""]
[null,null,null,null,null,null,null,null,null,null,null,null,null,null,"","","",""]
[null,null,null,null,null,null,null,null,null,null,null,null,null,null,"","","",""]
[null,null,null,null,null,null,null,null,null,null,null,null,null,null,"","","",""]
[null,null,null,null,null,null,null,null,null,null,null,null,null,null,"","","",""]
[null,null,null,null,null,null,null,null,null,null,null,null,null,null,"","","",""]
[null,null,null,null,null,null,null,null,null,null,null,null,null,null,"","","",""]
[null,null,null,null,null,null,null,null,null,null,null,null,null,null,"","","",""]
[null,null,null,null,null,null,null,null,null,null,null,null,null,null,"","","",""]
[null,null,null,null,null,null,null,null,null,null,null,null,null,null,"","","",""]
[null,null,null,null,null,null,null,null,null,null,null,null,null,null,"","","",""]
[null,null,null,null,null,null,null,null,null,null,null,null,null,null,"","","",""]
[null,null,null,null,null,null,null,null,null,null,null,null,null,null,"","","",""]
[null,null,null,null,null,null,null,null,null,null,null,null,null,null,"","","",""]
[null,null,null,null,null,null,null,null,null,null,null,null,null,null,"","","",""]
[null,null,null,null,null,null,null,null,null,null,null,null,null,null,"","","",""]
[null,null,null,null,null,null,null,null,null,null,null,null,null,null,"","","",""]
[null,null,null,null,null,null,null,null,null,null,null,null,null,null,"","","",""]
[null,null,null,null,null,null,null,null,null,null,null,null,null,null,"","","",""]
[null,null,null,null,null,null,null,null,null,null,null,null,null,null,"","","",""]
[null,null,null,null,null,null,null,null,null,null,null,null,null,null,"","","",""]
[null,null,null,null,null,null,null,null,null,null,null,null,null,null,"","","",""]
[null,null,null,null,null,null,null,null,null,null,null,null,null,null,"","","",""]
[null,null,null,null,null,null,null,null,null,null,null,null,null,null,"","","",""]
[null,null,null,null,null,null,null,null,null,null,null,null,null,null,"","","",""]
[null,null,null,null,null,null,null,null,null,null,null,null,null,null,"","","",""]
[null,null,null,null,null,null,null,null,null,null,null,null,null,null,"","","",""]
[null,null,null,null,null,null,null,null,null,null,null,null,null,null,"","","",""]
[null,null,null,null,null,null,null,null,null,null,null,null,null,null,"","","",""]
[null,null,null,null,null,null,null,null,null,null,null,null,null,null,"","","",""]
[null,null,null,null,null,null,null,null,null,null,null,null,null,null,"","","",""]
[null,null,null,null,null,null,null,null,null,null,null,null,null,null,"","","",""]
[null,null,null,null,null,null,null,null,null,null,null,null,null,null,"","","",""]
[null,null,null,null,null,null,null,null,null,null,null,null,null,null,"","","",""]
[null,null,null,null,null,null,null,null,null,null,null,null,null,null,"","","",""]
[null,null,null,null,null,null,null,null,null,null,null,null,null,null,"","","",""]
[null,null,null,null,null,null,null,null,null,null,null,null,null,null,"","","",""]
[null,null,null,null,null,null,null,null,null,null,null,null,null,null,"","","",""]
[null,null,null,null,null,null,null,null,null,null,null,null,null,null,"","","",""]
[null,null,null,null,null,null,null,null,null,null,null,null,null,null,"","","",""]
[null,null,null,null,null,null,null,null,null,null,null,null,null,null,"","","",""]
[null,null,null,null,null,null,null,null,null,null,null,null,null,null,"","","",""]
[null,null,null,null,null,null,null,null,null,null,null,null,null,null,"","","",""]
[null,null,null,null,null,null,null,null,null,null,null,null,null,null,"","","",""]
[null,null,null,null,null,null,null,null,null,null,null,null,null,null,"","","",""]
[null,null,null,null,null,null,null,null,null,null,null,null,null,null,"","","",""]
[null,null,null,null,null,null,null,null,null,null,null,null,null,null,"","","",""]
[null,null,null,null,null,null,null,null,null,null,null,null,null,null,"","","",""]
[null,null,null,null,null,null,null,null,null,null,null,null,null,null,"","","",""]
[null,null,null,null,null,null,null,null,null,null,null,null,null,null,"","","",""]
[null,null,null,null,null,null,null,null,null,null,null,null,null,null,"","","",""]
[null,null,null,null,null,null,null,null,null,null,null,null,null,null,"","","",""]
[null,null,null,null,null,null,null,null,null,null,null,null,null,null,"","","",""]
[null,null,null,null,null,null,null,null,null,null,null,null,null,null,"","","",""]
[null,null,null,null,null,null,null,null,null,null,null,null,null,null,"","","",""]
[null,null,null,null,null,null,null,null,null,null,null,null,null,null,"","","",""]
[null,null,null,null,null,null,null,null,null,null,null,null,null,null,"","","",""]
[null,null,null,null,null,null,null,null,null,null,null,null,null,null,"","","",""]
[null,null,null,null,null,null,null,null,null,null,null,null,null,null,"","","",""]
[null,null,null,null,null,null,null,null,null,null,null,null,null,null,"","","",""]
[null,null,null,null,null,null,null,null,null,null,null,null,null,null,"","","",""]
[null,null,null,null,null,null,null,null,null,null,null,null,null,null,"","","",""]
[null,null,null,null,null,null,null,null,null,null,null,null,null,null,"","","",""]
[null,null,null,null,null,null,null,null,null,null,null,null,null,null,"","","",""]
[null,null,null,null,null,null,null,null,null,null,null,null,null,null,"","","",""]
[null,null,null,null,null,null,null,null,null,null,null,null,null,null,"","","",""]
[null,null,null,null,null,null,null,null,null,null,null,null,null,null,"","","",""]
[null,null,null,null,null,null,null,null,null,null,null,null,null,null,"","","",""]
[null,null,null,null,null,null,null,null,null,null,null,null,null,null,"","","",""]
[null,null,null,null,null,null,null,null,null,null,null,null,null,null,"","","",""]
[null,null,null,null,null,null,null,null,null,null,null,null,null,null,"","","",""]
[null,null,null,null,null,null,null,null,null,null,null,null,null,null,"","","",""]
[null,null,null,null,null,null,null,null,null,null,null,null,null,null,"","","",""]
[null,null,null,null,null,null,null,null,null,null,null,null,null,null,"","","",""]
[null,null,null,null,null,null,null,null,null,null,null,null,null,null,"","","",""]
[null,null,null,null,null,null,null,null,null,null,null,null,null,null,"","","",""]
[null,null,null,null,null,null,null,null,null,null,null,null,null,null,"","","",""]
[null,null,null,null,null,null,null,null,null,null,null,null,null,null,"","","",""]
[null,null,null,null,null,null,null,null,null,null,null,null,null,null,"","","",""]
[null,null,null,null,null,null,null,null,null,null,null,null,null,null,"","","",""]
[null,null,null,null,null,null,null,null,null,null,null,null,null,null,"","","",""]
[null,null,null,null,null,null,null,null,null,null,null,null,null,null,"","","",""]
[null,null,null,null,null,null,null,null,null,null,null,null,null,null,"","","",""]
[null,null,null,null,null,null,null,null,null,null,null,null,null,null,"","","",""]
[null,null,null,null,null,null,null,null,null,null,null,null,null,null,"","","",""]
[null,null,null,null,null,null,null,null,null,null,null,null,null,null,"","","",""]
[null,null,null,null,null,null,null,null,null,null,null,null,null,null,"","","",""]
[null,null,null,null,null,null,null,null,null,null,null,null,null,null,"","","",""]
[null,null,null,null,null,null,null,null,null,null,null,null,null,null,"","","",""]
[null,null,null,null,null,null,null,null,null,null,null,null,null,null,"","","",""]
[null,null,null,null,null,null,null,null,null,null,null,null,null,null,"","","",""]
[null,null,null,null,null,null,null,null,null,null,null,null,null,null,"","","",""]
[null,null,null,null,null,null,null,null,null,null,null,null,null,null,"","","",""]
[null,null,null,null,null,null,null,null,null,null,null,null,null,null,"","","",""]
[null,null,null,null,null,null,null,null,null,null,null,null,null,null,"","","",""]
[null,null,null,null,null,null,null,null,null,null,null,null,null,null,"","","",""]
[null,null,null,null,null,null,null,null,null,null,null,null,null,null,"","","",""]
[null,null,null,null,null,null,null,null,null,null,null,null,null,null,"","","",""]
[null,null,null,null,null,null,null,null,null,null,null,null,null,null,"","","",""]
[null,null,null,null,null,null,null,null,null,null,null,null,null,null,"","","",""]
[null,null,null,null,null,null,null,null,null,null,null,null,null,null,"","","",""]
[null,null,null,null,null,null,null,null,null,null,null,null,null,null,"","","",""]
[null,null,null,null,null,null,null,null,null,null,null,null,null,null,"","","",""]
[null,null,null,null,null,null,null,null,null,null,null,null,null,null,"","","",""]
[null,null,null,null,null,null,null,null,null,null,null,null,null,null,"","","",""]
[null,null,null,null,null,null,null,null,null,null,null,null,null,null,"","","",""]
[null,null,null,null,null,null,null,null,null,null,null,null,null,null,"","","",""]
[null,null,null,null,null,null,null,null,null,null,null,null,null,null,"","","",""]
[null,null,null,null,null,null,null,null,null,null,null,null,null,null,"","","",""]
[null,null,null,null,null,null,null,null,null,null,null,null,null,null,"","","",""]
[null,null,null,null,null,null,null,null,null,null,null,null,null,null,"","","",""]
[null,null,null,null,null,null,null,null,null,null,null,null,null,null,"","","",""]
[null,null,null,null,null,null,null,null,null,null,null,null,null,null,"","","",""]
[null,null,null,null,null,null,null,null,null,null,null,null,null,null,"","","",""]
[null,null,null,null,null,null,null,null,null,null,null,null,null,null,"","","",""]
[null,null,null,null,null,null,null,null,null,null,null,null,null,null,"","","",""]
[null,null,null,null,null,null,null,null,null,null,null,null,null,null,"","","",""]
[null,null,null,null,null,null,null,null,null,null,null,null,null,null,"","","",""]
[null,null,null,null,null,null,null,null,null,null,null,null,null,null,"","","",""]
[null,null,null,null,null,null,null,null,null,null,null,null,null,null,"","","",""]
[null,null,null,null,null,null,null,null,null,null,null,null,null,null,"","","",""]
[null,null,null,null,null,null,null,null,null,null,null,null,null,null,"","","",""]
[null,null,null,null,null,null,null,null,null,null,null,null,null,null,"","","",""]
[null,null,null,null,null,null,null,null,null,null,null,null,null,null,"","","",""]
[null,null,null,null,null,null,null,null,null,null,null,null,null,null,"","","",""]
[null,null,null,null,null,null,null,null,null,null,null,null,null,null,"","","",""]
[null,null,null,null,null,null,null,null,null,null,null,null,null,null,"","","",""]
[null,null,null,null,null,null,null,null,null,null,null,null,null,null,"","","",""]
[null,null,null,null,null,null,null,null,null,null,null,null,null,null,"","","",""]
[null,null,null,null,null,null,null,null,null,null,null,null,null,null,"","","",""]
[null,null,null,null,null,null,null,null,null,null,null,null,null,null,"","","",""]
[null,null,null,null,null,null,null,null,null,null,null,null,null,null,"","","",""]
[null,null,null,null,null,null,null,null,null,null,null,null,null,null,"","","",""]
[null,null,null,null,null,null,null,null,null,null,null,null,null,null,"","","",""]
[null,null,null,null,null,null,null,null,null,null,null,null,null,null,"","","",""]
[null,null,null,null,null,null,null,null,null,null,null,null,null,null,"","","",""]
[null,null,null,null,null,null,null,null,null,null,null,null,null,null,"","","",""]
[null,null,null,null,null,null,null,null,null,null,null,null,null,null,"","","",""]
[null,null,null,null,null,null,null,null,null,null,null,null,null,null,"","","",""]
[null,null,null,null,null,null,null,null,null,null,null,null,null,null,"","","",""]
[null,null,null,null,null,null,null,null,null,null,null,null,null,null,"","","",""]
[null,null,null,null,null,null,null,null,null,null,null,null,null,null,"","","",""]
[null,null,null,null,null,null,null,null,null,null,null,null,null,null,"","","",""]
[null,null,null,null,null,null,null,null,null,null,null,null,null,null,"","","",""]
[null,null,null,null,null,null,null,null,null,null,null,null,null,null,"","","",""]
[null,null,null,null,null,null,null,null,null,null,null,null,null,null,"","","",""]
[null,null,null,null,null,null,null,null,null,null,null,null,null,null,"","","",""]
[null,null,null,null,null,null,null,null,null,null,null,null,null,null,"","","",""]
[null,null,null,null,null,null,null,null,null,null,null,null,null,null,"","","",""]
[null,null,null,null,null,null,null,null,null,null,null,null,null,null,"","","",""]
[null,null,null,null,null,null,null,null,null,null,null,null,null,null,"","","",""]
[null,null,null,null,null,null,null,null,null,null,null,null,null,null,"","","",""]
[null,null,null,null,null,null,null,null,null,null,null,null,null,null,"","","",""]
[null,null,null,null,null,null,null,null,null,null,null,null,null,null,"","","",""]
[null,null,null,null,null,null,null,null,null,null,null,null,null,null,"","","",""]
[null,null,null,null,null,null,null,null,null,null,null,null,null,null,"","","",""]
[null,null,null,null,null,null,null,null,null,null,null,null,null,null,"","","",""]
[null,null,null,null,null,null,null,null,null,null,null,null,null,null,"","","",""]
[null,null,null,null,null,null,null,null,null,null,null,null,null,null,"","","",""]
[null,null,null,null,null,null,null,null,null,null,null,null,null,null,"","","",""]
[null,null,null,null,null,null,null,null,null,null,null,null,null,null,"","","",""]
[null,null,null,null,null,null,null,null,null,null,null,null,null,null,"","","",""]
[null,null,null,null,null,null,null,null,null,null,null,null,null,null,"","","",""]
[null,null,null,null,null,null,null,null,null,null,null,null,null,null,"","","",""]
[null,null,null,null,null,null,null,null,null,null,null,null,null,null,"","","",""]
[null,null,null,null,null,null,null,null,null,null,null,null,null,null,"","","",""]
[null,null,null,null,null,null,null,null,null,null,null,null,null,null,"","","",""]
[null,null,null,null,null,null,null,null,null,null,null,null,null,null,"","","",""]
[null,null,null,null,null,null,null,null,null,null,null,null,null,null,"","","",""]
[null,null,null,null,null,null,null,null,null,null,null,null,null,null,"","","",""]
[null,null,null,null,null,null,null,null,null,null,null,null,null,null,"","","",""]
[null,null,null,null,null,null,null,null,null,null,null,null,null,null,"","","",""]
[null,null,null,null,null,null,null,null,null,null,null,null,null,null,"","","",""]
[null,null,null,null,null,null,null,null,null,null,null,null,null,null,"","","",""]
[null,null,null,null,null,null,null,null,null,null,null,null,null,null,"","","",""]
[null,null,null,null,null,null,null,null,null,null,null,null,null,null,"","","",""]
[null,null,null,null,null,null,null,null,null,null,null,null,null,null,"","","",""]
[null,null,null,null,null,null,null,null,null,null,null,null,null,null,"","","",""]
[null,null,null,null,null,null,null,null,null,null,null,null,null,null,"","","",""]
[null,null,null,null,null,null,null,null,null,null,null,null,null,null,"","","",""]
[null,null,null,null,null,null,null,null,null,null,null,null,null,null,"","","",""]
[null,null,null,null,null,null,null,null,null,null,null,null,null,null,"","","",""]
[null,null,null,null,null,null,null,null,null,null,null,null,null,null,"","","",""]
[null,null,null,null,null,null,null,null,null,null,null,null,null,null,"","","",""]
[null,null,null,null,null,null,null,null,null,null,null,null,null,null,"","","",""]
[null,null,null,null,null,null,null,null,null,null,null,null,null,null,"","","",""]
[null,null,null,null,null,null,null,null,null,null,null,null,null,null,"","","",""]
[null,null,null,null,null,null,null,null,null,null,null,null,null,null,"","","",""]
[null,null,null,null,null,null,null,null,null,null,null,null,null,null,"","","",""]
[null,null,null,null,null,null,null,null,null,null,null,null,null,null,"","","",""]
[null,null,null,null,null,null,null,null,null,null,null,null,null,null,"","","",""]
[null,null,null,null,null,null,null,null,null,null,null,null,null,null,"","","",""]
[null,null,null,null,null,null,null,null,null,null,null,null,null,null,"","","",""]
[null,null,null,null,null,null,null,null,null,null,null,null,null,null,"","","",""]
[null,null,null,null,null,null,null,null,null,null,null,null,null,null,"","","",""]
[null,null,null,null,null,null,null,null,null,null,null,null,null,null,"","","",""]
[null,null,null,null,null,null,null,null,null,null,null,null,null,null,"","","",""]
[null,null,null,null,null,null,null,null,null,null,null,null,null,null,"","","",""]
[null,null,null,null,null,null,null,null,null,null,null,null,null,null,"","","",""]
[null,null,null,null,null,null,null,null,null,null,null,null,null,null,"","","",""]
[null,null,null,null,null,null,null,null,null,null,null,null,null,null,"","","",""]
[null,null,null,null,null,null,null,null,null,null,null,null,null,null,"","","",""]
[null,null,null,null,null,null,null,null,null,null,null,null,null,null,"","","",""]
[null,null,null,null,null,null,null,null,null,null,null,null,null,null,"","","",""]
[null,null,null,null,null,null,null,null,null,null,null,null,null,null,"","","",""]
[null,null,null,null,null,null,null,null,null,null,null,null,null,null,"","","",""]
[null,null,null,null,null,null,null,null,null,null,null,null,null,null,"","","",""]
[null,null,null,null,null,null,null,null,null,null,null,null,null,null,"","","",""]
[null,null,null,null,null,null,null,null,null,null,null,null,null,null,"","","",""]
[null,null,null,null,null,null,null,null,null,null,null,null,null,null,"","","",""]
[null,null,null,null,null,null,null,null,null,null,null,null,null,null,"","","",""]
[null,null,null,null,null,null,null,null,null,null,null,null,null,null,"","","",""]
[null,null,null,null,null,null,null,null,null,null,null,null,null,null,"","","",""]
[null,null,null,null,null,null,null,null,null,null,null,null,null,null,"","","",""]
[null,null,null,null,null,null,null,null,null,null,null,null,null,null,"","","",""]
[null,null,null,null,null,null,null,null,null,null,null,null,null,null,"","","",""]
[null,null,null,null,null,null,null,null,null,null,null,null,null,null,"","","",""]
[null,null,null,null,null,null,null,null,null,null,null,null,null,null,"","","",""]
[null,null,null,null,null,null,null,null,null,null,null,null,null,null,"","","",""]
[null,null,null,null,null,null,null,null,null,null,null,null,null,null,"","","",""]
[null,null,null,null,null,null,null,null,null,null,null,null,null,null,"","","",""]
[null,null,null,null,null,null,null,null,null,null,null,null,null,null,"","","",""]
[null,null,null,null,null,null,null,null,null,null,null,null,null,null,"","","",""]
[null,null,null,null,null,null,null,null,null,null,null,null,null,null,"","","",""]
[null,null,null,null,null,null,null,null,null,null,null,null,null,null,"","","",""]
[null,null,null,null,null,null,null,null,null,null,null,null,null,null,"","","",""]
[null,null,null,null,null,null,null,null,null,null,null,null,null,null,"","","",""]
[null,null,null,null,null,null,null,null,null,null,null,null,null,null,"","","",""]
[null,null,null,null,null,null,null,null,null,null,null,null,null,null,"","","",""]
[null,null,null,null,null,null,null,null,null,null,null,null,null,null,"","","",""]
[null,null,null,null,null,null,null,null,null,null,null,null,null,null,"","","",""]
[null,null,null,null,null,null,null,null,null,null,null,null,null,null,"","","",""]
[null,null,null,null,null,null,null,null,null,null,null,null,null,null,"","","",""]
[null,null,null,null,null,null,null,null,null,null,null,null,null,null,"","","",""]
[null,null,null,null,null,null,null,null,null,null,null,null,null,null,"","","",""]
[null,null,null,null,null,null,null,null,null,null,null,null,null,null,"","","",""]
[null,null,null,null,null,null,null,null,null,null,null,null,null,null,"","","",""]
[null,null,null,null,null,null,null,null,null,null,null,null,null,null,"","","",""]
[null,null,null,null,null,null,null,null,null,null,null,null,null,null,"","","",""]
[null,null,null,null,null,null,null,null,null,null,null,null,null,null,"","","",""]
[null,null,null,null,null,null,null,null,null,null,null,null,null,null,"","","",""]
[null,null,null,null,null,null,null,null,null,null,null,null,null,null,"","","",""]
[null,null,null,null,null,null,null,null,null,null,null,null,null,null,"","","",""]
[null,null,null,null,null,null,null,null,null,null,null,null,null,null,"","","",""]
[null,null,null,null,null,null,null,null,null,null,null,null,null,null,"","","",""]
[null,null,null,null,null,null,null,null,null,null,null,null,null,null,"","","",""]
[null,null,null,null,null,null,null,null,null,null,null,null,null,null,"","","",""]
[null,null,null,null,null,null,null,null,null,null,null,null,null,null,"","","",""]
[null,null,null,null,null,null,null,null,null,null,null,null,null,null,"","","",""]
[null,null,null,null,null,null,null,null,null,null,null,null,null,null,"","","",""]
[null,null,null,null,null,null,null,null,null,null,null,null,null,null,"","","",""]
[null,null,null,null,null,null,null,null,null,null,null,null,null,null,"","","",""]
[null,null,null,null,null,null,null,null,null,null,null,null,null,null,"","","",""]
[null,null,null,null,null,null,null,null,null,null,null,null,null,null,"","","",""]
[null,null,null,null,null,null,null,null,null,null,null,null,null,null,"","","",""]
[null,null,null,null,null,null,null,null,null,null,null,null,null,null,"","","",""]
[null,null,null,null,null,null,null,null,null,null,null,null,null,null,"","","",""]
[null,null,null,null,null,null,null,null,null,null,null,null,null,null,"","","",""]
[null,null,null,null,null,null,null,null,null,null,null,null,null,null,"","","",""]
[null,null,null,null,null,null,null,null,null,null,null,null,null,null,"","","",""]
[null,null,null,null,null,null,null,null,null,null,null,null,null,null,"","","",""]
[null,null,null,null,null,null,null,null,null,null,null,null,null,null,"","","",""]
[null,null,null,null,null,null,null,null,null,null,null,null,null,null,"","","",""]
[null,null,null,null,null,null,null,null,null,null,null,null,null,null,"","","",""]
[null,null,null,null,null,null,null,null,null,null,null,null,null,null,"","","",""]
[null,null,null,null,null,null,null,null,null,null,null,null,null,null,"","","",""]
[null,null,null,null,null,null,null,null,null,null,null,null,null,null,"","","",""]
[null,null,null,null,null,null,null,null,null,null,null,null,null,null,"","","",""]
[null,null,null,null,null,null,null,null,null,null,null,null,null,null,"","","",""]
[null,null,null,null,null,null,null,null,null,null,null,null,null,null,"","","",""]
[null,null,null,null,null,null,null,null,null,null,null,null,null,null,"","","",""]
[null,null,null,null,null,null,null,null,null,null,null,null,null,null,null,null,""]
[null,null,null,null,null,null,null,null,null,null,null,null,null,null,null,null,""]
[null,null,null,null,null,null,null,null,null,null,null,null,null,null,null,null,""]
[null,null,null,null,null,null,null,null,null,null,null,null,null,null,null,null,""]
[null,null,null,null,null,null,null,null,null,null,null,null,null,null,null,null,""]
[null,null,null,null,null,null,null,null,null,null,null,null,null,null,null,null,""]
[null,null,null,null,null,null,null,null,null,null,null,null,null,null,null,null,""]
[null,null,null,null,null,null,null,null,null,null,null,null,null,null,null,null,""]
[null,null,null,null,null,null,null,null,null,null,null,null,null,null,null,null,""]
[null,null,null,null,null,null,null,null,null,null,null,null,null,null,null,null,""]
[null,null,null,null,null,null,null,null,null,null,null,null,null,null,null,null,""]
[null,null,null,null,null,null,null,null,null,null,null,null,null,null,null,null,""]
[null,null,null,null,null,null,null,null,null,null,null,null,null,null,null,null,""]
[null,null,null,null,null,null,null,null,null,null,null,null,null,null,null,null,""]
[null,null,null,null,null,null,null,null,null,null,null,null,null,null,null,null,""]
[null,null,null,null,null,null,null,null,null,null,null,null,null,null,null,null,""]
[null,null,null,null,null,null,null,null,null,null,null,null,null,null,null,null,""]
[null,null,null,null,null,null,null,null,null,null,null,null,null,null,null,null,""]
[null,null,null,null,null,null,null,null,null,null,null,null,null,null,null,null,""]
[null,null,null,null,null,null,null,null,null,null,null,null,null,null,null,null,""]
[null,null,null,null,null,null,null,null,null,null,null,null,null,null,null,null,""]
[null,null,null,null,null,null,null,null,null,null,null,null,null,null,null,null,""]
[null,null,null,null,null,null,null,null,null,null,null,null,null,null,null,null,""]
[null,null,null,null,null,null,null,null,null,null,null,null,null,null,null,null,""]
[null,null,null,null,null,null,null,null,null,null,null,null,null,null,null,null,""]
[null,null,null,null,null,null,null,null,null,null,null,null,null,null,null,null,""]
[null,null,null,null,null,null,null,null,null,null,null,null,null,null,null,null,""]
[null,null,null,null,null,null,null,null,null,null,null,null,null,null,null,null,""]
[null,null,null,null,null,null,null,null,null,null,null,null,null,null,null,null,""]
[null,null,null,null,null,null,null,null,null,null,null,null,null,null,null,null,""]
[null,null,null,null,null,null,null,null,null,null,null,null,null,null,null,null,""]
[null,null,null,null,null,null,null,null,null,null,null,null,null,null,null,null,""]
[null,null,null,null,null,null,null,null,null,null,null,null,null,null,null,null,""]
[null,null,null,null,null,null,null,null,null,null,null,null,null,null,null,null,""]
[null,null,null,null,null,null,null,null,null,null,null,null,null,null,null,null,""]
[null,null,null,null,null,null,null,null,null,null,null,null,null,null,null,null,""]
[null,null,null,null,null,null,null,null,null,null,null,null,null,null,null,null,""]
[null,null,null,null,null,null,null,null,null,null,null,null,null,null,null,null,""]
[null,null,null,null,null,null,null,null,null,null,null,null,null,null,null,null,""]
[null,null,null,null,null,null,null,null,null,null,null,null,null,null,null,null,""]
[null,null,null,null,null,null,null,null,null,null,null,null,null,null,null,null,""]
[null,null,null,null,null,null,null,null,null,null,null,null,null,null,null,null,""]
[null,null,null,null,null,null,null,null,null,null,null,null,null,null,null,null,""]
[null,null,null,null,null,null,null,null,null,null,null,null,null,null,null,null,""]
[null,null,null,null,null,null,null,null,null,null,null,null,null,null,null,null,""]
[null,null,null,null,null,null,null,null,null,null,null,null,null,null,null,null,""]
[null,null,null,null,null,null,null,null,null,null,null,null,null,null,null,null,""]
[null,null,null,null,null,null,null,null,null,null,null,null,null,null,null,null,""]
[null,null,null,null,null,null,null,null,null,null,null,null,null,null,null,null,""]
[null,null,null,null,null,null,null,null,null,null,null,null,null,null,null,null,""]
[null,null,null,null,null,null,null,null,null,null,null,null,null,null,null,null,""]
[null,null,null,null,null,null,null,null,null,null,null,null,null,null,null,null,""]
[null,null,null,null,null,null,null,null,null,null,null,null,null,null,null,null,""]
[null,null,null,null,null,null,null,null,null,null,null,null,null,null,null,null,""]
[null,null,null,null,null,null,null,null,null,null,null,null,null,null,null,null,""]
[null,null,null,null,null,null,null,null,null,null,null,null,null,null,null,null,""]
[null,null,null,null,null,null,null,null,null,null,null,null,null,null,null,null,""]
[null,null,null,null,null,null,null,null,null,null,null,null,null,null,null,null,""]
[null,null,null,null,null,null,null,null,null,null,null,null,null,null,null,null,""]
[null,null,null,null,null,null,null,null,null,null,null,null,null,null,null,null,""]
[null,null,null,null,null,null,null,null,null,null,null,null,null,null,null,null,""]
[null,null,null,null,null,null,null,null,null,null,null,null,null,null,null,null,""]
[null,null,null,null,null,null,null,null,null,null,null,null,null,null,null,null,""]
[null,null,null,null,null,null,null,null,null,null,null,null,null,null,null,null,""]
[null,null,null,null,null,null,null,null,null,null,null,null,null,null,null,null,""]
[null,null,null,null,null,null,null,null,null,null,null,null,null,null,null,null,""]
[null,null,null,null,null,null,null,null,null,null,null,null,null,null,null,null,""]
[null,null,null,null,null,null,null,null,null,null,null,null,null,null,null,null,""]
[null,null,null,null,null,null,null,null,null,null,null,null,null,null,null,null,""]
[null,null,null,null,null,null,null,null,null,null,null,null,null,null,null,null,""]
[null,null,null,null,null,null,null,null,null,null,null,null,null,null,null,null,""]
[null,null,null,null,null,null,null,null,null,null,null,null,null,null,null,null,""]
[null,null,null,null,null,null,null,null,null,null,null,null,null,null,null,null,""]
[null,null,null,null,null,null,null,null,null,null,null,null,null,null,null,null,""]
[null,null,null,null,null,null,null,null,null,null,null,null,null,null,null,null,""]
[null,null,null,null,null,null,null,null,null,null,null,null,null,null,null,null,""]
[null,null,null,null,null,null,null,null,null,null,null,null,null,null,null,null,""]
[null,null,null,null,null,null,null,null,null,null,null,null,null,null,null,null,""]
[null,null,null,null,null,null,null,null,null,null,null,null,null,null,null,null,""]
[null,null,null,null,null,null,null,null,null,null,null,null,null,null,null,null,""]
[null,null,null,null,null,null,null,null,null,null,null,null,null,null,null,null,""]
[null,null,null,null,null,null,null,null,null,null,null,null,null,null,null,null,""]
[null,null,null,null,null,null,null,null,null,null,null,null,null,null,null,null,""]
[null,null,null,null,null,null,null,null,null,null,null,null,null,null,null,null,""]
[null,null,null,null,null,null,null,null,null,null,null,null,null,null,null,null,""]
[null,null,null,null,null,null,null,null,null,null,null,null,null,null,null,null,""]
[null,null,null,null,null,null,null,null,null,null,null,null,null,null,null,null,""]
[null,null,null,null,null,null,null,null,null,null,null,null,null,null,null,null,""]
[null,null,null,null,null,null,null,null,null,null,null,null,null,null,null,null,""]
[null,null,null,null,null,null,null,null,null,null,null,null,null,null,null,null,""]
[null,null,null,null,null,null,null,null,null,null,null,null,null,null,null,null,""]
[null,null,null,null,null,null,null,null,null,null,null,null,null,null,null,null,""]
[null,null,null,null,null,null,null,null,null,null,null,null,null,null,null,null,""]
[null,null,null,null,null,null,null,null,null,null,null,null,null,null,null,null,""]
[null,null,null,null,null,null,null,null,null,null,null,null,null,null,null,null,""]
[null,null,null,null,null,null,null,null,null,null,null,null,null,null,null,null,""]
[null,null,null,null,null,null,null,null,null,null,null,null,null,null,null,null,""]
[null,null,null,null,null,null,null,null,null,null,null,null,null,null,null,null,""]
[null,null,null,null,null,null,null,null,null,null,null,null,null,null,null,null,""]
[null,null,null,null,null,null,null,null,null,null,null,null,null,null,null,null,""]
[null,null,null,null,null,null,null,null,null,null,null,null,null,null,null,null,""]
[null,null,null,null,null,null,null,null,null,null,null,null,null,null,null,null,""]
[null,null,null,null,null,null,null,null,null,null,null,null,null,null,null,null,""]
[null,null,null,null,null,null,null,null,null,null,null,null,null,null,null,null,""]
[null,null,null,null,null,null,null,null,null,null,null,null,null,null,null,null,""]
[null,null,null,null,null,null,null,null,null,null,null,null,null,null,null,null,""]
[null,null,null,null,null,null,null,null,null,null,null,null,null,null,null,null,""]
[null,null,null,null,null,null,null,null,null,null,null,null,null,null,null,null,""]
[null,null,null,null,null,null,null,null,null,null,null,null,null,null,null,null,""]
[null,null,null,null,null,null,null,null,null,null,null,null,null,null,null,null,""]
[null,null,null,null,null,null,null,null,null,null,null,null,null,null,null,null,""]
[null,null,null,null,null,null,null,null,null,null,null,null,null,null,null,null,""]
[null,null,null,null,null,null,null,null,null,null,null,null,null,null,null,null,""]
[null,null,null,null,null,null,null,null,null,null,null,null,null,null,null,null,""]
[null,null,null,null,null,null,null,null,null,null,null,null,null,null,null,null,""]
[null,null,null,null,null,null,null,null,null,null,null,null,null,null,null,null,""]
[null,null,null,null,null,null,null,null,null,null,null,null,null,null,null,null,""]
[null,null,null,null,null,null,null,null,null,null,null,null,null,null,null,null,""]
[null,null,null,null,null,null,null,null,null,null,null,null,null,null,null,null,""]
[null,null,null,null,null,null,null,null,null,null,null,null,null,null,null,null,""]
[null,null,null,null,null,null,null,null,null,null,null,null,null,null,null,null,""]
[null,null,null,null,null,null,null,null,null,null,null,null,null,null,null,null,""]
[null,null,null,null,null,null,null,null,null,null,null,null,null,null,null,null,""]
[null,null,null,null,null,null,null,null,null,null,null,null,null,null,null,null,""]
[null,null,null,null,null,null,null,null,null,null,null,null,null,null,null,null,""]
[null,null,null,null,null,null,null,null,null,null,null,null,null,null,null,null,""]
[null,null,null,null,null,null,null,null,null,null,null,null,null,null,null,null,""]
[null,null,null,null,null,null,null,null,null,null,null,null,null,null,null,null,""]
[null,null,null,null,null,null,null,null,null,null,null,null,null,null,null,null,""]
[null,null,null,null,null,null,null,null,null,null,null,null,null,null,null,null,""]
[null,null,null,null,null,null,null,null,null,null,null,null,null,null,null,null,""]
[null,null,null,null,null,null,null,null,null,null,null,null,null,null,null,null,""]
[null,null,null,null,null,null,null,null,null,null,null,null,null,null,null,null,""]
[null,null,null,null,null,null,null,null,null,null,null,null,null,null,null,null,""]
[null,null,null,null,null,null,null,null,null,null,null,null,null,null,null,null,""]
[null,null,null,null,null,null,null,null,null,null,null,null,null,null,null,null,""]
[null,null,null,null,null,null,null,null,null,null,null,null,null,null,null,null,""]
[null,null,null,null,null,null,null,null,null,null,null,null,null,null,null,null,""]
[null,null,null,null,null,null,null,null,null,null,null,null,null,null,null,null,""]
[null,null,null,null,null,null,null,null,null,null,null,null,null,null,null,null,""]

{"sheet":"Free Form","index":2,"n_rows":56,"n_cols":29,"rows_kept":56,"cut":false,"hidden":false,"merged":[[40,1,41,24],[5,32,5,33],[8,32,8,33],[7,20,7,25],[5,19,6,21],[8,24,8,25],[8,18,8,19],[8,20,8,21],[9,1,9,23],[13,1,38,24],[5,7,6,9],[5,1,6,3],[11,1,11,23],[5,22,6,24],[2,16,3,18],[2,19,3,21],[0,4,1,24],[2,22,3,24],[5,16,6,18],[2,10,3,12],[2,13,3,15],[5,13,6,15],[5,10,6,12],[2,4,3,6],[2,7,3,9],[5,4,6,6]]}
[null,null,null,null,{"$f":"Main!E1","v":"AWP Contractor Reporting E2O - Aggregates Contractor QC"}]
[null,null,null,null,null,null,null,null,null,null,null,null,null,null,null,null,null,null,null,null,null,null,null,null,null,{"$f":"Main!Z2","v":"v"},{"$f":"Main!AA2","v":"5.00"},null,"Timestamp function"]
[null,null,null,null," ",null,null,{"$f":"Main!H3","v":"Main"},null,null,{"$f":"Main!K3","v":"Quantity"},null,null,null,null,null,{"$f":"Main!Q3","v":"Send/Sync"},null,null,{"$f":"Main!T3","v":"Reports"},null,null,{"$f":"Main!W3","v":"Help"},null,null,null,null,null,{"$f":"TEXT(B12,\"mm/dd/yyyy\")","v":"2030 Characters Maximum  (spaces count)"}]
[null,null,null,null,null,null,null,null,null,null,null,null,null,null,null,null,null,null,null,null,null,null,null,null,null,null,null,null,{"$f":"TEXT(B13,\"HH:MM:SS \")","v":"00:00:00 "}]
[]
[null,{"$f":"Main!B6","v":"General"},null,null,{"$f":"Main!E6","v":"Free Form"},null,null,{"$f":"IF(Main!H6=\"\", \"\", Main!H6)","v":"Bases"},null,null,{"$f":"IF(Main!K6=\"\", \"\", Main!K6)","v":"1005/3/9"},null,null,{"$f":"IF(Main!N6=\"\", \"\", Main!N6)","v":"SEL BACKFILL"},null,null,{"$f":"IF(Main!Q6=\"\", \"\", Main!Q6)","v":"QC/QA Split"},null,null,{"$f":"IF(Main!T6=\"\", \"\", Main!T6)","v":""},null,null,{"$f":"IF(Main!W6=\"\", \"\", Main!W6)","v":""}]
[]
[]
[]
[null,"Use a \"Free Form\" to record general notes, test results, or related information for which there is no other field"]
[]
[null,"2030 Characters Maximum  (spaces count)"]
[]
[]
[]
[]
[]
[]
[]
[]
[]
[]
[]
[]
[]
[]
[]
[]
[]
[]
[]
[]
[]
[]
[]
[]
[]
[]
[]
[null,null,null,null,null,null,null,null,null,null,null,null,null,null,null,null,null,null,null,null,null,null,null,null,null,null,null,null,"Is any I info entered?"]
[null,"The Free Form is used for test results that do not fit elsewhere and as a remarks and statement area.",null,null,null,null,null,null,null,null,null,null,null,null,null,null,null,null,null,null,null,null,null,null,null,null,null,null,{"$f":"IF(LEN(B14)>5,1,0)","v":0}]
[]
[]
[]
[]
[]
[]
[null,null,"Seq","end",null,"Populate"]
[null,null,1,254,null,{"$f":"IF(G49=\"\", \"N\", \"Y\")","v":"N"},{"$f":"RIGHT(LEFT($B$14,D49),254)","v":""}]
[null,null,2,{"$f":"$D$49+D49","v":508},null,{"$f":"IF(G50=\"\", \"N\", \"Y\")","v":"N"},{"$f":"MID($B$14,(D50-253),254)","v":""}]
[null,null,3,{"$f":"$D$49+D50","v":762},null,"N",{"$f":"MID($B$14,(D51-253),254)","v":""}]
[null,null,4,1016,null,"N",""]
[null,null,5,1270,null,"N",""]
[null,null,6,1524,null,"N",""]
[null,null,7,1778,null,"N",""]
[null,null,8,2032,null,"N",""]

{"sheet":"Help","index":3,"n_rows":45,"n_cols":27,"rows_kept":45,"cut":false,"hidden":false,"merged":[[43,1,43,25],[44,1,47,25],[35,1,35,14],[34,1,34,25],[5,1,6,3],[5,4,6,6],[5,7,6,9],[5,10,6,12],[5,13,6,15],[5,16,6,18],[5,19,6,21],[22,1,24,25],[16,1,19,25],[30,1,33,25],[21,1,21,25],[15,1,15,25],[29,1,29,25],[28,1,28,25],[26,1,26,25],[27,1,27,25],[25,1,25,25],[0,4,1,24],[8,1,8,25],[14,1,14,25],[13,1,13,25],[9,1,11,25],[12,1,12,25],[2,13,3,15],[2,16,3,18],[2,19,3,21],[5,22,6,24],[7,1,7,25],[2,4,3,6],[2,7,3,9],[2,22,3,24],[2,10,3,12]]}
[null,null,null,null,{"$f":"Main!E1","v":"AWP Contractor Reporting E2O - Aggregates Contractor QC"}]
[null,null,null,null,null,null,null,null,null,null,null,null,null,null,null,null,null,null,null,null,null,null,null,null,null,{"$f":"Main!Z2","v":"v"},{"$f":"Main!AA2","v":"5.00"}]
[null,null,null,null," ",null,null,{"$f":"Main!H3","v":"Main"},null,null,{"$f":"Main!K3","v":"Quantity"},null,null,null,null,null,{"$f":"Main!Q3","v":"Send/Sync"},null,null,{"$f":"Main!T3","v":"Reports"},null,null,{"$f":"Main!W3","v":"Help"}]
[]
[]
[null,{"$f":"Main!B6","v":"General"}]
[]
[]
[null,"Report Numbering"]
[null,"Each report must be uniquely numbered by the contractor making the report.  Every contracting company must devise a way to ensure that the various people submitting reports do not use the same numbers.   An easy way is to assign each person within your company a range of numbers.  "]
[]
[]
[null,"Numbers range from 0001-9999.          Lead zeros should be used to aid in sorting of reports.       The numbers reset every year."]
[]
[]
[null,"Security Word"]
[null,"Each contracting company is issued a four letter security word.   If the security word entered on the report does not match the contracting company, the report will not be processed.   The purpose of the security word is to prevent unathorized persons from submitting reports to represent a contracting company.   MoDOT may re-issue security words periodically.  MoDOT can also re-issue a companies security word upon request."]
[]
[]
[]
[]
[null,"Rejection by the Server"]
[null,"When a report is submitted, there is a chance the processing server will find a fault and reject the report.  Once rejected, the fault will need to be corrected and the report resubmitted.  The processing server will send out a rejection notice email with a basic reason for rejection to the contractor email address and MoDOT employee listed in the contact area."]
[]
[]
[]
[]
[]
[]
[null,"Allow Updating"]
[null,"The Excel2Oracle will not overwrite existing data in SiteManager by defualt.  This is to protect the existing data from acccidentlly being replaced.  Once clicked, the \"allow updating\" button will let Excel2Oracle to overwrite existing data in SiteManager.  Care should be taken when doing this to make sure the sample ID is correct."]
[]
[]
[]
[null,"Spreadsheet Versions"]
[null,"* Reports that are too out of date may no longer be processed."]
[null,"* The changes in the version number indicate how major or minor a change was."]
[null,null,"For Example:   Version    A.BC"]
[null,null,null,"\"A\" is the major version.   Major changes are rare and usually will require switching to the newest version"]
[null,null,null,"\"B\" is the minor version.   Minor changes will not usually require switching, but updating is reccomended."]
[null,null,null,"\"C\" is the errata version.  Errata fixes do not require switching."]
[null,null,null,"*  Note that some changes do not warrant a new version number.  Picklist updates fall in this category."]
[]
[null,"Latest News and Updates"]
[null,"Each time the Send/Sync tab is opened, the latest news informatin is fetched from the Internet.  This enables MoDOT to broadcast need information to all users"]

{"sheet":"Test 1","index":4,"n_rows":1561,"n_cols":35,"rows_kept":1561,"cut":false,"hidden":false,"merged":[[51,4,51,6],[51,8,51,10],[51,12,51,14],[52,12,52,14],[52,8,52,10],[52,4,52,6],[53,1,54,3],[53,4,53,6],[53,8,53,10],[53,12,53,14],[49,4,49,5],[49,8,49,9],[49,12,49,13],[50,4,50,6],[50,8,50,10],[50,12,50,14],[14,2,14,10],[15,2,15,4],[15,5,15,7],[45,0,46,2],[45,3,45,5],[45,7,45,9],[45,11,45,13],[43,1,43,3],[25,10,25,12],[26,10,26,12],[27,10,27,12],[30,10,30,12],[30,13,31,15],[15,0,16,0],[17,0,18,0],[19,0,20,0],[18,1,18,7],[18,8,18,23],[16,8,16,23],[17,2,17,4],[17,5,17,7],[17,9,17,10],[43,4,43,5],[43,8,43,9],[43,12,43,13],[41,2,41,22],[28,3,28,5],[28,7,28,9],[28,10,28,12],[25,7,25,9],[26,7,26,9],[27,7,27,9],[30,7,30,9],[34,12,34,13],[35,12,35,13],[25,20,25,22],[27,16,27,18],[20,1,20,7],[42,4,42,5],[42,8,42,9],[42,12,42,13],[23,7,23,9],[23,10,23,12],[25,23,25,25],[24,10,24,12],[23,20,23,22],[24,20,24,22],[24,23,24,25],[26,20,26,22],[26,23,26,25],[27,20,27,22],[24,16,24,18],[25,16,25,18],[26,16,26,18],[30,3,30,5],[24,7,24,9],[5,13,6,15],[5,16,6,18],[12,1,12,6],[29,3,29,5],[29,7,29,9],[29,10,29,12],[22,14,22,25],[22,1,22,12],[29,16,29,18],[29,20,29,22],[29,23,29,25],[23,23,23,25],[30,16,30,18],[27,23,27,25],[20,8,20,23],[30,20,30,22],[30,23,30,25],[23,16,23,18],[19,2,19,4],[19,5,19,7],[19,9,19,10],[16,1,16,7],[2,10,3,12],[2,13,3,15],[2,16,3,18],[2,19,3,21],[2,22,3,24],[2,4,3,6],[2,7,3,9],[9,1,10,21],[0,4,1,24],[59,0,59,2],[5,19,6,21],[5,22,6,24],[5,1,6,3],[5,4,6,6],[5,7,6,9],[5,10,6,12],[27,3,27,5],[25,3,25,5],[26,3,26,5],[24,3,24,5],[38,0,39,2],[38,7,38,9],[38,11,38,13],[34,0,36,3],[35,8,35,9],[38,3,38,5],[34,4,34,5],[35,4,35,5],[34,8,34,9],[23,3,23,5],[30,0,31,2],[15,9,15,10],[12,7,12,19]]}
[null,null,null,null,{"$f":"Main!E1","v":"AWP Contractor Reporting E2O - Aggregates Contractor QC"}]
[null,null,null,null,null,null,null,null,null,null,null,null,null,null,null,null,null,null,null,null,null,null,null,null,null,{"$f":"Main!Z2","v":"v"},{"$f":"Main!AA2","v":"5.00"}]
[null,null,null,null," ",null,null,"Main",null,null,"Quantity",null,null,null,null,null,{"$f":"Main!Q3","v":"Send/Sync"},null,null,"Reports",null,null,"Help"]
[]
[]
[null,{"$f":"Main!B6","v":"General"},null,null,{"$f":"Main!E6","v":"Free Form"},null,null,{"$f":"IF(Main!H6=\"\",\"\",Main!H6)","v":"Bases"},null,null,{"$f":"IF(Main!K6=\"\",\"\",Main!K6)","v":"1005/3/9"},null,null,{"$f":"IF(Main!N6=\"\",\"\",Main!N6)","v":"SEL BACKFILL"},null,null,{"$f":"IF(Main!Q6=\"\",\"\",Main!Q6)","v":"QC/QA Split"},null,null,{"$f":"IF(Main!T6=\"\",\"\",Main!T6)","v":""},null,null,{"$f":"IF(Main!W6=\"\",\"\",Main!W6)","v":""}]
[null,null,null,null,null,null,null,null,null,null,null,null,null,null,null,null,null,null,null,null,null,null,null,null,null,null,null,null,"checks"]
[null,null,null,null,null,null,null,null,null,null,null,null,null,null,null,null,null,null,null,null,null,null,null,null,null,null,null,null,{"$f":"IF(AND(ISBLANK(H13),NOT(AE10=\"QCQA\")),IF(LEFT(AE11,4)=\"1007\",1,0),0)","v":0},"testor missing"]
[]
[null,"Type 1, Type 5, or Type 7 Aggregate Bases",null,null,null,null,null,null,null,null,null,null,null,null,null,null,null,null,null,null,null,null,null,null,null,null,null,null,null,"sample type",{"$f":"Main!U40","v":"QCC"}]
[null,null,null,null,null,null,null,null,null,null,null,null,null,null,null,null,null,null,null,null,null,null,null,null,null,null,null,null,null,"material",{"$f":"Main!F14","v":""},null,"If the material code is a T7 then T7 template is used.  Otherwise all 1007 codes get the T1/T5 template"]
[null,null,null,null,null,null,null,null,null,null,null,null,null,null,null,null,null,null,null,null,null,null,null,null,null,null,null,null,null,"Populate Type 7?",null,null,{"$f":"IF((OR(LEFT(AE11,6)=\"1007T7\",AE11=\"1007..RAP1\"))*AND(NOT(ISBLANK(Q28))),\"Y\",\"N\")","v":"N"},{"$f":"IF((OR(LEFT(AE11,6)=\"1007T7\",AE11=\"1007..RAP1\"))*AND(NOT(ISBLANK(U28))),\"Y\",\"N\")","v":"N"},{"$f":"IF((OR(LEFT(AE11,6)=\"1007T7\",AE11=\"1007..RAP1\"))*AND(NOT(ISBLANK(X28))),\"Y\",\"N\")","v":"N"}]
[null,"Test Performed by:",null,null,null,null,null,null,null,null,null,null,null,null,null,null,null,null,null,null,null,null,null,null,null,null,null,null,null,"Populate T1/T5?",null,null,{"$f":"IF(((LEFT(AE11,4)=\"1007\")*AND(AG12=\"N\")*AND((NOT(LEFT(AE11,6)=\"1007T7\"))))*AND(OR(NOT(ISBLANK(D28)),NOT(ISBLANK(D29)))),\"Y\",\"N\")","v":"N"},{"$f":"IF(((LEFT(AE11,4)=\"1007\")*AND(AH12=\"N\")*AND((NOT(LEFT(AE11,6)=\"1007T7\"))))*AND(OR(NOT(ISBLANK(H28)),NOT(ISBLANK(H29)))),\"Y\",\"N\")","v":"N"},{"$f":"IF(((LEFT(AE11,4)=\"1007\")*AND(AI12=\"N\")*AND((NOT(LEFT(AE11,6)=\"1007T7\"))))*AND(OR(NOT(ISBLANK(K28)),NOT(ISBLANK(K29)))),\"Y\",\"N\")","v":"N"}]
[]
[null,null,"Testing Locations  (Up to Three)"]
[1,null,"Station",null,null,null,null,null,"+"]
[null,"Location L/R of Centerline"]
[2,null,"Station",null,null,null,null,null,"+"]
[null,"Location L/R of Centerline"]
[3,null,"Station",null,null,null,null,null,"+"]
[null,"Location L/R of Centerline"]
[]
[null,"Gradation,  Type 1 and 5 :  (% Passing)",null,null,null,null,null,null,null,null,null,null,null,null,"Gradation, Type 7 :  (% Passing)"]
[null,null,null,"(1)",null,null,null,"(2)",null,null,"(3)",null,null,null,null,null,"(1)",null,null,null,"(2)",null,null,"(3)",null,null,null,null,null,"rounding:"]
[null,"1\"",null,null,null,null,"%",null,null,null,null,null,null,null,"1 1/2\"",null,null,null,null,"%",null,null,null,null,null,null,null,null,null,{"$f":"VALUE(FIXED(D25,1))","v":0},{"$f":"VALUE(FIXED(H25,1))","v":0},{"$f":"VALUE(FIXED(K25,1))","v":0},{"$f":"VALUE(FIXED(Q25,1))","v":0},{"$f":"VALUE(FIXED(U25,1))","v":0},{"$f":"VALUE(FIXED(X25,1))","v":0}]
[null,"1/2\"",null,null,null,null,"%",null,null,null,null,null,null,null,"1\"",null,null,null,null,"%",null,null,null,null,null,null,null,null,null,{"$f":"VALUE(FIXED(D26,1))","v":0},{"$f":"VALUE(FIXED(H26,1))","v":0},{"$f":"VALUE(FIXED(K26,1))","v":0},{"$f":"VALUE(FIXED(Q26,1))","v":0},{"$f":"VALUE(FIXED(U26,1))","v":0},{"$f":"VALUE(FIXED(X26,1))","v":0}]
[null,"#4",null,null,null,null,"%",null,null,null,null,null,null,null,"#8",null,null,null,null,"%",null,null,null,null,null,null,null,null,null,{"$f":"VALUE(FIXED(D27,1))","v":0},{"$f":"VALUE(FIXED(H27,1))","v":0},0,0,{"$f":"VALUE(FIXED(U27,1))","v":0},{"$f":"VALUE(FIXED(X27,1))","v":0}]
[null,"#30",null,null,null,null,"%",null,null,null,null,null,null,null,"#200",null,null,null,null,"%",null,null,null,null,null,null,null,null,null,{"$f":"VALUE(FIXED(D28,1))","v":0},{"$f":"VALUE(FIXED(H28,1))","v":0},0,0,{"$f":"VALUE(FIXED(U28,1))","v":0},0]
[null,"#200",null,null,null,null,"%",null,null,null,null,null,null,null,null,null,null,null,null,null,null,null,null,null,null,null,null,null,null,{"$f":"VALUE(FIXED(D29,1))","v":0},{"$f":"VALUE(FIXED(H29,1))","v":0},0]
[null,null,null,null,null,null,null,null,null,null,null,null,null,null,null,null,null,null,null,null,null,null,null,null,null,null,null,null,{"$f":"IF(ISBLANK(D29),0,(IF(ISBLANK(D31),1,0)))","v":0},null,"YES"]
["Within Spec Tolerance?",null,null,null,null,null,null,null,null,null,null,null,null,"Within Spec Tolerance?",null,null,null,null,null,null,null,null,null,null,null,null,null,null,{"$f":"IF(ISBLANK(H29),0,(IF(ISBLANK(H31),1,0)))","v":0},null,"NO"]
[null,null,null,null,null,null,null,null,null,null,null,null,null,null,null,null,null,null,null,null,null,null,null,null,null,null,null,null,{"$f":"IF(ISBLANK(K29),0,(IF(ISBLANK(K31),1,0)))","v":0},null,"NA"]
[null,null,null,null,null,null,null,null,null,null,null,null,null,null,null,null,null,null,null,null,null,null,null,null,null,null,null,null,{"$f":"IF(ISBLANK(Q28),0,(IF(ISBLANK(Q31),1,0)))","v":0}]
[null,null,"Quality,  Type 1, 5, 7",null,null,null,null,null,null,null,null,null,null,null,null,null,null,null,null,null,null,null,null,null,null,null,null,null,{"$f":"IF(ISBLANK(U28),0,(IF(ISBLANK(U31),1,0)))","v":0}]
["Deleterious Rock and Shale",null,null,null,"(1)",null,null,null,"(2)",null,null,null,"(3)",null,null,null,null,null,null,null,null,null,null,null,null,null,null,null,{"$f":"IF(ISBLANK(X28),0,(IF(ISBLANK(X31),1,0)))","v":0},"rounding:"]
[null,null,null,null,null,null,"%",null,null,null,"%",null,null,null,"%",null,null,null,null,null,null,null,null,null,null,null,null,null,null,{"$f":"VALUE(FIXED(E36,1))","v":0},{"$f":"VALUE(FIXED(I36,1))","v":0},{"$f":"VALUE(FIXED(M36,1))","v":0}]
[]
[null,null,null,null,null,null,null,null,null,null,null,null,null,null,null,null,null,null,null,null,null,null,null,null,null,null,null,null,{"$f":"IF(ISBLANK(E36),0,(IF(ISBLANK(D39),1,0)))","v":0},"Populate SA1000XX?",null,null,{"$f":"IF(OR(ISBLANK(E36),(NOT(LEFT(AE11,4)=\"1007\"))),\"N\",\"Y\")","v":"N"},{"$f":"IF(OR(ISBLANK(I36),(NOT(LEFT(AE11,4)=\"1007\"))),\"N\",\"Y\")","v":"N"},{"$f":"IF(OR(ISBLANK(M36),(NOT(LEFT(AE11,4)=\"1007\"))),\"N\",\"Y\")","v":"N"}]
["Within Spec Tolerance?",null,null,null,null,null,null,null,null,null,null,null,null,null,null,null,null,null,null,null,null,null,null,null,null,null,null,null,{"$f":"IF(ISBLANK(I36),0,(IF(ISBLANK(H39),1,0)))","v":0}]
[null,null,null,null,null,null,null,null,null,null,null,null,null,null,null,null,null,null,null,null,null,null,null,null,null,null,null,null,{"$f":"IF(ISBLANK(M36),0,(IF(ISBLANK(L39),1,0)))","v":0}]
[]
[null,null," Plasticity Index, Type 1 and 5 (* not required for Type 7 bases)"]
[null,null,null,null,"(1)",null,null,null,"(2)",null,null,null,"(3)"]
[null,"PI",null,null,null,null,null,null,null,null,null,null,null,null,null,null,"Note:  Enter \"NP\" for non plastic material",null,null,null,null,null,null,null,null,null,null,null,null,"Populate PI?",null,null,{"$f":"IF(OR(ISBLANK(E44),(NOT(LEFT(AE11,4)=\"1007\"))),\"N\",\"Y\")","v":"N"},{"$f":"IF(OR(ISBLANK(I44),(NOT(LEFT(AE11,4)=\"1007\"))),\"N\",\"Y\")","v":"N"},{"$f":"IF(OR(ISBLANK(M44),(NOT(LEFT(AE11,4)=\"1007\"))),\"N\",\"Y\")","v":"N"}]
[null,null,null,null,null,null,null,null,null,null,null,null,null,null,null,null,null,null,null,null,null,null,null,null,null,null,null,null,{"$f":"IF(ISBLANK(E44),0,(IF(ISBLANK(D46),1,0)))","v":0}]
["Within Spec Tolerance?",null,null,null,null,null,null,null,null,null,null,null,null,null,null,null,null,null,null,null,null,null,null,null,null,null,null,null,{"$f":"IF(ISBLANK(I44),0,(IF(ISBLANK(H46),1,0)))","v":0}]
[null,null,null,null,null,null,null,null,null,null,null,null,null,null,null,null,null,null,null,null,null,null,null,null,null,null,null,null,{"$f":"IF(ISBLANK(M44),0,(IF(ISBLANK(L46),1,0)))","v":0}]
[]
[null,null,"Moisture Content",null,null,null,null,null,null,null,null,null,null,null,null,null,null,null,null,null,null,null,null,null,null,null,null,null,{"$f":"IF(AND((LEFT(AE11,4)=\"1007\"),NOT(AE10=\"QCQA\"),(AND(ISERROR(MATCH(\"Y\",AG12:AI12,0)),ISERROR(MATCH(\"Y\",AG13:AI13,0)),ISERROR(MATCH(\"Y\",AG38:AI38,0)),ISERROR(MATCH(\"Y\",AG44:AI44,0))))),1,0)","v":0},"No test data for material selected on \"general\" tab"]
[null,null,null,null,"(1)",null,null,null,"(2)",null,null,null,"(3)",null,null,null,null,null,null,null,null,null,null,null,null,null,null,null,null,"Populate T255?",null,null,{"$f":"IF(OR(ISBLANK(E51),(NOT(LEFT(AE11,4)=\"1007\"))),\"N\",\"Y\")","v":"N"},{"$f":"IF(OR(ISBLANK(I51),(NOT(LEFT(AE11,4)=\"1007\"))),\"N\",\"Y\")","v":"N"},{"$f":"IF(OR(ISBLANK(M51),(NOT(LEFT(AE11,4)=\"1007\"))),\"N\",\"Y\")","v":"N"}]
[null,null,null,"Original Weight",null,null,null,"g",null,null,null,"g",null,null,null,"g",null,null,null,null,null,null,null,null,null,null,null,null,{"$f":"IF(ISBLANK(E52),0,(IF(ISBLANK(E54),1,0)))","v":0}]
[null,null,null,"Dry Sample Weight",null,null,null,"g",null,null,null,"g",null,null,null,"g",null,null,null,null,null,null,null,null,null,null,null,null,{"$f":"IF(ISBLANK(I52),0,(IF(ISBLANK(I54),1,0)))","v":0}]
[null,null,null,"% Total Moisture",{"$f":"IF(AND(E51>0,E52>0),IFERROR(ROUND((E51-E52)/E52*100,1),\"\"),\"\")","v":""},null,null,null,{"$f":"IF(AND(I51>0,I52>0),IFERROR(ROUND((I51-I52)/I52*100,1),\"\"),\"\")","v":""},null,null,null,{"$f":"IF(AND(M51>0,M52>0),IFERROR(ROUND((M51-M52)/M52*100,1),\"\"),\"\")","v":""},null,null,null,null,null,null,null,null,null,null,null,null,null,null,null,{"$f":"IF(ISBLANK(M52),0,(IF(ISBLANK(M54),1,0)))","v":0}]
[null,"Within Spec Tolerance?"]
[null,null,null,null,null,null,null,null,null,null,null,null,null,null,null,null,null,null,null,null,null,null,null,null,null,null,null,null,"Final error check total:"]
[null,null,null,null,null,null,null,null,null,null,null,null,null,null,null,null,null,null,null,null,null,null,null,null,null,null,null,null,{"$f":"SUM(AC8:AC9,AC30:AC35,AC38:AC42,AC45:AC48,AC49,AC51:AC53)","v":0}]
[]
[null,null,null,null,null,null,null,"Import of all active concrete mixes"]
["Code Lookup",null,null,null,null,null,null,"ma","ps","mixes",null,null,null,"Mixes sorted by code for pl"]
[{"$f":"VLOOKUP(H10,A65:B77,2,FALSE)","v":{"$error":"#N/A"}},null,null,null,null,null,null,{"$f":"Main!F14","v":""},{"$f":"Main!F17","v":{"$error":"#N/A"}}]
[]
[]
[null,null,null,null,null,null,null,"0401BPPMBP..2","3020400021     ","11SASBP01      ",null,null,null,{"$error":"#N/A"}]
["Code Value","Code Description",null,null,null,null,null,"0401BPPMBP..1","3176700025     ","11SASBP02      ",{"$f":"IF(H64=$H$60, IF(I64=$I$60, J64,\"\"),\"\")","v":""},null,null,{"$error":"#N/A"}]
["Certification and Testing","CETE",null,null,null,null,null,"0401BPPMBP..1","40314IAS30     ","11SASBP02      ",{"$f":"IF(H65=$H$60, IF(I65=$I$60, J65,\"\"),\"\")","v":""},null,null,{"$error":"#N/A"}]
["Accepted on PAL (HQ or MT P.O. use only)","APAL",null,null,null,null,null,"0401BPPMBB","3057100025     ","12SASBB01      ","",null,null,{"$error":"#N/A"}]
["Visual Inspection","VSUL",null,null,null,null,null,"0401BPPMBB","3048700023     ","12SASBB02      ","",null,null,{"$error":"#N/A"}]
["Testing","TEST",null,null,null,null,null,"0401BPPMBP..1","3176700025     ","12SASBP01      ","",null,null,{"$error":"#N/A"}]
["Pre-qualified or Brand Name","PQOB",null,null,null,null,null,"0401BPPMBB","3176700025     ","BB11-1         ","",null,null,{"$error":"#N/A"}]
["Sample and Test","SATE",null,null,null,null,null,"0401BPPMBB","3016400026     ","BB11-10        ","",null,null,{"$error":"#N/A"}]
["Prior Approval or Acceptance","PAOA",null,null,null,null,null,"0401BPPMBB","3016400026     ","BB11-11        ","",null,null,{"$error":"#N/A"}]
["Pre-qualification Sample","PQTS",null,null,null,null,null,"0401BPPMBB","3016400026     ","BB11-12        ","",null,null,{"$error":"#N/A"}]
["Pilot Concrete Plant Inspection Audit","CPIA",null,null,null,null,null,"0401BPPMBB","3016400026     ","BB11-12A       ","",null,null,{"$error":"#N/A"}]
["New Product Coordinator Direction ","NPCO",null,null,null,null,null,"0401BPPMBB","3016400026     ","BB11-13        ","",null,null,{"$error":"#N/A"}]
["Certification Review","CERT",null,null,null,null,null,"0401BPPMBB","3016400026     ","BB11-13A       ","",null,null,{"$error":"#N/A"}]
["Approved Producer QC/QA Plan","APQC",null,null,null,null,null,"0401BPPMBB","3020400121     ","BB11-14        ","",null,null,{"$error":"#N/A"}]
["Label Analysis","LBLA",null,null,null,null,null,"0401BPPMBB","3176700025     ","BB11-15        ","",null,null,{"$error":"#N/A"}]
[null,null,null,null,null,null,null,"0401BPPMBB","3176700025     ","BB11-16        ","",null,null,{"$error":"#N/A"}]
[null,null,null,null,null,null,null,"0401BPPMBB","3176700025     ","BB11-18        ","",null,null,{"$error":"#N/A"}]
[null,null,null,null,null,null,null,"0401BPPMBB","3016400026     ","BB11-19        ","",null,null,{"$error":"#N/A"}]
[null,null,null,null,null,null,null,"0401BPPMBB","3016400026     ","BB11-19A       ","",null,null,{"$error":"#N/A"}]
[null,null,null,null,null,null,null,"0401BPPMBB","3176700025     ","BB11-2         ","",null,null,{"$error":"#N/A"}]
[null,null,null,null,null,null,null,"0401BPPMBB","3016400026     ","BB11-20        ","",null,null,{"$error":"#N/A"}]
[null,null,null,null,null,null,null,"0401BPPMBB","3042400326     ","BB11-21        ","",null,null,{"$error":"#N/A"}]
[null,null,null,null,null,null,null,"0401BPPMBB","3035900026     ","BB11-23        ","",null,null,{"$error":"#N/A"}]
[null,null,null,null,null,null,null,"0401BPPMBB","3132800027     ","BB11-24        ","",null,null,{"$error":"#N/A"}]
[null,null,null,null,null,null,null,"0401BPPMBB","3132800027     ","BB11-24A       ","",null,null,{"$error":"#N/A"}]
[null,null,null,null,null,null,null,"0401BPPMBB","3176700025     ","BB11-25        ","",null,null,{"$error":"#N/A"}]
[null,null,null,null,null,null,null,"0401BPPMBB","3176700025     ","BB11-25A       ","",null,null,{"$error":"#N/A"}]
[null,null,null,null,null,null,null,"0401BPPMBB","3298500021     ","BB11-26        ","",null,null,{"$error":"#N/A"}]
[null,null,null,null,null,null,null,"0401BPPMBB","3176700025     ","BB11-28        ","",null,null,{"$error":"#N/A"}]
[null,null,null,null,null,null,null,"0401BPPMBB","3176700025     ","BB11-29        ","",null,null,{"$error":"#N/A"}]
[null,null,null,null,null,null,null,"0401BPPMBB","3020400021     ","BB11-3         ","",null,null,{"$error":"#N/A"}]
[null,null,null,null,null,null,null,"0401BPPMBB","3200700120     ","BB11-30        ","",null,null,{"$error":"#N/A"}]
[null,null,null,null,null,null,null,"0401BPPMBB","3200700120     ","BB11-30A       ","",null,null,{"$error":"#N/A"}]
[null,null,null,null,null,null,null,"0401BPPMBB","3132800027     ","BB11-31        ","",null,null,{"$error":"#N/A"}]
[null,null,null,null,null,null,null,"0401BPPMBB","3176700025     ","BB11-32        ","",null,null,{"$error":"#N/A"}]
[null,null,null,null,null,null,null,"0401BPPMBB","3176700025     ","BB11-33        ","",null,null,{"$error":"#N/A"}]
[null,null,null,null,null,null,null,"0401BPPMBB","3035900026     ","BB11-34        ","",null,null,{"$error":"#N/A"}]
[null,null,null,null,null,null,null,"0401BPPMBB","3020400021     ","BB11-36        ","",null,null,{"$error":"#N/A"}]
[null,null,null,null,null,null,null,"0401BPPMBB","3241300220     ","BB11-38        ","",null,null,{"$error":"#N/A"}]
[null,null,null,null,null,null,null,"0401BPPMBB","3176700025     ","BB11-39        ","",null,null,{"$error":"#N/A"}]
[null,null,null,null,null,null,null,"0401BPPMBB","3035900026     ","BB11-4         ","",null,null,{"$error":"#N/A"}]
[null,null,null,null,null,null,null,"0401BPPMBB","3176700025     ","BB11-40        ","",null,null,{"$error":"#N/A"}]
[null,null,null,null,null,null,null,"0401BPPMBB","3016400026     ","BB11-41        ","",null,null,{"$error":"#N/A"}]
[null,null,null,null,null,null,null,"0401BPPMBB","3016400026     ","BB11-42        ","",null,null,{"$error":"#N/A"}]
[null,null,null,null,null,null,null,"0401BPPMBB","3057100025     ","BB11-44        ","",null,null,{"$error":"#N/A"}]
[null,null,null,null,null,null,null,"0401BPPMBB","3176700025     ","BB11-45        ","",null,null,{"$error":"#N/A"}]
[null,null,null,null,null,null,null,"0401BPPMBB","3016400026     ","BB11-46        ","",null,null,{"$error":"#N/A"}]
[null,null,null,null,null,null,null,"0401BPPMBB","3016400026     ","BB11-46A       ","",null,null,{"$error":"#N/A"}]
[null,null,null,null,null,null,null,"0401BPPMBB","3016400026     ","BB11-47        ","",null,null,{"$error":"#N/A"}]
[null,null,null,null,null,null,null,"0401BPPMBB","3016400026     ","BB11-47A       ","",null,null,{"$error":"#N/A"}]
[null,null,null,null,null,null,null,"0401BPPMBB","3016400026     ","BB11-48        ",{"$f":"IF(H113=$H$60, IF(I113=$I$60, J113,\"\"),\"\")","v":""},null,null,{"$error":"#N/A"}]
[null,null,null,null,null,null,null,"0401BPPMBB","3016400026     ","BB11-48A       ","",null,null,{"$error":"#N/A"}]
[null,null,null,null,null,null,null,"0401BPPMBB","3176700025     ","BB11-49        ","",null,null,{"$error":"#N/A"}]
[null,null,null,null,null,null,null,"0401BPPMBB","3050100028     ","BB11-5         ","",null,null,{"$error":"#N/A"}]
[null,null,null,null,null,null,null,"0401BPPMBB","3056900024     ","BB11-50        ","",null,null,{"$error":"#N/A"}]
[null,null,null,null,null,null,null,"0401BPPMBB","3057100025     ","BB11-51        ","",null,null,{"$error":"#N/A"}]
[null,null,null,null,null,null,null,"0401BPPMBB","3042400326     ","BB11-52        ","",null,null,{"$error":"#N/A"}]
[null,null,null,null,null,null,null,"0401BPPMBB","3057100025     ","BB11-53        ","",null,null,{"$error":"#N/A"}]
[null,null,null,null,null,null,null,"0401BPPMBB","3050100028     ","BB11-5A        ","",null,null,{"$error":"#N/A"}]
[null,null,null,null,null,null,null,"0401BPPMBB","3035900026     ","BB11-6         ","",null,null,{"$error":"#N/A"}]
[null,null,null,null,null,null,null,"0401BPPMBB","3035900026     ","BB11-6A        ","",null,null,{"$error":"#N/A"}]
[null,null,null,null,null,null,null,"0401BPPMBB","3116900026     ","BB11-7         ","",null,null,{"$error":"#N/A"}]
[null,null,null,null,null,null,null,"0401BPPMBB","3029700023     ","BB11-8         ","",null,null,{"$error":"#N/A"}]
[null,null,null,null,null,null,null,"0401BPPMBB","3176700025     ","BB11-9         ","",null,null,{"$error":"#N/A"}]
[null,null,null,null,null,null,null,"0401BPPMBB","3035900026     ","BB12-1         ","",null,null,{"$error":"#N/A"}]
[null,null,null,null,null,null,null,"0401BPPMBB","3298500021     ","BB12-10        ","",null,null,{"$error":"#N/A"}]
[null,null,null,null,null,null,null,"0401BPPMBB","3016400026     ","BB12-11        ",{"$f":"IF(H129=$H$60, IF(I129=$I$60, J129,\"\"),\"\")","v":""},null,null,{"$error":"#N/A"}]
[null,null,null,null,null,null,null,"0401BPPMBB","3016400026     ","BB12-11A       ","",null,null,{"$error":"#N/A"}]
[null,null,null,null,null,null,null,"0401BPPMBB","3016400026     ","BB12-11B       ","",null,null,{"$error":"#N/A"}]
[null,null,null,null,null,null,null,"0401BPPMBB","3016400026     ","BB12-11C       ","",null,null,{"$error":"#N/A"}]
[null,null,null,null,null,null,null,"0401BPPMBB","3016400026     ","BB12-11D       ","",null,null,{"$error":"#N/A"}]
[null,null,null,null,null,null,null,"0401BPPMBB","3016400026     ","BB12-12        ","",null,null,{"$error":"#N/A"}]
[null,null,null,null,null,null,null,"0401BPPMBB","3016400026     ","BB12-12A       ","",null,null,{"$error":"#N/A"}]
[null,null,null,null,null,null,null,"0401BPPMBB","3016400026     ","BB12-12B       ","",null,null,{"$error":"#N/A"}]
[null,null,null,null,null,null,null,"0401BPPMBB","3016400026     ","BB12-13        ","",null,null,{"$error":"#N/A"}]
[null,null,null,null,null,null,null,"0401BPPMBB","3016400026     ","BB12-13A       ","",null,null,{"$error":"#N/A"}]
[null,null,null,null,null,null,null,"0401BPPMBB","3016400026     ","BB12-14        ","",null,null,{"$error":"#N/A"}]
[null,null,null,null,null,null,null,"0401BPPMBB","3016400026     ","BB12-14A       ","",null,null,{"$error":"#N/A"}]
[null,null,null,null,null,null,null,"0401BPPMBB","3035900026     ","BB12-15        ","",null,null,{"$error":"#N/A"}]
[null,null,null,null,null,null,null,"0401BPPMBB","3035900026     ","BB12-16        ","",null,null,{"$error":"#N/A"}]
[null,null,null,null,null,null,null,"0401BPPMBB","3176700025     ","BB12-17        ","",null,null,{"$error":"#N/A"}]
[null,null,null,null,null,null,null,"0401BPPMBB","3176700025     ","BB12-18        ","",null,null,{"$error":"#N/A"}]
[null,null,null,null,null,null,null,"0401BPPMBB","3035900026     ","BB12-19        ","",null,null,{"$error":"#N/A"}]
[null,null,null,null,null,null,null,"0401BPPMBB","3035900026     ","BB12-2         ","",null,null,{"$error":"#N/A"}]
[null,null,null,null,null,null,null,"0401BPPMBB","3035900026     ","BB12-20        ","",null,null,{"$error":"#N/A"}]
[null,null,null,null,null,null,null,"0401BPPMBB","3042400326     ","BB12-21        ","",null,null,{"$error":"#N/A"}]
[null,null,null,null,null,null,null,"0401BPPMBB","3016400026     ","BB12-22        ","",null,null,{"$error":"#N/A"}]
[null,null,null,null,null,null,null,"0401BPPMBB","3176700025     ","BB12-23        ","",null,null,{"$error":"#N/A"}]
[null,null,null,null,null,null,null,"0401BPPMBB","3057100025     ","BB12-24        ","",null,null,{"$error":"#N/A"}]
[null,null,null,null,null,null,null,"0401BPPMBB","3035900026     ","BB12-25        ","",null,null,{"$error":"#N/A"}]
[null,null,null,null,null,null,null,"0401BPPMBB","3016400026     ","BB12-26        ","",null,null,{"$error":"#N/A"}]
[null,null,null,null,null,null,null,"0401BPPMBB","3016400026     ","BB12-27        ","",null,null,{"$error":"#N/A"}]
[null,null,null,null,null,null,null,"0401BPPMBB","3016400026     ","BB12-28        ","",null,null,{"$error":"#N/A"}]
[null,null,null,null,null,null,null,"0401BPPMBB","3402400125     ","BB12-29        ","",null,null,{"$error":"#N/A"}]
[null,null,null,null,null,null,null,"0401BPPMBB","3402400125     ","BB12-29A       ","",null,null,{"$error":"#N/A"}]
[null,null,null,null,null,null,null,"0401BPPMBB","3298500021     ","BB12-3         ","",null,null,{"$error":"#N/A"}]
[null,null,null,null,null,null,null,"0401BPPMBB","3402400125     ","BB12-30        ","",null,null,{"$error":"#N/A"}]
[null,null,null,null,null,null,null,"0401BPPMBB","3056900024     ","BB12-31        ","",null,null,{"$error":"#N/A"}]
[null,null,null,null,null,null,null,"0401BPPMBB","3056900024     ","BB12-32        ","",null,null,{"$error":"#N/A"}]
[null,null,null,null,null,null,null,"0401BPPMBB","3176700025     ","BB12-33        ","",null,null,{"$error":"#N/A"}]
[null,null,null,null,null,null,null,"0401BPPMBB","3176700025     ","BB12-34        ","",null,null,{"$error":"#N/A"}]
[null,null,null,null,null,null,null,"0401BPPMBB","3200700120     ","BB12-35        ","",null,null,{"$error":"#N/A"}]
[null,null,null,null,null,null,null,"0401BPPMBB","3057100025     ","BB12-36        ","",null,null,{"$error":"#N/A"}]
[null,null,null,null,null,null,null,"0401BPPMBB","3027000020     ","BB12-37        ","",null,null,{"$error":"#N/A"}]
[null,null,null,null,null,null,null,"0401BPPMBB","3027000020     ","BB12-38        ","",null,null,{"$error":"#N/A"}]
[null,null,null,null,null,null,null,"0401BPPMBB","3020400021     ","BB12-39        ","",null,null,{"$error":"#N/A"}]
[null,null,null,null,null,null,null,"0401BPPMBB","3035900026     ","BB12-4         ","",null,null,{"$error":"#N/A"}]
[null,null,null,null,null,null,null,"0401BPPMBB","3057100025     ","BB12-40        ","",null,null,{"$error":"#N/A"}]
[null,null,null,null,null,null,null,"0401BPPMBB","3200700120     ","BB12-41        ","",null,null,{"$error":"#N/A"}]
[null,null,null,null,null,null,null,"0401BPPMBB","3116900026     ","BB12-42        ","",null,null,{"$error":"#N/A"}]
[null,null,null,null,null,null,null,"0401BPPMBB","3027000020     ","BB12-43        ","",null,null,{"$error":"#N/A"}]
[null,null,null,null,null,null,null,"0401BPPMBB","3027000020     ","BB12-43A       ","",null,null,{"$error":"#N/A"}]
[null,null,null,null,null,null,null,"0401BPPMBB","3027000020     ","BB12-44        ","",null,null,{"$error":"#N/A"}]
[null,null,null,null,null,null,null,"0401BPPMBB","3176700025     ","BB12-45        ","",null,null,{"$error":"#N/A"}]
[null,null,null,null,null,null,null,"0401BPPMBB","3176700025     ","BB12-45A       ","",null,null,{"$error":"#N/A"}]
[null,null,null,null,null,null,null,"0401BPPMBB","3176700025     ","BB12-46        ","",null,null,{"$error":"#N/A"}]
[null,null,null,null,null,null,null,"0401BPPMBB","3132800027     ","BB12-47        ","",null,null,{"$error":"#N/A"}]
[null,null,null,null,null,null,null,"0401BPPMBB","3056900024     ","BB12-48        ","",null,null,{"$error":"#N/A"}]
[null,null,null,null,null,null,null,"0401BPPMBB","3035900026     ","BB12-49        ","",null,null,{"$error":"#N/A"}]
[null,null,null,null,null,null,null,"0401BPPMBB","3016400026     ","BB12-5         ","",null,null,{"$error":"#N/A"}]
[null,null,null,null,null,null,null,"0401BPPMBB","3116901059     ","BB12-50        ","",null,null,{"$error":"#N/A"}]
[null,null,null,null,null,null,null,"0401BPPMBB","3116901059     ","BB12-50A       ","",null,null,{"$error":"#N/A"}]
[null,null,null,null,null,null,null,"0401BPPMBB","3116901059     ","BB12-50B       ","",null,null,{"$error":"#N/A"}]
[null,null,null,null,null,null,null,"0401BPPMBB","3116900026     ","BB12-51        ","",null,null,{"$error":"#N/A"}]
[null,null,null,null,null,null,null,"0401BPPMBB","3116900026     ","BB12-51A       ","",null,null,{"$error":"#N/A"}]
[null,null,null,null,null,null,null,"0401BPPMBB","3056900024     ","BB12-52        ","",null,null,{"$error":"#N/A"}]
[null,null,null,null,null,null,null,"0401BPPMBB","3132800027     ","BB12-53        ","",null,null,{"$error":"#N/A"}]
[null,null,null,null,null,null,null,"0401BPPMBB","3035900026     ","BB12-54        ","",null,null,{"$error":"#N/A"}]
[null,null,null,null,null,null,null,"0401BPPMBB","3035900026     ","BB12-54A       ","",null,null,{"$error":"#N/A"}]
[null,null,null,null,null,null,null,"0401BPPMBB","3200700120     ","BB12-55        ","",null,null,{"$error":"#N/A"}]
[null,null,null,null,null,null,null,"0401BPPMBB","3176700025     ","BB12-56        ",{"$f":"IF(H193=$H$60, IF(I193=$I$60, J193,\"\"),\"\")","v":""},null,null,{"$error":"#N/A"}]
[null,null,null,null,null,null,null,"0401BPPMBB","3200700120     ","BB12-57        ","",null,null,{"$error":"#N/A"}]
[null,null,null,null,null,null,null,"0401BPPMBB","3029700023     ","BB12-58        ","",null,null,{"$error":"#N/A"}]
[null,null,null,null,null,null,null,"0401BPPMBB","3029700023     ","BB12-59        ","",null,null,{"$error":"#N/A"}]
[null,null,null,null,null,null,null,"0401BPPMBB","3016400026     ","BB12-5A        ","",null,null,{"$error":"#N/A"}]
[null,null,null,null,null,null,null,"0401BPPMBB","3035900026     ","BB12-6         ","",null,null,{"$error":"#N/A"}]
[null,null,null,null,null,null,null,"0401BPPMBB","3116900026     ","BB12-60        ","",null,null,{"$error":"#N/A"}]
[null,null,null,null,null,null,null,"0401BPPMBB","3200700120     ","BB12-62        ","",null,null,{"$error":"#N/A"}]
[null,null,null,null,null,null,null,"0401BPPMBB","3057100025     ","BB12-63        ","",null,null,{"$error":"#N/A"}]
[null,null,null,null,null,null,null,"0401BPPMBB","3035900026     ","BB12-64        ","",null,null,{"$error":"#N/A"}]
[null,null,null,null,null,null,null,"0401BPPMBB","3035900026     ","BB12-7         ","",null,null,{"$error":"#N/A"}]
[null,null,null,null,null,null,null,"0401BPPMBB","3035900026     ","BB12-7A        ","",null,null,{"$error":"#N/A"}]
[null,null,null,null,null,null,null,"0401BPPMBB","3035900026     ","BB12-8         ","",null,null,{"$error":"#N/A"}]
[null,null,null,null,null,null,null,"0401BPPMBB","3035900026     ","BB12-9         ","",null,null,{"$error":"#N/A"}]
[null,null,null,null,null,null,null,"0401BPPMBB","3016400026     ","BB13-1         ","",null,null,{"$error":"#N/A"}]
[null,null,null,null,null,null,null,"0401BPPMBB","3035900026     ","BB13-10        ","",null,null,{"$error":"#N/A"}]
[null,null,null,null,null,null,null,"0401BPPMBB","3048700023     ","BB13-11        ","",null,null,{"$error":"#N/A"}]
[null,null,null,null,null,null,null,"0401BPPMBB","3035900026     ","BB13-12        ","",null,null,{"$error":"#N/A"}]
[null,null,null,null,null,null,null,"0401BPPMBB","3035900026     ","BB13-13        ","",null,null,{"$error":"#N/A"}]
[null,null,null,null,null,null,null,"0401BPPMBB","3035900026     ","BB13-13A       ","",null,null,{"$error":"#N/A"}]
[null,null,null,null,null,null,null,"0401BPPMBB","3016400026     ","BB13-15        ","",null,null,{"$error":"#N/A"}]
[null,null,null,null,null,null,null,"0401BPPMBB","3016400026     ","BB13-16        ","",null,null,{"$error":"#N/A"}]
[null,null,null,null,null,null,null,"0401BPPMBB","3029700023     ","BB13-17        ","",null,null,{"$error":"#N/A"}]
[null,null,null,null,null,null,null,"0401BPPMBB","3176700025     ","BB13-18        ","",null,null,{"$error":"#N/A"}]
[null,null,null,null,null,null,null,"0401BPPMBB","3176700025     ","BB13-19        ","",null,null,{"$error":"#N/A"}]
[null,null,null,null,null,null,null,"0401BPPMBB","3176700025     ","BB13-19A       ","",null,null,{"$error":"#N/A"}]
[null,null,null,null,null,null,null,"0401BPPMBB","3035900026     ","BB13-2         ","",null,null,{"$error":"#N/A"}]
[null,null,null,null,null,null,null,"0401BPPMBB","3200700120     ","BB13-20        ","",null,null,{"$error":"#N/A"}]
[null,null,null,null,null,null,null,"0401BPPMBB","3056900024     ","BB13-21        ","",null,null,{"$error":"#N/A"}]
[null,null,null,null,null,null,null,"0401BPPMBB","3056900024     ","BB13-21A       ","",null,null,{"$error":"#N/A"}]
[null,null,null,null,null,null,null,"0401BPPMBB","3298500021     ","BB13-22        ","",null,null,{"$error":"#N/A"}]
[null,null,null,null,null,null,null,"0401BPPMBB","3057100025     ","BB13-23        ","",null,null,{"$error":"#N/A"}]
[null,null,null,null,null,null,null,"0401BPPMBB","3029700023     ","BB13-24        ","",null,null,{"$error":"#N/A"}]
[null,null,null,null,null,null,null,"0401BPPMBB","3029700023     ","BB13-24A       ","",null,null,{"$error":"#N/A"}]
[null,null,null,null,null,null,null,"0401BPPMBB","3298500021     ","BB13-26        ",""]
[null,null,null,null,null,null,null,"0401BPPMBB","3029700023     ","BB13-27        ",""]
[null,null,null,null,null,null,null,"0401BPPMBB","3029700023     ","BB13-29        ",""]
[null,null,null,null,null,null,null,"0401BPPMBB","3035900026     ","BB13-3         ",""]
[null,null,null,null,null,null,null,"0401BPPMBB","3176700025     ","BB13-30        ",""]
[null,null,null,null,null,null,null,"0401BPPMBB","3050100028     ","BB13-31        ",""]
[null,null,null,null,null,null,null,"0401BPPMBB","3197300125     ","BB13-32        ",""]
[null,null,null,null,null,null,null,"0401BPPMBB","3056900024     ","BB13-33        ",""]
[null,null,null,null,null,null,null,"0401BPPMBB","3176700025     ","BB13-34        ",""]
[null,null,null,null,null,null,null,"0401BPPMBB","3176700025     ","BB13-34A       ",""]
[null,null,null,null,null,null,null,"0401BPPMBB","3176700025     ","BB13-35        ",""]
[null,null,null,null,null,null,null,"0401BPPMBB","3176700025     ","BB13-35A       ",""]
[null,null,null,null,null,null,null,"0401BPPMBB","3057100025     ","BB13-36        ",""]
[null,null,null,null,null,null,null,"0401BPPMBB","3176700025     ","BB13-37        ",""]
[null,null,null,null,null,null,null,"0401BPPMBB","3176700025     ","BB13-37A       ",""]
[null,null,null,null,null,null,null,"0401BPPMBB","3016400026     ","BB13-38        ",""]
[null,null,null,null,null,null,null,"0401BPPMBB","3016400026     ","BB13-39        ",""]
[null,null,null,null,null,null,null,"0401BPPMBB","3035900026     ","BB13-4         ",""]
[null,null,null,null,null,null,null,"0401BPPMBB","3008600023     ","BB13-40        ",""]
[null,null,null,null,null,null,null,"0401BPPMBB","3241300220     ","BB13-41        ",""]
[null,null,null,null,null,null,null,"0401BPPMBB","3029700023     ","BB13-42        ",""]
[null,null,null,null,null,null,null,"0401BPPMBB","3176700025     ","BB13-43        ",""]
[null,null,null,null,null,null,null,"0401BPPMBB","3176700025     ","BB13-43A       ",""]
[null,null,null,null,null,null,null,"0401BPPMBB","3281200026     ","BB13-44        ",""]
[null,null,null,null,null,null,null,"0401BPPMBB","3020400021     ","BB13-45        ",""]
[null,null,null,null,null,null,null,"0401BPPMBB","3029700023     ","BB13-46        ",""]
[null,null,null,null,null,null,null,"0401BPPMBB","3008600023     ","BB13-47        ",""]
[null,null,null,null,null,null,null,"0401BPPMBB","3048700023     ","BB13-49        ",""]
[null,null,null,null,null,null,null,"0401BPPMBB","3261500026     ","BB13-5         ",""]
[null,null,null,null,null,null,null,"0401BPPMBB","3008600023     ","BB13-50        ",""]
[null,null,null,null,null,null,null,"0401BPPMBB","3016400026     ","BB13-51        ",{"$f":"IF(H257=$H$60, IF(I257=$I$60, J257,\"\"),\"\")","v":""}]
[null,null,null,null,null,null,null,"0401BPPMBB","3176700025     ","BB13-6         ",""]
[null,null,null,null,null,null,null,"0401BPPMBB","3176700025     ","BB13-7         ",""]
[null,null,null,null,null,null,null,"0401BPPMBB","3176700025     ","BB13-7A        ",""]
[null,null,null,null,null,null,null,"0401BPPMBB","3029700023     ","BB13-8         ",""]
[null,null,null,null,null,null,null,"0401BPPMBB","3200700120     ","BB13-9         ",""]
[null,null,null,null,null,null,null,"0401BPPMBP..1","3176700025     ","BP1 14-1       ",""]
[null,null,null,null,null,null,null,"0401BPPMBP..1","3132800027     ","BP1 14-2       ",""]
[null,null,null,null,null,null,null,"0401BPPMBP..1","3200700120     ","BP11-1         ",""]
[null,null,null,null,null,null,null,"0401BPPMBP..1","3035900026     ","BP11-10        ",""]
[null,null,null,null,null,null,null,"0401BPPMBP..1","3176700025     ","BP11-100       ",""]
[null,null,null,null,null,null,null,"0401BPPMBP..1","3176700025     ","BP11-101       ",""]
[null,null,null,null,null,null,null,"0401BPPMBP..1","3176700025     ","BP11-102       ",""]
[null,null,null,null,null,null,null,"0401BPPMBP..1","3176700025     ","BP11-103       ",""]
[null,null,null,null,null,null,null,"0401BPPMBP..2","3176700025     ","BP11-104       ",""]
[null,null,null,null,null,null,null,"0401BPPMBP..1","3176700025     ","BP11-105       ",""]
[null,null,null,null,null,null,null,"0401BPPMBP..1","3016400026     ","BP11-106       ",""]
[null,null,null,null,null,null,null,"0401BPPMBP..1","3016400026     ","BP11-107       ",""]
[null,null,null,null,null,null,null,"0401BPPMBP..2","3016400026     ","BP11-108       ",""]
[null,null,null,null,null,null,null,"0401BPPMBP..2","3016400026     ","BP11-109       ",""]
[null,null,null,null,null,null,null,"0401BPPMBP..2","3035900026     ","BP11-11        ",""]
[null,null,null,null,null,null,null,"0401BPPMBP..2","3176700025     ","BP11-110       ",""]
[null,null,null,null,null,null,null,"0401BPPMBP..2","3176700025     ","BP11-110A      ",""]
[null,null,null,null,null,null,null,"0401BPPMBP..1","3176700025     ","BP11-112       ",""]
[null,null,null,null,null,null,null,"0401BPPMBP..1","3176700025     ","BP11-112A      ",""]
[null,null,null,null,null,null,null,"0401BPPMBP..1","3035900026     ","BP11-113       ",""]
[null,null,null,null,null,null,null,"0401BPPMBP..2","3020400021     ","BP11-114       ",""]
[null,null,null,null,null,null,null,"0401BPPMBP..1","3057100025     ","BP11-115       ",""]
[null,null,null,null,null,null,null,"0401BPPMBP..2","3008600023     ","BP11-116       ",""]
[null,null,null,null,null,null,null,"0401BPPMBP..1","3008600023     ","BP11-117       ",""]
[null,null,null,null,null,null,null,"0401BPPMBP..1","3176700025     ","BP11-118       ",""]
[null,null,null,null,null,null,null,"0401BPPMBP..2","3029700023     ","BP11-119       ",""]
[null,null,null,null,null,null,null,"0401BPPMBP..2","3116900026     ","BP11-12        ",""]
[null,null,null,null,null,null,null,"0401BPPMBP..1","3016400026     ","BP11-120       ",""]
[null,null,null,null,null,null,null,"0401BPPMBP..1","3016400026     ","BP11-120A      ",""]
[null,null,null,null,null,null,null,"0401BPPMBP..1","3016400026     ","BP11-121       ",""]
[null,null,null,null,null,null,null,"0401BPPMBP..1","3016400026     ","BP11-121A      ",""]
[null,null,null,null,null,null,null,"0401BPPMBP..2","3035900026     ","BP11-124       ",""]
[null,null,null,null,null,null,null,"0401BPPMBP..1","3027400028     ","BP11-125       ",""]
[null,null,null,null,null,null,null,"0401BPPMBP..1","3008600023     ","BP11-126       ",""]
[null,null,null,null,null,null,null,"0401BPPMBP..1","3008600023     ","BP11-126A      ",""]
[null,null,null,null,null,null,null,"0401BPPMBP..2","3008600023     ","BP11-127       ",""]
[null,null,null,null,null,null,null,"0401BPPMBP..2","3008600023     ","BP11-127A      ",""]
[null,null,null,null,null,null,null,"0401BPPMBP..1","3016400026     ","BP11-128       ",""]
[null,null,null,null,null,null,null,"0401BPPMBP..1","3016400026     ","BP11-128A      ",""]
[null,null,null,null,null,null,null,"0401BPPMBP..2","3016400026     ","BP11-129       ",""]
[null,null,null,null,null,null,null,"0401BPPMBP..2","3016400026     ","BP11-129A      ",""]
[null,null,null,null,null,null,null,"0401BPPMBP..1","3176700025     ","BP11-13        ",""]
[null,null,null,null,null,null,null,"0401BPPMBP..1","3029700023     ","BP11-130       ",""]
[null,null,null,null,null,null,null,"0401BPPMBP..1","3029700023     ","BP11-131       ",""]
[null,null,null,null,null,null,null,"0401BPPMBP..1","3056900024     ","BP11-132       ",""]
[null,null,null,null,null,null,null,"0401BPPMBP..2","3176700025     ","BP11-135       ",""]
[null,null,null,null,null,null,null,"0401BPPMBP..1","3035900026     ","BP11-136       ",""]
[null,null,null,null,null,null,null,"0401BPPMBP..2","3035900026     ","BP11-137       ",""]
[null,null,null,null,null,null,null,"0401BPPMBP..1","3027400028     ","BP11-138       ",""]
[null,null,null,null,null,null,null,"0401BPPMBP..1","3027400028     ","BP11-139       ",""]
[null,null,null,null,null,null,null,"0401BPPMBP..2","3029700023     ","BP11-14        ",""]
[null,null,null,null,null,null,null,"0401BPPMBP..1","3057100025     ","BP11-140       ",""]
[null,null,null,null,null,null,null,"0401BPPMBP..1","3008600023     ","BP11-141       ",""]
[null,null,null,null,null,null,null,"0401BPPMBP..2","3027000020     ","BP11-142       ",""]
[null,null,null,null,null,null,null,"0401BPPMBP..3","3008600023     ","BP11-143       ",""]
[null,null,null,null,null,null,null,"0401BPPMBP..2","3008600023     ","BP11-144       ",""]
[null,null,null,null,null,null,null,"0401BPPMBP..1","3008600023     ","BP11-145       ",""]
[null,null,null,null,null,null,null,"0401BPPMBP..1","3008600023     ","BP11-146       ",""]
[null,null,null,null,null,null,null,"0401BPPMBP..1","3057100025     ","BP11-147       ",{"$f":"IF(H321=$H$60, IF(I321=$I$60, J321,\"\"),\"\")","v":""}]
[null,null,null,null,null,null,null,"0401BPPMBP..1","3200700120     ","BP11-148       ",""]
[null,null,null,null,null,null,null,"0401BPPMBP..1","3200700120     ","BP11-148A      ",""]
[null,null,null,null,null,null,null,"0401BPPMBP..2","3200700120     ","BP11-149       ",""]
[null,null,null,null,null,null,null,"0401BPPMBP..2","3027400028     ","BP11-15        ",""]
[null,null,null,null,null,null,null,"0401BPPMBP..1","3027400028     ","BP11-150       ",""]
[null,null,null,null,null,null,null,"0401BPPMBP..3","3116900026     ","BP11-151       ",""]
[null,null,null,null,null,null,null,"0401BPPMBP..3","3008600023     ","BP11-152       ",""]
[null,null,null,null,null,null,null,"0401BPPMBP..1","3176700025     ","BP11-153       ",""]
[null,null,null,null,null,null,null,"0401BPPMBP..2","3035900026     ","BP11-154       ",""]
[null,null,null,null,null,null,null,"0401BPPMBP..1","3008600023     ","BP11-155       ",""]
[null,null,null,null,null,null,null,"0401BPPMBP..2","3008600023     ","BP11-156       ",""]
[null,null,null,null,null,null,null,"0401BPPMBP..2","3027000020     ","BP11-157       ",""]
[null,null,null,null,null,null,null,"0401BPPMBP..2","3035900026     ","BP11-158       ",""]
[null,null,null,null,null,null,null,"0401BPPMBP..1","3200700120     ","BP11-159       ",""]
[null,null,null,null,null,null,null,"0401BPPMBP..1","3027400028     ","BP11-16        ",""]
[null,null,null,null,null,null,null,"0401BPPMBP..2","3027400028     ","BP11-160       ",""]
[null,null,null,null,null,null,null,"0401BPPMBP..1","3008600023     ","BP11-161       ",""]
[null,null,null,null,null,null,null,"0401BPPMBP..1","3057100025     ","BP11-162       ",""]
[null,null,null,null,null,null,null,"0401BPPMBP..1","3008600023     ","BP11-163       ",""]
[null,null,null,null,null,null,null,"0401BPPMBP..1","3029700023     ","BP11-164       ",""]
[null,null,null,null,null,null,null,"0401BPPMBP..3","3116900026     ","BP11-165       ",""]
[null,null,null,null,null,null,null,"0401BPPMBP..2","3116900026     ","BP11-166       ",""]
[null,null,null,null,null,null,null,"0401BPPMBP..1","3027400028     ","BP11-167       ",""]
[null,null,null,null,null,null,null,"0401BPPMBP..1","3035900026     ","BP11-168       ",""]
[null,null,null,null,null,null,null,"0401BPPMBP..1","3008600023     ","BP11-169       ",""]
[null,null,null,null,null,null,null,"0401BPPMBP..1","3050100028     ","BP11-17        ",""]
[null,null,null,null,null,null,null,"0401BPPMBP..2","3176700025     ","BP11-170       ",""]
[null,null,null,null,null,null,null,"0401BPPMBP..2","3176700025     ","BP11-171       ",""]
[null,null,null,null,null,null,null,"0401BPPMBP..2","3176700025     ","BP11-172       ",""]
[null,null,null,null,null,null,null,"0401BPPMBP..1","3050100028     ","BP11-17A       ",""]
[null,null,null,null,null,null,null,"0401BPPMBP..1","3035900026     ","BP11-18        ",""]
[null,null,null,null,null,null,null,"0401BPPMBP..1","3035900026     ","BP11-18A       ",""]
[null,null,null,null,null,null,null,"0401BPPMBP..2","3035900026     ","BP11-19        ",""]
[null,null,null,null,null,null,null,"0401BPPMBP..1","3200700120     ","BP11-1A        ",""]
[null,null,null,null,null,null,null,"0401BPPMBP..1","3200700120     ","BP11-1B        ",""]
[null,null,null,null,null,null,null,"0401BPPMBP..2","3200700120     ","BP11-2         ",""]
[null,null,null,null,null,null,null,"0401BPPMBP..2","3116900026     ","BP11-20        ",""]
[null,null,null,null,null,null,null,"0401BPPMBP..2","3132800027     ","BP11-21        ",""]
[null,null,null,null,null,null,null,"0401BPPMBP..2","3132800027     ","BP11-22        ",""]
[null,null,null,null,null,null,null,"0401BPPMBP..1","3029700023     ","BP11-23        ",""]
[null,null,null,null,null,null,null,"0401BPPMBP..1","3016400026     ","BP11-25        ",""]
[null,null,null,null,null,null,null,"0401BPPMBP..2","3016400026     ","BP11-26        ",""]
[null,null,null,null,null,null,null,"0401BPPMBP..1","3016400026     ","BP11-27        ",""]
[null,null,null,null,null,null,null,"0401BPPMBP..2","3016400026     ","BP11-28        ",""]
[null,null,null,null,null,null,null,"0401BPPMBP..1","3035900026     ","BP11-29        ",""]
[null,null,null,null,null,null,null,"0401BPPMBP..1","3176700025     ","BP11-3         ",""]
[null,null,null,null,null,null,null,"0401BPPMBP..1","3176700025     ","BP11-31        ",""]
[null,null,null,null,null,null,null,"0401BPPMBP..1","3176700025     ","BP11-32        ",""]
[null,null,null,null,null,null,null,"0401BPPMBP..2","3176700025     ","BP11-33        ",""]
[null,null,null,null,null,null,null,"0401BPPMBP..2","3176700025     ","BP11-34        ",""]
[null,null,null,null,null,null,null,"0401BPPMBP..1","3020400021     ","BP11-35        ",""]
[null,null,null,null,null,null,null,"0401BPPMBP..2","3020400021     ","BP11-36        ",""]
[null,null,null,null,null,null,null,"0401BPPMBP..1","3176700025     ","BP11-37        ",""]
[null,null,null,null,null,null,null,"0401BPPMBP..1","3016400026     ","BP11-39        ",""]
[null,null,null,null,null,null,null,"0401BPPMBP..1","3016400026     ","BP11-39A       ",""]
[null,null,null,null,null,null,null,"0401BPPMBP..1","3176700025     ","BP11-4         ",""]
[null,null,null,null,null,null,null,"0401BPPMBP..1","3016400026     ","BP11-40        ",""]
[null,null,null,null,null,null,null,"0401BPPMBP..1","3016400026     ","BP11-40A       ",""]
[null,null,null,null,null,null,null,"0401BPPMBP..2","3016400026     ","BP11-41        ",""]
[null,null,null,null,null,null,null,"0401BPPMBP..2","3016400026     ","BP11-42        ",""]
[null,null,null,null,null,null,null,"0401BPPMBP..1","3016400026     ","BP11-43        ",""]
[null,null,null,null,null,null,null,"0401BPPMBP..1","3016400026     ","BP11-43A       ",""]
[null,null,null,null,null,null,null,"0401BPPMBP..1","3016400026     ","BP11-44        ",""]
[null,null,null,null,null,null,null,"0401BPPMBP..2","3016400026     ","BP11-45        ",{"$f":"IF(H385=$H$60, IF(I385=$I$60, J385,\"\"),\"\")","v":""}]
[null,null,null,null,null,null,null,"0401BPPMBP..2","3016400026     ","BP11-45A       ",""]
[null,null,null,null,null,null,null,"0401BPPMBP..2","3016400026     ","BP11-46        ",""]
[null,null,null,null,null,null,null,"0401BPPMBP..2","3016400026     ","BP11-46A       ",""]
[null,null,null,null,null,null,null,"0401BPPMBP..2","3200700120     ","BP11-48        ",""]
[null,null,null,null,null,null,null,"0401BPPMBP..1","3176700025     ","BP11-49        ",""]
[null,null,null,null,null,null,null,"0401BPPMBP..1","3176700025     ","BP11-49A       ",""]
[null,null,null,null,null,null,null,"0401BPPMBP..1","3116900026     ","BP11-5         ",""]
[null,null,null,null,null,null,null,"0401BPPMBP..1","3200700120     ","BP11-50        ",""]
[null,null,null,null,null,null,null,"0401BPPMBP..1","3200700120     ","BP11-50A       ",""]
[null,null,null,null,null,null,null,"0401BPPMBP..1","3116900026     ","BP11-54        ",""]
[null,null,null,null,null,null,null,"0401BPPMBP..1","40070IAS35     ","BP11-55        ",""]
[null,null,null,null,null,null,null,"0401BPPMBP..1","3176700025     ","BP11-55A       ",""]
[null,null,null,null,null,null,null,"0401BPPMBP..1","3008600023     ","BP11-57        ",""]
[null,null,null,null,null,null,null,"0401BPPMBP..1","3008600023     ","BP11-57A       ",""]
[null,null,null,null,null,null,null,"0401BPPMBP..1","3035900026     ","BP11-58        ",""]
[null,null,null,null,null,null,null,"0401BPPMBP..1","3035900026     ","BP11-58A       ",""]
[null,null,null,null,null,null,null,"0401BPPMBP..1","3035900026     ","BP11-58B       ",""]
[null,null,null,null,null,null,null,"0401BPPMBP..2","3020400021     ","BP11-59        ",""]
[null,null,null,null,null,null,null,"0401BPPMBP..1","3116900026     ","BP11-5A        ",""]
[null,null,null,null,null,null,null,"0401BPPMBP..1","3116900026     ","BP11-5B        ",""]
[null,null,null,null,null,null,null,"0401BPPMBP..1","3020400021     ","BP11-6         ",""]
[null,null,null,null,null,null,null,"0401BPPMBP..1","3176700025     ","BP11-60        ",""]
[null,null,null,null,null,null,null,"0401BPPMBP..1","3298500021     ","BP11-61        ",""]
[null,null,null,null,null,null,null,"0401BPPMBP..2","3176700025     ","BP11-62        ",""]
[null,null,null,null,null,null,null,"0401BPPMBP..2","3176700025     ","BP11-63        ",""]
[null,null,null,null,null,null,null,"0401BPPMBP..1","3176700025     ","BP11-64        ",""]
[null,null,null,null,null,null,null,"0401BPPMBP..3","3298500021     ","BP11-65        ",""]
[null,null,null,null,null,null,null,"0401BPPMBP..1","3116900026     ","BP11-66        ",""]
[null,null,null,null,null,null,null,"0401BPPMBP..1","3116900026     ","BP11-66A       ",""]
[null,null,null,null,null,null,null,"0401BPPMBP..2","3176700025     ","BP11-67        ",""]
[null,null,null,null,null,null,null,"0401BPPMBP..2","3176700025     ","BP11-67A       ",""]
[null,null,null,null,null,null,null,"0401BPPMBP..1","3008600023     ","BP11-68        ",""]
[null,null,null,null,null,null,null,"0401BPPMBP..1","3008600023     ","BP11-68A       ",""]
[null,null,null,null,null,null,null,"0401BPPMBP..2","3200700120     ","BP11-69        ",""]
[null,null,null,null,null,null,null,"0401BPPMBP..2","3200700120     ","BP11-69A       ",""]
[null,null,null,null,null,null,null,"0401BPPMBP..1","3020400021     ","BP11-7         ",""]
[null,null,null,null,null,null,null,"0401BPPMBP..1","3035900026     ","BP11-70        ",""]
[null,null,null,null,null,null,null,"0401BPPMBP..1","3035900026     ","BP11-70A       ",""]
[null,null,null,null,null,null,null,"0401BPPMBP..2","3035900026     ","BP11-71        ",""]
[null,null,null,null,null,null,null,"0401BPPMBP..2","3035900026     ","BP11-71A       ",""]
[null,null,null,null,null,null,null,"0401BPPMBP..3","3008600023     ","BP11-72        ",""]
[null,null,null,null,null,null,null,"0401BPPMBP..1","3176700025     ","BP11-73        ",""]
[null,null,null,null,null,null,null,"0401BPPMBP..2","3008600023     ","BP11-74        ",""]
[null,null,null,null,null,null,null,"0401BPPMBP..2","3008600023     ","BP11-74A       ",""]
[null,null,null,null,null,null,null,"0401BPPMBP..2","3027400028     ","BP11-75        ",""]
[null,null,null,null,null,null,null,"0401BPPMBP..1","3035900026     ","BP11-76        ",""]
[null,null,null,null,null,null,null,"0401BPPMBP..2","3035900026     ","BP11-77        ",""]
[null,null,null,null,null,null,null,"0401BPPMBP..2","3116900026     ","BP11-78        ",""]
[null,null,null,null,null,null,null,"0401BPPMBP..2","3116900026     ","BP11-78A       ",""]
[null,null,null,null,null,null,null,"0401BPPMBP..2","3050100028     ","BP11-79        ",""]
[null,null,null,null,null,null,null,"0401BPPMBP..2","3176700025     ","BP11-8         ",""]
[null,null,null,null,null,null,null,"0401BPPMBP..2","3029700023     ","BP11-80        ",""]
[null,null,null,null,null,null,null,"0401BPPMBP..2","3029700023     ","BP11-81        ",""]
[null,null,null,null,null,null,null,"0401BPPMBP..1","3176700025     ","BP11-82        ",""]
[null,null,null,null,null,null,null,"0401BPPMBP..2","3027000020     ","BP11-83        ",""]
[null,null,null,null,null,null,null,"0401BPPMBP..1","3176700025     ","BP11-84        ",""]
[null,null,null,null,null,null,null,"0401BPPMBP..1","3020400021     ","BP11-85        ",""]
[null,null,null,null,null,null,null,"0401BPPMBP..1","3176700025     ","BP11-86        ",""]
[null,null,null,null,null,null,null,"0401BPPMBP..2","3176700025     ","BP11-87        ",""]
[null,null,null,null,null,null,null,"0401BPPMBP..2","3176700025     ","BP11-87A       ",""]
[null,null,null,null,null,null,null,"0401BPPMBP..1","3241300220     ","BP11-88        ",""]
[null,null,null,null,null,null,null,"0401BPPMBP..2","3241300220     ","BP11-89        ",""]
[null,null,null,null,null,null,null,"0401BPPMBP..2","3176700025     ","BP11-9         ",""]
[null,null,null,null,null,null,null,"0401BPPMBP..2","3008600023     ","BP11-91        ",{"$f":"IF(H449=$H$60, IF(I449=$I$60, J449,\"\"),\"\")","v":""}]
[null,null,null,null,null,null,null,"0401BPPMBP..2","3200700120     ","BP11-92        ",""]
[null,null,null,null,null,null,null,"0401BPPMBP..1","3200700120     ","BP11-93        ",""]
[null,null,null,null,null,null,null,"0401BPPMBP..2","3027400028     ","BP11-94        ",""]
[null,null,null,null,null,null,null,"0401BPPMBP..1","3200700120     ","BP11-95        ",""]
[null,null,null,null,null,null,null,"0401BPPMBP..1","3200700120     ","BP11-95A       ",""]
[null,null,null,null,null,null,null,"0401BPPMBP..2","3035900026     ","BP11-96        ",""]
[null,null,null,null,null,null,null,"0401BPPMBP..2","3021500027     ","BP11-97        ",""]
[null,null,null,null,null,null,null,"0401BPPMBP..2","3021500027     ","BP11-97A       ",""]
[null,null,null,null,null,null,null,"0401BPPMBP..2","3021500027     ","BP11-97B       ",""]
[null,null,null,null,null,null,null,"0401BPPMBP..1","3176700025     ","BP11-98        ",""]
[null,null,null,null,null,null,null,"0401BPPMBP..1","3008600023     ","BP11-99        ",""]
[null,null,null,null,null,null,null,"0401BPPMBP..2","3035900026     ","BP12-1         ",""]
[null,null,null,null,null,null,null,"0401BPPMBP..2","3176700025     ","BP12-10        ",""]
[null,null,null,null,null,null,null,"0401BPPMBP..1","3027000020     ","BP12-100       ",""]
[null,null,null,null,null,null,null,"0401BPPMBP..1","3008600023     ","BP12-101       ",""]
[null,null,null,null,null,null,null,"0401BPPMBP..1","3057100025     ","BP12-102       ",""]
[null,null,null,null,null,null,null,"0401BPPMBP..3","3176700025     ","BP12-103       ",""]
[null,null,null,null,null,null,null,"0401BPPMBP..2","3116900026     ","BP12-104       ",""]
[null,null,null,null,null,null,null,"0401BPPMBP..2","3027400028     ","BP12-105       ",""]
[null,null,null,null,null,null,null,"0401BPPMBP..2","3116900026     ","BP12-106       ",""]
[null,null,null,null,null,null,null,"0401BPPMBP..2","3116900026     ","BP12-106A      ",""]
[null,null,null,null,null,null,null,"0401BPPMBP..1","3176700025     ","BP12-107       ",""]
[null,null,null,null,null,null,null,"0401BPPMBP..2","3176700025     ","BP12-108       ",""]
[null,null,null,null,null,null,null,"0401BPPMBP..1","3027000020     ","BP12-109       ",""]
[null,null,null,null,null,null,null,"0401BPPMBP..1","3176700025     ","BP12-11        ",""]
[null,null,null,null,null,null,null,"0401BPPMBP..2","3027000020     ","BP12-110       ",""]
[null,null,null,null,null,null,null,"0401BPPMBP..2","3027000020     ","BP12-111       ",""]
[null,null,null,null,null,null,null,"0401BPPMBP..1","3176700025     ","BP12-112       ",""]
[null,null,null,null,null,null,null,"0401BPPMBP..1","3176700025     ","BP12-112A      ",""]
[null,null,null,null,null,null,null,"0401BPPMBP..3","3062100021     ","BP12-113       ",""]
[null,null,null,null,null,null,null,"0401BPPMBP..1","3035900026     ","BP12-114       ",""]
[null,null,null,null,null,null,null,"0401BPPMBP..1","3062100021     ","BP12-115       ",""]
[null,null,null,null,null,null,null,"0401BPPMBP..1","3176700025     ","BP12-116       ",""]
[null,null,null,null,null,null,null,"0401BPPMBP..1","3176700025     ","BP12-116A      ",""]
[null,null,null,null,null,null,null,"0401BPPMBP..2","3132800027     ","BP12-117       ",""]
[null,null,null,null,null,null,null,"0401BPPMBP..2","3176700025     ","BP12-118       ",""]
[null,null,null,null,null,null,null,"0401BPPMBP..2","3027400028     ","BP12-119       ",""]
[null,null,null,null,null,null,null,"0401BPPMBP..1","3016400026     ","BP12-12        ",""]
[null,null,null,null,null,null,null,"0401BPPMBP..2","3035900026     ","BP12-120       ",""]
[null,null,null,null,null,null,null,"0401BPPMBP..2","3035900026     ","BP12-121       ",""]
[null,null,null,null,null,null,null,"0401BPPMBP..1","3029700023     ","BP12-122       ",""]
[null,null,null,null,null,null,null,"0401BPPMBP..2","3132800027     ","BP12-123       ",""]
[null,null,null,null,null,null,null,"0401BPPMBP..1","3056900024     ","BP12-124       ",""]
[null,null,null,null,null,null,null,"0401BPPMBP..2","3050100028     ","BP12-125       ",""]
[null,null,null,null,null,null,null,"0401BPPMBP..1","3176700025     ","BP12-126       ",""]
[null,null,null,null,null,null,null,"0401BPPMBP..2","3020400021     ","BP12-127       ",""]
[null,null,null,null,null,null,null,"0401BPPMBP..2","3008600023     ","BP12-128       ",""]
[null,null,null,null,null,null,null,"0401BPPMBP..1","3176700025     ","BP12-129       ",""]
[null,null,null,null,null,null,null,"0401BPPMBP..1","3016400026     ","BP12-12A       ",""]
[null,null,null,null,null,null,null,"0401BPPMBP..2","3016400026     ","BP12-13        ",""]
[null,null,null,null,null,null,null,"0401BPPMBP..2","3176700025     ","BP12-130       ",""]
[null,null,null,null,null,null,null,"0401BPPMBP..2","3176700025     ","BP12-131       ",""]
[null,null,null,null,null,null,null,"0401BPPMBP..1","3197300125     ","BP12-132       ",""]
[null,null,null,null,null,null,null,"0401BPPMBP..1","3056900024     ","BP12-133       ",""]
[null,null,null,null,null,null,null,"0401BPPMBP..2","3008600023     ","BP12-134       ",""]
[null,null,null,null,null,null,null,"0401BPPMBP..1","3008600023     ","BP12-135       ",""]
[null,null,null,null,null,null,null,"0401BPPMBP..2","3021500027     ","BP12-136       ",""]
[null,null,null,null,null,null,null,"0401BPPMBP..1","3132800027     ","BP12-137       ",""]
[null,null,null,null,null,null,null,"0401BPPMBP..2","3035900026     ","BP12-138       ",""]
[null,null,null,null,null,null,null,"0401BPPMBP..1","3008600023     ","BP12-139       ",""]
[null,null,null,null,null,null,null,"0401BPPMBP..2","3132800027     ","BP12-14        ",""]
[null,null,null,null,null,null,null,"0401BPPMBP..1","3176700025     ","BP12-140       ",""]
[null,null,null,null,null,null,null,"0401BPPMBP..1","3021500027     ","BP12-141       ",""]
[null,null,null,null,null,null,null,"0401BPPMBP..1","3200700120     ","BP12-142       ",{"$f":"IF(H513=$H$60, IF(I513=$I$60, J513,\"\"),\"\")","v":""}]
[null,null,null,null,null,null,null,"0401BPPMBP..3","3008600023     ","BP12-143       ",""]
[null,null,null,null,null,null,null,"0401BPPMBP..2","3176700025     ","BP12-144       ",""]
[null,null,null,null,null,null,null,"0401BPPMBP..1","3027400028     ","BP12-145       ",""]
[null,null,null,null,null,null,null,"0401BPPMBP..2","3027400028     ","BP12-146       ",""]
[null,null,null,null,null,null,null,"0401BPPMBP..2","3298500021     ","BP12-147       ",""]
[null,null,null,null,null,null,null,"0401BPPMBP..1","3048700023     ","BP12-148       ",""]
[null,null,null,null,null,null,null,"0401BPPMBP..1","3008600023     ","BP12-149       ",""]
[null,null,null,null,null,null,null,"0401BPPMBP..1","3035900026     ","BP12-15        ",""]
[null,null,null,null,null,null,null,"0401BPPMBP..2","3298500021     ","BP12-150       ",""]
[null,null,null,null,null,null,null,"0401BPPMBP..1","3035900026     ","BP12-151       ",""]
[null,null,null,null,null,null,null,"0401BPPMBP..1","3116900026     ","BP12-152       ",""]
[null,null,null,null,null,null,null,"0401BPPMBP..2","3008600023     ","BP12-153       ",""]
[null,null,null,null,null,null,null,"0401BPPMBP..2","3021500027     ","BP12-154       ",""]
[null,null,null,null,null,null,null,"0401BPPMBP..1","3057100025     ","BP12-155       ",""]
[null,null,null,null,null,null,null,"0401BPPMBP..2","3200700120     ","BP12-156       ",""]
[null,null,null,null,null,null,null,"0401BPPMBP..2","3200700120     ","BP12-157       ",""]
[null,null,null,null,null,null,null,"0401BPPMBP..2","3057100025     ","BP12-158       ",""]
[null,null,null,null,null,null,null,"0401BPPMBP..2","3056900024     ","BP12-159       ",""]
[null,null,null,null,null,null,null,"0401BPPMBP..2","3035900026     ","BP12-16        ",""]
[null,null,null,null,null,null,null,"0401BPPMBP..1","3176700025     ","BP12-160       ",""]
[null,null,null,null,null,null,null,"0401BPPMBP..1","3050100028     ","BP12-161       ",""]
[null,null,null,null,null,null,null,"0401BPPMBP..1","3035900026     ","BP12-17        ",""]
[null,null,null,null,null,null,null,"0401BPPMBP..2","3035900026     ","BP12-18        ",""]
[null,null,null,null,null,null,null,"0401BPPMBP..1","3035900026     ","BP12-19        ",""]
[null,null,null,null,null,null,null,"0401BPPMBP..1","3035900026     ","BP12-2         ",""]
[null,null,null,null,null,null,null,"0401BPPMBP..2","3035900026     ","BP12-20        ",""]
[null,null,null,null,null,null,null,"0401BPPMBP..1","3035900026     ","BP12-21        ",""]
[null,null,null,null,null,null,null,"0401BPPMBP..2","3035900026     ","BP12-22        ",""]
[null,null,null,null,null,null,null,"0401BPPMBP..2","3027400028     ","BP12-23        ",""]
[null,null,null,null,null,null,null,"0401BPPMBP..1","3016501056     ","BP12-24        ",""]
[null,null,null,null,null,null,null,"0401BPPMBP..1","3016501056     ","BP12-24A       ",""]
[null,null,null,null,null,null,null,"0401BPPMBP..1","3016501056     ","BP12-24C       ",""]
[null,null,null,null,null,null,null,"0401BPPMBP..1","3016501056     ","BP12-25        ",""]
[null,null,null,null,null,null,null,"0401BPPMBP..1","3016501056     ","BP12-25A       ",""]
[null,null,null,null,null,null,null,"0401BPPMBP..1","3016501056     ","BP12-25B       ",""]
[null,null,null,null,null,null,null,"0401BPPMBP..2","3016501056     ","BP12-26        ",""]
[null,null,null,null,null,null,null,"0401BPPMBP..2","3016501056     ","BP12-26A       ",""]
[null,null,null,null,null,null,null,"0401BPPMBP..2","3016501056     ","BP12-27        ",""]
[null,null,null,null,null,null,null,"0401BPPMBP..2","3016501056     ","BP12-27A       ",""]
[null,null,null,null,null,null,null,"0401BPPMBP..1","3016400026     ","BP12-28        ",""]
[null,null,null,null,null,null,null,"0401BPPMBP..1","3016400026     ","BP12-28A       ",""]
[null,null,null,null,null,null,null,"0401BPPMBP..1","3016400026     ","BP12-28B       ",""]
[null,null,null,null,null,null,null,"0401BPPMBP..1","3016400026     ","BP12-29        ",""]
[null,null,null,null,null,null,null,"0401BPPMBP..1","3016400026     ","BP12-29A       ",""]
[null,null,null,null,null,null,null,"0401BPPMBP..1","3016400026     ","BP12-29B       ",""]
[null,null,null,null,null,null,null,"0401BPPMBP..1","3035900026     ","BP12-3         ",""]
[null,null,null,null,null,null,null,"0401BPPMBP..2","3016400026     ","BP12-30        ",""]
[null,null,null,null,null,null,null,"0401BPPMBP..2","3016400026     ","BP12-31        ",""]
[null,null,null,null,null,null,null,"0401BPPMBP..2","3027400028     ","BP12-32        ",""]
[null,null,null,null,null,null,null,"0401BPPMBP..2","3176700025     ","BP12-33        ",""]
[null,null,null,null,null,null,null,"0401BPPMBP..1","3048700023     ","BP12-35        ",""]
[null,null,null,null,null,null,null,"0401BPPMBP..1","3048700023     ","BP12-35A       ",""]
[null,null,null,null,null,null,null,"0401BPPMBP..1","3035900026     ","BP12-36        ",""]
[null,null,null,null,null,null,null,"0401BPPMBP..2","3035900026     ","BP12-37        ",""]
[null,null,null,null,null,null,null,"0401BPPMBP..1","3035900026     ","BP12-38        ",""]
[null,null,null,null,null,null,null,"0401BPPMBP..2","3035900026     ","BP12-39        ",""]
[null,null,null,null,null,null,null,"0401BPPMBP..1","3298500021     ","BP12-4         ",""]
[null,null,null,null,null,null,null,"0401BPPMBP..2","3176700025     ","BP12-40        ",""]
[null,null,null,null,null,null,null,"0401BPPMBP..1","3042400316     ","BP12-41        ",""]
[null,null,null,null,null,null,null,"0401BPPMBP..1","3176700025     ","BP12-42        ",""]
[null,null,null,null,null,null,null,"0401BPPMBP..3","3048700023     ","BP12-43        ",""]
[null,null,null,null,null,null,null,"0401BPPMBP..3","3048700023     ","BP12-43A       ",""]
[null,null,null,null,null,null,null,"0401BPPMBP..1","3200700120     ","BP12-44        ",""]
[null,null,null,null,null,null,null,"0401BPPMBP..2","3200700120     ","BP12-45        ",{"$f":"IF(H577=$H$60, IF(I577=$I$60, J577,\"\"),\"\")","v":""}]
[null,null,null,null,null,null,null,"0401BPPMBP..1","3116901059     ","BP12-46        ",""]
[null,null,null,null,null,null,null,"0401BPPMBP..2","3176700025     ","BP12-47        ",""]
[null,null,null,null,null,null,null,"0401BPPMBP..1","3176700025     ","BP12-48        ",""]
[null,null,null,null,null,null,null,"0401BPPMBP..2","3176700025     ","BP12-49        ",""]
[null,null,null,null,null,null,null,"0401BPPMBP..2","3298500021     ","BP12-5         ",""]
[null,null,null,null,null,null,null,"0401BPPMBP..1","3176700025     ","BP12-50        ",""]
[null,null,null,null,null,null,null,"0401BPPMBP..1","3035900026     ","BP12-51        ",""]
[null,null,null,null,null,null,null,"0401BPPMBP..1","3035900026     ","BP12-52        ",""]
[null,null,null,null,null,null,null,"0401BPPMBP..2","3027400028     ","BP12-53        ",""]
[null,null,null,null,null,null,null,"0401BPPMBP..2","3132800027     ","BP12-54        ",""]
[null,null,null,null,null,null,null,"0401BPPMBP..2","3132800027     ","BP12-54A       ",""]
[null,null,null,null,null,null,null,"0401BPPMBP..1","3016501056     ","BP12-55        ",""]
[null,null,null,null,null,null,null,"0401BPPMBP..2","3016501056     ","BP12-56        ",""]
[null,null,null,null,null,null,null,"0401BPPMBP..2","3200700120     ","BP12-57        ",""]
[null,null,null,null,null,null,null,"0401BPPMBP..2","3176700025     ","BP12-58        ",""]
[null,null,null,null,null,null,null,"0401BPPMBP..2","3176700025     ","BP12-58A       ",""]
[null,null,null,null,null,null,null,"0401BPPMBP..2","3176700025     ","BP12-59        ",""]
[null,null,null,null,null,null,null,"0401BPPMBP..2","3176700025     ","BP12-59A       ",""]
[null,null,null,null,null,null,null,"0401BPPMBP..2","3176700025     ","BP12-59B       ",""]
[null,null,null,null,null,null,null,"0401BPPMBP..1","3035900026     ","BP12-6         ",""]
[null,null,null,null,null,null,null,"0401BPPMBP..2","3176704614     ","BP12-60        ",""]
[null,null,null,null,null,null,null,"0401BPPMBP..1","3008600023     ","BP12-61        ",""]
[null,null,null,null,null,null,null,"0401BPPMBP..1","3057100025     ","BP12-62        ",""]
[null,null,null,null,null,null,null,"0401BPPMBP..2","3029700023     ","BP12-63        ",""]
[null,null,null,null,null,null,null,"0401BPPMBP..2","3029700023     ","BP12-64        ",""]
[null,null,null,null,null,null,null,"0401BPPMBP..1","3116900026     ","BP12-65        ",""]
[null,null,null,null,null,null,null,"0401BPPMBP..1","3116900026     ","BP12-65A       ",""]
[null,null,null,null,null,null,null,"0401BPPMBP..1","3116900026     ","BP12-66        ",""]
[null,null,null,null,null,null,null,"0401BPPMBP..1","3016400026     ","BP12-67        ",""]
[null,null,null,null,null,null,null,"0401BPPMBP..2","3016400026     ","BP12-68        ",""]
[null,null,null,null,null,null,null,"0401BPPMBP..2","3116900026     ","BP12-69        ",""]
[null,null,null,null,null,null,null,"0401BPPMBP..2","3035900026     ","BP12-7         ",""]
[null,null,null,null,null,null,null,"0401BPPMBP..1","3016400026     ","BP12-70        ",""]
[null,null,null,null,null,null,null,"0401BPPMBP..1","3016400026     ","BP12-71        ",""]
[null,null,null,null,null,null,null,"0401BPPMBP..2","3016400026     ","BP12-72        ",""]
[null,null,null,null,null,null,null,"0401BPPMBP..2","3016400026     ","BP12-73        ",""]
[null,null,null,null,null,null,null,"0401BPPMBP..1","3402400125     ","BP12-74        ",""]
[null,null,null,null,null,null,null,"0401BPPMBP..1","3402400125     ","BP12-74A       ",""]
[null,null,null,null,null,null,null,"0401BPPMBP..2","3402400125     ","BP12-75        ",""]
[null,null,null,null,null,null,null,"0401BPPMBP..2","3200700120     ","BP12-76        ",""]
[null,null,null,null,null,null,null,"0401BPPMBP..1","3200700120     ","BP12-77        ",""]
[null,null,null,null,null,null,null,"0401BPPMBP..1","3020400021     ","BP12-78        ",""]
[null,null,null,null,null,null,null,"0401BPPMBP..1","3056900024     ","BP12-79        ",""]
[null,null,null,null,null,null,null,"0401BPPMBP..1","3056900024     ","BP12-79A       ",""]
[null,null,null,null,null,null,null,"0401BPPMBP..2","3298500021     ","BP12-8         ",""]
[null,null,null,null,null,null,null,"0401BPPMBP..1","3056900024     ","BP12-80        ",""]
[null,null,null,null,null,null,null,"0401BPPMBP..2","3176700025     ","BP12-81        ",""]
[null,null,null,null,null,null,null,"0401BPPMBP..2","3176700025     ","BP12-81A       ",""]
[null,null,null,null,null,null,null,"0401BPPMBP..3","3035900026     ","BP12-82        ",""]
[null,null,null,null,null,null,null,"0401BPPMBP..1","3035900026     ","BP12-83        ",""]
[null,null,null,null,null,null,null,"0401BPPMBP..2","3176700025     ","BP12-84        ",""]
[null,null,null,null,null,null,null,"0401BPPMBP..1","3402400125     ","BP12-85        ",""]
[null,null,null,null,null,null,null,"0401BPPMBP..2","3200700120     ","BP12-86        ",""]
[null,null,null,null,null,null,null,"0401BPPMBP..1","3008600023     ","BP12-87        ",""]
[null,null,null,null,null,null,null,"0401BPPMBP..1","3057100025     ","BP12-88        ",""]
[null,null,null,null,null,null,null,"0401BPPMBP..2","3200700120     ","BP12-89        ",""]
[null,null,null,null,null,null,null,"0401BPPMBP..2","3200700120     ","BP12-89A       ",""]
[null,null,null,null,null,null,null,"0401BPPMBP..2","3298500021     ","BP12-8A        ",""]
[null,null,null,null,null,null,null,"0401BPPMBP..1","3298500021     ","BP12-9         ",""]
[null,null,null,null,null,null,null,"0401BPPMBP..1","3200700120     ","BP12-90        ",""]
[null,null,null,null,null,null,null,"0401BPPMBP..2","3057100025     ","BP12-91        ",""]
[null,null,null,null,null,null,null,"0401BPPMBP..1","3057100025     ","BP12-92        ",""]
[null,null,null,null,null,null,null,"0401BPPMBP..1","3057100025     ","BP12-93        ",""]
[null,null,null,null,null,null,null,"0401BPPMBP..2","3057100025     ","BP12-94        ",{"$f":"IF(H641=$H$60, IF(I641=$I$60, J641,\"\"),\"\")","v":""}]
[null,null,null,null,null,null,null,"0401BPPMBP..1","3008600023     ","BP12-95        ",""]
[null,null,null,null,null,null,null,"0401BPPMBP..1","3176700025     ","BP12-96        ",""]
[null,null,null,null,null,null,null,"0401BPPMBP..1","3176700025     ","BP12-96A       ",""]
[null,null,null,null,null,null,null,"0401BPPMBP..1","3176700025     ","BP12-97        ",""]
[null,null,null,null,null,null,null,"0401BPPMBP..2","3176700025     ","BP12-98        ",""]
[null,null,null,null,null,null,null,"0401BPPMBP..1","3027000020     ","BP12-99        ",""]
[null,null,null,null,null,null,null,"0401BPPMBP..1","3027000020     ","BP12-99A       ",""]
[null,null,null,null,null,null,null,"0401BPPMBP..1","3035900026     ","BP13-1         ",""]
[null,null,null,null,null,null,null,"0401BPPMBP..1","3261500026     ","BP13-10        ",""]
[null,null,null,null,null,null,null,"0401BPPMBP..2","3241300220     ","BP13-100       ",""]
[null,null,null,null,null,null,null,"0401BPPMBP..1","3176700025     ","BP13-101       ",""]
[null,null,null,null,null,null,null,"0401BPPMBP..2","3197300125     ","BP13-102       ",""]
[null,null,null,null,null,null,null,"0401BPPMBP..2","3029700023     ","BP13-103       ",""]
[null,null,null,null,null,null,null,"0401BPPMBP..2","3029700023     ","BP13-103A      ",""]
[null,null,null,null,null,null,null,"0401BPPMBP..2","3008600023     ","BP13-104       ",""]
[null,null,null,null,null,null,null,"0401BPPMBP..2","3029700023     ","BP13-105       ",""]
[null,null,null,null,null,null,null,"0401BPPMBP..1","3048700023     ","BP13-106       ",""]
[null,null,null,null,null,null,null,"0401BPPMBP..1","3008600023     ","BP13-107       ",""]
[null,null,null,null,null,null,null,"0401BPPMBP..1","3008600023     ","BP13-108       ",""]
[null,null,null,null,null,null,null,"0401BPPMBP..2","3008600023     ","BP13-109       ",""]
[null,null,null,null,null,null,null,"0401BPPMBP..1","3035900026     ","BP13-11        ",""]
[null,null,null,null,null,null,null,"0401BPPMBP..1","3008600023     ","BP13-110       ",""]
[null,null,null,null,null,null,null,"0401BPPMBP..1","3008600023     ","BP13-110A      ",""]
[null,null,null,null,null,null,null,"0401BPPMBP..2","3008600023     ","BP13-111       ",""]
[null,null,null,null,null,null,null,"0401BPPMBP..1","3176700025     ","BP13-112       ",""]
[null,null,null,null,null,null,null,"0401BPPMBP..1","3035900026     ","BP13-113       ",""]
[null,null,null,null,null,null,null,"0401BPPMBP..2","3008600023     ","BP13-114       ",""]
[null,null,null,null,null,null,null,"0401BPPMBP..1","3048700023     ","BP13-115       ",""]
[null,null,null,null,null,null,null,"0401BPPMBP..1","3042400326     ","BP13-116       ",""]
[null,null,null,null,null,null,null,"0401BPPMBP..1","3027400028     ","BP13-117       ",""]
[null,null,null,null,null,null,null,"0401BPPMBP..1","3008600023     ","BP13-118       ",""]
[null,null,null,null,null,null,null,"0401BPPMBP..1","3027400028     ","BP13-119       ",""]
[null,null,null,null,null,null,null,"0401BPPMBP..1","3035900026     ","BP13-12        ",""]
[null,null,null,null,null,null,null,"0401BPPMBP..1","3008600023     ","BP13-120       ",""]
[null,null,null,null,null,null,null,"0401BPPMBP..2","3008600023     ","BP13-121       ",""]
[null,null,null,null,null,null,null,"0401BPPMBP..1","3057100025     ","BP13-122       ",""]
[null,null,null,null,null,null,null,"0401BPPMBP..1","3016400026     ","BP13-123       ",""]
[null,null,null,null,null,null,null,"0401BPPMBP..2","3035900026     ","BP13-13        ",""]
[null,null,null,null,null,null,null,"0401BPPMBP..2","3035900026     ","BP13-14        ",""]
[null,null,null,null,null,null,null,"0401BPPMBP..1","3176700025     ","BP13-15        ",""]
[null,null,null,null,null,null,null,"0401BPPMBP..2","3176700025     ","BP13-16        ",""]
[null,null,null,null,null,null,null,"0401BPPMBP..1","3008600023     ","BP13-17        ",""]
[null,null,null,null,null,null,null,"0401BPPMBP..1","3008600023     ","BP13-18        ",""]
[null,null,null,null,null,null,null,"0401BPPMBP..1","3200700120     ","BP13-19        ",""]
[null,null,null,null,null,null,null,"0401BPPMBP..1","3200700120     ","BP13-19A       ",""]
[null,null,null,null,null,null,null,"0401BPPMBP..1","3016400026     ","BP13-2         ",""]
[null,null,null,null,null,null,null,"0401BPPMBP..1","3176700025     ","BP13-20        ",""]
[null,null,null,null,null,null,null,"0401BPPMBP..2","3176700025     ","BP13-21        ",""]
[null,null,null,null,null,null,null,"0401BPPMBP..1","3176700025     ","BP13-22        ",""]
[null,null,null,null,null,null,null,"0401BPPMBP..2","3176700025     ","BP13-23        ",""]
[null,null,null,null,null,null,null,"0401BPPMBP..1","3029700023     ","BP13-24        ",""]
[null,null,null,null,null,null,null,"0401BPPMBP..2","3029700023     ","BP13-25        ",""]
[null,null,null,null,null,null,null,"0401BPPMBP..1","3035900026     ","BP13-26        ",""]
[null,null,null,null,null,null,null,"0401BPPMBP..2","3035900026     ","BP13-27        ",""]
[null,null,null,null,null,null,null,"0401BPPMBP..2","3008600023     ","BP13-28        ",""]
[null,null,null,null,null,null,null,"0401BPPMBP..1","3176700025     ","BP13-29        ",""]
[null,null,null,null,null,null,null,"0401BPPMBP..1","3016400026     ","BP13-2A        ",""]
[null,null,null,null,null,null,null,"0401BPPMBP..2","3016400026     ","BP13-3         ",""]
[null,null,null,null,null,null,null,"0401BPPMBP..3","3035900026     ","BP13-30        ",""]
[null,null,null,null,null,null,null,"0401BPPMBP..2","3176700025     ","BP13-31        ",""]
[null,null,null,null,null,null,null,"0401BPPMBP..2","3048700023     ","BP13-32        ",""]
[null,null,null,null,null,null,null,"0401BPPMBP..1","3008600023     ","BP13-33        ",""]
[null,null,null,null,null,null,null,"0401BPPMBP..1","3035900026     ","BP13-34        ",""]
[null,null,null,null,null,null,null,"0401BPPMBP..2","3035900026     ","BP13-35        ",{"$f":"IF(H705=$H$60, IF(I705=$I$60, J705,\"\"),\"\")","v":""}]
[null,null,null,null,null,null,null,"0401BPPMBP..1","3035900026     ","BP13-36        ",""]
[null,null,null,null,null,null,null,"0401BPPMBP..2","3035900026     ","BP13-37        ",""]
[null,null,null,null,null,null,null,"0401BPPMBP..1","3035900026     ","BP13-4         ",""]
[null,null,null,null,null,null,null,"0401BPPMBP..2","3029700023     ","BP13-40        ",""]
[null,null,null,null,null,null,null,"0401BPPMBP..2","3027400028     ","BP13-41        ",""]
[null,null,null,null,null,null,null,"0401BPPMBP..1","3016400026     ","BP13-42        ",""]
[null,null,null,null,null,null,null,"0401BPPMBP..2","3016400026     ","BP13-43        ",""]
[null,null,null,null,null,null,null,"0401BPPMBP..1","3016400026     ","BP13-44        ",""]
[null,null,null,null,null,null,null,"0401BPPMBP..2","3016400026     ","BP13-45        ",""]
[null,null,null,null,null,null,null,"0401BPPMBP..2","3008600023     ","BP13-46        ",""]
[null,null,null,null,null,null,null,"0401BPPMBP..1","3035900026     ","BP13-47        ",""]
[null,null,null,null,null,null,null,"0401BPPMBP..2","3200700120     ","BP13-48        ",""]
[null,null,null,null,null,null,null,"0401BPPMBP..2","3029700023     ","BP13-49        ",""]
[null,null,null,null,null,null,null,"0401BPPMBP..2","3035900026     ","BP13-5         ",""]
[null,null,null,null,null,null,null,"0401BPPMBP..1","3200700120     ","BP13-50        ",""]
[null,null,null,null,null,null,null,"0401BPPMBP..2","3200700120     ","BP13-51        ",""]
[null,null,null,null,null,null,null,"0401BPPMBP..1","3176700025     ","BP13-52        ",""]
[null,null,null,null,null,null,null,"0401BPPMBP..1","3056900024     ","BP13-53        ",""]
[null,null,null,null,null,null,null,"0401BPPMBP..1","3056900024     ","BP13-53A       ",""]
[null,null,null,null,null,null,null,"0401BPPMBP..2","3008600023     ","BP13-54        ",""]
[null,null,null,null,null,null,null,"0401BPPMBP..1","3298500021     ","BP13-55        ",""]
[null,null,null,null,null,null,null,"0401BPPMBP..1","3200700120     ","BP13-56        ",""]
[null,null,null,null,null,null,null,"0401BPPMBP..1","3200700120     ","BP13-56A       ",""]
[null,null,null,null,null,null,null,"0401BPPMBP..1","3298500021     ","BP13-57        ",""]
[null,null,null,null,null,null,null,"0401BPPMBP..2","3200700120     ","BP13-58        ",""]
[null,null,null,null,null,null,null,"0401BPPMBP..1","3008600023     ","BP13-59        ",""]
[null,null,null,null,null,null,null,"0401BPPMBP..1","3176700025     ","BP13-6         ",""]
[null,null,null,null,null,null,null,"0401BPPMBP..1","3057100025     ","BP13-60        ",""]
[null,null,null,null,null,null,null,"0401BPPMBP..3","3176700025     ","BP13-61        ",""]
[null,null,null,null,null,null,null,"0401BPPMBP..1","3020400021     ","BP13-62        ",""]
[null,null,null,null,null,null,null,"0401BPPMBP..2","3029700023     ","BP13-63        ",""]
[null,null,null,null,null,null,null,"0401BPPMBP..2","3029700023     ","BP13-63A       ",""]
[null,null,null,null,null,null,null,"0401BPPMBP..2","3261500026     ","BP13-65        ",""]
[null,null,null,null,null,null,null,"0401BPPMBP..1","3035900026     ","BP13-66        ",""]
[null,null,null,null,null,null,null,"0401BPPMBP..2","3029700023     ","BP13-67        ",""]
[null,null,null,null,null,null,null,"0401BPPMBP..2","3027400028     ","BP13-68        ",""]
[null,null,null,null,null,null,null,"0401BPPMBP..2","3298500021     ","BP13-69        ",""]
[null,null,null,null,null,null,null,"0401BPPMBP..1","3176700025     ","BP13-6A        ",""]
[null,null,null,null,null,null,null,"0401BPPMBP..2","3176700025     ","BP13-7         ",""]
[null,null,null,null,null,null,null,"0401BPPMBP..2","3298500021     ","BP13-70        ",""]
[null,null,null,null,null,null,null,"0401BPPMBP..1","3048700023     ","BP13-71        ",""]
[null,null,null,null,null,null,null,"0401BPPMBP..2","3048700023     ","BP13-72        ",""]
[null,null,null,null,null,null,null,"0401BPPMBP..2","3048700023     ","BP13-72A       ",""]
[null,null,null,null,null,null,null,"0401BPPMBP..2","3132800027     ","BP13-74        ",""]
[null,null,null,null,null,null,null,"0401BPPMBP..2","3132800027     ","BP13-74A       ",""]
[null,null,null,null,null,null,null,"0401BPPMBP..2","3029700023     ","BP13-75        ",""]
[null,null,null,null,null,null,null,"0401BPPMBP..2","3176700025     ","BP13-76        ",""]
[null,null,null,null,null,null,null,"0401BPPMBP..1","3176700025     ","BP13-77        ",""]
[null,null,null,null,null,null,null,"0401BPPMBP..1","3176700025     ","BP13-77A       ",""]
[null,null,null,null,null,null,null,"0401BPPMBP..1","3200700120     ","BP13-79        ",""]
[null,null,null,null,null,null,null,"0401BPPMBP..2","3176700025     ","BP13-7A        ",""]
[null,null,null,null,null,null,null,"0401BPPMBP..1","3176700025     ","BP13-8         ",""]
[null,null,null,null,null,null,null,"0401BPPMBP..1","3008600023     ","BP13-80        ",""]
[null,null,null,null,null,null,null,"0401BPPMBP..2","3008600023     ","BP13-81        ",""]
[null,null,null,null,null,null,null,"0401BPPMBP..1","3027400028     ","BP13-82        ",""]
[null,null,null,null,null,null,null,"0401BPPMBP..1","3035900026     ","BP13-83        ",""]
[null,null,null,null,null,null,null,"0401BPPMBP..2","3035900026     ","BP13-84        ",""]
[null,null,null,null,null,null,null,"0401BPPMBP..1","3197300125     ","BP13-85        ",""]
[null,null,null,null,null,null,null,"0401BPPMBP..2","3200700120     ","BP13-86        ",""]
[null,null,null,null,null,null,null,"0401BPPMBP..2","3200700120     ","BP13-86A       ",""]
[null,null,null,null,null,null,null,"0401BPPMBP..3","3016400026     ","BP13-87        ",""]
[null,null,null,null,null,null,null,"0401BPPMBP..1","3281200026     ","BP13-88        ",""]
[null,null,null,null,null,null,null,"0401BPPMBP..1","3056900024     ","BP13-89        ",""]
[null,null,null,null,null,null,null,"0401BPPMBP..1","3176700025     ","BP13-8A        ",{"$f":"IF(H769=$H$60, IF(I769=$I$60, J769,\"\"),\"\")","v":""}]
[null,null,null,null,null,null,null,"0401BPPMBP..2","3176700025     ","BP13-9         ",""]
[null,null,null,null,null,null,null,"0401BPPMBP..2","3176700025     ","BP13-90        ",""]
[null,null,null,null,null,null,null,"0401BPPMBP..2","3176700025     ","BP13-90A       ",""]
[null,null,null,null,null,null,null,"0401BPPMBP..2","3008600023     ","BP13-91        ",""]
[null,null,null,null,null,null,null,"0401BPPMBP..1","3008600023     ","BP13-92        ",""]
[null,null,null,null,null,null,null,"0401BPPMBP..1","3029700023     ","BP13-93        ",""]
[null,null,null,null,null,null,null,"0401BPPMBP..1","3008600023     ","BP13-94        ",""]
[null,null,null,null,null,null,null,"0401BPPMBP..1","3008600023     ","BP13-95        ",""]
[null,null,null,null,null,null,null,"0401BPPMBP..1","3016400026     ","BP13-96        ",""]
[null,null,null,null,null,null,null,"0401BPPMBP..2","3016400026     ","BP13-97        ",""]
[null,null,null,null,null,null,null,"0401BPPMBP..1","3016400026     ","BP13-98        ",""]
[null,null,null,null,null,null,null,"0401BPPMBP..2","3016400026     ","BP13-99        ",""]
[null,null,null,null,null,null,null,"0401BPPMBP..2","3176700025     ","BP13-9A        ",""]
[null,null,null,null,null,null,null,"0301SBCMBI","333350000X     ","COMMERCIAL 301 ",""]
[null,null,null,null,null,null,null,"0401BPCM","333350000X     ","COMMERCIAL 401 ",""]
[null,null,null,null,null,null,null,"0401BPPMBB","3016400026     ","MRMtest1       ",""]
[null,null,null,null,null,null,null,"0401BPPMBP..1","3016501056     ","PB12-25        ",""]
[null,null,null,null,null,null,null,"0401BPPMBP..1","3020400021     ","PB12-78        ",""]
[null,null,null,null,null,null,null,"0402SLPMSL","3176700025     ","SL11-1         ",""]
[null,null,null,null,null,null,null,"0402SLPMSL","3176700025     ","SL11-10        ",""]
[null,null,null,null,null,null,null,"0402SLPMSL","3176700025     ","SL11-10A       ",""]
[null,null,null,null,null,null,null,"0402SLPMSL","3176700025     ","SL11-12        ",""]
[null,null,null,null,null,null,null,"0402SLPMSL","3008600023     ","SL11-13        ",""]
[null,null,null,null,null,null,null,"0402SLPMSL","3020400021     ","SL11-14        ",""]
[null,null,null,null,null,null,null,"0402SLPMSL","3035900026     ","SL11-15        ",""]
[null,null,null,null,null,null,null,"0402SLPMSL","3035900026     ","SL11-16        ",""]
[null,null,null,null,null,null,null,"0402SLPMSL","3298500021     ","SL11-17        ",""]
[null,null,null,null,null,null,null,"0402SLPMSL","3062100021     ","SL11-18        ",""]
[null,null,null,null,null,null,null,"0402SLPMSL","3116900026     ","SL11-19        ",""]
[null,null,null,null,null,null,null,"0402SLPMSL","3116900026     ","SL11-19A       ",""]
[null,null,null,null,null,null,null,"0402SLPMSL","3176700025     ","SL11-1A        ",""]
[null,null,null,null,null,null,null,"0402SLPMSL","3176700025     ","SL11-2         ",""]
[null,null,null,null,null,null,null,"0402SLPMSL","3027400028     ","SL11-22        ",""]
[null,null,null,null,null,null,null,"0402SLPMSL","3176700025     ","SL11-23        ",""]
[null,null,null,null,null,null,null,"0402SLPMSL","3176700025     ","SL11-24        ",""]
[null,null,null,null,null,null,null,"0402SLPMSL","3176700025     ","SL11-25        ",""]
[null,null,null,null,null,null,null,"0402SLPMSL","3200700120     ","SL11-26        ",""]
[null,null,null,null,null,null,null,"0402SLPMSL","3298500021     ","SL11-27        ",""]
[null,null,null,null,null,null,null,"0402SLPMSL","3057100025     ","SL11-28        ",""]
[null,null,null,null,null,null,null,"0402SLPMSL","3176700025     ","SL11-29        ",""]
[null,null,null,null,null,null,null,"0402SLPMSL","3116900026     ","SL11-3         ",""]
[null,null,null,null,null,null,null,"0402SLPMSL","3200700120     ","SL11-30        ",""]
[null,null,null,null,null,null,null,"0402SLPMSL","3020400021     ","SL11-31        ",""]
[null,null,null,null,null,null,null,"0402SLPMSL","3027400028     ","SL11-32        ",""]
[null,null,null,null,null,null,null,"0402SLPMSL","3035900026     ","SL11-33        ",""]
[null,null,null,null,null,null,null,"0402SLPMSL","3176700025     ","SL11-34        ",""]
[null,null,null,null,null,null,null,"0402SLPMSL","3176700025     ","SL11-35        ",""]
[null,null,null,null,null,null,null,"0402SLPMSL","3176700025     ","SL11-35A       ",""]
[null,null,null,null,null,null,null,"0402SLPMSL","3176700025     ","SL11-36        ",""]
[null,null,null,null,null,null,null,"0402SLPMSL","3042400326     ","SL11-37        ",""]
[null,null,null,null,null,null,null,"0402SLPMSL","3027400028     ","SL11-38        ",""]
[null,null,null,null,null,null,null,"0402SLPMSL","3132800027     ","SL11-39        ",""]
[null,null,null,null,null,null,null,"0402SLPMSL","3008600023     ","SL11-40        ",""]
[null,null,null,null,null,null,null,"0402SLPMSL","3008600023     ","SL11-40A       ",""]
[null,null,null,null,null,null,null,"0402SLPMSL","3029700023     ","SL11-41        ",""]
[null,null,null,null,null,null,null,"0402SLPMSL","3035900026     ","SL11-43        ",""]
[null,null,null,null,null,null,null,"0402SLPMSL","3176700025     ","SL11-44        ",""]
[null,null,null,null,null,null,null,"0402SLPMSL","3035900026     ","SL11-45        ",""]
[null,null,null,null,null,null,null,"0402SLPMSL","3020400021     ","SL11-46        ",""]
[null,null,null,null,null,null,null,"0402SLPMSL","3029700023     ","SL11-47        ",""]
[null,null,null,null,null,null,null,"0402SLPMSL","3020400021     ","SL11-48        ",""]
[null,null,null,null,null,null,null,"0402SLPMSL","3027000020     ","SL11-49        ",""]
[null,null,null,null,null,null,null,"0402SLPMSL","3062100021     ","SL11-5         ",""]
[null,null,null,null,null,null,null,"0402SLPMSL","3029700023     ","SL11-50        ",{"$f":"IF(H833=$H$60, IF(I833=$I$60, J833,\"\"),\"\")","v":""}]
[null,null,null,null,null,null,null,"0402SLPMSL","3200700120     ","SL11-51        ",""]
[null,null,null,null,null,null,null,"0402SLPMSL","3200700120     ","SL11-51A       ",""]
[null,null,null,null,null,null,null,"0402SLPMSL","3021500027     ","SL11-52        ",""]
[null,null,null,null,null,null,null,"0402SLPMSL","3008600023     ","SL11-53        ",""]
[null,null,null,null,null,null,null,"0402SLPMSL","3176700025     ","SL11-54        ",""]
[null,null,null,null,null,null,null,"0402SLPMSL","3176700025     ","SL11-55        ",""]
[null,null,null,null,null,null,null,"0402SLPMSL","3176700025     ","SL11-6         ",""]
[null,null,null,null,null,null,null,"0402SLPMSL","3176700025     ","SL11-6A        ",""]
[null,null,null,null,null,null,null,"0402SLPMSL","3176700025     ","SL11-7         ",""]
[null,null,null,null,null,null,null,"0402SLPMSL","3176700025     ","SL11-7A        ",""]
[null,null,null,null,null,null,null,"0402SLPMSL","3176700025     ","SL11-7B        ",""]
[null,null,null,null,null,null,null,"0402SLPMSL","3020400021     ","SL11-8         ",""]
[null,null,null,null,null,null,null,"0402SLPMSL","3008600023     ","SL11-9         ",""]
[null,null,null,null,null,null,null,"0402SLPMSL","3176700025     ","SL12-1         ",""]
[null,null,null,null,null,null,null,"0402SLPMSL","3176700025     ","SL12-10        ",""]
[null,null,null,null,null,null,null,"0402SLPMSL","3057100025     ","SL12-11        ",""]
[null,null,null,null,null,null,null,"0402SLPMSL","3035900026     ","SL12-12        ",""]
[null,null,null,null,null,null,null,"0402SLPMSL","3035900026     ","SL12-13        ",""]
[null,null,null,null,null,null,null,"0402SLPMSL","3008600023     ","SL12-14        ",""]
[null,null,null,null,null,null,null,"0402SLPMSL","3056900024     ","SL12-15        ",""]
[null,null,null,null,null,null,null,"0402SLPMSL","3176700025     ","SL12-16        ",""]
[null,null,null,null,null,null,null,"0402SLPMSL","3035900026     ","SL12-17        ",""]
[null,null,null,null,null,null,null,"0402SLPMSL","3056900024     ","SL12-18        ",""]
[null,null,null,null,null,null,null,"0402SLPMSL","3176700025     ","SL12-19        ",""]
[null,null,null,null,null,null,null,"0402SLPMSL","3176700025     ","SL12-1A        ",""]
[null,null,null,null,null,null,null,"0402SLPMSL","3176700025     ","SL12-2         ",""]
[null,null,null,null,null,null,null,"0402SLPMSL","3020400021     ","SL12-20        ",""]
[null,null,null,null,null,null,null,"0402SLPMSL","3008600023     ","SL12-21        ",""]
[null,null,null,null,null,null,null,"0402SLPMSL","3020400021     ","SL12-22        ",""]
[null,null,null,null,null,null,null,"0402SLPMSL","3176700025     ","SL12-23        ",""]
[null,null,null,null,null,null,null,"0402SLPMSL","3176700025     ","SL12-24        ",""]
[null,null,null,null,null,null,null,"0402SLPMSL","3200700120     ","SL12-25        ",""]
[null,null,null,null,null,null,null,"0402SLPMSL","3200700120     ","SL12-26        ",""]
[null,null,null,null,null,null,null,"0402SLPMSL","3200700120     ","SL12-26A       ",""]
[null,null,null,null,null,null,null,"0402SLPMSL","3116900026     ","SL12-27        ",""]
[null,null,null,null,null,null,null,"0402SLPMSL","3116900026     ","SL12-27A       ",""]
[null,null,null,null,null,null,null,"0402SLPMSL","3050100028     ","SL12-28        ",""]
[null,null,null,null,null,null,null,"0402SLPMSL","3176700025     ","SL12-29        ",""]
[null,null,null,null,null,null,null,"0402SLPMSL","3176700025     ","SL12-2A        ",""]
[null,null,null,null,null,null,null,"0402SLPMSL","3176700025     ","SL12-3         ",""]
[null,null,null,null,null,null,null,"0402SLPMSL","3029700023     ","SL12-30        ",""]
[null,null,null,null,null,null,null,"0402SLPMSL","3020400021     ","SL12-31        ",""]
[null,null,null,null,null,null,null,"0402SLPMSL","3057100025     ","SL12-32        ",""]
[null,null,null,null,null,null,null,"0402SLPMSL","3048700023     ","SL12-33        ",""]
[null,null,null,null,null,null,null,"0402SLPMSL","3176700025     ","SL12-34        ",""]
[null,null,null,null,null,null,null,"0402SLPMSL","3116900026     ","SL12-35        ",""]
[null,null,null,null,null,null,null,"0402SLPMSL","3176700025     ","SL12-36        ",""]
[null,null,null,null,null,null,null,"0402SLPMSL","3176700025     ","SL12-38        ",""]
[null,null,null,null,null,null,null,"0402SLPMSL","3029700023     ","SL12-39        ",""]
[null,null,null,null,null,null,null,"0402SLPMSL","3035900026     ","SL12-4         ",""]
[null,null,null,null,null,null,null,"0402SLPMSL","3020400021     ","SL12-40        ",""]
[null,null,null,null,null,null,null,"0402SLPMSL","3021500027     ","SL12-41        ",""]
[null,null,null,null,null,null,null,"0402SLPMSL","3200700120     ","SL12-42        ",""]
[null,null,null,null,null,null,null,"0402SLPMSL","3200700120     ","SL12-43        ",""]
[null,null,null,null,null,null,null,"0402SLPMSL","3200700120     ","SL12-43A       ",""]
[null,null,null,null,null,null,null,"0402SLPMSL","3029700023     ","SL12-44        ",""]
[null,null,null,null,null,null,null,"0402SLPMSL","3035900026     ","SL12-45        ",""]
[null,null,null,null,null,null,null,"0402SLPMSL","3027400028     ","SL12-46        ",""]
[null,null,null,null,null,null,null,"0402SLPMSL","3176700025     ","SL12-47        ",""]
[null,null,null,null,null,null,null,"0402SLPMSL","3200700120     ","SL12-48        ",""]
[null,null,null,null,null,null,null,"0402SLPMSL","3029700023     ","SL12-49        ",""]
[null,null,null,null,null,null,null,"0402SLPMSL","3176700025     ","SL12-5         ",""]
[null,null,null,null,null,null,null,"0402SLPMSL","3200700120     ","SL12-50        ",""]
[null,null,null,null,null,null,null,"0402SLPMSL","3035900026     ","SL12-51        ",{"$f":"IF(H897=$H$60, IF(I897=$I$60, J897,\"\"),\"\")","v":""}]
[null,null,null,null,null,null,null,"0402SLPMSL","3176700025     ","SL12-6         ",""]
[null,null,null,null,null,null,null,"0402SLPMSL","3176700025     ","SL12-6A        ",""]
[null,null,null,null,null,null,null,"0402SLPMSL","3020400021     ","SL12-7         ",""]
[null,null,null,null,null,null,null,"0402SLPMSL","3020400021     ","SL12-7A        ",""]
[null,null,null,null,null,null,null,"0402SLPMSL","3176700025     ","SL12-8         ",""]
[null,null,null,null,null,null,null,"0402SLPMSL","3176700025     ","SL12-8A        ",""]
[null,null,null,null,null,null,null,"0402SLPMSL","3176700025     ","SL12-8B        ",""]
[null,null,null,null,null,null,null,"0402SLPMSL","3176700025     ","SL12-9         ",""]
[null,null,null,null,null,null,null,"0402SLPMSL","3176700025     ","SL12-9A        ",""]
[null,null,null,null,null,null,null,"0402SLPMSL","3176700025     ","SL12-9B        ",""]
[null,null,null,null,null,null,null,"0402SLPMSL","3035900026     ","SL12017        ",""]
[null,null,null,null,null,null,null,"0402SLPMSL","3176700025     ","SL13-1         ",""]
[null,null,null,null,null,null,null,"0402SLPMSL","3057100025     ","SL13-10        ",""]
[null,null,null,null,null,null,null,"0402SLPMSL","3062100021     ","SL13-11        ",""]
[null,null,null,null,null,null,null,"0402SLPMSL","3008600023     ","SL13-12        ",""]
[null,null,null,null,null,null,null,"0402SLPMSL","3035900026     ","SL13-13        ",""]
[null,null,null,null,null,null,null,"0402SLPMSL","3176700025     ","SL13-14        ",""]
[null,null,null,null,null,null,null,"0402SLPMSL","3176700025     ","SL13-15        ",""]
[null,null,null,null,null,null,null,"0402SLPMSL","3402400125     ","SL13-17        ",""]
[null,null,null,null,null,null,null,"0402SLPMSL","3008600023     ","SL13-18        ",""]
[null,null,null,null,null,null,null,"0402SLPMSL","3057100025     ","SL13-19        ",""]
[null,null,null,null,null,null,null,"0402SLPMSL","3035900026     ","SL13-2         ",""]
[null,null,null,null,null,null,null,"0402SLPMSL","3176700025     ","SL13-20        ",""]
[null,null,null,null,null,null,null,"0402SLPMSL","3176700025     ","SL13-20A       ",""]
[null,null,null,null,null,null,null,"0402SLPMSL","3176700025     ","SL13-21        ",""]
[null,null,null,null,null,null,null,"0402SLPMSL","3057100025     ","SL13-22        ",""]
[null,null,null,null,null,null,null,"0402SLPMSL","3200700120     ","SL13-23        ",""]
[null,null,null,null,null,null,null,"0402SLPMSL","3200700120     ","SL13-24        ",""]
[null,null,null,null,null,null,null,"0402SLPMSL","3200700120     ","SL13-24A       ",""]
[null,null,null,null,null,null,null,"0402SLPMSL","3176700025     ","SL13-25        ",""]
[null,null,null,null,null,null,null,"0402SLPMSL","3176700025     ","SL13-25A       ",""]
[null,null,null,null,null,null,null,"0402SLPMSL","3176700025     ","SL13-26        ",""]
[null,null,null,null,null,null,null,"0402SLPMSL","3176700025     ","SL13-27        ",""]
[null,null,null,null,null,null,null,"0402SLPMSL","3008600023     ","SL13-28        ",""]
[null,null,null,null,null,null,null,"0402SLPMSL","3008600023     ","SL13-29        ",""]
[null,null,null,null,null,null,null,"0402SLPMSL","3020400021     ","SL13-3         ",""]
[null,null,null,null,null,null,null,"0402SLPMSL","3035900026     ","SL13-4         ",""]
[null,null,null,null,null,null,null,"0402SLPMSL","3176700025     ","SL13-5         ",""]
[null,null,null,null,null,null,null,"0402SLPMSL","3176700025     ","SL13-7         ",""]
[null,null,null,null,null,null,null,"0402SLPMSL","3035900026     ","SL13-8         ",""]
[null,null,null,null,null,null,null,"0402SLPMSL","3176700025     ","SL13-9         ",""]
[null,null,null,null,null,null,null,"0402SLPMSL","3176700025     ","SL14-1         ",""]
[null,null,null,null,null,null,null,"0402SLPMSL","3035900026     ","SL14-2         ",""]
[null,null,null,null,null,null,null,"0403SP048F","3008600023     ","SP048 11-25    ",""]
[null,null,null,null,null,null,null,"0403SP048F","3008600023     ","SP048 11-25A   ",""]
[null,null,null,null,null,null,null,"0403SP048F","3008600023     ","SP048 11-25B   ",""]
[null,null,null,null,null,null,null,"0403SP048F","3008600023     ","SP048 11-78    ",""]
[null,null,null,null,null,null,null,"0403SP048F","3008600023     ","SP048 11-79    ",""]
[null,null,null,null,null,null,null,"0403SP048F","3035900026     ","SP048 12-37    ",""]
[null,null,null,null,null,null,null,"0403SP048F","3298500021     ","SP048 12-4     ",""]
[null,null,null,null,null,null,null,"0403SP048F","3020400021     ","SP048 12-54    ",""]
[null,null,null,null,null,null,null,"0403SP048F","3008600023     ","SP048 12-58    ",""]
[null,null,null,null,null,null,null,"0403SP048FLP","3035900026     ","SP048 13-23    ",""]
[null,null,null,null,null,null,null,"0403SP048F","3176700025     ","SP048 13-37    ",""]
[null,null,null,null,null,null,null,"0403SP048F","3008600023     ","SP048 13-74    ",""]
[null,null,null,null,null,null,null,"0403SP048F","3029700023     ","SP048 13-85    ",""]
[null,null,null,null,null,null,null,"0403SP048F","3029700023     ","SP048 13-85A   ",""]
[null,null,null,null,null,null,null,"0403SP095CLG","3116900026     ","SP095 10-44A   ",""]
[null,null,null,null,null,null,null,"0403SP095CLG","3027400028     ","SP095 11-1     ",""]
[null,null,null,null,null,null,null,"0403SP095CLG","3035900026     ","SP095 11-100   ",""]
[null,null,null,null,null,null,null,"0403SP095CLG","3008600023     ","SP095 11-106   ",""]
[null,null,null,null,null,null,null,"0403SP095CLG","3008600023     ","SP095 11-107   ",""]
[null,null,null,null,null,null,null,"0403SP095CLG","3056900024     ","SP095 11-108   ",""]
[null,null,null,null,null,null,null,"0403SP095CLG","3008600023     ","SP095 11-112   ",{"$f":"IF(H961=$H$60, IF(I961=$I$60, J961,\"\"),\"\")","v":""}]
[null,null,null,null,null,null,null,"0403SP095CLG","3298500021     ","SP095 11-19    ",""]
[null,null,null,null,null,null,null,"0403SP095CLG","3298500021     ","SP095 11-19A   ",""]
[null,null,null,null,null,null,null,"0403SP095CLG","3298500021     ","SP095 11-19B   ",""]
[null,null,null,null,null,null,null,"0403SP095CLG","3298500021     ","SP095 11-19C   ",""]
[null,null,null,null,null,null,null,"0403SP095CLG","3176700025     ","SP095 11-20    ",""]
[null,null,null,null,null,null,null,"0403SP095CLG","3035900026     ","SP095 11-23    ",""]
[null,null,null,null,null,null,null,"0403SP095CLG","3298500021     ","SP095 11-24    ",""]
[null,null,null,null,null,null,null,"0403SP095CLG","3298500021     ","SP095 11-24A   ",""]
[null,null,null,null,null,null,null,"0403SP095CLG","3056900024     ","SP095 11-29    ",""]
[null,null,null,null,null,null,null,"0403SP095CLG","3056900024     ","SP095 11-29A   ",""]
[null,null,null,null,null,null,null,"0403SP095CLG","3008600023     ","SP095 11-30A   ",""]
[null,null,null,null,null,null,null,"0403SP095CLG","3008600023     ","SP095 11-46    ",""]
[null,null,null,null,null,null,null,"0403SP095CLG","3027400028     ","SP095 11-59    ",""]
[null,null,null,null,null,null,null,"0403SP095CLG","3027400028     ","SP095 11-59A   ",""]
[null,null,null,null,null,null,null,"0403SP095CLG","3027400028     ","SP095 11-71    ",""]
[null,null,null,null,null,null,null,"0403SP095BSM","3008600023     ","SP095 11-82    ",""]
[null,null,null,null,null,null,null,"0403SP095BSM","3008600023     ","SP095 11-82A   ",""]
[null,null,null,null,null,null,null,"0403SP095CLG","3008600023     ","SP095 11-90    ",""]
[null,null,null,null,null,null,null,"0403SP095BSM","3027400028     ","SP095 11-94    ",""]
[null,null,null,null,null,null,null,"0403SP095CLG","3008600023     ","SP095 11-97    ",""]
[null,null,null,null,null,null,null,"0403SP095CLG","3176700025     ","SP095 12-1     ",""]
[null,null,null,null,null,null,null,"0403SP095CLG","3027400028     ","SP095 12-10    ",""]
[null,null,null,null,null,null,null,"0403SP095BSM","3176700025     ","SP095 12-16    ",""]
[null,null,null,null,null,null,null,"0403SP095BSM","3176700025     ","SP095 12-16A   ",""]
[null,null,null,null,null,null,null,"0403SP095B","3176700025     ","SP095 12-19    ",{"$f":"IF(H986=$H$60, IF(I986=$I$60, J986,\"\"),\"\")","v":""}]
[null,null,null,null,null,null,null,"0403SP095CLG","3176700025     ","SP095 12-1A    ",""]
[null,null,null,null,null,null,null,"0403SP095CLG","3035900026     ","SP095 12-27    ",""]
[null,null,null,null,null,null,null,"0403SP095CLGLP","3116900026     ","SP095 12-31    ",""]
[null,null,null,null,null,null,null,"0403SP095CLG","3029700023     ","SP095 12-35    ",""]
[null,null,null,null,null,null,null,"0403SP095BSM","3035900026     ","SP095 12-36    ",""]
[null,null,null,null,null,null,null,"0403SP095BSM","3020400021     ","SP095 12-38    ",""]
[null,null,null,null,null,null,null,"0403SP095CLG","3116900026     ","SP095 12-40    ",""]
[null,null,null,null,null,null,null,"0403SP095CLG","3176700025     ","SP095 12-46    ",""]
[null,null,null,null,null,null,null,"0403SP095BSM","3176700025     ","SP095 12-49    ",""]
[null,null,null,null,null,null,null,"0403SP095B","3298500021     ","SP095 12-5     ",""]
[null,null,null,null,null,null,null,"0403SP095BSM","3176700025     ","SP095 12-50    ",""]
[null,null,null,null,null,null,null,"0403SP095CLG","3027400028     ","SP095 12-51    ",""]
[null,null,null,null,null,null,null,"0403SP095C","3020400021     ","SP095 12-53    ",""]
[null,null,null,null,null,null,null,"0403SP095B","3132800027     ","SP095 12-56    ",""]
[null,null,null,null,null,null,null,"0403SP095B","3132800027     ","SP095 12-56A   ",""]
[null,null,null,null,null,null,null,"0403SP095BSM","3020400021     ","SP095 12-57    ",""]
[null,null,null,null,null,null,null,"0403SP095B","3298500021     ","SP095 12-5A    ",""]
[null,null,null,null,null,null,null,"0403SP095CLG","3027400028     ","SP095 12-62    ",""]
[null,null,null,null,null,null,null,"0403SP095BSMR","3008600023     ","SP095 12-67    ",""]
[null,null,null,null,null,null,null,"0403SP095BSMR","3008600023     ","SP095 12-67A   ",""]
[null,null,null,null,null,null,null,"0403SP095CLG","3035900026     ","SP095 12-68    ",""]
[null,null,null,null,null,null,null,"0403SP095BSM","3298500021     ","SP095 12-7     ",""]
[null,null,null,null,null,null,null,"0403SP095B","3008600023     ","SP095 12-73    ",""]
[null,null,null,null,null,null,null,"0403SP095CLG","3176700025     ","SP095 12-8     ",""]
[null,null,null,null,null,null,null,"0403SP095BSM","3298500021     ","SP095 12-80    ",""]
[null,null,null,null,null,null,null,"0403SP095CLG","3176700025     ","SP095 12-8A    ",""]
[null,null,null,null,null,null,null,"0403SP095CLG","3176700025     ","SP095 12-8B    ",""]
[null,null,null,null,null,null,null,"0403SP095CLG","3176700025     ","SP095 12-8C    ",""]
[null,null,null,null,null,null,null,"0403SP095BSMR","3008600023     ","SP095 13-107   ",""]
[null,null,null,null,null,null,null,"0403SP095BSMR","3008600023     ","SP095 13-110   ",""]
[null,null,null,null,null,null,null,"0403SP095BSM","3056900024     ","SP095 13-114   ",""]
[null,null,null,null,null,null,null,"0403SP095BSM","3056900024     ","SP095 13-115   ",""]
[null,null,null,null,null,null,null,"0403SP095BSM","3056900024     ","SP095 13-115A  ",""]
[null,null,null,null,null,null,null,"0403SP095BSM","3035900026     ","SP095 13-12    ",""]
[null,null,null,null,null,null,null,"0403SP125CLGLP","3035900026     ","SP095 13-13    ",""]
[null,null,null,null,null,null,null,"0403SP095CLG","3008600023     ","SP095 13-15    ",""]
[null,null,null,null,null,null,null,"0403SP095CLG","3298500021     ","SP095 13-50    ",""]
[null,null,null,null,null,null,null,"0403SP095CLG","3132800027     ","SP095 13-57    ",""]
[null,null,null,null,null,null,null,"0403SP095CLG","3132800027     ","SP095 13-57A   ",{"$f":"IF(H1025=$H$60, IF(I1025=$I$60, J1025,\"\"),\"\")","v":""}]
[null,null,null,null,null,null,null,"0403SP095CLG","3056900024     ","SP095 13-58    ",""]
[null,null,null,null,null,null,null,"0403SP095CLG","3298500021     ","SP095 13-62    ",""]
[null,null,null,null,null,null,null,"0403SP095BSM","3008600023     ","SP095 13-64    ",""]
[null,null,null,null,null,null,null,"0403SP095B","3176700025     ","SP095 13-66    ",""]
[null,null,null,null,null,null,null,"0403SP095BSM","3056900024     ","SP095 13-67    ",""]
[null,null,null,null,null,null,null,"0403SP095BSM","3056900024     ","SP095 13-67A   ",""]
[null,null,null,null,null,null,null,"0403SP095BSM","3008600023     ","SP095 13-69    ",""]
[null,null,null,null,null,null,null,"0403SP095BSM","3008600023     ","SP095 13-69A   ",""]
[null,null,null,null,null,null,null,"0403SP095BSM","3008600023     ","SP095 13-69B   ",""]
[null,null,null,null,null,null,null,"0403SP095CLG","3008600023     ","SP095 13-71    ",""]
[null,null,null,null,null,null,null,"0403SP095CLG","3176700025     ","SP095 13-73    ",""]
[null,null,null,null,null,null,null,"0403SP095CLGLP","3035900026     ","SP095 13-75    ",""]
[null,null,null,null,null,null,null,"0403SP095B","3176700025     ","SP095 13-78    ",""]
[null,null,null,null,null,null,null,"0403SP095CLG","3008600023     ","SP095 13-82    ",""]
[null,null,null,null,null,null,null,"0403SP095CLG","3035900026     ","SP095 13-97    ",""]
[null,null,null,null,null,null,null,"0403SP125CLP","3035900026     ","SP125 10-58A   ",""]
[null,null,null,null,null,null,null,"0403SP125CLG","3176700025     ","SP125 11-10    ",""]
[null,null,null,null,null,null,null,"0403SP125CLG","3027400028     ","SP125 11-101   ",""]
[null,null,null,null,null,null,null,"0403SP125CLG","3027400028     ","SP125 11-101A  ",""]
[null,null,null,null,null,null,null,"0403SP125CLG","3056900024     ","SP125 11-109   ",""]
[null,null,null,null,null,null,null,"0403SP125CLG","3176700025     ","SP125 11-11    ",""]
[null,null,null,null,null,null,null,"0403SP125CLG","3056900024     ","SP125 11-110   ",""]
[null,null,null,null,null,null,null,"0403SP125CLG","3176700025     ","SP125 11-11A   ",""]
[null,null,null,null,null,null,null,"0403SP125CLG","3176700025     ","SP125 11-11B   ",""]
[null,null,null,null,null,null,null,"0403SP125B","3027400028     ","SP125 11-13    ",""]
[null,null,null,null,null,null,null,"0403SP125CLGLP","3035900026     ","SP125 11-14    ",""]
[null,null,null,null,null,null,null,"0403SP125CLGLP","3035900026     ","SP125 11-14A   ",""]
[null,null,null,null,null,null,null,"0403SP125CLGLP","3035900026     ","SP125 11-14C   ",""]
[null,null,null,null,null,null,null,"0403SP125CLG","3029700023     ","SP125 11-16    ",""]
[null,null,null,null,null,null,null,"0403SP125CLG","3176700025     ","SP125 11-21    ",""]
[null,null,null,null,null,null,null,"0403SP125CLG","3176700025     ","SP125 11-21A   ",""]
[null,null,null,null,null,null,null,"0403SP125CLG","3008600023     ","SP125 11-22    ",""]
[null,null,null,null,null,null,null,"0403SP125BSMR","3027400028     ","SP125 11-27    ",""]
[null,null,null,null,null,null,null,"0403SP125BSMR","3027400028     ","SP125 11-27A   ",""]
[null,null,null,null,null,null,null,"0403SP125CLG","3176700025     ","SP125 11-34    ",""]
[null,null,null,null,null,null,null,"0403SP125BSMR","3027400028     ","SP125 11-36    ",""]
[null,null,null,null,null,null,null,"0403SP125CLG","3176700025     ","SP125 11-37    ",""]
[null,null,null,null,null,null,null,"0403SP125BSMR","3029700023     ","SP125 11-38    ",""]
[null,null,null,null,null,null,null,"0403SP125BSMR","3029700023     ","SP125 11-38A   ",""]
[null,null,null,null,null,null,null,"0403SP125B","3029700023     ","SP125 11-39    ",""]
[null,null,null,null,null,null,null,"0403SP125B","3029700023     ","SP125 11-39A   ",""]
[null,null,null,null,null,null,null,"0403SP125CLG","3029700023     ","SP125 11-4     ",""]
[null,null,null,null,null,null,null,"0403SP125CLG","3176700025     ","SP125 11-40    ",""]
[null,null,null,null,null,null,null,"0403SP125CLG","3056900024     ","SP125 11-42    ",""]
[null,null,null,null,null,null,null,"0403SP125CLG","3056900024     ","SP125 11-42A   ",""]
[null,null,null,null,null,null,null,"0403SP125CLG","3132800027     ","SP125 11-47    ",""]
[null,null,null,null,null,null,null,"0403SP125CLG","3132800027     ","SP125 11-47A   ",""]
[null,null,null,null,null,null,null,"0403SP125CLG","3132800027     ","SP125 11-47B   ",""]
[null,null,null,null,null,null,null,"0403SP125CLG","3132800027     ","SP125 11-47C   ",""]
[null,null,null,null,null,null,null,"0403SP125CLGLP","3035900026     ","SP125 11-48    ",""]
[null,null,null,null,null,null,null,"0403SP125CLG","3029700023     ","SP125 11-49    ",""]
[null,null,null,null,null,null,null,"0403SP125CLG","3029700023     ","SP125 11-49A   ",""]
[null,null,null,null,null,null,null,"0403SP125CLG","3029700023     ","SP125 11-49B   ",""]
[null,null,null,null,null,null,null,"0403SP125CLG","3176700025     ","SP125 11-50    ",""]
[null,null,null,null,null,null,null,"0403SP125CLG","3176700025     ","SP125 11-50A   ",""]
[null,null,null,null,null,null,null,"0403SP125CLG","3176700025     ","SP125 11-50B   ",""]
[null,null,null,null,null,null,null,"0403SP125CLG","3029700023     ","SP125 11-52    ",""]
[null,null,null,null,null,null,null,"0403SP125CLG","3008600023     ","SP125 11-55    ",""]
[null,null,null,null,null,null,null,"0403SP125BSM","3035900026     ","SP125 11-58    ",""]
[null,null,null,null,null,null,null,"0403SP125CLG","3035900026     ","SP125 11-6     ",""]
[null,null,null,null,null,null,null,"0403SP125CLG","3056900024     ","SP125 11-63    ",""]
[null,null,null,null,null,null,null,"0403SP125CLG","3056900024     ","SP125 11-63A   ",""]
[null,null,null,null,null,null,null,"0403SP125C","3035900026     ","SP125 11-64    ",""]
[null,null,null,null,null,null,null,"0403SP125C","3035900026     ","SP125 11-64A   ",{"$f":"IF(H1089=$H$60, IF(I1089=$I$60, J1089,\"\"),\"\")","v":""}]
[null,null,null,null,null,null,null,"0403SP125CLG","3008600023     ","SP125 11-65    ",""]
[null,null,null,null,null,null,null,"0403SP125BLP","3035900026     ","SP125 11-66    ",""]
[null,null,null,null,null,null,null,"0403SP125BLP","3035900026     ","SP125 11-66A   ",""]
[null,null,null,null,null,null,null,"0403SP125CLG","3008600023     ","SP125 11-69    ",""]
[null,null,null,null,null,null,null,"0403SP125CLG","3008600023     ","SP125 11-69A   ",""]
[null,null,null,null,null,null,null,"0403SP125B","3116900026     ","SP125 11-7     ",""]
[null,null,null,null,null,null,null,"0403SP125CLG","3027400028     ","SP125 11-73    ",""]
[null,null,null,null,null,null,null,"0403SP125CLG","3008600023     ","SP125 11-75    ",""]
[null,null,null,null,null,null,null,"0403SP125CLG","3008600023     ","SP125 11-75A   ",""]
[null,null,null,null,null,null,null,"0403SP125B","3176700025     ","SP125 11-8     ",""]
[null,null,null,null,null,null,null,"0403SP125BSM","3035900026     ","SP125 11-80    ",""]
[null,null,null,null,null,null,null,"0403SP125CLG","3035900026     ","SP125 11-81    ",""]
[null,null,null,null,null,null,null,"0403SP125CLG","3008600023     ","SP125 11-83    ",""]
[null,null,null,null,null,null,null,"0403SP125BSM","3008600023     ","SP125 11-84    ",""]
[null,null,null,null,null,null,null,"0403SP125CLG","3035900026     ","SP125 11-85    ",""]
[null,null,null,null,null,null,null,"0403SP125CLG","3027400028     ","SP125 11-89    ",""]
[null,null,null,null,null,null,null,"0403SP125CLG","3176700025     ","SP125 11-9     ",""]
[null,null,null,null,null,null,null,"0403SP125B","3298500021     ","SP125 11-91    ",""]
[null,null,null,null,null,null,null,"0403SP125CLG","3008600023     ","SP125 11-95    ",""]
[null,null,null,null,null,null,null,"0403SP125CLG","3008600023     ","SP125 11-95A   ",""]
[null,null,null,null,null,null,null,"0403SP125CLG","3176700025     ","SP125 11-9A    ",""]
[null,null,null,null,null,null,null,"0403SP125CLG","3176700025     ","SP125 11-9B    ",""]
[null,null,null,null,null,null,null,"0403SP125CLG","3176700025     ","SP125 11-9C    ",""]
[null,null,null,null,null,null,null,"0403SP125BSM","3035900026     ","SP125 12-11    ",""]
[null,null,null,null,null,null,null,"0403SP125BSM","3029700023     ","SP125 12-13    ",""]
[null,null,null,null,null,null,null,"0403SP125CLG","3027400028     ","SP125 12-15    ",""]
[null,null,null,null,null,null,null,"0403SP125B","3029700023     ","SP125 12-17    ",""]
[null,null,null,null,null,null,null,"0403SP125CLG","3057100025     ","SP125 12-20    ",""]
[null,null,null,null,null,null,null,"0403SP125CLG","3057100025     ","SP125 12-20A   ",""]
[null,null,null,null,null,null,null,"0403SP125CLG","3176700025     ","SP125 12-23    ",""]
[null,null,null,null,null,null,null,"0403SP125BSMR","3200700120     ","SP125 12-24    ",""]
[null,null,null,null,null,null,null,"0403SP125BSMR","3200700120     ","SP125 12-24A   ",""]
[null,null,null,null,null,null,null,"0403SP125BSM","3056900024     ","SP125 12-28    ",""]
[null,null,null,null,null,null,null,"0403SP125BSM","3056900024     ","SP125 12-28A   ",""]
[null,null,null,null,null,null,null,"0403SP125CLG","3008600023     ","SP125 12-30    ",""]
[null,null,null,null,null,null,null,"0403SP125CLG","3008600023     ","SP125 12-30A   ",""]
[null,null,null,null,null,null,null,"0403SP125CLG","3176700025     ","SP125 12-32    ",""]
[null,null,null,null,null,null,null,"0403SP125BLP","3035900026     ","SP125 12-33    ",""]
[null,null,null,null,null,null,null,"0403SP125BSMR","3008600023     ","SP125 12-39    ",""]
[null,null,null,null,null,null,null,"0403SP125CLG","3027400028     ","SP125 12-45    ",""]
[null,null,null,null,null,null,null,"0403SP125CLGLP","3029700023     ","SP125 12-47    ",""]
[null,null,null,null,null,null,null,"0403SP125CLG","3027400028     ","SP125 12-48    ",""]
[null,null,null,null,null,null,null,"0403SP125BSMR","3176700025     ","SP125 12-52    ",""]
[null,null,null,null,null,null,null,"0403SP125BSMR","3176700025     ","SP125 12-55    ",""]
[null,null,null,null,null,null,null,"0403SP125CLG","3176700025     ","SP125 12-59    ",""]
[null,null,null,null,null,null,null,"0403SP125B","3008600023     ","SP125 12-6     ",""]
[null,null,null,null,null,null,null,"0403SP125CLG","3035900026     ","SP125 12-60    ",""]
[null,null,null,null,null,null,null,"0403SP125BSM","3029700023     ","SP125 12-63    ",""]
[null,null,null,null,null,null,null,"0403SP125CLG","3008600023     ","SP125 12-71    ",""]
[null,null,null,null,null,null,null,"0403SP125CLG","3008600023     ","SP125 12-74    ",""]
[null,null,null,null,null,null,null,"0403SP125CLG","3008600023     ","SP125 12-75    ",""]
[null,null,null,null,null,null,null,"0403SP125CLG","3176700025     ","SP125 12-76    ",""]
[null,null,null,null,null,null,null,"0403SP125CLG","3132800027     ","SP125 12-77    ",""]
[null,null,null,null,null,null,null,"0403SP125CLG","3132800027     ","SP125 12-77A   ",""]
[null,null,null,null,null,null,null,"0403SP125CLG","3176700025     ","SP125 12-78    ",""]
[null,null,null,null,null,null,null,"0403SP125B","3056900024     ","SP125 12-81    ",""]
[null,null,null,null,null,null,null,"0403SP125CLG","3132800027     ","SP125 13-101   ",""]
[null,null,null,null,null,null,null,"0403SP125CLG","3132800027     ","SP125 13-101A  ",""]
[null,null,null,null,null,null,null,"0403SP125B","3116900026     ","SP125 13-104   ",""]
[null,null,null,null,null,null,null,"0403SP125BSMR","3008600023     ","SP125 13-105   ",""]
[null,null,null,null,null,null,null,"0403SP125B","3020400021     ","SP125 13-108   ",""]
[null,null,null,null,null,null,null,"0403SP125BSMR","3008600023     ","SP125 13-109   ",""]
[null,null,null,null,null,null,null,"0403SP125B","3056900024     ","SP125 13-111   ",""]
[null,null,null,null,null,null,null,"0403SP125CLG","3008600023     ","SP125 13-112   ",{"$f":"IF(H1153=$H$60, IF(I1153=$I$60, J1153,\"\"),\"\")","v":""}]
[null,null,null,null,null,null,null,"0403SP125CLG","3176700025     ","SP125 13-113   ",""]
[null,null,null,null,null,null,null,"0403SP125CLG","3008600023     ","SP125 13-14    ",""]
[null,null,null,null,null,null,null,"0403SP125C","3020400021     ","SP125 13-16    ",""]
[null,null,null,null,null,null,null,"0403SP125BSM","3016400026     ","SP125 13-18    ",""]
[null,null,null,null,null,null,null,"0403SP125C","3020400021     ","SP125 13-19    ",""]
[null,null,null,null,null,null,null,"0403SP125CLG","3029700023     ","SP125 13-20    ",""]
[null,null,null,null,null,null,null,"0403SP125CLG","3176700025     ","SP125 13-22    ",""]
[null,null,null,null,null,null,null,"0403SP125CLG","3176700025     ","SP125 13-22A   ",""]
[null,null,null,null,null,null,null,"0403SP125CLG","3029700023     ","SP125 13-26    ",""]
[null,null,null,null,null,null,null,"0403SP125CLP","3016400026     ","SP125 13-3     ",""]
[null,null,null,null,null,null,null,"0403SP125BSM","3035900026     ","SP125 13-30    ",""]
[null,null,null,null,null,null,null,"0403SP125CLG","3027400028     ","SP125 13-35    ",""]
[null,null,null,null,null,null,null,"0403SP125CLP","3116900026     ","SP125 13-36    ",""]
[null,null,null,null,null,null,null,"0403SP125CLG","3176700025     ","SP125 13-38    ",""]
[null,null,null,null,null,null,null,"0403SP125CLP","3016400026     ","SP125 13-4     ",""]
[null,null,null,null,null,null,null,"0403SP125CLG","3176700025     ","SP125 13-40    ",""]
[null,null,null,null,null,null,null,"0403SP125CLG","3176700025     ","SP125 13-40A   ",""]
[null,null,null,null,null,null,null,"0403SP125CLG","3132700027     ","SP125 13-42    ",""]
[null,null,null,null,null,null,null,"0403SP125CLG","3176700025     ","SP125 13-44    ",""]
[null,null,null,null,null,null,null,"0403SP125CLG","3176700025     ","SP125 13-45    ",""]
[null,null,null,null,null,null,null,"0403SP125CLG","3176700025     ","SP125 13-45A   ",""]
[null,null,null,null,null,null,null,"0403SP125CLG","3176700025     ","SP125 13-46    ",""]
[null,null,null,null,null,null,null,"0403SP125CLG","3176700025     ","SP125 13-5     ",""]
[null,null,null,null,null,null,null,"0403SP125CLG","3298500021     ","SP125 13-51    ",""]
[null,null,null,null,null,null,null,"0403SP125C","3200700120     ","SP125 13-53    ",""]
[null,null,null,null,null,null,null,"0403SP125C","3200700120     ","SP125 13-53A   ",""]
[null,null,null,null,null,null,null,"0403SP125BSM","3008600023     ","SP125 13-54    ",""]
[null,null,null,null,null,null,null,"0403SP125CLG","3008600023     ","SP125 13-56    ",""]
[null,null,null,null,null,null,null,"0403SP125CLG","3116900026     ","SP125 13-59    ",""]
[null,null,null,null,null,null,null,"0403SP125CLG","3176700025     ","SP125 13-5A    ",""]
[null,null,null,null,null,null,null,"0403SP125CLG","3176700025     ","SP125 13-5B    ",""]
[null,null,null,null,null,null,null,"0403SP125B","3176704614     ","SP125 13-65    ",""]
[null,null,null,null,null,null,null,"0403SP125C","3016400026     ","SP125 13-7     ",""]
[null,null,null,null,null,null,null,"0403SP125B","3176700025     ","SP125 13-70    ",""]
[null,null,null,null,null,null,null,"0403SP125B","3176700025     ","SP125 13-70A   ",""]
[null,null,null,null,null,null,null,"0403SP125CLG","3176700025     ","SP125 13-76    ",""]
[null,null,null,null,null,null,null,"0403SP125BSMR","3176700025     ","SP125 13-79    ",""]
[null,null,null,null,null,null,null,"0403SP125C","3016400026     ","SP125 13-8     ",""]
[null,null,null,null,null,null,null,"0403SP125B","3056900024     ","SP125 13-80    ",""]
[null,null,null,null,null,null,null,"0403SP125CLG","3176700025     ","SP125 13-81    ",""]
[null,null,null,null,null,null,null,"0403SP125CLG","3176700025     ","SP125 13-83    ",""]
[null,null,null,null,null,null,null,"0403SP125CLG","3029700023     ","SP125 13-84    ",""]
[null,null,null,null,null,null,null,"0403SP125CLG","3029700023     ","SP125 13-84A   ",""]
[null,null,null,null,null,null,null,"0403SP125CLG","3008600023     ","SP125 13-86    ",""]
[null,null,null,null,null,null,null,"0403SP125B","3008600023     ","SP125 13-89    ",""]
[null,null,null,null,null,null,null,"0403SP125CLGLP","3035900026     ","SP125 13-9     ",""]
[null,null,null,null,null,null,null,"0403SP125CLG","3176700025     ","SP125 13-91    ",""]
[null,null,null,null,null,null,null,"0403SP125CLG","3008600023     ","SP125 13-92    ",""]
[null,null,null,null,null,null,null,"0403SP125CLG","3008600023     ","SP125 13-92A   ",""]
[null,null,null,null,null,null,null,"0403SP125CLG","3008600023     ","SP125 13-92B   ",""]
[null,null,null,null,null,null,null,"0403SP125BSMR","3176700025     ","SP125 13-93    ",""]
[null,null,null,null,null,null,null,"0403SP125CLG","3176700025     ","SP125 13-95    ",""]
[null,null,null,null,null,null,null,"0403SP125CLG","3176700025     ","SP125 13-96    ",""]
[null,null,null,null,null,null,null,"0403SP125CLG","3035900026     ","SP125 13-99    ",""]
[null,null,null,null,null,null,null,"0403SP125CLGLP","3035900026     ","SP125 13-9A    ",""]
[null,null,null,null,null,null,null,"0403SP125CLGLP","3035900026     ","SP125 13-9B    ",""]
[null,null,null,null,null,null,null,"0403SP125CLG","3176700025     ","SP125 14-1     ",""]
[null,null,null,null,null,null,null,"0403SP125B","3020400021     ","SP125 14-3     ",""]
[null,null,null,null,null,null,null,"0403SP190C","3008600023     ","SP190 10-144B  ",""]
[null,null,null,null,null,null,null,"0403SP190CLG","3008600023     ","SP190 11-104   ",""]
[null,null,null,null,null,null,null,"0403SP190CLG","3008600023     ","SP190 11-104A  ",""]
[null,null,null,null,null,null,null,"0403SP190B","3298500021     ","SP190 11-105   ",""]
[null,null,null,null,null,null,null,"0403SP190B","3298500021     ","SP190 11-105A  ",""]
[null,null,null,null,null,null,null,"0403SP190CLG","3298500021     ","SP190 11-113   ",{"$f":"IF(H1217=$H$60, IF(I1217=$I$60, J1217,\"\"),\"\")","v":""}]
[null,null,null,null,null,null,null,"0403SP190CLG","3298500021     ","SP190 11-114   ",""]
[null,null,null,null,null,null,null,"0403SP190B","3035900026     ","SP190 11-12    ",""]
[null,null,null,null,null,null,null,"0403SP190B","3035900026     ","SP190 11-12A   ",""]
[null,null,null,null,null,null,null,"0403SP190B","3035900026     ","SP190 11-12C   ",""]
[null,null,null,null,null,null,null,"0403SP190CLG","3035900026     ","SP190 11-15    ",""]
[null,null,null,null,null,null,null,"0403SP190CLG","3035900026     ","SP190 11-15A   ",""]
[null,null,null,null,null,null,null,"0403SP190CLG","3029700023     ","SP190 11-17    ",""]
[null,null,null,null,null,null,null,"0403SP190B","3027400028     ","SP190 11-2     ",""]
[null,null,null,null,null,null,null,"0403SP190CLG","3176700025     ","SP190 11-32    ",""]
[null,null,null,null,null,null,null,"0403SP190CLG","3176700025     ","SP190 11-33    ",""]
[null,null,null,null,null,null,null,"0403SP190CLG","3008600023     ","SP190 11-35    ",""]
[null,null,null,null,null,null,null,"0403SP190B","3035900026     ","SP190 11-45    ",""]
[null,null,null,null,null,null,null,"0403SP190CLG","3176700025     ","SP190 11-5     ",""]
[null,null,null,null,null,null,null,"0403SP190B","3035900026     ","SP190 11-51    ",""]
[null,null,null,null,null,null,null,"0403SP190B","3035900026     ","SP190 11-51A   ",""]
[null,null,null,null,null,null,null,"0403SP190B","3035900026     ","SP190 11-51B   ",""]
[null,null,null,null,null,null,null,"0403SP190CLG","3029700023     ","SP190 11-53    ",""]
[null,null,null,null,null,null,null,"0403SP190CLG","3176700025     ","SP190 11-54    ",""]
[null,null,null,null,null,null,null,"0403SP190B","3035900026     ","SP190 11-56    ",""]
[null,null,null,null,null,null,null,"0403SP190B","3035900026     ","SP190 11-56A   ",""]
[null,null,null,null,null,null,null,"0403SP190B","3035900026     ","SP190 11-56B   ",""]
[null,null,null,null,null,null,null,"0403SP190B","3035900026     ","SP190 11-57    ",""]
[null,null,null,null,null,null,null,"0403SP190CLG","3176700025     ","SP190 11-5A    ",""]
[null,null,null,null,null,null,null,"0403SP190CLG","3176700025     ","SP190 11-5B    ",""]
[null,null,null,null,null,null,null,"0403SP190CLG","3176700025     ","SP190 11-5C    ",""]
[null,null,null,null,null,null,null,"0403SP190CLG","3027400028     ","SP190 11-60    ",""]
[null,null,null,null,null,null,null,"0403SP190CLG","3027400028     ","SP190 11-60A   ",""]
[null,null,null,null,null,null,null,"0403SP190CLG","3176700025     ","SP190 11-61    ",""]
[null,null,null,null,null,null,null,"0403SP190CLG","3176700025     ","SP190 11-61A   ",""]
[null,null,null,null,null,null,null,"0403SP190CLG","3176700025     ","SP190 11-61B   ",""]
[null,null,null,null,null,null,null,"0403SP190B","3176700025     ","SP190 11-62    ",""]
[null,null,null,null,null,null,null,"0403SP190B","3176700025     ","SP190 11-67    ",""]
[null,null,null,null,null,null,null,"0403SP190CLG","3176700025     ","SP190 11-68    ",""]
[null,null,null,null,null,null,null,"0403SP190B","3008600023     ","SP190 11-70    ",""]
[null,null,null,null,null,null,null,"0403SP190CLG","3027400028     ","SP190 11-72    ",""]
[null,null,null,null,null,null,null,"0403SP190CLG","3027400028     ","SP190 11-74    ",""]
[null,null,null,null,null,null,null,"0403SP190CLG","3008600023     ","SP190 11-76    ",""]
[null,null,null,null,null,null,null,"0403SP190CLG","3008600023     ","SP190 11-77    ",""]
[null,null,null,null,null,null,null,"0403SP190B","3298500021     ","SP190 11-86    ",""]
[null,null,null,null,null,null,null,"0403SP190CLG","3027400028     ","SP190 11-88    ",""]
[null,null,null,null,null,null,null,"0403SP190CLG","3298500021     ","SP190 11-92    ",""]
[null,null,null,null,null,null,null,"0403SP190CLG","3298500021     ","SP190 11-92A   ",""]
[null,null,null,null,null,null,null,"0403SP190CLG","3008600023     ","SP190 11-93    ",""]
[null,null,null,null,null,null,null,"0403SP190B","3056900024     ","SP190 11-99    ",""]
[null,null,null,null,null,null,null,"0403SP190B","3200700120     ","SP190 12-12    ",""]
[null,null,null,null,null,null,null,"0403SP190B","3200700120     ","SP190 12-12A   ",""]
[null,null,null,null,null,null,null,"0403SP190B","3200700120     ","SP190 12-14    ",""]
[null,null,null,null,null,null,null,"0403SP190B","3200700120     ","SP190 12-14A   ",""]
[null,null,null,null,null,null,null,"0403SP190B","3008600023     ","SP190 12-18    ",""]
[null,null,null,null,null,null,null,"0403SP190CLG","3057100025     ","SP190 12-21    ",""]
[null,null,null,null,null,null,null,"0403SP190CLG","3057100025     ","SP190 12-21A   ",""]
[null,null,null,null,null,null,null,"0403SP190CLG","3035900026     ","SP190 12-26    ",""]
[null,null,null,null,null,null,null,"0403SP190CLG","3029700023     ","SP190 12-34    ",""]
[null,null,null,null,null,null,null,"0403SP190CLG","3176700025     ","SP190 12-44    ",""]
[null,null,null,null,null,null,null,"0403SP190CLG","3176700025     ","SP190 12-44A   ",""]
[null,null,null,null,null,null,null,"0403SP190CLG","3176700025     ","SP190 12-61    ",""]
[null,null,null,null,null,null,null,"0403SP190CLG","3029700023     ","SP190 12-64    ",""]
[null,null,null,null,null,null,null,"0403SP190CLG","3029700023     ","SP190 12-64A   ",""]
[null,null,null,null,null,null,null,"0403SP190CLG","3029700023     ","SP190 12-64B   ",""]
[null,null,null,null,null,null,null,"0403SP190CLG","3056900024     ","SP190 12-66    ",""]
[null,null,null,null,null,null,null,"0403SP190CLG","3056900024     ","SP190 12-66A   ",""]
[null,null,null,null,null,null,null,"0403SP190CLG","3008600023     ","SP190 12-69    ",""]
[null,null,null,null,null,null,null,"0403SP190CLG","3176700025     ","SP190 12-79    ",""]
[null,null,null,null,null,null,null,"0403SP190C","3016400026     ","SP190 13-1     ",{"$f":"IF(H1281=$H$60, IF(I1281=$I$60, J1281,\"\"),\"\")","v":""}]
[null,null,null,null,null,null,null,"0403SP190CLG","3035900026     ","SP190 13-10    ",""]
[null,null,null,null,null,null,null,"0403SP190B","3008600023     ","SP190 13-100   ",""]
[null,null,null,null,null,null,null,"0403SP190B","3020400021     ","SP190 13-102   ",""]
[null,null,null,null,null,null,null,"0403SP190B","3020400021     ","SP190 13-106   ",""]
[null,null,null,null,null,null,null,"0403SP190CLG","3035900026     ","SP190 13-10A   ",""]
[null,null,null,null,null,null,null,"0403SP190CLG","3035900026     ","SP190 13-11    ",""]
[null,null,null,null,null,null,null,"0403SP190B","3016400026     ","SP190 13-17    ",""]
[null,null,null,null,null,null,null,"0403SP190C","3016400026     ","SP190 13-1A    ",""]
[null,null,null,null,null,null,null,"0403SP190C","3016400026     ","SP190 13-2     ",""]
[null,null,null,null,null,null,null,"0403SP190CLG","3027400028     ","SP190 13-21    ",""]
[null,null,null,null,null,null,null,"0403SP190B","3008600023     ","SP190 13-27    ",""]
[null,null,null,null,null,null,null,"0403SP190CLG","3008600023     ","SP190 13-28    ",""]
[null,null,null,null,null,null,null,"0403SP190CLG","3035900026     ","SP190 13-29    ",""]
[null,null,null,null,null,null,null,"0403SP190C","3016400026     ","SP190 13-2A    ",""]
[null,null,null,null,null,null,null,"0403SP190C","3020400021     ","SP190 13-31    ",""]
[null,null,null,null,null,null,null,"0403SP190C","3020400021     ","SP190 13-32    ",""]
[null,null,null,null,null,null,null,"0403SP190CLG","3176700025     ","SP190 13-33    ",""]
[null,null,null,null,null,null,null,"0403SP190CLG","3176700025     ","SP190 13-34    ",""]
[null,null,null,null,null,null,null,"0403SP190CLG","3176700025     ","SP190 13-47    ",""]
[null,null,null,null,null,null,null,"0403SP190B","3008600023     ","SP190 13-48    ",""]
[null,null,null,null,null,null,null,"0403SP190CLG","3298500021     ","SP190 13-49    ",""]
[null,null,null,null,null,null,null,"0403SP190CLG","3056900024     ","SP190 13-55    ",""]
[null,null,null,null,null,null,null,"0403SP190B","3016400026     ","SP190 13-6     ",""]
[null,null,null,null,null,null,null,"0403SP190B","3008600023     ","SP190 13-60    ",""]
[null,null,null,null,null,null,null,"0403SP190CLG","3176700025     ","SP190 13-61    ",""]
[null,null,null,null,null,null,null,"0403SP190CLG","3176700025     ","SP190 13-61A   ",""]
[null,null,null,null,null,null,null,"0403SP190CLG","3298500021     ","SP190 13-63    ",""]
[null,null,null,null,null,null,null,"0403SP190B","3016400026     ","SP190 13-6A    ",""]
[null,null,null,null,null,null,null,"0403SP190B","3176700025     ","SP190 13-72    ",""]
[null,null,null,null,null,null,null,"0403SP190CLG","3035900026     ","SP190 13-77    ",""]
[null,null,null,null,null,null,null,"0403SP190CLG","3176700025     ","SP190 13-90    ",""]
[null,null,null,null,null,null,null,"0403SP190CLG","3035900026     ","SP190 13-98    ",""]
[null,null,null,null,null,null,null,"0403SP190C","3020400021     ","SP190 14-5     ",""]
[null,null,null,null,null,null,null,"0403SP250HC","3176700025     ","SP250 01-283   ",""]
[null,null,null,null,null,null,null,"0403SP250CLG","3176700025     ","SP250 10-88C   ",""]
[null,null,null,null,null,null,null,"0403SP250CLG","3027400028     ","SP250 11-102   ",""]
[null,null,null,null,null,null,null,"0403SP250CLG","3027400028     ","SP250 11-103   ",""]
[null,null,null,null,null,null,null,"0403SP250CLG","3027400028     ","SP250 11-103A  ",""]
[null,null,null,null,null,null,null,"0403SP250CLG","3176700025     ","SP250 11-18    ",""]
[null,null,null,null,null,null,null,"0403SP250CLG","3176700025     ","SP250 11-18A   ",""]
[null,null,null,null,null,null,null,"0403SP250CLG","3027400028     ","SP250 11-26    ",""]
[null,null,null,null,null,null,null,"0403SP250B","3027400028     ","SP250 11-28    ",""]
[null,null,null,null,null,null,null,"0403SP250B","3050100028     ","SP250 11-3     ",""]
[null,null,null,null,null,null,null,"0403SP250B","3027400028     ","SP250 11-31    ",""]
[null,null,null,null,null,null,null,"0403SP250B","3027400028     ","SP250 11-31A   ",""]
[null,null,null,null,null,null,null,"0403SP250B","3050100028     ","SP250 11-3A    ",""]
[null,null,null,null,null,null,null,"0403SP250B","3050100028     ","SP250 11-3B    ",""]
[null,null,null,null,null,null,null,"0403SP250CLG","3176700025     ","SP250 11-41    ",""]
[null,null,null,null,null,null,null,"0403SP250CLG","3027400028     ","SP250 11-87    ",""]
[null,null,null,null,null,null,null,"0403SP250CLG","3176700025     ","SP250 12-2     ",""]
[null,null,null,null,null,null,null,"0403SP250CLG","3176700025     ","SP250 12-29    ",""]
[null,null,null,null,null,null,null,"0403SP250CLG","3176700025     ","SP250 12-2A    ",""]
[null,null,null,null,null,null,null,"0403SP250CLG","3176700025     ","SP250 12-3     ",""]
[null,null,null,null,null,null,null,"0403SP250CLG","3027400028     ","SP250 12-42    ",""]
[null,null,null,null,null,null,null,"0403SP250CLG","3027400028     ","SP250 12-43    ",""]
[null,null,null,null,null,null,null,"0403SP250CLG","3027400028     ","SP250 12-43A   ",""]
[null,null,null,null,null,null,null,"0403SP250CLG","3176700025     ","SP250 12-70    ",""]
[null,null,null,null,null,null,null,"0403SP250CLG","3176700025     ","SP250 12-70A   ",""]
[null,null,null,null,null,null,null,"0403SP250B","3132800027     ","SP250 12-72    ",""]
[null,null,null,null,null,null,null,"0403SP250B","3132800027     ","SP250 12-72A   ",""]
[null,null,null,null,null,null,null,"0403SP250C","3132800027     ","SP250 12-9     ",""]
[null,null,null,null,null,null,null,"0403SP250C","3132800027     ","SP250 12-9A    ",""]
[null,null,null,null,null,null,null,"0403SP250C","3132800027     ","SP250 12-9B    ",""]
[null,null,null,null,null,null,null,"0403SP250CLG","3027400028     ","SP250 13-24    ",{"$f":"IF(H1345=$H$60, IF(I1345=$I$60, J1345,\"\"),\"\")","v":""}]
[null,null,null,null,null,null,null,"0403SP250CLG","3027400028     ","SP250 13-25    ",""]
[null,null,null,null,null,null,null,"0403SP250CLG","3176700025     ","SP250 13-39    ",""]
[null,null,null,null,null,null,null,"0403SP250CLG","3176700025     ","SP250 13-41    ",""]
[null,null,null,null,null,null,null,"0403SP250CLG","3132700027     ","SP250 13-43    ",""]
[null,null,null,null,null,null,null,"0403SP250CLG","3298500021     ","SP250 13-52    ",""]
[null,null,null,null,null,null,null,"0302PBAS","3050100028     ","SPB11-1        ",""]
[null,null,null,null,null,null,null,"0302PBAS","3176700025     ","SPB11-5        ",""]
[null,null,null,null,null,null,null,"0302PBAS","3176700025     ","SPB11-8        ",""]
[null,null,null,null,null,null,null,"0302PBAS","3035900026     ","SPB12-10       ",""]
[null,null,null,null,null,null,null,"0413UBWSACTB","3176700025     ","UBAWS 11-10    ",""]
[null,null,null,null,null,null,null,"0413UBWSACTB","3176700025     ","UBAWS 11-10A   ",""]
[null,null,null,null,null,null,null,"0413UBWSACTB","3176700025     ","UBAWS 11-10B   ",""]
[null,null,null,null,null,null,null,"0413UBWSACTC","3035900026     ","UBAWS 11-11    ",""]
[null,null,null,null,null,null,null,"0413UBWSACTC","3035900026     ","UBAWS 11-11A   ",""]
[null,null,null,null,null,null,null,"0413UBWSACTB","3056900024     ","UBAWS 11-12    ",""]
[null,null,null,null,null,null,null,"0413UBWSACTA","3016400026     ","UBAWS 11-13    ",""]
[null,null,null,null,null,null,null,"0413UBWSACTB","3056900024     ","UBAWS 11-14    ",""]
[null,null,null,null,null,null,null,"0413UBWSACTC","3176700025     ","UBAWS 11-15    ",""]
[null,null,null,null,null,null,null,"0413UBWSACTA","3035900026     ","UBAWS 11-16    ",""]
[null,null,null,null,null,null,null,"0413UBWSACTA","3035900026     ","UBAWS 11-16A   ",""]
[null,null,null,null,null,null,null,"0413UBWSACTA","3035900026     ","UBAWS 11-17    ",""]
[null,null,null,null,null,null,null,"0413UBWSACTC","3020400021     ","UBAWS 11-18    ",""]
[null,null,null,null,null,null,null,"0413UBWSACTC","3020400021     ","UBAWS 11-2     ",{"$f":"IF(H1368=$H$60, IF(I1368=$I$60, J1368,\"\"),\"\")","v":""}]
[null,null,null,null,null,null,null,"0413UBWSACTC","3029700023     ","UBAWS 11-20    ",""]
[null,null,null,null,null,null,null,"0413UBWSACTA","3020400021     ","UBAWS 11-3     ",""]
[null,null,null,null,null,null,null,"0413UBWSACTC","3016400026     ","UBAWS 11-4     ",""]
[null,null,null,null,null,null,null,"0413UBWSACTA","3176700025     ","UBAWS 11-6     ",""]
[null,null,null,null,null,null,null,"0413UBWSACTA","3176700025     ","UBAWS 11-7     ",""]
[null,null,null,null,null,null,null,"0413UBWSACTC","3176700025     ","UBAWS 11-9     ",""]
[null,null,null,null,null,null,null,"0413UBWSACTC","3176700025     ","UBAWS 11-9A    ",""]
[null,null,null,null,null,null,null,"0413UBWSACTB","3132800027     ","UBAWS 12-1     ",""]
[null,null,null,null,null,null,null,"0413UBWSACTC","3176700025     ","UBAWS 12-11    ",""]
[null,null,null,null,null,null,null,"0413UBWSACTC","3176700025     ","UBAWS 12-11A   ",""]
[null,null,null,null,null,null,null,"0413UBWSACTC","3027400028     ","UBAWS 12-12    ",""]
[null,null,null,null,null,null,null,"0413UBWSACTB","3027400028     ","UBAWS 12-13    ",""]
[null,null,null,null,null,null,null,"0413UBWSACTC","3008600023     ","UBAWS 12-14    ",""]
[null,null,null,null,null,null,null,"0413UBWSACTC","3176700025     ","UBAWS 12-15    ",""]
[null,null,null,null,null,null,null,"0413UBWSACTC","3176700025     ","UBAWS 12-15A   ",""]
[null,null,null,null,null,null,null,"0413UBWSACTC","3008600023     ","UBAWS 12-16    ",""]
[null,null,null,null,null,null,null,"0413UBWSACTC","3176700025     ","UBAWS 12-17    ",""]
[null,null,null,null,null,null,null,"0413UBWSACTC","3116901059     ","UBAWS 12-18    ",""]
[null,null,null,null,null,null,null,"0413UBWSACTA","3016400026     ","UBAWS 12-2     ",""]
[null,null,null,null,null,null,null,"0413UBWSACTC","3029700023     ","UBAWS 12-3     ",""]
[null,null,null,null,null,null,null,"0413UBWSACTA","3016400026     ","UBAWS 12-5     ",""]
[null,null,null,null,null,null,null,"0413UBWSACTC","3016400026     ","UBAWS 12-6     ",""]
[null,null,null,null,null,null,null,"0413UBWSACTC","3116901059     ","UBAWS 12-7     ",""]
[null,null,null,null,null,null,null,"0413UBWSACTC","3008600023     ","UBAWS 12-8     ",""]
[null,null,null,null,null,null,null,"0413UBWSACTB","3056900024     ","UBAWS 12-9     ",""]
[null,null,null,null,null,null,null,"0413UBWSACTC","3035900026     ","UBAWS 13-1     ",""]
[null,null,null,null,null,null,null,"0413UBWSACTC","3008600023     ","UBAWS 13-10    ",""]
[null,null,null,null,null,null,null,"0413UBWSACTC","3020400021     ","UBAWS 13-11    ",""]
[null,null,null,null,null,null,null,"0413UBWSACTC","3176700025     ","UBAWS 13-12    ",""]
[null,null,null,null,null,null,null,"0413UBWSACTC","3016400026     ","UBAWS 13-2     ",""]
[null,null,null,null,null,null,null,"0413UBWSACTC","3056900024     ","UBAWS 13-3     ",""]
[null,null,null,null,null,null,null,"0413UBWSACTB","3056900024     ","UBAWS 13-4     ",""]
[null,null,null,null,null,null,null,"0413UBWSACTC","3176700025     ","UBAWS 13-5     ",""]
[null,null,null,null,null,null,null,"0413UBWSACTC","3035900026     ","UBAWS 13-6     ",""]
[null,null,null,null,null,null,null,"0413UBWSACTC","3176700025     ","UBAWS 13-7     ",""]
[null,null,null,null,null,null,null,"0413UBWSACTC","3029700023     ","UBAWS 13-8     ",""]
[null,null,null,null,null,null,null,"0413UBWSACTC","3008600023     ","UBAWS 13-9     ",""]
[null,null,null,null,null,null,null,"0413UBWSACTC","3116900026     ","UBX 11-19      ",""]
[null,null,null,null,null,null,null,null,null,null,{"$error":"#N/A"}]
[null,null,null,null,null,null,null,null,null,null,{"$error":"#N/A"}]
[null,null,null,null,null,null,null,null,null,null,{"$f":"IF(H1409=$H$60, IF(I1409=$I$60, J1409,\"\"),\"\")","v":{"$error":"#N/A"}}]
[null,null,null,null,null,null,null,null,null,null,{"$error":"#N/A"}]
[null,null,null,null,null,null,null,null,null,null,{"$error":"#N/A"}]
[null,null,null,null,null,null,null,null,null,null,{"$error":"#N/A"}]
[null,null,null,null,null,null,null,null,null,null,{"$error":"#N/A"}]
[null,null,null,null,null,null,null,null,null,null,{"$error":"#N/A"}]
[null,null,null,null,null,null,null,null,null,null,{"$error":"#N/A"}]
[null,null,null,null,null,null,null,null,null,null,{"$error":"#N/A"}]
[null,null,null,null,null,null,null,null,null,null,{"$error":"#N/A"}]
[null,null,null,null,null,null,null,null,null,null,{"$error":"#N/A"}]
[null,null,null,null,null,null,null,null,null,null,{"$error":"#N/A"}]
[null,null,null,null,null,null,null,null,null,null,{"$error":"#N/A"}]
[null,null,null,null,null,null,null,null,null,null,{"$error":"#N/A"}]
[null,null,null,null,null,null,null,null,null,null,{"$error":"#N/A"}]
[null,null,null,null,null,null,null,null,null,null,{"$error":"#N/A"}]
[null,null,null,null,null,null,null,null,null,null,{"$error":"#N/A"}]
[null,null,null,null,null,null,null,null,null,null,{"$error":"#N/A"}]
[null,null,null,null,null,null,null,null,null,null,{"$error":"#N/A"}]
[null,null,null,null,null,null,null,null,null,null,{"$error":"#N/A"}]
[null,null,null,null,null,null,null,null,null,null,{"$error":"#N/A"}]
[null,null,null,null,null,null,null,null,null,null,{"$error":"#N/A"}]
[null,null,null,null,null,null,null,null,null,null,{"$error":"#N/A"}]
[null,null,null,null,null,null,null,null,null,null,{"$error":"#N/A"}]
[null,null,null,null,null,null,null,null,null,null,{"$error":"#N/A"}]
[null,null,null,null,null,null,null,null,null,null,{"$error":"#N/A"}]
[null,null,null,null,null,null,null,null,null,null,{"$error":"#N/A"}]
[null,null,null,null,null,null,null,null,null,null,{"$error":"#N/A"}]
[null,null,null,null,null,null,null,null,null,null,{"$error":"#N/A"}]
[null,null,null,null,null,null,null,null,null,null,{"$error":"#N/A"}]
[null,null,null,null,null,null,null,null,null,null,{"$error":"#N/A"}]
[null,null,null,null,null,null,null,null,null,null,{"$error":"#N/A"}]
[null,null,null,null,null,null,null,null,null,null,{"$error":"#N/A"}]
[null,null,null,null,null,null,null,null,null,null,{"$error":"#N/A"}]
[null,null,null,null,null,null,null,null,null,null,{"$error":"#N/A"}]
[null,null,null,null,null,null,null,null,null,null,{"$error":"#N/A"}]
[null,null,null,null,null,null,null,null,null,null,{"$error":"#N/A"}]
[null,null,null,null,null,null,null,null,null,null,{"$error":"#N/A"}]
[null,null,null,null,null,null,null,null,null,null,{"$error":"#N/A"}]
[null,null,null,null,null,null,null,null,null,null,{"$error":"#N/A"}]
[null,null,null,null,null,null,null,null,null,null,{"$error":"#N/A"}]
[null,null,null,null,null,null,null,null,null,null,{"$error":"#N/A"}]
[null,null,null,null,null,null,null,null,null,null,{"$error":"#N/A"}]
[null,null,null,null,null,null,null,null,null,null,{"$error":"#N/A"}]
[null,null,null,null,null,null,null,null,null,null,{"$error":"#N/A"}]
[null,null,null,null,null,null,null,null,null,null,{"$error":"#N/A"}]
[null,null,null,null,null,null,null,null,null,null,{"$error":"#N/A"}]
[null,null,null,null,null,null,null,null,null,null,{"$error":"#N/A"}]
[null,null,null,null,null,null,null,null,null,null,{"$error":"#N/A"}]
[null,null,null,null,null,null,null,null,null,null,{"$error":"#N/A"}]
[null,null,null,null,null,null,null,null,null,null,{"$error":"#N/A"}]
[null,null,null,null,null,null,null,null,null,null,{"$error":"#N/A"}]
[null,null,null,null,null,null,null,null,null,null,{"$error":"#N/A"}]
[null,null,null,null,null,null,null,null,null,null,{"$error":"#N/A"}]
[null,null,null,null,null,null,null,null,null,null,{"$error":"#N/A"}]
[null,null,null,null,null,null,null,null,null,null,{"$error":"#N/A"}]
[null,null,null,null,null,null,null,null,null,null,{"$error":"#N/A"}]
[null,null,null,null,null,null,null,null,null,null,{"$error":"#N/A"}]
[null,null,null,null,null,null,null,null,null,null,{"$error":"#N/A"}]
[null,null,null,null,null,null,null,null,null,null,{"$error":"#N/A"}]
[null,null,null,null,null,null,null,null,null,null,{"$error":"#N/A"}]
[null,null,null,null,null,null,null,null,null,null,{"$error":"#N/A"}]
[null,null,null,null,null,null,null,null,null,null,{"$error":"#N/A"}]
[null,null,null,null,null,null,null,null,null,null,{"$error":"#N/A"}]
[null,null,null,null,null,null,null,null,null,null,{"$error":"#N/A"}]
[null,null,null,null,null,null,null,null,null,null,{"$f":"IF(H1473=$H$60, IF(I1473=$I$60, J1473,\"\"),\"\")","v":{"$error":"#N/A"}}]
[null,null,null,null,null,null,null,null,null,null,{"$error":"#N/A"}]
[null,null,null,null,null,null,null,null,null,null,{"$error":"#N/A"}]
[null,null,null,null,null,null,null,null,null,null,{"$error":"#N/A"}]
[null,null,null,null,null,null,null,null,null,null,{"$error":"#N/A"}]
[null,null,null,null,null,null,null,null,null,null,{"$error":"#N/A"}]
[null,null,null,null,null,null,null,null,null,null,{"$error":"#N/A"}]
[null,null,null,null,null,null,null,null,null,null,{"$error":"#N/A"}]
[null,null,null,null,null,null,null,null,null,null,{"$error":"#N/A"}]
[null,null,null,null,null,null,null,null,null,null,{"$error":"#N/A"}]
[null,null,null,null,null,null,null,null,null,null,{"$error":"#N/A"}]
[null,null,null,null,null,null,null,null,null,null,{"$error":"#N/A"}]
[null,null,null,null,null,null,null,null,null,null,{"$error":"#N/A"}]
[null,null,null,null,null,null,null,null,null,null,{"$error":"#N/A"}]
[null,null,null,null,null,null,null,null,null,null,{"$error":"#N/A"}]
[null,null,null,null,null,null,null,null,null,null,{"$error":"#N/A"}]
[null,null,null,null,null,null,null,null,null,null,{"$error":"#N/A"}]
[null,null,null,null,null,null,null,null,null,null,{"$error":"#N/A"}]
[null,null,null,null,null,null,null,null,null,null,{"$error":"#N/A"}]
[null,null,null,null,null,null,null,null,null,null,{"$error":"#N/A"}]
[null,null,null,null,null,null,null,null,null,null,{"$error":"#N/A"}]
[null,null,null,null,null,null,null,null,null,null,{"$error":"#N/A"}]
[null,null,null,null,null,null,null,null,null,null,{"$error":"#N/A"}]
[null,null,null,null,null,null,null,null,null,null,{"$error":"#N/A"}]
[null,null,null,null,null,null,null,null,null,null,{"$error":"#N/A"}]
[null,null,null,null,null,null,null,null,null,null,{"$error":"#N/A"}]
[null,null,null,null,null,null,null,null,null,null,{"$error":"#N/A"}]
[null,null,null,null,null,null,null,null,null,null,{"$error":"#N/A"}]
[null,null,null,null,null,null,null,null,null,null,{"$error":"#N/A"}]
[null,null,null,null,null,null,null,null,null,null,{"$error":"#N/A"}]
[null,null,null,null,null,null,null,null,null,null,{"$error":"#N/A"}]
[null,null,null,null,null,null,null,null,null,null,{"$error":"#N/A"}]
[null,null,null,null,null,null,null,null,null,null,{"$error":"#N/A"}]
[null,null,null,null,null,null,null,null,null,null,{"$error":"#N/A"}]
[null,null,null,null,null,null,null,null,null,null,{"$error":"#N/A"}]
[null,null,null,null,null,null,null,null,null,null,{"$error":"#N/A"}]
[null,null,null,null,null,null,null,null,null,null,{"$error":"#N/A"}]
[null,null,null,null,null,null,null,null,null,null,{"$error":"#N/A"}]
[null,null,null,null,null,null,null,null,null,null,{"$error":"#N/A"}]
[null,null,null,null,null,null,null,null,null,null,{"$error":"#N/A"}]
[null,null,null,null,null,null,null,null,null,null,{"$error":"#N/A"}]
[null,null,null,null,null,null,null,null,null,null,{"$error":"#N/A"}]
[null,null,null,null,null,null,null,null,null,null,{"$error":"#N/A"}]
[null,null,null,null,null,null,null,null,null,null,{"$error":"#N/A"}]
[null,null,null,null,null,null,null,null,null,null,{"$error":"#N/A"}]
[null,null,null,null,null,null,null,null,null,null,{"$error":"#N/A"}]
[null,null,null,null,null,null,null,null,null,null,{"$error":"#N/A"}]
[null,null,null,null,null,null,null,null,null,null,{"$error":"#N/A"}]
[null,null,null,null,null,null,null,null,null,null,{"$error":"#N/A"}]
[null,null,null,null,null,null,null,null,null,null,{"$error":"#N/A"}]
[null,null,null,null,null,null,null,null,null,null,{"$error":"#N/A"}]
[null,null,null,null,null,null,null,null,null,null,{"$error":"#N/A"}]
[null,null,null,null,null,null,null,null,null,null,{"$error":"#N/A"}]
[null,null,null,null,null,null,null,null,null,null,{"$error":"#N/A"}]
[null,null,null,null,null,null,null,null,null,null,{"$error":"#N/A"}]
[null,null,null,null,null,null,null,null,null,null,{"$error":"#N/A"}]
[null,null,null,null,null,null,null,null,null,null,{"$error":"#N/A"}]
[null,null,null,null,null,null,null,null,null,null,{"$error":"#N/A"}]
[null,null,null,null,null,null,null,null,null,null,{"$error":"#N/A"}]
[null,null,null,null,null,null,null,null,null,null,{"$error":"#N/A"}]
[null,null,null,null,null,null,null,null,null,null,{"$error":"#N/A"}]
[null,null,null,null,null,null,null,null,null,null,{"$error":"#N/A"}]
[null,null,null,null,null,null,null,null,null,null,{"$error":"#N/A"}]
[null,null,null,null,null,null,null,null,null,null,{"$error":"#N/A"}]
[null,null,null,null,null,null,null,null,null,null,{"$f":"IF(H1537=$H$60, IF(I1537=$I$60, J1537,\"\"),\"\")","v":{"$error":"#N/A"}}]
[null,null,null,null,null,null,null,null,null,null,{"$error":"#N/A"}]
[null,null,null,null,null,null,null,null,null,null,{"$error":"#N/A"}]
[null,null,null,null,null,null,null,null,null,null,{"$error":"#N/A"}]
[null,null,null,null,null,null,null,null,null,null,{"$error":"#N/A"}]
[null,null,null,null,null,null,null,null,null,null,{"$error":"#N/A"}]
[null,null,null,null,null,null,null,null,null,null,{"$error":"#N/A"}]
[null,null,null,null,null,null,null,null,null,null,{"$error":"#N/A"}]
[null,null,null,null,null,null,null,null,null,null,{"$error":"#N/A"}]
[null,null,null,null,null,null,null,null,null,null,{"$error":"#N/A"}]
[null,null,null,null,null,null,null,null,null,null,{"$error":"#N/A"}]
[null,null,null,null,null,null,null,null,null,null,{"$error":"#N/A"}]
[null,null,null,null,null,null,null,null,null,null,{"$error":"#N/A"}]
[null,null,null,null,null,null,null,null,null,null,{"$error":"#N/A"}]
[null,null,null,null,null,null,null,null,null,null,{"$error":"#N/A"}]
[null,null,null,null,null,null,null,null,null,null,{"$error":"#N/A"}]
[null,null,null,null,null,null,null,null,null,null,{"$error":"#N/A"}]
[null,null,null,null,null,null,null,null,null,null,{"$error":"#N/A"}]
[null,null,null,null,null,null,null,null,null,null,{"$error":"#N/A"}]
[null,null,null,null,null,null,null,null,null,null,{"$error":"#N/A"}]
[null,null,null,null,null,null,null,null,null,null,{"$error":"#N/A"}]
[null,null,null,null,null,null,null,null,null,null,{"$error":"#N/A"}]
[null,null,null,null,null,null,null,null,null,null,{"$error":"#N/A"}]
[null,null,null,null,null,null,null,null,null,null,{"$error":"#N/A"}]
[null,null,null,null,null,null,null,null,null,null,{"$error":"#N/A"}]

{"sheet":"Test 2","index":5,"n_rows":76,"n_cols":46,"rows_kept":76,"cut":false,"hidden":false,"merged":[[21,3,21,5],[21,7,21,9],[21,11,21,13],[21,15,21,17],[21,19,21,21],[68,22,68,24],[69,6,69,8],[69,10,69,12],[69,14,69,16],[69,18,69,20],[69,22,69,24],[22,7,22,9],[22,11,22,13],[22,15,22,17],[22,19,22,21],[23,11,23,13],[23,15,23,17],[23,19,23,21],[35,3,35,5],[35,7,35,9],[35,11,35,13],[35,15,35,17],[35,19,35,21],[25,7,25,9],[11,2,11,7],[11,8,11,20],[15,11,15,13],[15,15,15,17],[15,19,15,21],[19,3,19,5],[19,7,19,9],[19,11,19,13],[19,15,19,17],[19,19,19,21],[18,3,18,5],[18,7,18,9],[18,11,18,13],[18,15,18,17],[18,19,18,21],[2,4,3,6],[2,7,3,9],[2,10,3,12],[2,13,3,15],[2,16,3,18],[2,19,3,21],[5,19,6,21],[5,22,6,24],[0,4,1,24],[5,1,6,3],[5,4,6,6],[5,7,6,9],[5,10,6,12],[5,13,6,15],[5,16,6,18],[2,22,3,24],[17,3,17,5],[17,7,17,9],[17,11,17,13],[17,15,17,17],[17,19,17,21],[14,19,14,21],[16,3,16,5],[16,7,16,9],[16,11,16,13],[16,15,16,17],[16,19,16,21],[14,3,14,5],[14,7,14,9],[14,11,14,13],[14,15,14,17],[15,3,15,5],[15,7,15,9],[20,3,20,5],[20,7,20,9],[20,11,20,13],[20,15,20,17],[20,19,20,21],[22,3,22,5],[28,3,28,5],[28,7,28,9],[28,11,28,13],[28,15,28,17],[28,19,28,21],[27,3,27,5],[27,7,27,9],[27,11,27,13],[27,15,27,17],[27,19,27,21],[26,3,26,5],[26,7,26,9],[26,11,26,13],[26,15,26,17],[26,19,26,21],[25,3,25,5],[23,3,23,5],[23,7,23,9],[31,0,32,2],[31,3,31,5],[31,7,31,9],[31,11,31,13],[31,15,31,17],[31,19,31,21],[29,3,29,5],[29,7,29,9],[29,11,29,13],[29,15,29,17],[29,19,29,21],[25,11,25,13],[25,15,25,17],[25,19,25,21],[24,3,24,5],[24,7,24,9],[24,11,24,13],[24,15,24,17],[24,19,24,21],[36,3,36,5],[36,7,36,9],[36,11,36,13],[36,15,36,17],[36,19,36,21],[42,3,42,5],[42,7,42,9],[42,11,42,13],[42,15,42,17],[42,19,42,21],[38,0,39,2],[38,3,38,5],[38,7,38,9],[38,11,38,13],[38,15,38,17],[38,19,38,21],[44,3,44,5],[44,7,44,9],[44,11,44,13],[44,15,44,17],[44,19,44,21],[43,3,43,5],[43,7,43,9],[43,11,43,13],[43,15,43,17],[43,19,43,21],[46,3,46,5],[46,7,46,9],[46,11,46,13],[46,15,46,17],[46,19,46,21],[45,3,45,5],[45,7,45,9],[45,11,45,13],[45,15,45,17],[45,19,45,21],[49,19,49,21],[48,3,48,5],[48,7,48,9],[48,11,48,13],[48,15,48,17],[48,19,48,21],[47,3,47,5],[47,7,47,9],[47,11,47,13],[47,15,47,17],[47,19,47,21],[51,0,52,2],[51,3,51,5],[51,7,51,9],[51,11,51,13],[51,15,51,17],[49,3,49,5],[49,7,49,9],[49,11,49,13],[49,15,49,17],[56,3,56,5],[56,7,56,9],[56,11,56,13],[56,15,56,17],[56,19,56,21],[51,19,51,21],[55,3,55,5],[55,7,55,9],[55,11,55,13],[55,15,55,17],[55,19,55,21],[57,3,57,5],[57,7,57,9],[57,11,57,13],[57,15,57,17],[57,19,57,21],[58,7,58,9],[58,11,58,13],[58,15,58,17],[58,19,58,21],[66,6,66,8],[66,10,66,12],[66,14,66,16],[68,14,68,16],[74,0,74,2],[72,3,73,5],[72,6,72,8],[60,19,60,21],[58,3,58,5],[60,0,61,2],[60,3,60,5],[60,7,60,9],[60,11,60,13],[60,15,60,17],[64,6,64,8],[64,10,64,12],[64,14,64,16],[64,18,64,20],[66,18,66,20],[68,18,68,20],[8,3,9,21],[72,10,72,12],[72,14,72,16],[72,18,72,20],[72,22,72,24],[66,22,66,24],[67,6,67,8],[67,10,67,12],[67,14,67,16],[67,18,67,20],[67,22,67,24],[70,6,70,8],[70,10,70,12],[70,14,70,16],[70,18,70,20],[70,22,70,24],[68,6,68,8],[68,10,68,12],[64,22,64,24],[65,6,65,8],[65,10,65,12],[65,14,65,16],[65,18,65,20],[65,22,65,24]]}
[null,null,null,null,{"$f":"Main!E1","v":"AWP Contractor Reporting E2O - Aggregates Contractor QC"}]
[null,null,null,null,null,null,null,null,null,null,null,null,null,null,null,null,null,null,null,null,null,null,null,null,null,"v",{"$f":"Main!AA2","v":"5.00"}]
[null,null,null,null," ",null,null,"Main",null,null,"Quantity",null,null,null,null,null,{"$f":"Main!Q3","v":"Send/Sync"},null,null,"Reports",null,null,"Help"]
[]
[]
[null,{"$f":"Main!B6","v":"General"},null,null,{"$f":"Main!E6","v":"Free Form"},null,null,{"$f":"IF(Main!H6=\"\",\"\",Main!H6)","v":"Bases"},null,null,{"$f":"IF(Main!K6=\"\",\"\",Main!K6)","v":"1005/3/9"},null,null,{"$f":"IF(Main!N6=\"\",\"\",Main!N6)","v":"SEL BACKFILL"},null,null,{"$f":"IF(Main!Q6=\"\",\"\",Main!Q6)","v":"QC/QA Split"},null,null,{"$f":"IF(Main!T6=\"\",\"\",Main!T6)","v":""},null,null,{"$f":"IF(Main!W6=\"\",\"\",Main!W6)","v":""}]
[]
[null,null,null,null,null,null,null,null,null,null,null,null,null,null,null,null,null,null,null,null,null,null,null,null,null,null,null,null,"checks"]
[null,null,null,"Concrete Aggregate or Section 1003 Aggregate for Seal Coats or Section 1009 Aggregate for Drainage",null,null,null,null,null,null,null,null,null,null,null,null,null,null,null,null,null,null,null,null,null,null,null,null,{"$f":"IF(AND(ISBLANK(I12),NOT(AD13=\"QCQA\")),IF(OR(LEFT(AD14,4)=\"1005\",LEFT(AD14,4)=\"1003\"),1,0),0)","v":0},"testor missing"]
[]
[]
[null,null,"Test Performed by:",null,null,null,null,null,null,null,null,null,null,null,null,null,null,null,null,null,null,null,null,null,null,null,null,null,null,{"$f":"NOT(AD13=\"QCQA\")","v":true}]
[null,null,null,null,null,null,null,null,null,null,null,null,null,null,null,null,null,null,null,null,null,null,null,null,null,null,null,null,null,{"$f":"Main!U40","v":"QCC"},null,"Populate 1003/1009 Grad?",{"$f":"IF(OR(ISBLANK(D30),AND(NOT((LEFT(AD14,4)=\"1003\")),NOT((LEFT(AD14,4)=\"1009\")))),IF(AND(OR(LEFT(AD14,4)=\"1003\",LEFT(AD14,4)=\"1009\"),COUNTA(D16:D30)>2),\"Y\",\"N\"),\"Y\")","v":"N"},{"$f":"IF(OR(ISBLANK(H30),AND(NOT((LEFT(AD14,4)=\"1003\")),NOT((LEFT(AD14,4)=\"1009\")))),IF(AND(OR(LEFT(AD14,4)=\"1003\",LEFT(AD14,4)=\"1009\"),COUNTA(H16:H30)>2),\"Y\",\"N\"),\"Y\")","v":"N"},{"$f":"IF(OR(ISBLANK(L30),AND(NOT((LEFT(AD14,4)=\"1003\")),NOT((LEFT(AD14,4)=\"1009\")))),IF(AND(OR(LEFT(AD14,4)=\"1003\",LEFT(AD14,4)=\"1009\"),COUNTA(L16:L30)>2),\"Y\",\"N\"),\"Y\")","v":"N"},{"$f":"IF(OR(ISBLANK(P30),AND(NOT((LEFT(AD14,4)=\"1003\")),NOT((LEFT(AD14,4)=\"1009\")))),IF(AND(OR(LEFT(AD14,4)=\"1003\",LEFT(AD14,4)=\"1009\"),COUNTA(P16:P30)>2),\"Y\",\"N\"),\"Y\")","v":"N"},{"$f":"IF(OR(ISBLANK(T30),AND(NOT((LEFT(AD14,4)=\"1003\")),NOT((LEFT(AD14,4)=\"1009\")))),IF(AND(OR(LEFT(AD14,4)=\"1003\",LEFT(AD14,4)=\"1009\"),COUNTA(T16:T30)>2),\"Y\",\"N\"),\"Y\")","v":"N"}]
[null,"Aggregate Component Gradations  (Percent Passing Only)",null,null,null,null,null,null,null,null,null,null,null,null,null,null,null,null,null,null,null,null,null,null,null,null,null,null,null,{"$f":"Main!F14","v":""},"Populate Gradation?",null,{"$f":"IF(OR(ISBLANK(D30),NOT((LEFT(AD14,4)=\"1005\"))),IF(AND(LEFT(AD14,4)=\"1005\",COUNTA(D16:D30)>2),\"Y\",\"N\"),\"Y\")","v":"N"},{"$f":"IF(OR(ISBLANK(H30),NOT((LEFT(AD14,4)=\"1005\"))),IF(AND(LEFT(AD14,4)=\"1005\",COUNTA(H16:H30)>2),\"Y\",\"N\"),\"Y\")","v":"N"},{"$f":"IF(OR(ISBLANK(L30),NOT((LEFT(AD14,4)=\"1005\"))),IF(AND(LEFT(AD14,4)=\"1005\",COUNTA(L16:L30)>2),\"Y\",\"N\"),\"Y\")","v":"N"},{"$f":"IF(OR(ISBLANK(P30),NOT((LEFT(AD14,4)=\"1005\"))),IF(AND(LEFT(AD14,4)=\"1005\",COUNTA(P16:P30)>2),\"Y\",\"N\"),\"Y\")","v":"N"},{"$f":"IF(OR(ISBLANK(T30),NOT((LEFT(AD14,4)=\"1005\"))),IF(AND(LEFT(AD14,4)=\"1005\",COUNTA(T16:T30)>2),\"Y\",\"N\"),\"Y\")","v":"N"}]
[null,null,null,"(1)",null,null,null,"(2)",null,null,null,"(3)",null,null,null,"(4)",null,null,null,"(5)",null,null,null,null,null,null,null,null,null,"rounding:"]
[null,"2\"",null,null,null,null,"%",null,null,null,"%",null,null,null,"%",null,null,null,"%",null,null,null,"%",null,null,null,null,null,null,{"$f":"VALUE(FIXED(D16,1))","v":0},{"$f":"VALUE(FIXED(H16,1))","v":0},{"$f":"VALUE(FIXED(L16,1))","v":0},{"$f":"VALUE(FIXED(P16,1))","v":0},{"$f":"VALUE(FIXED(T16,1))","v":0}]
[null,"1 1/2\"",null,null,null,null,"%",null,null,null,"%",null,null,null,"%",null,null,null,"%",null,null,null,"%",null,null,null,null,null,null,0,0,0,0,0]
[null,"1\"",null,null,null,null,"%",null,null,null,"%",null,null,null,"%",null,null,null,"%",null,null,null,"%",null,null,null,null,null,null,0,0,0,0,0]
[null,"3/4\"",null,null,null,null,"%",null,null,null,"%",null,null,null,"%",null,null,null,"%",null,null,null,"%",null,null,null,null,null,null,0,0,0,0,0]
[null,"1/2\"",null,null,null,null,"%",null,null,null,"%",null,null,null,"%",null,null,null,"%",null,null,null,"%",null,null,null,null,null,null,0,0,0,0,0]
[null,"3/8\"",null,null,null,null,"%",null,null,null,"%",null,null,null,"%",null,null,null,"%",null,null,null,"%",null,null,null,null,null,null,0,0,0,0,0]
[null,"1/4\"",null,null,null,null,"%",null,null,null,"%",null,null,null,"%",null,null,null,"%",null,null,null,"%",null,null,null,null,null,null,0,0,0,0,0]
[null,"#4",null,null,null,null,"%",null,null,null,"%",null,null,null,"%",null,null,null,"%",null,null,null,"%",null,null,null,null,null,null,{"$f":"VALUE(FIXED(D23,1))","v":0},{"$f":"VALUE(FIXED(H23,1))","v":0},{"$f":"VALUE(FIXED(L23,1))","v":0},{"$f":"VALUE(FIXED(P23,1))","v":0},{"$f":"VALUE(FIXED(T23,1))","v":0}]
[null,"#8",null,null,null,null,"%",null,null,null,"%",null,null,null,"%",null,null,null,"%",null,null,null,"%",null,null,null,null,null,null,{"$f":"VALUE(FIXED(D24,1))","v":0},0,0,0,0]
[null,"#16",null,null,null,null,"%",null,null,null,"%",null,null,null,"%",null,null,null,"%",null,null,null,"%",null,null,null,null,null,null,0,0,0,0,0]
[null,"#30",null,null,null,null,"%",null,null,null,"%",null,null,null,"%",null,null,null,"%",null,null,null,"%",null,null,null,null,null,null,0,0,0,0,0]
[null,"#40",null,null,null,null,"%",null,null,null,"%",null,null,null,"%",null,null,null,"%",null,null,null,"%",null,null,null,null,null,null,{"$f":"VALUE(FIXED(D27,1))","v":0},{"$f":"VALUE(FIXED(H27,1))","v":0},{"$f":"VALUE(FIXED(L27,1))","v":0},{"$f":"VALUE(FIXED(P27,1))","v":0},{"$f":"VALUE(FIXED(T27,1))","v":0}]
[null,"#50",null,null,null,null,"%",null,null,null,"%",null,null,null,"%",null,null,null,"%",null,null,null,"%",null,null,null,null,null,{"$f":"IF(AG14=\"N\",IF(AG13=\"Y\",(IF(ISBLANK(D32),1,0)),0),(IF(ISBLANK(D32),1,0)))","v":0},0,0,0,0,0]
[null,"#100",null,null,null,null,"%",null,null,null,"%",null,null,null,"%",null,null,null,"%",null,null,null,"%",null,null,null,null,null,{"$f":"IF(AH14=\"N\",IF(AH13=\"Y\",(IF(ISBLANK(H32),1,0)),0),(IF(ISBLANK(H32),1,0)))","v":0},0,0,0,0,0]
[null,"#200",null,null,null,null,"%",null,null,null,"%",null,null,null,"%",null,null,null,"%",null,null,null,"%",null,null,null,null,null,{"$f":"IF(AI14=\"N\",IF(AI13=\"Y\",(IF(ISBLANK(L32),1,0)),0),(IF(ISBLANK(L32),1,0)))","v":0},0,0,0,0,0]
[null,null,null,null,null,null,null,null,null,null,null,null,null,null,null,null,null,null,null,null,null,null,null,null,null,null,null,null,{"$f":"IF(AJ14=\"N\",IF(AJ13=\"Y\",(IF(ISBLANK(P32),1,0)),0),(IF(ISBLANK(P32),1,0)))","v":0},null,"YES"]
["Within Spec Tolerance?",null,null,null,null,null,null,null,null,null,null,null,null,null,null,null,null,null,null,null,null,null,null,null,null,null,null,null,{"$f":"IF(AK14=\"N\",IF(AK13=\"Y\",(IF(ISBLANK(T32),1,0)),0),(IF(ISBLANK(T32),1,0)))","v":0},null,"NO"]
[null,null,null,null,null,null,null,null,null,null,null,null,null,null,null,null,null,null,null,null,null,null,null,null,null,null,null,null,null,null,"NA"]
[]
[null,"Plasticity Index (*masonry aggregates only)",null,null,null,null,null,null,null,null,null,null,"Note:  Enter \"NP\" for non plastic material",null,null,null,null,null,null,null,null,null,null,null,null,null,null,null,{"$f":"IF(ISBLANK(D37),0,(IF(ISBLANK(D39),1,0)))","v":0}]
[null,null,null,"(1)",null,null,null,"(2)",null,null,null,"(3)",null,null,null,"(4)",null,null,null,"(5)",null,null,null,null,null,null,null,null,{"$f":"IF(ISBLANK(H37),0,(IF(ISBLANK(H39),1,0)))","v":0}]
[null,"PI",null,null,null,null,"%",null,null,null,"%",null,null,null,"%",null,null,null,"%",null,null,null,"%",null,null,null,null,null,{"$f":"IF(ISBLANK(L37),0,(IF(ISBLANK(L39),1,0)))","v":0},null,"Populate PI?",null,{"$f":"IF(OR(NOT(LEFT(AD14,4)=\"1005\"),ISBLANK(D37)),\"N\",\"Y\")","v":"N"},{"$f":"IF(OR(NOT(LEFT(AD14,4)=\"1005\"),ISBLANK(H37)),\"N\",\"Y\")","v":"N"},{"$f":"IF(OR(NOT(LEFT(AD14,4)=\"1005\"),ISBLANK(L37)),\"N\",\"Y\")","v":"N"},{"$f":"IF(OR(NOT(LEFT(AD14,4)=\"1005\"),ISBLANK(P37)),\"N\",\"Y\")","v":"N"},{"$f":"IF(OR(NOT(LEFT(AD14,4)=\"1005\"),ISBLANK(T37)),\"N\",\"Y\")","v":"N"}]
[null,null,null,null,null,null,null,null,null,null,null,null,null,null,null,null,null,null,null,null,null,null,null,null,null,null,null,null,{"$f":"IF(ISBLANK(P37),0,(IF(ISBLANK(P39),1,0)))","v":0}]
["Within Spec Tolerance?",null,null,null,null,null,null,null,null,null,null,null,null,null,null,null,null,null,null,null,null,null,null,null,null,null,null,null,{"$f":"IF(ISBLANK(T37),0,(IF(ISBLANK(T39),1,0)))","v":0}]
[null,null,null,null,null,null,null,null,null,null,null,null,null,null,null,null,null,null,null,null,null,null,null,null,null,null,null,null,null,null,"Populate thin & elongated?",null,{"$f":"IF(OR(NOT(LEFT(AD14,4)=\"1005\"),ISBLANK(D49),LEFT(AD14,6)=\"1005FA\",LEFT(AD14,6)=\"1005MS\"),\"N\",\"Y\")","v":"N"},{"$f":"IF(OR(NOT(LEFT(AD14,4)=\"1005\"),ISBLANK(H49),LEFT(AD14,6)=\"1005FA\",LEFT(AD14,6)=\"1005MS\"),\"N\",\"Y\")","v":"N"},{"$f":"IF(OR(NOT(LEFT(AD14,4)=\"1005\"),ISBLANK(L49),LEFT(AD14,6)=\"1005FA\",LEFT(AD14,6)=\"1005MS\"),\"N\",\"Y\")","v":"N"},{"$f":"IF(OR(NOT(LEFT(AD14,4)=\"1005\"),ISBLANK(P49),LEFT(AD14,6)=\"1005FA\",LEFT(AD14,6)=\"1005MS\"),\"N\",\"Y\")","v":"N"},{"$f":"IF(OR(NOT(LEFT(AD14,4)=\"1005\"),ISBLANK(T49),LEFT(AD14,6)=\"1005FA\",LEFT(AD14,6)=\"1005MS\"),\"N\",\"Y\")","v":"N"}]
[null,null,null,null,null,null,null,null,null,null,null,null,null,null,null,null,null,null,null,null,null,null,null,null,null,null,null,null,null,null,null,"Populate 1003/1009 Grad?",{"$f":"IF(OR(NOT(OR(LEFT(AD14,4)=\"1003\",LEFT(AD14,4)=\"1009\")),COUNTA(D44:F48)=0),\"N\",\"Y\")","v":"N"},{"$f":"IF(OR(NOT(OR(LEFT(AD14,4)=\"1003\",LEFT(AD14,4)=\"1009\")),COUNTA(H44:J48)=0),\"N\",\"Y\")","v":"N"},{"$f":"IF(OR(NOT(OR(LEFT(AD14,4)=\"1003\",LEFT(AD14,4)=\"1009\")),COUNTA(L44:N48)=0),\"N\",\"Y\")","v":"N"},{"$f":"IF(OR(NOT(OR(LEFT(AD14,4)=\"1003\",LEFT(AD14,4)=\"1009\")),COUNTA(P44:R48)=0),\"N\",\"Y\")","v":"N"},{"$f":"IF(OR(NOT(OR(LEFT(AD14,4)=\"1003\",LEFT(AD14,4)=\"1009\")),COUNTA(T44:V48)=0),\"N\",\"Y\")","v":"N"}]
[null,"Deleterious (Coarse Aggregate)",null,null,null,null,null,null,null,null,null,null,null,null,null,null,null,null,null,null,null,null,null,null,null,null,null,null,null,null,"Populate Coarse del?",null,{"$f":"IF(OR(NOT(LEFT(AD14,4)=\"1005\"),COUNTA(D44:F48)=0,LEFT($AD$14,6)=\"1005FA\",LEFT($AD$14,6)=\"1005MS\"),\"N\",\"Y\")","v":"N"},{"$f":"IF(OR(NOT(LEFT(AD14,4)=\"1005\"),COUNTA(H44:J48)=0,LEFT($AD$14,6)=\"1005FA\",LEFT($AD$14,6)=\"1005MS\"),\"N\",\"Y\")","v":"N"},{"$f":"IF(OR(NOT(LEFT(AD14,4)=\"1005\"),COUNTA(L44:N48)=0,LEFT($AD$14,6)=\"1005FA\",LEFT($AD$14,6)=\"1005MS\"),\"N\",\"Y\")","v":"N"},{"$f":"IF(OR(NOT(LEFT(AD14,4)=\"1005\"),COUNTA(P44:R48)=0,LEFT($AD$14,6)=\"1005FA\",LEFT($AD$14,6)=\"1005MS\"),\"N\",\"Y\")","v":"N"},{"$f":"IF(OR(NOT(LEFT(AD14,4)=\"1005\"),COUNTA(T44:V48)=0,LEFT($AD$14,6)=\"1005FA\",LEFT($AD$14,6)=\"1005MS\"),\"N\",\"Y\")","v":"N"}]
[null,null,null,"(1)",null,null,null,"(2)",null,null,null,"(3)",null,null,null,"(4)",null,null,null,"(5)",null,null,null,null,null,null,null,null,null,"rounding:","Populate Fine del?",null,{"$f":"IF(OR(NOT(OR(LEFT($AD$14,6)=\"1005FA\",LEFT($AD$14,6)=\"1005MS\")),COUNTA(G66:I71)=0),\"N\",\"Y\")","v":"N"},{"$f":"IF(OR(NOT(OR(LEFT($AD$14,6)=\"1005FA\",LEFT($AD$14,6)=\"1005MS\")),COUNTA(K66:M71)=0),\"N\",\"Y\")","v":"N"},{"$f":"IF(OR(NOT(OR(LEFT($AD$14,6)=\"1005FA\",LEFT($AD$14,6)=\"1005MS\")),COUNTA(O66:Q71)=0),\"N\",\"Y\")","v":"N"},{"$f":"IF(OR(NOT(OR(LEFT($AD$14,6)=\"1005FA\",LEFT($AD$14,6)=\"1005MS\")),COUNTA(S66:U71)=0),\"N\",\"Y\")","v":"N"},{"$f":"IF(OR(NOT(OR(LEFT($AD$14,6)=\"1005FA\",LEFT($AD$14,6)=\"1005MS\")),COUNTA(W66:Y71)=0),\"N\",\"Y\")","v":"N"}]
[null,"Del Rock",null,null,null,null,"%",null,null,null,"%",null,null,null,"%",null,null,null,"%",null,null,null,"%",null,null,null,null,null,null,{"$f":"IF(OR(LEFT($AD$14,6)=\"1005FA\",LEFT($AD$14,6)=\"1005MS\"),\"\",VALUE(FIXED(D44,1)))","v":0},{"$f":"IF(OR(LEFT($AD$14,6)=\"1005FA\",LEFT($AD$14,6)=\"1005MS\"),\"\",VALUE(FIXED(H44,1)))","v":0},{"$f":"IF(OR(LEFT($AD$14,6)=\"1005FA\",LEFT($AD$14,6)=\"1005MS\"),\"\",VALUE(FIXED(L44,1)))","v":0},{"$f":"IF(OR(LEFT($AD$14,6)=\"1005FA\",LEFT($AD$14,6)=\"1005MS\"),\"\",VALUE(FIXED(P44,1)))","v":0},{"$f":"IF(OR(LEFT($AD$14,6)=\"1005FA\",LEFT($AD$14,6)=\"1005MS\"),\"\",VALUE(FIXED(T44,1)))","v":0}]
[null,"Shale",null,null,null,null,"%",null,null,null,"%",null,null,null,"%",null,null,null,"%",null,null,null,"%",null,null,null,null,null,null,{"$f":"IF(OR(LEFT($AD$14,6)=\"1005FA\",LEFT($AD$14,6)=\"1005MS\"),\"\",VALUE(FIXED(D45,1)))","v":0},{"$f":"IF(OR(LEFT($AD$14,6)=\"1005FA\",LEFT($AD$14,6)=\"1005MS\"),\"\",VALUE(FIXED(H45,1)))","v":0},{"$f":"IF(OR(LEFT($AD$14,6)=\"1005FA\",LEFT($AD$14,6)=\"1005MS\"),\"\",VALUE(FIXED(L45,1)))","v":0},{"$f":"IF(OR(LEFT($AD$14,6)=\"1005FA\",LEFT($AD$14,6)=\"1005MS\"),\"\",VALUE(FIXED(P45,1)))","v":0},{"$f":"IF(OR(LEFT($AD$14,6)=\"1005FA\",LEFT($AD$14,6)=\"1005MS\"),\"\",VALUE(FIXED(T45,1)))","v":0}]
[null,"Chert in LS",null,null,null,null,"%",null,null,null,"%",null,null,null,"%",null,null,null,"%",null,null,null,"%",null,null,null,null,null,null,{"$f":"IF(OR(LEFT($AD$14,6)=\"1005FA\",LEFT($AD$14,6)=\"1005MS\"),\"\",VALUE(FIXED(D46,1)))","v":0},{"$f":"IF(OR(LEFT($AD$14,6)=\"1005FA\",LEFT($AD$14,6)=\"1005MS\"),\"\",VALUE(FIXED(H46,1)))","v":0},{"$f":"IF(OR(LEFT($AD$14,6)=\"1005FA\",LEFT($AD$14,6)=\"1005MS\"),\"\",VALUE(FIXED(L46,1)))","v":0},{"$f":"IF(OR(LEFT($AD$14,6)=\"1005FA\",LEFT($AD$14,6)=\"1005MS\"),\"\",VALUE(FIXED(P46,1)))","v":0},{"$f":"IF(OR(LEFT($AD$14,6)=\"1005FA\",LEFT($AD$14,6)=\"1005MS\"),\"\",VALUE(FIXED(T46,1)))","v":0}]
[null,"Other Foreign",null,null,null,null,"%",null,null,null,"%",null,null,null,"%",null,null,null,"%",null,null,null,"%",null,null,null,null,null,null,{"$f":"IF(OR(LEFT($AD$14,6)=\"1005FA\",LEFT($AD$14,6)=\"1005MS\"),\"\",VALUE(FIXED(D47,1)))","v":0},{"$f":"IF(OR(LEFT($AD$14,6)=\"1005FA\",LEFT($AD$14,6)=\"1005MS\"),\"\",VALUE(FIXED(H47,1)))","v":0},{"$f":"IF(OR(LEFT($AD$14,6)=\"1005FA\",LEFT($AD$14,6)=\"1005MS\"),\"\",VALUE(FIXED(L47,1)))","v":0},{"$f":"IF(OR(LEFT($AD$14,6)=\"1005FA\",LEFT($AD$14,6)=\"1005MS\"),\"\",VALUE(FIXED(P47,1)))","v":0},{"$f":"IF(OR(LEFT($AD$14,6)=\"1005FA\",LEFT($AD$14,6)=\"1005MS\"),\"\",VALUE(FIXED(T47,1)))","v":0}]
[null,"- #200",null,null,null,null,"%",null,null,null,"%",null,null,null,"%",null,null,null,"%",null,null,null,"%",null,null,null,null,null,{"$f":"IF(COUNTA(D44:D48)=0,(IF(COUNTA(G66:G71)=0,0,(IF(ISBLANK(G73),1,0)))),(IF(ISBLANK(D52),1,(IF(ISBLANK(D52),1,0)))))","v":0},{"$f":"IF(OR(LEFT($AD$14,6)=\"1005FA\",LEFT($AD$14,6)=\"1005MS\"),\"\",VALUE(FIXED(D48,1)))","v":0},{"$f":"IF(OR(LEFT($AD$14,6)=\"1005FA\",LEFT($AD$14,6)=\"1005MS\"),\"\",VALUE(FIXED(H48,1)))","v":0},{"$f":"IF(OR(LEFT($AD$14,6)=\"1005FA\",LEFT($AD$14,6)=\"1005MS\"),\"\",VALUE(FIXED(L48,1)))","v":0},{"$f":"IF(OR(LEFT($AD$14,6)=\"1005FA\",LEFT($AD$14,6)=\"1005MS\"),\"\",VALUE(FIXED(P48,1)))","v":0},{"$f":"IF(OR(LEFT($AD$14,6)=\"1005FA\",LEFT($AD$14,6)=\"1005MS\"),\"\",VALUE(FIXED(T48,1)))","v":0}]
[null,"Thin or Elong",null,null,null,null,"%",null,null,null,"%",null,null,null,"%",null,null,null,"%",null,null,null,"%",null,null,null,null,null,{"$f":"IF(COUNTA(H44:H48)=0,(IF(COUNTA(K66:K71)=0,0,(IF(ISBLANK(K73),1,0)))),(IF(ISBLANK(H52),1,(IF(ISBLANK(H52),1,0)))))","v":0},{"$f":"VALUE(FIXED(D49,0))","v":0},{"$f":"VALUE(FIXED(H49,0))","v":0},{"$f":"VALUE(FIXED(L49,0))","v":0},{"$f":"VALUE(FIXED(P49,0))","v":0},{"$f":"VALUE(FIXED(T49,0))","v":0}]
[null,"Total",null,{"$f":"IF(OR(LEFT($AD$14,6)=\"1005FA\",LEFT($AD$14,6)=\"1005MS\"),\"\",ROUND(SUM(D44:F47),1))","v":0},null,null,null,{"$f":"IF(OR(LEFT($AD$14,6)=\"1005FA\",LEFT($AD$14,6)=\"1005MS\"),\"\",ROUND(SUM(H44:J47),1))","v":0},null,null,null,{"$f":"IF(OR(LEFT($AD$14,6)=\"1005FA\",LEFT($AD$14,6)=\"1005MS\"),\"\",ROUND(SUM(L44:N47),1))","v":0},null,null,null,{"$f":"IF(OR(LEFT($AD$14,6)=\"1005FA\",LEFT($AD$14,6)=\"1005MS\"),\"\",ROUND(SUM(P44:R47),1))","v":0},null,null,null,{"$f":"IF(OR(LEFT($AD$14,6)=\"1005FA\",LEFT($AD$14,6)=\"1005MS\"),\"\",ROUND(SUM(T44:V47),1))","v":0},null,null,null,null,null,null,null,null,{"$f":"IF(COUNTA(L44:L48)=0,(IF(COUNTA(O66:O71)=0,0,(IF(ISBLANK(O73),1,0)))),(IF(ISBLANK(L52),1,(IF(ISBLANK(L52),1,0)))))","v":0}]
[null,null,null,null,null,null,null,null,null,null,null,null,null,null,null,null,null,null,null,null,null,null,null,null,null,null,null,null,{"$f":"IF(COUNTA(P44:P48)=0,(IF(COUNTA(S66:S71)=0,0,(IF(ISBLANK(S73),1,0)))),(IF(ISBLANK(P52),1,(IF(ISBLANK(P52),1,0)))))","v":0}]
["Within Spec Tolerance?",null,null,null,null,null,null,null,null,null,null,null,null,null,null,null,null,null,null,null,null,null,null,null,null,null,null,null,{"$f":"IF(COUNTA(T44:T48)=0,(IF(COUNTA(W66:W71)=0,0,(IF(ISBLANK(W73),1,0)))),(IF(ISBLANK(T52),1,(IF(ISBLANK(T52),1,0)))))","v":0},null,{"$f":"IF(SUM(G66:G71)=0,0,(IF(ISBLANK(G73),1,0)))","v":0},{"$f":"IF(SUM(K66:K71)=0,0,(IF(ISBLANK(K73),1,0)))","v":0},{"$f":"IF(SUM(O66:O71)=0,0,(IF(ISBLANK(O73),1,0)))","v":0},{"$f":"IF(SUM(S66:S71)=0,0,(IF(ISBLANK(S73),1,0)))","v":0},{"$f":"IF(SUM(W66:W71)=0,0,(IF(ISBLANK(W73),1,0)))","v":0}]
[]
[]
[null,"AASHTO T85 Absorption",null,null,null,null,null,null,null,null,null,null,null,null,null,null,null,null,null,null,null,null,null,null,null,null,null,null,null,null,"Populate Abs?",null,{"$f":"IF(OR(NOT(LEFT(AD14,4)=\"1005\"),ISBLANK(D57),LEFT(AD14,6)=\"1005FA\",LEFT(AD14,6)=\"1005MS\"),\"N\",\"Y\")","v":"N"},{"$f":"IF(OR(NOT(LEFT(AD14,4)=\"1005\"),ISBLANK(H57),LEFT(AD14,6)=\"1005FA\",LEFT(AD14,6)=\"1005MS\"),\"N\",\"Y\")","v":"N"},{"$f":"IF(OR(NOT(LEFT(AD14,4)=\"1005\"),ISBLANK(L57),LEFT(AD14,6)=\"1005FA\",LEFT(AD14,6)=\"1005MS\"),\"N\",\"Y\")","v":"N"},{"$f":"IF(OR(NOT(LEFT(AD14,4)=\"1005\"),ISBLANK(P57),LEFT(AD14,6)=\"1005FA\",LEFT(AD14,6)=\"1005MS\"),\"N\",\"Y\")","v":"N"},{"$f":"IF(OR(NOT(LEFT(AD14,4)=\"1005\"),ISBLANK(T57),LEFT(AD14,6)=\"1005FA\",LEFT(AD14,6)=\"1005MS\"),\"N\",\"Y\")","v":"N"}]
[null,null,null,"(1)",null,null,null,"(2)",null,null,null,"(3)",null,null,null,"(4)",null,null,null,"(5)",null,null,null,null,null,null,null,null,null,"rounding:"]
[null,"SSD Weight",null,null,null,null,"g",null,null,null,"g",null,null,null,"g",null,null,null,"g",null,null,null,"g",null,null,null,null,null,{"$f":"IF(SUM(D57:F58)=0,0,(IF(OR(ISBLANK(D61),ISERROR(D59),D59<0),1,0)))","v":0},{"$f":"VALUE(FIXED(D57,1))","v":0},{"$f":"VALUE(FIXED(H57,1))","v":0},{"$f":"VALUE(FIXED(L57,1))","v":0},{"$f":"VALUE(FIXED(P57,1))","v":0},{"$f":"VALUE(FIXED(T57,1))","v":0}]
[null,"Dry Weight",null,null,null,null,"g",null,null,null,"g",null,null,null,"g",null,null,null,"g",null,null,null,"g",null,null,null,null,null,{"$f":"IF(SUM(H57:J58)=0,0,(IF(OR(ISBLANK(H61),ISERROR(H59),H59<0),1,0)))","v":0},{"$f":"VALUE(FIXED(D58,1))","v":0},{"$f":"VALUE(FIXED(H58,1))","v":0},{"$f":"VALUE(FIXED(L58,1))","v":0},{"$f":"VALUE(FIXED(P58,1))","v":0},{"$f":"VALUE(FIXED(T58,1))","v":0}]
[null,null,null,{"$f":"IFERROR(ROUND((D57-D58)/D58*100,1),\"\")","v":""},null,null,"%",{"$f":"IFERROR(ROUND((H57-H58)/H58*100,1),\"\")","v":""},null,null,"%",{"$f":"IFERROR(ROUND((L57-L58)/L58*100,1),\"\")","v":""},null,null,"%",{"$f":"IFERROR(ROUND((P57-P58)/P58*100,1),\"\")","v":""},null,null,"%",{"$f":"IFERROR(ROUND((T57-T58)/T58*100,1),\"\")","v":""},null,null,"%",null,null,null,null,null,{"$f":"IF(SUM(L57:N58)=0,0,(IF(OR(ISBLANK(L61),ISERROR(L59),L59<0),1,0)))","v":0}]
[null,null,null,null,null,null,null,null,null,null,null,null,null,null,null,null,null,null,null,null,null,null,null,null,null,null,null,null,{"$f":"IF(SUM(P57:R58)=0,0,(IF(OR(ISBLANK(P61),ISERROR(P59),P59<0),1,0)))","v":0}]
["Within Spec Tolerance?",null,null,null,null,null,null,null,null,null,null,null,null,null,null,null,null,null,null,null,null,null,null,null,null,null,null,null,{"$f":"IF(SUM(T57:V58)=0,0,(IF(OR(ISBLANK(T61),ISERROR(T59),T59<0),1,0)))","v":0}]
[]
[]
[null,"Deleterious (Fine Aggregate)"]
[null,null,null,null,null,null,"(1)",null,null,null,"(2)",null,null,null,"(3)",null,null,null,"(4)",null,null,null,"(5)"]
[null,null,"Clay Lumps and Shale",null,null,null,null,null,null,"%",null,null,null,"%",null,null,null,"%",null,null,null,"%",null,null,null,"%",null,null,null,null,null,null,null,null,null,null,null,null,null,null,null,{"$f":"IF(OR(LEFT($AD$14,6)=\"1005FA\",LEFT($AD$14,6)=\"1005MS\"),VALUE(FIXED(AE66,2)),\"\")","v":""},null,null,{"$f":"IF(OR(LEFT($AD$14,6)=\"1005FA\",LEFT($AD$14,6)=\"1005MS\"),VALUE(FIXED(AE66,2)),\"\")","v":""},""]
[null,null,"Coal and Lignite",null,null,null,null,null,null,"%",null,null,null,"%",null,null,null,"%",null,null,null,"%",null,null,null,"%",null,null,null,null,null,null,null,null,null,null,null,null,null,null,null,{"$f":"IF(OR(LEFT($AD$14,6)=\"1005FA\",LEFT($AD$14,6)=\"1005MS\"),VALUE(FIXED(AE67,2)),\"\")","v":""},null,null,"",""]
[null,null,"Other Deleterious",null,null,null,null,null,null,"%",null,null,null,"%",null,null,null,"%",null,null,null,"%",null,null,null,"%",null,null,null,null,null,null,null,null,null,null,null,null,null,null,null,{"$f":"IF(OR(LEFT($AD$14,6)=\"1005FA\",LEFT($AD$14,6)=\"1005MS\"),VALUE(FIXED(AE68,2)),\"\")","v":""},null,null,"",""]
["Total Lightweight Particles",null,null,null,null,null,null,null,null,"%",null,null,null,"%",null,null,null,"%",null,null,null,"%",null,null,null,"%",null,null,null,null,null,null,null,null,null,null,null,null,null,null,null,{"$f":"IF(OR(LEFT($AD$14,6)=\"1005FA\",LEFT($AD$14,6)=\"1005MS\"),VALUE(FIXED(AE69,2)),\"\")","v":""},null,null,"",""]
[null,null,"- #200 (natural sand)",null,null,null,null,null,null,"%",null,null,null,"%",null,null,null,"%",null,null,null,"%",null,null,null,"%",null,null,null,null,null,null,null,null,null,null,null,null,null,null,null,{"$f":"IF(OR(LEFT($AD$14,6)=\"1005FA\",LEFT($AD$14,6)=\"1005MS\"),VALUE(FIXED(AE70,1)),\"\")","v":""},null,null,{"$f":"IF(OR(LEFT($AD$14,6)=\"1005FA\",LEFT($AD$14,6)=\"1005MS\"),VALUE(FIXED(AE70,1)),\"\")","v":""},{"$f":"IF(OR(LEFT($AD$14,6)=\"1005FA\",LEFT($AD$14,6)=\"1005MS\"),VALUE(FIXED(AF70,1)),\"\")","v":""}]
[null,null,"- #200 (man. sand)",null,null,null,null,null,null,"%",null,null,null,"%",null,null,null,"%",null,null,null,"%",null,null,null,"%",null,null,null,null,null,null,null,null,null,null,null,null,null,null,null,{"$f":"IF(OR(LEFT($AD$14,6)=\"1005FA\",LEFT($AD$14,6)=\"1005MS\"),VALUE(FIXED(AE71,1)),\"\")","v":""},null,null,{"$f":"IF(OR(LEFT($AD$14,6)=\"1005FA\",LEFT($AD$14,6)=\"1005MS\"),VALUE(FIXED(AE71,1)),\"\")","v":""},{"$f":"IF(OR(LEFT($AD$14,6)=\"1005FA\",LEFT($AD$14,6)=\"1005MS\"),VALUE(FIXED(AF71,1)),\"\")","v":""}]
[]
[null,null,null,"Within Spec Tolerance?",null,null,null,null,null,null,null,null,null,null,null,null,null,null,null,null,null,null,null,null,null,null,null,null,{"$f":"IF(AND((LEFT(AD14,4)=\"1005\"),NOT(AD13=\"QCQA\"),(AND(ISERROR(MATCH(\"Y\",AG14:AK14,0)),ISERROR(MATCH(\"Y\",AG37:AK37,0)),ISERROR(MATCH(\"Y\",AG40:AK40,0)),ISERROR(MATCH(\"Y\",AG42:AK42,0)),ISERROR(MATCH(\"Y\",AG55:AK55,0))))),1,IF(AND((LEFT(AD14,4)=\"1003\"),(AND(ISERROR(MATCH(\"Y\",AG13:AK13,0)),ISERROR(MATCH(\"Y\",AG41:AK41,0)),ISERROR(MATCH(\"Y\",AG42:AK42,0))))),1,0))","v":0},"No test data for material selected on \"general\" tab"]
[]
[null,null,null,null,null,null,null,null,null,null,null,null,null,null,null,null,null,null,null,null,null,null,null,null,null,null,null,null,"Final error check total:"]
[null,null,null,null,null,null,null,null,null,null,null,null,null,null,null,null,null,null,null,null,null,null,null,null,null,null,null,null,{"$f":"SUM(AC28:AC32,AC35:AC39,AC48:AC52,AC57:AC61,AC73,AC9)","v":0}]

{"sheet":"Test 3","index":6,"n_rows":38,"n_cols":35,"rows_kept":38,"cut":false,"hidden":false,"merged":[[26,20,26,22],[27,16,27,18],[27,20,27,22],[12,20,12,22],[12,4,12,6],[22,20,22,22],[16,20,16,22],[17,16,17,18],[17,20,17,22],[21,16,21,18],[21,20,21,22],[18,4,18,6],[19,4,19,6],[21,4,21,6],[15,4,15,6],[16,4,16,6],[20,7,20,9],[12,16,12,18],[26,16,26,18],[17,4,17,6],[13,4,13,6],[14,4,14,6],[25,7,25,9],[26,7,26,9],[25,4,25,6],[26,4,26,6],[16,16,16,18],[22,16,22,18],[23,7,23,9],[24,7,24,9],[21,7,21,9],[22,7,22,9],[0,4,1,24],[28,1,29,3],[28,4,28,6],[12,7,12,9],[13,7,13,9],[14,7,14,9],[15,7,15,9],[16,7,16,9],[17,7,17,9],[18,7,18,9],[19,7,19,9],[22,4,22,6],[23,4,23,6],[24,4,24,6],[20,4,20,6],[28,7,28,9],[2,22,3,24],[2,4,3,6],[2,7,3,9],[2,10,3,12],[2,13,3,15],[2,16,3,18],[2,19,3,21],[5,19,6,21],[5,22,6,24],[5,16,6,18],[11,4,11,6],[11,7,11,9],[11,20,11,22],[7,2,7,22],[5,1,6,3],[5,4,6,6],[5,7,6,9],[5,10,6,12],[5,13,6,15],[11,16,11,18]]}
[null,null,null,null,{"$f":"Main!E1","v":"AWP Contractor Reporting E2O - Aggregates Contractor QC"}]
[null,null,null,null,null,null,null,null,null,null,null,null,null,null,null,null,null,null,null,null,null,null,null,null,null,"v",{"$f":"Main!AA2","v":"5.00"}]
[null,null,null,null," ",null,null,"Main",null,null,"Quantity",null,null,null,null,null,{"$f":"Main!Q3","v":"Send/Sync"},null,null,"Reports",null,null,"Help"]
[]
[]
[null,{"$f":"Main!B6","v":"General"},null,null,{"$f":"Main!E6","v":"Free Form"},null,null,{"$f":"IF(Main!H6=\"\",\"\",Main!H6)","v":"Bases"},null,null,{"$f":"IF(Main!K6=\"\",\"\",Main!K6)","v":"1005/3/9"},null,null,{"$f":"IF(Main!N6=\"\",\"\",Main!N6)","v":"SEL BACKFILL"},null,null,{"$f":"IF(Main!Q6=\"\",\"\",Main!Q6)","v":"QC/QA Split"},null,null,{"$f":"IF(Main!T6=\"\",\"\",Main!T6)","v":""},null,null,{"$f":"IF(Main!W6=\"\",\"\",Main!W6)","v":""}]
[]
[]
[null,null,"This tab is for Select Granular Backfill.  Spec 1010 material used only for MSE wall backfills.  ",null,null,null,null,null,null,null,null,null,null,null,null,null,null,null,null,null,null,null,null,null,null,null,null,null,null,null,{"$f":"Main!F14","v":""},"Gradation Populate",null,{"$f":"IF(OR(NOT(LEFT(AE9,4)=\"1010\"),ISBLANK(E27)),\"N\",\"Y\")","v":"N"},{"$f":"IF(OR(NOT(LEFT(AE9,4)=\"1010\"),ISBLANK(H27)),\"N\",\"Y\")","v":"N"}]
[]
[null,null,null,"Gradation  (Percent Passing)",null,null,null,null,null,null,null,null,null,null,"Plasticity Index",null,null,null,null,null,null,null,null,null,null,null,null,null,null,null,"rounding:",null,"Populate PI?",{"$f":"IF(OR(NOT(LEFT(AE9,4)=\"1010\"),ISBLANK(Q13)),\"N\",\"Y\")","v":"N"},{"$f":"IF(OR(NOT(LEFT(AE9,4)=\"1010\"),ISBLANK(U13)),\"N\",\"Y\")","v":"N"}]
[null,null,null,null,"(1)",null,null,"(2)",null,null,null,null,null,null,null,null,"(1)",null,null,null,"(2)",null,null,null,null,null,null,null,null,null,{"$f":"VALUE(FIXED(E13,1))","v":0},{"$f":"VALUE(FIXED(H13,1))","v":0},null,{"$f":"VALUE(FIXED(Q13,1))","v":0},{"$f":"VALUE(FIXED(U13,1))","v":0}]
[null,null,"4\"",null,null,null,null,null,null,null,"%",null,null,null,"PI",null,null,null,null,"%",null,null,null,"%",null,null,null,null,null,null,{"$f":"VALUE(FIXED(E14,1))","v":0},{"$f":"VALUE(FIXED(H14,1))","v":0}]
[null,null,"1 1/2\"",null,null,null,null,null,null,null,"%",null,null,null,null,"Note:  Enter \"NP\" for non plastic material",null,null,null,null,null,null,null,null,null,null,null,null,null,null,0,0]
[null,null,"1\"",null,null,null,null,null,null,null,"%",null,null,null,null,null,null,null,null,null,null,null,null,null,null,null,null,null,null,null,0,0]
[null,null,"3/4\"",null,null,null,null,null,null,null,"%",null,null,null,"Angle of Internal Friction",null,null,null,null,null,null,null,null,null,null,null,null,null,null,null,0,0]
[null,null,"1/2\"",null,null,null,null,null,null,null,"%",null,null,null,null,null,"(1)",null,null,null,"(2)",null,null,null,null,null,null,null,null,null,0,0]
[null,null,"3/8\"",null,null,null,null,null,null,null,"%",null,null,null,"Φ",null,null,null,null,"%",null,null,null,"%",null,null,null,null,null,null,0,0,null,{"$f":"VALUE(FIXED(Q18,1))","v":0},{"$f":"VALUE(FIXED(U18,1))","v":0}]
[null,null,"#4",null,null,null,null,null,null,null,"%",null,null,null,null,null,null,null,null,null,null,null,null,null,null,null,null,null,null,null,0,0]
[null,null,"#8",null,null,null,null,null,null,null,"%",null,null,null,null,null,null,null,null,null,null,null,null,null,null,null,null,null,null,null,0,0]
[null,null,"#10",null,null,null,null,null,null,null,"%",null,null,null,"Organic Content",null,null,null,null,null,null,null,null,null,null,null,null,null,null,"YES",0,0]
[null,null,"#16",null,null,null,null,null,null,null,"%",null,null,null,null,null,"(1)",null,null,null,"(2)",null,null,null,null,null,null,null,null,"NO",0,0]
[null,null,"#30",null,null,null,null,null,null,null,"%",null,null,null,null,null,null,null,null,"%",null,null,null,"%",null,null,null,null,null,"NA",0,0]
[null,null,"#40",null,null,null,null,null,null,null,"%",null,null,null,null,null,null,null,null,null,null,null,null,null,null,null,null,null,null,null,0,0,null,{"$f":"VALUE(FIXED(Q23,1))","v":0},{"$f":"VALUE(FIXED(U23,1))","v":0}]
[null,null,"#50",null,null,null,null,null,null,null,"%",null,null,null,null,null,null,null,null,null,null,null,null,null,null,null,null,null,null,null,0,0]
[null,null,"#100",null,null,null,null,null,null,null,"%",null,null,null,"Resistivity",null,null,null,null,null,null,null,null,null,null,null,null,null,null,null,{"$f":"VALUE(FIXED(E27,1))","v":0},{"$f":"VALUE(FIXED(H27,1))","v":0}]
[null,null,"#200",null,null,null,null,null,null,null,"%",null,null,null,null,null,"(1)",null,null,null,"(2)"]
[null,null,null,null,null,null,null,null,null,null,null,null,null,null,"ohm-cm",null,null,null,null,null,null,null,null,null,null,null,null,null,null,null,null,null,"populate Resistivity?",{"$f":"IF(OR(NOT(LEFT(AE9,4)=\"1010\"),ISBLANK(Q28)),\"N\",\"Y\")","v":"N"},{"$f":"IF(OR(NOT(LEFT(AE9,4)=\"1010\"),ISBLANK(U28)),\"N\",\"Y\")","v":"N"}]
[null,"Within Spec Tolerance?",null,null,null,null,null,null,null,null,null,null,null,null,null,null,null,null,null,null,null,null,null,null,null,null,null,null,{"$f":"IF(ISBLANK(E27),0,(IF(ISBLANK(E29),1,0)))","v":0}]
[null,null,null,null,null,null,null,null,null,null,null,null,null,null,null,null,null,null,null,null,null,null,null,null,null,null,null,null,{"$f":"IF(ISBLANK(H27),0,(IF(ISBLANK(H29),1,0)))","v":0}]
[]
[]
[]
[]
[null,null,null,null,null,null,null,null,null,null,null,null,null,null,null,null,null,null,null,null,null,null,null,null,null,null,null,null,{"$f":"IF(AND((LEFT(AE9,4)=\"1010\"),ISERROR(MATCH(\"Y\",AH9:AI9,0))),1,0)","v":0},"No test data for material selected on \"general\" tab"]
[]
[null,null,null,null,null,null,null,null,null,null,null,null,null,null,null,null,null,null,null,null,null,null,null,null,null,null,null,null,"Final error check total:"]
[null,null,null,null,null,null,null,null,null,null,null,null,null,null,null,null,null,null,null,null,null,null,null,null,null,null,null,null,{"$f":"SUM(AC9:AC36)","v":0}]

{"sheet":"Test 4","index":7,"n_rows":70,"n_cols":36,"rows_kept":70,"cut":false,"hidden":false,"merged":[[63,0,64,3],[63,4,63,5],[63,8,63,9],[63,14,63,15],[63,18,63,19],[56,20,56,23],[62,4,62,5],[62,8,62,9],[62,11,62,12],[62,14,62,15],[62,18,62,19],[62,21,62,22],[56,4,56,5],[56,8,56,9],[56,10,56,13],[56,14,56,15],[56,18,56,19],[45,21,45,22],[50,0,51,3],[50,4,50,5],[50,8,50,9],[50,11,50,12],[50,14,50,15],[50,18,50,19],[50,21,50,22],[44,4,44,5],[44,8,44,9],[44,14,44,15],[44,18,44,19],[45,4,45,5],[45,8,45,9],[45,11,45,12],[45,14,45,15],[45,18,45,19],[38,21,38,22],[43,4,43,5],[43,8,43,9],[43,14,43,15],[43,18,43,19],[38,4,38,5],[38,8,38,9],[38,11,38,12],[38,14,38,15],[38,18,38,19],[36,21,36,22],[37,4,37,5],[37,8,37,9],[37,11,37,12],[37,14,37,15],[37,18,37,19],[37,21,37,22],[36,4,36,5],[36,8,36,9],[36,11,36,12],[36,14,36,15],[36,18,36,19],[34,21,34,22],[35,4,35,5],[35,8,35,9],[35,11,35,12],[35,14,35,15],[35,18,35,19],[35,21,35,22],[34,4,34,5],[34,8,34,9],[34,11,34,12],[34,14,34,15],[34,18,34,19],[32,21,32,22],[33,4,33,5],[33,8,33,9],[33,11,33,12],[33,14,33,15],[33,18,33,19],[33,21,33,22],[32,4,32,5],[32,8,32,9],[32,11,32,12],[32,14,32,15],[32,18,32,19],[26,21,26,22],[27,4,27,5],[27,8,27,9],[27,11,27,12],[27,14,27,15],[27,18,27,19],[27,21,27,22],[26,4,26,5],[26,8,26,9],[26,11,26,12],[26,14,26,15],[26,18,26,19],[24,21,24,22],[25,4,25,5],[25,8,25,9],[25,11,25,12],[25,14,25,15],[25,18,25,19],[25,21,25,22],[24,4,24,5],[24,8,24,9],[24,11,24,12],[24,14,24,15],[24,18,24,19],[22,21,22,22],[23,4,23,5],[23,8,23,9],[23,11,23,12],[23,14,23,15],[23,18,23,19],[23,21,23,22],[22,4,22,5],[22,8,22,9],[22,11,22,12],[22,14,22,15],[22,18,22,19],[20,21,20,22],[21,4,21,5],[21,8,21,9],[21,11,21,12],[21,14,21,15],[21,18,21,19],[21,21,21,22],[20,4,20,5],[20,8,20,9],[20,11,20,12],[20,14,20,15],[20,18,20,19],[18,21,18,22],[19,4,19,5],[19,8,19,9],[19,11,19,12],[19,14,19,15],[19,18,19,19],[19,21,19,22],[18,4,18,5],[18,8,18,9],[18,11,18,12],[18,14,18,15],[18,18,18,19],[16,21,16,22],[17,4,17,5],[17,8,17,9],[17,11,17,12],[17,14,17,15],[17,18,17,19],[17,21,17,22],[16,4,16,5],[16,8,16,9],[16,11,16,12],[16,14,16,15],[16,18,16,19],[0,4,1,24],[12,21,12,22],[13,4,13,5],[13,8,13,9],[13,11,13,12],[13,14,13,15],[13,18,13,19],[13,21,13,22],[8,2,8,7],[8,8,8,20],[12,4,12,5],[12,8,12,9],[12,11,12,12],[12,14,12,15],[12,18,12,19],[5,1,6,3],[5,4,6,6],[5,7,6,9],[2,10,3,12],[2,13,3,15],[2,16,3,18],[2,19,3,21],[5,19,6,21],[5,22,6,24],[5,10,6,12],[5,13,6,15],[5,16,6,18],[2,22,3,24],[2,4,3,6],[2,7,3,9],[15,21,15,22],[14,4,14,5],[14,8,14,9],[14,11,14,12],[14,14,14,15],[14,18,14,19],[14,21,14,22],[15,4,15,5],[15,8,15,9],[15,11,15,12],[15,14,15,15],[15,18,15,19]]}
[null,null,null,null,{"$f":"Main!E1","v":"AWP Contractor Reporting E2O - Aggregates Contractor QC"}]
[null,null,null,null,null,null,null,null,null,null,null,null,null,null,null,null,null,null,null,null,null,null,null,null,null,"v",{"$f":"Main!AA2","v":"5.00"}]
[null,null,null,null," ",null,null,"Main",null,null,"Quantity",null,null,null,null,null,{"$f":"Main!Q3","v":"Send/Sync"},null,null,"Reports",null,null,"Help"]
[]
[]
[null,{"$f":"Main!B6","v":"General"},null,null,{"$f":"Main!E6","v":"Free Form"},null,null,{"$f":"IF(Main!H6=\"\",\"\",Main!H6)","v":"Bases"},null,null,{"$f":"IF(Main!K6=\"\",\"\",Main!K6)","v":"1005/3/9"},null,null,{"$f":"IF(Main!N6=\"\",\"\",Main!N6)","v":"SEL BACKFILL"},null,null,{"$f":"IF(Main!Q6=\"\",\"\",Main!Q6)","v":"QC/QA Split"},null,null,{"$f":"IF(Main!T6=\"\",\"\",Main!T6)","v":""},null,null,{"$f":"IF(Main!W6=\"\",\"\",Main!W6)","v":""}]
[null,null,null,null,null,null,null,null,null,null,null,null,null,null,null,null,null,null,null,null,null,null,null,null,null,null,null,null,null,{"$f":"Main!U40","v":"QCC"},"sample type"]
[null,null,null,null,null,null,null,null,null,null,null,null,null,null,null,null,null,null,null,null,null,null,"Sample type must be ",null,null,null,null,null,null,{"$f":"Main!F14","v":""},"material",null,null,"conditional formatting - hide fields for 1005 and 1007 and vice versa"]
[null,null," QA Test Performed by:",null,null,null,null,null,null,null,null,null,null,null,null,null,null,null,null,null,null,null,"QC/QA on the General Tab"]
[null,null,null,null,null,null,null,null,null,null,null,null,null,null,null,null,null,null,null,null,null,null,"for this tab to work",null,null,null,null,null,null,null,"Populate TM71 Split QCQA?",null,null,"Populate Base T1T5 Agg QCQA?"]
["Percent Passing Only - 1005 Quality or 1007 Quality",null,null,null,null,null,null,null,null,null,null,null,null,null,null,null,null,null,null,null,null,null,null,null,null,null,null,null,null,null,{"$f":"IF(AND(NOT(I28=\"\"),NOT(E28=\"\"),LEFT(AD8,4)=\"1005\",AD7=\"QCQA\"),1,0)","v":0},{"$f":"IF(AND(NOT(O28=\"\"),NOT(S28=\"\"),LEFT(AD8,4)=\"1005\",AD7=\"QCQA\"),1,0)","v":0},null,{"$f":"IF(AND(OR(AND(NOT(I24=\"\"),NOT(E24=\"\")),AND(NOT(I28=\"\"),NOT(E28=\"\")),AND(NOT(ISBLANK(E57)),NOT(ISBLANK(I57)))),LEFT(AD8,4)=\"1007\",AD7=\"QCQA\"),1,0)","v":0},{"$f":"IF(AND(OR(AND(NOT(O24=\"\"),NOT(S24=\"\")),AND(NOT(O28=\"\"),NOT(S28=\"\")),AND(NOT(ISBLANK(O57)),NOT(ISBLANK(S57)))),LEFT(AD8,4)=\"1007\",AD7=\"QCQA\"),1,0)","v":0},"entering #30 or  #200 or PI QC and QA results"]
[null,null,null,null,"QA (1)",null,null,null,"QC (1)",null,null,"Difference",null,null,"QA (2)",null,null,null,"QC (2)",null,null,"Difference",null,null,null,null,null,null,null,null,"Rounding",null,null,null,null," will get the QCQA base results into AWP"]
[null,null,"2\"",null,null,null,"%",null,null,null,"%",{"$f":"IFERROR(IF(OR(E13=\"\",I13=\"\"),\"\",IF(LEFT($AD$8,4)=\"1007\",ROUND(I13-E13,1),ROUND(E13-I13,1))),\"\")","v":""},null,null,null,null,"%",null,null,null,"%",{"$f":"IFERROR(IF(OR(O13=\"\",S13=\"\"),\"\",IF(LEFT($AD$8,4)=\"1007\",ROUND(S13-O13,1),ROUND(O13-S13,1))),\"\")","v":""},null,null,null,null,null,null,null,"2\""]
[null,null,"1 1/2\"",null,null,null,"%",null,null,null,"%",{"$f":"IFERROR(IF(OR(E14=\"\",I14=\"\"),\"\",IF(LEFT($AD$8,4)=\"1007\",ROUND(I14-E14,1),ROUND(E14-I14,1))),\"\")","v":""},null,null,null,null,"%",null,null,null,"%",{"$f":"IFERROR(IF(OR(O14=\"\",S14=\"\"),\"\",IF(LEFT($AD$8,4)=\"1007\",ROUND(S14-O14,1),ROUND(O14-S14,1))),\"\")","v":""},null,null,null,null,null,null,null,"1 1/2\"",{"$f":"IF(E14=\"\",\"\",ROUND(E14,1))","v":""},{"$f":"IF(I14=\"\",\"\",ROUND(I14,1))","v":""},{"$f":"IF(O14=\"\",\"\",ROUND(O14,1))","v":""},{"$f":"IF(S14=\"\",\"\",ROUND(S14,1))","v":""},"base"]
[null,null,"1\"",null,null,null,"%",null,null,null,"%","",null,null,null,null,"%",null,null,null,"%","",null,null,null,null,null,null,null,"1\"","","","","","base"]
[null,null,"3/4\"",null,null,null,"%",null,null,null,"%","",null,null,null,null,"%",null,null,null,"%","",null,null,null,null,null,null,null,"3/4\"","","","","","base"]
[null,null,"1/2\"",null,null,null,"%",null,null,null,"%","",null,null,null,null,"%",null,null,null,"%","",null,null,null,null,null,null,null,"1/2\"","","","","","base"]
[null,null,"3/8\"",null,null,null,"%",null,null,null,"%","",null,null,null,null,"%",null,null,null,"%","",null,null,null,null,null,null,null,"3/8\"","","","",""]
[null,null,"#4",null,null,null,"%",null,null,null,"%","",null,null,null,null,"%",null,null,null,"%","",null,null,null,null,null,null,null,"#4","","","","","base"]
[null,null,"#8",null,null,null,"%",null,null,null,"%","",null,null,null,null,"%",null,null,null,"%","",null,null,null,null,null,null,null,"#8","","","","","base"]
[null,null,"#10",null,null,null,"%",null,null,null,"%","",null,null,null,null,"%",null,null,null,"%","",null,null,null,null,null,null,null,"#10","","","","","base"]
[null,null,"#16",null,null,null,"%",null,null,null,"%","",null,null,null,null,"%",null,null,null,"%","",null,null,null,null,null,null,null,"#16","","","",""]
[null,null,"#20",null,null,null,"%",null,null,null,"%","",null,null,null,null,"%",null,null,null,"%","",null,null,null,null,null,null,null,"#20","","","",""]
[null,null,"#30",null,null,null,"%",null,null,null,"%","",null,null,null,null,"%",null,null,null,"%","",null,null,null,null,null,null,null,"#30","","","","","base"]
[null,null,"#40",null,null,null,"%",null,null,null,"%","",null,null,null,null,"%",null,null,null,"%","",null,null,null,null,null,null,null,"#40","","","","","base"]
[null,null,"#50",null,null,null,"%",null,null,null,"%","",null,null,null,null,"%",null,null,null,"%","",null,null,null,null,null,null,null,"#50","","","",""]
[null,null,"#100",null,null,null,"%",null,null,null,"%","",null,null,null,null,"%",null,null,null,"%","",null,null,null,null,null,null,null,"#100","","","","","base"]
[null,null,"#200",null,null,null,"%",null,null,null,"%","",null,null,null,null,"%",null,null,null,"%","",null,null,null,null,null,null,null,"#200","","","","","base"]
[null,null,null,null,null,null,null,null,null,null,null,null,null,null,null,null,null,null,null,null,null,null,null,null,null,null,null,null,null,null,"Populate Split Del?"]
[null,null,null,null,null,null,null,null,null,null,null,null,null,null,null,null,null,null,null,null,null,null,null,null,null,null,null,null,null,null,{"$f":"IF(AND(COUNTIF(AE33:AE39,\">=0\")>0,COUNTIF(AF33:AF39,\">=0\")>0),IF(AND(LEFT(AD8,4)=\"1005\",AD7=\"QCQA\"),1,0),0)","v":0},{"$f":"IF(AND(COUNTIF(AG33:AG39,\">=0\")>0,COUNTIF(AH33:AH39,\">=0\")>0),IF(AND(LEFT(AD8,4)=\"1005\",AD7=\"QCQA\"),1,0),0)","v":0}]
["Deleterious 1005 Quality"]
["Coarse Aggregate:",null,null,null,"QA (1)",null,null,null,"QC (1)",null,null,"Difference",null,null,"QA (2)",null,null,null,"QC (2)",null,null,"Difference",null,null,null,null,null,null,null,null,"Rounding"]
[null,"Del Rock",null,null,null,null,"%",null,null,null,"%",{"$f":"IFERROR(IF(OR(E33=\"\",I33=\"\"),\"\",ROUND(E33-I33,1)),\"\")","v":""},null,null,null,null,"%",null,null,null,"%",{"$f":"IFERROR(IF(OR(O33=\"\",S33=\"\"),\"\",ROUND(O33-S33,1)),\"\")","v":""},null,null,null,null,null,null,null,"Del Rock",{"$f":"IF(E33=\"\",\"\",ROUND(E33,1))","v":""},{"$f":"IF(I33=\"\",\"\",ROUND(I33,1))","v":""},{"$f":"IF(O33=\"\",\"\",ROUND(O33,1))","v":""},{"$f":"IF(S33=\"\",\"\",ROUND(S33,1))","v":""}]
[null,"Shale",null,null,null,null,"%",null,null,null,"%","",null,null,null,null,"%",null,null,null,"%","",null,null,null,null,null,null,null,"Shale","","","",""]
[null,"Chert in LS",null,null,null,null,"%",null,null,null,"%","",null,null,null,null,"%",null,null,null,"%","",null,null,null,null,null,null,null,"Chert in LS","","","",""]
[null,"Other Foreign",null,null,null,null,"%",null,null,null,"%","",null,null,null,null,"%",null,null,null,"%","",null,null,null,null,null,null,null,"Other Foreign","","","",""]
[null,"- #200",null,null,null,null,"%",null,null,null,"%","",null,null,null,null,"%",null,null,null,"%","",null,null,null,null,null,null,null,"- #200","","","",""]
[null,"Thin or Elong",null,null,null,null,"%",null,null,null,"%","",null,null,null,null,"%",null,null,null,"%","",null,null,null,null,null,null,null,"Thin or Elong","","","",""]
[null,"Total",null,null,{"$f":"IF(E33=\"\",\"\",ROUND(SUM(E33:F36),1))","v":""},null,"%",null,{"$f":"IF(I33=\"\",\"\",ROUND(SUM(I33:J36),1))","v":""},null,"%","",null,null,{"$f":"IF(O33=\"\",\"\",ROUND(SUM(O33:P36),1))","v":""},null,"%",null,{"$f":"IF(S33=\"\",\"\",ROUND(SUM(S33:T36),1))","v":""},null,"%",""]
[]
[null,null,null,null,null,null,null,null,null,null,null,null,null,null,null,null,null,null,null,null,null,null,null,null,null,null,null,null,null,null,"Populate Split T85?"]
["Absorption 1005 Quality",null,null,null,null,null,null,null,null,null,null,null,null,null,null,null,null,null,null,null,null,null,null,null,null,null,null,null,null,null,{"$f":"IF(OR(ISBLANK(I44),ISBLANK(E44)),0,IF(AND(LEFT(AD8,4)=\"1005\",AD7=\"QCQA\"),1,0))","v":0},{"$f":"IF(OR(ISBLANK(O44),ISBLANK(S44)),0,IF(AND(LEFT(AD8,4)=\"1005\",AD7=\"QCQA\"),1,0))","v":0}]
["Coarse Aggregate:",null,null,null,"QA (1)",null,null,null,"QC (1)",null,null,"Difference",null,null,"QA (2)",null,null,null,"QC (2)",null,null,"Difference",null,null,null,null,null,null,null,null,"Rounding"]
[null,"SSD Weight",null,null,null,null,"g",null,null,null,"g",null,null,null,null,null,"g",null,null,null,"g",null,null,null,null,null,null,null,null,"SSD wt",{"$f":"IF(E44=\"\",\"\",ROUND(E44,0))","v":""},{"$f":"IF(I44=\"\",\"\",ROUND(I44,0))","v":""},{"$f":"IF(O44=\"\",\"\",ROUND(O44,0))","v":""},{"$f":"IF(S44=\"\",\"\",ROUND(S44,0))","v":""}]
[null,"Dry Weight",null,null,null,null,"g",null,null,null,"g",null,null,null,null,null,"g",null,null,null,"g",null,null,null,null,null,null,null,null,"dry wt",{"$f":"IF(E45=\"\",\"\",ROUND(E45,0))","v":""},{"$f":"IF(I45=\"\",\"\",ROUND(I45,0))","v":""},{"$f":"IF(O45=\"\",\"\",ROUND(O45,0))","v":""},{"$f":"IF(S45=\"\",\"\",ROUND(S45,0))","v":""}]
[null,"Absorption",null,null,{"$f":"IFERROR(ROUND((E44-E45)/E45*100,1),\"\")","v":""},null,"%",null,{"$f":"IFERROR(ROUND((I44-I45)/I45*100,1),\"\")","v":""},null,"%",{"$f":"IFERROR(IF(OR(E46=\"\",I46=\"\"),\"\",ROUND(I46-E46,1)),\"\")","v":""},null,null,{"$f":"IFERROR(ROUND((O44-O45)/O45*100,1),\"\")","v":""},null,"%",null,{"$f":"IFERROR(ROUND((S44-S45)/S45*100,1),\"\")","v":""},null,"%",{"$f":"IFERROR(IF(OR(O46=\"\",S46=\"\"),\"\",ROUND(S46-O46,1)),\"\")","v":""}]
[]
[]
["Deleterious 1007 Quality - Base"]
["Coarse Aggregate:",null,null,null,"QA (1)",null,null,null,"QC (1)",null,null,"Difference",null,null,"QA (2)",null,null,null,"QC (2)",null,null,"Difference",null,null,null,null,null,null,null,null,"Rounding"]
["Deleterious Rock and Shale",null,null,null,null,null,"%",null,null,null,"%",{"$f":"IFERROR(IF(OR(E51=\"\",I51=\"\"),\"\",ROUND(I51-E51,1)),\"\")","v":""},null,null,null,null,"%",null,null,null,"%",{"$f":"IFERROR(IF(OR(O51=\"\",S51=\"\"),\"\",ROUND(S51-O51,1)),\"\")","v":""},null,null,null,null,null,null,null,"Del Rock",{"$f":"IF(E51=\"\",\"\",ROUND(E51,1))","v":""},{"$f":"IF(I51=\"\",\"\",ROUND(I51,1))","v":""},{"$f":"IF(O51=\"\",\"\",ROUND(O51,1))","v":""},{"$f":"IF(S51=\"\",\"\",ROUND(S51,1))","v":""}]
[]
[]
[]
[" Plasticity Index 1007 Quality - Base",null,null,null,null,null,null,null,null,null,null,"Note:  Enter \"NP\" for non plastic material"]
[null,null,null,null,"QA (1)",null,null,null,"QC (1)",null,null,"Difference",null,null,"QA (2)",null,null,null,"QC (2)",null,null,"Difference"]
[null,null,"PI",null,null,null,null,null,null,null,{"$f":"IFERROR(IF(OR(E57=\"\",I57=\"\"),\"\",IF(AND(E57=\"NP\",I57=\"NP\"),\"Compares Favorably\",IF(OR(E57=\"NP\",I57=\"NP\"),\"Does not Compare\",ROUND(I57-E57,0)))),\"\")","v":""},null,null,null,null,null,null,null,null,null,{"$f":"IFERROR(IF(OR(O57=\"\",S57=\"\"),\"\",IF(AND(O57=\"NP\",S57=\"NP\"),\"Compares Favorably\",IF(OR(O57=\"NP\",S57=\"NP\"),\"Does not Compare\",ROUND(S57-O57,0)))),\"\")","v":""}]
[]
[]
["Compaction Standard 1007 Quality - base"]
[]
[null,null,null,null,"QA (1)",null,null,null,"QC (1)",null,null,"Difference",null,null,"QA (2)",null,null,null,"QC (2)",null,null,"Difference",null,null,null,null,null,null,null,null,"Rounding"]
[null,null,null,"Optimum Density",null,null,"lb/cf",null,null,null,"lb/cf",{"$f":"IFERROR(IF(OR(E63=\"\",I63=\"\"),\"\",ROUND(I63-E63,1)),\"\")","v":""},null,null,null,null,"lb/cf",null,null,null,"lb/cf",{"$f":"IFERROR(IF(OR(O63=\"\",S63=\"\"),\"\",ROUND(S63-O63,1)),\"\")","v":""},null,null,null,null,null,null,null,"Density",{"$f":"IF(E63=\"\",\"\",ROUND(E63,1))","v":""},{"$f":"IF(I63=\"\",\"\",ROUND(I63,1))","v":""},{"$f":"IF(O63=\"\",\"\",ROUND(O63,1))","v":""},{"$f":"IF(S63=\"\",\"\",ROUND(S63,1))","v":""}]
["Optimum Moisture Content",null,null,null,null,null,"%",null,null,null,"%",null,null,null,null,null,"%",null,null,null,"%",null,null,null,null,null,null,null,null,"Moisture","","","",""]
[]
[null,null,null,null,null,null,null,null,null,null,null,null,null,null,null,null,null,null,null,null,null,null,null,null,null,null,null,null,{"$f":"IF(AND((LEFT(AD8,4)=\"1005\"),AD7=\"QCQA\"),IF(SUM(AE30:AF30,AE42:AF42,AE11:AF11)=0,1,0),0)","v":0},"QCQA sample type and 1005 material code selected but no test results entered"]
[null,null,null,null,null,null,null,null,null,null,null,null,null,null,null,null,null,null,null,null,null,null,null,null,null,null,null,null,{"$f":"IF(AND((LEFT(AD8,4)=\"1007\"),AD7=\"QCQA\"),IF(SUM(AH11:AI11)=0,1,0),0)","v":0},"QCQA sample type and 1007 material code selected but no test results entered"]
[]
[null,null,null,null,null,null,null,null,null,null,null,null,null,null,null,null,null,null,null,null,null,null,null,null,null,null,null,null,"Final error check total:"]
[null,null,null,null,null,null,null,null,null,null,null,null,null,null,null,null,null,null,null,null,null,null,null,null,null,null,null,null,{"$f":"SUM(AC22:AC67)","v":0}]

{"sheet":"Test 5","index":8,"n_rows":11,"n_cols":27,"rows_kept":11,"cut":false,"hidden":false,"merged":[[0,4,1,24],[2,22,3,24],[5,19,6,21],[5,22,6,24],[5,16,6,18],[2,4,3,6],[2,7,3,9],[2,10,3,12],[2,13,3,15],[2,16,3,18],[2,19,3,21],[5,1,6,3],[5,4,6,6],[5,7,6,9],[5,10,6,12],[5,13,6,15]]}
[null,null,null,null,{"$f":"Main!E1","v":"AWP Contractor Reporting E2O - Aggregates Contractor QC"}]
[null,null,null,null,null,null,null,null,null,null,null,null,null,null,null,null,null,null,null,null,null,null,null,null,null,"v",{"$f":"Main!AA2","v":"5.00"}]
[null,null,null,null," ",null,null,{"$f":"Main!H3","v":"Main"},null,null,{"$f":"Main!K3","v":"Quantity"},null,null,null,null,null,{"$f":"Main!Q3","v":"Send/Sync"},null,null,{"$f":"Main!T3","v":"Reports"},null,null,{"$f":"Main!W3","v":"Help"}]
[]
[]
[null,{"$f":"Main!B6","v":"General"},null,null,{"$f":"Main!E6","v":"Free Form"},null,null,{"$f":"IF(Main!H6=\"\",\"\",Main!H6)","v":"Bases"},null,null,{"$f":"IF(Main!K6=\"\",\"\",Main!K6)","v":"1005/3/9"},null,null,{"$f":"IF(Main!N6=\"\",\"\",Main!N6)","v":"SEL BACKFILL"},null,null,{"$f":"IF(Main!Q6=\"\",\"\",Main!Q6)","v":"QC/QA Split"},null,null,{"$f":"IF(Main!T6=\"\",\"\",Main!T6)","v":""},null,null,{"$f":"IF(Main!W6=\"\",\"\",Main!W6)","v":""}]
[]
[]
[]
[]
[null,null,null,null,null,null,"NA"]

{"sheet":"Test 6","index":9,"n_rows":12,"n_cols":27,"rows_kept":12,"cut":false,"hidden":false,"merged":[[0,4,1,24],[2,22,3,24],[5,19,6,21],[5,22,6,24],[5,16,6,18],[2,4,3,6],[2,7,3,9],[2,10,3,12],[2,13,3,15],[2,16,3,18],[2,19,3,21],[5,1,6,3],[5,4,6,6],[5,7,6,9],[5,10,6,12],[5,13,6,15]]}
[null,null,null,null,{"$f":"Main!E1","v":"AWP Contractor Reporting E2O - Aggregates Contractor QC"}]
[null,null,null,null,null,null,null,null,null,null,null,null,null,null,null,null,null,null,null,null,null,null,null,null,null,"v",{"$f":"Main!AA2","v":"5.00"}]
[null,null,null,null," ",null,null,{"$f":"Main!H3","v":"Main"},null,null,{"$f":"Main!K3","v":"Quantity"},null,null,null,null,null,{"$f":"Main!Q3","v":"Send/Sync"},null,null,{"$f":"Main!T3","v":"Reports"},null,null,{"$f":"Main!W3","v":"Help"}]
[]
[]
[null,{"$f":"Main!B6","v":"General"},null,null,{"$f":"Main!E6","v":"Free Form"},null,null,{"$f":"IF(Main!H6=\"\",\"\",Main!H6)","v":"Bases"},null,null,{"$f":"IF(Main!K6=\"\",\"\",Main!K6)","v":"1005/3/9"},null,null,{"$f":"IF(Main!N6=\"\",\"\",Main!N6)","v":"SEL BACKFILL"},null,null,{"$f":"IF(Main!Q6=\"\",\"\",Main!Q6)","v":"QC/QA Split"},null,null,{"$f":"IF(Main!T6=\"\",\"\",Main!T6)","v":""},null,null,{"$f":"IF(Main!W6=\"\",\"\",Main!W6)","v":""}]
[]
[]
[]
[]
[]
[null,null,null,null,null,"NA"]

{"sheet":"Functional","index":10,"n_rows":290,"n_cols":9,"rows_kept":290,"cut":false,"hidden":false,"merged":[[13,0,13,3]]}
[]
[]
[null,null,null,null,null,"Valid Other Tab","Valid Sky Types","Wind"]
[null,null,null,null,null,null,"Clear","Calm"]
[null,null,null,null,null,null,"Hazy","Slight"]
[null,null,null,null,null,null,"Partly Cloudy","Medium"]
[null,null,null,null,null,null,"Mostly Cloudy","Strong"]
[null,null,null,null,null,null,"Cloudy"]
[]
[]
[]
[]
[]
["PWL Determination Tables"]
[null,"QC/QA Paving Thickness","QC/QA Paving Compressive Strength"]
["N=",{"$f":"COUNT(#REF!)","v":0},{"$f":"COUNT(#REF!)","v":0},{"$f":"COUNT(#REF!)","v":0},{"$f":"COUNT(#REF!)","v":0}]
["QU"]
["QI",{"$f":"#REF!","v":{"$error":"#REF!"}},{"$f":"#REF!","v":{"$error":"#REF!"}},{"$f":"#REF!","v":{"$error":"#REF!"}},{"$f":"#REF!","v":{"$error":"#REF!"}}]
["PWLu=",{"$f":"IF(B17>2.65,100,IF(B17<=-2.65,0,IF(B17<=0,(100-VLOOKUP(ABS(B17),$A$12:$I$277,((B16)-1))),VLOOKUP(B17,$A$12:$I$277,(B16-1)))))","v":{"$error":"#VALUE!"}},{"$error":"#VALUE!"},{"$error":"#VALUE!"},{"$error":"#VALUE!"},{"$error":"#VALUE!"},{"$error":"#VALUE!"},{"$error":"#VALUE!"},0.2]
["PWLl",{"$f":"IF(B18>2.65,100,IF(B18<=-2.65,0,IF(B18<=0,(100-VLOOKUP(ABS(B18),$A$24:$I$290,((B16)-1))),VLOOKUP(B18,$A$24:$I$290,(B16-1)))))","v":{"$error":"#REF!"}},{"$f":"IF(C18>2.65,100,IF(C18<=-2.65,0,IF(C18<=0,(100-VLOOKUP(ABS(C18),$A$25:$I$290,((C16)-1))),VLOOKUP(C18,$A$25:$I$290,(C16-1)))))","v":{"$error":"#REF!"}},{"$f":"IF(D18>2.65,100,IF(D18<=-2.65,0,IF(D18<=0,(100-VLOOKUP(ABS(D18),$A$12:$I$277,((D16)-1))),VLOOKUP(D18,$A$12:$I$277,(D16-1)))))","v":{"$error":"#REF!"}},{"$f":"IF(E18>2.65,100,IF(E18<=-2.65,0,IF(E18<=0,(100-VLOOKUP(ABS(E18),$A$12:$I$277,((E16)-1))),VLOOKUP(E18,$A$12:$I$277,(E16-1)))))","v":{"$error":"#REF!"}},{"$f":"IF(F18>2.65,100,IF(F18<=-2.65,0,IF(F18<=0,(100-VLOOKUP(ABS(F18),$A$12:$I$277,((F16)-1))),VLOOKUP(F18,$A$12:$I$277,(F16-1)))))","v":{"$error":"#VALUE!"}},{"$f":"IF(G18>2.65,100,IF(G18<=-2.65,0,IF(G18<=0,(100-VLOOKUP(ABS(G18),$A$12:$I$277,((G16)-1))),VLOOKUP(G18,$A$12:$I$277,(G16-1)))))","v":{"$error":"#VALUE!"}},{"$f":"IF(H18>2.65,100,IF(H18<=-2.65,0,IF(H18<=0,(100-VLOOKUP(ABS(H18),$A$12:$I$277,(A(H16)-1))),VLOOKUP(H18,$A$12:$I$277,(H16-1)))))","v":{"$error":"#NAME?"}},0.4]
["QUALITY",null,null,null,null,null,null,null,0.6]
["INDEX",null,null,null,null,null,null,null,0.8]
["(QU OR QL)"]
["Q",3,4,5,6,7,8,9,10]
[0,50,50,50,50,50,50,50,50]
[0.01,{"$f":"$I19*(B$30-B$25)+B$25","v":50.276000000000003},50.334000000000003,50.356000000000002,50.368000000000002,50.374000000000002,50.378,50.381999999999998,50.384]
[0.02,{"$f":"$I20*(B$30-B$25)+B$25","v":50.552},50.667999999999999,{"$f":"$I20*(D$30-D$25)+D$25","v":50.712000000000003},50.736000000000004,50.747999999999998,50.756,50.763999999999996,50.768000000000001]
[0.03,50.828000000000003,51.002000000000002,51.067999999999998,51.103999999999999,51.122,51.134,51.146000000000001,51.152000000000001]
[0.04,51.103999999999999,51.335999999999999,51.423999999999999,51.472000000000001,51.495999999999995,51.512,51.527999999999999,51.536000000000001]
[0.05,51.38,51.67,51.78,51.84,51.87,51.89,51.91,51.92]
[0.06,{"$f":"$I19*(B$35-B$30)+B$30","v":51.655999999999999},{"$f":"$I19*(C$35-C$30)+C$30","v":52.002000000000002},52.136000000000003,52.206000000000003,52.244,52.268000000000001,52.291999999999994,52.304000000000002]
[7.0000000000000007E-2,{"$f":"$I20*(B$35-B$30)+B$30","v":51.932000000000002},52.334000000000003,52.492000000000004,52.572000000000003,52.618000000000002,52.646000000000001,52.673999999999999,52.688000000000002]
[0.08,52.207999999999998,52.665999999999997,52.847999999999999,52.938000000000002,52.991999999999997,53.024000000000001,53.055999999999997,53.072000000000003]
[0.09,52.484000000000002,52.997999999999998,53.204000000000001,53.304000000000002,53.366,53.402000000000001,53.438000000000002,53.456000000000003]
[0.1,52.76,53.33,53.56,53.67,53.74,53.78,53.82,53.84]
[0.11,{"$f":"$I19*(B$40-B$35)+B$35","v":53.037999999999997},{"$f":"$I19*(C$40-C$35)+C$35","v":53.664000000000001},53.914000000000001,54.036000000000001,54.112000000000002,54.158000000000001,54.198,54.222000000000001]
[0.12,{"$f":"$I20*(B$40-B$35)+B$35","v":53.315999999999995},53.997999999999998,54.268000000000001,54.402000000000001,54.484000000000002,54.536000000000001,54.576000000000001,54.603999999999999]
[0.13,53.594000000000001,54.332000000000001,54.622,54.768000000000001,54.856000000000002,54.914000000000001,54.954000000000001,54.986000000000004]
[0.14000000000000001,53.872,54.665999999999997,54.975999999999999,55.134,55.228000000000002,55.292000000000002,55.332000000000001,55.368000000000002]
[0.15,54.15,55,55.33,55.5,55.6,55.67,55.71,55.75]
[0.16,{"$f":"$I19*(B$45-B$40)+B$40","v":54.427999999999997},{"$f":"$I19*(C$45-C$40)+C$40","v":55.334000000000003},55.683999999999997,55.863999999999997,55.972000000000001,56.044000000000004,56.088000000000001,56.13]
[0.17,{"$f":"$I20*(B$45-B$40)+B$40","v":54.705999999999996},55.667999999999999,56.037999999999997,56.228000000000002,56.344000000000001,56.417999999999999,56.466000000000001,56.51]
[0.18,54.984000000000002,56.002000000000002,56.392000000000003,56.591999999999999,56.716000000000001,56.792000000000002,56.844000000000001,56.89]
[0.19,55.262,56.335999999999999,56.746000000000002,56.956000000000003,57.088000000000001,57.165999999999997,57.222000000000001,57.269999999999996]
[0.2,55.54,56.67,57.1,57.32,57.46,57.54,57.6,57.65]
[0.21,{"$f":"$I19*(B$50-B$45)+B$45","v":55.822000000000003},{"$f":"$I19*(C$50-C$45)+C$45","v":57.002000000000002},57.454000000000001,57.683999999999997,57.828000000000003,57.914000000000001,57.975999999999999,58.025999999999996]
[0.22,{"$f":"$I20*(B$50-B$45)+B$45","v":56.103999999999999},57.334000000000003,57.808,58.048000000000002,58.195999999999998,58.287999999999997,58.351999999999997,58.402000000000001]
[0.23,56.386000000000003,57.665999999999997,58.161999999999999,58.411999999999999,58.564,58.661999999999999,58.728000000000002,58.777999999999999]
[0.24,56.667999999999999,57.997999999999998,58.515999999999998,58.776000000000003,58.931999999999995,59.035999999999994,59.103999999999999,59.154000000000003]
[0.25,56.95,58.33,58.87,59.14,59.3,59.41,59.48,59.53]
[0.26,{"$f":"$I19*(B$55-B$50)+B$50","v":57.234000000000002},{"$f":"$I19*(C$55-C$50)+C$50","v":58.664000000000001},59.222000000000001,59.5,59.665999999999997,59.777999999999999,59.851999999999997,59.904000000000003]
[0.27,{"$f":"$I20*(B$55-B$50)+B$50","v":57.518000000000001},58.997999999999998,59.573999999999998,59.86,60.031999999999996,60.146000000000001,60.223999999999997,60.277999999999999]
[0.28000000000000003,57.802,59.332000000000001,59.926000000000002,60.22,60.398000000000003,60.513999999999996,60.596000000000004,60.652000000000001]
[0.28999999999999998,58.085999999999999,59.665999999999997,60.277999999999999,60.58,60.764000000000003,60.881999999999998,60.968000000000004,61.025999999999996]
[0.3,58.37,60,60.63,60.94,61.13,61.25,61.34,61.4]
[0.31,{"$f":"$I19*(B$60-B$55)+B$55","v":58.655999999999999},{"$f":"$I19*(C$60-C$55)+C$55","v":60.334000000000003},60.980000000000004,61.297999999999995,61.492000000000004,61.616,61.708000000000006,61.769999999999996]
[0.32,{"$f":"$I20*(B$60-B$55)+B$55","v":58.942},60.667999999999999,61.330000000000005,61.655999999999999,61.853999999999999,61.981999999999999,62.076000000000001,62.14]
[0.33,59.227999999999994,61.002000000000002,61.68,62.013999999999996,62.216000000000001,62.347999999999999,62.444000000000003,62.51]
[0.34,59.513999999999996,61.335999999999999,62.03,62.372,62.577999999999996,62.713999999999999,62.811999999999998,62.88]
[0.35,59.8,61.67,62.38,62.73,62.94,63.08,63.18,63.25]
[0.36,{"$f":"$I19*(B$65-B$60)+B$60","v":60.091999999999999},{"$f":"$I19*(C$65-C$60)+C$60","v":62.002000000000002},62.728000000000002,63.085999999999999,63.3,63.442,63.543999999999997,63.613999999999997]
[0.37,{"$f":"$I20*(B$65-B$60)+B$60","v":60.384},62.334000000000003,63.076000000000001,63.442,63.66,63.804000000000002,63.908000000000001,63.977999999999994]
[0.38,60.675999999999995,62.665999999999997,63.424000000000007,63.798000000000002,64.02,64.165999999999997,64.272000000000006,64.341999999999999]
[0.39,60.967999999999996,62.997999999999998,63.772000000000006,64.153999999999996,64.38,64.528000000000006,64.635999999999996,64.705999999999989]
[0.4,61.26,63.33,64.12,64.510000000000005,64.739999999999995,64.89,65,65.069999999999993]
[0.41,{"$f":"$I19*(B$70-B$65)+B$65","v":61.555999999999997},{"$f":"$I19*(C$70-C$65)+C$65","v":63.664000000000001},64.463999999999999,64.862000000000009,65.093999999999994,65.245999999999995,65.358000000000004,65.429999999999993]
[0.42,{"$f":"$I20*(B$70-B$65)+B$65","v":61.851999999999997},63.997999999999998,64.808000000000007,65.213999999999999,65.447999999999993,65.602000000000004,65.716000000000008,65.789999999999992]
[0.43,62.148000000000003,64.331999999999994,65.152000000000001,65.566000000000003,65.802000000000007,65.957999999999998,66.073999999999998,66.150000000000006]
[0.44,62.444000000000003,64.665999999999997,65.496000000000009,65.917999999999992,66.156000000000006,66.314000000000007,66.432000000000002,66.510000000000005]
[0.45,62.74,65,65.84,66.27,66.510000000000005,66.67,66.790000000000006,66.87]
[0.46,{"$f":"$I19*(B$75-B$70)+B$70","v":63.042000000000002},{"$f":"$I19*(C$75-C$70)+C$70","v":65.334000000000003},66.183999999999997,66.616,66.86,67.022000000000006,67.14200000000001,67.222000000000008]
[0.47,{"$f":"$I20*(B$75-B$70)+B$70","v":63.344000000000001},65.668000000000006,66.528000000000006,66.962000000000003,67.210000000000008,67.374000000000009,67.494,67.573999999999998]
[0.48,63.646000000000001,66.001999999999995,66.872,67.307999999999993,67.56,67.725999999999999,67.846000000000004,67.926000000000002]
[0.49,63.948,66.335999999999999,67.216000000000008,67.653999999999996,67.910000000000011,68.078000000000003,68.197999999999993,68.277999999999992]
[0.5,64.25,66.67,67.56,68,68.260000000000005,68.430000000000007,68.55,68.63]
[0.51,{"$f":"$I19*(B$80-B$75)+B$75","v":64.56},{"$f":"$I19*(C$80-C$75)+C$75","v":67.001999999999995},67.900000000000006,68.343999999999994,68.606000000000009,68.77600000000001,68.896000000000001,68.975999999999999]
[0.52,{"$f":"$I20*(B$80-B$75)+B$75","v":64.87},67.334000000000003,68.240000000000009,68.688000000000002,68.951999999999998,69.122,69.242000000000004,69.322000000000003]
[0.53,65.179999999999993,67.665999999999997,68.58,69.031999999999996,69.298000000000002,69.468000000000004,69.587999999999994,69.667999999999992]
[0.54,65.489999999999995,67.998000000000005,68.92,69.376000000000005,69.643999999999991,69.813999999999993,69.933999999999997,70.013999999999996]
[0.55000000000000004,65.8,68.33,69.260000000000005,69.72,69.989999999999995,70.16,70.28,70.36]
[0.56000000000000005,{"$f":"$I19*(B$85-B$80)+B$80","v":66.117999999999995},{"$f":"$I19*(C$85-C$80)+C$80","v":68.664000000000001},69.597999999999999,70.057999999999993,70.328000000000003,70.49799999999999,70.617999999999995,{"$f":"$I19*(I$72-I$67)+I$67","v":66.146799999999999}]
[0.56999999999999995,{"$f":"$I20*(B$85-B$80)+B$80","v":66.435999999999993},68.998000000000005,69.936000000000007,70.396000000000001,70.665999999999997,70.835999999999999,70.956000000000003,{"$f":"$I20*(I$72-I$67)+I$67","v":66.503599999999992}]
[0.57999999999999996,66.754000000000005,69.331999999999994,70.274000000000001,70.733999999999995,71.004000000000005,71.173999999999992,71.293999999999997,{"$f":"$I21*(I$72-I$67)+I$67","v":66.860399999999998}]
[0.59,67.072000000000003,69.665999999999997,70.612000000000009,71.072000000000003,71.341999999999999,71.512,71.632000000000005,{"$f":"$I22*(I$72-I$67)+I$67","v":67.217199999999991}]
[0.6,67.39,70,70.95,71.41,71.680000000000007,71.849999999999994,71.97,72.06]
[0.61,{"$f":"$I19*(B$90-B$85)+B$85","v":67.718000000000004},{"$f":"$I19*(C$90-C$85)+C$85","v":70.334000000000003},71.281999999999996,71.744,72.012,72.11,72.301999999999992,72.391999999999996]
[0.62,{"$f":"$I20*(B$90-B$85)+B$85","v":68.046000000000006},70.668000000000006,71.614000000000004,72.078000000000003,72.344000000000008,72.37,72.634,72.724000000000004]
[0.63,68.373999999999995,71.001999999999995,71.945999999999998,72.411999999999992,72.676000000000002,72.63,72.965999999999994,73.055999999999997]
[0.64,68.701999999999998,71.335999999999999,72.278000000000006,72.745999999999995,73.00800000000001,72.89,73.298000000000002,73.388000000000005]
[0.65,69.03,71.67,72.61,73.08,73.34,73.150000000000006,73.63,73.72]
[0.66,{"$f":"$I19*(B$95-B$90)+B$90","v":69.37},{"$f":"$I19*(C$95-C$90)+C$90","v":72.001999999999995},72.94,73.405999999999992,73.665999999999997,73.550000000000011,73.953999999999994,74.042000000000002]
[0.67,{"$f":"$I20*(B$95-B$90)+B$90","v":69.710000000000008},72.334000000000003,73.27,73.731999999999999,73.992000000000004,73.95,74.277999999999992,74.364000000000004]
[0.68,70.05,72.665999999999997,73.600000000000009,74.057999999999993,74.317999999999998,74.350000000000009,74.602000000000004,74.685999999999993]
[0.69,70.39,72.998000000000005,73.930000000000007,74.384,74.644000000000005,74.75,74.926000000000002,75.007999999999996]
[0.7,70.73,73.33,74.260000000000005,74.709999999999994,74.97,75.150000000000006,75.25,75.33]
[0.71,{"$f":"$I19*(B$100-B$95)+B$95","v":71.084000000000003},{"$f":"$I19*(C$100-C$95)+C$95","v":73.664000000000001},74.585999999999999,75.031999999999996,75.287999999999997,75.463999999999999,75.566000000000003,75.644000000000005]
[0.72,{"$f":"$I20*(B$100-B$95)+B$95","v":71.438000000000002},73.998000000000005,74.912000000000006,75.353999999999999,75.605999999999995,75.778000000000006,75.882000000000005,75.957999999999998]
[0.73,71.792000000000002,74.331999999999994,75.238,75.675999999999988,75.924000000000007,76.091999999999999,76.197999999999993,76.272000000000006]
[0.74,72.146000000000001,74.665999999999997,75.564000000000007,75.99799999999999,76.242000000000004,76.406000000000006,76.513999999999996,76.585999999999999]
[0.75,72.5,75,75.89,76.319999999999993,76.56,76.72,76.83,76.900000000000006]
[0.76,{"$f":"$I19*(B$105-B$100)+B$100","v":72.872},{"$f":"$I19*(C$105-C$100)+C$100","v":75.334000000000003},76.209999999999994,76.634,76.872,77.028000000000006,77.135999999999996,77.206000000000003]
[0.77,{"$f":"$I20*(B$105-B$100)+B$100","v":73.244},75.668000000000006,76.53,76.947999999999993,77.183999999999997,77.335999999999999,77.441999999999993,77.512]
[0.78,73.616,76.001999999999995,76.849999999999994,77.262,77.496000000000009,77.644000000000005,77.748000000000005,77.818000000000012]
[0.79,73.988,76.335999999999999,77.17,77.575999999999993,77.808000000000007,77.951999999999998,78.054000000000002,78.124000000000009]
[0.8,74.36,76.67,77.489999999999995,77.89,78.12,78.260000000000005,78.36,78.430000000000007]
[0.81,{"$f":"$I19*(B$110-B$105)+B$105","v":74.754000000000005},{"$f":"$I19*(C$110-C$105)+C$105","v":77.001999999999995},77.805999999999997,78.198000000000008,78.421999999999997,78.56,78.656000000000006,78.724000000000004]
[0.82,{"$f":"$I20*(B$110-B$105)+B$105","v":75.147999999999996},77.334000000000003,78.122,78.506,78.724000000000004,78.86,78.951999999999998,79.018000000000001]
[0.83,75.542000000000002,77.665999999999997,78.437999999999988,78.814000000000007,79.025999999999996,79.160000000000011,79.248000000000005,79.312000000000012]
[0.84,75.935999999999993,77.998000000000005,78.753999999999991,79.122,79.328000000000003,79.460000000000008,79.543999999999997,79.606000000000009]
[0.85,76.33,78.33,79.069999999999993,79.430000000000007,79.63,79.760000000000005,79.84,79.900000000000006]
[0.86,{"$f":"$I19*(B$115-B$110)+B$110","v":76.754000000000005},{"$f":"$I19*(C$115-C$110)+C$110","v":78.664000000000001},79.38,79.73,79.923999999999992,80.05,80.128,80.186000000000007]
[0.87,{"$f":"$I20*(B$115-B$110)+B$110","v":77.177999999999997},78.998000000000005,79.69,80.03,80.217999999999989,80.34,80.415999999999997,80.472000000000008]
[0.88,77.602000000000004,79.331999999999994,80,80.330000000000013,80.512,80.63,80.704000000000008,80.757999999999996]
[0.89,78.025999999999996,79.665999999999997,80.31,80.63000000000001,80.805999999999997,80.92,80.992000000000004,81.043999999999997]
[0.9,78.45,80,80.62,80.930000000000007,81.099999999999994,81.209999999999994,81.28,81.33]
[0.91,{"$f":"$I19*(B$120-B$115)+B$115","v":78.91},{"$f":"$I19*(C$120-C$115)+C$115","v":80.334000000000003},80.924000000000007,81.222000000000008,81.384,81.489999999999995,81.558000000000007,81.605999999999995]
[0.92,{"$f":"$I20*(B$120-B$115)+B$115","v":79.37},80.668000000000006,81.228000000000009,81.51400000000001,81.667999999999992,81.77,81.835999999999999,81.881999999999991]
[0.93,79.83,81.001999999999995,81.531999999999996,81.805999999999997,81.951999999999998,82.05,82.114000000000004,82.158000000000001]
[0.94,80.290000000000006,81.335999999999999,81.835999999999999,82.097999999999999,82.23599999999999,82.33,82.391999999999996,82.433999999999997]
[0.95,80.75,81.67,82.14,82.39,82.52,82.61,82.67,82.71]
[0.96,{"$f":"$I19*(B$125-B$120)+B$120","v":81.266000000000005},{"$f":"$I19*(C$125-C$120)+C$120","v":82.001999999999995},82.44,82.671999999999997,82.795999999999992,82.88,82.936000000000007,82.97399999999999]
[0.97,{"$f":"$I20*(B$125-B$120)+B$120","v":81.781999999999996},82.334000000000003,82.74,82.953999999999994,83.072000000000003,83.149999999999991,83.201999999999998,83.238]
[0.98,82.298000000000002,82.665999999999997,83.04,83.236000000000004,83.347999999999999,83.42,83.468000000000004,83.501999999999995]
[0.99,82.813999999999993,82.998000000000005,83.34,83.518000000000001,83.624000000000009,83.69,83.733999999999995,83.766000000000005]
[1,83.33,83.33,83.64,83.8,83.9,83.96,84,84.03]
[1.01,{"$f":"$I19*(B$130-B$125)+B$125","v":83.932000000000002},{"$f":"$I19*(C$130-C$125)+C$125","v":83.664000000000001},83.93,84.075999999999993,84.166000000000011,84.22,84.256,84.281999999999996]
[1.02,{"$f":"$I20*(B$130-B$125)+B$125","v":84.534000000000006},83.998000000000005,84.22,84.352000000000004,84.432000000000002,84.48,84.512,84.534000000000006]
[1.03,85.135999999999996,84.331999999999994,84.51,84.628,84.698000000000008,84.74,84.768000000000001,84.786000000000001]
[1.04,85.738,84.665999999999997,84.8,84.904000000000011,84.963999999999999,85,85.024000000000001,85.038000000000011]
[1.05,86.34,85,85.09,85.18,85.23,85.26,85.28,85.29]
[1.06,{"$f":"$I19*(B$135-B$130)+B$130","v":87.103999999999999},{"$f":"$I19*(C$135-C$130)+C$130","v":85.334000000000003},85.376000000000005,85.444000000000003,85.486000000000004,85.51,85.525999999999996,85.532000000000011]
[1.07,{"$f":"$I20*(B$135-B$130)+B$130","v":87.867999999999995},85.668000000000006,85.662000000000006,85.707999999999998,85.742000000000004,85.76,85.772000000000006,85.774000000000001]
[1.08,88.632000000000005,86.001999999999995,85.947999999999993,85.972000000000008,85.998000000000005,86.01,86.018000000000001,86.016000000000005]
[1.0900000000000001,89.396000000000001,86.335999999999999,86.233999999999995,86.236000000000004,86.254000000000005,86.26,86.26400000000001,86.257999999999996]
[1.1000000000000001,90.16,86.67,86.52,86.5,86.51,86.51,86.51,86.5]
[1.1100000000000001,{"$f":"$I19*(B$140-B$135)+B$135","v":91.554000000000002},{"$f":"$I19*(C$140-C$135)+C$135","v":87.001999999999995},86.795999999999992,86.756,86.754000000000005,86.748000000000005,86.744,86.731999999999999]
[1.1200000000000001,{"$f":"$I20*(B$140-B$135)+B$135","v":92.947999999999993},87.334000000000003,87.072000000000003,87.012,86.998000000000005,86.986000000000004,86.978000000000009,86.963999999999999]
[1.1299999999999999,94.341999999999999,87.665999999999997,87.347999999999999,87.268000000000001,87.242000000000004,87.224000000000004,87.212000000000003,87.195999999999998]
[1.1399999999999999,95.73599999999999,87.998000000000005,87.624000000000009,87.524000000000001,87.486000000000004,87.462000000000003,87.446000000000012,87.427999999999997]
[1.1499999999999999,97.13,88.33,87.9,87.78,87.73,87.7,87.68,87.66]
[1.1599999999999999,100,{"$f":"$I19*(C$145-C$140)+C$140","v":88.664000000000001},{"$f":"$I19*(D$145-D$140)+D$140","v":88.168000000000006},88.025999999999996,87.963999999999999,87.926000000000002,87.902000000000001,87.88]
[1.17,100,{"$f":"$I20*(C$145-C$140)+C$140","v":88.998000000000005},88.436000000000007,88.272000000000006,88.198000000000008,88.152000000000001,88.124000000000009,88.1]
[1.18,100,89.331999999999994,88.703999999999994,88.518000000000001,88.432000000000002,88.378,88.346000000000004,88.320000000000007]
[1.19,100,89.665999999999997,88.971999999999994,88.76400000000001,88.666000000000011,88.603999999999999,88.568000000000012,88.54]
[1.2,100,90,89.24,89.01,88.9,88.83,88.79,88.76]
[1.21,100,{"$f":"$I19*(C$150-C$145)+C$145","v":90.334000000000003},{"$f":"$I19*(D$150-D$145)+D$145","v":89.5},89.246000000000009,89.124000000000009,89.045999999999992,89.00200000000001,88.966000000000008]
[1.22,100,{"$f":"$I20*(C$150-C$145)+C$145","v":90.668000000000006},89.76,89.481999999999999,89.347999999999999,89.262,89.213999999999999,89.172000000000011]
[1.23,100,91.001999999999995,90.02,89.718000000000004,89.572000000000003,89.477999999999994,89.426000000000002,89.378]
[1.24,100,91.335999999999999,90.28,89.953999999999994,89.795999999999992,89.694000000000003,89.637999999999991,89.584000000000003]
[1.25,100,91.67,90.54,90.19,90.02,89.91,89.85,89.79]
[1.26,100,{"$f":"$I19*(C$155-C$150)+C$150","v":92.001999999999995},{"$f":"$I19*(D$155-D$150)+D$150","v":90.79},90.414000000000001,90.22999999999999,90.116,90.048000000000002,89.988]
[1.27,100,{"$f":"$I20*(C$155-C$150)+C$150","v":92.334000000000003},91.04,90.638000000000005,90.44,90.322000000000003,90.245999999999995,90.186000000000007]
[1.28,100,92.665999999999997,91.29,90.861999999999995,90.649999999999991,90.527999999999992,90.444000000000003,90.384]
[1.29,100,92.998000000000005,91.54,91.085999999999999,90.86,90.733999999999995,90.641999999999996,90.582000000000008]
[1.3,100,93.33,91.79,91.31,91.07,90.94,90.84,90.78]
[1.31,100,{"$f":"$I19*(C$160-C$155)+C$155","v":93.664000000000001},{"$f":"$I19*(D$160-D$155)+D$155","v":92.028000000000006},91.522000000000006,91.271999999999991,91.132000000000005,91.028000000000006,90.963999999999999]
[1.32,100,{"$f":"$I20*(C$160-C$155)+C$155","v":93.998000000000005},92.266000000000005,91.734000000000009,91.47399999999999,91.323999999999998,91.216000000000008,91.147999999999996]
[1.33,100,94.331999999999994,92.504000000000005,91.945999999999998,91.676000000000002,91.516000000000005,91.403999999999996,91.332000000000008]
[1.34,100,94.665999999999997,92.742000000000004,92.158000000000001,91.878,91.707999999999998,91.591999999999999,91.516000000000005]
[1.35,100,95,92.98,92.37,92.08,91.9,91.78,91.7]
[1.36,100,{"$f":"$I19*(C$165-C$160)+C$160","v":95.334000000000003},{"$f":"$I19*(D$165-D$160)+D$160","v":93.207999999999998},92.570000000000007,92.268000000000001,92.082000000000008,91.957999999999998,91.872]
[1.37,100,{"$f":"$I20*(C$165-C$160)+C$160","v":95.668000000000006},93.436000000000007,92.77000000000001,92.456000000000003,92.26400000000001,92.135999999999996,92.043999999999997]
[1.38,100,96.001999999999995,93.664000000000001,92.97,92.643999999999991,92.445999999999998,92.314000000000007,92.216000000000008]
[1.39,100,96.335999999999999,93.89200000000001,93.17,92.831999999999994,92.628,92.492000000000004,92.388000000000005]
[1.4,100,96.67,94.12,93.37,93.02,92.81,92.67,92.56]
[1.41,100,{"$f":"$I19*(C$170-C$165)+C$165","v":97.001999999999995},{"$f":"$I19*(D$170-D$165)+D$165","v":94.334000000000003},93.56,93.195999999999998,92.978000000000009,92.834000000000003,92.722000000000008]
[1.42,100,{"$f":"$I20*(C$170-C$165)+C$165","v":97.334000000000003},94.548000000000002,93.75,93.372,93.146000000000001,92.998000000000005,92.884]
[1.43,100,97.665999999999997,94.762,93.94,93.548000000000002,93.314000000000007,93.161999999999992,93.046000000000006]
[1.44,100,97.998000000000005,94.975999999999999,94.13,93.724000000000004,93.481999999999999,93.325999999999993,93.207999999999998]
[1.45,100,98.33,95.19,94.32,93.9,93.65,93.49,93.37]
[1.46,100,{"$f":"$I19*(C$175-C$170)+C$170","v":98.664000000000001},{"$f":"$I19*(D$175-D$170)+D$170","v":95.391999999999996},94.494,94.064000000000007,93.808000000000007,93.643999999999991,93.522000000000006]
[1.47,100,{"$f":"$I20*(C$175-C$170)+C$170","v":98.998000000000005},95.593999999999994,94.667999999999992,94.228000000000009,93.966000000000008,93.798000000000002,93.674000000000007]
[1.48,100,99.331999999999994,95.796000000000006,94.841999999999999,94.391999999999996,94.123999999999995,93.951999999999998,93.825999999999993]
[1.49,100,99.665999999999997,95.998000000000005,95.015999999999991,94.555999999999997,94.281999999999996,94.106000000000009,93.977999999999994]
[1.5,100,100,96.2,95.19,94.72,94.44,94.26,94.13]
[1.51,100,100,{"$f":"$I19*(D$180-D$175)+D$175","v":96.385999999999996},95.352000000000004,94.872,94.585999999999999,94.402000000000001,94.268000000000001]
[1.52,100,100,{"$f":"$I20*(D$180-D$175)+D$175","v":96.572000000000003},95.513999999999996,95.024000000000001,94.731999999999999,94.543999999999997,94.405999999999992]
[1.53,100,100,96.757999999999996,95.676000000000002,95.176000000000002,94.878,94.686000000000007,94.543999999999997]
[1.54,100,100,96.944000000000003,95.837999999999994,95.328000000000003,95.024000000000001,94.828000000000003,94.681999999999988]
[1.55,100,100,97.13,96,95.48,95.17,94.97,94.82]
[1.56,100,100,{"$f":"$I19*(D$185-D$180)+D$180","v":97.298000000000002},96.15,95.618000000000009,95.304000000000002,95.1,94.947999999999993]
[1.57,100,100,{"$f":"$I20*(D$185-D$180)+D$180","v":97.465999999999994},96.3,95.756,95.438000000000002,95.23,95.075999999999993]
[1.58,100,100,97.634,96.45,95.894000000000005,95.572000000000003,95.36,95.203999999999994]
[1.59,100,100,97.801999999999992,96.6,96.031999999999996,95.706000000000003,95.490000000000009,95.331999999999994]
[1.6,100,100,97.97,96.75,96.17,95.84,95.62,95.46]
[1.61,100,100,{"$f":"$I19*(D$190-D$185)+D$185","v":98.12},96.884,96.298000000000002,95.962000000000003,95.740000000000009,95.577999999999989]
[1.62,100,100,{"$f":"$I20*(D$190-D$185)+D$185","v":98.27},97.018000000000001,96.426000000000002,96.084000000000003,95.86,95.695999999999998]
[1.63,100,100,98.42,97.152000000000001,96.554000000000002,96.206000000000003,95.98,95.813999999999993]
[1.64,100,100,98.57,97.286000000000001,96.682000000000002,96.328000000000003,96.1,95.932000000000002]
[1.65,100,100,98.72,97.42,96.81,96.45,96.22,96.05]
[1.66,100,100,{"$f":"$I19*(D$195-D$190)+D$190","v":98.843999999999994},97.54,96.924000000000007,96.561999999999998,96.328000000000003,96.158000000000001]
[1.67,100,100,{"$f":"$I20*(D$195-D$190)+D$190","v":98.968000000000004},97.66,97.037999999999997,96.674000000000007,96.436000000000007,96.266000000000005]
[1.68,100,100,99.091999999999999,97.78,97.152000000000001,96.786000000000001,96.543999999999997,96.373999999999995]
[1.69,100,100,99.216000000000008,97.899999999999991,97.265999999999991,96.89800000000001,96.652000000000001,96.481999999999999]
[1.7,100,100,99.34,98.02,97.38,97.01,96.76,96.59]
[1.71,100,100,{"$f":"$I19*(D$200-D$195)+D$195","v":99.433999999999997},98.125999999999991,97.481999999999999,97.11,96.858000000000004,96.686000000000007]
[1.72,100,100,{"$f":"$I20*(D$200-D$195)+D$195","v":99.528000000000006},98.231999999999999,97.584000000000003,97.210000000000008,96.956000000000003,96.781999999999996]
[1.73,100,100,99.622,98.337999999999994,97.685999999999993,97.31,97.054000000000002,96.878]
[1.74,100,100,99.716000000000008,98.444000000000003,97.787999999999997,97.410000000000011,97.152000000000001,96.97399999999999]
[1.75,100,100,99.81,98.55,97.89,97.51,97.25,97.07]
[1.76,100,100,{"$f":"0.25*(D$204-D$200)+D$200","v":99.857500000000002},{"$f":"$I19*(E$205-E$200)+E$200","v":98.637999999999991},97.981999999999999,97.600000000000009,97.34,97.158000000000001]
[1.77,100,100,{"$f":"0.5*(D$204-D$200)+D$200","v":99.905000000000001},98.725999999999999,98.073999999999998,97.69,97.43,97.245999999999995]
[1.78,100,100,{"$f":"0.75*(D$204-D$200)+D$200","v":99.952500000000001},98.813999999999993,98.165999999999997,97.78,97.52,97.334000000000003]
[1.79,100,100,100,98.902000000000001,98.257999999999996,97.86999999999999,97.61,97.421999999999997]
[1.8,100,100,100,98.99,98.35,97.96,97.7,97.51]
[1.81,100,100,100,{"$f":"$I19*(E$210-E$205)+E$205","v":99.063999999999993},98.427999999999997,98.037999999999997,97.778000000000006,97.59]
[1.82,100,100,100,99.137999999999991,98.506,98.116,97.856000000000009,97.67]
[1.83,100,100,100,99.212000000000003,98.583999999999989,98.193999999999988,97.933999999999997,97.75]
[1.84,100,100,100,99.286000000000001,98.661999999999992,98.271999999999991,98.012,97.83]
[1.85,100,100,100,99.36,98.74,98.35,98.09,97.91]
[1.86,100,100,100,{"$f":"$I19*(E$215-E$210)+E$210","v":99.418000000000006},{"$f":"$I19*(F$215-F$210)+F$210","v":98.805999999999997},{"$f":"$I19*(G$215-G$210)+G$210","v":98.417999999999992},{"$f":"$I19*(H$215-H$210)+H$210","v":98.16},{"$f":"$I19*(I$215-I$210)+I$210","v":97.977999999999994}]
[1.87,100,100,100,{"$f":"$I20*(E$215-E$210)+E$210","v":99.475999999999999},98.872,98.48599999999999,98.23,98.045999999999992]
[1.88,100,100,100,99.534000000000006,98.937999999999988,98.554000000000002,98.3,98.114000000000004]
[1.89,100,100,100,99.591999999999999,99.003999999999991,98.622,98.37,98.182000000000002]
[1.9,100,100,100,99.65,99.07,98.69,98.44,98.25]
[1.91,100,100,100,{"$f":"$I19*(E$220-E$215)+E$215","v":99.69},{"$f":"$I19*(F$220-F$215)+F$215","v":99.125999999999991},{"$f":"$I19*(G$220-G$215)+G$215","v":98.75},{"$f":"$I19*(H$220-H$215)+H$215","v":98.5},{"$f":"$I19*(I$220-I$215)+I$215","v":98.311999999999998}]
[1.92,100,100,100,{"$f":"$I20*(E$220-E$215)+E$215","v":99.73},99.181999999999988,98.81,98.56,98.373999999999995]
[1.93,100,100,100,99.77,99.238,98.86999999999999,98.61999999999999,98.436000000000007]
[1.94,100,100,100,99.81,99.293999999999997,98.929999999999993,98.679999999999993,98.498000000000005]
[1.95,100,100,100,99.85,99.35,98.99,98.74,98.56]
[1.96,100,100,100,{"$f":"$I19*(E$225-E$220)+E$220","v":99.873999999999995},{"$f":"$I19*(F$225-F$220)+F$220","v":99.393999999999991},{"$f":"$I19*(G$225-G$220)+G$220","v":99.039999999999992},{"$f":"$I19*(H$225-H$220)+H$220","v":98.792000000000002},{"$f":"$I19*(I$225-I$220)+I$220","v":98.614000000000004}]
[1.97,100,100,100,{"$f":"$I20*(E$225-E$220)+E$220","v":99.897999999999996},99.437999999999988,99.089999999999989,98.843999999999994,98.668000000000006]
[1.98,100,100,100,99.921999999999997,99.481999999999999,99.14,98.896000000000001,98.721999999999994]
[1.99,100,100,100,99.945999999999998,99.525999999999996,99.19,98.947999999999993,98.775999999999996]
[2,100,100,100,99.97,99.57,99.24,99,98.83]
[2.0099999999999998,100,100,100,{"$f":"$I19*(E$230-E$225)+E$225","v":99.975999999999999},{"$f":"$I19*(F$230-F$225)+F$225","v":99.603999999999999},{"$f":"$I19*(G$230-G$225)+G$225","v":99.281999999999996},{"$f":"$I19*(H$230-H$225)+H$225","v":99.046000000000006},{"$f":"$I19*(I$230-I$225)+I$225","v":98.876000000000005}]
[2.02,100,100,100,{"$f":"$I20*(E$230-E$225)+E$225","v":99.981999999999999},99.637999999999991,99.323999999999998,99.091999999999999,98.921999999999997]
[2.0299999999999998,100,100,100,99.988,99.671999999999997,99.366,99.138000000000005,98.968000000000004]
[2.04,100,100,100,99.994,99.705999999999989,99.408000000000001,99.183999999999997,99.013999999999996]
[2.0499999999999998,100,100,100,100,99.74,99.45,99.23,99.06]
[2.06,100,100,100,100,{"$f":"$I19*(F$235-F$230)+F$230","v":99.763999999999996},{"$f":"$I19*(G$235-G$230)+G$230","v":99.481999999999999},{"$f":"$I19*(H$235-H$230)+H$230","v":99.266000000000005},{"$f":"$I19*(I$235-I$230)+I$230","v":99.100000000000009}]
[2.0699999999999998,100,100,100,100,{"$f":"$I20*(F$235-F$230)+F$230","v":99.787999999999997},99.513999999999996,99.302000000000007,99.14]
[2.08,100,100,100,100,99.811999999999998,99.546000000000006,99.337999999999994,99.18]
[2.09,100,100,100,100,99.835999999999999,99.578000000000003,99.373999999999995,99.22]
[2.1,100,100,100,100,99.86,99.61,99.41,99.26]
[2.11,100,100,100,100,{"$f":"$I19*(F$240-F$235)+F$235","v":99.876000000000005},{"$f":"$I19*(G$240-G$235)+G$235","v":99.635999999999996},{"$f":"$I19*(H$240-H$235)+H$235","v":99.441999999999993},{"$f":"$I19*(I$240-I$235)+I$235","v":99.292000000000002}]
[2.12,100,100,100,100,{"$f":"$I20*(F$240-F$235)+F$235","v":99.891999999999996},99.661999999999992,99.47399999999999,99.323999999999998]
[2.13,100,100,100,100,99.908000000000001,99.688000000000002,99.506,99.356000000000009]
[2.14,100,100,100,100,99.923999999999992,99.713999999999999,99.537999999999997,99.388000000000005]
[2.15,100,100,100,100,99.94,99.74,99.57,99.42]
[2.16,100,100,100,100,{"$f":"$I19*(F$245-F$240)+F$240","v":99.95},{"$f":"$I19*(G$245-G$240)+G$240","v":99.759999999999991},{"$f":"$I19*(H$245-H$240)+H$240","v":99.593999999999994},{"$f":"$I19*(I$245-I$240)+I$240","v":99.448000000000008}]
[2.17,100,100,100,100,{"$f":"$I20*(F$245-F$240)+F$240","v":99.96},99.78,99.617999999999995,99.475999999999999]
[2.1800000000000002,100,100,100,100,99.97,99.8,99.641999999999996,99.504000000000005]
[2.19,100,100,100,100,99.97999999999999,99.820000000000007,99.665999999999997,99.531999999999996]
[2.2000000000000002,100,100,100,100,99.99,99.84,99.69,99.56]
[2.21,100,100,100,100,{"$f":"$I19*(F$250-F$245)+F$245","v":99.99199999999999},{"$f":"$I19*(G$250-G$245)+G$245","v":99.853999999999999},{"$f":"$I19*(H$250-H$245)+H$245","v":99.71},{"$f":"$I19*(I$250-I$245)+I$245","v":99.584000000000003}]
[2.2200000000000002,100,100,100,100,{"$f":"$I20*(F$250-F$245)+F$245","v":99.994},99.867999999999995,99.73,99.608000000000004]
[2.23,100,100,100,100,99.995999999999995,99.882000000000005,99.75,99.632000000000005]
[2.2400000000000002,100,100,100,100,99.998000000000005,99.896000000000001,99.77000000000001,99.656000000000006]
[2.25,100,100,100,100,100,99.91,99.79,99.68]
[2.2599999999999998,100,100,100,100,100,{"$f":"$I19*(G$255-G$250)+G$250","v":99.92},{"$f":"$I19*(H$255-H$250)+H$250","v":99.804000000000002},{"$f":"$I19*(I$255-I$250)+I$250","v":99.698000000000008}]
[2.27,100,100,100,100,100,{"$f":"$I20*(G$255-G$250)+G$250","v":99.929999999999993},99.817999999999998,99.716000000000008]
[2.2799999999999998,100,100,100,100,100,99.94,99.832000000000008,99.733999999999995]
[2.29,100,100,100,100,100,99.949999999999989,99.846000000000004,99.751999999999995]
[2.2999999999999998,100,100,100,100,100,99.96,99.86,99.77]
[2.31,100,100,100,100,100,{"$f":"$I19*(G$260-G$255)+G$255","v":99.963999999999999},{"$f":"$I19*(H$260-H$255)+H$255","v":99.872},{"$f":"$I19*(I$260-I$255)+I$255","v":99.783999999999992}]
[2.3199999999999998,100,100,100,100,100,{"$f":"$I20*(G$260-G$255)+G$255","v":99.968000000000004},99.884,99.798000000000002]
[2.33,100,100,100,100,100,99.971999999999994,99.896000000000001,99.811999999999998]
[2.34,100,100,100,100,100,99.975999999999999,99.908000000000001,99.826000000000008]
[2.35,100,100,100,100,100,99.98,99.92,99.84]
[2.36,100,100,100,100,100,{"$f":"$I19*(G$265-G$260)+G$260","v":99.984000000000009},99.926000000000002,99.850000000000009]
[2.37,100,100,100,100,100,99.988,99.932000000000002,99.86]
[2.38,100,100,100,100,100,99.992000000000004,99.938000000000002,99.87]
[2.39,100,100,100,100,100,99.995999999999995,99.944000000000003,99.88]
[2.4,100,100,100,100,100,100,99.95,99.89]
[2.41,100,100,100,100,100,100,{"$f":"$I19*(H$270-H$265)+H$265","v":99.956000000000003},{"$f":"$I19*(I$270-I$265)+I$265","v":99.897999999999996}]
[2.42,100,100,100,100,100,100,{"$f":"$I20*(H$270-H$265)+H$265","v":99.962000000000003},99.906000000000006]
[2.4300000000000002,100,100,100,100,100,100,99.968000000000004,99.914000000000001]
[2.44,100,100,100,100,100,100,99.974000000000004,99.922000000000011]
[2.4500000000000002,100,100,100,100,100,100,99.98,99.93]
[2.46,100,100,100,100,100,100,{"$f":"$I19*(H$275-H$270)+H$270","v":99.981999999999999},{"$f":"$I19*(I$275-I$270)+I$270","v":99.936000000000007}]
[2.4700000000000002,100,100,100,100,100,100,{"$f":"$I20*(H$275-H$270)+H$270","v":99.983999999999995},99.942000000000007]
[2.48,100,100,100,100,100,100,99.986000000000004,99.947999999999993]
[2.4900000000000002,100,100,100,100,100,100,99.988,99.953999999999994]
[2.5,100,100,100,100,100,100,99.99,99.96]
[2.5099999999999998,100,100,100,100,100,100,{"$f":"$I19*(H$280-H$275)+H$275","v":99.99199999999999},{"$f":"$I19*(I$280-I$275)+I$275","v":99.963999999999999}]
[2.52,100,100,100,100,100,100,{"$f":"$I20*(H$280-H$275)+H$275","v":99.994},99.968000000000004]
[2.5299999999999998,100,100,100,100,100,100,99.995999999999995,99.971999999999994]
[2.54,100,100,100,100,100,100,99.998000000000005,99.975999999999999]
[2.5499999999999998,100,100,100,100,100,100,100,99.98]
[2.56,100,100,100,100,100,100,100,{"$f":"$I19*(I$285-I$280)+I$280","v":99.981999999999999}]
[2.57,100,100,100,100,100,100,100,{"$f":"$I20*(I$285-I$280)+I$280","v":99.983999999999995}]
[2.58,100,100,100,100,100,100,100,{"$f":"$I21*(I$285-I$280)+I$280","v":99.986000000000004}]
[2.59,100,100,100,100,100,100,100,{"$f":"$I22*(I$285-I$280)+I$280","v":99.988}]
[2.6,100,100,100,100,100,100,100,99.99]
[2.61,100,100,100,100,100,100,100,{"$f":"$I19*(I$290-I$285)+I$285","v":99.99199999999999}]
[2.62,100,100,100,100,100,100,100,{"$f":"$I20*(I$290-I$285)+I$285","v":99.994}]
[2.63,100,100,100,100,100,100,100,{"$f":"$I21*(I$290-I$285)+I$285","v":99.995999999999995}]
[2.64,100,100,100,100,100,100,100,{"$f":"$I22*(I$290-I$285)+I$285","v":99.998000000000005}]
[2.65,100,100,100,100,100,100,100,100]

{"sheet":"ReportS","index":11,"n_rows":8,"n_cols":3,"rows_kept":8,"cut":false,"hidden":false,"merged":[[47,26,47,31],[41,26,41,31],[42,26,42,31],[43,26,43,31],[44,26,44,31],[45,26,45,31],[46,26,46,31],[42,20,43,23],[40,13,40,14],[19,13,19,14],[21,13,21,14],[25,13,25,14],[35,13,35,14],[38,13,38,14],[36,13,36,14],[37,13,37,14],[41,13,41,14],[47,13,47,14],[44,13,44,14],[45,13,45,14],[42,13,42,14],[43,13,43,14],[46,13,46,14],[27,13,27,14],[28,13,28,14],[22,13,22,14],[31,13,31,14],[38,17,39,23],[36,17,37,23],[34,17,35,23],[33,18,33,21],[30,20,30,21],[33,8,34,9],[35,8,36,9],[37,8,38,9],[31,20,31,21],[32,18,32,21],[31,17,31,18],[25,0,26,1],[27,0,28,1],[29,0,30,1],[25,2,26,3],[27,2,28,3],[29,2,30,3],[39,0,40,1],[39,2,40,3],[39,4,40,7],[33,4,34,7],[37,4,38,7],[33,0,34,1],[35,0,36,1],[25,4,26,7],[31,0,32,1],[44,0,45,2],[44,3,45,9],[41,2,42,3],[41,8,42,9],[41,0,42,1],[41,4,42,7],[26,18,26,20],[25,18,25,20],[37,0,38,1],[35,2,36,3],[37,2,38,3],[27,4,28,7],[29,4,30,7],[29,13,29,14],[31,2,32,3],[33,2,34,3],[35,4,36,7],[31,4,32,7],[31,8,32,9],[39,8,40,9],[30,17,30,18],[27,8,28,9],[29,8,30,9],[39,13,39,14],[27,18,27,20],[27,21,27,22],[26,13,26,14],[25,8,26,9],[44,33,45,35],[39,33,41,36],[23,34,23,35],[42,33,43,36],[29,17,29,18],[29,20,29,21],[33,22,33,23],[23,26,23,27],[42,17,43,19],[32,22,32,23],[40,26,40,32],[39,26,39,32],[23,28,24,28],[23,32,23,33],[23,29,24,29],[26,21,26,22],[25,21,25,22],[30,13,30,14],[34,13,34,14],[33,16,34,16],[1,2,2,2],[20,5,21,6],[18,2,19,4],[20,2,21,4],[15,0,15,9],[22,25,22,26],[16,18,17,23],[18,5,19,6],[18,7,19,9],[18,13,18,14],[16,25,17,30],[17,16,18,16],[16,0,17,1],[16,2,17,4],[18,0,19,1],[16,5,17,6],[16,7,17,9],[21,25,21,26],[20,7,21,9],[22,0,24,9],[20,0,21,1],[24,13,24,14],[20,13,20,14],[23,13,23,14],[21,27,21,30],[20,32,21,35],[18,32,19,35],[21,31,24,31],[19,25,19,26],[20,25,20,26],[19,27,19,30],[20,27,20,30],[22,27,22,30],[22,32,22,36]]}
[]
[null,null,"Main"]
[]
[]
[]
[]
[]
[null,null,"TBD"]

{"sheet":"Send Sync","index":12,"n_rows":777,"n_cols":52,"rows_kept":777,"cut":false,"hidden":false,"merged":[[8,21,8,25],[9,2,10,24],[20,14,20,16],[20,11,20,13],[2,4,3,6],[2,7,3,9],[2,10,3,12],[2,13,3,15],[16,1,16,10],[7,7,7,19],[8,15,8,19],[14,18,14,21],[15,1,15,10],[15,11,15,22],[4,4,5,21],[33,2,33,15],[40,1,40,3],[40,4,40,24],[39,4,39,24],[36,4,36,24],[34,17,34,19],[39,1,39,3],[160,10,160,11],[46,4,46,24],[42,1,42,3],[42,4,42,24],[43,1,43,3],[43,4,43,24],[44,1,44,3],[44,4,44,24],[46,1,46,3],[41,1,41,3],[41,4,41,24],[29,1,30,14],[32,17,32,22],[14,1,14,10],[14,11,14,16],[22,17,23,22],[17,2,17,22],[18,4,18,10],[18,11,18,13],[16,11,16,22],[32,1,32,14],[24,2,24,25],[33,17,33,19],[33,20,33,23],[34,20,34,23],[0,4,1,24],[53,29,54,29],[2,19,3,21],[2,22,3,24],[4,22,5,24],[2,16,3,18],[29,17,29,22],[11,2,12,24],[45,1,45,3],[45,4,45,24],[36,1,36,3],[37,1,37,3],[37,4,37,24],[38,1,38,3],[38,4,38,24],[4,1,5,3]]}
[null,null,null,null,{"$f":"Main!E1","v":"AWP Contractor Reporting E2O - Aggregates Contractor QC"}]
[null,null,null,null,null,null,null,null,null,null,null,null,null,null,null,null,null,null,null,null,null,null,null,null,null,"v",{"$f":"Main!AA2","v":"5.00"},null,"Temp File",null,{"$f":"CONCATENATE(AE8,AE4)","v":"C:\\Users\\varnej1\\AppData\\Local\\Temp\\AGGR.xls"},{"$f":"CONCATENATE(AE8,AF4)","v":"C:\\Users\\varnej1\\AppData\\Local\\Temp\\AGGR.xlsm"}]
[null,null,null,null," ",null,null,{"$f":"Main!H3","v":"Main"},null,null,{"$f":"Main!K3","v":"Quantity"},null,null,null,null,null,{"$f":"Main!Q3","v":"Send/Sync"},null,null,{"$f":"Main!T3","v":"Reports"},null,null,{"$f":"Main!W3","v":"Help"},null,null,null,null,null,"Launched File",null,"V:\\Excel2Oracle\\ContractorReportingAWP\\AWP_Aggregates.xlsm"]
[null,null,null,null,null,null,null,null,null,null,null,null,null,null,null,null,null,null,null,null,null,null,null,null,null,null,null,null,"Mandatory filename",null,{"$f":"CONCATENATE(\"AGGR\",Main!V12,\".xls\")","v":"AGGR.xls"},{"$f":"CONCATENATE(\"AGGR\",Main!V12,\".xlsm\")","v":"AGGR.xlsm"}]
[null,null,null,null,"!  ACTIONS ON THIS TAB REQUIRE AN INTERNET CONNECTION  !",null,null,null,null,null,null,null,null,null,null,null,null,null,null,null,null,null,null,null,null,null,null,null,"future local fullname"]
[null,null,null,null,null,null,null,null,null,null,null,null,null,null,null,null,null,null,null,null,null,null,null,null,null,null,null,null,"User MyDocuments",null,"C:\\Users\\varnej1\\my documents\\"]
[null,null,null,null,null,null,null,null,null,null,null,null,null,null,null,null,null,null,null,null,null,null,null,null,null,null,null,null,"Userid",null,"Jonathan C. Varner","Jonathan C. Varner","Jonathan C. Varner","Jonathan C. Varner","Jonathan C. Varner","Jonathan C. Varner","Jonathan C. Varner","Jonathan C. Varner","Jonathan C. Varner","Jonathan C. Varner","Jonathan C. Varner","Jonathan C. Varner","Jonathan C. Varner","Jonathan C. Varner","Jonathan C. Varner","Jonathan C. Varner","Jonathan C. Varner","Jonathan C. Varner","Jonathan C. Varner","Jonathan C. Varner","Jonathan C. Varner","Jonathan C. Varner"]
["SEND DATA TO MODOT:",null,null,null,null,null,null,{"$f":"IF(AC20>0, \"NOT YET COMPLETE!\", \"\")","v":"NOT YET COMPLETE!"},null,null,null,null,null,null,null,null,null,null,null,null,null,null,null,null,null,null,null,null,"Temp",null,"C:\\Users\\varnej1\\AppData\\Local\\Temp\\"]
[null,"Once completed, this report must be emailed back to MoDOT:      ",null,null,null,null,null,null,null,null,null,null,null,null,null,"awpcre2o@modot.mo.gov",null,null,null,null,"or","Outlook Client Upload",null,null,null,null,null,null,"OS",null,"Windows (32-bit) NT 6.01"]
[null,null,"* If you have an MS Outlook client installed, the button will automate the send…  otherwise please use the email address and ensure the sample ID is included in the file name.",null,null,null,null,null,null,null,null,null,null,null,null,null,null,null,null,null,null,null,null,null,null,null,null,null,"Excel Defualt File Path",null,"j:\\meyerm3\\"]
[null,null,null,null,null,null,null,null,null,null,null,null,null,null,null,null,null,null,null,null,null,null,null,null,null,null,null,null,"User Indicated File",null,"C:\\Users\\meyerm3\\Desktop\\AS1 14QMIDK234.xls"]
[null,null,"* If an error is found during processing, the email will contain a basic indication of the issue.  You are responsible for persuing the solution… work with your RE office to help.",null,null,null,null,null,null,null,null,null,null,null,null,null,null,null,null,null,null,null,null,null,null,null,null,null,"From Interent Y/N",null,"N","Use Email for Send? Y/N",null,null,"N"]
[null,null,null,null,null,null,null,null,null,null,null,null,null,null,null,null,null,null,null,null,null,null,null,null,null,null,null,null,"Temp shell file",null,{"$f":"CONCATENATE(AE8,\"MoDOTFTP.txt\")","v":"C:\\Users\\varnej1\\AppData\\Local\\Temp\\MoDOTFTP.txt"}]
[null,null,null,null,null,null,null,"Contact information for notifications related to this record.",null,null,null,null,null,null,null,null,null,null,null,null,null,null,null,null,null,null,null,null,{"$f":"IF(ISBLANK(L15),1,0)","v":1},"inspector ",null,{"$f":"IF(AND(ISERROR('Contract and Quantities'!$AK$11),NOT(ISBLANK('Contract and Quantities'!$J$33)),'Contract and Quantities'!$AD$37>0,ISBLANK($L$21)),1,0)","v":0},"Invalid District on Quantities tab, need to select District on Send/Sync tab"]
[null," MoDOT Inspector",null,null,null,null,null,null,null,null,null,null,null,null,null,null,null,null,{"$f":"IF(ISERROR(C55),\"\",C55)","v":""},null,null,null,null,null,null,null,null,null,{"$f":"IF(ISBLANK(L16), 1,0)","v":1},"contractor email"]
[null,"Your (Contractor) E-Mail Address.",null,null,null,null,null,null,null,null,null,null,null,null,null,null,null,null,null,null,null,null,null,null,null,null,null,null,{"$f":"IF((IFERROR(SEARCH(\"@\",L16),0))>0, 0,1)","v":1},"Email contains an @"]
[null,"Optiohnal Second E-Mail Address.",null,null,null,null,null,null,null,null,null,null,null,null,null,null,null,null,null,null,null,null,null,null,null,null,null,null,{"$f":"IF(ISBLANK(L17),0,IF((IFERROR(SEARCH(\"@\",L17),0))>0,0,1))","v":0},"Optional Email contains an @"]
[null,null,null,null,null,null,null,null,null,null,null,null,null,null,null,null,null,null,null,null,null,null,null,null,null,null,null,null,{"$f":"IF(L19=\"\", 1,0)","v":1},"security word entered"]
[null,null,null,null,"Contractor Security Word",null,null,null,null,null,null,null,null,null,null,null,null,null,null,null,null,null,null,null,null,null,null,null,{"$f":"IF(LEN(L19)=4,0,1)","v":1},"four characters"]
[null,null,null,null,null,null,null,null,null,null,null,null,null,null,null,null,null,null,null,null,null,null,null,null,null,null,null,null,{"$f":"SUM('Contract and Quantities'!AC146,'Test 1'!AC56,Main!AC32,'Test 2'!AC76,'Test 3'!AC38,'Test 4'!AC70,AF14)","v":13},"Total from other used tabs!  If greater than zero it is not ok to send"]
[null,null,null,null,null,null,null,null,null,null,"Select District for non-standard Contract ID",null,null,null,{"$f":"'Contract and Quantities'!AK11","v":{"$error":"#VALUE!"}},null,null,"<-Quantity tab has error instead of district",null,null,null,null,null,null,null,null,null,null,{"$f":"IF(SUM(AC14:AC20)=0,\"YES\",\"NO\")","v":"NO"},"Ok to send"]
[]
[null,"I need to update an existing report I have previously submitted:       ",null,null,null,null,null,null,null,null,null,null,null,null,null,null,null,{"$f":"AE26","v":"Click Here To Allow Updating"},null,null,null,null,null,null,null,null,null,null,"NO","Updating allowed"]
[null,null,null,null,null,null,null,null,null,null,null,null,null,null,null,null,null,null,null,null,null,null,null,null,null,null,null,null,null,"option 1","Click Here To Allow Updating"]
[null,null,"* Note this can overwrite existing reports.  Make absoultely sure this is what you intend to do before proceeding.",null,null,null,null,null,null,null,null,null,null,null,null,null,null,null,null,null,null,null,null,null,null,null,null,null,null,"option 2","Updating Enabled"]
[null,null,null,null,null,null,null,null,null,null,null,null,null,null,null,null,null,null,null,null,null,null,null,null,null,null,null,null,null,"displayed","Click Here To Allow Updating"]
[]
["RETRIEVE DATA FROM MODOT:"]
[]
[null,"Update the picklists on this sheet to retrieve new choices that MoDOT has added to its database:",null,null,null,null,null,null,null,null,null,null,null,null,null,null,null,"Update Picklists",null,null,null,null,null,null,null,null,null,null,"Date of last news update.  This is used to limit the number of news updates to once per day.  "]
[null,null,null,null,null,null,null,null,null,null,null,null,null,null,null,null,null,null,null,null,null,null,null,null,null,null,null,null,"2026-01-02"]
[null,null,null,null,null,null,null,null,null,null,null,null,null,null,null,null,null,null,null,null,null,null,null,null,null,null,null,null,"Todays Date for comparison"]
[null,"Check to see if this worksheet is the latest version and for news.",null,null,null,null,null,null,null,null,null,null,null,null,null,null,null,"Version and News Check",null,null,null,null,null,null,null,null,null,null,"2026-01-02"]
[null,null,"Note:  this is automatically done for you once a day.",null,null,null,null,null,null,null,null,null,null,null,null,null,null,"This Sheet :",null,null,{"$f":"AA2","v":"5.00"},null,null,null,null,null,null,null,"Skip news download:"]
[null,null,null,null,null,null,null,null,null,null,null,null,null,null,null,null,null,"Newest :",null,null,"5.00"]
[null,"Latest News and Updates"]
[null,{"$f":"P70","v":"ALL"},null,null,{"$f":"Q70","v":"MoDOT (Jobsite, roadway or other similar site) now the only supplier choice for Culvert and Earthworks CRE2O (with the exception of rock base 0303CARB) as they report testing on the jobsite"}]
[null,{"$f":"P71","v":"ALL"},null,null,{"$f":"Q71","v":"E2O Server Outage files have been received but will not process until Server back up, MoDOT IS folks working to restore E2O Server"}]
[null,"ALL",null,null,{"$f":"Q72","v":"E2O Server running, E2O available for submitting new files.  Processed 160 files that had been submitted but not processed"}]
[null,"ALL",null,null,{"$f":"Q73","v":"AWP CRE2O sheets updated to be automatically authorized in AWP and allow MoDOT Consultants to use CRE2O sheets for reporting their QA and or QCQA results for MoDOT"}]
[null,"ALL",null,null,{"$f":"Q74","v":"AWP QA Asphalt Superlots 4.11 released to delete coding references to SiteManager"}]
[null,"ALL",null,null,{"$f":"Q75","v":"Excel-2-Oracle sheets will not be processing March 20 @ 6 pm to March 21 @ 7:30 am. Contact REDEV@modot.mo.gov for questions."}]
[null,"Aggs",null,null,"AWP Aggregates 2.20 released to fix issue where gradation test wouldn't go into AWP when reporting RAP as base material"]
[null,"Aggs",null,null,"AWP Earthwork 4.31 released \"MoDOT Jobsite\" should be used as supplier for compacted base"]
[null,"Aggs",null,null,"AWP Earthworks sheets updated to include option to select 6\" proctor method for T99 results"]
[null,"Aggs",null,null,"QA and QC Earthwork released to allow \"too rocky to test\" as a reportable option for proctor density results"]
[null,"ALL",null,null,"All CRE2O sheets updated, updating picklists function wasn't working for some users"]
[null,null,null,null,null,null,null,null,null,null,null,null,null,null,null,null,null,null,null,null,null,null,null,null,null,null,null,null,null,null,"6 indicates yes"]
[null,null,null,null,null,null,null,null,null,null,null,null,null,null,null,null,null,null,null,null,null,null,null,null,null,null,null,null,null,"All"]
[null,null,null,null,null,null,null,null,null,null,null,null,null,null,null,null,null,null,null,null,null,null,null,null,null,null,null,null,null,"PS Mat"]
[null,null,null,null,null,null,null,null,null,null,null,null,null,null,null,null,null,null,null,null,null,null,null,null,null,null,null,null,null,"Branded"]
[null,null,null,null,null,null,null,null,null,null,null,null,null,null,null,null,null,null,null,null,null,null,null,null,null,null,null,null,null,"Aspahlt Mixes"]
[null,null,"User ID from Name",null,null,null,null,null,null,null,null,null,null,null,null,null,null,null,null,null,null,null,null,null,null,null,null,null,null,"Material"]
[null,null,{"$f":"L15","v":0},null,null,null,null,null,null,null,null,null,null,null,null,null,null,null,null,null,null,null,null,null,null,null,null,null,null,"Contractors and Inspectors"]
[null,null,{"$f":"VLOOKUP(C54,C57:D1100,2,FALSE)","v":{"$error":"#N/A"}},{"$f":"VLOOKUP(C54,C57:E1100,3,FALSE)","v":{"$error":"#N/A"}},null,null,null,null,"Descr.MaterialTest (Table)","MaterialTest Id.MaterialTest (Table)","AgencyEntity Nm.AgencyEntity (Table)","AgencyEntity Id.AVControl (Table)","Test Type","RefSampleStatus Id.RefSampleStatus (Table)","RefSampleStatus Nm.RefSampleStatus (Table)","Lab Nm.LAB","Lab Id.LAB","DestinationLab Id.DestinationLab (Table)","Lab Nm.LAB","LabUnit Id.LabUnit (Table)","Lab Id.LAB","Type.RemarkModelMapping (Table)","RemarkModelMapping Id.RemarkModelMapping (Table)","RefTestResultValue Nm.RefTestResultValue (Table)","Descr.RefTestResultValue (Table)","RefTestResultValue Id.RefTestResultValue (Table)","Entity.Nm","Entity.Id"]
[null,null,"Name","PersonInfo Nm.PERSONINFO","PersonInfo Id.PERSONINFO",null,null,null,"AASHTO T255 Total Moisture Content of Aggregate by Drying",1042,"CM_T255_MoistureCont",217,"QC",6,"Pending Authorization","Field",142,5,"NA",147,182,"General",53,"Fail","Fail",1,"DestinationLab",204,null,"Contract Info"]
[null,null,"Abbott, Eric L","abbote1",2515,null,null,null,"AASHTO T27 Sieve Analysis (QC)",936,"CM_T27_Detail",150,"QC",9,"Approved",null,null,null,null,null,null,null,null,"Pass","Pass",2]
[null,null,"Abel, Jeffrey L","abelj1",10040,null,null,null,"AASHTO T27 Sieve Analysis (QC)",936,"CM_T27_List",151,"QC",16,"FAIL - Fail/Rejected"]
[null,null,"Ackert, Timothy C","ackert1",1740,null,null,null,"AASHTO T288 Soil Resistivity Field",1152,"CM_Field_Resistivity",300,"QC",20,"FAIU - Failed- Matl used as is w-w/o deduct"]
[null,null,"Aldridge, Bryce J","aldrib3",9927,null,null,null,"AASHTO T85 Absorption for Concrete Aggregate (QC)",949,"CM_T85Abs",169,"QC"]
[null,null,"Alfred, Aden R","alfrea1",9048,null,null,null,"AASHTO T90 Aggregate PI (QC)",955,"CM_PI_Field",298,"QC"]
[null,null,"Allred, Daniel D","allred1",1441,null,null,null,"ASTM D4791 Flat and Elongated Field (QC)",967,"CM_D4791_Flat_Elong",110,"QC"]
[null,null,"Amburn, Stephen M","amburs1",2567,null,null,null,"Base Type 1&5 Sieve Analysis (QC)",950,"CM_Base_Grad_T1T5",232,"QC"]
[null,null,"Anderson, Katherine B","anderk",1860,null,null,null,"Base Type 7 Sieve Analysis (QC)",1138,"CM_Base_Grad_T7",185,"QC"]
[null,null,"Anderson, Lynn M","anderl1",1518,null,null,null,"Free Form Test",1183,"CM_FreeForm",74,"QC"]
[null,null,"Arnold, Adam M","arnola1",9006,null,null,null,"MoDOT TM71 Generic Deleterious Template (QC)",926,"CM_Del",26,"QC"]
[null,null,"Arnold, Daniel T","arnold1",1808,null,null,null,"AASHTO T27 Sieve Analysis (QA)",968,"CM_T27_Detail",150,"QA"]
[null,null,"Arradaza, Briel R","arradb1",7762,null,null,null,"AASHTO T27 Sieve Analysis (QA)",968,"CM_T27_List",151,"QA"]
[null,null,"Ashek, Akhand M","asheka1",8974,null,null,null,"AASHTO T85 Absorption for Concrete Aggregate (QA)",980,"CM_T85Abs",169,"QA"]
[null,null,"Ashton, Andrew R","ashtoa1",9443,null,null,null,"AASHTO T90 Aggregate PI (QA)",970,"CM_PI_Field",298,"QA",null,null,"ALL","MoDOT (Jobsite, roadway or other similar site) now the only supplier choice for Culvert and Earthworks CRE2O (with the exception of rock base 0303CARB) as they report testing on the jobsite"]
[null,null,"Aubuchon, Jason G","aubucj",1913,null,null,null,"ASTM D4791 Flat and Elongated Field (QA)",972,"CM_D4791_Flat_Elong",110,"QA",null,null,"ALL","E2O Server Outage files have been received but will not process until Server back up, MoDOT IS folks working to restore E2O Server"]
[null,null,"Axtell, Eric C","axtele",2143,null,null,null,"Base Type 1&5 Sieve Analysis (QA)",977,"CM_Base_Grad_T1T5",232,"QA",null,null,"ALL","E2O Server running, E2O available for submitting new files.  Processed 160 files that had been submitted but not processed"]
[null,null,"Baban, Vivianna D","babanv1",582,null,null,null,"Base Type 7 Sieve Analysis (QA)",1182,"CM_Base_Grad_T7",185,"QA",null,null,"ALL","AWP CRE2O sheets updated to be automatically authorized in AWP and allow MoDOT Consultants to use CRE2O sheets for reporting their QA and or QCQA results for MoDOT"]
[null,null,"Bagenstos, Ryan W","bagenr1",10042,null,null,null,"MoDOT TM71 Generic Deleterious Template (QA)",931,"CM_Del",26,"QA",null,null,"ALL","AWP QA Asphalt Superlots 4.11 released to delete coding references to SiteManager"]
[null,null,"Baiamonte, Frank A","baiamf1",7847,null,null,null,"AASHTO T27 Aggregate Gradation QA Retained Split (QCQA)",995,"CM_QARetainedCompar",102,"QCQA",null,null,"ALL","Excel-2-Oracle sheets will not be processing March 20 @ 6 pm to March 21 @ 7:30 am. Contact REDEV@modot.mo.gov for questions."]
[null,null,"Baldwin, Brandi J","baldwb3",1589,null,null,null,"MoDOT TM71 Deleterious QA Retained Split (QCQA)",1019,"CM_QARetainedDel",55,"QCQA",null,null,"Aggs","AWP Aggregates 2.20 released to fix issue where gradation test wouldn't go into AWP when reporting RAP as base material"]
[null,null,"Baldwin, Chad E","baldwc2",1458,null,null,null,"AASHTO T85 Absorption for Concrete Aggregate (QCQA)",1040,"CM_QCQA_AbsComp",57,"QCQA",null,null,"Aggs","AWP Earthwork 4.31 released \"MoDOT Jobsite\" should be used as supplier for compacted base"]
[null,null,"Barnes, Garth R","barneg2",8069,null,null,null,"Base T1&T5 Aggregate Retained Comparison (QCQA)",1092,"CM_QCQABaseCompData",56,"QCQA",null,null,"Aggs","AWP Earthworks sheets updated to include option to select 6\" proctor method for T99 results"]
[null,null,"Barnfield, Chris W","barnfc1",2062,null,null,null,null,null,null,null,null,null,null,"Aggs","QA and QC Earthwork released to allow \"too rocky to test\" as a reportable option for proctor density results"]
[null,null,"Barnhill, Jeff J","barnhj1",10069,null,null,null,null,null,null,null,null,null,null,"ALL","All CRE2O sheets updated, updating picklists function wasn't working for some users"]
[null,null,"Bartley, Earl L","bartle1",8943]
[null,null,"Bashore, Adam R","bashoa1",2508]
[null,null,"Bauer, Chris A","bauerc1",734]
[null,null,"Bauer, David R","bauerd1",1804]
[null,null,"Bax, Carson J","baxc1",1283]
[null,null,"Baxter, Michael E","baxtem1",3223]
[null,null,"Becerra, James P","becerj",3261]
[null,null,"Beck, Connor J","beckc2",2502]
[null,null,"Becker, Christopher R","beckec1",1326]
[null,null,"Beckerle, Benjamin D","beckeb1",680]
[null,null,"Bedard, Loraine B","bedarl3",8815]
[null,null,"Behnam, Maliheh .","behnam1",9444]
[null,null,"Bennett, Todd L","Bennet",2197]
[null,null,"Bensing, Peter M","bensinp1",8967]
[null,null,"Berry, Chad F","berryc3",8816]
[null,null,"Bertels, Andrew S","bertea1",558]
[null,null,"Bichsel, Clayton P","bichsc1",9038]
[null,null,"Bier, Adam M","biera1",8645]
[null,null,"Billiter, Lindsay M","billil1",9923]
[null,null,"Blackburn, Shane A","blacks",2164]
[null,null,"Blalock R9B, Randy G","blalor2",711]
[null,null,"Blann, Katie .","blannk1",9057]
[null,null,"Blisard, Jacie ","blisaj1",10240]
[null,null,"Blomberg, Jason M","blombj",2201]
[null,null,"Bollinger, Seth Z","bollis1",3347]
[null,null,"Bowens, Cordell D","bowenc1",9734]
[null,null,"Bowers, Grant L","bowerg1",9822]
[null,null,"Bowman, Andrew J","bowmaa2",2592]
[null,null,"Bowman, Michael A","bowmam2",1787]
[null,null,"Boyd, Adam C","boyda1",8422]
[null,null,"Brake-Lemongelli, Patricia ","brakep1",8613]
[null,null,"Breeding, Scott W","breeds",2172]
[null,null,"Brizendine, James C","brizej1",9478]
[null,null,"Brobst, Ryan D","brobsr1",2096]
[null,null,"Brooks, Larry R","BROOKL",574]
[null,null,"Brooks, Scott D","brooks3",2738]
[null,null,"Brookshire, Brad S","brookb6",4722]
[null,null,"Brophy, Matthew J","brophm1",8189]
[null,null,"Brown, David A","brownd7",1442]
[null,null,"Brown, Jacob M","brownjn",10071]
[null,null,"Brown, Sarah L","browns9",8398]
[null,null,"Brownell, Lydia B","brownl1",1273]
[null,null,"Brownell, Sidney C","browns1",1572]
[null,null,"Bruss, Eric G","brusse1",1731]
[null,null,"Buck, John S","buckj1",9389]
[null,null,"Burgess, James C","burgej4",9881]
[null,null,"Burlage, Andrew P","burlaa1",10087]
[null,null,"Burlbaw, Eric S","burlbe",1789]
[null,null,"Burns, Jeremy P","burnsj6",7817]
[null,null,"Burroughs, Mark R","burrom1",8302]
[null,null,"Burton, Corey D","burtoc4",2273]
[null,null,"Buschbacher, Kolton M","buschk1",8850]
[null,null,"Bussard, Logan A","bussal1",10163]
[null,null,"Butler, Bradley ","butleb4",659]
[null,null,"CURIEL-RYAN, DEJA ","CURIED1",10219]
[null,null,"Caiharr, Joseph D","caihaj1",8196]
[null,null,"Call, Brady L","callb1",8989]
[null,null,"Calvert, Garrett J","calveg1",8846]
[null,null,"Canady, Trent M","canadt2",9154]
[null,null,"Canhasi, Taulant ","canhat1",9857]
[null,null,"Cantoni, Nicholas P","canton1",9594]
[null,null,"Capeder, Jacob D","capedj2",2602]
[null,null,"Carlton, Corbin G","carltc1",2387]
[null,null,"Carnes, Phillip A","carnep1",8425]
[null,null,"Carr, Jim E","carrj",2118]
[null,null,"Carter, Chad A","cartec3",7730]
[null,null,"Castro, Michael J","castrm1",1335]
[null,null,"Chamberlain, Eric ","chambe3",729]
[null,null,"Chambers, Jeffrey T","chambj1",2538]
[null,null,"Chapman, Gregory R","chapmg1",1920]
[null,null,"Christenson, Michael A","chrism2",7808]
[null,null,"Clark, Alex R","clarka3",10221]
[null,null,"Clark, Dean R","clarkd4",8313]
[null,null,"Clark, Mark W","clarkm3",8767]
[null,null,"Claspille, Cynthia A","claspc1",9044]
[null,null,"Claypool, Tyeson N","claypt2",8116]
[null,null,"Cockrill, Zachary J","cockrz1",9839]
[null,null,"Coffer, Angela C","coffea1",8607]
[null,null,"Coleman, Paul T","colemp1",2536]
[null,null,"Collins, Erin E","collie1",2614]
[null,null,"Collins, Kemmy M","collik1",1970]
[null,null,"Condron, Darren E","condrd1",1314]
[null,null,"Cooley, Charles K","coolec1",6499]
[null,null,"Cooper, Alea D","coopea1",7782]
[null,null,"Cooper, Brody M","coopeb1",8926]
[null,null,"Cora, Marion S","coram",2059]
[null,null,"Cordia, Kaleigh P","cordik1",9274]
[null,null,"Corrigan, Jameson D","corrij1",8905]
[null,null,"Couffer, Jimmy J","couffj",1320]
[null,null,"Coverdell, Danielle R","coverd2",7717]
[null,null,"Covington, Karlee A","covink1",2470]
[null,null,"Cox, Austin D","coxa3",9356]
[null,null,"Cracraft, Brandon L","cracrb1",1684]
[null,null,"Craft, Robert A","craftr3",9024]
[null,null,"Crafton, Travis L","craftt1",1996]
[null,null,"Cramer, Christopher D","cramec1",9306]
[null,null,"Crews, Hanna R","crewsh1",9094]
[null,null,"Crider, Darrel R","crided1",10326]
[null,null,"Crittenden-Brown, Dakolby M","crittd1",7863]
[null,null,"Crossfield, Mia E","crossm1",10162]
[null,null,"Crudgington, Michael J","crudgm",2020]
[null,null,"Cunningham, Darian J","cunnid3",2709]
[null,null,"Daegling, Daniel 1","daegld1",9500]
[null,null,"Daffron, Josie M","daffrj1",8487]
[null,null,"Dahlke, Eoin J","dahlke1",10032]
[null,null,"Damery, Jennifer L","damerj1",2384]
[null,null,"Daniel, Brandon D","danieb1",2863]
[null,null,"Dansberry, Anthony D","dansba1",7813]
[null,null,"Dao, Quyet T","daoq1",1431]
[null,null,"Daulton, Matthew B","daultm3",9407]
[null,null,"Davidson, Maggi A","davidm1",8475]
[null,null,"Davis, Beth B","davisb8",7811]
[null,null,"Davis, Joshua W","davisjf",1286]
[null,null,"Davis, Logan C","davisl5",6821]
[null,null,"DeGroat, William L","degrow1",2265]
[null,null,"DeJesus, William ","dejesw1",591]
[null,null,"Deffendall, Justin D","deffej1",8381]
[null,null,"Degeal, Rhonda L","degear1",7749]
[null,null,"Deleon, Lucas T","deleol1",9951]
[null,null,"Denkler, Graeme M","denklg1",9277]
[null,null,"Denning, Betty J","dennib1",2001]
[null,null,"Dennis, Jeffrey J","dennij1",1506]
[null,null,"Denton, Dane E","dentod1",9425]
[null,null,"Desha, Terrell A","deshat1",1331]
[null,null,"Deuser, Zoey L","deusez1",9454]
[null,null,"Diebold, Joshua M","dieboj1",9904]
[null,null,"Dieterich, Grayson K","dieteg1",8426]
[null,null,"Dietrich, Philip A","dietrp1",2558]
[null,null,"Dimercurio, Nathan M","dimern1",9715]
[null,null,"Dingman, Ryan M","dingmr1",1929]
[null,null,"Dobbert, Michael ","dobbem1",8611]
[null,null,"Doggett, Avery C","doggea1",9866]
[null,null,"Domingo, Sean M","domins1",2432]
[null,null,"Doran, Cameron T","doranc1",9922]
[null,null,"Dotson, Joseph L","dotsoj1",10085]
[null,null,"Dotson, Kirk A","dotsok3",2725]
[null,null,"Dowdy, Darius W","dowdyd1",9900]
[null,null,"Dragoo, Drew D","dragod2",9025]
[null,null,"Drowns, Matthew L","drownm1",8456]
[null,null,"Dukes, Melvin L","dukesm1",709]
[null,null,"Dunaway, Russell B","dunawr1",9899]
[null,null,"Dunlap, Eric W","dunlae1",8395]
[null,null,"Dunn, Jason A","dunnj1",2699]
[null,null,"Durant, Toby L","durant1",9099]
[null,null,"Dye, Brian P","dyeb1",2612]
[null,null,"Dykmann, Erica N","dykmae2",8821]
[null,null,"Edelhuber, Brian J","edelhb1",7750]
[null,null,"Edgar, Emily A","edgare1",7771]
[null,null,"Ellinghouse, Andrew J","ellina1",9276]
[null,null,"Elliott, Nick L","ellion1",8051]
[null,null,"Ellis, Christopher M","ellisc2",2742]
[null,null,"Ellis, Todd M","ellist2",1711]
[null,null,"Elmore, Craig A","elmorc1",2395]
[null,null,"Emerson, Dakota G","emersd1",9902]
[null,null,"Engemann, Chad D","engemc1",1827]
[null,null,"Escobar Londono, Sara M","escobs1",9457]
[null,null,"Esterline, Jacob R","esterj1",9007]
[null,null,"Estopare, Nolan M","estopn1",9452]
[null,null,"Estopare, Roger T","estopr2",9920]
[null,null,"Evans, Austin I","evansa2",8813]
[null,null,"Evans, Cy W","evansc3",9696]
[null,null,"Fager, Glenn A","fagerg1",8096]
[null,null,"Farmer, Kyler M","farmek1",9083]
[null,null,"Farrar, Cynthia M","farrac1",9242]
[null,null,"Farris, Chris C","farric1",10137]
[null,null,"Fenech, Jane D","fenecj1",8678]
[null,null,"Fergison, Gunner L","fergig1",9257]
[null,null,"Ferguson, Drew B","fergud2",9342]
[null,null,"Ferguson, Jason A","ferguj1",2017]
[null,null,"Fernandez, Michael J","fernam1",2587]
[null,null,"Fields, Adam C","fielda4",8328]
[null,null,"Fisher, Tiara D","fishet4",9853]
[null,null,"Fleer, Bryan J","fleerb1",1837]
[null,null,"Flora, Janique M","floraj1",1432]
[null,null,"Flynn, Steven R","flynns1",2412]
[null,null,"Fogle, Joshua A","foglej1",10060]
[null,null,"Ford, Clinton D","fordc",8550]
[null,null,"Forshee, Desley L","forshd1",650]
[null,null,"Forsyth, Harrison A","forsyh1",8834]
[null,null,"Foster, Aydian R","fostea2",10164]
[null,null,"Foster, Leonard D","fostel",1180]
[null,null,"Fox, Dan M","foxd",1569]
[null,null,"Frandson, Taylor C","frandt1",2646]
[null,null,"Franke, Dean D","frankd",8032]
[null,null,"Fransis, Bahaa S","francb2",6727]
[null,null,"Frazier, Brian K","frazib1",8950]
[null,null,"Freiburger, Jonathan H","freibj1",8532]
[null,null,"Frierdich, Josef F","frierj1",640]
[null,null,"Frizzell, Mike W","frizzm",1617]
[null,null,"Fry, Dean D","fryd",2582]
[null,null,"Fuller, Jacob A","fullej2",9649]
[null,null,"Fuller, Kevin P","fullek2",8085]
[null,null,"Fuson, Mary M","fusonm1",8407]
[null,null,"Gabel, Jeffrey S","gabelj3",1294]
[null,null,"Gaffery, Tarah A","gaffet1",8917]
[null,null,"Galvez, Jonathan ","galvej1",7094]
[null,null,"Gander, Jeffrey L","gandej",1544]
[null,null,"Garcia, Herberto F","garcih1",589]
[null,null,"Gard, Brian R","gardb1",1568]
[null,null,"Gardner, Alexander J","gardna4",9617]
[null,null,"Garlock, Kataryna C","garlok1",1323]
[null,null,"Gast, Luke J","gastl1",9133]
[null,null,"Geldmacher, Kevin M","geldmk1",1910]
[null,null,"Georger, Eric L","george2",8483]
[null,null,"Gibbons, Nicholas J","gibbon1",2415]
[null,null,"Giffin, Philip E","giffip1",1512]
[null,null,"Gildehause, Brandon M","gildeb1",10324]
[null,null,"Gillespie, Ethan ","gillee2",10121]
[null,null,"Gillespie, James R","gillej",1557]
[null,null,"Girgin, Aydogan L","girgia",1638]
[null,null,"Glass, Derek J","glassd1",8134]
[null,null,"Glaus, Ronald D","glausr1",10235]
[null,null,"Glock, Christian J","glockc1",7835]
[null,null,"Godsy, Misty ","godsym1",2689]
[null,null,"Golab, Sarah A","golabs1",5713]
[null,null,"Gold, Jason S","goldj1",10039]
[null,null,"Gonzalez, Margaret A","gonzalez",9663]
[null,null,"Goss, Garry L","gossg2",8603]
[null,null,"Graessle, Jacob ","graesj1",646]
[null,null,"Graham, Christopher A","grahac1",496]
[null,null,"Grant, Valerie B","grantv1",9861]
[null,null,"Gray, Sarah ","grays2",10133]
[null,null,"Gray, William T","grayw1",8396]
[null,null,"Greer, Lori ","greerl2",569]
[null,null,"Grellner, Christopher J","grellc1",8662]
[null,null,"Grimes, Jerry W","grimej1",10066]
[null,null,"Gripka, Donald (Brad) B","gripkd",1932]
[null,null,"Gummersheimer, Robert (Bob) C","gummer1",1810]
[null,null,"Gwin, Collin D","gwinc1",8944]
[null,null,"Hagans, Juddson P","haganj1",9805]
[null,null,"Haggard, Joseph H","haggaj1",1581]
[null,null,"Hake, James C","hakej1",655]
[null,null,"Haller, Jennifer N","hallej1",2690]
[null,null,"Halley, Tyler R","hallet1",8114]
[null,null,"Hamilton, Kendric R","hamilk2",8814]
[null,null,"Hammoud, Sohaib ","hammos2",10316]
[null,null,"Harangozo, Keith M","harank1",1896]
[null,null,"Hargrave, Robert J","hargrr",2452]
[null,null,"Harizal, Michael C","harizm1",8651]
[null,null,"Harper, Robert G","harper4",9521]
[null,null,"Hartman, Heath E","hartmh",1433]
[null,null,"Harvel, Bruce A","harveb",1477]
[null,null,"Haskew, James K","haskej1",688]
[null,null,"Hasty, Richard W","hastyr1",9903]
[null,null,"Hathaway, Kurtis K","hathak1",1675]
[null,null,"Hayden, Ena M","haydee1",2140]
[null,null,"Hayes, Nicholas J","hayesn2",9308]
[null,null,"Hays, Bradley E","haysb1",8646]
[null,null,"Hays, Timothy A","hayst",1439]
[null,null,"Hedenkamp, Bret A","hedenb1",9847]
[null,null,"Hellebusch, Tim A","hellet",1829]
[null,null,"Helm, Garrett W","helmg3",8865]
[null,null,"Heming, Cody J","heminc1",8848]
[null,null,"Hendrix, Melisa D","hendrm1",2147]
[null,null,"Henry, Dylan J","henryd2",10067]
[null,null,"Henson, Robert W","hensor",704]
[null,null,"Herbst, Christopher J","herbsc2",9327]
[null,null,"Hess, Edward J","hesse2",9926]
[null,null,"Hessenflow, Chad L","hessec2",1657]
[null,null,"Heuszel, Jessica M","heuszj1",7748]
[null,null,"Hibler, Austin D","hiblea1",2259]
[null,null,"Higginbotham, Ryan ","higgir2",9694]
[null,null,"Hightower, Cody R","hightc1",1290]
[null,null,"Hill, Tyler R","hillt5",7785]
[null,null,"Hillen, Caleb D","hillec1",9303]
[null,null,"Hills, Donald A","hillsd1",2621]
[null,null,"Hines, Rodney E","hinesr1",8527]
[null,null,"Hoffman, Bradley T","hoffmb2",9905]
[null,null,"Holland, Cordell M","hollac2",8528]
[null,null,"Hollis, Tristan R","hollit1",8777]
[null,null,"Holt, Brian ","holtb3",8948]
[null,null,"Holtz, Aidan M","holtza1",9309]
[null,null,"Honse, Zach Q","honsez1",2169]
[null,null,"Hopkins, Matthew S","hopkim1",2714]
[null,null,"Horstman, Andrew J","horsta1",9026]
[null,null,"Horwitz, Tayler D","horwit1",9810]
[null,null,"Howard, Carla J","howarc",1434]
[null,null,"Howell, James N","howelj4",2733]
[null,null,"Hoyt, Dustin R","hoytd1",2483]
[null,null,"Hubbard, Isaiah A","hubbai1",679]
[null,null,"Huckaby, Russel C","huckar",1963]
[null,null,"Hughes, Johnny A","hughej1",2048]
[null,null,"Hurtado, Rosalinda ","hurtar1",9894]
[null,null,"Huskey, Mitchell R","huskem3",2137]
[null,null,"Ihde, Jared ","ihdej1",10134]
[null,null,"Ihsan, Adel ","ihsana1",8707]
[null,null,"Iles, Brian K","ilesb1",1666]
[null,null,"Ingram, Logan B","ingral1",8830]
[null,null,"Inman, Shannon W","inmans",2032]
[null,null,"Jackson, Connor L","jacksc4",9191]
[null,null,"Jackson, Cory M","jacksc3",8778]
[null,null,"James, Cassandra A","jamesc4",7812]
[null,null,"James, Christopher M","jamesc2",2673]
[null,null,"Janssens, Albert L","janssa",1690]
[null,null,"Jansson, Matthew (Niall) N","janssm",2631]
[null,null,"Jasper, James L","jaspej1",5020]
[null,null,"Jefferson, Jamie M","jeffej1",7754]
[null,null,"Jernigan, Jerrod B","jernij1",2066]
[null,null,"Jesse, Jacob ","jessej2",10120]
[null,null,"Jessen, Matthew J","jessem1",9296]
[null,null,"Jimenez, Jayden M","jimenj1",8309]
[null,null,"Joens, Jeff S","joensj",2208]
[null,null,"Johnson, Anson D","johnsa7",9438]
[null,null,"Johnson, Benjamin R","johnsbb",10138]
[null,null,"Johnson, Colten M","johnsc9",8913]
[null,null,"Johnson, Jacob M","johnsjn",8851]
[null,null,"Johnson, Jermyn ","johnsj5",2144]
[null,null,"Johnson, Mason ","johnsm7",9964]
[null,null,"Johnson, Sara M","johnss8",2638]
[null,null,"Johnson, Shannon D","johnss6",10086]
[null,null,"Johnson, William L","johnsw5",9467]
[null,null,"Johnson, William W","johnsw1",2019]
[null,null,"Jonas, Jesse A","jonasj2",9195]
[null,null,"Jones, Aaron J","jonesa2",2028]
[null,null,"Jones, Brandon L","jonesb6",7720]
[null,null,"Jones, Levi ","jonesl7",1304]
[null,null,"Jones, Michael R","jonesm3",10083]
[null,null,"Jowers, Blythe N","jowerb1",9950]
[null,null,"Karlin, Christopher J","karlic1",2481]
[null,null,"Keegan, Brett R","keegab3",8822]
[null,null,"Keen, Lincoln W","keenl",1437]
[null,null,"Kellner, Shannon ","kellns1",395]
[null,null,"Kelso, Shawn M","kelsos1",1333]
[null,null,"Kemper, Toby J","kempet1",1785]
[null,null,"Kempker, Landre J","kempkl2",8314]
[null,null,"Kennell, Christopher ","kennec2",8506]
[null,null,"Kenney, Matthew D","kennem3",8453]
[null,null,"Kern, Morgan C","kernm1",9723]
[null,null,"Killion, Brendan D","killib1",9673]
[null,null,"King, Austin M","kinga4",9664]
[null,null,"King, Nathan G","kingn1",1500]
[null,null,"Kirby, Cameron M","kirbyc1",10208]
[null,null,"Kirchhoff, Peyton W","kirchp1",9754]
[null,null,"Kloeppinger, Jacob T","kloepj1",707]
[null,null,"Kneib, Ryan M","kneibr1",2441]
[null,null,"Knight, Doug J","knighd1",9675]
[null,null,"Knight, Nikki R","knighn1",1801]
[null,null,"Knobloch, Ronald ","knoblr1",8786]
[null,null,"Knott, Austin P","knotta1",7845]
[null,null,"Koch, Kevin J","kochk",1831]
[null,null,"Koestner, Gidget J","koestg1",1051]
[null,null,"Konersmann, Glenn D","konerg1",2640]
[null,null,"Koppitz, Matthew J","koppim1",2599]
[null,null,"Kosmicki, Thaddeus 2","kosmit1",9750]
[null,null,"Kratky, Jack C","kratkj1",1899]
[null,null,"Kraus, Jennifer L","krausj1",1269]
[null,null,"Kraus, Michael A","krausm2",9046]
[null,null,"Kroeker, Jason ","kroekj1",10131]
[null,null,"Kroner, Jeffery W","kronej1",1531]
[null,null,"Kuelker, David C","kuelkd2",9843]
[null,null,"Kunes, Jacob W","kunesj1",9914]
[null,null,"Kurtz, Michael T","kurtzm1",9414]
[null,null,"LaFave, Aaron J","lafava1",1948]
[null,null,"Laffoon, Sam J","laffos1",1281]
[null,null,"Lamb, Mark A","lambm2",9682]
[null,null,"Lamberson, Julie R","lambej2",2184]
[null,null,"Landers, Christopher L","landec1",9846]
[null,null,"Lane, James D","lanej3",9396]
[null,null,"Lange, Brian D","langeb1",2590]
[null,null,"Lara, Rojelio A","larar1",9408]
[null,null,"Lavacot, Matthew F","lavacm1",8548]
[null,null,"Laverntz, Matthew W","laverm2",616]
[null,null,"Law, Jacob C","lawj1",8076]
[null,null,"Layman, Rodney C","laymar",1655]
[null,null,"Lee, Zachary R","leez1",2743]
[null,null,"Leeker, Joshua M","LEEKEJ1",2642]
[null,null,"Leftridge, Kevin M","leftrk1",714]
[null,null,"Lepper, Derek F","lepped1",1629]
[null,null,"Lewis, Jerry L","lewisj4",2091]
[null,null,"Lewis, John C","lewisj1",2635]
[null,null,"Limbach, Jason W","limbaj1",9811]
[null,null,"Lincoln, Martin D","lincom",1592]
[null,null,"Link, Dylan C","linkd2",2579]
[null,null,"Litzau, Michael J","litzam",1788]
[null,null,"Locke, Tabitha S","locket1",2522]
[null,null,"Lohsandt, Jim R","lohsaj",1663]
[null,null,"Londre, Tristan G","londrt1",8630]
[null,null,"Long, Sheldon J","longs3",9768]
[null,null,"Loseille, Michael R","loseim3",8082]
[null,null,"Mack, Kelvin R","mackk",2126]
[null,null,"Maddox, Hubert R","maddoh",1746]
[null,null,"Maddox, Julie R","maddoj1",8937]
[null,null,"Mallon, Serenity E","mallos1",8859]
[null,null,"Malon, Donna J","malond2",8239]
[null,null,"Malone, Shana R","malons2",3386]
[null,null,"Mann, Roger L","mannr1",1305]
[null,null,"Markham, Steve T","markhs",1640]
[null,null,"Marriott, Michael W","marrim2",2264]
[null,null,"Marsden, Magdalena K","marsdm1",2548]
[null,null,"Marshall, Kate M","marshk2",2568]
[null,null,"Marshall, Patrick E","marshp4",8702]
[null,null,"Marshall, Robert S","marshr",2198]
[null,null,"Martin, Anthony D","martiaa",9813]
[null,null,"Martinez, Robert P","martir7",7787]
[null,null,"Marzuco, Anthony C","marzua1",2005]
[null,null,"Massey, Corey J","massec1",2613]
[null,null,"Matthews, Todd W","mattht",1661]
[null,null,"McClain, Britt S","mcclab",1438]
[null,null,"McCloud, Nathaniel P","mcclon1",8252]
[null,null,"McDaniel, Thomas A","mcdant2",9437]
[null,null,"McGartland, Kevin G","mcgark",1313]
[null,null,"McKinney, Anesha 1","mckina1",9455]
[null,null,"McKinney, Brent M","mckinb1",9616]
[null,null,"McKinney, Randy L","mckinr1",2142]
[null,null,"McPeters, Westly P","mcpetw1",2342]
[null,null,"McRae, Adam S","mcraea1",1933]
[null,null,"Mcginnis, Dave M","mcgind1",8036]
[null,null,"Mckinney, Stephanie A","mckins3",10325]
[null,null,"Mendel, Seth A","mendes2",9812]
[null,null,"Meneely, Tammy K","meneet",1556]
[null,null,"Merriman, Mellissa M","merrim1",7729]
[null,null,"Merz, Margaret J","merzm1",9453]
[null,null,"Meyers, Jacob Q","meyerj8",2644]
[null,null,"Middendorf, Anthony G","middea1",8041]
[null,null,"Middleton, Donald S","middld1",7742]
[null,null,"Middleton, Nicholas T","middln",1540]
[null,null,"Milbradt, Zephyrine Z","milbrz1",8592]
[null,null,"Miller, James M","milleje",7815]
[null,null,"Mitchell, Adam D","mitcha3",2740]
[null,null,"Molinaro, Joseph J","molinj1",1819]
[null,null,"Mooney, Travis E","moonet1",8393]
[null,null,"Morgan, Terry M","morgat",2626]
[null,null,"Moses, Joseph M","mosesj2",8434]
[null,null,"Mosley, Jaylon T","moslej2",9173]
[null,null,"Mottaz, Brian F","mottab1",1736]
[null,null,"Munoz Hernandez, Kimberly ","munozk1",9987]
[null,null,"Needham, McKeegan C","needhm1",8199]
[null,null,"Nelson, Kent W","nelsok2",1070]
[null,null,"Netzer, Erik A","netzee1",9311]
[null,null,"Ngugi, Simon K","ngugis1",2484]
[null,null,"Nichols, Nolan ","nichon1",9887]
[null,null,"Noack, Duncan E","noackd1",9576]
[null,null,"Noeth, Schuyler ","noeths1",436]
[null,null,"Norton, Nathan R","norton1",666]
[null,null,"O'Connell, Caleb J","oconnc1",9854]
[null,null,"Oaks, Brandon M","oaksb1",8035]
[null,null,"Obi, Jeremiah O","obij1",1262]
[null,null,"Odle, Bradley (Brad) D","odleb1",8060]
[null,null,"Oesch, Daniel J","oeschd1",1715]
[null,null,"Ohlms, John P","ohlmsj",2132]
[null,null,"Okenfuss, Brian G","okenfb1",2090]
[null,null,"Oliver, Matthew D","olivem2",8042]
[null,null,"Orell, Tyler J","orellt1",9835]
[null,null,"Orr, Richard W","orrr1",8727]
[null,null,"Overstreet, Travis M","overst1",7736]
[null,null,"Owen, Thomas W","owent1",1575]
[null,null,"Packard, Ian C","packai1",683]
[null,null,"Parrish, Christopher N","parric1",8640]
[null,null,"Paugh, Robert W","paughr1",9860]
[null,null,"Peither, Mallory E","peithm1",10237]
[null,null,"Penner, Russell A","penner1",2485]
[null,null,"Perkins, Melvin (Lee) L","perkim2",8488]
[null,null,"Persinger, Clark D","persic1",617]
[null,null,"Peterson, Christopher I","peterc6",7237]
[null,null,"Peterson, Jeffrey L","peterjb",10252]
[null,null,"Peterson, Ronald L","peterr1",1834]
[null,null,"Pfeffer, Mark D","pfeffm1",360]
[null,null,"Pflum, James J","pflumj1",2446]
[null,null,"Phillips, Cheyenne M","phillc7",9954]
[null,null,"Phillips, Gary A","phillg1",8394]
[null,null,"Phillips, Hayden ","phillh1",10004]
[null,null,"Philpot, Donna R","philpd1",361]
[null,null,"Phinney, Alex B","phinna1",8231]
[null,null,"Pierce, Adam C","pierca2",9686]
[null,null,"Pierce, Will M","piercw1",9855]
[null,null,"Pierce, Zachary C","piercz1",9852]
[null,null,"Pinkley, Ethan R","pinkle1",2749]
[null,null,"Plott, Kevin R","plottk1",2074]
[null,null,"Plummer, Mickey A","plummm1",8857]
[null,null,"Porter, Treasa A","portet3",2166]
[null,null,"Powell, Michael D","powelm3",1430]
[null,null,"Powers, Matthew E","powerm1",696]
[null,null,"Powers, Thomas M","powert2",2319]
[null,null,"Prentice, Caleb .","prentc1",9209]
[null,null,"Present, Jacob B","presej1",7772]
[null,null,"Preuss, Nicole E","preusn1",3398]
[null,null,"Procter, David S","proctd1",8704]
[null,null,"Przygoda, Joshua D","przygj3",2707]
[null,null,"Pulliam, Audie A","pullia2",9901]
[null,null,"Pyatt, Joshua N","payattj1",8388]
[null,null,"Querry, Bryan D","querrb1",7849]
[null,null,"Quinn, Eli D","quinne1",9919]
[null,null,"Rana, Jamie F","ranaj2",8969]
[null,null,"Randick, Hannah R","randih1",10142]
[null,null,"Raybourn, Lisa G","raybol1",1680]
[null,null,"Read, Calen T","readc2",9365]
[null,null,"Redhage, Christine M","redhac",1907]
[null,null,"Reeb, Cheryl D","reebc1",2141]
[null,null,"Reed, Collin L","reedc3",9468]
[null,null,"Reed, Jeffery F","reedj5",9906]
[null,null,"Reed, Nathan B","reedn",1999]
[null,null,"Reed, Virgil T","reedv1",1790]
[null,null,"Reedy, Steven R","reedys",1637]
[null,null,"Reilly, Sean J","reills1",621]
[null,null,"Rennick, Craig E","rennic",2628]
[null,null,"Richbourg, Todd M","richbt1",9292]
[null,null,"Richmond, Nicholas D","richmn1",9193]
[null,null,"Ricks, Christian ","ricksc3",9475]
[null,null,"Rieder, Aaron M","riedea1",2731]
[null,null,"Riley, Chas H","rileyc1",10209]
[null,null,"Riley, Reid N","rileyr1",1658]
[null,null,"Roberts, Geoffrey L","roberg5",728]
[null,null,"Roberts, Zane K","roberz1",9960]
[null,null,"Robertson, Corbin D","roberc7",10206]
[null,null,"Robertson, Thomas A","robert4",9388]
[null,null,"Robinson, Spencer B","robins1",10314]
[null,null,"Rodenbaugh, Macy J","rodenm",1385]
[null,null,"Roegge, Diane R","roeggd",2183]
[null,null,"Rogers, Betty T","rogerb4",10043]
[null,null,"Rogers, Logan M","rogerl2",9924]
[null,null,"Rogers, Travis ","rogert3",9539]
[null,null,"Roland, Suzanne D","rolans1",9364]
[null,null,"Rose, Melissa D","rosem1",2637]
[null,null,"Rosenthal, Brian M","rosenb1",378]
[null,null,"Rothermich, Larry D","rothel",2021]
[null,null,"Rothove, Samuel J","rothos1",10199]
[null,null,"Rozhanskiy, Elizabeth M","rozhae1",10211]
[null,null,"Ruocco, David (Joe) ","ruoccd1",10135]
[null,null,"Russell, Amy N","russea1",1300]
[null,null,"Russell, Lucas D","russel2",8653]
[null,null,"Russow, Hunter R","russoh2",9144]
[null,null,"Sabo, Tierney .","sabot1",9439]
[null,null,"Saleh, Emily R","salehe1",10289]
[null,null,"Salyer, Jessica M","salyej1",2404]
[null,null,"Samer, Nicole K","samern1",2741]
[null,null,"Sanders, Bryson C","sandeb3",9325]
[null,null,"Sanders, Bryson R","sandeb2",8236]
[null,null,"Sandifer, Chase M","sandic1",9451]
[null,null,"Sandifer, Philip E","sandip1",1528]
[null,null,"Sandifer, Steven R","sandis1",2665]
[null,null,"Sawyer, Jason A","sawyej2",7798]
[null,null,"Scarpitta, Michael A","scarpm1",1670]
[null,null,"Schafer, Thomas C","schaft1",7924]
[null,null,"Schanbacher, James C","schanj1",10288]
[null,null,"Schaumburg, Andrew D","schaua1",8319]
[null,null,"Schirmer, Joshua M","schirj1",2703]
[null,null,"Schmauch, Lisa C","schmal1",8973]
[null,null,"Schmidt, Jacob A","schmij8",7273]
[null,null,"Schneider, Gage H","schneg1",10082]
[null,null,"Schreckler, Trent M","schret1",8215]
[null,null,"Schroeder, Jay M","schroj4",9865]
[null,null,"Schulte, Brent T","schulb1",2177]
[null,null,"Schulte, Joe B","schulj",1470]
[null,null,"Schumann, Lane C","schuml1",9720]
[null,null,"Schwaller, James M","schwaj2",8250]
[null,null,"Sconce, Jacob G","sconcj1",7765]
[null,null,"Scott, Brenna N","scottb5",8361]
[null,null,"Seabaugh, Debra L","seabad1",2079]
[null,null,"Semar, Ryan ","semarr1",440]
[null,null,"Severs, Dwayne C","severd1",1636]
[null,null,"Shanks, Brandon D","shankb1",2517]
[null,null,"Sheets, Mason M","sheetm1",9782]
[null,null,"Shepherd, Kayla M","shephk1",7824]
[null,null,"Shimbo, Seiji ","shimbs1",2620]
[null,null,"Shoemake, David R","shoemd2",6607]
[null,null,"Short, Carson M","shortc1",9703]
[null,null,"Shrum, Tom W","shrumt1",1565]
[null,null,"Siebeneck, Todd M","siebet",1426]
[null,null,"Simmerman, Garrett J","simmeg2",9641]
[null,null,"Simon, Sophia M","simons2",10008]
[null,null,"Sims, Timothy E","simst",2450]
[null,null,"Skipper, Justin L","skippj1",2648]
[null,null,"Skyrme, Megan A","skyrmm1",8531]
[null,null,"Slavens, Richard J","slaver2",8049]
[null,null,"Smith, Alexander D","smitha9",645]
[null,null,"Smith, Christopher S","smithcm",8975]
[null,null,"Smith, Dakota D","smithdp",9953]
[null,null,"Smith, Eric S","smithea",8649]
[null,null,"Smith, Hakim I","smithh5",8951]
[null,null,"Smith, Joseph L","smithjl",2411]
[null,null,"Smith, Lynn W","smithl5",2047]
[null,null,"Smith, Roy W","smithrl",8658]
[null,null,"Smith, Shaun A","smiths8",8847]
[null,null,"Snelling, Scott L","snells1",1702]
[null,null,"Snow, Cody B","snowc1",2617]
[null,null,"Soar, Charles (Chas) W","soarc1",9735]
[null,null,"Spall, Leonard L","spalll1",9916]
[null,null,"Speidel, Timothy P","speidt1",2718]
[null,null,"Spradling, Jacob C","spradj2",1292]
[null,null,"Spratt, Aaron M","sprata1",8067]
[null,null,"Sprigg, John P","sprigj",2624]
[null,null,"Spurling, Tyler W","spurlt2",8034]
[null,null,"St Gemme, Robert W","stgemr1",8084]
[null,null,"States, William P","statew1",7719]
[null,null,"Stegner, Barbara J","stegnb1",1354]
[null,null,"Steinkuhler, Nicholas ","steinn1",10141]
[null,null,"Steinmeyer, Daniel S","steind2",9042]
[null,null,"Stephens, Blake E","stephb2",2471]
[null,null,"Steward, David R","stewad1",8055]
[null,null,"Steward, Ethan A","stewae1",10058]
[null,null,"Stewart, Charlotte M","stewac",1911]
[null,null,"Stewart, Jeff E","stewaj1",1571]
[null,null,"Stewart, Tyler W","stewat2",8668]
[null,null,"Stine, Matthew ","stinem1",8507]
[null,null,"Stockman, Morgan B","stockm3",9397]
[null,null,"Stokes, Zakary P","stokez1",7803]
[null,null,"Stotts, Tracee D","stottt1",2060]
[null,null,"Straw, Tristan M","strawt1",7768]
[null,null,"Street, Bradley D","streeb3",675]
[null,null,"Strong, Krista L","stronk1",2402]
[null,null,"Strong, Todd G","stront1",9718]
[null,null,"Struemph, Eveyln P","struee1",9080]
[null,null,"Sullinger, William A","sulliw1",2615]
[null,null,"Summers, Charles C","summec1",8115]
[null,null,"Surratt, Connor L","surrac1",9913]
[null,null,"Sutton, Cole J","suttoc2",2409]
[null,null,"Swan, Brent E","swanb1",2256]
[null,null,"Swisher, Khristine M","swishk1",8643]
[null,null,"Swofford, Marley C","swoffm3",8484]
[null,null,"Talley, Aerin D","tallea2",10139]
[null,null,"Talley, Allison A","tallea1",1266]
[null,null,"Taylor, Colton ","tayloc6",9646]
[null,null,"Taylor, Michael J","taylom7",10291]
[null,null,"Taylor, Timothy K","TAYLOTB",570]
[null,null,"Teegardin, Johnny L","teegaj1",1316]
[null,null,"Terrell, Jason A","terrej1",578]
[null,null,"Terrell, Joseph P","terrej2",8868]
[null,null,"Thate, Ryan J","thater1",9840]
[null,null,"Thoenen, Will A","thoenw1",9607]
[null,null,"Thomas, Douglas R R","thomad",1461]
[null,null,"Thomas, Sheron A","thomas6",9355]
[null,null,"Thomason, Robert C","thomar1",2061]
[null,null,"Thurman, Brandon W","thurmb2",8787]
[null,null,"Tillery, Lionel ","tillel1",3403]
[null,null,"Tincknell, Victor Q","tinckv1",2572]
[null,null,"Todd, Brian A","toddb",1254]
[null,null,"Tolle, Michael C","tollem1",9188]
[null,null,"Tracy, Steve .","tracys2",9060]
[null,null,"Trainor, Kim M","traink",371]
[null,null,"Trammell, Gage A","trammg1",9765]
[null,null,"Trautman, Brett S","trautb",2209]
[null,null,"Tripp, Jonathon M","trippj1",10317]
[null,null,"Tropepe, Bethany A","tropeb1",9877]
[null,null,"Turner, Paul W","turnep3",648]
[null,null,"Unland, Joshua M","unlanj1",8875]
[null,null,"Vader, Leonard A","vaderl",2192]
[null,null,"Van de Riet, Madeline M","vandem3",9832]
[null,null,"VanWinkle, Hayley J","vanwih2",9645]
[null,null,"Vance, Franklin T","vancef1",1906]
[null,null,"Varner, Jonathan ","varnej1",571]
[null,null,"Veasman, Shadd N","veasms1",8525]
[null,null,"Vega, Jesus A","vegaj1",8572]
[null,null,"Vennekotter, Michael G","vennem1",8664]
[null,null,"Vezendan, Vasile 1","vezenv1",6596]
[null,null,"Viel, Ryan M","vielr1",10257]
[null,null,"Villanueva-Kaeo, Kaupena (KJ) ","villak1",8086]
[null,null,"Vohs, Robert J","vohsr1",620]
[null,null,"Voyles, Brandon S","voyleb1",2622]
[null,null,"Wade, Jennifer A","wadej1",7801]
[null,null,"Wagaman, Tyler C","wagamt1",7257]
[null,null,"Wager, Tycen M","wagert1",7990]
[null,null,"Wagner, Jonathan S","wagnej8",9323]
[null,null,"Wagner, Joseph C","wagnej7",725]
[null,null,"Waite, Patrick M","waitep3",7739]
[null,null,"Walker, Jacob B","walkej4",9614]
[null,null,"Ward, Christopher E","wardc1",1883]
[null,null,"Ward, Danielle N","wardd1",9917]
[null,null,"Warren, Michael S","warrem1",2305]
[null,null,"Washausen, Scott J","washas",1811]
[null,null,"Washington, David B","washid1",2634]
[null,null,"Wasson, Scott L","wassos1",9833]
[null,null,"Watkins, Bradly E","watkib6",1552]
[null,null,"Watson, Matthew .","watsom3",9214]
[null,null,"Weatherby, Connor B","weathc1",642]
[null,null,"Weaver, Daniel D","weaved1",1704]
[null,null,"Weaver, William D","weavew1",606]
[null,null,"Webb, Emily L","webbe2",10136]
[null,null,"Weber, Shawn M","webers1",2669]
[null,null,"Weingart, Lucille M","weingl1",9307]
[null,null,"Weldesenbet, Fidel F","weldef1",690]
[null,null,"West, Tammy L","westt1",9873]
[null,null,"Westcott, Erica L","westce1",8433]
[null,null,"Wharton, Josiah B","whartj1",9441]
[null,null,"White, Jason D","whitej",2399]
[null,null,"Wieberg, Leslie A","wiebel2",2170]
[null,null,"Wiles, David K","wilesd",1832]
[null,null,"Wiles, Rodney L","wilesr",2022]
[null,null,"Williams, Bradley ","willibl",8698]
[null,null,"Williams, Jason M","willij8",2252]
[null,null,"Williams, Randall S","willire",10031]
[null,null,"Willis, Bethany M","willibk",8415]
[null,null,"Wilson, Daniel ","wilsod8",9177]
[null,null,"Wilson, Rebecca N","wilsor2",1502]
[null,null,"Winton, Nathan L","winton1",9625]
[null,null,"Wix, James R","wixj1",7722]
[null,null,"Wolk, Tyler J","wolkt1",2540]
[null,null,"Wood, Stephen ","woods6",7715]
[null,null,"Woods, Kirby F","woodsk1",1296]
[null,null,"Woodward, Joel S","woodwj1",716]
[null,null,"Woody, Blake T","woodyb2",7770]
[null,null,"Worthington, Kent D","worthk",1570]
[null,null,"Wright, John P","wrighj",10256]
[null,null,"Wyrick, Zachary C","wyricz1",9440]
[null,null,"Yost, Jared C","yostj1",2668]
[null,null,"Young, Eric R","younge2",9702]
[null,null,"Zobel, Jacob ","zobelj1",10059]
[null,null,"Zona, Timothy R","zonat1",1505]

{"sheet":"AWP Oracle","index":13,"n_rows":1512,"n_cols":123,"rows_kept":562,"cut":true,"hidden":false,"merged":[],"bounds":{"rows_first":250,"rows_last":62,"rows_between":250,"halvings":3}}
[{"$f":"'Send Sync'!AC23","v":"NO"},{"$f":"IF('Send Sync'!L16=\"\", \"\", 'Send Sync'!L16)","v":""},{"$f":"IF('Send Sync'!L17=\"\", \"\", 'Send Sync'!L17)","v":""},null,null,null,null,"SampleRecordAssociation","SampleRecordAssociation","SampleRecordAssociation",null,null,null,null,null,"SMPLRECCONTMATSETASSOC","SMPLRECCONTMATSETASSOC","SMPLRECCONTMATSETASSOC",null,null,null,null,null,null,null,null,null,null,null,null,null,null,"SampleRecordTest","lastrow",{"$f":"ROW(AI54)","v":54},null,null,null,null,null,null,null,null,null,null,null,null,null,null,null,null,null,null,null,null,null,null,null,null,null,null,null,null,null,null,null,null,null,null,null,null,null,null,null,null,"AgencyEntityInstance","lastrow",{"$f":"ROW(BZ161)","v":161},null,null,null,null,null,null,null,null,null,null,null,null,null,null,null,"AgencyEntityInsData","lastrow",{"$f":"ROW(CR1512)","v":1512},null,null,null,null,null,null,null,null,null,null,null,"SampleRecordRemark",null,null,null,null,null,null,null,null,null,null,null,null,"RefVendor"]
["SAMPLERECORD","SampleRecord ID","Sample Id",null,null,null,null,null,"SampleRecordAssociation Id","SampleRecordAssociation Id",null,null,null,null,null,null,"SmplRecContMatSetAssoc Id","CntrctPrjitmMatSet Id","SampleRecord Id","WorkLocation","MaterialUnit","RepresentedQuantity","SatisfiedRepresentedQnty","Created Dt","CreatedBy","LastUpdated DT","LastUpdatedBy",null,null,null,null,null,null,"SampleRecordTest Id","SampleRecord Id","MaterialTest Id","Number Value","DestinationLab Id","LabUnit Id","OriginalTest Id","ActualCompletion Dt","ChargeAmount","Descr","Due Dt","EstimatedCompletion Dt","PlannedStart Dt","TestRuns","TestStart Dt","Priority","Status","TestReportable","Retest","TestRequeued","CountsTowardMaa","Default Value","Required","ResultLocked","RetestRequested","TestUpdateable","Created Dt","Created By","LastUpdated Dt","LastUpdated By","BillingCode Id","CancelledOrRetested","ReceivedDate","RefTestResultValue Id","TestInstances","RefSpecSelected","RetestQuantity",null,null,null,null,null,null,"AgencyEntityInstance Id","AgencyEntity Id","BaseModelParent Id","AgencyEntityInstanceParent Id","DataXml","Created Dt","Created By","LastUpdated Dt","LastUpdated By",null,null,null,null,null,null,null,null,null,"AgencyEntityInsData Id","AgencyEntityInstance Id","Key","Value","Created Dt","Created By","LastUpdated Dt","LastUpdated By",null,null,null,null,null,"SampleRecordRemark Id","Model Id","Text","RemarkModelMapping Id","Created Dt","Created By","LastUpdated Dt","LastUpdated By",null,null,null,null,null,"VendorName","Vncde3","Vnflg8"]
[null,"SampleRecord NM",{"$f":"Main!V12","v":""},null,null,null,null,null,"SampleRecord Id","Sample Id",null,null,null,null,null,null,{"$f":"IF(R3=\"\",\"\",\"CntrctPrjitmMatSet Id 1\")","v":""},{"$f":"IF('Contract and Quantities'!AS39=\"\",\"\",'Contract and Quantities'!AS39)","v":""},{"$f":"IF(R3=\"\",\"\",\"Sample Id\")","v":""},null,{"$f":"IF(R3=\"\",\"\",'Contract and Quantities'!AR39)","v":""},{"$f":"IF(R3=\"\",\"\",'Contract and Quantities'!AQ39)","v":""},{"$f":"IF(R3=\"\",\"\",0)","v":""},{"$f":"IF(R3=\"\",\"\",TODAY())","v":""},{"$f":"IF(R3=\"\",\"\",\"WTSYSTEMUSER\")","v":""},{"$f":"IF(R3=\"\",\"\",TODAY())","v":""},{"$f":"IF(R3=\"\",\"\",\"WTSYSTEMUSER\")","v":""},null,null,null,"freeform",null,null,{"$f":"IF('Free Form'!$F$49=\"Y\", \"SampleRecordTest Id 1\", \"\")","v":""},{"$f":"IF(AH3=\"\",\"\",\"Sample Id\")","v":""},{"$f":"IF(AQ3=\"\",\"\",VLOOKUP(AQ3,'Send Sync'!$I$56:$J$145,2,FALSE))","v":""},{"$f":"IF(AH3=\"\",\"\",1)","v":""},{"$f":"IF(AH3=\"\",\"\",'Send Sync'!$R$56)","v":""},{"$f":"IF(AH3=\"\",\"\",'Send Sync'!$T$56)","v":""},null,null,null,{"$f":"IF(AH3=\"\",\"\",\"Free Form Test\")","v":""},null,{"$f":"IF(AH3=\"\",\"\",TODAY())","v":""},{"$f":"IF(AH3=\"\",\"\",TODAY())","v":""},{"$f":"IF(AH3=\"\",\"\",1)","v":""},{"$f":"IF(AH3=\"\",\"\",TODAY())","v":""},null,{"$f":"IF(AH3=\"\",\"\",60)","v":""},{"$f":"IF(AH3=\"\",\"\",1)","v":""},{"$f":"IF(AH3=\"\",\"\",0)","v":""},{"$f":"IF(AH3=\"\",\"\",0)","v":""},{"$f":"IF(AH3=\"\",\"\",1)","v":""},{"$f":"IF(AH3=\"\",\"\",0)","v":""},{"$f":"IF(AH3=\"\",\"\",0)","v":""},{"$f":"IF(AH3=\"\",\"\",0)","v":""},{"$f":"IF(AH3=\"\",\"\",0)","v":""},{"$f":"IF(AH3=\"\",\"\",1)","v":""},{"$f":"IF(AH3=\"\",\"\",TODAY())","v":""},{"$f":"IF(AH3=\"\",\"\",\"WTSYSTEMUSER\")","v":""},{"$f":"IF(AH3=\"\",\"\",TODAY())","v":""},{"$f":"IF(AH3=\"\",\"\",\"WTSYSTEMUSER\")","v":""},null,{"$f":"IF(AH3=\"\",\"\",0)","v":""},null,null,{"$f":"IF(AH3=\"\",\"\",1)","v":""},{"$f":"IF(AH3=\"\",\"\",0)","v":""},null,null,null,null,null,null,null,{"$f":"IF(AH3=\"\",\"\",\"AgencyEntityInstance Id 1\")","v":""},{"$f":"IF(BY3=\"\",\"\",VLOOKUP(\"CM_FreeForm\",'Send Sync'!$K$56:$L$96,2,FALSE))","v":""},{"$f":"IF(BY3=\"\",\"\",\"SampleRecordTest Id 1\")","v":""},null,{"$f":"IF(BY3=\"\",\"\",CONCATENATE(\"<Data><FreeForm>\",CO3,\"</FreeForm></Data>\"))","v":""},{"$f":"IF(BY3=\"\",\"\",TODAY())","v":""},{"$f":"IF(BY3=\"\",\"\",\"WTSYSTEMUSER\")","v":""},{"$f":"IF(BY3=\"\",\"\",TODAY())","v":""},{"$f":"IF(BY3=\"\",\"\",\"WTSYSTEMUSER\")","v":""},null,null,null,null,null,null,null,{"$f":"IF(CT3=\"\",\"\",SUBSTITUTE(SUBSTITUTE(SUBSTITUTE(SUBSTITUTE(SUBSTITUTE(CT3,\"&\",\"&amp;\"),\">\",\"&gt;\"),\"<\",\"&lt;\"),\"'\",\"&#39;\"),\"\"\"\",\"&quot;\"))","v":""},null,{"$f":"IF(BY3=\"\",\"\",\"AgencyEntityInsData Id 1\")","v":""},{"$f":"IF(BY3=\"\",\"\",\"AgencyEntityInstance Id 1\")","v":""},{"$f":"IF(BY3=\"\",\"\",\"FreeForm\")","v":""},{"$f":"IF(BY3=\"\",\"\",'Free Form'!B14)","v":""},{"$f":"IF(BY3=\"\",\"\",TODAY())","v":""},{"$f":"IF(BY3=\"\",\"\",\"WTSYSTEMUSER\")","v":""},{"$f":"IF(BY3=\"\",\"\",TODAY())","v":""},{"$f":"IF(BY3=\"\",\"\",\"WTSYSTEMUSER\")","v":""},null,null,null,null,null,{"$f":"IF(Main!B27=\"\",\"\",\"SampleRecordRemark Id\")","v":""},{"$f":"IF(DD3=\"\",\"\",\"Sample Id\")","v":""},{"$f":"IF(DD3=\"\",\"\",Main!B27)","v":""},{"$f":"IF(DD3=\"\",\"\",53)","v":""},{"$f":"IF(DD3=\"\",\"\",TODAY())","v":""},{"$f":"IF(DD3=\"\",\"\",\"WTSYSTEMUSER\")","v":""},{"$f":"IF(DD3=\"\",\"\",TODAY())","v":""},{"$f":"IF(DD3=\"\",\"\",\"WTSYSTEMUSER\")","v":""},null,null,null,null,null,{"$f":"Main!U10","v":0},{"$f":"'Send Sync'!L19","v":0},"Y"]
[null,"RefAdministrativeOffice ID",null,null,null,null,null,null,"AssociationType","Destination Lab",null,null,null,null,null,null,{"$f":"IF(R4=\"\",\"\",\"CntrctPrjitmMatSet Id 2\")","v":""},{"$f":"IF('Contract and Quantities'!AS40=\"\",\"\",'Contract and Quantities'!AS40)","v":""},{"$f":"IF(R4=\"\",\"\",\"Sample Id\")","v":""},null,{"$f":"IF(R4=\"\",\"\",'Contract and Quantities'!AR40)","v":""},{"$f":"IF(R4=\"\",\"\",'Contract and Quantities'!AQ40)","v":""},{"$f":"IF(R4=\"\",\"\",0)","v":""},{"$f":"IF(R4=\"\",\"\",TODAY())","v":""},{"$f":"IF(R4=\"\",\"\",\"WTSYSTEMUSER\")","v":""},{"$f":"IF(R4=\"\",\"\",TODAY())","v":""},"",null,null,null,"Base Type 1&5",null,null,{"$f":"IF('Test 1'!AG13=\"Y\",\"SampleRecordTest Id 2\",\"\")","v":""},"",{"$f":"IF(AQ4=\"\",\"\",VLOOKUP(AQ4,'Send Sync'!$I$56:$J$145,2,FALSE))","v":""},{"$f":"IF(AH4=\"\",\"\",1)","v":""},{"$f":"IF(AH4=\"\",\"\",'Send Sync'!$R$56)","v":""},{"$f":"IF(AH4=\"\",\"\",'Send Sync'!$T$56)","v":""},null,null,null,{"$f":"IF(AH4=\"\",\"\",IF($C$43=\"QA\",\"Base Type 1&5 Sieve Analysis (QA)\",\"Base Type 1&5 Sieve Analysis (QC)\"))","v":""},null,"","",{"$f":"IF(AH4=\"\",\"\",COUNTIF(AJ4:AJ6,AJ4))","v":""},"",null,"","","","","","","","","","","","","","",null,{"$f":"IF(AH4=\"\",\"\",0)","v":""},null,{"$f":"IF(AH4=\"\",\"\",IF(LEFT(Main!F14,4)=\"1007\",IF('Test 1'!D31=\"YES\",VLOOKUP(\"Pass\",'Send Sync'!$Y$56:$Z$57,2,FALSE),IF('Test 1'!D31=\"NO\",VLOOKUP(\"Fail\",'Send Sync'!$Y$56:$Z$57,2,FALSE),\"\")),\"\"))","v":""},{"$f":"IF(AH4=\"\",\"\",1)","v":""},{"$f":"IF(AH4=\"\",\"\",0)","v":""},null,null,null,null,null,null,null,{"$f":"IF(AH4=\"\",\"\",\"AgencyEntityInstance Id 2\")","v":""},{"$f":"IF(BY4=\"\",\"\",VLOOKUP(\"CM_Base_Grad_T1T5\",'Send Sync'!$K$56:$L$96,2,FALSE))","v":""},{"$f":"IF(BY4=\"\",\"\",\"SampleRecordTest Id 2\")","v":""},"",{"$f":"IF(BY4=\"\",\"\",CONCATENATE(\"<Data><cm_base_grad_T1T5_01_inch>\",CO4,\"</cm_base_grad_T1T5_01_inch><cm_base_grad_T1T5_02_half_inch>\",CO5,\"</cm_base_grad_T1T5_02_half_inch><cm_base_grad_T1T5_03_no_4>\",CO6,\"</cm_base_grad_T1T5_03_no_4><cm_base_grad_T1T5_04_no_30>\",CO7,\"</cm_base_grad_T1T5_04_no_30><cm_base_grad_T1T5_05_no_200>\",CO8,\"</cm_base_grad_T1T5_05_no_200><cm_base_grad_T1T5_08_station_1>\",CO9,\"</cm_base_grad_T1T5_08_station_1><cm_base_grad_T1T5_09_station_2>\",CO10,\"</cm_base_grad_T1T5_09_station_2><cm_base_grad_T1T5_10_centerline_location>\",CO11,\"</cm_base_grad_T1T5_10_centerline_location><cm_base_grad_T1T5_11_tested_by>\",CO12,\"</cm_base_grad_T1T5_11_tested_by><cm_base_grad_T1T5_half_inch_label>\",CO13,\"</cm_base_grad_T1T5_half_inch_label><cm_base_grad_T1T5_half_inch_max>\",CO14,\"</cm_base_grad_T1T5_half_inch_max><cm_base_grad_T1T5_half_inch_min>\",CO15,\"</cm_base_grad_T1T5_half_inch_min><cm_base_grad_T1T5_inch_label>\",CO16,\"</cm_base_grad_T1T5_inch_label><cm_base_grad_T1T5_inch_max>\",CO17,\"</cm_base_grad_T1T5_inch_max><cm_base_grad_T1T5_inch_min>\",CO18,\"</cm_base_grad_T1T5_inch_min><cm_base_grad_T1T5_label_01_inch>\",CO19,\"</cm_base_grad_T1T5_label_01_inch><cm_base_grad_T1T5_label_02_half_inch>\",CO20,\"</cm_base_grad_T1T5_label_02_half_inch><cm_base_grad_T1T5_label_03_no_4>\",CO21,\"</cm_base_grad_T1T5_label_03_no_4><cm_base_grad_T1T5_label_04_no_30>\",CO22,\"</cm_base_grad_T1T5_label_04_no_30><cm_base_grad_T1T5_label_05_no_200>\",CO23,\"</cm_base_grad_T1T5_label_05_no_200><cm_base_grad_T1T5_label_06>\",CO24,\"</cm_base_grad_T1T5_label_06><cm_base_grad_T1T5_label_07>\",CO25,\"</cm_base_grad_T1T5_label_07><cm_base_grad_T1T5_label_08>\",CO26,\"</cm_base_grad_T1T5_label_08><cm_base_grad_T1T5_label_09>\",CO27,\"</cm_base_grad_T1T5_label_09><cm_base_grad_T1T5_no_200_label>\",CO28,\"</cm_base_grad_T1T5_no_200_label><cm_base_grad_T1T5_no_200_max>\",CO29,\"</cm_base_grad_T1T5_no_200_max><cm_base_grad_T1T5_no_200_min>\",CO30,\"</cm_base_grad_T1T5_no_200_min><cm_base_grad_T1T5_no_30_label>\",CO31,\"</cm_base_grad_T1T5_no_30_label><cm_base_grad_T1T5_no_30_max>\",CO32,\"</cm_base_grad_T1T5_no_30_max><cm_base_grad_T1T5_no_30_min>\",CO33,\"</cm_base_grad_T1T5_no_30_min><cm_base_grad_T1T5_no_4_label>\",CO34,\"</cm_base_grad_T1T5_no_4_label><cm_base_grad_T1T5_no_4_max>\",CO35,\"</cm_base_grad_T1T5_no_4_max><cm_base_grad_T1T5_no_4_min>\",CO36,\"</cm_base_grad_T1T5_no_4_min><cm_base_grad_T1T5_spec_01_inch_max>\",CO37,\"</cm_base_grad_T1T5_spec_01_inch_max><cm_base_grad_T1T5_spec_01_inch_min>\",CO38,\"</cm_base_grad_T1T5_spec_01_inch_min><cm_base_grad_T1T5_spec_02_half_inch_max>\",CO39,\"</cm_base_grad_T1T5_spec_02_half_inch_max><cm_base_grad_T1T5_spec_02_half_inch_min>\",CO40,\"</cm_base_grad_T1T5_spec_02_half_inch_min><cm_base_grad_T1T5_spec_03_no_4_max>\",CO41,\"</cm_base_grad_T1T5_spec_03_no_4_max><cm_base_grad_T1T5_spec_03_no_4_min>\",CO42,\"</cm_base_grad_T1T5_spec_03_no_4_min><cm_base_grad_T1T5_spec_04_no_30_max>\",CO43,\"</cm_base_grad_T1T5_spec_04_no_30_max><cm_base_grad_T1T5_spec_04_no_30_min>\",CO44,\"</cm_base_grad_T1T5_spec_04_no_30_min><cm_base_grad_T1T5_spec_05_no_200_max>\",CO45,\"</cm_base_grad_T1T5_spec_05_no_200_max><cm_base_grad_T1T5_spec_05_no_200_min>\",CO46,\"</cm_base_grad_T1T5_spec_05_no_200_min></Data>\"))","v":""},{"$f":"IF(BY4=\"\",\"\",TODAY())","v":""},{"$f":"IF(BY4=\"\",\"\",\"WTSYSTEMUSER\")","v":""},{"$f":"IF(BY4=\"\",\"\",TODAY())","v":""},{"$f":"IF(BY4=\"\",\"\",\"WTSYSTEMUSER\")","v":""},null,null,null,null,null,null,null,{"$f":"IF(CT4=\"\",\"\",SUBSTITUTE(SUBSTITUTE(SUBSTITUTE(SUBSTITUTE(SUBSTITUTE(CT4,\"&\",\"&amp;\"),\">\",\"&gt;\"),\"<\",\"&lt;\"),\"'\",\"&#39;\"),\"\"\"\",\"&quot;\"))","v":""},null,{"$f":"IF(BY4=\"\",\"\",\"AgencyEntityInsData Id 2\")","v":""},{"$f":"IF(BY4=\"\",\"\",\"AgencyEntityInstance Id 2\")","v":""},{"$f":"IF(BY4=\"\",\"\",\"cm_base_grad_T1T5_01_inch\")","v":""},{"$f":"IF(BY4=\"\",\"\",IF('Test 1'!$AD25=0,\"\",'Test 1'!$AD25))","v":""},{"$f":"IF(BY4=\"\",\"\",TODAY())","v":""},{"$f":"IF(BY4=\"\",\"\",\"WTSYSTEMUSER\")","v":""},{"$f":"IF(BY4=\"\",\"\",TODAY())","v":""},{"$f":"IF(BY4=\"\",\"\",\"WTSYSTEMUSER\")","v":""}]
[null,"AuthorizedBy ID",2,null,null,null,null,null,"Entity Id",{"$f":"'Send Sync'!AB56","v":204},null,null,null,null,null,null,{"$f":"IF(R5=\"\",\"\",\"CntrctPrjitmMatSet Id 3\")","v":""},{"$f":"IF('Contract and Quantities'!AS41=\"\",\"\",'Contract and Quantities'!AS41)","v":""},"",null,{"$f":"IF(R5=\"\",\"\",'Contract and Quantities'!AR41)","v":""},{"$f":"IF(R5=\"\",\"\",'Contract and Quantities'!AQ41)","v":""},"","","","","",null,null,null,"Base Type 1&5",null,null,{"$f":"IF('Test 1'!AH13=\"Y\",\"SampleRecordTest Id 3\",\"\")","v":""},"",{"$f":"IF(AQ5=\"\",\"\",VLOOKUP(AQ5,'Send Sync'!$I$56:$J$145,2,FALSE))","v":""},{"$f":"IF(AH5=\"\",\"\",2)","v":""},{"$f":"IF(AH5=\"\",\"\",'Send Sync'!$R$56)","v":""},{"$f":"IF(AH5=\"\",\"\",'Send Sync'!$T$56)","v":""},null,null,null,{"$f":"IF(AH5=\"\",\"\",IF($C$43=\"QA\",\"Base Type 1&5 Sieve Analysis (QA)\",\"Base Type 1&5 Sieve Analysis (QC)\"))","v":""},null,"","",{"$f":"IF(AH5=\"\",\"\",COUNTIF(AJ4:AJ6,AJ5))","v":""},"",null,"","","","","","","","","","","","","","",null,"",null,{"$f":"IF(AH5=\"\",\"\",IF(LEFT(Main!F14,4)=\"1007\",IF('Test 1'!H31=\"YES\",VLOOKUP(\"Pass\",'Send Sync'!$Y$56:$Z$57,2,FALSE),IF('Test 1'!H31=\"NO\",VLOOKUP(\"Fail\",'Send Sync'!$Y$56:$Z$57,2,FALSE),\"\")),\"\"))","v":""},"","",null,null,null,null,null,null,null,{"$f":"IF(AH5=\"\",\"\",\"AgencyEntityInstance Id 3\")","v":""},{"$f":"IF(BY5=\"\",\"\",VLOOKUP(\"CM_Base_Grad_T1T5\",'Send Sync'!$K$56:$L$96,2,FALSE))","v":""},{"$f":"IF(BY5=\"\",\"\",\"SampleRecordTest Id 3\")","v":""},"",{"$f":"IF(BY5=\"\",\"\",CONCATENATE(\"<Data><cm_base_grad_T1T5_01_inch>\",CO47,\"</cm_base_grad_T1T5_01_inch><cm_base_grad_T1T5_02_half_inch>\",CO48,\"</cm_base_grad_T1T5_02_half_inch><cm_base_grad_T1T5_03_no_4>\",CO49,\"</cm_base_grad_T1T5_03_no_4><cm_base_grad_T1T5_04_no_30>\",CO50,\"</cm_base_grad_T1T5_04_no_30><cm_base_grad_T1T5_05_no_200>\",CO51,\"</cm_base_grad_T1T5_05_no_200><cm_base_grad_T1T5_08_station_1>\",CO52,\"</cm_base_grad_T1T5_08_station_1><cm_base_grad_T1T5_09_station_2>\",CO53,\"</cm_base_grad_T1T5_09_station_2><cm_base_grad_T1T5_10_centerline_location>\",CO54,\"</cm_base_grad_T1T5_10_centerline_location><cm_base_grad_T1T5_11_tested_by>\",CO55,\"</cm_base_grad_T1T5_11_tested_by><cm_base_grad_T1T5_half_inch_label>\",CO56,\"</cm_base_grad_T1T5_half_inch_label><cm_base_grad_T1T5_half_inch_max>\",CO57,\"</cm_base_grad_T1T5_half_inch_max><cm_base_grad_T1T5_half_inch_min>\",CO58,\"</cm_base_grad_T1T5_half_inch_min><cm_base_grad_T1T5_inch_label>\",CO59,\"</cm_base_grad_T1T5_inch_label><cm_base_grad_T1T5_inch_max>\",CO60,\"</cm_base_grad_T1T5_inch_max><cm_base_grad_T1T5_inch_min>\",CO61,\"</cm_base_grad_T1T5_inch_min><cm_base_grad_T1T5_label_01_inch>\",CO62,\"</cm_base_grad_T1T5_label_01_inch><cm_base_grad_T1T5_label_02_half_inch>\",CO63,\"</cm_base_grad_T1T5_label_02_half_inch><cm_base_grad_T1T5_label_03_no_4>\",CO64,\"</cm_base_grad_T1T5_label_03_no_4><cm_base_grad_T1T5_label_04_no_30>\",CO65,\"</cm_base_grad_T1T5_label_04_no_30><cm_base_grad_T1T5_label_05_no_200>\",CO66,\"</cm_base_grad_T1T5_label_05_no_200><cm_base_grad_T1T5_label_06>\",CO67,\"</cm_base_grad_T1T5_label_06><cm_base_grad_T1T5_label_07>\",CO68,\"</cm_base_grad_T1T5_label_07><cm_base_grad_T1T5_label_08>\",CO69,\"</cm_base_grad_T1T5_label_08><cm_base_grad_T1T5_label_09>\",CO70,\"</cm_base_grad_T1T5_label_09><cm_base_grad_T1T5_no_200_label>\",CO71,\"</cm_base_grad_T1T5_no_200_label><cm_base_grad_T1T5_no_200_max>\",CO72,\"</cm_base_grad_T1T5_no_200_max><cm_base_grad_T1T5_no_200_min>\",CO73,\"</cm_base_grad_T1T5_no_200_min><cm_base_grad_T1T5_no_30_label>\",CO74,\"</cm_base_grad_T1T5_no_30_label><cm_base_grad_T1T5_no_30_max>\",CO75,\"</cm_base_grad_T1T5_no_30_max><cm_base_grad_T1T5_no_30_min>\",CO76,\"</cm_base_grad_T1T5_no_30_min><cm_base_grad_T1T5_no_4_label>\",CO77,\"</cm_base_grad_T1T5_no_4_label><cm_base_grad_T1T5_no_4_max>\",CO78,\"</cm_base_grad_T1T5_no_4_max><cm_base_grad_T1T5_no_4_min>\",CO79,\"</cm_base_grad_T1T5_no_4_min><cm_base_grad_T1T5_spec_01_inch_max>\",CO80,\"</cm_base_grad_T1T5_spec_01_inch_max><cm_base_grad_T1T5_spec_01_inch_min>\",CO81,\"</cm_base_grad_T1T5_spec_01_inch_min><cm_base_grad_T1T5_spec_02_half_inch_max>\",CO82,\"</cm_base_grad_T1T5_spec_02_half_inch_max><cm_base_grad_T1T5_spec_02_half_inch_min>\",CO83,\"</cm_base_grad_T1T5_spec_02_half_inch_min><cm_base_grad_T1T5_spec_03_no_4_max>\",CO84,\"</cm_base_grad_T1T5_spec_03_no_4_max><cm_base_grad_T1T5_spec_03_no_4_min>\",CO85,\"</cm_base_grad_T1T5_spec_03_no_4_min><cm_base_grad_T1T5_spec_04_no_30_max>\",CO86,\"</cm_base_grad_T1T5_spec_04_no_30_max><cm_base_grad_T1T5_spec_04_no_30_min>\",CO87,\"</cm_base_grad_T1T5_spec_04_no_30_min><cm_base_grad_T1T5_spec_05_no_200_max>\",CO88,\"</cm_base_grad_T1T5_spec_05_no_200_max><cm_base_grad_T1T5_spec_05_no_200_min>\",CO89,\"</cm_base_grad_T1T5_spec_05_no_200_min></Data>\"))","v":""},"","","","",null,null,null,null,null,null,null,"",null,{"$f":"IF(BY4=\"\",\"\",\"AgencyEntityInsData Id 3\")","v":""},{"$f":"IF(BY4=\"\",\"\",\"AgencyEntityInstance Id 2\")","v":""},{"$f":"IF(BY4=\"\",\"\",\"cm_base_grad_T1T5_02_half_inch\")","v":""},{"$f":"IF(BY4=\"\",\"\",IF('Test 1'!$AD26=0,\"\",'Test 1'!$AD26))","v":""},{"$f":"IF(BY4=\"\",\"\",TODAY())","v":""},{"$f":"IF(BY4=\"\",\"\",\"WTSYSTEMUSER\")","v":""},{"$f":"IF(BY4=\"\",\"\",TODAY())","v":""},{"$f":"IF(BY4=\"\",\"\",\"WTSYSTEMUSER\")","v":""}]
[null,"DsrInspector ID",null,null,null,null,null,null,"PersonInfo Id",null,null,null,null,null,null,null,{"$f":"IF(R6=\"\",\"\",\"CntrctPrjitmMatSet Id 4\")","v":""},{"$f":"IF('Contract and Quantities'!AS42=\"\",\"\",'Contract and Quantities'!AS42)","v":""},"",null,{"$f":"IF(R6=\"\",\"\",'Contract and Quantities'!AR42)","v":""},{"$f":"IF(R6=\"\",\"\",'Contract and Quantities'!AQ42)","v":""},"","","","","",null,null,null,"Base Type 1&5",null,null,{"$f":"IF('Test 1'!AI13=\"Y\",\"SampleRecordTest Id 4\",\"\")","v":""},"",{"$f":"IF(AQ6=\"\",\"\",VLOOKUP(AQ6,'Send Sync'!$I$56:$J$145,2,FALSE))","v":""},{"$f":"IF(AH6=\"\",\"\",3)","v":""},{"$f":"IF(AH6=\"\",\"\",'Send Sync'!$R$56)","v":""},{"$f":"IF(AH6=\"\",\"\",'Send Sync'!$T$56)","v":""},null,null,null,{"$f":"IF(AH6=\"\",\"\",IF($C$43=\"QA\",\"Base Type 1&5 Sieve Analysis (QA)\",\"Base Type 1&5 Sieve Analysis (QC)\"))","v":""},null,"","",{"$f":"IF(AH6=\"\",\"\",COUNTIF(AJ4:AJ6,AJ6))","v":""},"",null,"","","","","","","","","","","","","","",null,"",null,{"$f":"IF(AH6=\"\",\"\",IF(LEFT(Main!F14,4)=\"1007\",IF('Test 1'!K31=\"YES\",VLOOKUP(\"Pass\",'Send Sync'!$Y$56:$Z$57,2,FALSE),IF('Test 1'!K31=\"NO\",VLOOKUP(\"Fail\",'Send Sync'!$Y$56:$Z$57,2,FALSE),\"\")),\"\"))","v":""},"","",null,null,null,null,null,null,null,{"$f":"IF(AH6=\"\",\"\",\"AgencyEntityInstance Id 4\")","v":""},{"$f":"IF(BY6=\"\",\"\",VLOOKUP(\"CM_Base_Grad_T1T5\",'Send Sync'!$K$56:$L$96,2,FALSE))","v":""},{"$f":"IF(BY6=\"\",\"\",\"SampleRecordTest Id 4\")","v":""},"",{"$f":"IF(BY6=\"\",\"\",CONCATENATE(\"<Data><cm_base_grad_T1T5_01_inch>\",CO90,\"</cm_base_grad_T1T5_01_inch><cm_base_grad_T1T5_02_half_inch>\",CO91,\"</cm_base_grad_T1T5_02_half_inch><cm_base_grad_T1T5_03_no_4>\",CO92,\"</cm_base_grad_T1T5_03_no_4><cm_base_grad_T1T5_04_no_30>\",CO93,\"</cm_base_grad_T1T5_04_no_30><cm_base_grad_T1T5_05_no_200>\",CO94,\"</cm_base_grad_T1T5_05_no_200><cm_base_grad_T1T5_08_station_1>\",CO95,\"</cm_base_grad_T1T5_08_station_1><cm_base_grad_T1T5_09_station_2>\",CO96,\"</cm_base_grad_T1T5_09_station_2><cm_base_grad_T1T5_10_centerline_location>\",CO97,\"</cm_base_grad_T1T5_10_centerline_location><cm_base_grad_T1T5_11_tested_by>\",CO98,\"</cm_base_grad_T1T5_11_tested_by><cm_base_grad_T1T5_half_inch_label>\",CO99,\"</cm_base_grad_T1T5_half_inch_label><cm_base_grad_T1T5_half_inch_max>\",CO100,\"</cm_base_grad_T1T5_half_inch_max><cm_base_grad_T1T5_half_inch_min>\",CO101,\"</cm_base_grad_T1T5_half_inch_min><cm_base_grad_T1T5_inch_label>\",CO102,\"</cm_base_grad_T1T5_inch_label><cm_base_grad_T1T5_inch_max>\",CO103,\"</cm_base_grad_T1T5_inch_max><cm_base_grad_T1T5_inch_min>\",CO104,\"</cm_base_grad_T1T5_inch_min><cm_base_grad_T1T5_label_01_inch>\",CO105,\"</cm_base_grad_T1T5_label_01_inch><cm_base_grad_T1T5_label_02_half_inch>\",CO106,\"</cm_base_grad_T1T5_label_02_half_inch><cm_base_grad_T1T5_label_03_no_4>\",CO107,\"</cm_base_grad_T1T5_label_03_no_4><cm_base_grad_T1T5_label_04_no_30>\",CO108,\"</cm_base_grad_T1T5_label_04_no_30><cm_base_grad_T1T5_label_05_no_200>\",CO109,\"</cm_base_grad_T1T5_label_05_no_200><cm_base_grad_T1T5_label_06>\",CO110,\"</cm_base_grad_T1T5_label_06><cm_base_grad_T1T5_label_07>\",CO111,\"</cm_base_grad_T1T5_label_07><cm_base_grad_T1T5_label_08>\",CO112,\"</cm_base_grad_T1T5_label_08><cm_base_grad_T1T5_label_09>\",CO113,\"</cm_base_grad_T1T5_label_09><cm_base_grad_T1T5_no_200_label>\",CO114,\"</cm_base_grad_T1T5_no_200_label><cm_base_grad_T1T5_no_200_max>\",CO115,\"</cm_base_grad_T1T5_no_200_max><cm_base_grad_T1T5_no_200_min>\",CO116,\"</cm_base_grad_T1T5_no_200_min><cm_base_grad_T1T5_no_30_label>\",CO117,\"</cm_base_grad_T1T5_no_30_label><cm_base_grad_T1T5_no_30_max>\",CO118,\"</cm_base_grad_T1T5_no_30_max><cm_base_grad_T1T5_no_30_min>\",CO119,\"</cm_base_grad_T1T5_no_30_min><cm_base_grad_T1T5_no_4_label>\",CO120,\"</cm_base_grad_T1T5_no_4_label><cm_base_grad_T1T5_no_4_max>\",CO121,\"</cm_base_grad_T1T5_no_4_max><cm_base_grad_T1T5_no_4_min>\",CO122,\"</cm_base_grad_T1T5_no_4_min><cm_base_grad_T1T5_spec_01_inch_max>\",CO123,\"</cm_base_grad_T1T5_spec_01_inch_max><cm_base_grad_T1T5_spec_01_inch_min>\",CO124,\"</cm_base_grad_T1T5_spec_01_inch_min><cm_base_grad_T1T5_spec_02_half_inch_max>\",CO125,\"</cm_base_grad_T1T5_spec_02_half_inch_max><cm_base_grad_T1T5_spec_02_half_inch_min>\",CO126,\"</cm_base_grad_T1T5_spec_02_half_inch_min><cm_base_grad_T1T5_spec_03_no_4_max>\",CO127,\"</cm_base_grad_T1T5_spec_03_no_4_max><cm_base_grad_T1T5_spec_03_no_4_min>\",CO128,\"</cm_base_grad_T1T5_spec_03_no_4_min><cm_base_grad_T1T5_spec_04_no_30_max>\",CO129,\"</cm_base_grad_T1T5_spec_04_no_30_max><cm_base_grad_T1T5_spec_04_no_30_min>\",CO130,\"</cm_base_grad_T1T5_spec_04_no_30_min><cm_base_grad_T1T5_spec_05_no_200_max>\",CO131,\"</cm_base_grad_T1T5_spec_05_no_200_max><cm_base_grad_T1T5_spec_05_no_200_min>\",CO132,\"</cm_base_grad_T1T5_spec_05_no_200_min></Data>\"))","v":""},"","","","",null,null,null,null,null,null,null,"",null,{"$f":"IF(BY4=\"\",\"\",\"AgencyEntityInsData Id 4\")","v":""},{"$f":"IF(BY4=\"\",\"\",\"AgencyEntityInstance Id 2\")","v":""},{"$f":"IF(BY4=\"\",\"\",\"cm_base_grad_T1T5_03_no_4\")","v":""},{"$f":"IF(BY4=\"\",\"\",IF('Test 1'!$AD27=0,\"\",'Test 1'!$AD27))","v":""},{"$f":"IF(BY4=\"\",\"\",TODAY())","v":""},{"$f":"IF(BY4=\"\",\"\",\"WTSYSTEMUSER\")","v":""},{"$f":"IF(BY4=\"\",\"\",TODAY())","v":""},{"$f":"IF(BY4=\"\",\"\",\"WTSYSTEMUSER\")","v":""}]
[null,"DwrInspector ID",null,null,null,null,null,null,"DestinationLab Id",{"$f":"'Send Sync'!R56","v":5},null,null,null,null,null,null,{"$f":"IF(R7=\"\",\"\",\"CntrctPrjitmMatSet Id 5\")","v":""},{"$f":"IF('Contract and Quantities'!AS43=\"\",\"\",'Contract and Quantities'!AS43)","v":""},"",null,{"$f":"IF(R7=\"\",\"\",'Contract and Quantities'!AR43)","v":""},{"$f":"IF(R7=\"\",\"\",'Contract and Quantities'!AQ43)","v":""},"","","","","",null,null,null,"Base Type 7",null,null,{"$f":"IF('Test 1'!AG12=\"Y\",\"SampleRecordTest Id 5\",\"\")","v":""},"",{"$f":"IF(AQ7=\"\",\"\",VLOOKUP(AQ7,'Send Sync'!$I$56:$J$145,2,FALSE))","v":""},{"$f":"IF(AH7=\"\",\"\",1)","v":""},{"$f":"IF(AH7=\"\",\"\",'Send Sync'!$R$56)","v":""},{"$f":"IF(AH7=\"\",\"\",'Send Sync'!$T$56)","v":""},null,null,null,{"$f":"IF(AH7=\"\",\"\",IF($C$43=\"QA\",\"Base Type 7 Sieve Analysis (QA)\",\"Base Type 7 Sieve Analysis (QC)\"))","v":""},null,"","",{"$f":"IF(AH7=\"\",\"\",COUNTIF(AJ7:AJ9,AJ7))","v":""},"",null,"","","","","","","","","","","","","","",null,"",null,{"$f":"IF(AH7=\"\",\"\",IF(LEFT(Main!F14,4)=\"1007\",IF('Test 1'!Q31=\"YES\",VLOOKUP(\"Pass\",'Send Sync'!$Y$56:$Z$57,2,FALSE),IF('Test 1'!Q31=\"NO\",VLOOKUP(\"Fail\",'Send Sync'!$Y$56:$Z$57,2,FALSE),\"\")),\"\"))","v":""},"","",null,null,null,null,null,null,null,{"$f":"IF(AH7=\"\",\"\",\"AgencyEntityInstance Id 5\")","v":""},{"$f":"IF(BY7=\"\",\"\",VLOOKUP(\"CM_Base_Grad_T7\",'Send Sync'!$K$56:$L$96,2,FALSE))","v":""},{"$f":"IF(BY7=\"\",\"\",\"SampleRecordTest Id 5\")","v":""},"",{"$f":"IF(BY7=\"\",\"\",CONCATENATE(\"<Data><cm_base_grad_T7_01_1pt5_inch>\",CO133,\"</cm_base_grad_T7_01_1pt5_inch><cm_base_grad_T7_02_inch>\",CO134,\"</cm_base_grad_T7_02_inch><cm_base_grad_T7_03_no_8>\",CO135,\"</cm_base_grad_T7_03_no_8><cm_base_grad_T7_05_no_200>\",CO136,\"</cm_base_grad_T7_05_no_200><cm_base_grad_T7_08_station_1>\",CO137,\"</cm_base_grad_T7_08_station_1><cm_base_grad_T7_09_station_2>\",CO138,\"</cm_base_grad_T7_09_station_2><cm_base_grad_T7_10_centerline_location>\",CO139,\"</cm_base_grad_T7_10_centerline_location><cm_base_grad_T7_11_tested_by>\",CO140,\"</cm_base_grad_T7_11_tested_by><cm_base_grad_T7_label_01_1pt5_inch>\",CO141,\"</cm_base_grad_T7_label_01_1pt5_inch><cm_base_grad_T7_label_02_inch>\",CO142,\"</cm_base_grad_T7_label_02_inch><cm_base_grad_T7_label_03_no_8>\",CO143,\"</cm_base_grad_T7_label_03_no_8><cm_base_grad_T7_label_05_no_200>\",CO144,\"</cm_base_grad_T7_label_05_no_200><cm_base_grad_T7_label_06>\",CO145,\"</cm_base_grad_T7_label_06><cm_base_grad_T7_label_07>\",CO146,\"</cm_base_grad_T7_label_07><cm_base_grad_T7_label_08>\",CO147,\"</cm_base_grad_T7_label_08><cm_base_grad_T7_label_09>\",CO148,\"</cm_base_grad_T7_label_09><cm_base_grad_T7_spec_01_1pt5_inch_max>\",CO149,\"</cm_base_grad_T7_spec_01_1pt5_inch_max><cm_base_grad_T7_spec_01_1pt5_inch_min>\",CO150,\"</cm_base_grad_T7_spec_01_1pt5_inch_min><cm_base_grad_T7_spec_02_inch_max>\",CO151,\"</cm_base_grad_T7_spec_02_inch_max><cm_base_grad_T7_spec_02_inch_min>\",CO152,\"</cm_base_grad_T7_spec_02_inch_min><cm_base_grad_T7_spec_03_no_8_max>\",CO153,\"</cm_base_grad_T7_spec_03_no_8_max><cm_base_grad_T7_spec_03_no_8_min>\",CO154,\"</cm_base_grad_T7_spec_03_no_8_min><cm_base_grad_T7_spec_05_no_200_max>\",CO155,\"</cm_base_grad_T7_spec_05_no_200_max><cm_base_grad_T7_spec_05_no_200_min>\",CO156,\"</cm_base_grad_T7_spec_05_no_200_min></Data>\"))","v":""},"","","","",null,null,null,null,null,null,null,"",null,{"$f":"IF(BY4=\"\",\"\",\"AgencyEntityInsData Id 5\")","v":""},{"$f":"IF(BY4=\"\",\"\",\"AgencyEntityInstance Id 2\")","v":""},{"$f":"IF(BY4=\"\",\"\",\"cm_base_grad_T1T5_04_no_30\")","v":""},{"$f":"IF(BY4=\"\",\"\",IF('Test 1'!$AD28=0,\"\",'Test 1'!$AD28))","v":""},{"$f":"IF(BY4=\"\",\"\",TODAY())","v":""},{"$f":"IF(BY4=\"\",\"\",\"WTSYSTEMUSER\")","v":""},{"$f":"IF(BY4=\"\",\"\",TODAY())","v":""},{"$f":"IF(BY4=\"\",\"\",\"WTSYSTEMUSER\")","v":""}]
[null,"Facility ID",{"$f":"Main!J41","v":{"$error":"#N/A"}},null,null,null,null,null,"RefVendor Id",null,null,null,null,null,null,null,{"$f":"IF(R8=\"\",\"\",\"CntrctPrjitmMatSet Id 6\")","v":""},{"$f":"IF('Contract and Quantities'!AS44=\"\",\"\",'Contract and Quantities'!AS44)","v":""},"",null,{"$f":"IF(R8=\"\",\"\",'Contract and Quantities'!AR44)","v":""},{"$f":"IF(R8=\"\",\"\",'Contract and Quantities'!AQ44)","v":""},"","","","","",null,null,null,"Base Type 7",null,null,{"$f":"IF('Test 1'!AH12=\"Y\",\"SampleRecordTest Id 6\",\"\")","v":""},"",{"$f":"IF(AQ8=\"\",\"\",VLOOKUP(AQ8,'Send Sync'!$I$56:$J$145,2,FALSE))","v":""},{"$f":"IF(AH8=\"\",\"\",2)","v":""},{"$f":"IF(AH8=\"\",\"\",'Send Sync'!$R$56)","v":""},{"$f":"IF(AH8=\"\",\"\",'Send Sync'!$T$56)","v":""},null,null,null,{"$f":"IF(AH8=\"\",\"\",IF($C$43=\"QA\",\"Base Type 7 Sieve Analysis (QA)\",\"Base Type 7 Sieve Analysis (QC)\"))","v":""},null,"","",{"$f":"IF(AH8=\"\",\"\",COUNTIF(AJ7:AJ9,AJ8))","v":""},"",null,"","","","","","","","","","","","","","",null,"",null,{"$f":"IF(AH8=\"\",\"\",IF(LEFT(Main!F14,4)=\"1007\",IF('Test 1'!U31=\"YES\",VLOOKUP(\"Pass\",'Send Sync'!$Y$56:$Z$57,2,FALSE),IF('Test 1'!U31=\"NO\",VLOOKUP(\"Fail\",'Send Sync'!$Y$56:$Z$57,2,FALSE),\"\")),\"\"))","v":""},"","",null,null,null,null,null,null,null,{"$f":"IF(AH8=\"\",\"\",\"AgencyEntityInstance Id 6\")","v":""},{"$f":"IF(BY8=\"\",\"\",VLOOKUP(\"CM_Base_Grad_T7\",'Send Sync'!$K$56:$L$96,2,FALSE))","v":""},{"$f":"IF(BY8=\"\",\"\",\"SampleRecordTest Id 6\")","v":""},"",{"$f":"IF(BY8=\"\",\"\",CONCATENATE(\"<Data><cm_base_grad_T7_01_1pt5_inch>\",CO157,\"</cm_base_grad_T7_01_1pt5_inch><cm_base_grad_T7_02_inch>\",CO158,\"</cm_base_grad_T7_02_inch><cm_base_grad_T7_03_no_8>\",CO159,\"</cm_base_grad_T7_03_no_8><cm_base_grad_T7_05_no_200>\",CO160,\"</cm_base_grad_T7_05_no_200><cm_base_grad_T7_08_station_1>\",CO161,\"</cm_base_grad_T7_08_station_1><cm_base_grad_T7_09_station_2>\",CO162,\"</cm_base_grad_T7_09_station_2><cm_base_grad_T7_10_centerline_location>\",CO163,\"</cm_base_grad_T7_10_centerline_location><cm_base_grad_T7_11_tested_by>\",CO164,\"</cm_base_grad_T7_11_tested_by><cm_base_grad_T7_label_01_1pt5_inch>\",CO165,\"</cm_base_grad_T7_label_01_1pt5_inch><cm_base_grad_T7_label_02_inch>\",CO166,\"</cm_base_grad_T7_label_02_inch><cm_base_grad_T7_label_03_no_8>\",CO167,\"</cm_base_grad_T7_label_03_no_8><cm_base_grad_T7_label_05_no_200>\",CO168,\"</cm_base_grad_T7_label_05_no_200><cm_base_grad_T7_label_06>\",CO169,\"</cm_base_grad_T7_label_06><cm_base_grad_T7_label_07>\",CO170,\"</cm_base_grad_T7_label_07><cm_base_grad_T7_label_08>\",CO171,\"</cm_base_grad_T7_label_08><cm_base_grad_T7_label_09>\",CO172,\"</cm_base_grad_T7_label_09><cm_base_grad_T7_spec_01_1pt5_inch_max>\",CO173,\"</cm_base_grad_T7_spec_01_1pt5_inch_max><cm_base_grad_T7_spec_01_1pt5_inch_min>\",CO174,\"</cm_base_grad_T7_spec_01_1pt5_inch_min><cm_base_grad_T7_spec_02_inch_max>\",CO175,\"</cm_base_grad_T7_spec_02_inch_max><cm_base_grad_T7_spec_02_inch_min>\",CO176,\"</cm_base_grad_T7_spec_02_inch_min><cm_base_grad_T7_spec_03_no_8_max>\",CO177,\"</cm_base_grad_T7_spec_03_no_8_max><cm_base_grad_T7_spec_03_no_8_min>\",CO178,\"</cm_base_grad_T7_spec_03_no_8_min><cm_base_grad_T7_spec_05_no_200_max>\",CO179,\"</cm_base_grad_T7_spec_05_no_200_max><cm_base_grad_T7_spec_05_no_200_min>\",CO180,\"</cm_base_grad_T7_spec_05_no_200_min></Data>\"))","v":""},"","","","",null,null,null,null,null,null,null,"",null,{"$f":"IF(BY4=\"\",\"\",\"AgencyEntityInsData Id 6\")","v":""},{"$f":"IF(BY4=\"\",\"\",\"AgencyEntityInstance Id 2\")","v":""},{"$f":"IF(BY4=\"\",\"\",\"cm_base_grad_T1T5_05_no_200\")","v":""},{"$f":"IF(BY4=\"\",\"\",IF('Test 1'!$AD29=0,\"\",'Test 1'!$AD29))","v":""},{"$f":"IF(BY4=\"\",\"\",TODAY())","v":""},{"$f":"IF(BY4=\"\",\"\",\"WTSYSTEMUSER\")","v":""},{"$f":"IF(BY4=\"\",\"\",TODAY())","v":""},{"$f":"IF(BY4=\"\",\"\",\"WTSYSTEMUSER\")","v":""}]
[null,"LinkTo ID",null,null,null,null,null,null,"Role Id",null,null,null,null,null,null,null,{"$f":"IF(R9=\"\",\"\",\"CntrctPrjitmMatSet Id 7\")","v":""},{"$f":"IF('Contract and Quantities'!AS45=\"\",\"\",'Contract and Quantities'!AS45)","v":""},"",null,{"$f":"IF(R9=\"\",\"\",'Contract and Quantities'!AR45)","v":""},{"$f":"IF(R9=\"\",\"\",'Contract and Quantities'!AQ45)","v":""},"","","","","",null,null,null,"Base Type 7",null,null,{"$f":"IF('Test 1'!AI12=\"Y\",\"SampleRecordTest Id 7\",\"\")","v":""},"",{"$f":"IF(AQ9=\"\",\"\",VLOOKUP(AQ9,'Send Sync'!$I$56:$J$145,2,FALSE))","v":""},{"$f":"IF(AH9=\"\",\"\",3)","v":""},{"$f":"IF(AH9=\"\",\"\",'Send Sync'!$R$56)","v":""},{"$f":"IF(AH9=\"\",\"\",'Send Sync'!$T$56)","v":""},null,null,null,{"$f":"IF(AH9=\"\",\"\",IF($C$43=\"QA\",\"Base Type 7 Sieve Analysis (QA)\",\"Base Type 7 Sieve Analysis (QC)\"))","v":""},null,"","",{"$f":"IF(AH9=\"\",\"\",COUNTIF(AJ7:AJ9,AJ9))","v":""},"",null,"","","","","","","","","","","","","","",null,"",null,{"$f":"IF(AH9=\"\",\"\",IF(LEFT(Main!F14,4)=\"1007\",IF('Test 1'!X31=\"YES\",VLOOKUP(\"Pass\",'Send Sync'!$Y$56:$Z$57,2,FALSE),IF('Test 1'!X31=\"NO\",VLOOKUP(\"Fail\",'Send Sync'!$Y$56:$Z$57,2,FALSE),\"\")),\"\"))","v":""},"","",null,null,null,null,null,null,null,{"$f":"IF(AH9=\"\",\"\",\"AgencyEntityInstance Id 7\")","v":""},{"$f":"IF(BY9=\"\",\"\",VLOOKUP(\"CM_Base_Grad_T7\",'Send Sync'!$K$56:$L$96,2,FALSE))","v":""},{"$f":"IF(BY9=\"\",\"\",\"SampleRecordTest Id 7\")","v":""},"",{"$f":"IF(BY9=\"\",\"\",CONCATENATE(\"<Data><cm_base_grad_T7_01_1pt5_inch>\",CO181,\"</cm_base_grad_T7_01_1pt5_inch><cm_base_grad_T7_02_inch>\",CO182,\"</cm_base_grad_T7_02_inch><cm_base_grad_T7_03_no_8>\",CO183,\"</cm_base_grad_T7_03_no_8><cm_base_grad_T7_05_no_200>\",CO184,\"</cm_base_grad_T7_05_no_200><cm_base_grad_T7_08_station_1>\",CO185,\"</cm_base_grad_T7_08_station_1><cm_base_grad_T7_09_station_2>\",CO186,\"</cm_base_grad_T7_09_station_2><cm_base_grad_T7_10_centerline_location>\",CO187,\"</cm_base_grad_T7_10_centerline_location><cm_base_grad_T7_11_tested_by>\",CO188,\"</cm_base_grad_T7_11_tested_by><cm_base_grad_T7_label_01_1pt5_inch>\",CO189,\"</cm_base_grad_T7_label_01_1pt5_inch><cm_base_grad_T7_label_02_inch>\",CO190,\"</cm_base_grad_T7_label_02_inch><cm_base_grad_T7_label_03_no_8>\",CO191,\"</cm_base_grad_T7_label_03_no_8><cm_base_grad_T7_label_05_no_200>\",CO192,\"</cm_base_grad_T7_label_05_no_200><cm_base_grad_T7_label_06>\",CO193,\"</cm_base_grad_T7_label_06><cm_base_grad_T7_label_07>\",CO194,\"</cm_base_grad_T7_label_07><cm_base_grad_T7_label_08>\",CO195,\"</cm_base_grad_T7_label_08><cm_base_grad_T7_label_09>\",CO196,\"</cm_base_grad_T7_label_09><cm_base_grad_T7_spec_01_1pt5_inch_max>\",CO197,\"</cm_base_grad_T7_spec_01_1pt5_inch_max><cm_base_grad_T7_spec_01_1pt5_inch_min>\",CO198,\"</cm_base_grad_T7_spec_01_1pt5_inch_min><cm_base_grad_T7_spec_02_inch_max>\",CO199,\"</cm_base_grad_T7_spec_02_inch_max><cm_base_grad_T7_spec_02_inch_min>\",CO200,\"</cm_base_grad_T7_spec_02_inch_min><cm_base_grad_T7_spec_03_no_8_max>\",CO201,\"</cm_base_grad_T7_spec_03_no_8_max><cm_base_grad_T7_spec_03_no_8_min>\",CO202,\"</cm_base_grad_T7_spec_03_no_8_min><cm_base_grad_T7_spec_05_no_200_max>\",CO203,\"</cm_base_grad_T7_spec_05_no_200_max><cm_base_grad_T7_spec_05_no_200_min>\",CO204,\"</cm_base_grad_T7_spec_05_no_200_min></Data>\"))","v":""},"","","","",null,null,null,null,null,null,null,"",null,{"$f":"IF(BY4=\"\",\"\",\"AgencyEntityInsData Id 7\")","v":""},{"$f":"IF(BY4=\"\",\"\",\"AgencyEntityInstance Id 2\")","v":""},{"$f":"IF(BY4=\"\",\"\",\"cm_base_grad_T1T5_08_station_1\")","v":""},{"$f":"IF(BY4=\"\",\"\",IF('Test 1'!$F16=0,\"\",'Test 1'!$F16))","v":""},{"$f":"IF(BY4=\"\",\"\",TODAY())","v":""},{"$f":"IF(BY4=\"\",\"\",\"WTSYSTEMUSER\")","v":""},{"$f":"IF(BY4=\"\",\"\",TODAY())","v":""},{"$f":"IF(BY4=\"\",\"\",\"WTSYSTEMUSER\")","v":""}]
[null,"LsaurLastModifiedBy ID",null,null,null,null,null,null,"AssociatedValue",{"$f":"'Send Sync'!R56","v":5},null,null,null,null,null,null,{"$f":"IF(R10=\"\",\"\",\"CntrctPrjitmMatSet Id 8\")","v":""},{"$f":"IF('Contract and Quantities'!AS46=\"\",\"\",'Contract and Quantities'!AS46)","v":""},"",null,{"$f":"IF(R10=\"\",\"\",'Contract and Quantities'!AR46)","v":""},{"$f":"IF(R10=\"\",\"\",'Contract and Quantities'!AQ46)","v":""},"","","","","",null,null,null,"T90 Aggregate PI",null,null,{"$f":"IF(OR('Test 1'!AG44=\"Y\",'Test 2'!AG37=\"Y\",'Test 3'!AH11=\"Y\"),\"SampleRecordTest Id 8\",\"\")","v":""},"",{"$f":"IF(AQ10=\"\",\"\",VLOOKUP(AQ10,'Send Sync'!$I$56:$J$145,2,FALSE))","v":""},{"$f":"IF(AH10=\"\",\"\",VALUE(ROW(1:1)))","v":""},{"$f":"IF(AH10=\"\",\"\",'Send Sync'!$R$56)","v":""},{"$f":"IF(AH10=\"\",\"\",'Send Sync'!$T$56)","v":""},null,null,null,{"$f":"IF(AH10=\"\",\"\",IF($C$43=\"QA\",\"AASHTO T90 Aggregate PI (QA)\",\"AASHTO T90 Aggregate PI (QC)\"))","v":""},null,"","",{"$f":"IF(AH10=\"\",\"\",COUNTIF(AJ10:AJ14,AJ10))","v":""},"",null,"","","","","","","","","","","","","","",null,{"$f":"IF($AH10=\"\",\"\",0)","v":""},null,{"$f":"IF(AH10=\"\",\"\",IF(LEFT(Main!F14,4)=\"1007\",IF('Test 1'!D46=\"YES\",VLOOKUP(\"Pass\",'Send Sync'!$Y$56:$Z$57,2,FALSE),IF('Test 1'!D46=\"NO\",VLOOKUP(\"Fail\",'Send Sync'!$Y$56:$Z$57,2,FALSE),\"\")),IF(LEFT(Main!F14,4)=\"1005\",IF('Test 2'!D39=\"YES\",VLOOKUP(\"Pass\",'Send Sync'!$Y$56:$Z$57,2,FALSE),IF('Test 2'!D39=\"NO\",VLOOKUP(\"Fail\",'Send Sync'!$Y$56:$Z$57,2,FALSE),\"\")),\"\")))","v":""},"","",null,null,null,null,null,null,null,{"$f":"IF(AH10=\"\",\"\",\"AgencyEntityInstance Id 8\")","v":""},{"$f":"IF(BY10=\"\",\"\",VLOOKUP(\"CM_PI_Field\",'Send Sync'!$K$56:$L$96,2,FALSE))","v":""},{"$f":"IF(BY10=\"\",\"\",\"SampleRecordTest Id 8\")","v":""},"",{"$f":"IF(BY10=\"\",\"\",CONCATENATE(\"<Data><CM_PlasticityIndex_Base_TestResults>\",CO205,\"</CM_PlasticityIndex_Base_TestResults></Data>\"))","v":""},"","","","",null,null,null,null,null,null,null,"",null,{"$f":"IF(BY4=\"\",\"\",\"AgencyEntityInsData Id 8\")","v":""},{"$f":"IF(BY4=\"\",\"\",\"AgencyEntityInstance Id 2\")","v":""},{"$f":"IF(BY4=\"\",\"\",\"cm_base_grad_T1T5_09_station_2\")","v":""},{"$f":"IF(BY4=\"\",\"\",IF('Test 1'!$J16=0,\"\",'Test 1'!$J16))","v":""},{"$f":"IF(BY4=\"\",\"\",TODAY())","v":""},{"$f":"IF(BY4=\"\",\"\",\"WTSYSTEMUSER\")","v":""},{"$f":"IF(BY4=\"\",\"\",TODAY())","v":""},{"$f":"IF(BY4=\"\",\"\",\"WTSYSTEMUSER\")","v":""}]
[null,"Material ID",{"$f":"Main!J40","v":{"$error":"#N/A"}},null,null,null,null,null,"Created Dt",{"$f":"TODAY()","v":"2026-01-02"},null,null,null,null,null,null,{"$f":"IF(R11=\"\",\"\",\"CntrctPrjitmMatSet Id 9\")","v":""},{"$f":"IF('Contract and Quantities'!AS47=\"\",\"\",'Contract and Quantities'!AS47)","v":""},"",null,{"$f":"IF(R11=\"\",\"\",'Contract and Quantities'!AR47)","v":""},{"$f":"IF(R11=\"\",\"\",'Contract and Quantities'!AQ47)","v":""},"","","","","",null,null,null,"T90 Aggregate PI",null,null,{"$f":"IF(OR('Test 1'!AH44=\"Y\",'Test 2'!AH37=\"Y\",'Test 3'!AI11=\"Y\"),\"SampleRecordTest Id 9\",\"\")","v":""},"",{"$f":"IF(AQ11=\"\",\"\",VLOOKUP(AQ11,'Send Sync'!$I$56:$J$145,2,FALSE))","v":""},{"$f":"IF(AH11=\"\",\"\",VALUE(ROW(2:2)))","v":""},{"$f":"IF(AH11=\"\",\"\",'Send Sync'!$R$56)","v":""},{"$f":"IF(AH11=\"\",\"\",'Send Sync'!$T$56)","v":""},null,null,null,{"$f":"IF(AH11=\"\",\"\",IF($C$43=\"QA\",\"AASHTO T90 Aggregate PI (QA)\",\"AASHTO T90 Aggregate PI (QC)\"))","v":""},null,"","",{"$f":"IF(AH11=\"\",\"\",COUNTIF(AJ10:AJ14,AJ11))","v":""},"",null,"","","","","","","","","","","","","","",null,"",null,{"$f":"IF(AH11=\"\",\"\",IF(LEFT(Main!F14,4)=\"1007\",IF('Test 1'!H46=\"YES\",VLOOKUP(\"Pass\",'Send Sync'!$Y$56:$Z$57,2,FALSE),IF('Test 1'!H46=\"NO\",VLOOKUP(\"Fail\",'Send Sync'!$Y$56:$Z$57,2,FALSE),\"\")),IF(LEFT(Main!F14,4)=\"1005\",IF('Test 2'!H39=\"YES\",VLOOKUP(\"Pass\",'Send Sync'!$Y$56:$Z$57,2,FALSE),IF('Test 2'!H39=\"NO\",VLOOKUP(\"Fail\",'Send Sync'!$Y$56:$Z$57,2,FALSE),\"\")),\"\")))","v":""},"","",null,null,null,null,null,null,null,{"$f":"IF(AH11=\"\",\"\",\"AgencyEntityInstance Id 9\")","v":""},{"$f":"IF(BY11=\"\",\"\",VLOOKUP(\"CM_PI_Field\",'Send Sync'!$K$56:$L$96,2,FALSE))","v":""},{"$f":"IF(BY11=\"\",\"\",\"SampleRecordTest Id 9\")","v":""},"",{"$f":"IF(BY11=\"\",\"\",CONCATENATE(\"<Data><CM_PlasticityIndex_Base_TestResults>\",CO206,\"</CM_PlasticityIndex_Base_TestResults></Data>\"))","v":""},"","","","",null,null,null,null,null,null,null,"",null,{"$f":"IF(BY4=\"\",\"\",\"AgencyEntityInsData Id 9\")","v":""},{"$f":"IF(BY4=\"\",\"\",\"AgencyEntityInstance Id 2\")","v":""},{"$f":"IF(BY4=\"\",\"\",\"cm_base_grad_T1T5_10_centerline_location\")","v":""},{"$f":"IF(BY4=\"\",\"\",IF('Test 1'!I17=\"\",\"\",'Test 1'!I17))","v":""},{"$f":"IF(BY4=\"\",\"\",TODAY())","v":""},{"$f":"IF(BY4=\"\",\"\",\"WTSYSTEMUSER\")","v":""},{"$f":"IF(BY4=\"\",\"\",TODAY())","v":""},{"$f":"IF(BY4=\"\",\"\",\"WTSYSTEMUSER\")","v":""}]
[null,"RevisedBy ID",null,null,null,null,null,null,"Created By","WTSYSTEMUSER",null,null,null,null,null,null,{"$f":"IF(R12=\"\",\"\",\"CntrctPrjitmMatSet Id 10\")","v":""},{"$f":"IF('Contract and Quantities'!AS48=\"\",\"\",'Contract and Quantities'!AS48)","v":""},"",null,{"$f":"IF(R12=\"\",\"\",'Contract and Quantities'!AR48)","v":""},{"$f":"IF(R12=\"\",\"\",'Contract and Quantities'!AQ48)","v":""},"","","","","",null,null,null,"T90 Aggregate PI",null,null,{"$f":"IF(OR('Test 1'!AI44=\"Y\",'Test 2'!AI37=\"Y\"),\"SampleRecordTest Id 10\",\"\")","v":""},"",{"$f":"IF(AQ12=\"\",\"\",VLOOKUP(AQ12,'Send Sync'!$I$56:$J$145,2,FALSE))","v":""},"",{"$f":"IF(AH12=\"\",\"\",'Send Sync'!$R$56)","v":""},{"$f":"IF(AH12=\"\",\"\",'Send Sync'!$T$56)","v":""},null,null,null,{"$f":"IF(AH12=\"\",\"\",IF($C$43=\"QA\",\"AASHTO T90 Aggregate PI (QA)\",\"AASHTO T90 Aggregate PI (QC)\"))","v":""},null,"","",{"$f":"IF(AH12=\"\",\"\",COUNTIF(AJ10:AJ14,AJ12))","v":""},"",null,"","","","","","","","","","","","","","",null,"",null,{"$f":"IF(AH12=\"\",\"\",IF(LEFT(Main!F14,4)=\"1007\",IF('Test 1'!L46=\"YES\",VLOOKUP(\"Pass\",'Send Sync'!$Y$56:$Z$57,2,FALSE),IF('Test 1'!L46=\"NO\",VLOOKUP(\"Fail\",'Send Sync'!$Y$56:$Z$57,2,FALSE),\"\")),IF(LEFT(Main!F14,4)=\"1005\",IF('Test 2'!L39=\"YES\",VLOOKUP(\"Pass\",'Send Sync'!$Y$56:$Z$57,2,FALSE),IF('Test 2'!L39=\"NO\",VLOOKUP(\"Fail\",'Send Sync'!$Y$56:$Z$57,2,FALSE),\"\")),\"\")))","v":""},"","",null,null,null,null,null,null,null,{"$f":"IF(AH12=\"\",\"\",\"AgencyEntityInstance Id 10\")","v":""},{"$f":"IF(BY12=\"\",\"\",VLOOKUP(\"CM_PI_Field\",'Send Sync'!$K$56:$L$96,2,FALSE))","v":""},{"$f":"IF(BY12=\"\",\"\",\"SampleRecordTest Id 10\")","v":""},"",{"$f":"IF(BY12=\"\",\"\",CONCATENATE(\"<Data><CM_PlasticityIndex_Base_TestResults>\",CO207,\"</CM_PlasticityIndex_Base_TestResults></Data>\"))","v":""},"","","","",null,null,null,null,null,null,null,"",null,{"$f":"IF(BY4=\"\",\"\",\"AgencyEntityInsData Id 10\")","v":""},{"$f":"IF(BY4=\"\",\"\",\"AgencyEntityInstance Id 2\")","v":""},{"$f":"IF(BY4=\"\",\"\",\"cm_base_grad_T1T5_11_tested_by\")","v":""},{"$f":"IF(BY4=\"\",\"\",IF('Test 1'!H13=\"\",\"\",'Test 1'!H13))","v":""},{"$f":"IF(BY4=\"\",\"\",TODAY())","v":""},{"$f":"IF(BY4=\"\",\"\",\"WTSYSTEMUSER\")","v":""},{"$f":"IF(BY4=\"\",\"\",TODAY())","v":""},{"$f":"IF(BY4=\"\",\"\",\"WTSYSTEMUSER\")","v":""}]
[null,"RevisingSample ID",null,null,null,null,null,null,"LastUpdated Dt",{"$f":"TODAY()","v":"2026-01-02"},null,null,null,null,null,null,{"$f":"IF(R13=\"\",\"\",\"CntrctPrjitmMatSet Id 11\")","v":""},{"$f":"IF('Contract and Quantities'!AS49=\"\",\"\",'Contract and Quantities'!AS49)","v":""},"",null,{"$f":"IF(R13=\"\",\"\",'Contract and Quantities'!AR49)","v":""},{"$f":"IF(R13=\"\",\"\",'Contract and Quantities'!AQ49)","v":""},"","","","","",null,null,null,"T90 Aggregate PI",null,null,{"$f":"IF('Test 2'!AJ37=\"Y\",\"SampleRecordTest Id 11\",\"\")","v":""},"",{"$f":"IF(AQ13=\"\",\"\",VLOOKUP(AQ13,'Send Sync'!$I$56:$J$145,2,FALSE))","v":""},"",{"$f":"IF(AH13=\"\",\"\",'Send Sync'!$R$56)","v":""},{"$f":"IF(AH13=\"\",\"\",'Send Sync'!$T$56)","v":""},null,null,null,{"$f":"IF(AH13=\"\",\"\",IF($C$43=\"QA\",\"AASHTO T90 Aggregate PI (QA)\",\"AASHTO T90 Aggregate PI (QC)\"))","v":""},null,"","",{"$f":"IF(AH13=\"\",\"\",COUNTIF(AJ10:AJ14,AJ13))","v":""},"",null,"","","","","","","","","","","","","","",null,"",null,{"$f":"IF(AH13=\"\",\"\",IF(LEFT(Main!F14,4)=\"1005\",IF('Test 2'!P39=\"YES\",VLOOKUP(\"Pass\",'Send Sync'!$Y$56:$Z$57,2,FALSE),IF('Test 2'!P39=\"NO\",VLOOKUP(\"Fail\",'Send Sync'!$Y$56:$Z$57,2,FALSE),\"\")),\"\"))","v":""},"","",null,null,null,null,null,null,null,{"$f":"IF(AH13=\"\",\"\",\"AgencyEntityInstance Id 11\")","v":""},{"$f":"IF(BY13=\"\",\"\",VLOOKUP(\"CM_PI_Field\",'Send Sync'!$K$56:$L$96,2,FALSE))","v":""},{"$f":"IF(BY13=\"\",\"\",\"SampleRecordTest Id 11\")","v":""},"",{"$f":"IF(BY13=\"\",\"\",CONCATENATE(\"<Data><CM_PlasticityIndex_Base_TestResults>\",CO208,\"</CM_PlasticityIndex_Base_TestResults></Data>\"))","v":""},"","","","",null,null,null,null,null,null,null,"",null,{"$f":"IF(BY4=\"\",\"\",\"AgencyEntityInsData Id 11\")","v":""},{"$f":"IF(BY4=\"\",\"\",\"AgencyEntityInstance Id 2\")","v":""},{"$f":"IF(BY4=\"\",\"\",\"cm_base_grad_T1T5_half_inch_label\")","v":""},{"$f":"IF(BY4=\"\",\"\",\"1/2\"\" (12.5 mm)\")","v":""},{"$f":"IF(BY4=\"\",\"\",TODAY())","v":""},{"$f":"IF(BY4=\"\",\"\",\"WTSYSTEMUSER\")","v":""},{"$f":"IF(BY4=\"\",\"\",TODAY())","v":""},{"$f":"IF(BY4=\"\",\"\",\"WTSYSTEMUSER\")","v":""}]
[null,"Sampler ID",{"$f":"'Send Sync'!D55","v":{"$error":"#N/A"}},null,null,null,null,null,"LastUpdated By","WTSYSTEMUSER",null,null,null,null,null,null,{"$f":"IF(R14=\"\",\"\",\"CntrctPrjitmMatSet Id 12\")","v":""},{"$f":"IF('Contract and Quantities'!AS50=\"\",\"\",'Contract and Quantities'!AS50)","v":""},"",null,{"$f":"IF(R14=\"\",\"\",'Contract and Quantities'!AR50)","v":""},{"$f":"IF(R14=\"\",\"\",'Contract and Quantities'!AQ50)","v":""},"","","","","",null,null,null,"T90 Aggregate PI",null,null,{"$f":"IF('Test 2'!AK37=\"Y\",\"SampleRecordTest Id 12\",\"\")","v":""},"",{"$f":"IF(AQ14=\"\",\"\",VLOOKUP(AQ14,'Send Sync'!$I$56:$J$145,2,FALSE))","v":""},"",{"$f":"IF(AH14=\"\",\"\",'Send Sync'!$R$56)","v":""},{"$f":"IF(AH14=\"\",\"\",'Send Sync'!$T$56)","v":""},null,null,null,{"$f":"IF(AH14=\"\",\"\",IF($C$43=\"QA\",\"AASHTO T90 Aggregate PI (QA)\",\"AASHTO T90 Aggregate PI (QC)\"))","v":""},null,"","",{"$f":"IF(AH14=\"\",\"\",COUNTIF(AJ10:AJ14,AJ14))","v":""},"",null,"","","","","","","","","","","","","","",null,"",null,{"$f":"IF(AH14=\"\",\"\",IF(LEFT(Main!F14,4)=\"1005\",IF('Test 2'!T39=\"YES\",VLOOKUP(\"Pass\",'Send Sync'!$Y$56:$Z$57,2,FALSE),IF('Test 2'!T39=\"NO\",VLOOKUP(\"Fail\",'Send Sync'!$Y$56:$Z$57,2,FALSE),\"\")),\"\"))","v":""},"","",null,null,null,null,null,null,null,{"$f":"IF(AH14=\"\",\"\",\"AgencyEntityInstance Id 12\")","v":""},{"$f":"IF(BY14=\"\",\"\",VLOOKUP(\"CM_PI_Field\",'Send Sync'!$K$56:$L$96,2,FALSE))","v":""},{"$f":"IF(BY14=\"\",\"\",\"SampleRecordTest Id 12\")","v":""},"",{"$f":"IF(BY14=\"\",\"\",CONCATENATE(\"<Data><CM_PlasticityIndex_Base_TestResults>\",CO209,\"</CM_PlasticityIndex_Base_TestResults></Data>\"))","v":""},"","","","",null,null,null,null,null,null,null,"",null,{"$f":"IF(BY4=\"\",\"\",\"AgencyEntityInsData Id 12\")","v":""},{"$f":"IF(BY4=\"\",\"\",\"AgencyEntityInstance Id 2\")","v":""},{"$f":"IF(BY4=\"\",\"\",\"cm_base_grad_T1T5_half_inch_max\")","v":""},{"$f":"IF(BY4=\"\",\"\",\"90\")","v":""},{"$f":"IF(BY4=\"\",\"\",TODAY())","v":""},{"$f":"IF(BY4=\"\",\"\",\"WTSYSTEMUSER\")","v":""},{"$f":"IF(BY4=\"\",\"\",TODAY())","v":""},{"$f":"IF(BY4=\"\",\"\",\"WTSYSTEMUSER\")","v":""}]
[null,"Smfmi ID",null,null,null,null,null,null,"ReceivedDate",{"$f":"TODAY()","v":"2026-01-02"},null,null,null,null,null,null,{"$f":"IF(R15=\"\",\"\",\"CntrctPrjitmMatSet Id 13\")","v":""},{"$f":"IF('Contract and Quantities'!AS51=\"\",\"\",'Contract and Quantities'!AS51)","v":""},"",null,{"$f":"IF(R15=\"\",\"\",'Contract and Quantities'!AR51)","v":""},{"$f":"IF(R15=\"\",\"\",'Contract and Quantities'!AQ51)","v":""},"","","","","",null,null,null,"Deleterious",null,null,{"$f":"IF(OR('Test 1'!AG38=\"Y\",'Test 2'!AG41=\"Y\",'Test 2'!AG42=\"Y\"),\"SampleRecordTest Id 13\",\"\")","v":""},"",{"$f":"IF(AQ15=\"\",\"\",VLOOKUP(AQ15,'Send Sync'!$I$56:$J$145,2,FALSE))","v":""},{"$f":"IF(AH15=\"\",\"\",1)","v":""},{"$f":"IF(AH15=\"\",\"\",'Send Sync'!$R$56)","v":""},{"$f":"IF(AH15=\"\",\"\",'Send Sync'!$T$56)","v":""},null,null,null,{"$f":"IF(AH15=\"\",\"\",IF($C$43=\"QA\",\"MoDOT TM71 Generic Deleterious Template (QA)\",\"MoDOT TM71 Generic Deleterious Template (QC)\"))","v":""},null,"","",{"$f":"IF(AH15=\"\",\"\",COUNTIF(AJ15:AJ19,AJ15))","v":""},"",null,"","","","","","","","","","","","","","",null,"",null,{"$f":"IF(AH15=\"\",\"\",IF(LEFT(Main!F14,4)=\"1007\",IF('Test 1'!D39=\"YES\",VLOOKUP(\"Pass\",'Send Sync'!$Y$56:$Z$57,2,FALSE),IF('Test 1'!D39=\"NO\",VLOOKUP(\"Fail\",'Send Sync'!$Y$56:$Z$57,2,FALSE),\"\")),IF(OR(LEFT(Main!F14,4)=\"1005\",LEFT(Main!F14,4)=\"1003\"),IF('Test 2'!D52=\"YES\",VLOOKUP(\"Pass\",'Send Sync'!$Y$56:$Z$57,2,FALSE),IF('Test 2'!D52=\"NO\",VLOOKUP(\"Fail\",'Send Sync'!$Y$56:$Z$57,2,FALSE),\"\")),\"\")))","v":""},"","",null,null,null,null,null,null,null,{"$f":"IF(AH15=\"\",\"\",\"AgencyEntityInstance Id 13\")","v":""},{"$f":"IF(BY15=\"\",\"\",VLOOKUP(\"CM_Del\",'Send Sync'!$K$56:$L$96,2,FALSE))","v":""},{"$f":"IF(BY15=\"\",\"\",\"SampleRecordTest Id 13\")","v":""},"",{"$f":"IF(BY15=\"\",\"\",CONCATENATE(\"<Data><del_ca_200>\",CO210,\"</del_ca_200><del_ca_chert>\",CO211,\"</del_ca_chert><del_ca_clay>\",CO212,\"</del_ca_clay><del_ca_mud>\",CO213,\"</del_ca_mud><del_ca_mud_sh>\",CO214,\"</del_ca_mud_sh><del_ca_ofm>\",CO215,\"</del_ca_ofm><del_ca_rock>\",CO216,\"</del_ca_rock><del_ca_rock_sh>\",CO217,\"</del_ca_rock_sh><del_ca_sh>\",CO218,\"</del_ca_sh><del_fa_clay_sh>\",CO219,\"</del_fa_clay_sh><del_fa_coal>\",CO220,\"</del_fa_coal><del_fa_lw>\",CO221,\"</del_fa_lw><del_fa_other>\",CO222,\"</del_fa_other><del_man_sand>\",CO223,\"</del_man_sand><del_material>\",CO224,\"</del_material><del_nat_sand>\",CO225,\"</del_nat_sand><del_tot_del>\",CO226,\"</del_tot_del></Data>\"))","v":""},"","","","",null,null,null,null,null,null,null,"",null,{"$f":"IF(BY4=\"\",\"\",\"AgencyEntityInsData Id 13\")","v":""},{"$f":"IF(BY4=\"\",\"\",\"AgencyEntityInstance Id 2\")","v":""},{"$f":"IF(BY4=\"\",\"\",\"cm_base_grad_T1T5_half_inch_min\")","v":""},{"$f":"IF(BY4=\"\",\"\",\"60\")","v":""},{"$f":"IF(BY4=\"\",\"\",TODAY())","v":""},{"$f":"IF(BY4=\"\",\"\",\"WTSYSTEMUSER\")","v":""},{"$f":"IF(BY4=\"\",\"\",TODAY())","v":""},{"$f":"IF(BY4=\"\",\"\",\"WTSYSTEMUSER\")","v":""}]
[null,"Source ID",{"$f":"Main!J42","v":{"$error":"#N/A"}},null,null,null,null,null,null,null,null,null,null,null,null,null,{"$f":"IF(R16=\"\",\"\",\"CntrctPrjitmMatSet Id 14\")","v":""},{"$f":"IF('Contract and Quantities'!AS52=\"\",\"\",'Contract and Quantities'!AS52)","v":""},"",null,{"$f":"IF(R16=\"\",\"\",'Contract and Quantities'!AR52)","v":""},{"$f":"IF(R16=\"\",\"\",'Contract and Quantities'!AQ52)","v":""},"","","","","",null,null,null,"Deleterious",null,null,{"$f":"IF(OR('Test 1'!AH38=\"Y\",'Test 2'!AH41=\"Y\",'Test 2'!AH42=\"Y\"),\"SampleRecordTest Id 14\",\"\")","v":""},"",{"$f":"IF(AQ16=\"\",\"\",VLOOKUP(AQ16,'Send Sync'!$I$56:$J$145,2,FALSE))","v":""},{"$f":"IF(AH16=\"\",\"\",2)","v":""},{"$f":"IF(AH16=\"\",\"\",'Send Sync'!$R$56)","v":""},{"$f":"IF(AH16=\"\",\"\",'Send Sync'!$T$56)","v":""},null,null,null,{"$f":"IF(AH16=\"\",\"\",IF($C$43=\"QA\",\"MoDOT TM71 Generic Deleterious Template (QA)\",\"MoDOT TM71 Generic Deleterious Template (QC)\"))","v":""},null,"","",{"$f":"IF(AH16=\"\",\"\",COUNTIF(AJ15:AJ19,AJ16))","v":""},"",null,"","","","","","","","","","","","","","",null,"",null,{"$f":"IF(AH16=\"\",\"\",IF(LEFT(Main!F14,4)=\"1007\",IF('Test 1'!H39=\"YES\",VLOOKUP(\"Pass\",'Send Sync'!$Y$56:$Z$57,2,FALSE),IF('Test 1'!H39=\"NO\",VLOOKUP(\"Fail\",'Send Sync'!$Y$56:$Z$57,2,FALSE),\"\")),IF(OR(LEFT(Main!F14,4)=\"1005\",LEFT(Main!F14,4)=\"1003\"),IF('Test 2'!H52=\"YES\",VLOOKUP(\"Pass\",'Send Sync'!$Y$56:$Z$57,2,FALSE),IF('Test 2'!H52=\"NO\",VLOOKUP(\"Fail\",'Send Sync'!$Y$56:$Z$57,2,FALSE),\"\")),\"\")))","v":""},"","",null,null,null,null,null,null,null,{"$f":"IF(AH16=\"\",\"\",\"AgencyEntityInstance Id 14\")","v":""},{"$f":"IF(BY16=\"\",\"\",VLOOKUP(\"CM_Del\",'Send Sync'!$K$56:$L$96,2,FALSE))","v":""},{"$f":"IF(BY16=\"\",\"\",\"SampleRecordTest Id 14\")","v":""},"",{"$f":"IF(BY16=\"\",\"\",CONCATENATE(\"<Data><del_ca_200>\",CO227,\"</del_ca_200><del_ca_chert>\",CO228,\"</del_ca_chert><del_ca_clay>\",CO229,\"</del_ca_clay><del_ca_mud>\",CO230,\"</del_ca_mud><del_ca_mud_sh>\",CO231,\"</del_ca_mud_sh><del_ca_ofm>\",CO232,\"</del_ca_ofm><del_ca_rock>\",CO233,\"</del_ca_rock><del_ca_rock_sh>\",CO234,\"</del_ca_rock_sh><del_ca_sh>\",CO235,\"</del_ca_sh><del_fa_clay_sh>\",CO236,\"</del_fa_clay_sh><del_fa_coal>\",CO237,\"</del_fa_coal><del_fa_lw>\",CO238,\"</del_fa_lw><del_fa_other>\",CO239,\"</del_fa_other><del_man_sand>\",CO240,\"</del_man_sand><del_material>\",CO241,\"</del_material><del_nat_sand>\",CO242,\"</del_nat_sand><del_tot_del>\",CO243,\"</del_tot_del></Data>\"))","v":""},"","","","",null,null,null,null,null,null,null,"",null,{"$f":"IF(BY4=\"\",\"\",\"AgencyEntityInsData Id 14\")","v":""},{"$f":"IF(BY4=\"\",\"\",\"AgencyEntityInstance Id 2\")","v":""},{"$f":"IF(BY4=\"\",\"\",\"cm_base_grad_T1T5_inch_label\")","v":""},{"$f":"IF(BY4=\"\",\"\",\"1\"\" (25.0 mm)\")","v":""},{"$f":"IF(BY4=\"\",\"\",TODAY())","v":""},{"$f":"IF(BY4=\"\",\"\",\"WTSYSTEMUSER\")","v":""},{"$f":"IF(BY4=\"\",\"\",TODAY())","v":""},{"$f":"IF(BY4=\"\",\"\",\"WTSYSTEMUSER\")","v":""}]
[null,"WitnessedBy ID",null,null,null,null,null,null,null,null,null,null,null,null,null,null,{"$f":"IF(R17=\"\",\"\",\"CntrctPrjitmMatSet Id 14\")","v":""},{"$f":"IF('Contract and Quantities'!AS53=\"\",\"\",'Contract and Quantities'!AS53)","v":""},{"$f":"IF(R17=\"\",\"\",\"Sample Id\")","v":""},null,{"$f":"IF(R17=\"\",\"\",'Contract and Quantities'!AR53)","v":""},{"$f":"IF(R17=\"\",\"\",'Contract and Quantities'!AQ53)","v":""},{"$f":"IF(R17=\"\",\"\",0)","v":""},{"$f":"IF(R17=\"\",\"\",TODAY())","v":""},{"$f":"IF(R17=\"\",\"\",\"WTSYSTEMUSER\")","v":""},{"$f":"IF(R17=\"\",\"\",TODAY())","v":""},{"$f":"IF(R17=\"\",\"\",\"WTSYSTEMUSER\")","v":""},null,null,null,"Deleterious",null,null,{"$f":"IF(OR('Test 1'!AI38=\"Y\",'Test 2'!AI41=\"Y\",'Test 2'!AI42=\"Y\"),\"SampleRecordTest Id 15\",\"\")","v":""},"",{"$f":"IF(AQ17=\"\",\"\",VLOOKUP(AQ17,'Send Sync'!$I$56:$J$145,2,FALSE))","v":""},{"$f":"IF(AH17=\"\",\"\",3)","v":""},{"$f":"IF(AH17=\"\",\"\",'Send Sync'!$R$56)","v":""},{"$f":"IF(AH17=\"\",\"\",'Send Sync'!$T$56)","v":""},null,null,null,{"$f":"IF(AH17=\"\",\"\",IF($C$43=\"QA\",\"MoDOT TM71 Generic Deleterious Template (QA)\",\"MoDOT TM71 Generic Deleterious Template (QC)\"))","v":""},null,"","",{"$f":"IF(AH17=\"\",\"\",COUNTIF(AJ15:AJ19,AJ17))","v":""},"",null,"","","","","","","","","","","","","","",null,"",null,{"$f":"IF(AH17=\"\",\"\",IF(LEFT(Main!F14,4)=\"1007\",IF('Test 1'!L39=\"YES\",VLOOKUP(\"Pass\",'Send Sync'!$Y$56:$Z$57,2,FALSE),IF('Test 1'!L39=\"NO\",VLOOKUP(\"Fail\",'Send Sync'!$Y$56:$Z$57,2,FALSE),\"\")),IF(OR(LEFT(Main!F14,4)=\"1005\",LEFT(Main!F14,4)=\"1003\"),IF('Test 2'!L52=\"YES\",VLOOKUP(\"Pass\",'Send Sync'!$Y$56:$Z$57,2,FALSE),IF('Test 2'!L52=\"NO\",VLOOKUP(\"Fail\",'Send Sync'!$Y$56:$Z$57,2,FALSE),\"\")),\"\")))","v":""},"","",null,null,null,null,null,null,null,{"$f":"IF(AH17=\"\",\"\",\"AgencyEntityInstance Id 15\")","v":""},{"$f":"IF(BY17=\"\",\"\",VLOOKUP(\"CM_Del\",'Send Sync'!$K$56:$L$96,2,FALSE))","v":""},{"$f":"IF(BY17=\"\",\"\",\"SampleRecordTest Id 15\")","v":""},"",{"$f":"IF(BY17=\"\",\"\",CONCATENATE(\"<Data><del_ca_200>\",CO244,\"</del_ca_200><del_ca_chert>\",CO245,\"</del_ca_chert><del_ca_clay>\",CO246,\"</del_ca_clay><del_ca_mud>\",CO247,\"</del_ca_mud><del_ca_mud_sh>\",CO248,\"</del_ca_mud_sh><del_ca_ofm>\",CO249,\"</del_ca_ofm><del_ca_rock>\",CO250,\"</del_ca_rock><del_ca_rock_sh>\",CO251,\"</del_ca_rock_sh><del_ca_sh>\",CO252,\"</del_ca_sh><del_fa_clay_sh>\",CO253,\"</del_fa_clay_sh><del_fa_coal>\",CO254,\"</del_fa_coal><del_fa_lw>\",CO255,\"</del_fa_lw><del_fa_other>\",CO256,\"</del_fa_other><del_man_sand>\",CO257,\"</del_man_sand><del_material>\",CO258,\"</del_material><del_nat_sand>\",CO259,\"</del_nat_sand><del_tot_del>\",CO260,\"</del_tot_del></Data>\"))","v":""},"","","","",null,null,null,null,null,null,null,"",null,{"$f":"IF(BY4=\"\",\"\",\"AgencyEntityInsData Id 15\")","v":""},{"$f":"IF(BY4=\"\",\"\",\"AgencyEntityInstance Id 2\")","v":""},{"$f":"IF(BY4=\"\",\"\",\"cm_base_grad_T1T5_inch_max\")","v":""},{"$f":"IF(BY4=\"\",\"\",\"100\")","v":""},{"$f":"IF(BY4=\"\",\"\",TODAY())","v":""},{"$f":"IF(BY4=\"\",\"\",\"WTSYSTEMUSER\")","v":""},{"$f":"IF(BY4=\"\",\"\",TODAY())","v":""},{"$f":"IF(BY4=\"\",\"\",\"WTSYSTEMUSER\")","v":""}]
[null,"AcceptanceMethod",{"$f":"Main!R40","v":"SATE"},null,null,null,null,null,null,null,null,null,null,null,null,null,"",{"$f":"IF('Contract and Quantities'!AS54=\"\",\"\",'Contract and Quantities'!AS54)","v":""},"",null,{"$f":"IF(R18=\"\",\"\",'Contract and Quantities'!AR54)","v":""},{"$f":"IF(R18=\"\",\"\",'Contract and Quantities'!AQ54)","v":""},"","","","","",null,null,null,"Deleterious",null,null,{"$f":"IF(OR('Test 2'!AJ41=\"Y\",'Test 2'!AJ42=\"Y\"),\"SampleRecordTest Id 16\",\"\")","v":""},"",{"$f":"IF(AQ18=\"\",\"\",VLOOKUP(AQ18,'Send Sync'!$I$56:$J$145,2,FALSE))","v":""},{"$f":"IF(AH18=\"\",\"\",4)","v":""},{"$f":"IF(AH18=\"\",\"\",'Send Sync'!$R$56)","v":""},{"$f":"IF(AH18=\"\",\"\",'Send Sync'!$T$56)","v":""},null,null,null,{"$f":"IF(AH18=\"\",\"\",IF($C$43=\"QA\",\"MoDOT TM71 Generic Deleterious Template (QA)\",\"MoDOT TM71 Generic Deleterious Template (QC)\"))","v":""},null,"","",{"$f":"IF(AH18=\"\",\"\",COUNTIF(AJ15:AJ19,AJ18))","v":""},"",null,"","","","","","","","","","","","","","",null,"",null,{"$f":"IF(AH18=\"\",\"\",IF(OR(LEFT(Main!F14,4)=\"1005\",LEFT(Main!F14,4)=\"1003\"),IF('Test 2'!P52=\"YES\",VLOOKUP(\"Pass\",'Send Sync'!$Y$56:$Z$57,2,FALSE),IF('Test 2'!P52=\"NO\",VLOOKUP(\"Fail\",'Send Sync'!$Y$56:$Z$57,2,FALSE),\"\")),\"\"))","v":""},"","",null,null,null,null,null,null,null,{"$f":"IF(AH18=\"\",\"\",\"AgencyEntityInstance Id 16\")","v":""},{"$f":"IF(BY18=\"\",\"\",VLOOKUP(\"CM_Del\",'Send Sync'!$K$56:$L$96,2,FALSE))","v":""},{"$f":"IF(BY18=\"\",\"\",\"SampleRecordTest Id 16\")","v":""},"",{"$f":"IF(BY18=\"\",\"\",CONCATENATE(\"<Data><del_ca_200>\",CO261,\"</del_ca_200><del_ca_chert>\",CO262,\"</del_ca_chert><del_ca_clay>\",CO263,\"</del_ca_clay><del_ca_mud>\",CO264,\"</del_ca_mud><del_ca_mud_sh>\",CO265,\"</del_ca_mud_sh><del_ca_ofm>\",CO266,\"</del_ca_ofm><del_ca_rock>\",CO267,\"</del_ca_rock><del_ca_rock_sh>\",CO268,\"</del_ca_rock_sh><del_ca_sh>\",CO269,\"</del_ca_sh><del_fa_clay_sh>\",CO270,\"</del_fa_clay_sh><del_fa_coal>\",CO271,\"</del_fa_coal><del_fa_lw>\",CO272,\"</del_fa_lw><del_fa_other>\",CO273,\"</del_fa_other><del_man_sand>\",CO274,\"</del_man_sand><del_material>\",CO275,\"</del_material><del_nat_sand>\",CO276,\"</del_nat_sand><del_tot_del>\",CO277,\"</del_tot_del></Data>\"))","v":""},"","","","",null,null,null,null,null,null,null,"",null,{"$f":"IF(BY4=\"\",\"\",\"AgencyEntityInsData Id 16\")","v":""},{"$f":"IF(BY4=\"\",\"\",\"AgencyEntityInstance Id 2\")","v":""},{"$f":"IF(BY4=\"\",\"\",\"cm_base_grad_T1T5_inch_min\")","v":""},{"$f":"IF(BY4=\"\",\"\",\"100\")","v":""},{"$f":"IF(BY4=\"\",\"\",TODAY())","v":""},{"$f":"IF(BY4=\"\",\"\",\"WTSYSTEMUSER\")","v":""},{"$f":"IF(BY4=\"\",\"\",TODAY())","v":""},{"$f":"IF(BY4=\"\",\"\",\"WTSYSTEMUSER\")","v":""}]
[null,"Authorized Dt",{"$f":"TODAY()","v":"2026-01-02"},null,null,null,null,null,null,null,null,null,null,null,null,null,"",{"$f":"IF('Contract and Quantities'!AS55=\"\",\"\",'Contract and Quantities'!AS55)","v":""},"",null,{"$f":"IF(R19=\"\",\"\",'Contract and Quantities'!AR55)","v":""},{"$f":"IF(R19=\"\",\"\",'Contract and Quantities'!AQ55)","v":""},"","","","","",null,null,null,"Deleterious",null,null,{"$f":"IF(OR('Test 2'!AK41=\"Y\",'Test 2'!AK42=\"Y\"),\"SampleRecordTest Id 17\",\"\")","v":""},"",{"$f":"IF(AQ19=\"\",\"\",VLOOKUP(AQ19,'Send Sync'!$I$56:$J$145,2,FALSE))","v":""},{"$f":"IF(AH19=\"\",\"\",5)","v":""},{"$f":"IF(AH19=\"\",\"\",'Send Sync'!$R$56)","v":""},{"$f":"IF(AH19=\"\",\"\",'Send Sync'!$T$56)","v":""},null,null,null,{"$f":"IF(AH19=\"\",\"\",IF($C$43=\"QA\",\"MoDOT TM71 Generic Deleterious Template (QA)\",\"MoDOT TM71 Generic Deleterious Template (QC)\"))","v":""},null,"","",{"$f":"IF(AH19=\"\",\"\",COUNTIF(AJ15:AJ19,AJ19))","v":""},"",null,"","","","","","","","","","","","","","",null,"",null,{"$f":"IF(AH19=\"\",\"\",IF(OR(LEFT(Main!F14,4)=\"1005\",LEFT(Main!F14,4)=\"1003\"),IF('Test 2'!T52=\"YES\",VLOOKUP(\"Pass\",'Send Sync'!$Y$56:$Z$57,2,FALSE),IF('Test 2'!T52=\"NO\",VLOOKUP(\"Fail\",'Send Sync'!$Y$56:$Z$57,2,FALSE),\"\")),\"\"))","v":""},"","",null,null,null,null,null,null,null,{"$f":"IF(AH19=\"\",\"\",\"AgencyEntityInstance Id 17\")","v":""},{"$f":"IF(BY19=\"\",\"\",VLOOKUP(\"CM_Del\",'Send Sync'!$K$56:$L$96,2,FALSE))","v":""},{"$f":"IF(BY19=\"\",\"\",\"SampleRecordTest Id 17\")","v":""},"",{"$f":"IF(BY19=\"\",\"\",CONCATENATE(\"<Data><del_ca_200>\",CO278,\"</del_ca_200><del_ca_chert>\",CO279,\"</del_ca_chert><del_ca_clay>\",CO280,\"</del_ca_clay><del_ca_mud>\",CO281,\"</del_ca_mud><del_ca_mud_sh>\",CO282,\"</del_ca_mud_sh><del_ca_ofm>\",CO283,\"</del_ca_ofm><del_ca_rock>\",CO284,\"</del_ca_rock><del_ca_rock_sh>\",CO285,\"</del_ca_rock_sh><del_ca_sh>\",CO286,\"</del_ca_sh><del_fa_clay_sh>\",CO287,\"</del_fa_clay_sh><del_fa_coal>\",CO288,\"</del_fa_coal><del_fa_lw>\",CO289,\"</del_fa_lw><del_fa_other>\",CO290,\"</del_fa_other><del_man_sand>\",CO291,\"</del_man_sand><del_material>\",CO292,\"</del_material><del_nat_sand>\",CO293,\"</del_nat_sand><del_tot_del>\",CO294,\"</del_tot_del></Data>\"))","v":""},"","","","",null,null,null,null,null,null,null,"",null,{"$f":"IF(BY4=\"\",\"\",\"AgencyEntityInsData Id 17\")","v":""},{"$f":"IF(BY4=\"\",\"\",\"AgencyEntityInstance Id 2\")","v":""},{"$f":"IF(BY4=\"\",\"\",\"cm_base_grad_T1T5_label_01_inch\")","v":""},{"$f":"IF(BY4=\"\",\"\",\"1\"\" (25.0 mm)\")","v":""},{"$f":"IF(BY4=\"\",\"\",TODAY())","v":""},{"$f":"IF(BY4=\"\",\"\",\"WTSYSTEMUSER\")","v":""},{"$f":"IF(BY4=\"\",\"\",TODAY())","v":""},{"$f":"IF(BY4=\"\",\"\",\"WTSYSTEMUSER\")","v":""}]
[null,"BuyUsaRequirements",null,null,null,null,null,null,null,null,null,null,null,null,null,null,"",{"$f":"IF('Contract and Quantities'!AS56=\"\",\"\",'Contract and Quantities'!AS56)","v":""},"",null,{"$f":"IF(R20=\"\",\"\",'Contract and Quantities'!AR56)","v":""},{"$f":"IF(R20=\"\",\"\",'Contract and Quantities'!AQ56)","v":""},"","","","","",null,null,null,"T27",null,null,{"$f":"IF(OR('Test 2'!AG13=\"Y\",'Test 2'!AG14=\"Y\"),\"SampleRecordTest Id 18\",\"\")","v":""},"",{"$f":"IF(AQ20=\"\",\"\",VLOOKUP(AQ20,'Send Sync'!$I$56:$J$145,2,FALSE))","v":""},{"$f":"IF(AH20=\"\",\"\",1)","v":""},{"$f":"IF(AH20=\"\",\"\",'Send Sync'!$R$56)","v":""},{"$f":"IF(AH20=\"\",\"\",'Send Sync'!$T$56)","v":""},null,null,null,{"$f":"IF(AH20=\"\",\"\",IF($C$43=\"QA\",\"AASHTO T27 Sieve Analysis (QA)\",\"AASHTO T27 Sieve Analysis (QC)\"))","v":""},null,"","",{"$f":"IF(AH20=\"\",\"\",COUNTIF(AJ20:AJ24,AJ20))","v":""},"",null,"","","","","","","","","","","","","","",null,{"$f":"IF(AH20=\"\",\"\",0)","v":""},null,{"$f":"IF(AH20=\"\",\"\",IF(OR(LEFT(Main!F14,4)=\"1005\",LEFT(Main!F14,4)=\"1003\"),IF('Test 2'!D32=\"YES\",VLOOKUP(\"Pass\",'Send Sync'!$Y$56:$Z$57,2,FALSE),IF('Test 2'!D32=\"NO\",VLOOKUP(\"Fail\",'Send Sync'!$Y$56:$Z$57,2,FALSE),\"\")),\"\"))","v":""},"","",null,null,null,null,null,null,null,{"$f":"IF(AH20=\"\",\"\",\"AgencyEntityInstance Id 18\")","v":""},{"$f":"IF(BY20=\"\",\"\",VLOOKUP(\"CM_T27_Detail\",'Send Sync'!$K$56:$L$96,2,FALSE))","v":""},{"$f":"IF(BY20=\"\",\"\",\"SampleRecordTest Id 18\")","v":""},"",{"$f":"IF(BY20=\"\",\"\",CONCATENATE(\"<Data><cm_t27_detail_inspec>\",CO295,\"</cm_t27_detail_inspec></Data>\"))","v":""},"","","","",null,null,null,null,null,null,null,"",null,{"$f":"IF(BY4=\"\",\"\",\"AgencyEntityInsData Id 18\")","v":""},{"$f":"IF(BY4=\"\",\"\",\"AgencyEntityInstance Id 2\")","v":""},{"$f":"IF(BY4=\"\",\"\",\"cm_base_grad_T1T5_label_02_half_inch\")","v":""},{"$f":"IF(BY4=\"\",\"\",\"1/2\"\" (12.5 mm)\")","v":""},{"$f":"IF(BY4=\"\",\"\",TODAY())","v":""},{"$f":"IF(BY4=\"\",\"\",\"WTSYSTEMUSER\")","v":""},{"$f":"IF(BY4=\"\",\"\",TODAY())","v":""},{"$f":"IF(BY4=\"\",\"\",\"WTSYSTEMUSER\")","v":""}]
[null,"ControlNumber",null,null,null,null,null,null,null,null,null,null,null,null,null,null,"",{"$f":"IF('Contract and Quantities'!AS57=\"\",\"\",'Contract and Quantities'!AS57)","v":""},"",null,{"$f":"IF(R21=\"\",\"\",'Contract and Quantities'!AR57)","v":""},{"$f":"IF(R21=\"\",\"\",'Contract and Quantities'!AQ57)","v":""},"","","","","",null,null,null,"T27",null,null,{"$f":"IF(OR('Test 2'!AH13=\"Y\",'Test 2'!AH14=\"Y\"),\"SampleRecordTest Id 19\",\"\")","v":""},"",{"$f":"IF(AQ21=\"\",\"\",VLOOKUP(AQ21,'Send Sync'!$I$56:$J$145,2,FALSE))","v":""},{"$f":"IF(AH21=\"\",\"\",2)","v":""},{"$f":"IF(AH21=\"\",\"\",'Send Sync'!$R$56)","v":""},{"$f":"IF(AH21=\"\",\"\",'Send Sync'!$T$56)","v":""},null,null,null,{"$f":"IF(AH21=\"\",\"\",IF($C$43=\"QA\",\"AASHTO T27 Sieve Analysis (QA)\",\"AASHTO T27 Sieve Analysis (QC)\"))","v":""},null,"","",{"$f":"IF(AH21=\"\",\"\",COUNTIF(AJ20:AJ24,AJ21))","v":""},"",null,"","","","","","","","","","","","","","",null,"",null,{"$f":"IF(AH21=\"\",\"\",IF(OR(LEFT(Main!F14,4)=\"1005\",LEFT(Main!F14,4)=\"1003\"),IF('Test 2'!H32=\"YES\",VLOOKUP(\"Pass\",'Send Sync'!$Y$56:$Z$57,2,FALSE),IF('Test 2'!H32=\"NO\",VLOOKUP(\"Fail\",'Send Sync'!$Y$56:$Z$57,2,FALSE),\"\")),\"\"))","v":""},"","",null,null,null,null,null,null,null,{"$f":"IF(AH20=\"\",\"\",\"AgencyEntityInstance Id 19\")","v":""},{"$f":"IF(BY20=\"\",\"\",VLOOKUP(\"CM_T27_List\",'Send Sync'!$K$56:$L$96,2,FALSE))","v":""},null,{"$f":"IF(BY20=\"\",\"\",\"AgencyEntityInstance Id 18\")","v":""},{"$f":"IF(BY20=\"\",\"\",CONCATENATE(\"<Data><cm_t27_list_inspecrow>\",CO296,\"</cm_t27_list_inspecrow><cm_t27_list_max>\",CO297,\"</cm_t27_list_max><cm_t27_list_min>\",CO298,\"</cm_t27_list_min><cm_t27_list_order>\",CO299,\"</cm_t27_list_order><cm_t27_list_pct_passing>\",CO300,\"</cm_t27_list_pct_passing><cm_t27_list_sieve>\",CO301,\"</cm_t27_list_sieve></Data>\"))","v":""},{"$f":"IF(BY20=\"\",\"\",TODAY())","v":""},{"$f":"IF(BY20=\"\",\"\",\"WTSYSTEMUSER\")","v":""},{"$f":"IF(BY20=\"\",\"\",TODAY())","v":""},{"$f":"IF(BY20=\"\",\"\",\"WTSYSTEMUSER\")","v":""},null,null,null,null,null,null,null,"",null,{"$f":"IF(BY4=\"\",\"\",\"AgencyEntityInsData Id 19\")","v":""},{"$f":"IF(BY4=\"\",\"\",\"AgencyEntityInstance Id 2\")","v":""},{"$f":"IF(BY4=\"\",\"\",\"cm_base_grad_T1T5_label_03_no_4\")","v":""},{"$f":"IF(BY4=\"\",\"\",\"No. 4 (4.75 mm)\")","v":""},{"$f":"IF(BY4=\"\",\"\",TODAY())","v":""},{"$f":"IF(BY4=\"\",\"\",\"WTSYSTEMUSER\")","v":""},{"$f":"IF(BY4=\"\",\"\",TODAY())","v":""},{"$f":"IF(BY4=\"\",\"\",\"WTSYSTEMUSER\")","v":""}]
[null,"ControlType",null,null,null,null,null,null,null,null,null,null,null,null,null,null,"",{"$f":"IF('Contract and Quantities'!AS58=\"\",\"\",'Contract and Quantities'!AS58)","v":""},"",null,{"$f":"IF(R22=\"\",\"\",'Contract and Quantities'!AR58)","v":""},{"$f":"IF(R22=\"\",\"\",'Contract and Quantities'!AQ58)","v":""},"","","","","",null,null,null,"T27",null,null,{"$f":"IF(OR('Test 2'!AI13=\"Y\",'Test 2'!AI14=\"Y\"),\"SampleRecordTest Id 20\",\"\")","v":""},"",{"$f":"IF(AQ22=\"\",\"\",VLOOKUP(AQ22,'Send Sync'!$I$56:$J$145,2,FALSE))","v":""},{"$f":"IF(AH22=\"\",\"\",3)","v":""},{"$f":"IF(AH22=\"\",\"\",'Send Sync'!$R$56)","v":""},{"$f":"IF(AH22=\"\",\"\",'Send Sync'!$T$56)","v":""},null,null,null,{"$f":"IF(AH22=\"\",\"\",IF($C$43=\"QA\",\"AASHTO T27 Sieve Analysis (QA)\",\"AASHTO T27 Sieve Analysis (QC)\"))","v":""},null,"","",{"$f":"IF(AH22=\"\",\"\",COUNTIF(AJ20:AJ24,AJ22))","v":""},"",null,"","","","","","","","","","","","","","",null,"",null,{"$f":"IF(AH22=\"\",\"\",IF(OR(LEFT(Main!F14,4)=\"1005\",LEFT(Main!F14,4)=\"1003\"),IF('Test 2'!L32=\"YES\",VLOOKUP(\"Pass\",'Send Sync'!$Y$56:$Z$57,2,FALSE),IF('Test 2'!L32=\"NO\",VLOOKUP(\"Fail\",'Send Sync'!$Y$56:$Z$57,2,FALSE),\"\")),\"\"))","v":""},"","",null,null,null,null,null,null,null,{"$f":"IF(AH20=\"\",\"\",\"AgencyEntityInstance Id 20\")","v":""},{"$f":"IF(BY20=\"\",\"\",VLOOKUP(\"CM_T27_List\",'Send Sync'!$K$56:$L$96,2,FALSE))","v":""},null,{"$f":"IF(BY20=\"\",\"\",\"AgencyEntityInstance Id 18\")","v":""},{"$f":"IF(BY20=\"\",\"\",CONCATENATE(\"<Data><cm_t27_list_inspecrow>\",CO302,\"</cm_t27_list_inspecrow><cm_t27_list_max>\",CO303,\"</cm_t27_list_max><cm_t27_list_min>\",CO304,\"</cm_t27_list_min><cm_t27_list_order>\",CO305,\"</cm_t27_list_order><cm_t27_list_pct_passing>\",CO306,\"</cm_t27_list_pct_passing><cm_t27_list_sieve>\",CO307,\"</cm_t27_list_sieve></Data>\"))","v":""},{"$f":"IF(BY20=\"\",\"\",TODAY())","v":""},{"$f":"IF(BY20=\"\",\"\",\"WTSYSTEMUSER\")","v":""},{"$f":"IF(BY20=\"\",\"\",TODAY())","v":""},{"$f":"IF(BY20=\"\",\"\",\"WTSYSTEMUSER\")","v":""},null,null,null,null,null,null,null,"",null,{"$f":"IF(BY4=\"\",\"\",\"AgencyEntityInsData Id 20\")","v":""},{"$f":"IF(BY4=\"\",\"\",\"AgencyEntityInstance Id 2\")","v":""},{"$f":"IF(BY4=\"\",\"\",\"cm_base_grad_T1T5_label_04_no_30\")","v":""},{"$f":"IF(BY4=\"\",\"\",\"No. 30 (600 microns)\")","v":""},{"$f":"IF(BY4=\"\",\"\",TODAY())","v":""},{"$f":"IF(BY4=\"\",\"\",\"WTSYSTEMUSER\")","v":""},{"$f":"IF(BY4=\"\",\"\",TODAY())","v":""},{"$f":"IF(BY4=\"\",\"\",\"WTSYSTEMUSER\")","v":""}]
[null,"Distance",null,null,null,null,null,null,null,null,null,null,null,null,null,null,"",{"$f":"IF('Contract and Quantities'!AS59=\"\",\"\",'Contract and Quantities'!AS59)","v":""},"",null,{"$f":"IF(R23=\"\",\"\",'Contract and Quantities'!AR59)","v":""},{"$f":"IF(R23=\"\",\"\",'Contract and Quantities'!AQ59)","v":""},"","","","","",null,null,null,"T27",null,null,{"$f":"IF(OR('Test 2'!AJ13=\"Y\",'Test 2'!AJ14=\"Y\"),\"SampleRecordTest Id 21\",\"\")","v":""},"",{"$f":"IF(AQ23=\"\",\"\",VLOOKUP(AQ23,'Send Sync'!$I$56:$J$145,2,FALSE))","v":""},{"$f":"IF(AH23=\"\",\"\",4)","v":""},{"$f":"IF(AH23=\"\",\"\",'Send Sync'!$R$56)","v":""},{"$f":"IF(AH23=\"\",\"\",'Send Sync'!$T$56)","v":""},null,null,null,{"$f":"IF(AH23=\"\",\"\",IF($C$43=\"QA\",\"AASHTO T27 Sieve Analysis (QA)\",\"AASHTO T27 Sieve Analysis (QC)\"))","v":""},null,"","",{"$f":"IF(AH23=\"\",\"\",COUNTIF(AJ20:AJ24,AJ23))","v":""},"",null,"","","","","","","","","","","","","","",null,"",null,{"$f":"IF(AH23=\"\",\"\",IF(OR(LEFT(Main!F14,4)=\"1005\",LEFT(Main!F14,4)=\"1003\"),IF('Test 2'!P32=\"YES\",VLOOKUP(\"Pass\",'Send Sync'!$Y$56:$Z$57,2,FALSE),IF('Test 2'!P32=\"NO\",VLOOKUP(\"Fail\",'Send Sync'!$Y$56:$Z$57,2,FALSE),\"\")),\"\"))","v":""},"","",null,null,null,null,null,null,null,{"$f":"IF(AH20=\"\",\"\",\"AgencyEntityInstance Id 21\")","v":""},{"$f":"IF(BY20=\"\",\"\",VLOOKUP(\"CM_T27_List\",'Send Sync'!$K$56:$L$96,2,FALSE))","v":""},null,{"$f":"IF(BY20=\"\",\"\",\"AgencyEntityInstance Id 18\")","v":""},{"$f":"IF(BY20=\"\",\"\",CONCATENATE(\"<Data><cm_t27_list_inspecrow>\",CO308,\"</cm_t27_list_inspecrow><cm_t27_list_max>\",CO309,\"</cm_t27_list_max><cm_t27_list_min>\",CO310,\"</cm_t27_list_min><cm_t27_list_order>\",CO311,\"</cm_t27_list_order><cm_t27_list_pct_passing>\",CO312,\"</cm_t27_list_pct_passing><cm_t27_list_sieve>\",CO313,\"</cm_t27_list_sieve></Data>\"))","v":""},{"$f":"IF(BY20=\"\",\"\",TODAY())","v":""},{"$f":"IF(BY20=\"\",\"\",\"WTSYSTEMUSER\")","v":""},{"$f":"IF(BY20=\"\",\"\",TODAY())","v":""},{"$f":"IF(BY20=\"\",\"\",\"WTSYSTEMUSER\")","v":""},null,null,null,null,null,null,null,"",null,{"$f":"IF(BY4=\"\",\"\",\"AgencyEntityInsData Id 21\")","v":""},{"$f":"IF(BY4=\"\",\"\",\"AgencyEntityInstance Id 2\")","v":""},{"$f":"IF(BY4=\"\",\"\",\"cm_base_grad_T1T5_label_05_no_200\")","v":""},{"$f":"IF(BY4=\"\",\"\",\"No. 200 (75 microns)\")","v":""},{"$f":"IF(BY4=\"\",\"\",TODAY())","v":""},{"$f":"IF(BY4=\"\",\"\",\"WTSYSTEMUSER\")","v":""},{"$f":"IF(BY4=\"\",\"\",TODAY())","v":""},{"$f":"IF(BY4=\"\",\"\",\"WTSYSTEMUSER\")","v":""}]
[null,"DistanceFromGrade",null,null,null,null,null,null,null,null,null,null,null,null,null,null,"",{"$f":"IF('Contract and Quantities'!AS60=\"\",\"\",'Contract and Quantities'!AS60)","v":""},"",null,{"$f":"IF(R24=\"\",\"\",'Contract and Quantities'!AR60)","v":""},{"$f":"IF(R24=\"\",\"\",'Contract and Quantities'!AQ60)","v":""},"","","","","",null,null,null,"T27",null,null,{"$f":"IF(OR('Test 2'!AK13=\"Y\",'Test 2'!AK14=\"Y\"),\"SampleRecordTest Id 22\",\"\")","v":""},"",{"$f":"IF(AQ24=\"\",\"\",VLOOKUP(AQ24,'Send Sync'!$I$56:$J$145,2,FALSE))","v":""},{"$f":"IF(AH24=\"\",\"\",5)","v":""},{"$f":"IF(AH24=\"\",\"\",'Send Sync'!$R$56)","v":""},{"$f":"IF(AH24=\"\",\"\",'Send Sync'!$T$56)","v":""},null,null,null,{"$f":"IF(AH24=\"\",\"\",IF($C$43=\"QA\",\"AASHTO T27 Sieve Analysis (QA)\",\"AASHTO T27 Sieve Analysis (QC)\"))","v":""},null,"","",{"$f":"IF(AH24=\"\",\"\",COUNTIF(AJ20:AJ24,AJ24))","v":""},"",null,"","","","","","","","","","","","","","",null,"",null,{"$f":"IF(AH24=\"\",\"\",IF(OR(LEFT(Main!F14,4)=\"1005\",LEFT(Main!F14,4)=\"1003\"),IF('Test 2'!T32=\"YES\",VLOOKUP(\"Pass\",'Send Sync'!$Y$56:$Z$57,2,FALSE),IF('Test 2'!T32=\"NO\",VLOOKUP(\"Fail\",'Send Sync'!$Y$56:$Z$57,2,FALSE),\"\")),\"\"))","v":""},"","",null,null,null,null,null,null,null,{"$f":"IF(AH20=\"\",\"\",\"AgencyEntityInstance Id 22\")","v":""},{"$f":"IF(BY20=\"\",\"\",VLOOKUP(\"CM_T27_List\",'Send Sync'!$K$56:$L$96,2,FALSE))","v":""},null,{"$f":"IF(BY20=\"\",\"\",\"AgencyEntityInstance Id 18\")","v":""},{"$f":"IF(BY20=\"\",\"\",CONCATENATE(\"<Data><cm_t27_list_inspecrow>\",CO314,\"</cm_t27_list_inspecrow><cm_t27_list_max>\",CO315,\"</cm_t27_list_max><cm_t27_list_min>\",CO316,\"</cm_t27_list_min><cm_t27_list_order>\",CO317,\"</cm_t27_list_order><cm_t27_list_pct_passing>\",CO318,\"</cm_t27_list_pct_passing><cm_t27_list_sieve>\",CO319,\"</cm_t27_list_sieve></Data>\"))","v":""},{"$f":"IF(BY20=\"\",\"\",TODAY())","v":""},{"$f":"IF(BY20=\"\",\"\",\"WTSYSTEMUSER\")","v":""},{"$f":"IF(BY20=\"\",\"\",TODAY())","v":""},{"$f":"IF(BY20=\"\",\"\",\"WTSYSTEMUSER\")","v":""},null,null,null,null,null,null,null,"",null,{"$f":"IF(BY4=\"\",\"\",\"AgencyEntityInsData Id 22\")","v":""},{"$f":"IF(BY4=\"\",\"\",\"AgencyEntityInstance Id 2\")","v":""},{"$f":"IF(BY4=\"\",\"\",\"cm_base_grad_T1T5_label_06\")","v":""},{"$f":"IF(BY4=\"\",\"\",\"Station\")","v":""},{"$f":"IF(BY4=\"\",\"\",TODAY())","v":""},{"$f":"IF(BY4=\"\",\"\",\"WTSYSTEMUSER\")","v":""},{"$f":"IF(BY4=\"\",\"\",TODAY())","v":""},{"$f":"IF(BY4=\"\",\"\",\"WTSYSTEMUSER\")","v":""}]
[null,"DistanceFromGradeUnits",null,null,null,null,null,null,null,null,null,null,null,null,null,null,"",{"$f":"IF('Contract and Quantities'!AS61=\"\",\"\",'Contract and Quantities'!AS61)","v":""},"",null,{"$f":"IF(R25=\"\",\"\",'Contract and Quantities'!AR61)","v":""},{"$f":"IF(R25=\"\",\"\",'Contract and Quantities'!AQ61)","v":""},"","","","","",null,null,null,"T85 Absorption",null,null,{"$f":"IF('Test 2'!AG55=\"Y\",\"SampleRecordTest Id 23\",\"\")","v":""},"",{"$f":"IF(AQ25=\"\",\"\",VLOOKUP(AQ25,'Send Sync'!$I$56:$J$145,2,FALSE))","v":""},{"$f":"IF(AH25=\"\",\"\",1)","v":""},{"$f":"IF(AH25=\"\",\"\",'Send Sync'!$R$56)","v":""},{"$f":"IF(AH25=\"\",\"\",'Send Sync'!$T$56)","v":""},null,null,null,{"$f":"IF(AH25=\"\",\"\",IF($C$43=\"QA\",\"AASHTO T85 Absorption for Concrete Aggregate (QA)\",\"AASHTO T85 Absorption for Concrete Aggregate (QC)\"))","v":""},null,"","",{"$f":"IF(AH25=\"\",\"\",COUNTIF(AJ25:AJ29,AJ25))","v":""},"",null,"","","","","","","","","","","","","","",null,"",null,{"$f":"IF(AH25=\"\",\"\",IF(LEFT(Main!F14,4)=\"1005\",IF('Test 2'!D61=\"YES\",VLOOKUP(\"Pass\",'Send Sync'!$Y$56:$Z$57,2,FALSE),IF('Test 2'!D61=\"NO\",VLOOKUP(\"Fail\",'Send Sync'!$Y$56:$Z$57,2,FALSE),\"\")),\"\"))","v":""},"","",null,null,null,null,null,null,null,{"$f":"IF(AH20=\"\",\"\",\"AgencyEntityInstance Id 23\")","v":""},{"$f":"IF(BY20=\"\",\"\",VLOOKUP(\"CM_T27_List\",'Send Sync'!$K$56:$L$96,2,FALSE))","v":""},null,{"$f":"IF(BY20=\"\",\"\",\"AgencyEntityInstance Id 18\")","v":""},{"$f":"IF(BY20=\"\",\"\",CONCATENATE(\"<Data><cm_t27_list_inspecrow>\",CO320,\"</cm_t27_list_inspecrow><cm_t27_list_max>\",CO321,\"</cm_t27_list_max><cm_t27_list_min>\",CO322,\"</cm_t27_list_min><cm_t27_list_order>\",CO323,\"</cm_t27_list_order><cm_t27_list_pct_passing>\",CO324,\"</cm_t27_list_pct_passing><cm_t27_list_sieve>\",CO325,\"</cm_t27_list_sieve></Data>\"))","v":""},{"$f":"IF(BY20=\"\",\"\",TODAY())","v":""},{"$f":"IF(BY20=\"\",\"\",\"WTSYSTEMUSER\")","v":""},{"$f":"IF(BY20=\"\",\"\",TODAY())","v":""},{"$f":"IF(BY20=\"\",\"\",\"WTSYSTEMUSER\")","v":""},null,null,null,null,null,null,null,"",null,{"$f":"IF(BY4=\"\",\"\",\"AgencyEntityInsData Id 23\")","v":""},{"$f":"IF(BY4=\"\",\"\",\"AgencyEntityInstance Id 2\")","v":""},{"$f":"IF(BY4=\"\",\"\",\"cm_base_grad_T1T5_label_07\")","v":""},{"$f":"IF(BY4=\"\",\"\",\"+\")","v":""},{"$f":"IF(BY4=\"\",\"\",TODAY())","v":""},{"$f":"IF(BY4=\"\",\"\",\"WTSYSTEMUSER\")","v":""},{"$f":"IF(BY4=\"\",\"\",TODAY())","v":""},{"$f":"IF(BY4=\"\",\"\",\"WTSYSTEMUSER\")","v":""}]
[null,"Elevation",null,null,null,null,null,null,null,null,null,null,null,null,null,null,"",{"$f":"IF('Contract and Quantities'!AS62=\"\",\"\",'Contract and Quantities'!AS62)","v":""},"",null,{"$f":"IF(R26=\"\",\"\",'Contract and Quantities'!AR62)","v":""},{"$f":"IF(R26=\"\",\"\",'Contract and Quantities'!AQ62)","v":""},"","","","","",null,null,null,"T85 Absorption",null,null,{"$f":"IF('Test 2'!AH55=\"Y\",\"SampleRecordTest Id 24\",\"\")","v":""},"",{"$f":"IF(AQ26=\"\",\"\",VLOOKUP(AQ26,'Send Sync'!$I$56:$J$145,2,FALSE))","v":""},{"$f":"IF(AH26=\"\",\"\",2)","v":""},{"$f":"IF(AH26=\"\",\"\",'Send Sync'!$R$56)","v":""},{"$f":"IF(AH26=\"\",\"\",'Send Sync'!$T$56)","v":""},null,null,null,{"$f":"IF(AH26=\"\",\"\",IF($C$43=\"QA\",\"AASHTO T85 Absorption for Concrete Aggregate (QA)\",\"AASHTO T85 Absorption for Concrete Aggregate (QC)\"))","v":""},null,"","",{"$f":"IF(AH26=\"\",\"\",COUNTIF(AJ25:AJ29,AJ26))","v":""},"",null,"","","","","","","","","","","","","","",null,"",null,{"$f":"IF(AH26=\"\",\"\",IF(LEFT(Main!F14,4)=\"1005\",IF('Test 2'!H61=\"YES\",VLOOKUP(\"Pass\",'Send Sync'!$Y$56:$Z$57,2,FALSE),IF('Test 2'!H61=\"NO\",VLOOKUP(\"Fail\",'Send Sync'!$Y$56:$Z$57,2,FALSE),\"\")),\"\"))","v":""},"","",null,null,null,null,null,null,null,{"$f":"IF(AH20=\"\",\"\",\"AgencyEntityInstance Id 24\")","v":""},{"$f":"IF(BY20=\"\",\"\",VLOOKUP(\"CM_T27_List\",'Send Sync'!$K$56:$L$96,2,FALSE))","v":""},null,{"$f":"IF(BY20=\"\",\"\",\"AgencyEntityInstance Id 18\")","v":""},{"$f":"IF(BY20=\"\",\"\",CONCATENATE(\"<Data><cm_t27_list_inspecrow>\",CO326,\"</cm_t27_list_inspecrow><cm_t27_list_max>\",CO327,\"</cm_t27_list_max><cm_t27_list_min>\",CO328,\"</cm_t27_list_min><cm_t27_list_order>\",CO329,\"</cm_t27_list_order><cm_t27_list_pct_passing>\",CO330,\"</cm_t27_list_pct_passing><cm_t27_list_sieve>\",CO331,\"</cm_t27_list_sieve></Data>\"))","v":""},{"$f":"IF(BY20=\"\",\"\",TODAY())","v":""},{"$f":"IF(BY20=\"\",\"\",\"WTSYSTEMUSER\")","v":""},{"$f":"IF(BY20=\"\",\"\",TODAY())","v":""},{"$f":"IF(BY20=\"\",\"\",\"WTSYSTEMUSER\")","v":""},null,null,null,null,null,null,null,"",null,{"$f":"IF(BY4=\"\",\"\",\"AgencyEntityInsData Id 24\")","v":""},{"$f":"IF(BY4=\"\",\"\",\"AgencyEntityInstance Id 2\")","v":""},{"$f":"IF(BY4=\"\",\"\",\"cm_base_grad_T1T5_label_08\")","v":""},{"$f":"IF(BY4=\"\",\"\",\"Location R/L of Centerline\")","v":""},{"$f":"IF(BY4=\"\",\"\",TODAY())","v":""},{"$f":"IF(BY4=\"\",\"\",\"WTSYSTEMUSER\")","v":""},{"$f":"IF(BY4=\"\",\"\",TODAY())","v":""},{"$f":"IF(BY4=\"\",\"\",\"WTSYSTEMUSER\")","v":""}]
[null,"GeographicArea",{"$f":"IF(AND(ISERROR('Contract and Quantities'!$AK$11),NOT(ISBLANK('Contract and Quantities'!$J$33)),'Contract and Quantities'!$AD$37>0),'Send Sync'!L21,'Contract and Quantities'!AK11)","v":{"$error":"#VALUE!"}},null,null,null,null,null,null,null,null,null,null,null,null,null,"",{"$f":"IF('Contract and Quantities'!AS63=\"\",\"\",'Contract and Quantities'!AS63)","v":""},"",null,{"$f":"IF(R27=\"\",\"\",'Contract and Quantities'!AR63)","v":""},{"$f":"IF(R27=\"\",\"\",'Contract and Quantities'!AQ63)","v":""},"","","","","",null,null,null,"T85 Absorption",null,null,{"$f":"IF('Test 2'!AI55=\"Y\",\"SampleRecordTest Id 25\",\"\")","v":""},"",{"$f":"IF(AQ27=\"\",\"\",VLOOKUP(AQ27,'Send Sync'!$I$56:$J$145,2,FALSE))","v":""},{"$f":"IF(AH27=\"\",\"\",3)","v":""},{"$f":"IF(AH27=\"\",\"\",'Send Sync'!$R$56)","v":""},{"$f":"IF(AH27=\"\",\"\",'Send Sync'!$T$56)","v":""},null,null,null,{"$f":"IF(AH27=\"\",\"\",IF($C$43=\"QA\",\"AASHTO T85 Absorption for Concrete Aggregate (QA)\",\"AASHTO T85 Absorption for Concrete Aggregate (QC)\"))","v":""},null,"","",{"$f":"IF(AH27=\"\",\"\",COUNTIF(AJ25:AJ29,AJ27))","v":""},"",null,"","","","","","","","","","","","","","",null,"",null,{"$f":"IF(AH27=\"\",\"\",IF(LEFT(Main!F14,4)=\"1005\",IF('Test 2'!L61=\"YES\",VLOOKUP(\"Pass\",'Send Sync'!$Y$56:$Z$57,2,FALSE),IF('Test 2'!L61=\"NO\",VLOOKUP(\"Fail\",'Send Sync'!$Y$56:$Z$57,2,FALSE),\"\")),\"\"))","v":""},"","",null,null,null,null,null,null,null,{"$f":"IF(AH20=\"\",\"\",\"AgencyEntityInstance Id 25\")","v":""},{"$f":"IF(BY20=\"\",\"\",VLOOKUP(\"CM_T27_List\",'Send Sync'!$K$56:$L$96,2,FALSE))","v":""},null,{"$f":"IF(BY20=\"\",\"\",\"AgencyEntityInstance Id 18\")","v":""},{"$f":"IF(BY20=\"\",\"\",CONCATENATE(\"<Data><cm_t27_list_inspecrow>\",CO332,\"</cm_t27_list_inspecrow><cm_t27_list_max>\",CO333,\"</cm_t27_list_max><cm_t27_list_min>\",CO334,\"</cm_t27_list_min><cm_t27_list_order>\",CO335,\"</cm_t27_list_order><cm_t27_list_pct_passing>\",CO336,\"</cm_t27_list_pct_passing><cm_t27_list_sieve>\",CO337,\"</cm_t27_list_sieve></Data>\"))","v":""},{"$f":"IF(BY20=\"\",\"\",TODAY())","v":""},{"$f":"IF(BY20=\"\",\"\",\"WTSYSTEMUSER\")","v":""},{"$f":"IF(BY20=\"\",\"\",TODAY())","v":""},{"$f":"IF(BY20=\"\",\"\",\"WTSYSTEMUSER\")","v":""},null,null,null,null,null,null,null,"",null,{"$f":"IF(BY4=\"\",\"\",\"AgencyEntityInsData Id 25\")","v":""},{"$f":"IF(BY4=\"\",\"\",\"AgencyEntityInstance Id 2\")","v":""},{"$f":"IF(BY4=\"\",\"\",\"cm_base_grad_T1T5_label_09\")","v":""},{"$f":"IF(BY4=\"\",\"\",\"Test Performed By\")","v":""},{"$f":"IF(BY4=\"\",\"\",TODAY())","v":""},{"$f":"IF(BY4=\"\",\"\",\"WTSYSTEMUSER\")","v":""},{"$f":"IF(BY4=\"\",\"\",TODAY())","v":""},{"$f":"IF(BY4=\"\",\"\",\"WTSYSTEMUSER\")","v":""}]
[null,"IntendedUse",null,null,null,null,null,null,null,null,null,null,null,null,null,null,"",{"$f":"IF('Contract and Quantities'!AS64=\"\",\"\",'Contract and Quantities'!AS64)","v":""},"",null,{"$f":"IF(R28=\"\",\"\",'Contract and Quantities'!AR64)","v":""},{"$f":"IF(R28=\"\",\"\",'Contract and Quantities'!AQ64)","v":""},"","","","","",null,null,null,"T85 Absorption",null,null,{"$f":"IF('Test 2'!AJ55=\"Y\",\"SampleRecordTest Id 26\",\"\")","v":""},"",{"$f":"IF(AQ28=\"\",\"\",VLOOKUP(AQ28,'Send Sync'!$I$56:$J$145,2,FALSE))","v":""},{"$f":"IF(AH28=\"\",\"\",4)","v":""},{"$f":"IF(AH28=\"\",\"\",'Send Sync'!$R$56)","v":""},{"$f":"IF(AH28=\"\",\"\",'Send Sync'!$T$56)","v":""},null,null,null,{"$f":"IF(AH28=\"\",\"\",IF($C$43=\"QA\",\"AASHTO T85 Absorption for Concrete Aggregate (QA)\",\"AASHTO T85 Absorption for Concrete Aggregate (QC)\"))","v":""},null,"","",{"$f":"IF(AH28=\"\",\"\",COUNTIF(AJ25:AJ29,AJ28))","v":""},"",null,"","","","","","","","","","","","","","",null,"",null,{"$f":"IF(AH28=\"\",\"\",IF(LEFT(Main!F14,4)=\"1005\",IF('Test 2'!P61=\"YES\",VLOOKUP(\"Pass\",'Send Sync'!$Y$56:$Z$57,2,FALSE),IF('Test 2'!P61=\"NO\",VLOOKUP(\"Fail\",'Send Sync'!$Y$56:$Z$57,2,FALSE),\"\")),\"\"))","v":""},"","",null,null,null,null,null,null,null,{"$f":"IF(AH20=\"\",\"\",\"AgencyEntityInstance Id 26\")","v":""},{"$f":"IF(BY20=\"\",\"\",VLOOKUP(\"CM_T27_List\",'Send Sync'!$K$56:$L$96,2,FALSE))","v":""},null,{"$f":"IF(BY20=\"\",\"\",\"AgencyEntityInstance Id 18\")","v":""},{"$f":"IF(BY20=\"\",\"\",CONCATENATE(\"<Data><cm_t27_list_inspecrow>\",CO338,\"</cm_t27_list_inspecrow><cm_t27_list_max>\",CO339,\"</cm_t27_list_max><cm_t27_list_min>\",CO340,\"</cm_t27_list_min><cm_t27_list_order>\",CO341,\"</cm_t27_list_order><cm_t27_list_pct_passing>\",CO342,\"</cm_t27_list_pct_passing><cm_t27_list_sieve>\",CO343,\"</cm_t27_list_sieve></Data>\"))","v":""},{"$f":"IF(BY20=\"\",\"\",TODAY())","v":""},{"$f":"IF(BY20=\"\",\"\",\"WTSYSTEMUSER\")","v":""},{"$f":"IF(BY20=\"\",\"\",TODAY())","v":""},{"$f":"IF(BY20=\"\",\"\",\"WTSYSTEMUSER\")","v":""},null,null,null,null,null,null,null,"",null,{"$f":"IF(BY4=\"\",\"\",\"AgencyEntityInsData Id 26\")","v":""},{"$f":"IF(BY4=\"\",\"\",\"AgencyEntityInstance Id 2\")","v":""},{"$f":"IF(BY4=\"\",\"\",\"cm_base_grad_T1T5_no_200_label\")","v":""},{"$f":"IF(BY4=\"\",\"\",\"No. 200 (75 microns)\")","v":""},{"$f":"IF(BY4=\"\",\"\",TODAY())","v":""},{"$f":"IF(BY4=\"\",\"\",\"WTSYSTEMUSER\")","v":""},{"$f":"IF(BY4=\"\",\"\",TODAY())","v":""},{"$f":"IF(BY4=\"\",\"\",\"WTSYSTEMUSER\")","v":""}]
[null,"LabControlNumber",{"$f":"CONCATENATE(\"CN\",C3)","v":"CN"},null,null,null,null,null,null,null,null,null,null,null,null,null,"",{"$f":"IF('Contract and Quantities'!AS65=\"\",\"\",'Contract and Quantities'!AS65)","v":""},"",null,{"$f":"IF(R29=\"\",\"\",'Contract and Quantities'!AR65)","v":""},{"$f":"IF(R29=\"\",\"\",'Contract and Quantities'!AQ65)","v":""},"","","","","",null,null,null,"T85 Absorption",null,null,{"$f":"IF('Test 2'!AK55=\"Y\",\"SampleRecordTest Id 27\",\"\")","v":""},"",{"$f":"IF(AQ29=\"\",\"\",VLOOKUP(AQ29,'Send Sync'!$I$56:$J$145,2,FALSE))","v":""},{"$f":"IF(AH29=\"\",\"\",5)","v":""},{"$f":"IF(AH29=\"\",\"\",'Send Sync'!$R$56)","v":""},{"$f":"IF(AH29=\"\",\"\",'Send Sync'!$T$56)","v":""},null,null,null,{"$f":"IF(AH29=\"\",\"\",IF($C$43=\"QA\",\"AASHTO T85 Absorption for Concrete Aggregate (QA)\",\"AASHTO T85 Absorption for Concrete Aggregate (QC)\"))","v":""},null,"","",{"$f":"IF(AH29=\"\",\"\",COUNTIF(AJ25:AJ29,AJ29))","v":""},"",null,"","","","","","","","","","","","","","",null,"",null,{"$f":"IF(AH29=\"\",\"\",IF(LEFT(Main!F14,4)=\"1005\",IF('Test 2'!T61=\"YES\",VLOOKUP(\"Pass\",'Send Sync'!$Y$56:$Z$57,2,FALSE),IF('Test 2'!T61=\"NO\",VLOOKUP(\"Fail\",'Send Sync'!$Y$56:$Z$57,2,FALSE),\"\")),\"\"))","v":""},"","",null,null,null,null,null,null,null,{"$f":"IF(AH20=\"\",\"\",\"AgencyEntityInstance Id 27\")","v":""},{"$f":"IF(BY20=\"\",\"\",VLOOKUP(\"CM_T27_List\",'Send Sync'!$K$56:$L$96,2,FALSE))","v":""},null,{"$f":"IF(BY20=\"\",\"\",\"AgencyEntityInstance Id 18\")","v":""},{"$f":"IF(BY20=\"\",\"\",CONCATENATE(\"<Data><cm_t27_list_inspecrow>\",CO344,\"</cm_t27_list_inspecrow><cm_t27_list_max>\",CO345,\"</cm_t27_list_max><cm_t27_list_min>\",CO346,\"</cm_t27_list_min><cm_t27_list_order>\",CO347,\"</cm_t27_list_order><cm_t27_list_pct_passing>\",CO348,\"</cm_t27_list_pct_passing><cm_t27_list_sieve>\",CO349,\"</cm_t27_list_sieve></Data>\"))","v":""},{"$f":"IF(BY20=\"\",\"\",TODAY())","v":""},{"$f":"IF(BY20=\"\",\"\",\"WTSYSTEMUSER\")","v":""},{"$f":"IF(BY20=\"\",\"\",TODAY())","v":""},{"$f":"IF(BY20=\"\",\"\",\"WTSYSTEMUSER\")","v":""},null,null,null,null,null,null,null,"",null,{"$f":"IF(BY4=\"\",\"\",\"AgencyEntityInsData Id 27\")","v":""},{"$f":"IF(BY4=\"\",\"\",\"AgencyEntityInstance Id 2\")","v":""},{"$f":"IF(BY4=\"\",\"\",\"cm_base_grad_T1T5_no_200_max\")","v":""},{"$f":"IF(BY4=\"\",\"\",\"15\")","v":""},{"$f":"IF(BY4=\"\",\"\",TODAY())","v":""},{"$f":"IF(BY4=\"\",\"\",\"WTSYSTEMUSER\")","v":""},{"$f":"IF(BY4=\"\",\"\",TODAY())","v":""},{"$f":"IF(BY4=\"\",\"\",\"WTSYSTEMUSER\")","v":""}]
[null,"LabReferenceNumber",null,null,null,null,null,null,null,null,null,null,null,null,null,null,"",{"$f":"IF('Contract and Quantities'!AS66=\"\",\"\",'Contract and Quantities'!AS66)","v":""},"",null,{"$f":"IF(R30=\"\",\"\",'Contract and Quantities'!AR66)","v":""},{"$f":"IF(R30=\"\",\"\",'Contract and Quantities'!AQ66)","v":""},"","","","","",null,null,null,"Deleterious",null,null,{"$f":"IF('Test 2'!AG43=\"Y\",\"SampleRecordTest Id 28\",\"\")","v":""},"",{"$f":"IF(AQ30=\"\",\"\",VLOOKUP(AQ30,'Send Sync'!$I$56:$J$145,2,FALSE))","v":""},{"$f":"IF(AH30=\"\",\"\",1)","v":""},{"$f":"IF(AH30=\"\",\"\",'Send Sync'!$R$56)","v":""},{"$f":"IF(AH30=\"\",\"\",'Send Sync'!$T$56)","v":""},null,null,null,{"$f":"IF(AH30=\"\",\"\",IF($C$43=\"QA\",\"MoDOT TM71 Generic Deleterious Template (QA)\",\"MoDOT TM71 Generic Deleterious Template (QC)\"))","v":""},null,"","",{"$f":"IF(AH30=\"\",\"\",COUNTIF(AJ30:AJ34,AJ30))","v":""},"",null,"","","","","","","","","","","","","","",null,"",null,{"$f":"IF(AH30=\"\",\"\",IF(LEFT(Main!F14,4)=\"1005\",IF('Test 2'!G73=\"YES\",VLOOKUP(\"Pass\",'Send Sync'!$Y$56:$Z$57,2,FALSE),IF('Test 2'!G73=\"NO\",VLOOKUP(\"Fail\",'Send Sync'!$Y$56:$Z$57,2,FALSE),\"\")),\"\"))","v":""},"","",null,null,null,null,null,null,null,{"$f":"IF(AH20=\"\",\"\",\"AgencyEntityInstance Id 28\")","v":""},{"$f":"IF(BY20=\"\",\"\",VLOOKUP(\"CM_T27_List\",'Send Sync'!$K$56:$L$96,2,FALSE))","v":""},null,{"$f":"IF(BY20=\"\",\"\",\"AgencyEntityInstance Id 18\")","v":""},{"$f":"IF(BY20=\"\",\"\",CONCATENATE(\"<Data><cm_t27_list_inspecrow>\",CO350,\"</cm_t27_list_inspecrow><cm_t27_list_max>\",CO351,\"</cm_t27_list_max><cm_t27_list_min>\",CO352,\"</cm_t27_list_min><cm_t27_list_order>\",CO353,\"</cm_t27_list_order><cm_t27_list_pct_passing>\",CO354,\"</cm_t27_list_pct_passing><cm_t27_list_sieve>\",CO355,\"</cm_t27_list_sieve></Data>\"))","v":""},{"$f":"IF(BY20=\"\",\"\",TODAY())","v":""},{"$f":"IF(BY20=\"\",\"\",\"WTSYSTEMUSER\")","v":""},{"$f":"IF(BY20=\"\",\"\",TODAY())","v":""},{"$f":"IF(BY20=\"\",\"\",\"WTSYSTEMUSER\")","v":""},null,null,null,null,null,null,null,"",null,{"$f":"IF(BY4=\"\",\"\",\"AgencyEntityInsData Id 28\")","v":""},{"$f":"IF(BY4=\"\",\"\",\"AgencyEntityInstance Id 2\")","v":""},{"$f":"IF(BY4=\"\",\"\",\"cm_base_grad_T1T5_no_200_min\")","v":""},{"$f":"IF(BY4=\"\",\"\",\"0\")","v":""},{"$f":"IF(BY4=\"\",\"\",TODAY())","v":""},{"$f":"IF(BY4=\"\",\"\",\"WTSYSTEMUSER\")","v":""},{"$f":"IF(BY4=\"\",\"\",TODAY())","v":""},{"$f":"IF(BY4=\"\",\"\",\"WTSYSTEMUSER\")","v":""}]
[null,"Latitude",null,null,null,null,null,null,null,null,null,null,null,null,null,null,"",{"$f":"IF('Contract and Quantities'!AS67=\"\",\"\",'Contract and Quantities'!AS67)","v":""},"",null,{"$f":"IF(R31=\"\",\"\",'Contract and Quantities'!AR67)","v":""},{"$f":"IF(R31=\"\",\"\",'Contract and Quantities'!AQ67)","v":""},"","","","","",null,null,null,"Deleterious",null,null,{"$f":"IF('Test 2'!AH43=\"Y\",\"SampleRecordTest Id 29\",\"\")","v":""},"",{"$f":"IF(AQ31=\"\",\"\",VLOOKUP(AQ31,'Send Sync'!$I$56:$J$145,2,FALSE))","v":""},{"$f":"IF(AH31=\"\",\"\",2)","v":""},{"$f":"IF(AH31=\"\",\"\",'Send Sync'!$R$56)","v":""},{"$f":"IF(AH31=\"\",\"\",'Send Sync'!$T$56)","v":""},null,null,null,{"$f":"IF(AH31=\"\",\"\",IF($C$43=\"QA\",\"MoDOT TM71 Generic Deleterious Template (QA)\",\"MoDOT TM71 Generic Deleterious Template (QC)\"))","v":""},null,{"$f":"IF(AH31=\"\",\"\",TODAY())","v":""},{"$f":"IF(AH31=\"\",\"\",TODAY())","v":""},{"$f":"IF(AH31=\"\",\"\",COUNTIF(AJ30:AJ34,AJ31))","v":""},"",null,{"$f":"IF(AH31=\"\",\"\",60)","v":""},{"$f":"IF(AH31=\"\",\"\",1)","v":""},{"$f":"IF(AH31=\"\",\"\",0)","v":""},{"$f":"IF(AH31=\"\",\"\",0)","v":""},{"$f":"IF(AH31=\"\",\"\",1)","v":""},{"$f":"IF(AH31=\"\",\"\",0)","v":""},{"$f":"IF(AH31=\"\",\"\",0)","v":""},{"$f":"IF(AH31=\"\",\"\",0)","v":""},{"$f":"IF(AH31=\"\",\"\",0)","v":""},{"$f":"IF(AH31=\"\",\"\",1)","v":""},{"$f":"IF(AH31=\"\",\"\",TODAY())","v":""},{"$f":"IF(AH31=\"\",\"\",\"WTSYSTEMUSER\")","v":""},{"$f":"IF(AH31=\"\",\"\",TODAY())","v":""},{"$f":"IF(AH31=\"\",\"\",\"WTSYSTEMUSER\")","v":""},null,{"$f":"IF(AH31=\"\",\"\",0)","v":""},null,{"$f":"IF(AH31=\"\",\"\",IF(LEFT(Main!F14,4)=\"1005\",IF('Test 2'!K73=\"YES\",VLOOKUP(\"Pass\",'Send Sync'!$Y$56:$Z$57,2,FALSE),IF('Test 2'!K73=\"NO\",VLOOKUP(\"Fail\",'Send Sync'!$Y$56:$Z$57,2,FALSE),\"\")),\"\"))","v":""},"","",null,null,null,null,null,null,null,{"$f":"IF(AH20=\"\",\"\",\"AgencyEntityInstance Id 29\")","v":""},{"$f":"IF(BY20=\"\",\"\",VLOOKUP(\"CM_T27_List\",'Send Sync'!$K$56:$L$96,2,FALSE))","v":""},null,{"$f":"IF(BY20=\"\",\"\",\"AgencyEntityInstance Id 18\")","v":""},{"$f":"IF(BY20=\"\",\"\",CONCATENATE(\"<Data><cm_t27_list_inspecrow>\",CO356,\"</cm_t27_list_inspecrow><cm_t27_list_max>\",CO357,\"</cm_t27_list_max><cm_t27_list_min>\",CO358,\"</cm_t27_list_min><cm_t27_list_order>\",CO359,\"</cm_t27_list_order><cm_t27_list_pct_passing>\",CO360,\"</cm_t27_list_pct_passing><cm_t27_list_sieve>\",CO361,\"</cm_t27_list_sieve></Data>\"))","v":""},{"$f":"IF(BY20=\"\",\"\",TODAY())","v":""},{"$f":"IF(BY20=\"\",\"\",\"WTSYSTEMUSER\")","v":""},{"$f":"IF(BY20=\"\",\"\",TODAY())","v":""},{"$f":"IF(BY20=\"\",\"\",\"WTSYSTEMUSER\")","v":""},null,null,null,null,null,null,null,"",null,{"$f":"IF(BY4=\"\",\"\",\"AgencyEntityInsData Id 29\")","v":""},{"$f":"IF(BY4=\"\",\"\",\"AgencyEntityInstance Id 2\")","v":""},{"$f":"IF(BY4=\"\",\"\",\"cm_base_grad_T1T5_no_30_label\")","v":""},{"$f":"IF(BY4=\"\",\"\",\"No. 30 (600 microns)\")","v":""},{"$f":"IF(BY4=\"\",\"\",TODAY())","v":""},{"$f":"IF(BY4=\"\",\"\",\"WTSYSTEMUSER\")","v":""},{"$f":"IF(BY4=\"\",\"\",TODAY())","v":""},{"$f":"IF(BY4=\"\",\"\",\"WTSYSTEMUSER\")","v":""}]
[null,"Longitude",null,null,null,null,null,null,null,null,null,null,null,null,null,null,"",{"$f":"IF('Contract and Quantities'!AS68=\"\",\"\",'Contract and Quantities'!AS68)","v":""},"",null,{"$f":"IF(R32=\"\",\"\",'Contract and Quantities'!AR68)","v":""},{"$f":"IF(R32=\"\",\"\",'Contract and Quantities'!AQ68)","v":""},"","","","","",null,null,null,"Deleterious",null,null,{"$f":"IF('Test 2'!AI43=\"Y\",\"SampleRecordTest Id 30\",\"\")","v":""},"",{"$f":"IF(AQ32=\"\",\"\",VLOOKUP(AQ32,'Send Sync'!$I$56:$J$145,2,FALSE))","v":""},{"$f":"IF(AH32=\"\",\"\",3)","v":""},{"$f":"IF(AH32=\"\",\"\",'Send Sync'!$R$56)","v":""},{"$f":"IF(AH32=\"\",\"\",'Send Sync'!$T$56)","v":""},null,null,null,{"$f":"IF(AH32=\"\",\"\",IF($C$43=\"QA\",\"MoDOT TM71 Generic Deleterious Template (QA)\",\"MoDOT TM71 Generic Deleterious Template (QC)\"))","v":""},null,"","",{"$f":"IF(AH32=\"\",\"\",COUNTIF(AJ30:AJ34,AJ32))","v":""},"",null,"","","","","","","","","","","","","","",null,"",null,{"$f":"IF(AH32=\"\",\"\",IF(LEFT(Main!F14,4)=\"1005\",IF('Test 2'!O73=\"YES\",VLOOKUP(\"Pass\",'Send Sync'!$Y$56:$Z$57,2,FALSE),IF('Test 2'!O73=\"NO\",VLOOKUP(\"Fail\",'Send Sync'!$Y$56:$Z$57,2,FALSE),\"\")),\"\"))","v":""},"","",null,null,null,null,null,null,null,{"$f":"IF(AH20=\"\",\"\",\"AgencyEntityInstance Id 30\")","v":""},{"$f":"IF(BY20=\"\",\"\",VLOOKUP(\"CM_T27_List\",'Send Sync'!$K$56:$L$96,2,FALSE))","v":""},null,{"$f":"IF(BY20=\"\",\"\",\"AgencyEntityInstance Id 18\")","v":""},{"$f":"IF(BY20=\"\",\"\",CONCATENATE(\"<Data><cm_t27_list_inspecrow>\",CO362,\"</cm_t27_list_inspecrow><cm_t27_list_max>\",CO363,\"</cm_t27_list_max><cm_t27_list_min>\",CO364,\"</cm_t27_list_min><cm_t27_list_order>\",CO365,\"</cm_t27_list_order><cm_t27_list_pct_passing>\",CO366,\"</cm_t27_list_pct_passing><cm_t27_list_sieve>\",CO367,\"</cm_t27_list_sieve></Data>\"))","v":""},{"$f":"IF(BY20=\"\",\"\",TODAY())","v":""},{"$f":"IF(BY20=\"\",\"\",\"WTSYSTEMUSER\")","v":""},{"$f":"IF(BY20=\"\",\"\",TODAY())","v":""},{"$f":"IF(BY20=\"\",\"\",\"WTSYSTEMUSER\")","v":""},null,null,null,null,null,null,null,"",null,{"$f":"IF(BY4=\"\",\"\",\"AgencyEntityInsData Id 30\")","v":""},{"$f":"IF(BY4=\"\",\"\",\"AgencyEntityInstance Id 2\")","v":""},{"$f":"IF(BY4=\"\",\"\",\"cm_base_grad_T1T5_no_30_max\")","v":""},{"$f":"IF(BY4=\"\",\"\",\"35\")","v":""},{"$f":"IF(BY4=\"\",\"\",TODAY())","v":""},{"$f":"IF(BY4=\"\",\"\",\"WTSYSTEMUSER\")","v":""},{"$f":"IF(BY4=\"\",\"\",TODAY())","v":""},{"$f":"IF(BY4=\"\",\"\",\"WTSYSTEMUSER\")","v":""}]
[null,"LsaurLastModified Dt",null,null,null,null,null,null,null,null,null,null,null,null,null,null,"",{"$f":"IF('Contract and Quantities'!AS69=\"\",\"\",'Contract and Quantities'!AS69)","v":""},"",null,{"$f":"IF(R33=\"\",\"\",'Contract and Quantities'!AR69)","v":""},{"$f":"IF(R33=\"\",\"\",'Contract and Quantities'!AQ69)","v":""},"","","","","",null,null,null,"Deleterious",null,null,{"$f":"IF('Test 2'!AJ43=\"Y\",\"SampleRecordTest Id 31\",\"\")","v":""},"",{"$f":"IF(AQ33=\"\",\"\",VLOOKUP(AQ33,'Send Sync'!$I$56:$J$145,2,FALSE))","v":""},{"$f":"IF(AH33=\"\",\"\",4)","v":""},{"$f":"IF(AH33=\"\",\"\",'Send Sync'!$R$56)","v":""},{"$f":"IF(AH33=\"\",\"\",'Send Sync'!$T$56)","v":""},null,null,null,{"$f":"IF(AH33=\"\",\"\",IF($C$43=\"QA\",\"MoDOT TM71 Generic Deleterious Template (QA)\",\"MoDOT TM71 Generic Deleterious Template (QC)\"))","v":""},null,"","",{"$f":"IF(AH33=\"\",\"\",COUNTIF(AJ30:AJ34,AJ33))","v":""},"",null,"","","","","","","","","","","","","","",null,"",null,{"$f":"IF(AH33=\"\",\"\",IF(LEFT(Main!F14,4)=\"1005\",IF('Test 2'!S73=\"YES\",VLOOKUP(\"Pass\",'Send Sync'!$Y$56:$Z$57,2,FALSE),IF('Test 2'!S73=\"NO\",VLOOKUP(\"Fail\",'Send Sync'!$Y$56:$Z$57,2,FALSE),\"\")),\"\"))","v":""},"","",null,null,null,null,null,null,null,{"$f":"IF(AH20=\"\",\"\",\"AgencyEntityInstance Id 31\")","v":""},{"$f":"IF(BY20=\"\",\"\",VLOOKUP(\"CM_T27_List\",'Send Sync'!$K$56:$L$96,2,FALSE))","v":""},null,{"$f":"IF(BY20=\"\",\"\",\"AgencyEntityInstance Id 18\")","v":""},{"$f":"IF(BY20=\"\",\"\",CONCATENATE(\"<Data><cm_t27_list_inspecrow>\",CO368,\"</cm_t27_list_inspecrow><cm_t27_list_max>\",CO369,\"</cm_t27_list_max><cm_t27_list_min>\",CO370,\"</cm_t27_list_min><cm_t27_list_order>\",CO371,\"</cm_t27_list_order><cm_t27_list_pct_passing>\",CO372,\"</cm_t27_list_pct_passing><cm_t27_list_sieve>\",CO373,\"</cm_t27_list_sieve></Data>\"))","v":""},{"$f":"IF(BY20=\"\",\"\",TODAY())","v":""},{"$f":"IF(BY20=\"\",\"\",\"WTSYSTEMUSER\")","v":""},{"$f":"IF(BY20=\"\",\"\",TODAY())","v":""},{"$f":"IF(BY20=\"\",\"\",\"WTSYSTEMUSER\")","v":""},null,null,null,null,null,null,null,"",null,{"$f":"IF(BY4=\"\",\"\",\"AgencyEntityInsData Id 31\")","v":""},{"$f":"IF(BY4=\"\",\"\",\"AgencyEntityInstance Id 2\")","v":""},{"$f":"IF(BY4=\"\",\"\",\"cm_base_grad_T1T5_no_30_min\")","v":""},{"$f":"IF(BY4=\"\",\"\",\"10\")","v":""},{"$f":"IF(BY4=\"\",\"\",TODAY())","v":""},{"$f":"IF(BY4=\"\",\"\",\"WTSYSTEMUSER\")","v":""},{"$f":"IF(BY4=\"\",\"\",TODAY())","v":""},{"$f":"IF(BY4=\"\",\"\",\"WTSYSTEMUSER\")","v":""}]
[null,"OffSet",null,null,null,null,null,null,null,null,null,null,null,null,null,null,"",{"$f":"IF('Contract and Quantities'!AS70=\"\",\"\",'Contract and Quantities'!AS70)","v":""},"",null,{"$f":"IF(R34=\"\",\"\",'Contract and Quantities'!AR70)","v":""},{"$f":"IF(R34=\"\",\"\",'Contract and Quantities'!AQ70)","v":""},"","","","","",null,null,null,"Deleterious",null,null,{"$f":"IF('Test 2'!AK43=\"Y\",\"SampleRecordTest Id 32\",\"\")","v":""},"",{"$f":"IF(AQ34=\"\",\"\",VLOOKUP(AQ34,'Send Sync'!$I$56:$J$145,2,FALSE))","v":""},{"$f":"IF(AH34=\"\",\"\",5)","v":""},{"$f":"IF(AH34=\"\",\"\",'Send Sync'!$R$56)","v":""},{"$f":"IF(AH34=\"\",\"\",'Send Sync'!$T$56)","v":""},null,null,null,{"$f":"IF(AH34=\"\",\"\",IF($C$43=\"QA\",\"MoDOT TM71 Generic Deleterious Template (QA)\",\"MoDOT TM71 Generic Deleterious Template (QC)\"))","v":""},null,"","",{"$f":"IF(AH34=\"\",\"\",COUNTIF(AJ30:AJ34,AJ34))","v":""},"",null,"","","","","","","","","","","","","","",null,"",null,{"$f":"IF(AH34=\"\",\"\",IF(LEFT(Main!F14,4)=\"1005\",IF('Test 2'!W73=\"YES\",VLOOKUP(\"Pass\",'Send Sync'!$Y$56:$Z$57,2,FALSE),IF('Test 2'!W73=\"NO\",VLOOKUP(\"Fail\",'Send Sync'!$Y$56:$Z$57,2,FALSE),\"\")),\"\"))","v":""},"","",null,null,null,null,null,null,null,{"$f":"IF(AH20=\"\",\"\",\"AgencyEntityInstance Id 32\")","v":""},{"$f":"IF(BY20=\"\",\"\",VLOOKUP(\"CM_T27_List\",'Send Sync'!$K$56:$L$96,2,FALSE))","v":""},null,{"$f":"IF(BY20=\"\",\"\",\"AgencyEntityInstance Id 18\")","v":""},{"$f":"IF(BY20=\"\",\"\",CONCATENATE(\"<Data><cm_t27_list_inspecrow>\",CO374,\"</cm_t27_list_inspecrow><cm_t27_list_max>\",CO375,\"</cm_t27_list_max><cm_t27_list_min>\",CO376,\"</cm_t27_list_min><cm_t27_list_order>\",CO377,\"</cm_t27_list_order><cm_t27_list_pct_passing>\",CO378,\"</cm_t27_list_pct_passing><cm_t27_list_sieve>\",CO379,\"</cm_t27_list_sieve></Data>\"))","v":""},{"$f":"IF(BY20=\"\",\"\",TODAY())","v":""},{"$f":"IF(BY20=\"\",\"\",\"WTSYSTEMUSER\")","v":""},{"$f":"IF(BY20=\"\",\"\",TODAY())","v":""},{"$f":"IF(BY20=\"\",\"\",\"WTSYSTEMUSER\")","v":""},null,null,null,null,null,null,null,"",null,{"$f":"IF(BY4=\"\",\"\",\"AgencyEntityInsData Id 32\")","v":""},{"$f":"IF(BY4=\"\",\"\",\"AgencyEntityInstance Id 2\")","v":""},{"$f":"IF(BY4=\"\",\"\",\"cm_base_grad_T1T5_no_4_label\")","v":""},{"$f":"IF(BY4=\"\",\"\",\"No. 4 (4.75 mm)\")","v":""},{"$f":"IF(BY4=\"\",\"\",TODAY())","v":""},{"$f":"IF(BY4=\"\",\"\",\"WTSYSTEMUSER\")","v":""},{"$f":"IF(BY4=\"\",\"\",TODAY())","v":""},{"$f":"IF(BY4=\"\",\"\",\"WTSYSTEMUSER\")","v":""}]
[null,"Reference",null,null,null,null,null,null,null,null,null,null,null,null,null,null,"",{"$f":"IF('Contract and Quantities'!AS71=\"\",\"\",'Contract and Quantities'!AS71)","v":""},"",null,{"$f":"IF(R35=\"\",\"\",'Contract and Quantities'!AR71)","v":""},{"$f":"IF(R35=\"\",\"\",'Contract and Quantities'!AQ71)","v":""},"","","","","",null,null,null,"T27",null,null,{"$f":"IF('Test 3'!AH9=\"Y\",\"SampleRecordTest Id 33\",\"\")","v":""},"",{"$f":"IF(AQ35=\"\",\"\",VLOOKUP(AQ35,'Send Sync'!$I$56:$J$145,2,FALSE))","v":""},{"$f":"IF(AH35=\"\",\"\",1)","v":""},{"$f":"IF(AH35=\"\",\"\",'Send Sync'!$R$56)","v":""},{"$f":"IF(AH35=\"\",\"\",'Send Sync'!$T$56)","v":""},null,null,null,{"$f":"IF(AH35=\"\",\"\",IF($C$43=\"QA\",\"AASHTO T27 Sieve Analysis (QA)\",\"AASHTO T27 Sieve Analysis (QC)\"))","v":""},null,"","",{"$f":"IF(AH35=\"\",\"\",COUNTIF(AJ35:AJ36,AJ35))","v":""},"",null,"","","","","","","","","","","","","","",null,"",null,{"$f":"IF(AH35=\"\",\"\",IF(LEFT(Main!F14,4)=\"1010\",IF('Test 3'!E29=\"YES\",VLOOKUP(\"Pass\",'Send Sync'!$Y$56:$Z$57,2,FALSE),IF('Test 3'!E29=\"NO\",VLOOKUP(\"Fail\",'Send Sync'!$Y$56:$Z$57,2,FALSE),\"\")),\"\"))","v":""},"","",null,null,null,null,null,null,null,{"$f":"IF(AH20=\"\",\"\",\"AgencyEntityInstance Id 33\")","v":""},{"$f":"IF(BY20=\"\",\"\",VLOOKUP(\"CM_T27_List\",'Send Sync'!$K$56:$L$96,2,FALSE))","v":""},null,{"$f":"IF(BY20=\"\",\"\",\"AgencyEntityInstance Id 18\")","v":""},{"$f":"IF(BY20=\"\",\"\",CONCATENATE(\"<Data><cm_t27_list_inspecrow>\",CO380,\"</cm_t27_list_inspecrow><cm_t27_list_max>\",CO381,\"</cm_t27_list_max><cm_t27_list_min>\",CO382,\"</cm_t27_list_min><cm_t27_list_order>\",CO383,\"</cm_t27_list_order><cm_t27_list_pct_passing>\",CO384,\"</cm_t27_list_pct_passing><cm_t27_list_sieve>\",CO385,\"</cm_t27_list_sieve></Data>\"))","v":""},{"$f":"IF(BY20=\"\",\"\",TODAY())","v":""},{"$f":"IF(BY20=\"\",\"\",\"WTSYSTEMUSER\")","v":""},{"$f":"IF(BY20=\"\",\"\",TODAY())","v":""},{"$f":"IF(BY20=\"\",\"\",\"WTSYSTEMUSER\")","v":""},null,null,null,null,null,null,null,"",null,{"$f":"IF(BY4=\"\",\"\",\"AgencyEntityInsData Id 33\")","v":""},{"$f":"IF(BY4=\"\",\"\",\"AgencyEntityInstance Id 2\")","v":""},{"$f":"IF(BY4=\"\",\"\",\"cm_base_grad_T1T5_no_4_max\")","v":""},{"$f":"IF(BY4=\"\",\"\",\"60\")","v":""},{"$f":"IF(BY4=\"\",\"\",TODAY())","v":""},{"$f":"IF(BY4=\"\",\"\",\"WTSYSTEMUSER\")","v":""},{"$f":"IF(BY4=\"\",\"\",TODAY())","v":""},{"$f":"IF(BY4=\"\",\"\",\"WTSYSTEMUSER\")","v":""}]
[null,"RepresentedQuantity",{"$f":"'Contract and Quantities'!R13","v":0},null,null,null,null,null,null,null,null,null,null,null,null,null,"",{"$f":"IF('Contract and Quantities'!AS72=\"\",\"\",'Contract and Quantities'!AS72)","v":""},"",null,{"$f":"IF(R36=\"\",\"\",'Contract and Quantities'!AR72)","v":""},{"$f":"IF(R36=\"\",\"\",'Contract and Quantities'!AQ72)","v":""},"","","","","",null,null,null,"T27",null,null,{"$f":"IF('Test 3'!AI9=\"Y\",\"SampleRecordTest Id 34\",\"\")","v":""},"",{"$f":"IF(AQ36=\"\",\"\",VLOOKUP(AQ36,'Send Sync'!$I$56:$J$145,2,FALSE))","v":""},{"$f":"IF(AH36=\"\",\"\",2)","v":""},{"$f":"IF(AH36=\"\",\"\",'Send Sync'!$R$56)","v":""},{"$f":"IF(AH36=\"\",\"\",'Send Sync'!$T$56)","v":""},null,null,null,{"$f":"IF(AH36=\"\",\"\",IF($C$43=\"QA\",\"AASHTO T27 Sieve Analysis (QA)\",\"AASHTO T27 Sieve Analysis (QC)\"))","v":""},null,"","",{"$f":"IF(AH36=\"\",\"\",COUNTIF(AJ35:AJ36,AJ36))","v":""},"",null,"","","","","","","","","","","","","","",null,"",null,{"$f":"IF(AH36=\"\",\"\",IF(LEFT(Main!F14,4)=\"1010\",IF('Test 3'!H29=\"YES\",VLOOKUP(\"Pass\",'Send Sync'!$Y$56:$Z$57,2,FALSE),IF('Test 3'!H29=\"NO\",VLOOKUP(\"Fail\",'Send Sync'!$Y$56:$Z$57,2,FALSE),\"\")),\"\"))","v":""},"","",null,null,null,null,null,null,null,{"$f":"IF(AH21=\"\",\"\",\"AgencyEntityInstance Id 34\")","v":""},{"$f":"IF(BY36=\"\",\"\",VLOOKUP(\"CM_T27_Detail\",'Send Sync'!$K$56:$L$96,2,FALSE))","v":""},{"$f":"IF(BY36=\"\",\"\",\"SampleRecordTest Id 19\")","v":""},"",{"$f":"IF(BY36=\"\",\"\",CONCATENATE(\"<Data><cm_t27_detail_inspec>\",CO386,\"</cm_t27_detail_inspec></Data>\"))","v":""},{"$f":"IF(BY36=\"\",\"\",TODAY())","v":""},{"$f":"IF(BY36=\"\",\"\",\"WTSYSTEMUSER\")","v":""},{"$f":"IF(BY36=\"\",\"\",TODAY())","v":""},{"$f":"IF(BY36=\"\",\"\",\"WTSYSTEMUSER\")","v":""},null,null,null,null,null,null,null,"",null,{"$f":"IF(BY4=\"\",\"\",\"AgencyEntityInsData Id 34\")","v":""},{"$f":"IF(BY4=\"\",\"\",\"AgencyEntityInstance Id 2\")","v":""},{"$f":"IF(BY4=\"\",\"\",\"cm_base_grad_T1T5_no_4_min\")","v":""},{"$f":"IF(BY4=\"\",\"\",\"35\")","v":""},{"$f":"IF(BY4=\"\",\"\",TODAY())","v":""},{"$f":"IF(BY4=\"\",\"\",\"WTSYSTEMUSER\")","v":""},{"$f":"IF(BY4=\"\",\"\",TODAY())","v":""},{"$f":"IF(BY4=\"\",\"\",\"WTSYSTEMUSER\")","v":""}]
[null,"RepresentedQuantityUnits",{"$f":"Main!D43","v":{"$error":"#N/A"}},null,null,null,null,null,null,null,null,null,null,null,null,null,"",{"$f":"IF('Contract and Quantities'!AS73=\"\",\"\",'Contract and Quantities'!AS73)","v":""},"",null,{"$f":"IF(R37=\"\",\"\",'Contract and Quantities'!AR73)","v":""},{"$f":"IF(R37=\"\",\"\",'Contract and Quantities'!AQ73)","v":""},"","","","","",null,null,null,"T288 Soil Resistivity",null,null,{"$f":"IF('Test 3'!AH28=\"Y\",\"SampleRecordTest Id 35\",\"\")","v":""},"",{"$f":"IF(AQ37=\"\",\"\",VLOOKUP(AQ37,'Send Sync'!$I$56:$J$145,2,FALSE))","v":""},{"$f":"IF(AH37=\"\",\"\",1)","v":""},{"$f":"IF(AH37=\"\",\"\",'Send Sync'!$R$56)","v":""},{"$f":"IF(AH37=\"\",\"\",'Send Sync'!$T$56)","v":""},null,null,null,{"$f":"IF(AH37=\"\",\"\",\"AASHTO T288 Soil Resistivity Field\")","v":""},null,"","",{"$f":"IF(AH37=\"\",\"\",COUNTIF(AJ37:AJ38,AJ37))","v":""},"",null,"","","","","","","","","","","","","","",null,"",null,"","","",null,null,null,null,null,null,null,{"$f":"IF(AH21=\"\",\"\",\"AgencyEntityInstance Id 35\")","v":""},{"$f":"IF(BY36=\"\",\"\",VLOOKUP(\"CM_T27_List\",'Send Sync'!$K$56:$L$96,2,FALSE))","v":""},null,{"$f":"IF(BY36=\"\",\"\",\"AgencyEntityInstance Id 34\")","v":""},{"$f":"IF(BY36=\"\",\"\",CONCATENATE(\"<Data><cm_t27_list_inspecrow>\",CO387,\"</cm_t27_list_inspecrow><cm_t27_list_max>\",CO388,\"</cm_t27_list_max><cm_t27_list_min>\",CO389,\"</cm_t27_list_min><cm_t27_list_order>\",CO390,\"</cm_t27_list_order><cm_t27_list_pct_passing>\",CO391,\"</cm_t27_list_pct_passing><cm_t27_list_sieve>\",CO392,\"</cm_t27_list_sieve></Data>\"))","v":""},{"$f":"IF(BY36=\"\",\"\",TODAY())","v":""},{"$f":"IF(BY36=\"\",\"\",\"WTSYSTEMUSER\")","v":""},{"$f":"IF(BY36=\"\",\"\",TODAY())","v":""},{"$f":"IF(BY36=\"\",\"\",\"WTSYSTEMUSER\")","v":""},null,null,null,null,null,null,null,"",null,{"$f":"IF(BY4=\"\",\"\",\"AgencyEntityInsData Id 35\")","v":""},{"$f":"IF(BY4=\"\",\"\",\"AgencyEntityInstance Id 2\")","v":""},{"$f":"IF(BY4=\"\",\"\",\"cm_base_grad_T1T5_spec_01_inch_max\")","v":""},{"$f":"IF(BY4=\"\",\"\",\"100\")","v":""},{"$f":"IF(BY4=\"\",\"\",TODAY())","v":""},{"$f":"IF(BY4=\"\",\"\",\"WTSYSTEMUSER\")","v":""},{"$f":"IF(BY4=\"\",\"\",TODAY())","v":""},{"$f":"IF(BY4=\"\",\"\",\"WTSYSTEMUSER\")","v":""}]
[null,"RequestedBy",null,null,null,null,null,null,null,null,null,null,null,null,null,null,"",{"$f":"IF('Contract and Quantities'!AS74=\"\",\"\",'Contract and Quantities'!AS74)","v":""},"",null,{"$f":"IF(R38=\"\",\"\",'Contract and Quantities'!AR74)","v":""},{"$f":"IF(R38=\"\",\"\",'Contract and Quantities'!AQ74)","v":""},"","","","","",null,null,null,"T288 Soil Resistivity",null,null,{"$f":"IF('Test 3'!AI28=\"Y\",\"SampleRecordTest Id 36\",\"\")","v":""},"",{"$f":"IF(AQ38=\"\",\"\",VLOOKUP(AQ38,'Send Sync'!$I$56:$J$145,2,FALSE))","v":""},{"$f":"IF(AH38=\"\",\"\",2)","v":""},{"$f":"IF(AH38=\"\",\"\",'Send Sync'!$R$56)","v":""},{"$f":"IF(AH38=\"\",\"\",'Send Sync'!$T$56)","v":""},null,null,null,{"$f":"IF(AH38=\"\",\"\",\"AASHTO T288 Soil Resistivity Field\")","v":""},null,"","",{"$f":"IF(AH38=\"\",\"\",COUNTIF(AJ37:AJ38,AJ38))","v":""},"",null,"","","","","","","","","","","","","","",null,"",null,"","","",null,null,null,null,null,null,null,{"$f":"IF(AH21=\"\",\"\",\"AgencyEntityInstance Id 36\")","v":""},{"$f":"IF(BY36=\"\",\"\",VLOOKUP(\"CM_T27_List\",'Send Sync'!$K$56:$L$96,2,FALSE))","v":""},null,{"$f":"IF(BY36=\"\",\"\",\"AgencyEntityInstance Id 34\")","v":""},{"$f":"IF(BY36=\"\",\"\",CONCATENATE(\"<Data><cm_t27_list_inspecrow>\",CO393,\"</cm_t27_list_inspecrow><cm_t27_list_max>\",CO394,\"</cm_t27_list_max><cm_t27_list_min>\",CO395,\"</cm_t27_list_min><cm_t27_list_order>\",CO396,\"</cm_t27_list_order><cm_t27_list_pct_passing>\",CO397,\"</cm_t27_list_pct_passing><cm_t27_list_sieve>\",CO398,\"</cm_t27_list_sieve></Data>\"))","v":""},{"$f":"IF(BY36=\"\",\"\",TODAY())","v":""},{"$f":"IF(BY36=\"\",\"\",\"WTSYSTEMUSER\")","v":""},{"$f":"IF(BY36=\"\",\"\",TODAY())","v":""},{"$f":"IF(BY36=\"\",\"\",\"WTSYSTEMUSER\")","v":""},null,null,null,null,null,null,null,"",null,{"$f":"IF(BY4=\"\",\"\",\"AgencyEntityInsData Id 36\")","v":""},{"$f":"IF(BY4=\"\",\"\",\"AgencyEntityInstance Id 2\")","v":""},{"$f":"IF(BY4=\"\",\"\",\"cm_base_grad_T1T5_spec_01_inch_min\")","v":""},{"$f":"IF(BY4=\"\",\"\",\"100\")","v":""},{"$f":"IF(BY4=\"\",\"\",TODAY())","v":""},{"$f":"IF(BY4=\"\",\"\",\"WTSYSTEMUSER\")","v":""},{"$f":"IF(BY4=\"\",\"\",TODAY())","v":""},{"$f":"IF(BY4=\"\",\"\",\"WTSYSTEMUSER\")","v":""}]
[null,"Sample Dt",{"$f":"DATE(Main!I9,Main!I10,Main!I11)","v":"2025-11-30"},null,null,null,null,null,null,null,null,null,null,null,null,null,"",{"$f":"IF('Contract and Quantities'!AS75=\"\",\"\",'Contract and Quantities'!AS75)","v":""},"",null,{"$f":"IF(R39=\"\",\"\",'Contract and Quantities'!AR75)","v":""},{"$f":"IF(R39=\"\",\"\",'Contract and Quantities'!AQ75)","v":""},"","","","","",null,null,null,"T255 Aggregate % Moisture",null,null,{"$f":"IF('Test 1'!AG50=\"Y\",\"SampleRecordTest Id 37\",\"\")","v":""},"",{"$f":"IF(AQ39=\"\",\"\",VLOOKUP(AQ39,'Send Sync'!$I$56:$J$145,2,FALSE))","v":""},{"$f":"IF(AH39=\"\",\"\",1)","v":""},{"$f":"IF(AH39=\"\",\"\",'Send Sync'!$R$56)","v":""},{"$f":"IF(AH39=\"\",\"\",'Send Sync'!$T$56)","v":""},null,null,null,{"$f":"IF(AH39=\"\",\"\",\"AASHTO T255 Total Moisture Content of Aggregate by Drying\")","v":""},null,{"$f":"IF(AH39=\"\",\"\",TODAY())","v":""},{"$f":"IF(AH39=\"\",\"\",TODAY())","v":""},{"$f":"IF(AH39=\"\",\"\",COUNTIF(AJ39:AJ41,AJ39))","v":""},{"$f":"IF(AH39=\"\",\"\",TODAY())","v":""},null,{"$f":"IF(AH39=\"\",\"\",60)","v":""},{"$f":"IF(AH39=\"\",\"\",1)","v":""},{"$f":"IF(AH39=\"\",\"\",0)","v":""},{"$f":"IF(AH39=\"\",\"\",0)","v":""},{"$f":"IF(AH39=\"\",\"\",1)","v":""},{"$f":"IF(AH39=\"\",\"\",0)","v":""},{"$f":"IF(AH39=\"\",\"\",0)","v":""},{"$f":"IF(AH39=\"\",\"\",0)","v":""},{"$f":"IF(AH39=\"\",\"\",0)","v":""},{"$f":"IF(AH39=\"\",\"\",1)","v":""},{"$f":"IF(AH39=\"\",\"\",TODAY())","v":""},{"$f":"IF(AH39=\"\",\"\",\"WTSYSTEMUSER\")","v":""},{"$f":"IF(AH39=\"\",\"\",TODAY())","v":""},{"$f":"IF(AH39=\"\",\"\",\"WTSYSTEMUSER\")","v":""},null,{"$f":"IF(AH39=\"\",\"\",0)","v":""},null,{"$f":"IF(AH39=\"\",\"\",IF(LEFT(Main!F14,4)=\"1007\",IF('Test 1'!E54=\"YES\",VLOOKUP(\"Pass\",'Send Sync'!$Y$56:$Z$57,2,FALSE),IF('Test 1'!E54=\"NO\",VLOOKUP(\"Fail\",'Send Sync'!$Y$56:$Z$57,2,FALSE),\"\")),\"\"))","v":""},"","",null,null,null,null,null,null,null,{"$f":"IF(AH21=\"\",\"\",\"AgencyEntityInstance Id 37\")","v":""},{"$f":"IF(BY36=\"\",\"\",VLOOKUP(\"CM_T27_List\",'Send Sync'!$K$56:$L$96,2,FALSE))","v":""},null,{"$f":"IF(BY36=\"\",\"\",\"AgencyEntityInstance Id 34\")","v":""},{"$f":"IF(BY36=\"\",\"\",CONCATENATE(\"<Data><cm_t27_list_inspecrow>\",CO399,\"</cm_t27_list_inspecrow><cm_t27_list_max>\",CO400,\"</cm_t27_list_max><cm_t27_list_min>\",CO401,\"</cm_t27_list_min><cm_t27_list_order>\",CO402,\"</cm_t27_list_order><cm_t27_list_pct_passing>\",CO403,\"</cm_t27_list_pct_passing><cm_t27_list_sieve>\",CO404,\"</cm_t27_list_sieve></Data>\"))","v":""},{"$f":"IF(BY36=\"\",\"\",TODAY())","v":""},{"$f":"IF(BY36=\"\",\"\",\"WTSYSTEMUSER\")","v":""},{"$f":"IF(BY36=\"\",\"\",TODAY())","v":""},{"$f":"IF(BY36=\"\",\"\",\"WTSYSTEMUSER\")","v":""},null,null,null,null,null,null,null,"",null,{"$f":"IF(BY4=\"\",\"\",\"AgencyEntityInsData Id 37\")","v":""},{"$f":"IF(BY4=\"\",\"\",\"AgencyEntityInstance Id 2\")","v":""},{"$f":"IF(BY4=\"\",\"\",\"cm_base_grad_T1T5_spec_02_half_inch_max\")","v":""},{"$f":"IF(BY4=\"\",\"\",\"90\")","v":""},{"$f":"IF(BY4=\"\",\"\",TODAY())","v":""},{"$f":"IF(BY4=\"\",\"\",\"WTSYSTEMUSER\")","v":""},{"$f":"IF(BY4=\"\",\"\",TODAY())","v":""},{"$f":"IF(BY4=\"\",\"\",\"WTSYSTEMUSER\")","v":""}]
[null,"SampledFrom",null,null,null,null,null,null,null,null,null,null,null,null,null,null,"",{"$f":"IF('Contract and Quantities'!AS76=\"\",\"\",'Contract and Quantities'!AS76)","v":""},"",null,{"$f":"IF(R40=\"\",\"\",'Contract and Quantities'!AR76)","v":""},{"$f":"IF(R40=\"\",\"\",'Contract and Quantities'!AQ76)","v":""},"","","","","",null,null,null,"T255 Aggregate % Moisture",null,null,{"$f":"IF('Test 1'!AH50=\"Y\",\"SampleRecordTest Id 38\",\"\")","v":""},"",{"$f":"IF(AQ40=\"\",\"\",VLOOKUP(AQ40,'Send Sync'!$I$56:$J$145,2,FALSE))","v":""},{"$f":"IF(AH40=\"\",\"\",2)","v":""},{"$f":"IF(AH40=\"\",\"\",'Send Sync'!$R$56)","v":""},{"$f":"IF(AH40=\"\",\"\",'Send Sync'!$T$56)","v":""},null,null,null,{"$f":"IF(AH40=\"\",\"\",\"AASHTO T255 Total Moisture Content of Aggregate by Drying\")","v":""},null,"","",{"$f":"IF(AH40=\"\",\"\",COUNTIF(AJ39:AJ41,AJ40))","v":""},"",null,"","","","","","","","","","","","","","",null,"",null,{"$f":"IF(AH40=\"\",\"\",IF(LEFT(Main!F14,4)=\"1007\",IF('Test 1'!I54=\"YES\",VLOOKUP(\"Pass\",'Send Sync'!$Y$56:$Z$57,2,FALSE),IF('Test 1'!I54=\"NO\",VLOOKUP(\"Fail\",'Send Sync'!$Y$56:$Z$57,2,FALSE),\"\")),\"\"))","v":""},"","",null,null,null,null,null,null,null,{"$f":"IF(AH21=\"\",\"\",\"AgencyEntityInstance Id 38\")","v":""},{"$f":"IF(BY36=\"\",\"\",VLOOKUP(\"CM_T27_List\",'Send Sync'!$K$56:$L$96,2,FALSE))","v":""},null,{"$f":"IF(BY36=\"\",\"\",\"AgencyEntityInstance Id 34\")","v":""},{"$f":"IF(BY36=\"\",\"\",CONCATENATE(\"<Data><cm_t27_list_inspecrow>\",CO405,\"</cm_t27_list_inspecrow><cm_t27_list_max>\",CO406,\"</cm_t27_list_max><cm_t27_list_min>\",CO407,\"</cm_t27_list_min><cm_t27_list_order>\",CO408,\"</cm_t27_list_order><cm_t27_list_pct_passing>\",CO409,\"</cm_t27_list_pct_passing><cm_t27_list_sieve>\",CO410,\"</cm_t27_list_sieve></Data>\"))","v":""},{"$f":"IF(BY36=\"\",\"\",TODAY())","v":""},{"$f":"IF(BY36=\"\",\"\",\"WTSYSTEMUSER\")","v":""},{"$f":"IF(BY36=\"\",\"\",TODAY())","v":""},{"$f":"IF(BY36=\"\",\"\",\"WTSYSTEMUSER\")","v":""},null,null,null,null,null,null,null,"",null,{"$f":"IF(BY4=\"\",\"\",\"AgencyEntityInsData Id 38\")","v":""},{"$f":"IF(BY4=\"\",\"\",\"AgencyEntityInstance Id 2\")","v":""},{"$f":"IF(BY4=\"\",\"\",\"cm_base_grad_T1T5_spec_02_half_inch_min\")","v":""},{"$f":"IF(BY4=\"\",\"\",\"60\")","v":""},{"$f":"IF(BY4=\"\",\"\",TODAY())","v":""},{"$f":"IF(BY4=\"\",\"\",\"WTSYSTEMUSER\")","v":""},{"$f":"IF(BY4=\"\",\"\",TODAY())","v":""},{"$f":"IF(BY4=\"\",\"\",\"WTSYSTEMUSER\")","v":""}]
[null,"SampleOrigin",{"$f":"IF(Main!N25=\"\",\"\",Main!N25)","v":""},null,null,null,null,null,null,null,null,null,null,null,null,null,"",{"$f":"IF('Contract and Quantities'!AS77=\"\",\"\",'Contract and Quantities'!AS77)","v":""},"",null,{"$f":"IF(R41=\"\",\"\",'Contract and Quantities'!AR77)","v":""},{"$f":"IF(R41=\"\",\"\",'Contract and Quantities'!AQ77)","v":""},"","","","","",null,null,null,"T255 Aggregate % Moisture",null,null,{"$f":"IF('Test 1'!AI50=\"Y\",\"SampleRecordTest Id 39\",\"\")","v":""},{"$f":"IF(AH41=\"\",\"\",\"Sample Id\")","v":""},{"$f":"IF(AQ41=\"\",\"\",VLOOKUP(AQ41,'Send Sync'!$I$56:$J$145,2,FALSE))","v":""},{"$f":"IF(AH41=\"\",\"\",3)","v":""},{"$f":"IF(AH41=\"\",\"\",'Send Sync'!$R$56)","v":""},{"$f":"IF(AH41=\"\",\"\",'Send Sync'!$T$56)","v":""},null,null,null,{"$f":"IF(AH41=\"\",\"\",\"AASHTO T255 Total Moisture Content of Aggregate by Drying\")","v":""},null,"","",{"$f":"IF(AH41=\"\",\"\",COUNTIF(AJ39:AJ41,AJ41))","v":""},"",null,"","","","","","","","","","","","","","",null,"",null,{"$f":"IF(AH41=\"\",\"\",IF(LEFT(Main!F14,4)=\"1007\",IF('Test 1'!M54=\"YES\",VLOOKUP(\"Pass\",'Send Sync'!$Y$56:$Z$57,2,FALSE),IF('Test 1'!M54=\"NO\",VLOOKUP(\"Fail\",'Send Sync'!$Y$56:$Z$57,2,FALSE),\"\")),\"\"))","v":""},"","",null,null,null,null,null,null,null,{"$f":"IF(AH21=\"\",\"\",\"AgencyEntityInstance Id 39\")","v":""},{"$f":"IF(BY36=\"\",\"\",VLOOKUP(\"CM_T27_List\",'Send Sync'!$K$56:$L$96,2,FALSE))","v":""},null,{"$f":"IF(BY36=\"\",\"\",\"AgencyEntityInstance Id 34\")","v":""},{"$f":"IF(BY36=\"\",\"\",CONCATENATE(\"<Data><cm_t27_list_inspecrow>\",CO411,\"</cm_t27_list_inspecrow><cm_t27_list_max>\",CO412,\"</cm_t27_list_max><cm_t27_list_min>\",CO413,\"</cm_t27_list_min><cm_t27_list_order>\",CO414,\"</cm_t27_list_order><cm_t27_list_pct_passing>\",CO415,\"</cm_t27_list_pct_passing><cm_t27_list_sieve>\",CO416,\"</cm_t27_list_sieve></Data>\"))","v":""},{"$f":"IF(BY36=\"\",\"\",TODAY())","v":""},{"$f":"IF(BY36=\"\",\"\",\"WTSYSTEMUSER\")","v":""},{"$f":"IF(BY36=\"\",\"\",TODAY())","v":""},{"$f":"IF(BY36=\"\",\"\",\"WTSYSTEMUSER\")","v":""},null,null,null,null,null,null,null,"",null,{"$f":"IF(BY4=\"\",\"\",\"AgencyEntityInsData Id 39\")","v":""},{"$f":"IF(BY4=\"\",\"\",\"AgencyEntityInstance Id 2\")","v":""},{"$f":"IF(BY4=\"\",\"\",\"cm_base_grad_T1T5_spec_03_no_4_max\")","v":""},{"$f":"IF(BY4=\"\",\"\",\"60\")","v":""},{"$f":"IF(BY4=\"\",\"\",TODAY())","v":""},{"$f":"IF(BY4=\"\",\"\",\"WTSYSTEMUSER\")","v":""},{"$f":"IF(BY4=\"\",\"\",TODAY())","v":""},{"$f":"IF(BY4=\"\",\"\",\"WTSYSTEMUSER\")","v":""}]
[null,"SampleSizeUnits",null,null,null,null,null,null,null,null,null,null,null,null,null,null,"",{"$f":"IF('Contract and Quantities'!AS78=\"\",\"\",'Contract and Quantities'!AS78)","v":""},"",null,{"$f":"IF(R42=\"\",\"\",'Contract and Quantities'!AR78)","v":""},{"$f":"IF(R42=\"\",\"\",'Contract and Quantities'!AQ78)","v":""},"","","","","",null,null,null,"Flat and Elongated",null,null,{"$f":"IF('Test 2'!AG40=\"Y\",\"SampleRecordTest Id 40\",\"\")","v":""},{"$f":"IF(AH42=\"\",\"\",\"Sample Id\")","v":""},{"$f":"IF(AQ42=\"\",\"\",VLOOKUP(AQ42,'Send Sync'!$I$56:$J$145,2,FALSE))","v":""},{"$f":"IF(AH42=\"\",\"\",1)","v":""},{"$f":"IF(AH42=\"\",\"\",'Send Sync'!$R$56)","v":""},{"$f":"IF(AH42=\"\",\"\",'Send Sync'!$T$56)","v":""},null,null,null,{"$f":"IF(AH42=\"\",\"\",IF($C$43=\"QA\",\"ASTM D4791 Flat and Elongated Field (QA)\",\"ASTM D4791 Flat and Elongated Field (QC)\"))","v":""},null,{"$f":"IF(AH42=\"\",\"\",TODAY())","v":""},{"$f":"IF(AH42=\"\",\"\",TODAY())","v":""},{"$f":"IF(AH42=\"\",\"\",COUNTIF(AJ42:AJ46,AJ42))","v":""},{"$f":"IF(AH42=\"\",\"\",TODAY())","v":""},null,{"$f":"IF(AH42=\"\",\"\",60)","v":""},{"$f":"IF(AH42=\"\",\"\",1)","v":""},{"$f":"IF(AH42=\"\",\"\",0)","v":""},{"$f":"IF(AH42=\"\",\"\",0)","v":""},{"$f":"IF(AH42=\"\",\"\",1)","v":""},{"$f":"IF(AH42=\"\",\"\",0)","v":""},{"$f":"IF(AH42=\"\",\"\",0)","v":""},{"$f":"IF(AH42=\"\",\"\",0)","v":""},{"$f":"IF(AH42=\"\",\"\",0)","v":""},{"$f":"IF(AH42=\"\",\"\",1)","v":""},{"$f":"IF(AH42=\"\",\"\",TODAY())","v":""},{"$f":"IF(AH42=\"\",\"\",\"WTSYSTEMUSER\")","v":""},{"$f":"IF(AH42=\"\",\"\",TODAY())","v":""},{"$f":"IF(AH42=\"\",\"\",\"WTSYSTEMUSER\")","v":""},null,{"$f":"IF(AH42=\"\",\"\",0)","v":""},null,"","","",null,null,null,null,null,null,null,{"$f":"IF(AH21=\"\",\"\",\"AgencyEntityInstance Id 40\")","v":""},{"$f":"IF(BY36=\"\",\"\",VLOOKUP(\"CM_T27_List\",'Send Sync'!$K$56:$L$96,2,FALSE))","v":""},null,{"$f":"IF(BY36=\"\",\"\",\"AgencyEntityInstance Id 34\")","v":""},{"$f":"IF(BY36=\"\",\"\",CONCATENATE(\"<Data><cm_t27_list_inspecrow>\",CO417,\"</cm_t27_list_inspecrow><cm_t27_list_max>\",CO418,\"</cm_t27_list_max><cm_t27_list_min>\",CO419,\"</cm_t27_list_min><cm_t27_list_order>\",CO420,\"</cm_t27_list_order><cm_t27_list_pct_passing>\",CO421,\"</cm_t27_list_pct_passing><cm_t27_list_sieve>\",CO422,\"</cm_t27_list_sieve></Data>\"))","v":""},{"$f":"IF(BY36=\"\",\"\",TODAY())","v":""},{"$f":"IF(BY36=\"\",\"\",\"WTSYSTEMUSER\")","v":""},{"$f":"IF(BY36=\"\",\"\",TODAY())","v":""},{"$f":"IF(BY36=\"\",\"\",\"WTSYSTEMUSER\")","v":""},null,null,null,null,null,null,null,"",null,{"$f":"IF(BY4=\"\",\"\",\"AgencyEntityInsData Id 40\")","v":""},{"$f":"IF(BY4=\"\",\"\",\"AgencyEntityInstance Id 2\")","v":""},{"$f":"IF(BY4=\"\",\"\",\"cm_base_grad_T1T5_spec_03_no_4_min\")","v":""},{"$f":"IF(BY4=\"\",\"\",\"35\")","v":""},{"$f":"IF(BY4=\"\",\"\",TODAY())","v":""},{"$f":"IF(BY4=\"\",\"\",\"WTSYSTEMUSER\")","v":""},{"$f":"IF(BY4=\"\",\"\",TODAY())","v":""},{"$f":"IF(BY4=\"\",\"\",\"WTSYSTEMUSER\")","v":""}]
[null,"SampleType",{"$f":"Main!U40","v":"QCC"},null,null,null,null,null,null,null,null,null,null,null,null,null,"",{"$f":"IF('Contract and Quantities'!AS79=\"\",\"\",'Contract and Quantities'!AS79)","v":""},"",null,{"$f":"IF(R43=\"\",\"\",'Contract and Quantities'!AR79)","v":""},{"$f":"IF(R43=\"\",\"\",'Contract and Quantities'!AQ79)","v":""},"","","","","",null,null,null,"Flat and Elongated",null,null,{"$f":"IF('Test 2'!AH40=\"Y\",\"SampleRecordTest Id 41\",\"\")","v":""},"",{"$f":"IF(AQ43=\"\",\"\",VLOOKUP(AQ43,'Send Sync'!$I$56:$J$145,2,FALSE))","v":""},{"$f":"IF(AH43=\"\",\"\",2)","v":""},{"$f":"IF(AH43=\"\",\"\",'Send Sync'!$R$56)","v":""},{"$f":"IF(AH43=\"\",\"\",'Send Sync'!$T$56)","v":""},null,null,null,{"$f":"IF(AH43=\"\",\"\",IF($C$43=\"QA\",\"ASTM D4791 Flat and Elongated Field (QA)\",\"ASTM D4791 Flat and Elongated Field (QC)\"))","v":""},null,"","",{"$f":"IF(AH43=\"\",\"\",COUNTIF(AJ42:AJ46,AJ43))","v":""},"",null,"","","","","","","","","","","","","","",null,"",null,"","","",null,null,null,null,null,null,null,{"$f":"IF(AH21=\"\",\"\",\"AgencyEntityInstance Id 41\")","v":""},{"$f":"IF(BY36=\"\",\"\",VLOOKUP(\"CM_T27_List\",'Send Sync'!$K$56:$L$96,2,FALSE))","v":""},null,{"$f":"IF(BY36=\"\",\"\",\"AgencyEntityInstance Id 34\")","v":""},{"$f":"IF(BY36=\"\",\"\",CONCATENATE(\"<Data><cm_t27_list_inspecrow>\",CO423,\"</cm_t27_list_inspecrow><cm_t27_list_max>\",CO424,\"</cm_t27_list_max><cm_t27_list_min>\",CO425,\"</cm_t27_list_min><cm_t27_list_order>\",CO426,\"</cm_t27_list_order><cm_t27_list_pct_passing>\",CO427,\"</cm_t27_list_pct_passing><cm_t27_list_sieve>\",CO428,\"</cm_t27_list_sieve></Data>\"))","v":""},{"$f":"IF(BY36=\"\",\"\",TODAY())","v":""},{"$f":"IF(BY36=\"\",\"\",\"WTSYSTEMUSER\")","v":""},{"$f":"IF(BY36=\"\",\"\",TODAY())","v":""},{"$f":"IF(BY36=\"\",\"\",\"WTSYSTEMUSER\")","v":""},null,null,null,null,null,null,null,"",null,{"$f":"IF(BY4=\"\",\"\",\"AgencyEntityInsData Id 41\")","v":""},{"$f":"IF(BY4=\"\",\"\",\"AgencyEntityInstance Id 2\")","v":""},{"$f":"IF(BY4=\"\",\"\",\"cm_base_grad_T1T5_spec_04_no_30_max\")","v":""},{"$f":"IF(BY4=\"\",\"\",\"35\")","v":""},{"$f":"IF(BY4=\"\",\"\",TODAY())","v":""},{"$f":"IF(BY4=\"\",\"\",\"WTSYSTEMUSER\")","v":""},{"$f":"IF(BY4=\"\",\"\",TODAY())","v":""},{"$f":"IF(BY4=\"\",\"\",\"WTSYSTEMUSER\")","v":""}]
[null,"SealNumber",null,null,null,null,null,null,null,null,null,null,null,null,null,null,"",{"$f":"IF('Contract and Quantities'!AS80=\"\",\"\",'Contract and Quantities'!AS80)","v":""},"",null,{"$f":"IF(R44=\"\",\"\",'Contract and Quantities'!AR80)","v":""},{"$f":"IF(R44=\"\",\"\",'Contract and Quantities'!AQ80)","v":""},"","","","","",null,null,null,"Flat and Elongated",null,null,{"$f":"IF('Test 2'!AI40=\"Y\",\"SampleRecordTest Id 42\",\"\")","v":""},"",{"$f":"IF(AQ44=\"\",\"\",VLOOKUP(AQ44,'Send Sync'!$I$56:$J$145,2,FALSE))","v":""},{"$f":"IF(AH44=\"\",\"\",3)","v":""},{"$f":"IF(AH44=\"\",\"\",'Send Sync'!$R$56)","v":""},{"$f":"IF(AH44=\"\",\"\",'Send Sync'!$T$56)","v":""},null,null,null,{"$f":"IF(AH44=\"\",\"\",IF($C$43=\"QA\",\"ASTM D4791 Flat and Elongated Field (QA)\",\"ASTM D4791 Flat and Elongated Field (QC)\"))","v":""},null,"","",{"$f":"IF(AH44=\"\",\"\",COUNTIF(AJ42:AJ46,AJ44))","v":""},"",null,"","","","","","","","","","","","","","",null,"",null,"","","",null,null,null,null,null,null,null,{"$f":"IF(AH21=\"\",\"\",\"AgencyEntityInstance Id 42\")","v":""},{"$f":"IF(BY36=\"\",\"\",VLOOKUP(\"CM_T27_List\",'Send Sync'!$K$56:$L$96,2,FALSE))","v":""},null,{"$f":"IF(BY36=\"\",\"\",\"AgencyEntityInstance Id 34\")","v":""},{"$f":"IF(BY36=\"\",\"\",CONCATENATE(\"<Data><cm_t27_list_inspecrow>\",CO429,\"</cm_t27_list_inspecrow><cm_t27_list_max>\",CO430,\"</cm_t27_list_max><cm_t27_list_min>\",CO431,\"</cm_t27_list_min><cm_t27_list_order>\",CO432,\"</cm_t27_list_order><cm_t27_list_pct_passing>\",CO433,\"</cm_t27_list_pct_passing><cm_t27_list_sieve>\",CO434,\"</cm_t27_list_sieve></Data>\"))","v":""},{"$f":"IF(BY36=\"\",\"\",TODAY())","v":""},{"$f":"IF(BY36=\"\",\"\",\"WTSYSTEMUSER\")","v":""},{"$f":"IF(BY36=\"\",\"\",TODAY())","v":""},{"$f":"IF(BY36=\"\",\"\",\"WTSYSTEMUSER\")","v":""},null,null,null,null,null,null,null,"",null,{"$f":"IF(BY4=\"\",\"\",\"AgencyEntityInsData Id 42\")","v":""},{"$f":"IF(BY4=\"\",\"\",\"AgencyEntityInstance Id 2\")","v":""},{"$f":"IF(BY4=\"\",\"\",\"cm_base_grad_T1T5_spec_04_no_30_min\")","v":""},{"$f":"IF(BY4=\"\",\"\",\"10\")","v":""},{"$f":"IF(BY4=\"\",\"\",TODAY())","v":""},{"$f":"IF(BY4=\"\",\"\",\"WTSYSTEMUSER\")","v":""},{"$f":"IF(BY4=\"\",\"\",TODAY())","v":""},{"$f":"IF(BY4=\"\",\"\",\"WTSYSTEMUSER\")","v":""}]
[null,"Station",null,null,null,null,null,null,null,null,null,null,null,null,null,null,"",{"$f":"IF('Contract and Quantities'!AS81=\"\",\"\",'Contract and Quantities'!AS81)","v":""},"",null,{"$f":"IF(R45=\"\",\"\",'Contract and Quantities'!AR81)","v":""},{"$f":"IF(R45=\"\",\"\",'Contract and Quantities'!AQ81)","v":""},"","","","","",null,null,null,"Flat and Elongated",null,null,{"$f":"IF('Test 2'!AJ40=\"Y\",\"SampleRecordTest Id 43\",\"\")","v":""},"",{"$f":"IF(AQ45=\"\",\"\",VLOOKUP(AQ45,'Send Sync'!$I$56:$J$145,2,FALSE))","v":""},{"$f":"IF(AH45=\"\",\"\",4)","v":""},{"$f":"IF(AH45=\"\",\"\",'Send Sync'!$R$56)","v":""},{"$f":"IF(AH45=\"\",\"\",'Send Sync'!$T$56)","v":""},null,null,null,{"$f":"IF(AH45=\"\",\"\",IF($C$43=\"QA\",\"ASTM D4791 Flat and Elongated Field (QA)\",\"ASTM D4791 Flat and Elongated Field (QC)\"))","v":""},null,"","",{"$f":"IF(AH45=\"\",\"\",COUNTIF(AJ42:AJ46,AJ45))","v":""},"",null,"","","","","","","","","","","","","","",null,"",null,"","","",null,null,null,null,null,null,null,{"$f":"IF(AH21=\"\",\"\",\"AgencyEntityInstance Id 43\")","v":""},{"$f":"IF(BY36=\"\",\"\",VLOOKUP(\"CM_T27_List\",'Send Sync'!$K$56:$L$96,2,FALSE))","v":""},null,{"$f":"IF(BY36=\"\",\"\",\"AgencyEntityInstance Id 34\")","v":""},{"$f":"IF(BY36=\"\",\"\",CONCATENATE(\"<Data><cm_t27_list_inspecrow>\",CO435,\"</cm_t27_list_inspecrow><cm_t27_list_max>\",CO436,\"</cm_t27_list_max><cm_t27_list_min>\",CO437,\"</cm_t27_list_min><cm_t27_list_order>\",CO438,\"</cm_t27_list_order><cm_t27_list_pct_passing>\",CO439,\"</cm_t27_list_pct_passing><cm_t27_list_sieve>\",CO440,\"</cm_t27_list_sieve></Data>\"))","v":""},{"$f":"IF(BY36=\"\",\"\",TODAY())","v":""},{"$f":"IF(BY36=\"\",\"\",\"WTSYSTEMUSER\")","v":""},{"$f":"IF(BY36=\"\",\"\",TODAY())","v":""},{"$f":"IF(BY36=\"\",\"\",\"WTSYSTEMUSER\")","v":""},null,null,null,null,null,null,null,"",null,{"$f":"IF(BY4=\"\",\"\",\"AgencyEntityInsData Id 43\")","v":""},{"$f":"IF(BY4=\"\",\"\",\"AgencyEntityInstance Id 2\")","v":""},{"$f":"IF(BY4=\"\",\"\",\"cm_base_grad_T1T5_spec_05_no_200_max\")","v":""},{"$f":"IF(BY4=\"\",\"\",\"15\")","v":""},{"$f":"IF(BY4=\"\",\"\",TODAY())","v":""},{"$f":"IF(BY4=\"\",\"\",\"WTSYSTEMUSER\")","v":""},{"$f":"IF(BY4=\"\",\"\",TODAY())","v":""},{"$f":"IF(BY4=\"\",\"\",\"WTSYSTEMUSER\")","v":""}]
[null,"SationPlus",null,null,null,null,null,null,null,null,null,null,null,null,null,null,"",{"$f":"IF('Contract and Quantities'!AS82=\"\",\"\",'Contract and Quantities'!AS82)","v":""},"",null,{"$f":"IF(R46=\"\",\"\",'Contract and Quantities'!AR82)","v":""},{"$f":"IF(R46=\"\",\"\",'Contract and Quantities'!AQ82)","v":""},"","","","","",null,null,null,"Flat and Elongated",null,null,{"$f":"IF('Test 2'!AK40=\"Y\",\"SampleRecordTest Id 44\",\"\")","v":""},"",{"$f":"IF(AQ46=\"\",\"\",VLOOKUP(AQ46,'Send Sync'!$I$56:$J$145,2,FALSE))","v":""},{"$f":"IF(AH46=\"\",\"\",5)","v":""},{"$f":"IF(AH46=\"\",\"\",'Send Sync'!$R$56)","v":""},{"$f":"IF(AH46=\"\",\"\",'Send Sync'!$T$56)","v":""},null,null,null,{"$f":"IF(AH46=\"\",\"\",IF($C$43=\"QA\",\"ASTM D4791 Flat and Elongated Field (QA)\",\"ASTM D4791 Flat and Elongated Field (QC)\"))","v":""},null,"","",{"$f":"IF(AH46=\"\",\"\",COUNTIF(AJ42:AJ46,AJ46))","v":""},"",null,"","","","","","","","","","","","","","",null,"",null,null,"","",null,null,null,null,null,null,null,{"$f":"IF(AH21=\"\",\"\",\"AgencyEntityInstance Id 44\")","v":""},{"$f":"IF(BY36=\"\",\"\",VLOOKUP(\"CM_T27_List\",'Send Sync'!$K$56:$L$96,2,FALSE))","v":""},null,{"$f":"IF(BY36=\"\",\"\",\"AgencyEntityInstance Id 34\")","v":""},{"$f":"IF(BY36=\"\",\"\",CONCATENATE(\"<Data><cm_t27_list_inspecrow>\",CO441,\"</cm_t27_list_inspecrow><cm_t27_list_max>\",CO442,\"</cm_t27_list_max><cm_t27_list_min>\",CO443,\"</cm_t27_list_min><cm_t27_list_order>\",CO444,\"</cm_t27_list_order><cm_t27_list_pct_passing>\",CO445,\"</cm_t27_list_pct_passing><cm_t27_list_sieve>\",CO446,\"</cm_t27_list_sieve></Data>\"))","v":""},{"$f":"IF(BY36=\"\",\"\",TODAY())","v":""},{"$f":"IF(BY36=\"\",\"\",\"WTSYSTEMUSER\")","v":""},{"$f":"IF(BY36=\"\",\"\",TODAY())","v":""},{"$f":"IF(BY36=\"\",\"\",\"WTSYSTEMUSER\")","v":""},null,null,null,null,null,null,null,"",null,{"$f":"IF(BY4=\"\",\"\",\"AgencyEntityInsData Id 44\")","v":""},{"$f":"IF(BY4=\"\",\"\",\"AgencyEntityInstance Id 2\")","v":""},{"$f":"IF(BY4=\"\",\"\",\"cm_base_grad_T1T5_spec_05_no_200_min\")","v":""},{"$f":"IF(BY4=\"\",\"\",\"0\")","v":""},{"$f":"IF(BY4=\"\",\"\",TODAY())","v":""},{"$f":"IF(BY4=\"\",\"\",\"WTSYSTEMUSER\")","v":""},{"$f":"IF(BY4=\"\",\"\",TODAY())","v":""},{"$f":"IF(BY4=\"\",\"\",\"WTSYSTEMUSER\")","v":""}]
[null,"BuyAmerican",0,null,null,null,null,null,null,null,null,null,null,null,null,null,"",{"$f":"IF('Contract and Quantities'!AS83=\"\",\"\",'Contract and Quantities'!AS83)","v":""},"",null,{"$f":"IF(R47=\"\",\"\",'Contract and Quantities'!AR83)","v":""},{"$f":"IF(R47=\"\",\"\",'Contract and Quantities'!AQ83)","v":""},"","","","","",null,null,null,"QCQA grad",null,null,{"$f":"IF(AND('Test 4'!AE11=1,$C$43=\"QCQA\"),\"SampleRecordTest Id 45\",\"\")","v":""},{"$f":"IF(AH47=\"\",\"\",\"Sample Id\")","v":""},{"$f":"IF(AQ47=\"\",\"\",VLOOKUP(AQ47,'Send Sync'!$I$56:$J$145,2,FALSE))","v":""},{"$f":"IF(AH47=\"\",\"\",COUNTIF($AJ$47:AJ47,AJ47))","v":""},{"$f":"IF(AH47=\"\",\"\",'Send Sync'!$R$56)","v":""},{"$f":"IF(AH47=\"\",\"\",'Send Sync'!$T$56)","v":""},null,null,null,{"$f":"IF(AH47=\"\",\"\",\"AASHTO T27 Aggregate Gradation QA Retained Split (QCQA)\")","v":""},null,{"$f":"IF(AH47=\"\",\"\",TODAY())","v":""},{"$f":"IF(AH47=\"\",\"\",TODAY())","v":""},{"$f":"IF(AH47=\"\",\"\",COUNTIF($AJ$47:$AJ$52,AJ47))","v":""},{"$f":"IF(AH47=\"\",\"\",TODAY())","v":""},null,{"$f":"IF(AH47=\"\",\"\",60)","v":""},{"$f":"IF(AH47=\"\",\"\",1)","v":""},{"$f":"IF(AH47=\"\",\"\",0)","v":""},{"$f":"IF(AH47=\"\",\"\",0)","v":""},{"$f":"IF(AH47=\"\",\"\",1)","v":""},{"$f":"IF(AH47=\"\",\"\",0)","v":""},{"$f":"IF(AH47=\"\",\"\",0)","v":""},{"$f":"IF(AH47=\"\",\"\",0)","v":""},{"$f":"IF(AH47=\"\",\"\",0)","v":""},{"$f":"IF(AH47=\"\",\"\",1)","v":""},{"$f":"IF(AH47=\"\",\"\",TODAY())","v":""},{"$f":"IF(AH47=\"\",\"\",\"WTSYSTEMUSER\")","v":""},{"$f":"IF(AH47=\"\",\"\",TODAY())","v":""},{"$f":"IF(AH47=\"\",\"\",\"WTSYSTEMUSER\")","v":""},null,{"$f":"IF(AH47=\"\",\"\",0)","v":""},null,null,{"$f":"IF(AH47=\"\",\"\",1)","v":""},{"$f":"IF(AH47=\"\",\"\",0)","v":""},null,null,null,null,null,null,null,{"$f":"IF(AH21=\"\",\"\",\"AgencyEntityInstance Id 45\")","v":""},{"$f":"IF(BY36=\"\",\"\",VLOOKUP(\"CM_T27_List\",'Send Sync'!$K$56:$L$96,2,FALSE))","v":""},null,{"$f":"IF(BY36=\"\",\"\",\"AgencyEntityInstance Id 34\")","v":""},{"$f":"IF(BY36=\"\",\"\",CONCATENATE(\"<Data><cm_t27_list_inspecrow>\",CO447,\"</cm_t27_list_inspecrow><cm_t27_list_max>\",CO448,\"</cm_t27_list_max><cm_t27_list_min>\",CO449,\"</cm_t27_list_min><cm_t27_list_order>\",CO450,\"</cm_t27_list_order><cm_t27_list_pct_passing>\",CO451,\"</cm_t27_list_pct_passing><cm_t27_list_sieve>\",CO452,\"</cm_t27_list_sieve></Data>\"))","v":""},{"$f":"IF(BY36=\"\",\"\",TODAY())","v":""},{"$f":"IF(BY36=\"\",\"\",\"WTSYSTEMUSER\")","v":""},{"$f":"IF(BY36=\"\",\"\",TODAY())","v":""},{"$f":"IF(BY36=\"\",\"\",\"WTSYSTEMUSER\")","v":""},null,null,null,null,null,null,null,"",null,{"$f":"IF(BY5=\"\",\"\",\"AgencyEntityInsData Id 45\")","v":""},{"$f":"IF(BY5=\"\",\"\",\"AgencyEntityInstance Id 3\")","v":""},{"$f":"IF(BY5=\"\",\"\",\"cm_base_grad_T1T5_01_inch\")","v":""},{"$f":"IF(BY5=\"\",\"\",IF('Test 1'!$AE25=0,\"\",'Test 1'!$AE25))","v":""},{"$f":"IF(BY5=\"\",\"\",TODAY())","v":""},{"$f":"IF(BY5=\"\",\"\",\"WTSYSTEMUSER\")","v":""},{"$f":"IF(BY5=\"\",\"\",TODAY())","v":""},{"$f":"IF(BY5=\"\",\"\",\"WTSYSTEMUSER\")","v":""}]
[null,"SpltSample",0,null,null,null,null,null,null,null,null,null,null,null,null,null,"",{"$f":"IF('Contract and Quantities'!AS84=\"\",\"\",'Contract and Quantities'!AS84)","v":""},"",null,{"$f":"IF(R48=\"\",\"\",'Contract and Quantities'!AR84)","v":""},{"$f":"IF(R48=\"\",\"\",'Contract and Quantities'!AQ84)","v":""},"","","","","",null,null,null,"QCQA grad 2",null,null,{"$f":"IF(AND('Test 4'!AF11=1,$C$43=\"QCQA\"),\"SampleRecordTest Id 46\",\"\")","v":""},"",{"$f":"IF(AQ48=\"\",\"\",VLOOKUP(AQ48,'Send Sync'!$I$56:$J$145,2,FALSE))","v":""},{"$f":"IF(AH48=\"\",\"\",COUNTIF($AJ$47:AJ48,AJ48))","v":""},{"$f":"IF(AH48=\"\",\"\",'Send Sync'!$R$56)","v":""},{"$f":"IF(AH48=\"\",\"\",'Send Sync'!$T$56)","v":""},null,null,null,{"$f":"IF(AH48=\"\",\"\",\"AASHTO T27 Aggregate Gradation QA Retained Split (QCQA)\")","v":""},null,"","","","",null,"","","","","","","","","","","","","","",null,"",null,null,"","",null,null,null,null,null,null,null,{"$f":"IF(AH21=\"\",\"\",\"AgencyEntityInstance Id 46\")","v":""},{"$f":"IF(BY36=\"\",\"\",VLOOKUP(\"CM_T27_List\",'Send Sync'!$K$56:$L$96,2,FALSE))","v":""},null,{"$f":"IF(BY36=\"\",\"\",\"AgencyEntityInstance Id 34\")","v":""},{"$f":"IF(BY36=\"\",\"\",CONCATENATE(\"<Data><cm_t27_list_inspecrow>\",CO453,\"</cm_t27_list_inspecrow><cm_t27_list_max>\",CO454,\"</cm_t27_list_max><cm_t27_list_min>\",CO455,\"</cm_t27_list_min><cm_t27_list_order>\",CO456,\"</cm_t27_list_order><cm_t27_list_pct_passing>\",CO457,\"</cm_t27_list_pct_passing><cm_t27_list_sieve>\",CO458,\"</cm_t27_list_sieve></Data>\"))","v":""},{"$f":"IF(BY36=\"\",\"\",TODAY())","v":""},{"$f":"IF(BY36=\"\",\"\",\"WTSYSTEMUSER\")","v":""},{"$f":"IF(BY36=\"\",\"\",TODAY())","v":""},{"$f":"IF(BY36=\"\",\"\",\"WTSYSTEMUSER\")","v":""},null,null,null,null,null,null,null,"",null,{"$f":"IF(BY5=\"\",\"\",\"AgencyEntityInsData Id 46\")","v":""},{"$f":"IF(BY5=\"\",\"\",\"AgencyEntityInstance Id 3\")","v":""},{"$f":"IF(BY5=\"\",\"\",\"cm_base_grad_T1T5_02_half_inch\")","v":""},{"$f":"IF(BY5=\"\",\"\",IF('Test 1'!$AE26=0,\"\",'Test 1'!$AE26))","v":""},{"$f":"IF(BY5=\"\",\"\",TODAY())","v":""},{"$f":"IF(BY5=\"\",\"\",\"WTSYSTEMUSER\")","v":""},{"$f":"IF(BY5=\"\",\"\",TODAY())","v":""},{"$f":"IF(BY5=\"\",\"\",\"WTSYSTEMUSER\")","v":""}]
[null,"Created Dt",{"$f":"TODAY()","v":"2026-01-02"},null,null,null,null,null,null,null,null,null,null,null,null,null,"",{"$f":"IF('Contract and Quantities'!AS85=\"\",\"\",'Contract and Quantities'!AS85)","v":""},"",null,{"$f":"IF(R49=\"\",\"\",'Contract and Quantities'!AR85)","v":""},{"$f":"IF(R49=\"\",\"\",'Contract and Quantities'!AQ85)","v":""},"","","","","",null,null,null,"QCQA del 1",null,null,{"$f":"IF(AND('Test 4'!AE30=1,$C$43=\"QCQA\"),\"SampleRecordTest Id 47\",\"\")","v":""},"",{"$f":"IF(AQ49=\"\",\"\",VLOOKUP(AQ49,'Send Sync'!$I$56:$J$145,2,FALSE))","v":""},{"$f":"IF(AH49=\"\",\"\",COUNTIF($AJ$47:AJ49,AJ49))","v":""},{"$f":"IF(AH49=\"\",\"\",'Send Sync'!$R$56)","v":""},{"$f":"IF(AH49=\"\",\"\",'Send Sync'!$T$56)","v":""},null,null,null,{"$f":"IF(AH49=\"\",\"\",\"MoDOT TM71 Deleterious QA Retained Split (QCQA)\")","v":""},null,"","","","",null,"","","","","","","","","","","","","","",null,"",null,null,"","",null,null,null,null,null,null,null,{"$f":"IF(AH21=\"\",\"\",\"AgencyEntityInstance Id 47\")","v":""},{"$f":"IF(BY36=\"\",\"\",VLOOKUP(\"CM_T27_List\",'Send Sync'!$K$56:$L$96,2,FALSE))","v":""},null,{"$f":"IF(BY36=\"\",\"\",\"AgencyEntityInstance Id 34\")","v":""},{"$f":"IF(BY36=\"\",\"\",CONCATENATE(\"<Data><cm_t27_list_inspecrow>\",CO459,\"</cm_t27_list_inspecrow><cm_t27_list_max>\",CO460,\"</cm_t27_list_max><cm_t27_list_min>\",CO461,\"</cm_t27_list_min><cm_t27_list_order>\",CO462,\"</cm_t27_list_order><cm_t27_list_pct_passing>\",CO463,\"</cm_t27_list_pct_passing><cm_t27_list_sieve>\",CO464,\"</cm_t27_list_sieve></Data>\"))","v":""},{"$f":"IF(BY36=\"\",\"\",TODAY())","v":""},{"$f":"IF(BY36=\"\",\"\",\"WTSYSTEMUSER\")","v":""},{"$f":"IF(BY36=\"\",\"\",TODAY())","v":""},{"$f":"IF(BY36=\"\",\"\",\"WTSYSTEMUSER\")","v":""},null,null,null,null,null,null,null,"",null,{"$f":"IF(BY5=\"\",\"\",\"AgencyEntityInsData Id 47\")","v":""},{"$f":"IF(BY5=\"\",\"\",\"AgencyEntityInstance Id 3\")","v":""},{"$f":"IF(BY5=\"\",\"\",\"cm_base_grad_T1T5_03_no_4\")","v":""},{"$f":"IF(BY5=\"\",\"\",IF('Test 1'!$AE27=0,\"\",'Test 1'!$AE27))","v":""},{"$f":"IF(BY5=\"\",\"\",TODAY())","v":""},{"$f":"IF(BY5=\"\",\"\",\"WTSYSTEMUSER\")","v":""},{"$f":"IF(BY5=\"\",\"\",TODAY())","v":""},{"$f":"IF(BY5=\"\",\"\",\"WTSYSTEMUSER\")","v":""}]
[null,"CreatedBy","WTSYSTEMUSER",null,null,null,null,null,null,null,null,null,null,null,null,null,"",{"$f":"IF('Contract and Quantities'!AS86=\"\",\"\",'Contract and Quantities'!AS86)","v":""},"",null,{"$f":"IF(R50=\"\",\"\",'Contract and Quantities'!AR86)","v":""},{"$f":"IF(R50=\"\",\"\",'Contract and Quantities'!AQ86)","v":""},"","","","","",null,null,null,"QCQA del 2",null,null,{"$f":"IF(AND('Test 4'!AF30=1,$C$43=\"QCQA\"),\"SampleRecordTest Id 48\",\"\")","v":""},"",{"$f":"IF(AQ50=\"\",\"\",VLOOKUP(AQ50,'Send Sync'!$I$56:$J$145,2,FALSE))","v":""},{"$f":"IF(AH50=\"\",\"\",COUNTIF($AJ$47:AJ50,AJ50))","v":""},{"$f":"IF(AH50=\"\",\"\",'Send Sync'!$R$56)","v":""},{"$f":"IF(AH50=\"\",\"\",'Send Sync'!$T$56)","v":""},null,null,null,{"$f":"IF(AH50=\"\",\"\",\"MoDOT TM71 Deleterious QA Retained Split (QCQA)\")","v":""},null,"","","","",null,"","","","","","","","","","","","","","",null,"",null,null,"","",null,null,null,null,null,null,null,{"$f":"IF(AH21=\"\",\"\",\"AgencyEntityInstance Id 48\")","v":""},{"$f":"IF(BY36=\"\",\"\",VLOOKUP(\"CM_T27_List\",'Send Sync'!$K$56:$L$96,2,FALSE))","v":""},null,{"$f":"IF(BY36=\"\",\"\",\"AgencyEntityInstance Id 34\")","v":""},{"$f":"IF(BY36=\"\",\"\",CONCATENATE(\"<Data><cm_t27_list_inspecrow>\",CO465,\"</cm_t27_list_inspecrow><cm_t27_list_max>\",CO466,\"</cm_t27_list_max><cm_t27_list_min>\",CO467,\"</cm_t27_list_min><cm_t27_list_order>\",CO468,\"</cm_t27_list_order><cm_t27_list_pct_passing>\",CO469,\"</cm_t27_list_pct_passing><cm_t27_list_sieve>\",CO470,\"</cm_t27_list_sieve></Data>\"))","v":""},{"$f":"IF(BY36=\"\",\"\",TODAY())","v":""},{"$f":"IF(BY36=\"\",\"\",\"WTSYSTEMUSER\")","v":""},{"$f":"IF(BY36=\"\",\"\",TODAY())","v":""},{"$f":"IF(BY36=\"\",\"\",\"WTSYSTEMUSER\")","v":""},null,null,null,null,null,null,null,"",null,{"$f":"IF(BY5=\"\",\"\",\"AgencyEntityInsData Id 48\")","v":""},{"$f":"IF(BY5=\"\",\"\",\"AgencyEntityInstance Id 3\")","v":""},{"$f":"IF(BY5=\"\",\"\",\"cm_base_grad_T1T5_04_no_30\")","v":""},{"$f":"IF(BY5=\"\",\"\",IF('Test 1'!$AE28=0,\"\",'Test 1'!$AE28))","v":""},{"$f":"IF(BY5=\"\",\"\",TODAY())","v":""},{"$f":"IF(BY5=\"\",\"\",\"WTSYSTEMUSER\")","v":""},{"$f":"IF(BY5=\"\",\"\",TODAY())","v":""},{"$f":"IF(BY5=\"\",\"\",\"WTSYSTEMUSER\")","v":""}]
[null,"LastUpdated Dt",{"$f":"TODAY()","v":"2026-01-02"},null,null,null,null,null,null,null,null,null,null,null,null,null,"",{"$f":"IF('Contract and Quantities'!AS87=\"\",\"\",'Contract and Quantities'!AS87)","v":""},"",null,{"$f":"IF(R51=\"\",\"\",'Contract and Quantities'!AR87)","v":""},{"$f":"IF(R51=\"\",\"\",'Contract and Quantities'!AQ87)","v":""},"","","","","",null,null,null,"QCQA Abs 1",null,null,{"$f":"IF(AND('Test 4'!AE42=1,$C$43=\"QCQA\"),\"SampleRecordTest Id 49\",\"\")","v":""},"",{"$f":"IF(AQ51=\"\",\"\",VLOOKUP(AQ51,'Send Sync'!$I$56:$J$145,2,FALSE))","v":""},{"$f":"IF(AH51=\"\",\"\",COUNTIF($AJ$47:AJ51,AJ51))","v":""},{"$f":"IF(AH51=\"\",\"\",'Send Sync'!$R$56)","v":""},{"$f":"IF(AH51=\"\",\"\",'Send Sync'!$T$56)","v":""},null,null,null,{"$f":"IF(AH51=\"\",\"\",\"AASHTO T85 Absorption for Concrete Aggregate (QCQA)\")","v":""},null,"","","","",null,"","","","","","","","","","","","","","",null,"",null,null,"","",null,null,null,null,null,null,null,{"$f":"IF(AH21=\"\",\"\",\"AgencyEntityInstance Id 49\")","v":""},{"$f":"IF(BY36=\"\",\"\",VLOOKUP(\"CM_T27_List\",'Send Sync'!$K$56:$L$96,2,FALSE))","v":""},null,{"$f":"IF(BY36=\"\",\"\",\"AgencyEntityInstance Id 34\")","v":""},{"$f":"IF(BY36=\"\",\"\",CONCATENATE(\"<Data><cm_t27_list_inspecrow>\",CO471,\"</cm_t27_list_inspecrow><cm_t27_list_max>\",CO472,\"</cm_t27_list_max><cm_t27_list_min>\",CO473,\"</cm_t27_list_min><cm_t27_list_order>\",CO474,\"</cm_t27_list_order><cm_t27_list_pct_passing>\",CO475,\"</cm_t27_list_pct_passing><cm_t27_list_sieve>\",CO476,\"</cm_t27_list_sieve></Data>\"))","v":""},{"$f":"IF(BY36=\"\",\"\",TODAY())","v":""},{"$f":"IF(BY36=\"\",\"\",\"WTSYSTEMUSER\")","v":""},{"$f":"IF(BY36=\"\",\"\",TODAY())","v":""},{"$f":"IF(BY36=\"\",\"\",\"WTSYSTEMUSER\")","v":""},null,null,null,null,null,null,null,"",null,{"$f":"IF(BY5=\"\",\"\",\"AgencyEntityInsData Id 49\")","v":""},{"$f":"IF(BY5=\"\",\"\",\"AgencyEntityInstance Id 3\")","v":""},{"$f":"IF(BY5=\"\",\"\",\"cm_base_grad_T1T5_05_no_200\")","v":""},{"$f":"IF(BY5=\"\",\"\",IF('Test 1'!$AE29=0,\"\",'Test 1'!$AE29))","v":""},{"$f":"IF(BY5=\"\",\"\",TODAY())","v":""},{"$f":"IF(BY5=\"\",\"\",\"WTSYSTEMUSER\")","v":""},{"$f":"IF(BY5=\"\",\"\",TODAY())","v":""},{"$f":"IF(BY5=\"\",\"\",\"WTSYSTEMUSER\")","v":""}]
[null,"LastUpdatedBy","WTSYSTEMUSER",null,null,null,null,null,null,null,null,null,null,null,null,null,"",{"$f":"IF('Contract and Quantities'!AS88=\"\",\"\",'Contract and Quantities'!AS88)","v":""},"",null,{"$f":"IF(R52=\"\",\"\",'Contract and Quantities'!AR88)","v":""},{"$f":"IF(R52=\"\",\"\",'Contract and Quantities'!AQ88)","v":""},"","","","","",null,null,null,"QCQA Abs 2",null,null,{"$f":"IF(AND('Test 4'!AF42=1,$C$43=\"QCQA\"),\"SampleRecordTest Id 50\",\"\")","v":""},"",{"$f":"IF(AQ52=\"\",\"\",VLOOKUP(AQ52,'Send Sync'!$I$56:$J$145,2,FALSE))","v":""},{"$f":"IF(AH52=\"\",\"\",COUNTIF($AJ$47:AJ52,AJ52))","v":""},{"$f":"IF(AH52=\"\",\"\",'Send Sync'!$R$56)","v":""},{"$f":"IF(AH52=\"\",\"\",'Send Sync'!$T$56)","v":""},null,null,null,{"$f":"IF(AH52=\"\",\"\",\"AASHTO T85 Absorption for Concrete Aggregate (QCQA)\")","v":""},null,"","","","",null,"","","","","","","","","","","","","","",null,"",null,null,"","",null,null,null,null,null,null,null,{"$f":"IF(AH22=\"\",\"\",\"AgencyEntityInstance Id 50\")","v":""},{"$f":"IF(BY52=\"\",\"\",VLOOKUP(\"CM_T27_Detail\",'Send Sync'!$K$56:$L$96,2,FALSE))","v":""},{"$f":"IF(BY52=\"\",\"\",\"SampleRecordTest Id 20\")","v":""},"",{"$f":"IF(BY52=\"\",\"\",CONCATENATE(\"<Data><cm_t27_detail_inspec>\",CO477,\"</cm_t27_detail_inspec></Data>\"))","v":""},{"$f":"IF(BY52=\"\",\"\",TODAY())","v":""},{"$f":"IF(BY52=\"\",\"\",\"WTSYSTEMUSER\")","v":""},{"$f":"IF(BY52=\"\",\"\",TODAY())","v":""},{"$f":"IF(BY52=\"\",\"\",\"WTSYSTEMUSER\")","v":""},null,null,null,null,null,null,null,"",null,{"$f":"IF(BY5=\"\",\"\",\"AgencyEntityInsData Id 50\")","v":""},{"$f":"IF(BY5=\"\",\"\",\"AgencyEntityInstance Id 3\")","v":""},{"$f":"IF(BY5=\"\",\"\",\"cm_base_grad_T1T5_08_station_1\")","v":""},{"$f":"IF(BY5=\"\",\"\",IF('Test 1'!$F18=0,\"\",'Test 1'!$F18))","v":""},{"$f":"IF(BY5=\"\",\"\",TODAY())","v":""},{"$f":"IF(BY5=\"\",\"\",\"WTSYSTEMUSER\")","v":""},{"$f":"IF(BY5=\"\",\"\",TODAY())","v":""},{"$f":"IF(BY5=\"\",\"\",\"WTSYSTEMUSER\")","v":""}]
[null,"DailySourceReport ID",null,null,null,null,null,null,null,null,null,null,null,null,null,null,null,null,null,null,null,null,null,null,null,null,null,null,null,null,"Base T1T5 Agg QCQA 1",null,null,{"$f":"IF(AND('Test 4'!AH11=1,$C$43=\"QCQA\"),\"SampleRecordTest Id 51\",\"\")","v":""},"",{"$f":"IF(AQ53=\"\",\"\",VLOOKUP(AQ53,'Send Sync'!$I$56:$J$145,2,FALSE))","v":""},{"$f":"IF(AH53=\"\",\"\",COUNTIF($AJ$47:AJ53,AJ53))","v":""},{"$f":"IF(AH53=\"\",\"\",'Send Sync'!$R$56)","v":""},{"$f":"IF(AH53=\"\",\"\",'Send Sync'!$T$56)","v":""},null,null,null,{"$f":"IF(AH53=\"\",\"\",\"Base T1&T5 Aggregate Retained Comparison (QCQA)\")","v":""},null,"","",{"$f":"IF(AH53=\"\",\"\",COUNTIF($AJ$48:$AJ$53,AJ53))","v":""},"",null,"","","","","","","","","","","","","","",null,"",null,null,"","",null,null,null,null,null,null,null,{"$f":"IF(AH22=\"\",\"\",\"AgencyEntityInstance Id 51\")","v":""},{"$f":"IF(BY52=\"\",\"\",VLOOKUP(\"CM_T27_List\",'Send Sync'!$K$56:$L$96,2,FALSE))","v":""},null,{"$f":"IF(BY52=\"\",\"\",\"AgencyEntityInstance Id 50\")","v":""},{"$f":"IF(BY52=\"\",\"\",CONCATENATE(\"<Data><cm_t27_list_inspecrow>\",CO478,\"</cm_t27_list_inspecrow><cm_t27_list_max>\",CO479,\"</cm_t27_list_max><cm_t27_list_min>\",CO480,\"</cm_t27_list_min><cm_t27_list_order>\",CO481,\"</cm_t27_list_order><cm_t27_list_pct_passing>\",CO482,\"</cm_t27_list_pct_passing><cm_t27_list_sieve>\",CO483,\"</cm_t27_list_sieve></Data>\"))","v":""},{"$f":"IF(BY52=\"\",\"\",TODAY())","v":""},{"$f":"IF(BY52=\"\",\"\",\"WTSYSTEMUSER\")","v":""},{"$f":"IF(BY52=\"\",\"\",TODAY())","v":""},{"$f":"IF(BY52=\"\",\"\",\"WTSYSTEMUSER\")","v":""},null,null,null,null,null,null,null,"",null,{"$f":"IF(BY5=\"\",\"\",\"AgencyEntityInsData Id 51\")","v":""},{"$f":"IF(BY5=\"\",\"\",\"AgencyEntityInstance Id 3\")","v":""},{"$f":"IF(BY5=\"\",\"\",\"cm_base_grad_T1T5_09_station_2\")","v":""},{"$f":"IF(BY5=\"\",\"\",IF('Test 1'!$J18=0,\"\",'Test 1'!$J18))","v":""},{"$f":"IF(BY5=\"\",\"\",TODAY())","v":""},{"$f":"IF(BY5=\"\",\"\",\"WTSYSTEMUSER\")","v":""},{"$f":"IF(BY5=\"\",\"\",TODAY())","v":""},{"$f":"IF(BY5=\"\",\"\",\"WTSYSTEMUSER\")","v":""}]
[null,"Log Dt",null,null,null,null,null,null,null,null,null,null,null,null,null,null,null,null,null,null,null,null,null,null,null,null,null,null,null,null,"Base T1T5 Agg QCQA 1",null,null,{"$f":"IF(AND('Test 4'!AI11=1,$C$43=\"QCQA\"),\"SampleRecordTest Id 52\",\"\")","v":""},"",{"$f":"IF(AQ54=\"\",\"\",VLOOKUP(AQ54,'Send Sync'!$I$56:$J$145,2,FALSE))","v":""},{"$f":"IF(AH54=\"\",\"\",COUNTIF($AJ$47:AJ54,AJ54))","v":""},{"$f":"IF(AH54=\"\",\"\",'Send Sync'!$R$56)","v":""},{"$f":"IF(AH54=\"\",\"\",'Send Sync'!$T$56)","v":""},null,null,null,{"$f":"IF(AH54=\"\",\"\",\"Base T1&T5 Aggregate Retained Comparison (QCQA)\")","v":""},null,"","",{"$f":"IF(AH54=\"\",\"\",COUNTIF($AJ$49:$AJ$54,AJ54))","v":""},"",null,"","","","","","","","","","","","","","",null,"",null,null,"","",null,null,null,null,null,null,null,{"$f":"IF(AH22=\"\",\"\",\"AgencyEntityInstance Id 52\")","v":""},{"$f":"IF(BY52=\"\",\"\",VLOOKUP(\"CM_T27_List\",'Send Sync'!$K$56:$L$96,2,FALSE))","v":""},null,{"$f":"IF(BY52=\"\",\"\",\"AgencyEntityInstance Id 50\")","v":""},{"$f":"IF(BY52=\"\",\"\",CONCATENATE(\"<Data><cm_t27_list_inspecrow>\",CO484,\"</cm_t27_list_inspecrow><cm_t27_list_max>\",CO485,\"</cm_t27_list_max><cm_t27_list_min>\",CO486,\"</cm_t27_list_min><cm_t27_list_order>\",CO487,\"</cm_t27_list_order><cm_t27_list_pct_passing>\",CO488,\"</cm_t27_list_pct_passing><cm_t27_list_sieve>\",CO489,\"</cm_t27_list_sieve></Data>\"))","v":""},{"$f":"IF(BY52=\"\",\"\",TODAY())","v":""},{"$f":"IF(BY52=\"\",\"\",\"WTSYSTEMUSER\")","v":""},{"$f":"IF(BY52=\"\",\"\",TODAY())","v":""},{"$f":"IF(BY52=\"\",\"\",\"WTSYSTEMUSER\")","v":""},null,null,null,null,null,null,null,"",null,{"$f":"IF(BY5=\"\",\"\",\"AgencyEntityInsData Id 52\")","v":""},{"$f":"IF(BY5=\"\",\"\",\"AgencyEntityInstance Id 3\")","v":""},{"$f":"IF(BY5=\"\",\"\",\"cm_base_grad_T1T5_10_centerline_location\")","v":""},{"$f":"IF(BY5=\"\",\"\",IF('Test 1'!I19=\"\",\"\",'Test 1'!I19))","v":""},{"$f":"IF(BY5=\"\",\"\",TODAY())","v":""},{"$f":"IF(BY5=\"\",\"\",\"WTSYSTEMUSER\")","v":""},{"$f":"IF(BY5=\"\",\"\",TODAY())","v":""},{"$f":"IF(BY5=\"\",\"\",\"WTSYSTEMUSER\")","v":""}]
[null,"MixDesign ID",null,null,null,null,null,null,null,null,null,null,null,null,null,null,null,null,null,null,null,null,null,null,null,null,null,null,null,null,null,null,null,null,null,null,null,null,null,null,null,null,null,null,null,null,null,null,null,null,null,null,null,null,null,null,null,null,null,null,null,null,null,null,null,null,null,null,null,null,null,null,null,null,null,null,{"$f":"IF(AH22=\"\",\"\",\"AgencyEntityInstance Id 53\")","v":""},{"$f":"IF(BY52=\"\",\"\",VLOOKUP(\"CM_T27_List\",'Send Sync'!$K$56:$L$96,2,FALSE))","v":""},null,{"$f":"IF(BY52=\"\",\"\",\"AgencyEntityInstance Id 50\")","v":""},{"$f":"IF(BY52=\"\",\"\",CONCATENATE(\"<Data><cm_t27_list_inspecrow>\",CO490,\"</cm_t27_list_inspecrow><cm_t27_list_max>\",CO491,\"</cm_t27_list_max><cm_t27_list_min>\",CO492,\"</cm_t27_list_min><cm_t27_list_order>\",CO493,\"</cm_t27_list_order><cm_t27_list_pct_passing>\",CO494,\"</cm_t27_list_pct_passing><cm_t27_list_sieve>\",CO495,\"</cm_t27_list_sieve></Data>\"))","v":""},{"$f":"IF(BY52=\"\",\"\",TODAY())","v":""},{"$f":"IF(BY52=\"\",\"\",\"WTSYSTEMUSER\")","v":""},{"$f":"IF(BY52=\"\",\"\",TODAY())","v":""},{"$f":"IF(BY52=\"\",\"\",\"WTSYSTEMUSER\")","v":""},null,null,null,null,null,null,null,"",null,{"$f":"IF(BY5=\"\",\"\",\"AgencyEntityInsData Id 53\")","v":""},{"$f":"IF(BY5=\"\",\"\",\"AgencyEntityInstance Id 3\")","v":""},{"$f":"IF(BY5=\"\",\"\",\"cm_base_grad_T1T5_11_tested_by\")","v":""},{"$f":"IF(BY5=\"\",\"\",IF('Test 1'!H13=\"\",\"\",'Test 1'!H13))","v":""},{"$f":"IF(BY5=\"\",\"\",TODAY())","v":""},{"$f":"IF(BY5=\"\",\"\",\"WTSYSTEMUSER\")","v":""},{"$f":"IF(BY5=\"\",\"\",TODAY())","v":""},{"$f":"IF(BY5=\"\",\"\",\"WTSYSTEMUSER\")","v":""}]
[null,"MixDesignType ID",null,null,null,null,null,null,null,null,null,null,null,null,null,null,null,null,null,null,null,null,null,null,null,null,null,null,null,null,null,null,null,null,null,null,null,null,null,null,null,null,null,null,null,null,null,null,null,null,null,null,null,null,null,null,null,null,null,null,null,null,null,null,null,null,null,null,null,null,null,null,null,null,null,null,{"$f":"IF(AH22=\"\",\"\",\"AgencyEntityInstance Id 54\")","v":""},{"$f":"IF(BY52=\"\",\"\",VLOOKUP(\"CM_T27_List\",'Send Sync'!$K$56:$L$96,2,FALSE))","v":""},null,{"$f":"IF(BY52=\"\",\"\",\"AgencyEntityInstance Id 50\")","v":""},{"$f":"IF(BY52=\"\",\"\",CONCATENATE(\"<Data><cm_t27_list_inspecrow>\",CO496,\"</cm_t27_list_inspecrow><cm_t27_list_max>\",CO497,\"</cm_t27_list_max><cm_t27_list_min>\",CO498,\"</cm_t27_list_min><cm_t27_list_order>\",CO499,\"</cm_t27_list_order><cm_t27_list_pct_passing>\",CO500,\"</cm_t27_list_pct_passing><cm_t27_list_sieve>\",CO501,\"</cm_t27_list_sieve></Data>\"))","v":""},{"$f":"IF(BY52=\"\",\"\",TODAY())","v":""},{"$f":"IF(BY52=\"\",\"\",\"WTSYSTEMUSER\")","v":""},{"$f":"IF(BY52=\"\",\"\",TODAY())","v":""},{"$f":"IF(BY52=\"\",\"\",\"WTSYSTEMUSER\")","v":""},null,null,null,null,null,null,null,"",null,{"$f":"IF(BY5=\"\",\"\",\"AgencyEntityInsData Id 54\")","v":""},{"$f":"IF(BY5=\"\",\"\",\"AgencyEntityInstance Id 3\")","v":""},{"$f":"IF(BY5=\"\",\"\",\"cm_base_grad_T1T5_half_inch_label\")","v":""},{"$f":"IF(BY5=\"\",\"\",\"1/2\"\" (12.5 mm)\")","v":""},{"$f":"IF(BY5=\"\",\"\",TODAY())","v":""},{"$f":"IF(BY5=\"\",\"\",\"WTSYSTEMUSER\")","v":""},{"$f":"IF(BY5=\"\",\"\",TODAY())","v":""},{"$f":"IF(BY5=\"\",\"\",\"WTSYSTEMUSER\")","v":""}]
[null,"AssociatedContracts",{"$f":"IF(AND(NOT('Contract and Quantities'!J33=\"\"),NOT('Contract and Quantities'!O33=\"\"),NOT('Contract and Quantities'!T33=\"\")),CONCATENATE('Contract and Quantities'!J33,\",\",'Contract and Quantities'!O33,\",\",'Contract and Quantities'!T33),IF(AND(NOT('Contract and Quantities'!J33=\"\"),NOT('Contract and Quantities'!O33=\"\")),CONCATENATE('Contract and Quantities'!J33,\",\",'Contract and Quantities'!O33),'Contract and Quantities'!J33))","v":0},null,null,null,null,null,null,null,null,null,null,null,null,null,null,null,null,null,null,null,null,null,null,null,null,null,null,null,null,null,null,null,null,null,null,null,null,null,null,null,null,null,null,null,null,null,null,null,null,null,null,null,null,null,null,null,null,null,null,null,null,null,null,null,null,null,null,null,null,null,null,null,null,null,{"$f":"IF(AH22=\"\",\"\",\"AgencyEntityInstance Id 55\")","v":""},{"$f":"IF(BY52=\"\",\"\",VLOOKUP(\"CM_T27_List\",'Send Sync'!$K$56:$L$96,2,FALSE))","v":""},null,{"$f":"IF(BY52=\"\",\"\",\"AgencyEntityInstance Id 50\")","v":""},{"$f":"IF(BY52=\"\",\"\",CONCATENATE(\"<Data><cm_t27_list_inspecrow>\",CO502,\"</cm_t27_list_inspecrow><cm_t27_list_max>\",CO503,\"</cm_t27_list_max><cm_t27_list_min>\",CO504,\"</cm_t27_list_min><cm_t27_list_order>\",CO505,\"</cm_t27_list_order><cm_t27_list_pct_passing>\",CO506,\"</cm_t27_list_pct_passing><cm_t27_list_sieve>\",CO507,\"</cm_t27_list_sieve></Data>\"))","v":""},{"$f":"IF(BY52=\"\",\"\",TODAY())","v":""},{"$f":"IF(BY52=\"\",\"\",\"WTSYSTEMUSER\")","v":""},{"$f":"IF(BY52=\"\",\"\",TODAY())","v":""},{"$f":"IF(BY52=\"\",\"\",\"WTSYSTEMUSER\")","v":""},null,null,null,null,null,null,null,"",null,{"$f":"IF(BY5=\"\",\"\",\"AgencyEntityInsData Id 55\")","v":""},{"$f":"IF(BY5=\"\",\"\",\"AgencyEntityInstance Id 3\")","v":""},{"$f":"IF(BY5=\"\",\"\",\"cm_base_grad_T1T5_half_inch_max\")","v":""},{"$f":"IF(BY5=\"\",\"\",\"90\")","v":""},{"$f":"IF(BY5=\"\",\"\",TODAY())","v":""},{"$f":"IF(BY5=\"\",\"\",\"WTSYSTEMUSER\")","v":""},{"$f":"IF(BY5=\"\",\"\",TODAY())","v":""},{"$f":"IF(BY5=\"\",\"\",\"WTSYSTEMUSER\")","v":""}]
[null,"DailyWorkReport ID",null,null,null,null,null,null,null,null,null,null,null,null,null,null,null,null,null,null,null,null,null,null,null,null,null,null,null,null,null,null,null,null,null,null,null,null,null,null,null,null,null,null,null,null,null,null,null,null,null,null,null,null,null,null,null,null,null,null,null,null,null,null,null,null,null,null,null,null,null,null,null,null,null,null,{"$f":"IF(AH22=\"\",\"\",\"AgencyEntityInstance Id 56\")","v":""},{"$f":"IF(BY52=\"\",\"\",VLOOKUP(\"CM_T27_List\",'Send Sync'!$K$56:$L$96,2,FALSE))","v":""},null,{"$f":"IF(BY52=\"\",\"\",\"AgencyEntityInstance Id 50\")","v":""},{"$f":"IF(BY52=\"\",\"\",CONCATENATE(\"<Data><cm_t27_list_inspecrow>\",CO508,\"</cm_t27_list_inspecrow><cm_t27_list_max>\",CO509,\"</cm_t27_list_max><cm_t27_list_min>\",CO510,\"</cm_t27_list_min><cm_t27_list_order>\",CO511,\"</cm_t27_list_order><cm_t27_list_pct_passing>\",CO512,\"</cm_t27_list_pct_passing><cm_t27_list_sieve>\",CO513,\"</cm_t27_list_sieve></Data>\"))","v":""},{"$f":"IF(BY52=\"\",\"\",TODAY())","v":""},{"$f":"IF(BY52=\"\",\"\",\"WTSYSTEMUSER\")","v":""},{"$f":"IF(BY52=\"\",\"\",TODAY())","v":""},{"$f":"IF(BY52=\"\",\"\",\"WTSYSTEMUSER\")","v":""},null,null,null,null,null,null,null,"",null,{"$f":"IF(BY5=\"\",\"\",\"AgencyEntityInsData Id 56\")","v":""},{"$f":"IF(BY5=\"\",\"\",\"AgencyEntityInstance Id 3\")","v":""},{"$f":"IF(BY5=\"\",\"\",\"cm_base_grad_T1T5_half_inch_min\")","v":""},{"$f":"IF(BY5=\"\",\"\",\"60\")","v":""},{"$f":"IF(BY5=\"\",\"\",TODAY())","v":""},{"$f":"IF(BY5=\"\",\"\",\"WTSYSTEMUSER\")","v":""},{"$f":"IF(BY5=\"\",\"\",TODAY())","v":""},{"$f":"IF(BY5=\"\",\"\",\"WTSYSTEMUSER\")","v":""}]
[null,"RefSampleStatus ID",{"$f":"'Contract and Quantities'!I156","v":9},null,null,null,null,null,null,null,null,null,null,null,null,null,null,null,null,null,null,null,null,null,null,null,null,null,null,null,null,null,null,null,null,null,null,null,null,null,null,null,null,null,null,null,null,null,null,null,null,null,null,null,null,null,null,null,null,null,null,null,null,null,null,null,null,null,null,null,null,null,null,null,null,null,{"$f":"IF(AH22=\"\",\"\",\"AgencyEntityInstance Id 57\")","v":""},{"$f":"IF(BY52=\"\",\"\",VLOOKUP(\"CM_T27_List\",'Send Sync'!$K$56:$L$96,2,FALSE))","v":""},null,{"$f":"IF(BY52=\"\",\"\",\"AgencyEntityInstance Id 50\")","v":""},{"$f":"IF(BY52=\"\",\"\",CONCATENATE(\"<Data><cm_t27_list_inspecrow>\",CO514,\"</cm_t27_list_inspecrow><cm_t27_list_max>\",CO515,\"</cm_t27_list_max><cm_t27_list_min>\",CO516,\"</cm_t27_list_min><cm_t27_list_order>\",CO517,\"</cm_t27_list_order><cm_t27_list_pct_passing>\",CO518,\"</cm_t27_list_pct_passing><cm_t27_list_sieve>\",CO519,\"</cm_t27_list_sieve></Data>\"))","v":""},{"$f":"IF(BY52=\"\",\"\",TODAY())","v":""},{"$f":"IF(BY52=\"\",\"\",\"WTSYSTEMUSER\")","v":""},{"$f":"IF(BY52=\"\",\"\",TODAY())","v":""},{"$f":"IF(BY52=\"\",\"\",\"WTSYSTEMUSER\")","v":""},null,null,null,null,null,null,null,"",null,{"$f":"IF(BY5=\"\",\"\",\"AgencyEntityInsData Id 57\")","v":""},{"$f":"IF(BY5=\"\",\"\",\"AgencyEntityInstance Id 3\")","v":""},{"$f":"IF(BY5=\"\",\"\",\"cm_base_grad_T1T5_inch_label\")","v":""},{"$f":"IF(BY5=\"\",\"\",\"1\"\" (25.0 mm)\")","v":""},{"$f":"IF(BY5=\"\",\"\",TODAY())","v":""},{"$f":"IF(BY5=\"\",\"\",\"WTSYSTEMUSER\")","v":""},{"$f":"IF(BY5=\"\",\"\",TODAY())","v":""},{"$f":"IF(BY5=\"\",\"\",\"WTSYSTEMUSER\")","v":""}]
[null,"StatusLastModified Dt",{"$f":"TODAY()","v":"2026-01-02"},null,null,null,null,null,null,null,null,null,null,null,null,null,null,null,null,null,null,null,null,null,null,null,null,null,null,null,null,null,null,null,null,null,null,null,null,null,null,null,null,null,null,null,null,null,null,null,null,null,null,null,null,null,null,null,null,null,null,null,null,null,null,null,null,null,null,null,null,null,null,null,null,null,{"$f":"IF(AH22=\"\",\"\",\"AgencyEntityInstance Id 58\")","v":""},{"$f":"IF(BY52=\"\",\"\",VLOOKUP(\"CM_T27_List\",'Send Sync'!$K$56:$L$96,2,FALSE))","v":""},null,{"$f":"IF(BY52=\"\",\"\",\"AgencyEntityInstance Id 50\")","v":""},{"$f":"IF(BY52=\"\",\"\",CONCATENATE(\"<Data><cm_t27_list_inspecrow>\",CO520,\"</cm_t27_list_inspecrow><cm_t27_list_max>\",CO521,\"</cm_t27_list_max><cm_t27_list_min>\",CO522,\"</cm_t27_list_min><cm_t27_list_order>\",CO523,\"</cm_t27_list_order><cm_t27_list_pct_passing>\",CO524,\"</cm_t27_list_pct_passing><cm_t27_list_sieve>\",CO525,\"</cm_t27_list_sieve></Data>\"))","v":""},{"$f":"IF(BY52=\"\",\"\",TODAY())","v":""},{"$f":"IF(BY52=\"\",\"\",\"WTSYSTEMUSER\")","v":""},{"$f":"IF(BY52=\"\",\"\",TODAY())","v":""},{"$f":"IF(BY52=\"\",\"\",\"WTSYSTEMUSER\")","v":""},null,null,null,null,null,null,null,"",null,{"$f":"IF(BY5=\"\",\"\",\"AgencyEntityInsData Id 58\")","v":""},{"$f":"IF(BY5=\"\",\"\",\"AgencyEntityInstance Id 3\")","v":""},{"$f":"IF(BY5=\"\",\"\",\"cm_base_grad_T1T5_inch_max\")","v":""},{"$f":"IF(BY5=\"\",\"\",\"100\")","v":""},{"$f":"IF(BY5=\"\",\"\",TODAY())","v":""},{"$f":"IF(BY5=\"\",\"\",\"WTSYSTEMUSER\")","v":""},{"$f":"IF(BY5=\"\",\"\",TODAY())","v":""},{"$f":"IF(BY5=\"\",\"\",\"WTSYSTEMUSER\")","v":""}]
[null,"SampleSize",null,null,null,null,null,null,null,null,null,null,null,null,null,null,null,null,null,null,null,null,null,null,null,null,null,null,null,null,null,null,null,null,null,null,null,null,null,null,null,null,null,null,null,null,null,null,null,null,null,null,null,null,null,null,null,null,null,null,null,null,null,null,null,null,null,null,null,null,null,null,null,null,null,null,{"$f":"IF(AH22=\"\",\"\",\"AgencyEntityInstance Id 59\")","v":""},{"$f":"IF(BY52=\"\",\"\",VLOOKUP(\"CM_T27_List\",'Send Sync'!$K$56:$L$96,2,FALSE))","v":""},null,{"$f":"IF(BY52=\"\",\"\",\"AgencyEntityInstance Id 50\")","v":""},{"$f":"IF(BY52=\"\",\"\",CONCATENATE(\"<Data><cm_t27_list_inspecrow>\",CO526,\"</cm_t27_list_inspecrow><cm_t27_list_max>\",CO527,\"</cm_t27_list_max><cm_t27_list_min>\",CO528,\"</cm_t27_list_min><cm_t27_list_order>\",CO529,\"</cm_t27_list_order><cm_t27_list_pct_passing>\",CO530,\"</cm_t27_list_pct_passing><cm_t27_list_sieve>\",CO531,\"</cm_t27_list_sieve></Data>\"))","v":""},{"$f":"IF(BY52=\"\",\"\",TODAY())","v":""},{"$f":"IF(BY52=\"\",\"\",\"WTSYSTEMUSER\")","v":""},{"$f":"IF(BY52=\"\",\"\",TODAY())","v":""},{"$f":"IF(BY52=\"\",\"\",\"WTSYSTEMUSER\")","v":""},null,null,null,null,null,null,null,"",null,{"$f":"IF(BY5=\"\",\"\",\"AgencyEntityInsData Id 59\")","v":""},{"$f":"IF(BY5=\"\",\"\",\"AgencyEntityInstance Id 3\")","v":""},{"$f":"IF(BY5=\"\",\"\",\"cm_base_grad_T1T5_inch_min\")","v":""},{"$f":"IF(BY5=\"\",\"\",\"100\")","v":""},{"$f":"IF(BY5=\"\",\"\",TODAY())","v":""},{"$f":"IF(BY5=\"\",\"\",\"WTSYSTEMUSER\")","v":""},{"$f":"IF(BY5=\"\",\"\",TODAY())","v":""},{"$f":"IF(BY5=\"\",\"\",\"WTSYSTEMUSER\")","v":""}]
[null,"SampleRecordGroup ID","Sample Id",null,null,null,null,null,null,null,null,null,null,null,null,null,null,null,null,null,null,null,null,null,null,null,null,null,null,null,null,null,null,null,null,null,null,null,null,null,null,null,null,null,null,null,null,null,null,null,null,null,null,null,null,null,null,null,null,null,null,null,null,null,null,null,null,null,null,null,null,null,null,null,null,null,{"$f":"IF(AH22=\"\",\"\",\"AgencyEntityInstance Id 60\")","v":""},{"$f":"IF(BY52=\"\",\"\",VLOOKUP(\"CM_T27_List\",'Send Sync'!$K$56:$L$96,2,FALSE))","v":""},null,{"$f":"IF(BY52=\"\",\"\",\"AgencyEntityInstance Id 50\")","v":""},{"$f":"IF(BY52=\"\",\"\",CONCATENATE(\"<Data><cm_t27_list_inspecrow>\",CO532,\"</cm_t27_list_inspecrow><cm_t27_list_max>\",CO533,\"</cm_t27_list_max><cm_t27_list_min>\",CO534,\"</cm_t27_list_min><cm_t27_list_order>\",CO535,\"</cm_t27_list_order><cm_t27_list_pct_passing>\",CO536,\"</cm_t27_list_pct_passing><cm_t27_list_sieve>\",CO537,\"</cm_t27_list_sieve></Data>\"))","v":""},{"$f":"IF(BY52=\"\",\"\",TODAY())","v":""},{"$f":"IF(BY52=\"\",\"\",\"WTSYSTEMUSER\")","v":""},{"$f":"IF(BY52=\"\",\"\",TODAY())","v":""},{"$f":"IF(BY52=\"\",\"\",\"WTSYSTEMUSER\")","v":""},null,null,null,null,null,null,null,"",null,{"$f":"IF(BY5=\"\",\"\",\"AgencyEntityInsData Id 60\")","v":""},{"$f":"IF(BY5=\"\",\"\",\"AgencyEntityInstance Id 3\")","v":""},{"$f":"IF(BY5=\"\",\"\",\"cm_base_grad_T1T5_label_01_inch\")","v":""},{"$f":"IF(BY5=\"\",\"\",\"1\"\" (25.0 mm)\")","v":""},{"$f":"IF(BY5=\"\",\"\",TODAY())","v":""},{"$f":"IF(BY5=\"\",\"\",\"WTSYSTEMUSER\")","v":""},{"$f":"IF(BY5=\"\",\"\",TODAY())","v":""},{"$f":"IF(BY5=\"\",\"\",\"WTSYSTEMUSER\")","v":""}]
[null,"AdminOffModified Dt",null,null,null,null,null,null,null,null,null,null,null,null,null,null,null,null,null,null,null,null,null,null,null,null,null,null,null,null,null,null,null,null,null,null,null,null,null,null,null,null,null,null,null,null,null,null,null,null,null,null,null,null,null,null,null,null,null,null,null,null,null,null,null,null,null,null,null,null,null,null,null,null,null,null,{"$f":"IF(AH22=\"\",\"\",\"AgencyEntityInstance Id 61\")","v":""},{"$f":"IF(BY52=\"\",\"\",VLOOKUP(\"CM_T27_List\",'Send Sync'!$K$56:$L$96,2,FALSE))","v":""},null,{"$f":"IF(BY52=\"\",\"\",\"AgencyEntityInstance Id 50\")","v":""},{"$f":"IF(BY52=\"\",\"\",CONCATENATE(\"<Data><cm_t27_list_inspecrow>\",CO538,\"</cm_t27_list_inspecrow><cm_t27_list_max>\",CO539,\"</cm_t27_list_max><cm_t27_list_min>\",CO540,\"</cm_t27_list_min><cm_t27_list_order>\",CO541,\"</cm_t27_list_order><cm_t27_list_pct_passing>\",CO542,\"</cm_t27_list_pct_passing><cm_t27_list_sieve>\",CO543,\"</cm_t27_list_sieve></Data>\"))","v":""},{"$f":"IF(BY52=\"\",\"\",TODAY())","v":""},{"$f":"IF(BY52=\"\",\"\",\"WTSYSTEMUSER\")","v":""},{"$f":"IF(BY52=\"\",\"\",TODAY())","v":""},{"$f":"IF(BY52=\"\",\"\",\"WTSYSTEMUSER\")","v":""},null,null,null,null,null,null,null,"",null,{"$f":"IF(BY5=\"\",\"\",\"AgencyEntityInsData Id 61\")","v":""},{"$f":"IF(BY5=\"\",\"\",\"AgencyEntityInstance Id 3\")","v":""},{"$f":"IF(BY5=\"\",\"\",\"cm_base_grad_T1T5_label_02_half_inch\")","v":""},{"$f":"IF(BY5=\"\",\"\",\"1/2\"\" (12.5 mm)\")","v":""},{"$f":"IF(BY5=\"\",\"\",TODAY())","v":""},{"$f":"IF(BY5=\"\",\"\",\"WTSYSTEMUSER\")","v":""},{"$f":"IF(BY5=\"\",\"\",TODAY())","v":""},{"$f":"IF(BY5=\"\",\"\",\"WTSYSTEMUSER\")","v":""}]
[null,"AdimOffModifiedBy ID",null,null,null,null,null,null,null,null,null,null,null,null,null,null,null,null,null,null,null,null,null,null,null,null,null,null,null,null,null,null,null,null,null,null,null,null,null,null,null,null,null,null,null,null,null,null,null,null,null,null,null,null,null,null,null,null,null,null,null,null,null,null,null,null,null,null,null,null,null,null,null,null,null,null,{"$f":"IF(AH22=\"\",\"\",\"AgencyEntityInstance Id 62\")","v":""},{"$f":"IF(BY52=\"\",\"\",VLOOKUP(\"CM_T27_List\",'Send Sync'!$K$56:$L$96,2,FALSE))","v":""},null,{"$f":"IF(BY52=\"\",\"\",\"AgencyEntityInstance Id 50\")","v":""},{"$f":"IF(BY52=\"\",\"\",CONCATENATE(\"<Data><cm_t27_list_inspecrow>\",CO544,\"</cm_t27_list_inspecrow><cm_t27_list_max>\",CO545,\"</cm_t27_list_max><cm_t27_list_min>\",CO546,\"</cm_t27_list_min><cm_t27_list_order>\",CO547,\"</cm_t27_list_order><cm_t27_list_pct_passing>\",CO548,\"</cm_t27_list_pct_passing><cm_t27_list_sieve>\",CO549,\"</cm_t27_list_sieve></Data>\"))","v":""},{"$f":"IF(BY52=\"\",\"\",TODAY())","v":""},{"$f":"IF(BY52=\"\",\"\",\"WTSYSTEMUSER\")","v":""},{"$f":"IF(BY52=\"\",\"\",TODAY())","v":""},{"$f":"IF(BY52=\"\",\"\",\"WTSYSTEMUSER\")","v":""},null,null,null,null,null,null,null,"",null,{"$f":"IF(BY5=\"\",\"\",\"AgencyEntityInsData Id 62\")","v":""},{"$f":"IF(BY5=\"\",\"\",\"AgencyEntityInstance Id 3\")","v":""},{"$f":"IF(BY5=\"\",\"\",\"cm_base_grad_T1T5_label_03_no_4\")","v":""},{"$f":"IF(BY5=\"\",\"\",\"No. 4 (4.75 mm)\")","v":""},{"$f":"IF(BY5=\"\",\"\",TODAY())","v":""},{"$f":"IF(BY5=\"\",\"\",\"WTSYSTEMUSER\")","v":""},{"$f":"IF(BY5=\"\",\"\",TODAY())","v":""},{"$f":"IF(BY5=\"\",\"\",\"WTSYSTEMUSER\")","v":""}]
[null,"LinkedFrom",null,null,null,null,null,null,null,null,null,null,null,null,null,null,null,null,null,null,null,null,null,null,null,null,null,null,null,null,null,null,null,null,null,null,null,null,null,null,null,null,null,null,null,null,null,null,null,null,null,null,null,null,null,null,null,null,null,null,null,null,null,null,null,null,null,null,null,null,null,null,null,null,null,null,{"$f":"IF(AH22=\"\",\"\",\"AgencyEntityInstance Id 63\")","v":""},{"$f":"IF(BY52=\"\",\"\",VLOOKUP(\"CM_T27_List\",'Send Sync'!$K$56:$L$96,2,FALSE))","v":""},null,{"$f":"IF(BY52=\"\",\"\",\"AgencyEntityInstance Id 50\")","v":""},{"$f":"IF(BY52=\"\",\"\",CONCATENATE(\"<Data><cm_t27_list_inspecrow>\",CO550,\"</cm_t27_list_inspecrow><cm_t27_list_max>\",CO551,\"</cm_t27_list_max><cm_t27_list_min>\",CO552,\"</cm_t27_list_min><cm_t27_list_order>\",CO553,\"</cm_t27_list_order><cm_t27_list_pct_passing>\",CO554,\"</cm_t27_list_pct_passing><cm_t27_list_sieve>\",CO555,\"</cm_t27_list_sieve></Data>\"))","v":""},{"$f":"IF(BY52=\"\",\"\",TODAY())","v":""},{"$f":"IF(BY52=\"\",\"\",\"WTSYSTEMUSER\")","v":""},{"$f":"IF(BY52=\"\",\"\",TODAY())","v":""},{"$f":"IF(BY52=\"\",\"\",\"WTSYSTEMUSER\")","v":""},null,null,null,null,null,null,null,"",null,{"$f":"IF(BY5=\"\",\"\",\"AgencyEntityInsData Id 63\")","v":""},{"$f":"IF(BY5=\"\",\"\",\"AgencyEntityInstance Id 3\")","v":""},{"$f":"IF(BY5=\"\",\"\",\"cm_base_grad_T1T5_label_04_no_30\")","v":""},{"$f":"IF(BY5=\"\",\"\",\"No. 30 (600 microns)\")","v":""},{"$f":"IF(BY5=\"\",\"\",TODAY())","v":""},{"$f":"IF(BY5=\"\",\"\",\"WTSYSTEMUSER\")","v":""},{"$f":"IF(BY5=\"\",\"\",TODAY())","v":""},{"$f":"IF(BY5=\"\",\"\",\"WTSYSTEMUSER\")","v":""}]
[null,"STARTINGX",null,null,null,null,null,null,null,null,null,null,null,null,null,null,null,null,null,null,null,null,null,null,null,null,null,null,null,null,null,null,null,null,null,null,null,null,null,null,null,null,null,null,null,null,null,null,null,null,null,null,null,null,null,null,null,null,null,null,null,null,null,null,null,null,null,null,null,null,null,null,null,null,null,null,{"$f":"IF(AH22=\"\",\"\",\"AgencyEntityInstance Id 64\")","v":""},{"$f":"IF(BY52=\"\",\"\",VLOOKUP(\"CM_T27_List\",'Send Sync'!$K$56:$L$96,2,FALSE))","v":""},null,{"$f":"IF(BY52=\"\",\"\",\"AgencyEntityInstance Id 50\")","v":""},{"$f":"IF(BY52=\"\",\"\",CONCATENATE(\"<Data><cm_t27_list_inspecrow>\",CO556,\"</cm_t27_list_inspecrow><cm_t27_list_max>\",CO557,\"</cm_t27_list_max><cm_t27_list_min>\",CO558,\"</cm_t27_list_min><cm_t27_list_order>\",CO559,\"</cm_t27_list_order><cm_t27_list_pct_passing>\",CO560,\"</cm_t27_list_pct_passing><cm_t27_list_sieve>\",CO561,\"</cm_t27_list_sieve></Data>\"))","v":""},{"$f":"IF(BY52=\"\",\"\",TODAY())","v":""},{"$f":"IF(BY52=\"\",\"\",\"WTSYSTEMUSER\")","v":""},{"$f":"IF(BY52=\"\",\"\",TODAY())","v":""},{"$f":"IF(BY52=\"\",\"\",\"WTSYSTEMUSER\")","v":""},null,null,null,null,null,null,null,"",null,{"$f":"IF(BY5=\"\",\"\",\"AgencyEntityInsData Id 64\")","v":""},{"$f":"IF(BY5=\"\",\"\",\"AgencyEntityInstance Id 3\")","v":""},{"$f":"IF(BY5=\"\",\"\",\"cm_base_grad_T1T5_label_05_no_200\")","v":""},{"$f":"IF(BY5=\"\",\"\",\"No. 200 (75 microns)\")","v":""},{"$f":"IF(BY5=\"\",\"\",TODAY())","v":""},{"$f":"IF(BY5=\"\",\"\",\"WTSYSTEMUSER\")","v":""},{"$f":"IF(BY5=\"\",\"\",TODAY())","v":""},{"$f":"IF(BY5=\"\",\"\",\"WTSYSTEMUSER\")","v":""}]
[null,"STARTINGY",null,null,null,null,null,null,null,null,null,null,null,null,null,null,null,null,null,null,null,null,null,null,null,null,null,null,null,null,null,null,null,null,null,null,null,null,null,null,null,null,null,null,null,null,null,null,null,null,null,null,null,null,null,null,null,null,null,null,null,null,null,null,null,null,null,null,null,null,null,null,null,null,null,null,{"$f":"IF(AH22=\"\",\"\",\"AgencyEntityInstance Id 65\")","v":""},{"$f":"IF(BY52=\"\",\"\",VLOOKUP(\"CM_T27_List\",'Send Sync'!$K$56:$L$96,2,FALSE))","v":""},null,{"$f":"IF(BY52=\"\",\"\",\"AgencyEntityInstance Id 50\")","v":""},{"$f":"IF(BY52=\"\",\"\",CONCATENATE(\"<Data><cm_t27_list_inspecrow>\",CO562,\"</cm_t27_list_inspecrow><cm_t27_list_max>\",CO563,\"</cm_t27_list_max><cm_t27_list_min>\",CO564,\"</cm_t27_list_min><cm_t27_list_order>\",CO565,\"</cm_t27_list_order><cm_t27_list_pct_passing>\",CO566,\"</cm_t27_list_pct_passing><cm_t27_list_sieve>\",CO567,\"</cm_t27_list_sieve></Data>\"))","v":""},{"$f":"IF(BY52=\"\",\"\",TODAY())","v":""},{"$f":"IF(BY52=\"\",\"\",\"WTSYSTEMUSER\")","v":""},{"$f":"IF(BY52=\"\",\"\",TODAY())","v":""},{"$f":"IF(BY52=\"\",\"\",\"WTSYSTEMUSER\")","v":""},null,null,null,null,null,null,null,"",null,{"$f":"IF(BY5=\"\",\"\",\"AgencyEntityInsData Id 65\")","v":""},{"$f":"IF(BY5=\"\",\"\",\"AgencyEntityInstance Id 3\")","v":""},{"$f":"IF(BY5=\"\",\"\",\"cm_base_grad_T1T5_label_06\")","v":""},{"$f":"IF(BY5=\"\",\"\",\"Station\")","v":""},{"$f":"IF(BY5=\"\",\"\",TODAY())","v":""},{"$f":"IF(BY5=\"\",\"\",\"WTSYSTEMUSER\")","v":""},{"$f":"IF(BY5=\"\",\"\",TODAY())","v":""},{"$f":"IF(BY5=\"\",\"\",\"WTSYSTEMUSER\")","v":""}]
[null,"STARTINGZ",null,null,null,null,null,null,null,null,null,null,null,null,null,null,null,null,null,null,null,null,null,null,null,null,null,null,null,null,null,null,null,null,null,null,null,null,null,null,null,null,null,null,null,null,null,null,null,null,null,null,null,null,null,null,null,null,null,null,null,null,null,null,null,null,null,null,null,null,null,null,null,null,null,null,{"$f":"IF(AH23=\"\",\"\",\"AgencyEntityInstance Id 66\")","v":""},{"$f":"IF(BY68=\"\",\"\",VLOOKUP(\"CM_T27_Detail\",'Send Sync'!$K$56:$L$96,2,FALSE))","v":""},{"$f":"IF(BY68=\"\",\"\",\"SampleRecordTest Id 21\")","v":""},"",{"$f":"IF(BY68=\"\",\"\",CONCATENATE(\"<Data><cm_t27_detail_inspec>\",CO568,\"</cm_t27_detail_inspec></Data>\"))","v":""},{"$f":"IF(BY68=\"\",\"\",TODAY())","v":""},{"$f":"IF(BY68=\"\",\"\",\"WTSYSTEMUSER\")","v":""},{"$f":"IF(BY68=\"\",\"\",TODAY())","v":""},{"$f":"IF(BY68=\"\",\"\",\"WTSYSTEMUSER\")","v":""},null,null,null,null,null,null,null,{"$f":"IF(CT68=\"\",\"\",SUBSTITUTE(SUBSTITUTE(SUBSTITUTE(SUBSTITUTE(SUBSTITUTE(CT68,\"&\",\"&amp;\"),\">\",\"&gt;\"),\"<\",\"&lt;\"),\"'\",\"&#39;\"),\"\"\"\",\"&quot;\"))","v":""},null,{"$f":"IF(BY5=\"\",\"\",\"AgencyEntityInsData Id 66\")","v":""},{"$f":"IF(BY5=\"\",\"\",\"AgencyEntityInstance Id 3\")","v":""},{"$f":"IF(BY5=\"\",\"\",\"cm_base_grad_T1T5_label_07\")","v":""},{"$f":"IF(BY5=\"\",\"\",\"+\")","v":""},{"$f":"IF(BY5=\"\",\"\",TODAY())","v":""},{"$f":"IF(BY5=\"\",\"\",\"WTSYSTEMUSER\")","v":""},{"$f":"IF(BY5=\"\",\"\",TODAY())","v":""},{"$f":"IF(BY5=\"\",\"\",\"WTSYSTEMUSER\")","v":""}]
[null,"STARTINGLOCMETHOD",null,null,null,null,null,null,null,null,null,null,null,null,null,null,null,null,null,null,null,null,null,null,null,null,null,null,null,null,null,null,null,null,null,null,null,null,null,null,null,null,null,null,null,null,null,null,null,null,null,null,null,null,null,null,null,null,null,null,null,null,null,null,null,null,null,null,null,null,null,null,null,null,null,null,{"$f":"IF(AH23=\"\",\"\",\"AgencyEntityInstance Id 67\")","v":""},{"$f":"IF(BY68=\"\",\"\",VLOOKUP(\"CM_T27_List\",'Send Sync'!$K$56:$L$96,2,FALSE))","v":""},null,{"$f":"IF(BY68=\"\",\"\",\"AgencyEntityInstance Id 66\")","v":""},{"$f":"IF(BY68=\"\",\"\",CONCATENATE(\"<Data><cm_t27_list_inspecrow>\",CO569,\"</cm_t27_list_inspecrow><cm_t27_list_max>\",CO570,\"</cm_t27_list_max><cm_t27_list_min>\",CO571,\"</cm_t27_list_min><cm_t27_list_order>\",CO572,\"</cm_t27_list_order><cm_t27_list_pct_passing>\",CO573,\"</cm_t27_list_pct_passing><cm_t27_list_sieve>\",CO574,\"</cm_t27_list_sieve></Data>\"))","v":""},{"$f":"IF(BY68=\"\",\"\",TODAY())","v":""},{"$f":"IF(BY68=\"\",\"\",\"WTSYSTEMUSER\")","v":""},{"$f":"IF(BY68=\"\",\"\",TODAY())","v":""},{"$f":"IF(BY68=\"\",\"\",\"WTSYSTEMUSER\")","v":""},null,null,null,null,null,null,null,"",null,{"$f":"IF(BY5=\"\",\"\",\"AgencyEntityInsData Id 67\")","v":""},{"$f":"IF(BY5=\"\",\"\",\"AgencyEntityInstance Id 3\")","v":""},{"$f":"IF(BY5=\"\",\"\",\"cm_base_grad_T1T5_label_08\")","v":""},{"$f":"IF(BY5=\"\",\"\",\"Location R/L of Centerline\")","v":""},{"$f":"IF(BY5=\"\",\"\",TODAY())","v":""},{"$f":"IF(BY5=\"\",\"\",\"WTSYSTEMUSER\")","v":""},{"$f":"IF(BY5=\"\",\"\",TODAY())","v":""},{"$f":"IF(BY5=\"\",\"\",\"WTSYSTEMUSER\")","v":""}]
[null,"STARTINGLOCQUALITY",null,null,null,null,null,null,null,null,null,null,null,null,null,null,null,null,null,null,null,null,null,null,null,null,null,null,null,null,null,null,null,null,null,null,null,null,null,null,null,null,null,null,null,null,null,null,null,null,null,null,null,null,null,null,null,null,null,null,null,null,null,null,null,null,null,null,null,null,null,null,null,null,null,null,{"$f":"IF(AH23=\"\",\"\",\"AgencyEntityInstance Id 68\")","v":""},{"$f":"IF(BY68=\"\",\"\",VLOOKUP(\"CM_T27_List\",'Send Sync'!$K$56:$L$96,2,FALSE))","v":""},null,{"$f":"IF(BY68=\"\",\"\",\"AgencyEntityInstance Id 66\")","v":""},{"$f":"IF(BY68=\"\",\"\",CONCATENATE(\"<Data><cm_t27_list_inspecrow>\",CO575,\"</cm_t27_list_inspecrow><cm_t27_list_max>\",CO576,\"</cm_t27_list_max><cm_t27_list_min>\",CO577,\"</cm_t27_list_min><cm_t27_list_order>\",CO578,\"</cm_t27_list_order><cm_t27_list_pct_passing>\",CO579,\"</cm_t27_list_pct_passing><cm_t27_list_sieve>\",CO580,\"</cm_t27_list_sieve></Data>\"))","v":""},{"$f":"IF(BY68=\"\",\"\",TODAY())","v":""},{"$f":"IF(BY68=\"\",\"\",\"WTSYSTEMUSER\")","v":""},{"$f":"IF(BY68=\"\",\"\",TODAY())","v":""},{"$f":"IF(BY68=\"\",\"\",\"WTSYSTEMUSER\")","v":""},null,null,null,null,null,null,null,"",null,{"$f":"IF(BY5=\"\",\"\",\"AgencyEntityInsData Id 68\")","v":""},{"$f":"IF(BY5=\"\",\"\",\"AgencyEntityInstance Id 3\")","v":""},{"$f":"IF(BY5=\"\",\"\",\"cm_base_grad_T1T5_label_09\")","v":""},{"$f":"IF(BY5=\"\",\"\",\"Test Performed By\")","v":""},{"$f":"IF(BY5=\"\",\"\",TODAY())","v":""},{"$f":"IF(BY5=\"\",\"\",\"WTSYSTEMUSER\")","v":""},{"$f":"IF(BY5=\"\",\"\",TODAY())","v":""},{"$f":"IF(BY5=\"\",\"\",\"WTSYSTEMUSER\")","v":""}]
[null,"STARTINGLOCQUALUNIT",null,null,null,null,null,null,null,null,null,null,null,null,null,null,null,null,null,null,null,null,null,null,null,null,null,null,null,null,null,null,null,null,null,null,null,null,null,null,null,null,null,null,null,null,null,null,null,null,null,null,null,null,null,null,null,null,null,null,null,null,null,null,null,null,null,null,null,null,null,null,null,null,null,null,{"$f":"IF(AH23=\"\",\"\",\"AgencyEntityInstance Id 69\")","v":""},{"$f":"IF(BY68=\"\",\"\",VLOOKUP(\"CM_T27_List\",'Send Sync'!$K$56:$L$96,2,FALSE))","v":""},null,{"$f":"IF(BY68=\"\",\"\",\"AgencyEntityInstance Id 66\")","v":""},{"$f":"IF(BY68=\"\",\"\",CONCATENATE(\"<Data><cm_t27_list_inspecrow>\",CO581,\"</cm_t27_list_inspecrow><cm_t27_list_max>\",CO582,\"</cm_t27_list_max><cm_t27_list_min>\",CO583,\"</cm_t27_list_min><cm_t27_list_order>\",CO584,\"</cm_t27_list_order><cm_t27_list_pct_passing>\",CO585,\"</cm_t27_list_pct_passing><cm_t27_list_sieve>\",CO586,\"</cm_t27_list_sieve></Data>\"))","v":""},{"$f":"IF(BY68=\"\",\"\",TODAY())","v":""},{"$f":"IF(BY68=\"\",\"\",\"WTSYSTEMUSER\")","v":""},{"$f":"IF(BY68=\"\",\"\",TODAY())","v":""},{"$f":"IF(BY68=\"\",\"\",\"WTSYSTEMUSER\")","v":""},null,null,null,null,null,null,null,"",null,{"$f":"IF(BY5=\"\",\"\",\"AgencyEntityInsData Id 69\")","v":""},{"$f":"IF(BY5=\"\",\"\",\"AgencyEntityInstance Id 3\")","v":""},{"$f":"IF(BY5=\"\",\"\",\"cm_base_grad_T1T5_no_200_label\")","v":""},{"$f":"IF(BY5=\"\",\"\",\"No. 200 (75 microns)\")","v":""},{"$f":"IF(BY5=\"\",\"\",TODAY())","v":""},{"$f":"IF(BY5=\"\",\"\",\"WTSYSTEMUSER\")","v":""},{"$f":"IF(BY5=\"\",\"\",TODAY())","v":""},{"$f":"IF(BY5=\"\",\"\",\"WTSYSTEMUSER\")","v":""}]
[null,"STARTINGLOCATIONISSUE",null,null,null,null,null,null,null,null,null,null,null,null,null,null,null,null,null,null,null,null,null,null,null,null,null,null,null,null,null,null,null,null,null,null,null,null,null,null,null,null,null,null,null,null,null,null,null,null,null,null,null,null,null,null,null,null,null,null,null,null,null,null,null,null,null,null,null,null,null,null,null,null,null,null,{"$f":"IF(AH23=\"\",\"\",\"AgencyEntityInstance Id 70\")","v":""},{"$f":"IF(BY68=\"\",\"\",VLOOKUP(\"CM_T27_List\",'Send Sync'!$K$56:$L$96,2,FALSE))","v":""},null,{"$f":"IF(BY68=\"\",\"\",\"AgencyEntityInstance Id 66\")","v":""},{"$f":"IF(BY68=\"\",\"\",CONCATENATE(\"<Data><cm_t27_list_inspecrow>\",CO587,\"</cm_t27_list_inspecrow><cm_t27_list_max>\",CO588,\"</cm_t27_list_max><cm_t27_list_min>\",CO589,\"</cm_t27_list_min><cm_t27_list_order>\",CO590,\"</cm_t27_list_order><cm_t27_list_pct_passing>\",CO591,\"</cm_t27_list_pct_passing><cm_t27_list_sieve>\",CO592,\"</cm_t27_list_sieve></Data>\"))","v":""},{"$f":"IF(BY68=\"\",\"\",TODAY())","v":""},{"$f":"IF(BY68=\"\",\"\",\"WTSYSTEMUSER\")","v":""},{"$f":"IF(BY68=\"\",\"\",TODAY())","v":""},{"$f":"IF(BY68=\"\",\"\",\"WTSYSTEMUSER\")","v":""},null,null,null,null,null,null,null,"",null,{"$f":"IF(BY5=\"\",\"\",\"AgencyEntityInsData Id 70\")","v":""},{"$f":"IF(BY5=\"\",\"\",\"AgencyEntityInstance Id 3\")","v":""},{"$f":"IF(BY5=\"\",\"\",\"cm_base_grad_T1T5_no_200_max\")","v":""},{"$f":"IF(BY5=\"\",\"\",\"15\")","v":""},{"$f":"IF(BY5=\"\",\"\",TODAY())","v":""},{"$f":"IF(BY5=\"\",\"\",\"WTSYSTEMUSER\")","v":""},{"$f":"IF(BY5=\"\",\"\",TODAY())","v":""},{"$f":"IF(BY5=\"\",\"\",\"WTSYSTEMUSER\")","v":""}]
[null,"STARTINGLOCCRETDBYPRSINF_ID",null,null,null,null,null,null,null,null,null,null,null,null,null,null,null,null,null,null,null,null,null,null,null,null,null,null,null,null,null,null,null,null,null,null,null,null,null,null,null,null,null,null,null,null,null,null,null,null,null,null,null,null,null,null,null,null,null,null,null,null,null,null,null,null,null,null,null,null,null,null,null,null,null,null,{"$f":"IF(AH23=\"\",\"\",\"AgencyEntityInstance Id 71\")","v":""},{"$f":"IF(BY68=\"\",\"\",VLOOKUP(\"CM_T27_List\",'Send Sync'!$K$56:$L$96,2,FALSE))","v":""},null,{"$f":"IF(BY68=\"\",\"\",\"AgencyEntityInstance Id 66\")","v":""},{"$f":"IF(BY68=\"\",\"\",CONCATENATE(\"<Data><cm_t27_list_inspecrow>\",CO593,\"</cm_t27_list_inspecrow><cm_t27_list_max>\",CO594,\"</cm_t27_list_max><cm_t27_list_min>\",CO595,\"</cm_t27_list_min><cm_t27_list_order>\",CO596,\"</cm_t27_list_order><cm_t27_list_pct_passing>\",CO597,\"</cm_t27_list_pct_passing><cm_t27_list_sieve>\",CO598,\"</cm_t27_list_sieve></Data>\"))","v":""},{"$f":"IF(BY68=\"\",\"\",TODAY())","v":""},{"$f":"IF(BY68=\"\",\"\",\"WTSYSTEMUSER\")","v":""},{"$f":"IF(BY68=\"\",\"\",TODAY())","v":""},{"$f":"IF(BY68=\"\",\"\",\"WTSYSTEMUSER\")","v":""},null,null,null,null,null,null,null,"",null,{"$f":"IF(BY5=\"\",\"\",\"AgencyEntityInsData Id 71\")","v":""},{"$f":"IF(BY5=\"\",\"\",\"AgencyEntityInstance Id 3\")","v":""},{"$f":"IF(BY5=\"\",\"\",\"cm_base_grad_T1T5_no_200_min\")","v":""},{"$f":"IF(BY5=\"\",\"\",\"0\")","v":""},{"$f":"IF(BY5=\"\",\"\",TODAY())","v":""},{"$f":"IF(BY5=\"\",\"\",\"WTSYSTEMUSER\")","v":""},{"$f":"IF(BY5=\"\",\"\",TODAY())","v":""},{"$f":"IF(BY5=\"\",\"\",\"WTSYSTEMUSER\")","v":""}]
[null,"STARTINGLOCCREATED_DT",null,null,null,null,null,null,null,null,null,null,null,null,null,null,null,null,null,null,null,null,null,null,null,null,null,null,null,null,null,null,null,null,null,null,null,null,null,null,null,null,null,null,null,null,null,null,null,null,null,null,null,null,null,null,null,null,null,null,null,null,null,null,null,null,null,null,null,null,null,null,null,null,null,null,{"$f":"IF(AH23=\"\",\"\",\"AgencyEntityInstance Id 72\")","v":""},{"$f":"IF(BY68=\"\",\"\",VLOOKUP(\"CM_T27_List\",'Send Sync'!$K$56:$L$96,2,FALSE))","v":""},null,{"$f":"IF(BY68=\"\",\"\",\"AgencyEntityInstance Id 66\")","v":""},{"$f":"IF(BY68=\"\",\"\",CONCATENATE(\"<Data><cm_t27_list_inspecrow>\",CO599,\"</cm_t27_list_inspecrow><cm_t27_list_max>\",CO600,\"</cm_t27_list_max><cm_t27_list_min>\",CO601,\"</cm_t27_list_min><cm_t27_list_order>\",CO602,\"</cm_t27_list_order><cm_t27_list_pct_passing>\",CO603,\"</cm_t27_list_pct_passing><cm_t27_list_sieve>\",CO604,\"</cm_t27_list_sieve></Data>\"))","v":""},{"$f":"IF(BY68=\"\",\"\",TODAY())","v":""},{"$f":"IF(BY68=\"\",\"\",\"WTSYSTEMUSER\")","v":""},{"$f":"IF(BY68=\"\",\"\",TODAY())","v":""},{"$f":"IF(BY68=\"\",\"\",\"WTSYSTEMUSER\")","v":""},null,null,null,null,null,null,null,"",null,{"$f":"IF(BY5=\"\",\"\",\"AgencyEntityInsData Id 72\")","v":""},{"$f":"IF(BY5=\"\",\"\",\"AgencyEntityInstance Id 3\")","v":""},{"$f":"IF(BY5=\"\",\"\",\"cm_base_grad_T1T5_no_30_label\")","v":""},{"$f":"IF(BY5=\"\",\"\",\"No. 30 (600 microns)\")","v":""},{"$f":"IF(BY5=\"\",\"\",TODAY())","v":""},{"$f":"IF(BY5=\"\",\"\",\"WTSYSTEMUSER\")","v":""},{"$f":"IF(BY5=\"\",\"\",TODAY())","v":""},{"$f":"IF(BY5=\"\",\"\",\"WTSYSTEMUSER\")","v":""}]
[null,"STARTINGLOCUPDTDBYPRSINF_ID",null,null,null,null,null,null,null,null,null,null,null,null,null,null,null,null,null,null,null,null,null,null,null,null,null,null,null,null,null,null,null,null,null,null,null,null,null,null,null,null,null,null,null,null,null,null,null,null,null,null,null,null,null,null,null,null,null,null,null,null,null,null,null,null,null,null,null,null,null,null,null,null,null,null,{"$f":"IF(AH23=\"\",\"\",\"AgencyEntityInstance Id 73\")","v":""},{"$f":"IF(BY68=\"\",\"\",VLOOKUP(\"CM_T27_List\",'Send Sync'!$K$56:$L$96,2,FALSE))","v":""},null,{"$f":"IF(BY68=\"\",\"\",\"AgencyEntityInstance Id 66\")","v":""},{"$f":"IF(BY68=\"\",\"\",CONCATENATE(\"<Data><cm_t27_list_inspecrow>\",CO605,\"</cm_t27_list_inspecrow><cm_t27_list_max>\",CO606,\"</cm_t27_list_max><cm_t27_list_min>\",CO607,\"</cm_t27_list_min><cm_t27_list_order>\",CO608,\"</cm_t27_list_order><cm_t27_list_pct_passing>\",CO609,\"</cm_t27_list_pct_passing><cm_t27_list_sieve>\",CO610,\"</cm_t27_list_sieve></Data>\"))","v":""},{"$f":"IF(BY68=\"\",\"\",TODAY())","v":""},{"$f":"IF(BY68=\"\",\"\",\"WTSYSTEMUSER\")","v":""},{"$f":"IF(BY68=\"\",\"\",TODAY())","v":""},{"$f":"IF(BY68=\"\",\"\",\"WTSYSTEMUSER\")","v":""},null,null,null,null,null,null,null,"",null,{"$f":"IF(BY5=\"\",\"\",\"AgencyEntityInsData Id 73\")","v":""},{"$f":"IF(BY5=\"\",\"\",\"AgencyEntityInstance Id 3\")","v":""},{"$f":"IF(BY5=\"\",\"\",\"cm_base_grad_T1T5_no_30_max\")","v":""},{"$f":"IF(BY5=\"\",\"\",\"35\")","v":""},{"$f":"IF(BY5=\"\",\"\",TODAY())","v":""},{"$f":"IF(BY5=\"\",\"\",\"WTSYSTEMUSER\")","v":""},{"$f":"IF(BY5=\"\",\"\",TODAY())","v":""},{"$f":"IF(BY5=\"\",\"\",\"WTSYSTEMUSER\")","v":""}]
[null,"STARTINGLOCATIONUPDATED_DT",null,null,null,null,null,null,null,null,null,null,null,null,null,null,null,null,null,null,null,null,null,null,null,null,null,null,null,null,null,null,null,null,null,null,null,null,null,null,null,null,null,null,null,null,null,null,null,null,null,null,null,null,null,null,null,null,null,null,null,null,null,null,null,null,null,null,null,null,null,null,null,null,null,null,{"$f":"IF(AH23=\"\",\"\",\"AgencyEntityInstance Id 74\")","v":""},{"$f":"IF(BY68=\"\",\"\",VLOOKUP(\"CM_T27_List\",'Send Sync'!$K$56:$L$96,2,FALSE))","v":""},null,{"$f":"IF(BY68=\"\",\"\",\"AgencyEntityInstance Id 66\")","v":""},{"$f":"IF(BY68=\"\",\"\",CONCATENATE(\"<Data><cm_t27_list_inspecrow>\",CO611,\"</cm_t27_list_inspecrow><cm_t27_list_max>\",CO612,\"</cm_t27_list_max><cm_t27_list_min>\",CO613,\"</cm_t27_list_min><cm_t27_list_order>\",CO614,\"</cm_t27_list_order><cm_t27_list_pct_passing>\",CO615,\"</cm_t27_list_pct_passing><cm_t27_list_sieve>\",CO616,\"</cm_t27_list_sieve></Data>\"))","v":""},{"$f":"IF(BY68=\"\",\"\",TODAY())","v":""},{"$f":"IF(BY68=\"\",\"\",\"WTSYSTEMUSER\")","v":""},{"$f":"IF(BY68=\"\",\"\",TODAY())","v":""},{"$f":"IF(BY68=\"\",\"\",\"WTSYSTEMUSER\")","v":""},null,null,null,null,null,null,null,"",null,{"$f":"IF(BY5=\"\",\"\",\"AgencyEntityInsData Id 74\")","v":""},{"$f":"IF(BY5=\"\",\"\",\"AgencyEntityInstance Id 3\")","v":""},{"$f":"IF(BY5=\"\",\"\",\"cm_base_grad_T1T5_no_30_min\")","v":""},{"$f":"IF(BY5=\"\",\"\",\"10\")","v":""},{"$f":"IF(BY5=\"\",\"\",TODAY())","v":""},{"$f":"IF(BY5=\"\",\"\",\"WTSYSTEMUSER\")","v":""},{"$f":"IF(BY5=\"\",\"\",TODAY())","v":""},{"$f":"IF(BY5=\"\",\"\",\"WTSYSTEMUSER\")","v":""}]
[null,"STARTINGLOCENDACTIVE_DT",null,null,null,null,null,null,null,null,null,null,null,null,null,null,null,null,null,null,null,null,null,null,null,null,null,null,null,null,null,null,null,null,null,null,null,null,null,null,null,null,null,null,null,null,null,null,null,null,null,null,null,null,null,null,null,null,null,null,null,null,null,null,null,null,null,null,null,null,null,null,null,null,null,null,{"$f":"IF(AH23=\"\",\"\",\"AgencyEntityInstance Id 75\")","v":""},{"$f":"IF(BY68=\"\",\"\",VLOOKUP(\"CM_T27_List\",'Send Sync'!$K$56:$L$96,2,FALSE))","v":""},null,{"$f":"IF(BY68=\"\",\"\",\"AgencyEntityInstance Id 66\")","v":""},{"$f":"IF(BY68=\"\",\"\",CONCATENATE(\"<Data><cm_t27_list_inspecrow>\",CO617,\"</cm_t27_list_inspecrow><cm_t27_list_max>\",CO618,\"</cm_t27_list_max><cm_t27_list_min>\",CO619,\"</cm_t27_list_min><cm_t27_list_order>\",CO620,\"</cm_t27_list_order><cm_t27_list_pct_passing>\",CO621,\"</cm_t27_list_pct_passing><cm_t27_list_sieve>\",CO622,\"</cm_t27_list_sieve></Data>\"))","v":""},{"$f":"IF(BY68=\"\",\"\",TODAY())","v":""},{"$f":"IF(BY68=\"\",\"\",\"WTSYSTEMUSER\")","v":""},{"$f":"IF(BY68=\"\",\"\",TODAY())","v":""},{"$f":"IF(BY68=\"\",\"\",\"WTSYSTEMUSER\")","v":""},null,null,null,null,null,null,null,"",null,{"$f":"IF(BY5=\"\",\"\",\"AgencyEntityInsData Id 75\")","v":""},{"$f":"IF(BY5=\"\",\"\",\"AgencyEntityInstance Id 3\")","v":""},{"$f":"IF(BY5=\"\",\"\",\"cm_base_grad_T1T5_no_4_label\")","v":""},{"$f":"IF(BY5=\"\",\"\",\"No. 4 (4.75 mm)\")","v":""},{"$f":"IF(BY5=\"\",\"\",TODAY())","v":""},{"$f":"IF(BY5=\"\",\"\",\"WTSYSTEMUSER\")","v":""},{"$f":"IF(BY5=\"\",\"\",TODAY())","v":""},{"$f":"IF(BY5=\"\",\"\",\"WTSYSTEMUSER\")","v":""}]
[null,"ENDINGX",null,null,null,null,null,null,null,null,null,null,null,null,null,null,null,null,null,null,null,null,null,null,null,null,null,null,null,null,null,null,null,null,null,null,null,null,null,null,null,null,null,null,null,null,null,null,null,null,null,null,null,null,null,null,null,null,null,null,null,null,null,null,null,null,null,null,null,null,null,null,null,null,null,null,{"$f":"IF(AH23=\"\",\"\",\"AgencyEntityInstance Id 76\")","v":""},{"$f":"IF(BY68=\"\",\"\",VLOOKUP(\"CM_T27_List\",'Send Sync'!$K$56:$L$96,2,FALSE))","v":""},null,{"$f":"IF(BY68=\"\",\"\",\"AgencyEntityInstance Id 66\")","v":""},{"$f":"IF(BY68=\"\",\"\",CONCATENATE(\"<Data><cm_t27_list_inspecrow>\",CO623,\"</cm_t27_list_inspecrow><cm_t27_list_max>\",CO624,\"</cm_t27_list_max><cm_t27_list_min>\",CO625,\"</cm_t27_list_min><cm_t27_list_order>\",CO626,\"</cm_t27_list_order><cm_t27_list_pct_passing>\",CO627,\"</cm_t27_list_pct_passing><cm_t27_list_sieve>\",CO628,\"</cm_t27_list_sieve></Data>\"))","v":""},{"$f":"IF(BY68=\"\",\"\",TODAY())","v":""},{"$f":"IF(BY68=\"\",\"\",\"WTSYSTEMUSER\")","v":""},{"$f":"IF(BY68=\"\",\"\",TODAY())","v":""},{"$f":"IF(BY68=\"\",\"\",\"WTSYSTEMUSER\")","v":""},null,null,null,null,null,null,null,"",null,{"$f":"IF(BY5=\"\",\"\",\"AgencyEntityInsData Id 76\")","v":""},{"$f":"IF(BY5=\"\",\"\",\"AgencyEntityInstance Id 3\")","v":""},{"$f":"IF(BY5=\"\",\"\",\"cm_base_grad_T1T5_no_4_max\")","v":""},{"$f":"IF(BY5=\"\",\"\",\"60\")","v":""},{"$f":"IF(BY5=\"\",\"\",TODAY())","v":""},{"$f":"IF(BY5=\"\",\"\",\"WTSYSTEMUSER\")","v":""},{"$f":"IF(BY5=\"\",\"\",TODAY())","v":""},{"$f":"IF(BY5=\"\",\"\",\"WTSYSTEMUSER\")","v":""}]
[null,"ENDINGY",null,null,null,null,null,null,null,null,null,null,null,null,null,null,null,null,null,null,null,null,null,null,null,null,null,null,null,null,null,null,null,null,null,null,null,null,null,null,null,null,null,null,null,null,null,null,null,null,null,null,null,null,null,null,null,null,null,null,null,null,null,null,null,null,null,null,null,null,null,null,null,null,null,null,{"$f":"IF(AH23=\"\",\"\",\"AgencyEntityInstance Id 77\")","v":""},{"$f":"IF(BY68=\"\",\"\",VLOOKUP(\"CM_T27_List\",'Send Sync'!$K$56:$L$96,2,FALSE))","v":""},null,{"$f":"IF(BY68=\"\",\"\",\"AgencyEntityInstance Id 66\")","v":""},{"$f":"IF(BY68=\"\",\"\",CONCATENATE(\"<Data><cm_t27_list_inspecrow>\",CO629,\"</cm_t27_list_inspecrow><cm_t27_list_max>\",CO630,\"</cm_t27_list_max><cm_t27_list_min>\",CO631,\"</cm_t27_list_min><cm_t27_list_order>\",CO632,\"</cm_t27_list_order><cm_t27_list_pct_passing>\",CO633,\"</cm_t27_list_pct_passing><cm_t27_list_sieve>\",CO634,\"</cm_t27_list_sieve></Data>\"))","v":""},{"$f":"IF(BY68=\"\",\"\",TODAY())","v":""},{"$f":"IF(BY68=\"\",\"\",\"WTSYSTEMUSER\")","v":""},{"$f":"IF(BY68=\"\",\"\",TODAY())","v":""},{"$f":"IF(BY68=\"\",\"\",\"WTSYSTEMUSER\")","v":""},null,null,null,null,null,null,null,"",null,{"$f":"IF(BY5=\"\",\"\",\"AgencyEntityInsData Id 77\")","v":""},{"$f":"IF(BY5=\"\",\"\",\"AgencyEntityInstance Id 3\")","v":""},{"$f":"IF(BY5=\"\",\"\",\"cm_base_grad_T1T5_no_4_min\")","v":""},{"$f":"IF(BY5=\"\",\"\",\"35\")","v":""},{"$f":"IF(BY5=\"\",\"\",TODAY())","v":""},{"$f":"IF(BY5=\"\",\"\",\"WTSYSTEMUSER\")","v":""},{"$f":"IF(BY5=\"\",\"\",TODAY())","v":""},{"$f":"IF(BY5=\"\",\"\",\"WTSYSTEMUSER\")","v":""}]
[null,"ENDINGZ",null,null,null,null,null,null,null,null,null,null,null,null,null,null,null,null,null,null,null,null,null,null,null,null,null,null,null,null,null,null,null,null,null,null,null,null,null,null,null,null,null,null,null,null,null,null,null,null,null,null,null,null,null,null,null,null,null,null,null,null,null,null,null,null,null,null,null,null,null,null,null,null,null,null,{"$f":"IF(AH23=\"\",\"\",\"AgencyEntityInstance Id 78\")","v":""},{"$f":"IF(BY68=\"\",\"\",VLOOKUP(\"CM_T27_List\",'Send Sync'!$K$56:$L$96,2,FALSE))","v":""},null,{"$f":"IF(BY68=\"\",\"\",\"AgencyEntityInstance Id 66\")","v":""},{"$f":"IF(BY68=\"\",\"\",CONCATENATE(\"<Data><cm_t27_list_inspecrow>\",CO635,\"</cm_t27_list_inspecrow><cm_t27_list_max>\",CO636,\"</cm_t27_list_max><cm_t27_list_min>\",CO637,\"</cm_t27_list_min><cm_t27_list_order>\",CO638,\"</cm_t27_list_order><cm_t27_list_pct_passing>\",CO639,\"</cm_t27_list_pct_passing><cm_t27_list_sieve>\",CO640,\"</cm_t27_list_sieve></Data>\"))","v":""},{"$f":"IF(BY68=\"\",\"\",TODAY())","v":""},{"$f":"IF(BY68=\"\",\"\",\"WTSYSTEMUSER\")","v":""},{"$f":"IF(BY68=\"\",\"\",TODAY())","v":""},{"$f":"IF(BY68=\"\",\"\",\"WTSYSTEMUSER\")","v":""},null,null,null,null,null,null,null,"",null,{"$f":"IF(BY5=\"\",\"\",\"AgencyEntityInsData Id 78\")","v":""},{"$f":"IF(BY5=\"\",\"\",\"AgencyEntityInstance Id 3\")","v":""},{"$f":"IF(BY5=\"\",\"\",\"cm_base_grad_T1T5_spec_01_inch_max\")","v":""},{"$f":"IF(BY5=\"\",\"\",\"100\")","v":""},{"$f":"IF(BY5=\"\",\"\",TODAY())","v":""},{"$f":"IF(BY5=\"\",\"\",\"WTSYSTEMUSER\")","v":""},{"$f":"IF(BY5=\"\",\"\",TODAY())","v":""},{"$f":"IF(BY5=\"\",\"\",\"WTSYSTEMUSER\")","v":""}]
[null,"ENDINGLOCMETHOD",null,null,null,null,null,null,null,null,null,null,null,null,null,null,null,null,null,null,null,null,null,null,null,null,null,null,null,null,null,null,null,null,null,null,null,null,null,null,null,null,null,null,null,null,null,null,null,null,null,null,null,null,null,null,null,null,null,null,null,null,null,null,null,null,null,null,null,null,null,null,null,null,null,null,{"$f":"IF(AH23=\"\",\"\",\"AgencyEntityInstance Id 79\")","v":""},{"$f":"IF(BY68=\"\",\"\",VLOOKUP(\"CM_T27_List\",'Send Sync'!$K$56:$L$96,2,FALSE))","v":""},null,{"$f":"IF(BY68=\"\",\"\",\"AgencyEntityInstance Id 66\")","v":""},{"$f":"IF(BY68=\"\",\"\",CONCATENATE(\"<Data><cm_t27_list_inspecrow>\",CO641,\"</cm_t27_list_inspecrow><cm_t27_list_max>\",CO642,\"</cm_t27_list_max><cm_t27_list_min>\",CO643,\"</cm_t27_list_min><cm_t27_list_order>\",CO644,\"</cm_t27_list_order><cm_t27_list_pct_passing>\",CO645,\"</cm_t27_list_pct_passing><cm_t27_list_sieve>\",CO646,\"</cm_t27_list_sieve></Data>\"))","v":""},{"$f":"IF(BY68=\"\",\"\",TODAY())","v":""},{"$f":"IF(BY68=\"\",\"\",\"WTSYSTEMUSER\")","v":""},{"$f":"IF(BY68=\"\",\"\",TODAY())","v":""},{"$f":"IF(BY68=\"\",\"\",\"WTSYSTEMUSER\")","v":""},null,null,null,null,null,null,null,"",null,{"$f":"IF(BY5=\"\",\"\",\"AgencyEntityInsData Id 79\")","v":""},{"$f":"IF(BY5=\"\",\"\",\"AgencyEntityInstance Id 3\")","v":""},{"$f":"IF(BY5=\"\",\"\",\"cm_base_grad_T1T5_spec_01_inch_min\")","v":""},{"$f":"IF(BY5=\"\",\"\",\"100\")","v":""},{"$f":"IF(BY5=\"\",\"\",TODAY())","v":""},{"$f":"IF(BY5=\"\",\"\",\"WTSYSTEMUSER\")","v":""},{"$f":"IF(BY5=\"\",\"\",TODAY())","v":""},{"$f":"IF(BY5=\"\",\"\",\"WTSYSTEMUSER\")","v":""}]
[null,"ENDINGLOCQUALITY",null,null,null,null,null,null,null,null,null,null,null,null,null,null,null,null,null,null,null,null,null,null,null,null,null,null,null,null,null,null,null,null,null,null,null,null,null,null,null,null,null,null,null,null,null,null,null,null,null,null,null,null,null,null,null,null,null,null,null,null,null,null,null,null,null,null,null,null,null,null,null,null,null,null,{"$f":"IF(AH23=\"\",\"\",\"AgencyEntityInstance Id 80\")","v":""},{"$f":"IF(BY68=\"\",\"\",VLOOKUP(\"CM_T27_List\",'Send Sync'!$K$56:$L$96,2,FALSE))","v":""},null,{"$f":"IF(BY68=\"\",\"\",\"AgencyEntityInstance Id 66\")","v":""},{"$f":"IF(BY68=\"\",\"\",CONCATENATE(\"<Data><cm_t27_list_inspecrow>\",CO647,\"</cm_t27_list_inspecrow><cm_t27_list_max>\",CO648,\"</cm_t27_list_max><cm_t27_list_min>\",CO649,\"</cm_t27_list_min><cm_t27_list_order>\",CO650,\"</cm_t27_list_order><cm_t27_list_pct_passing>\",CO651,\"</cm_t27_list_pct_passing><cm_t27_list_sieve>\",CO652,\"</cm_t27_list_sieve></Data>\"))","v":""},{"$f":"IF(BY68=\"\",\"\",TODAY())","v":""},{"$f":"IF(BY68=\"\",\"\",\"WTSYSTEMUSER\")","v":""},{"$f":"IF(BY68=\"\",\"\",TODAY())","v":""},{"$f":"IF(BY68=\"\",\"\",\"WTSYSTEMUSER\")","v":""},null,null,null,null,null,null,null,"",null,{"$f":"IF(BY5=\"\",\"\",\"AgencyEntityInsData Id 80\")","v":""},{"$f":"IF(BY5=\"\",\"\",\"AgencyEntityInstance Id 3\")","v":""},{"$f":"IF(BY5=\"\",\"\",\"cm_base_grad_T1T5_spec_02_half_inch_max\")","v":""},{"$f":"IF(BY5=\"\",\"\",\"90\")","v":""},{"$f":"IF(BY5=\"\",\"\",TODAY())","v":""},{"$f":"IF(BY5=\"\",\"\",\"WTSYSTEMUSER\")","v":""},{"$f":"IF(BY5=\"\",\"\",TODAY())","v":""},{"$f":"IF(BY5=\"\",\"\",\"WTSYSTEMUSER\")","v":""}]
[null,"ENDINGLOCQUALUNIT",null,null,null,null,null,null,null,null,null,null,null,null,null,null,null,null,null,null,null,null,null,null,null,null,null,null,null,null,null,null,null,null,null,null,null,null,null,null,null,null,null,null,null,null,null,null,null,null,null,null,null,null,null,null,null,null,null,null,null,null,null,null,null,null,null,null,null,null,null,null,null,null,null,null,{"$f":"IF(AH23=\"\",\"\",\"AgencyEntityInstance Id 81\")","v":""},{"$f":"IF(BY68=\"\",\"\",VLOOKUP(\"CM_T27_List\",'Send Sync'!$K$56:$L$96,2,FALSE))","v":""},null,{"$f":"IF(BY68=\"\",\"\",\"AgencyEntityInstance Id 66\")","v":""},{"$f":"IF(BY68=\"\",\"\",CONCATENATE(\"<Data><cm_t27_list_inspecrow>\",CO653,\"</cm_t27_list_inspecrow><cm_t27_list_max>\",CO654,\"</cm_t27_list_max><cm_t27_list_min>\",CO655,\"</cm_t27_list_min><cm_t27_list_order>\",CO656,\"</cm_t27_list_order><cm_t27_list_pct_passing>\",CO657,\"</cm_t27_list_pct_passing><cm_t27_list_sieve>\",CO658,\"</cm_t27_list_sieve></Data>\"))","v":""},{"$f":"IF(BY68=\"\",\"\",TODAY())","v":""},{"$f":"IF(BY68=\"\",\"\",\"WTSYSTEMUSER\")","v":""},{"$f":"IF(BY68=\"\",\"\",TODAY())","v":""},{"$f":"IF(BY68=\"\",\"\",\"WTSYSTEMUSER\")","v":""},null,null,null,null,null,null,null,"",null,{"$f":"IF(BY5=\"\",\"\",\"AgencyEntityInsData Id 81\")","v":""},{"$f":"IF(BY5=\"\",\"\",\"AgencyEntityInstance Id 3\")","v":""},{"$f":"IF(BY5=\"\",\"\",\"cm_base_grad_T1T5_spec_02_half_inch_min\")","v":""},{"$f":"IF(BY5=\"\",\"\",\"60\")","v":""},{"$f":"IF(BY5=\"\",\"\",TODAY())","v":""},{"$f":"IF(BY5=\"\",\"\",\"WTSYSTEMUSER\")","v":""},{"$f":"IF(BY5=\"\",\"\",TODAY())","v":""},{"$f":"IF(BY5=\"\",\"\",\"WTSYSTEMUSER\")","v":""}]
[null,"ENDINGLOCATIONISSUE",null,null,null,null,null,null,null,null,null,null,null,null,null,null,null,null,null,null,null,null,null,null,null,null,null,null,null,null,null,null,null,null,null,null,null,null,null,null,null,null,null,null,null,null,null,null,null,null,null,null,null,null,null,null,null,null,null,null,null,null,null,null,null,null,null,null,null,null,null,null,null,null,null,null,{"$f":"IF(AH24=\"\",\"\",\"AgencyEntityInstance Id 82\")","v":""},{"$f":"IF(BY84=\"\",\"\",VLOOKUP(\"CM_T27_Detail\",'Send Sync'!$K$56:$L$96,2,FALSE))","v":""},{"$f":"IF(BY84=\"\",\"\",\"SampleRecordTest Id 22\")","v":""},"",{"$f":"IF(BY84=\"\",\"\",CONCATENATE(\"<Data><cm_t27_detail_inspec>\",CO659,\"</cm_t27_detail_inspec></Data>\"))","v":""},{"$f":"IF(BY84=\"\",\"\",TODAY())","v":""},{"$f":"IF(BY84=\"\",\"\",\"WTSYSTEMUSER\")","v":""},{"$f":"IF(BY84=\"\",\"\",TODAY())","v":""},{"$f":"IF(BY84=\"\",\"\",\"WTSYSTEMUSER\")","v":""},null,null,null,null,null,null,null,"",null,{"$f":"IF(BY5=\"\",\"\",\"AgencyEntityInsData Id 82\")","v":""},{"$f":"IF(BY5=\"\",\"\",\"AgencyEntityInstance Id 3\")","v":""},{"$f":"IF(BY5=\"\",\"\",\"cm_base_grad_T1T5_spec_03_no_4_max\")","v":""},{"$f":"IF(BY5=\"\",\"\",\"60\")","v":""},{"$f":"IF(BY5=\"\",\"\",TODAY())","v":""},{"$f":"IF(BY5=\"\",\"\",\"WTSYSTEMUSER\")","v":""},{"$f":"IF(BY5=\"\",\"\",TODAY())","v":""},{"$f":"IF(BY5=\"\",\"\",\"WTSYSTEMUSER\")","v":""}]
[null,"ENDINGLOCCREATEDBYPRSINF_ID",null,null,null,null,null,null,null,null,null,null,null,null,null,null,null,null,null,null,null,null,null,null,null,null,null,null,null,null,null,null,null,null,null,null,null,null,null,null,null,null,null,null,null,null,null,null,null,null,null,null,null,null,null,null,null,null,null,null,null,null,null,null,null,null,null,null,null,null,null,null,null,null,null,null,{"$f":"IF(AH24=\"\",\"\",\"AgencyEntityInstance Id 83\")","v":""},{"$f":"IF(BY84=\"\",\"\",VLOOKUP(\"CM_T27_List\",'Send Sync'!$K$56:$L$96,2,FALSE))","v":""},null,{"$f":"IF(BY84=\"\",\"\",\"AgencyEntityInstance Id 82\")","v":""},{"$f":"IF(BY84=\"\",\"\",CONCATENATE(\"<Data><cm_t27_list_inspecrow>\",CO660,\"</cm_t27_list_inspecrow><cm_t27_list_max>\",CO661,\"</cm_t27_list_max><cm_t27_list_min>\",CO662,\"</cm_t27_list_min><cm_t27_list_order>\",CO663,\"</cm_t27_list_order><cm_t27_list_pct_passing>\",CO664,\"</cm_t27_list_pct_passing><cm_t27_list_sieve>\",CO665,\"</cm_t27_list_sieve></Data>\"))","v":""},{"$f":"IF(BY84=\"\",\"\",TODAY())","v":""},{"$f":"IF(BY84=\"\",\"\",\"WTSYSTEMUSER\")","v":""},{"$f":"IF(BY84=\"\",\"\",TODAY())","v":""},{"$f":"IF(BY84=\"\",\"\",\"WTSYSTEMUSER\")","v":""},null,null,null,null,null,null,null,"",null,{"$f":"IF(BY5=\"\",\"\",\"AgencyEntityInsData Id 83\")","v":""},{"$f":"IF(BY5=\"\",\"\",\"AgencyEntityInstance Id 3\")","v":""},{"$f":"IF(BY5=\"\",\"\",\"cm_base_grad_T1T5_spec_03_no_4_min\")","v":""},{"$f":"IF(BY5=\"\",\"\",\"35\")","v":""},{"$f":"IF(BY5=\"\",\"\",TODAY())","v":""},{"$f":"IF(BY5=\"\",\"\",\"WTSYSTEMUSER\")","v":""},{"$f":"IF(BY5=\"\",\"\",TODAY())","v":""},{"$f":"IF(BY5=\"\",\"\",\"WTSYSTEMUSER\")","v":""}]
[null,"ENDINGLOCCREATED_DT",null,null,null,null,null,null,null,null,null,null,null,null,null,null,null,null,null,null,null,null,null,null,null,null,null,null,null,null,null,null,null,null,null,null,null,null,null,null,null,null,null,null,null,null,null,null,null,null,null,null,null,null,null,null,null,null,null,null,null,null,null,null,null,null,null,null,null,null,null,null,null,null,null,null,{"$f":"IF(AH24=\"\",\"\",\"AgencyEntityInstance Id 84\")","v":""},{"$f":"IF(BY84=\"\",\"\",VLOOKUP(\"CM_T27_List\",'Send Sync'!$K$56:$L$96,2,FALSE))","v":""},null,{"$f":"IF(BY84=\"\",\"\",\"AgencyEntityInstance Id 82\")","v":""},{"$f":"IF(BY84=\"\",\"\",CONCATENATE(\"<Data><cm_t27_list_inspecrow>\",CO666,\"</cm_t27_list_inspecrow><cm_t27_list_max>\",CO667,\"</cm_t27_list_max><cm_t27_list_min>\",CO668,\"</cm_t27_list_min><cm_t27_list_order>\",CO669,\"</cm_t27_list_order><cm_t27_list_pct_passing>\",CO670,\"</cm_t27_list_pct_passing><cm_t27_list_sieve>\",CO671,\"</cm_t27_list_sieve></Data>\"))","v":""},{"$f":"IF(BY84=\"\",\"\",TODAY())","v":""},{"$f":"IF(BY84=\"\",\"\",\"WTSYSTEMUSER\")","v":""},{"$f":"IF(BY84=\"\",\"\",TODAY())","v":""},{"$f":"IF(BY84=\"\",\"\",\"WTSYSTEMUSER\")","v":""},null,null,null,null,null,null,null,"",null,{"$f":"IF(BY5=\"\",\"\",\"AgencyEntityInsData Id 84\")","v":""},{"$f":"IF(BY5=\"\",\"\",\"AgencyEntityInstance Id 3\")","v":""},{"$f":"IF(BY5=\"\",\"\",\"cm_base_grad_T1T5_spec_04_no_30_max\")","v":""},{"$f":"IF(BY5=\"\",\"\",\"35\")","v":""},{"$f":"IF(BY5=\"\",\"\",TODAY())","v":""},{"$f":"IF(BY5=\"\",\"\",\"WTSYSTEMUSER\")","v":""},{"$f":"IF(BY5=\"\",\"\",TODAY())","v":""},{"$f":"IF(BY5=\"\",\"\",\"WTSYSTEMUSER\")","v":""}]
[null,"ENDINGLOCUPDATEDBYPRSINF_ID",null,null,null,null,null,null,null,null,null,null,null,null,null,null,null,null,null,null,null,null,null,null,null,null,null,null,null,null,null,null,null,null,null,null,null,null,null,null,null,null,null,null,null,null,null,null,null,null,null,null,null,null,null,null,null,null,null,null,null,null,null,null,null,null,null,null,null,null,null,null,null,null,null,null,{"$f":"IF(AH24=\"\",\"\",\"AgencyEntityInstance Id 85\")","v":""},{"$f":"IF(BY84=\"\",\"\",VLOOKUP(\"CM_T27_List\",'Send Sync'!$K$56:$L$96,2,FALSE))","v":""},null,{"$f":"IF(BY84=\"\",\"\",\"AgencyEntityInstance Id 82\")","v":""},{"$f":"IF(BY84=\"\",\"\",CONCATENATE(\"<Data><cm_t27_list_inspecrow>\",CO672,\"</cm_t27_list_inspecrow><cm_t27_list_max>\",CO673,\"</cm_t27_list_max><cm_t27_list_min>\",CO674,\"</cm_t27_list_min><cm_t27_list_order>\",CO675,\"</cm_t27_list_order><cm_t27_list_pct_passing>\",CO676,\"</cm_t27_list_pct_passing><cm_t27_list_sieve>\",CO677,\"</cm_t27_list_sieve></Data>\"))","v":""},{"$f":"IF(BY84=\"\",\"\",TODAY())","v":""},{"$f":"IF(BY84=\"\",\"\",\"WTSYSTEMUSER\")","v":""},{"$f":"IF(BY84=\"\",\"\",TODAY())","v":""},{"$f":"IF(BY84=\"\",\"\",\"WTSYSTEMUSER\")","v":""},null,null,null,null,null,null,null,"",null,{"$f":"IF(BY5=\"\",\"\",\"AgencyEntityInsData Id 85\")","v":""},{"$f":"IF(BY5=\"\",\"\",\"AgencyEntityInstance Id 3\")","v":""},{"$f":"IF(BY5=\"\",\"\",\"cm_base_grad_T1T5_spec_04_no_30_min\")","v":""},{"$f":"IF(BY5=\"\",\"\",\"10\")","v":""},{"$f":"IF(BY5=\"\",\"\",TODAY())","v":""},{"$f":"IF(BY5=\"\",\"\",\"WTSYSTEMUSER\")","v":""},{"$f":"IF(BY5=\"\",\"\",TODAY())","v":""},{"$f":"IF(BY5=\"\",\"\",\"WTSYSTEMUSER\")","v":""}]
[null,"ENDINGLOCATIONUPDATED_DT",null,null,null,null,null,null,null,null,null,null,null,null,null,null,null,null,null,null,null,null,null,null,null,null,null,null,null,null,null,null,null,null,null,null,null,null,null,null,null,null,null,null,null,null,null,null,null,null,null,null,null,null,null,null,null,null,null,null,null,null,null,null,null,null,null,null,null,null,null,null,null,null,null,null,{"$f":"IF(AH24=\"\",\"\",\"AgencyEntityInstance Id 86\")","v":""},{"$f":"IF(BY84=\"\",\"\",VLOOKUP(\"CM_T27_List\",'Send Sync'!$K$56:$L$96,2,FALSE))","v":""},null,{"$f":"IF(BY84=\"\",\"\",\"AgencyEntityInstance Id 82\")","v":""},{"$f":"IF(BY84=\"\",\"\",CONCATENATE(\"<Data><cm_t27_list_inspecrow>\",CO678,\"</cm_t27_list_inspecrow><cm_t27_list_max>\",CO679,\"</cm_t27_list_max><cm_t27_list_min>\",CO680,\"</cm_t27_list_min><cm_t27_list_order>\",CO681,\"</cm_t27_list_order><cm_t27_list_pct_passing>\",CO682,\"</cm_t27_list_pct_passing><cm_t27_list_sieve>\",CO683,\"</cm_t27_list_sieve></Data>\"))","v":""},{"$f":"IF(BY84=\"\",\"\",TODAY())","v":""},{"$f":"IF(BY84=\"\",\"\",\"WTSYSTEMUSER\")","v":""},{"$f":"IF(BY84=\"\",\"\",TODAY())","v":""},{"$f":"IF(BY84=\"\",\"\",\"WTSYSTEMUSER\")","v":""},null,null,null,null,null,null,null,"",null,{"$f":"IF(BY5=\"\",\"\",\"AgencyEntityInsData Id 86\")","v":""},{"$f":"IF(BY5=\"\",\"\",\"AgencyEntityInstance Id 3\")","v":""},{"$f":"IF(BY5=\"\",\"\",\"cm_base_grad_T1T5_spec_05_no_200_max\")","v":""},{"$f":"IF(BY5=\"\",\"\",\"15\")","v":""},{"$f":"IF(BY5=\"\",\"\",TODAY())","v":""},{"$f":"IF(BY5=\"\",\"\",\"WTSYSTEMUSER\")","v":""},{"$f":"IF(BY5=\"\",\"\",TODAY())","v":""},{"$f":"IF(BY5=\"\",\"\",\"WTSYSTEMUSER\")","v":""}]
[null,"ENDINGLOCATIONENDACTIVE_DT",null,null,null,null,null,null,null,null,null,null,null,null,null,null,null,null,null,null,null,null,null,null,null,null,null,null,null,null,null,null,null,null,null,null,null,null,null,null,null,null,null,null,null,null,null,null,null,null,null,null,null,null,null,null,null,null,null,null,null,null,null,null,null,null,null,null,null,null,null,null,null,null,null,null,{"$f":"IF(AH24=\"\",\"\",\"AgencyEntityInstance Id 87\")","v":""},{"$f":"IF(BY84=\"\",\"\",VLOOKUP(\"CM_T27_List\",'Send Sync'!$K$56:$L$96,2,FALSE))","v":""},null,{"$f":"IF(BY84=\"\",\"\",\"AgencyEntityInstance Id 82\")","v":""},{"$f":"IF(BY84=\"\",\"\",CONCATENATE(\"<Data><cm_t27_list_inspecrow>\",CO684,\"</cm_t27_list_inspecrow><cm_t27_list_max>\",CO685,\"</cm_t27_list_max><cm_t27_list_min>\",CO686,\"</cm_t27_list_min><cm_t27_list_order>\",CO687,\"</cm_t27_list_order><cm_t27_list_pct_passing>\",CO688,\"</cm_t27_list_pct_passing><cm_t27_list_sieve>\",CO689,\"</cm_t27_list_sieve></Data>\"))","v":""},{"$f":"IF(BY84=\"\",\"\",TODAY())","v":""},{"$f":"IF(BY84=\"\",\"\",\"WTSYSTEMUSER\")","v":""},{"$f":"IF(BY84=\"\",\"\",TODAY())","v":""},{"$f":"IF(BY84=\"\",\"\",\"WTSYSTEMUSER\")","v":""},null,null,null,null,null,null,null,"",null,{"$f":"IF(BY5=\"\",\"\",\"AgencyEntityInsData Id 87\")","v":""},{"$f":"IF(BY5=\"\",\"\",\"AgencyEntityInstance Id 3\")","v":""},{"$f":"IF(BY5=\"\",\"\",\"cm_base_grad_T1T5_spec_05_no_200_min\")","v":""},{"$f":"IF(BY5=\"\",\"\",\"0\")","v":""},{"$f":"IF(BY5=\"\",\"\",TODAY())","v":""},{"$f":"IF(BY5=\"\",\"\",\"WTSYSTEMUSER\")","v":""},{"$f":"IF(BY5=\"\",\"\",TODAY())","v":""},{"$f":"IF(BY5=\"\",\"\",\"WTSYSTEMUSER\")","v":""}]
[null,"COMMENT",null,null,null,null,null,null,null,null,null,null,null,null,null,null,null,null,null,null,null,null,null,null,null,null,null,null,null,null,null,null,null,null,null,null,null,null,null,null,null,null,null,null,null,null,null,null,null,null,null,null,null,null,null,null,null,null,null,null,null,null,null,null,null,null,null,null,null,null,null,null,null,null,null,null,{"$f":"IF(AH24=\"\",\"\",\"AgencyEntityInstance Id 88\")","v":""},{"$f":"IF(BY84=\"\",\"\",VLOOKUP(\"CM_T27_List\",'Send Sync'!$K$56:$L$96,2,FALSE))","v":""},null,{"$f":"IF(BY84=\"\",\"\",\"AgencyEntityInstance Id 82\")","v":""},{"$f":"IF(BY84=\"\",\"\",CONCATENATE(\"<Data><cm_t27_list_inspecrow>\",CO690,\"</cm_t27_list_inspecrow><cm_t27_list_max>\",CO691,\"</cm_t27_list_max><cm_t27_list_min>\",CO692,\"</cm_t27_list_min><cm_t27_list_order>\",CO693,\"</cm_t27_list_order><cm_t27_list_pct_passing>\",CO694,\"</cm_t27_list_pct_passing><cm_t27_list_sieve>\",CO695,\"</cm_t27_list_sieve></Data>\"))","v":""},{"$f":"IF(BY84=\"\",\"\",TODAY())","v":""},{"$f":"IF(BY84=\"\",\"\",\"WTSYSTEMUSER\")","v":""},{"$f":"IF(BY84=\"\",\"\",TODAY())","v":""},{"$f":"IF(BY84=\"\",\"\",\"WTSYSTEMUSER\")","v":""},null,null,null,null,null,null,null,"",null,{"$f":"IF(BY6=\"\",\"\",\"AgencyEntityInsData Id 88\")","v":""},{"$f":"IF(BY6=\"\",\"\",\"AgencyEntityInstance Id 4\")","v":""},{"$f":"IF(BY6=\"\",\"\",\"cm_base_grad_T1T5_01_inch\")","v":""},{"$f":"IF(BY6=\"\",\"\",IF('Test 1'!$AF25=0,\"\",'Test 1'!$AF25))","v":""},{"$f":"IF(BY6=\"\",\"\",TODAY())","v":""},{"$f":"IF(BY6=\"\",\"\",\"WTSYSTEMUSER\")","v":""},{"$f":"IF(BY6=\"\",\"\",TODAY())","v":""},{"$f":"IF(BY6=\"\",\"\",\"WTSYSTEMUSER\")","v":""}]
[null,"ISMOBILE",0,null,null,null,null,null,null,null,null,null,null,null,null,null,null,null,null,null,null,null,null,null,null,null,null,null,null,null,null,null,null,null,null,null,null,null,null,null,null,null,null,null,null,null,null,null,null,null,null,null,null,null,null,null,null,null,null,null,null,null,null,null,null,null,null,null,null,null,null,null,null,null,null,null,{"$f":"IF(AH24=\"\",\"\",\"AgencyEntityInstance Id 89\")","v":""},{"$f":"IF(BY84=\"\",\"\",VLOOKUP(\"CM_T27_List\",'Send Sync'!$K$56:$L$96,2,FALSE))","v":""},null,{"$f":"IF(BY84=\"\",\"\",\"AgencyEntityInstance Id 82\")","v":""},{"$f":"IF(BY84=\"\",\"\",CONCATENATE(\"<Data><cm_t27_list_inspecrow>\",CO696,\"</cm_t27_list_inspecrow><cm_t27_list_max>\",CO697,\"</cm_t27_list_max><cm_t27_list_min>\",CO698,\"</cm_t27_list_min><cm_t27_list_order>\",CO699,\"</cm_t27_list_order><cm_t27_list_pct_passing>\",CO700,\"</cm_t27_list_pct_passing><cm_t27_list_sieve>\",CO701,\"</cm_t27_list_sieve></Data>\"))","v":""},{"$f":"IF(BY84=\"\",\"\",TODAY())","v":""},{"$f":"IF(BY84=\"\",\"\",\"WTSYSTEMUSER\")","v":""},{"$f":"IF(BY84=\"\",\"\",TODAY())","v":""},{"$f":"IF(BY84=\"\",\"\",\"WTSYSTEMUSER\")","v":""},null,null,null,null,null,null,null,"",null,{"$f":"IF(BY6=\"\",\"\",\"AgencyEntityInsData Id 89\")","v":""},{"$f":"IF(BY6=\"\",\"\",\"AgencyEntityInstance Id 4\")","v":""},{"$f":"IF(BY6=\"\",\"\",\"cm_base_grad_T1T5_02_half_inch\")","v":""},{"$f":"IF(BY6=\"\",\"\",IF('Test 1'!$AF26=0,\"\",'Test 1'!$AF26))","v":""},{"$f":"IF(BY6=\"\",\"\",TODAY())","v":""},{"$f":"IF(BY6=\"\",\"\",\"WTSYSTEMUSER\")","v":""},{"$f":"IF(BY6=\"\",\"\",TODAY())","v":""},{"$f":"IF(BY6=\"\",\"\",\"WTSYSTEMUSER\")","v":""}]
[null,"SPLITSAMPLECHILD",0,null,null,null,null,null,null,null,null,null,null,null,null,null,null,null,null,null,null,null,null,null,null,null,null,null,null,null,null,null,null,null,null,null,null,null,null,null,null,null,null,null,null,null,null,null,null,null,null,null,null,null,null,null,null,null,null,null,null,null,null,null,null,null,null,null,null,null,null,null,null,null,null,null,{"$f":"IF(AH24=\"\",\"\",\"AgencyEntityInstance Id 90\")","v":""},{"$f":"IF(BY84=\"\",\"\",VLOOKUP(\"CM_T27_List\",'Send Sync'!$K$56:$L$96,2,FALSE))","v":""},null,{"$f":"IF(BY84=\"\",\"\",\"AgencyEntityInstance Id 82\")","v":""},{"$f":"IF(BY84=\"\",\"\",CONCATENATE(\"<Data><cm_t27_list_inspecrow>\",CO702,\"</cm_t27_list_inspecrow><cm_t27_list_max>\",CO703,\"</cm_t27_list_max><cm_t27_list_min>\",CO704,\"</cm_t27_list_min><cm_t27_list_order>\",CO705,\"</cm_t27_list_order><cm_t27_list_pct_passing>\",CO706,\"</cm_t27_list_pct_passing><cm_t27_list_sieve>\",CO707,\"</cm_t27_list_sieve></Data>\"))","v":""},{"$f":"IF(BY84=\"\",\"\",TODAY())","v":""},{"$f":"IF(BY84=\"\",\"\",\"WTSYSTEMUSER\")","v":""},{"$f":"IF(BY84=\"\",\"\",TODAY())","v":""},{"$f":"IF(BY84=\"\",\"\",\"WTSYSTEMUSER\")","v":""},null,null,null,null,null,null,null,"",null,{"$f":"IF(BY6=\"\",\"\",\"AgencyEntityInsData Id 90\")","v":""},{"$f":"IF(BY6=\"\",\"\",\"AgencyEntityInstance Id 4\")","v":""},{"$f":"IF(BY6=\"\",\"\",\"cm_base_grad_T1T5_03_no_4\")","v":""},{"$f":"IF(BY6=\"\",\"\",IF('Test 1'!$AF27=0,\"\",'Test 1'!$AF27))","v":""},{"$f":"IF(BY6=\"\",\"\",TODAY())","v":""},{"$f":"IF(BY6=\"\",\"\",\"WTSYSTEMUSER\")","v":""},{"$f":"IF(BY6=\"\",\"\",TODAY())","v":""},{"$f":"IF(BY6=\"\",\"\",\"WTSYSTEMUSER\")","v":""}]
[null,"BRAND_ID",null,null,null,null,null,null,null,null,null,null,null,null,null,null,null,null,null,null,null,null,null,null,null,null,null,null,null,null,null,null,null,null,null,null,null,null,null,null,null,null,null,null,null,null,null,null,null,null,null,null,null,null,null,null,null,null,null,null,null,null,null,null,null,null,null,null,null,null,null,null,null,null,null,null,{"$f":"IF(AH24=\"\",\"\",\"AgencyEntityInstance Id 91\")","v":""},{"$f":"IF(BY84=\"\",\"\",VLOOKUP(\"CM_T27_List\",'Send Sync'!$K$56:$L$96,2,FALSE))","v":""},null,{"$f":"IF(BY84=\"\",\"\",\"AgencyEntityInstance Id 82\")","v":""},{"$f":"IF(BY84=\"\",\"\",CONCATENATE(\"<Data><cm_t27_list_inspecrow>\",CO708,\"</cm_t27_list_inspecrow><cm_t27_list_max>\",CO709,\"</cm_t27_list_max><cm_t27_list_min>\",CO710,\"</cm_t27_list_min><cm_t27_list_order>\",CO711,\"</cm_t27_list_order><cm_t27_list_pct_passing>\",CO712,\"</cm_t27_list_pct_passing><cm_t27_list_sieve>\",CO713,\"</cm_t27_list_sieve></Data>\"))","v":""},{"$f":"IF(BY84=\"\",\"\",TODAY())","v":""},{"$f":"IF(BY84=\"\",\"\",\"WTSYSTEMUSER\")","v":""},{"$f":"IF(BY84=\"\",\"\",TODAY())","v":""},{"$f":"IF(BY84=\"\",\"\",\"WTSYSTEMUSER\")","v":""},null,null,null,null,null,null,null,"",null,{"$f":"IF(BY6=\"\",\"\",\"AgencyEntityInsData Id 91\")","v":""},{"$f":"IF(BY6=\"\",\"\",\"AgencyEntityInstance Id 4\")","v":""},{"$f":"IF(BY6=\"\",\"\",\"cm_base_grad_T1T5_04_no_30\")","v":""},{"$f":"IF(BY6=\"\",\"\",IF('Test 1'!$AF28=0,\"\",'Test 1'!$AF28))","v":""},{"$f":"IF(BY6=\"\",\"\",TODAY())","v":""},{"$f":"IF(BY6=\"\",\"\",\"WTSYSTEMUSER\")","v":""},{"$f":"IF(BY6=\"\",\"\",TODAY())","v":""},{"$f":"IF(BY6=\"\",\"\",\"WTSYSTEMUSER\")","v":""}]
[null,null,null,null,null,null,null,null,null,null,null,null,null,null,null,null,null,null,null,null,null,null,null,null,null,null,null,null,null,null,null,null,null,null,null,null,null,null,null,null,null,null,null,null,null,null,null,null,null,null,null,null,null,null,null,null,null,null,null,null,null,null,null,null,null,null,null,null,null,null,null,null,null,null,null,null,{"$f":"IF(AH24=\"\",\"\",\"AgencyEntityInstance Id 92\")","v":""},{"$f":"IF(BY84=\"\",\"\",VLOOKUP(\"CM_T27_List\",'Send Sync'!$K$56:$L$96,2,FALSE))","v":""},null,{"$f":"IF(BY84=\"\",\"\",\"AgencyEntityInstance Id 82\")","v":""},{"$f":"IF(BY84=\"\",\"\",CONCATENATE(\"<Data><cm_t27_list_inspecrow>\",CO714,\"</cm_t27_list_inspecrow><cm_t27_list_max>\",CO715,\"</cm_t27_list_max><cm_t27_list_min>\",CO716,\"</cm_t27_list_min><cm_t27_list_order>\",CO717,\"</cm_t27_list_order><cm_t27_list_pct_passing>\",CO718,\"</cm_t27_list_pct_passing><cm_t27_list_sieve>\",CO719,\"</cm_t27_list_sieve></Data>\"))","v":""},{"$f":"IF(BY84=\"\",\"\",TODAY())","v":""},{"$f":"IF(BY84=\"\",\"\",\"WTSYSTEMUSER\")","v":""},{"$f":"IF(BY84=\"\",\"\",TODAY())","v":""},{"$f":"IF(BY84=\"\",\"\",\"WTSYSTEMUSER\")","v":""},null,null,null,null,null,null,null,"",null,{"$f":"IF(BY6=\"\",\"\",\"AgencyEntityInsData Id 92\")","v":""},{"$f":"IF(BY6=\"\",\"\",\"AgencyEntityInstance Id 4\")","v":""},{"$f":"IF(BY6=\"\",\"\",\"cm_base_grad_T1T5_05_no_200\")","v":""},{"$f":"IF(BY6=\"\",\"\",IF('Test 1'!$AF29=0,\"\",'Test 1'!$AF29))","v":""},{"$f":"IF(BY6=\"\",\"\",TODAY())","v":""},{"$f":"IF(BY6=\"\",\"\",\"WTSYSTEMUSER\")","v":""},{"$f":"IF(BY6=\"\",\"\",TODAY())","v":""},{"$f":"IF(BY6=\"\",\"\",\"WTSYSTEMUSER\")","v":""}]
[null,null,null,null,null,null,null,null,null,null,null,null,null,null,null,null,null,null,null,null,null,null,null,null,null,null,null,null,null,null,null,null,null,null,null,null,null,null,null,null,null,null,null,null,null,null,null,null,null,null,null,null,null,null,null,null,null,null,null,null,null,null,null,null,null,null,null,null,null,null,null,null,null,null,null,null,{"$f":"IF(AH24=\"\",\"\",\"AgencyEntityInstance Id 93\")","v":""},{"$f":"IF(BY84=\"\",\"\",VLOOKUP(\"CM_T27_List\",'Send Sync'!$K$56:$L$96,2,FALSE))","v":""},null,{"$f":"IF(BY84=\"\",\"\",\"AgencyEntityInstance Id 82\")","v":""},{"$f":"IF(BY84=\"\",\"\",CONCATENATE(\"<Data><cm_t27_list_inspecrow>\",CO720,\"</cm_t27_list_inspecrow><cm_t27_list_max>\",CO721,\"</cm_t27_list_max><cm_t27_list_min>\",CO722,\"</cm_t27_list_min><cm_t27_list_order>\",CO723,\"</cm_t27_list_order><cm_t27_list_pct_passing>\",CO724,\"</cm_t27_list_pct_passing><cm_t27_list_sieve>\",CO725,\"</cm_t27_list_sieve></Data>\"))","v":""},{"$f":"IF(BY84=\"\",\"\",TODAY())","v":""},{"$f":"IF(BY84=\"\",\"\",\"WTSYSTEMUSER\")","v":""},{"$f":"IF(BY84=\"\",\"\",TODAY())","v":""},{"$f":"IF(BY84=\"\",\"\",\"WTSYSTEMUSER\")","v":""},null,null,null,null,null,null,null,"",null,{"$f":"IF(BY6=\"\",\"\",\"AgencyEntityInsData Id 93\")","v":""},{"$f":"IF(BY6=\"\",\"\",\"AgencyEntityInstance Id 4\")","v":""},{"$f":"IF(BY6=\"\",\"\",\"cm_base_grad_T1T5_08_station_1\")","v":""},{"$f":"IF(BY6=\"\",\"\",IF('Test 1'!F20=0,\"\",'Test 1'!F20))","v":""},{"$f":"IF(BY6=\"\",\"\",TODAY())","v":""},{"$f":"IF(BY6=\"\",\"\",\"WTSYSTEMUSER\")","v":""},{"$f":"IF(BY6=\"\",\"\",TODAY())","v":""},{"$f":"IF(BY6=\"\",\"\",\"WTSYSTEMUSER\")","v":""}]
[null,null,null,null,null,null,null,null,null,null,null,null,null,null,null,null,null,null,null,null,null,null,null,null,null,null,null,null,null,null,null,null,null,null,null,null,null,null,null,null,null,null,null,null,null,null,null,null,null,null,null,null,null,null,null,null,null,null,null,null,null,null,null,null,null,null,null,null,null,null,null,null,null,null,null,null,{"$f":"IF(AH24=\"\",\"\",\"AgencyEntityInstance Id 94\")","v":""},{"$f":"IF(BY84=\"\",\"\",VLOOKUP(\"CM_T27_List\",'Send Sync'!$K$56:$L$96,2,FALSE))","v":""},null,{"$f":"IF(BY84=\"\",\"\",\"AgencyEntityInstance Id 82\")","v":""},{"$f":"IF(BY84=\"\",\"\",CONCATENATE(\"<Data><cm_t27_list_inspecrow>\",CO726,\"</cm_t27_list_inspecrow><cm_t27_list_max>\",CO727,\"</cm_t27_list_max><cm_t27_list_min>\",CO728,\"</cm_t27_list_min><cm_t27_list_order>\",CO729,\"</cm_t27_list_order><cm_t27_list_pct_passing>\",CO730,\"</cm_t27_list_pct_passing><cm_t27_list_sieve>\",CO731,\"</cm_t27_list_sieve></Data>\"))","v":""},{"$f":"IF(BY84=\"\",\"\",TODAY())","v":""},{"$f":"IF(BY84=\"\",\"\",\"WTSYSTEMUSER\")","v":""},{"$f":"IF(BY84=\"\",\"\",TODAY())","v":""},{"$f":"IF(BY84=\"\",\"\",\"WTSYSTEMUSER\")","v":""},null,null,null,null,null,null,null,"",null,{"$f":"IF(BY6=\"\",\"\",\"AgencyEntityInsData Id 94\")","v":""},{"$f":"IF(BY6=\"\",\"\",\"AgencyEntityInstance Id 4\")","v":""},{"$f":"IF(BY6=\"\",\"\",\"cm_base_grad_T1T5_09_station_2\")","v":""},{"$f":"IF(BY6=\"\",\"\",IF('Test 1'!J20=0,\"\",'Test 1'!J20))","v":""},{"$f":"IF(BY6=\"\",\"\",TODAY())","v":""},{"$f":"IF(BY6=\"\",\"\",\"WTSYSTEMUSER\")","v":""},{"$f":"IF(BY6=\"\",\"\",TODAY())","v":""},{"$f":"IF(BY6=\"\",\"\",\"WTSYSTEMUSER\")","v":""}]
[null,null,null,null,null,null,null,null,null,null,null,null,null,null,null,null,null,null,null,null,null,null,null,null,null,null,null,null,null,null,null,null,null,null,null,null,null,null,null,null,null,null,null,null,null,null,null,null,null,null,null,null,null,null,null,null,null,null,null,null,null,null,null,null,null,null,null,null,null,null,null,null,null,null,null,null,{"$f":"IF(AH24=\"\",\"\",\"AgencyEntityInstance Id 95\")","v":""},{"$f":"IF(BY84=\"\",\"\",VLOOKUP(\"CM_T27_List\",'Send Sync'!$K$56:$L$96,2,FALSE))","v":""},null,{"$f":"IF(BY84=\"\",\"\",\"AgencyEntityInstance Id 82\")","v":""},{"$f":"IF(BY84=\"\",\"\",CONCATENATE(\"<Data><cm_t27_list_inspecrow>\",CO732,\"</cm_t27_list_inspecrow><cm_t27_list_max>\",CO733,\"</cm_t27_list_max><cm_t27_list_min>\",CO734,\"</cm_t27_list_min><cm_t27_list_order>\",CO735,\"</cm_t27_list_order><cm_t27_list_pct_passing>\",CO736,\"</cm_t27_list_pct_passing><cm_t27_list_sieve>\",CO737,\"</cm_t27_list_sieve></Data>\"))","v":""},{"$f":"IF(BY84=\"\",\"\",TODAY())","v":""},{"$f":"IF(BY84=\"\",\"\",\"WTSYSTEMUSER\")","v":""},{"$f":"IF(BY84=\"\",\"\",TODAY())","v":""},{"$f":"IF(BY84=\"\",\"\",\"WTSYSTEMUSER\")","v":""},null,null,null,null,null,null,null,"",null,{"$f":"IF(BY6=\"\",\"\",\"AgencyEntityInsData Id 95\")","v":""},{"$f":"IF(BY6=\"\",\"\",\"AgencyEntityInstance Id 4\")","v":""},{"$f":"IF(BY6=\"\",\"\",\"cm_base_grad_T1T5_10_centerline_location\")","v":""},{"$f":"IF(BY6=\"\",\"\",IF('Test 1'!I21=\"\",\"\",'Test 1'!I21))","v":""},{"$f":"IF(BY6=\"\",\"\",TODAY())","v":""},{"$f":"IF(BY6=\"\",\"\",\"WTSYSTEMUSER\")","v":""},{"$f":"IF(BY6=\"\",\"\",TODAY())","v":""},{"$f":"IF(BY6=\"\",\"\",\"WTSYSTEMUSER\")","v":""}]
[null,null,null,null,null,null,null,null,null,null,null,null,null,null,null,null,null,null,null,null,null,null,null,null,null,null,null,null,null,null,null,null,null,null,null,null,null,null,null,null,null,null,null,null,null,null,null,null,null,null,null,null,null,null,null,null,null,null,null,null,null,null,null,null,null,null,null,null,null,null,null,null,null,null,null,null,{"$f":"IF(AH24=\"\",\"\",\"AgencyEntityInstance Id 96\")","v":""},{"$f":"IF(BY84=\"\",\"\",VLOOKUP(\"CM_T27_List\",'Send Sync'!$K$56:$L$96,2,FALSE))","v":""},null,{"$f":"IF(BY84=\"\",\"\",\"AgencyEntityInstance Id 82\")","v":""},{"$f":"IF(BY84=\"\",\"\",CONCATENATE(\"<Data><cm_t27_list_inspecrow>\",CO738,\"</cm_t27_list_inspecrow><cm_t27_list_max>\",CO739,\"</cm_t27_list_max><cm_t27_list_min>\",CO740,\"</cm_t27_list_min><cm_t27_list_order>\",CO741,\"</cm_t27_list_order><cm_t27_list_pct_passing>\",CO742,\"</cm_t27_list_pct_passing><cm_t27_list_sieve>\",CO743,\"</cm_t27_list_sieve></Data>\"))","v":""},{"$f":"IF(BY84=\"\",\"\",TODAY())","v":""},{"$f":"IF(BY84=\"\",\"\",\"WTSYSTEMUSER\")","v":""},{"$f":"IF(BY84=\"\",\"\",TODAY())","v":""},{"$f":"IF(BY84=\"\",\"\",\"WTSYSTEMUSER\")","v":""},null,null,null,null,null,null,null,"",null,{"$f":"IF(BY6=\"\",\"\",\"AgencyEntityInsData Id 96\")","v":""},{"$f":"IF(BY6=\"\",\"\",\"AgencyEntityInstance Id 4\")","v":""},{"$f":"IF(BY6=\"\",\"\",\"cm_base_grad_T1T5_11_tested_by\")","v":""},{"$f":"IF(BY6=\"\",\"\",IF('Test 1'!H13=\"\",\"\",'Test 1'!H13))","v":""},{"$f":"IF(BY6=\"\",\"\",TODAY())","v":""},{"$f":"IF(BY6=\"\",\"\",\"WTSYSTEMUSER\")","v":""},{"$f":"IF(BY6=\"\",\"\",TODAY())","v":""},{"$f":"IF(BY6=\"\",\"\",\"WTSYSTEMUSER\")","v":""}]
[null,null,null,null,null,null,null,null,null,null,null,null,null,null,null,null,null,null,null,null,null,null,null,null,null,null,null,null,null,null,null,null,null,null,null,null,null,null,null,null,null,null,null,null,null,null,null,null,null,null,null,null,null,null,null,null,null,null,null,null,null,null,null,null,null,null,null,null,null,null,null,null,null,null,null,null,{"$f":"IF(AH24=\"\",\"\",\"AgencyEntityInstance Id 97\")","v":""},{"$f":"IF(BY84=\"\",\"\",VLOOKUP(\"CM_T27_List\",'Send Sync'!$K$56:$L$96,2,FALSE))","v":""},null,{"$f":"IF(BY84=\"\",\"\",\"AgencyEntityInstance Id 82\")","v":""},{"$f":"IF(BY84=\"\",\"\",CONCATENATE(\"<Data><cm_t27_list_inspecrow>\",CO744,\"</cm_t27_list_inspecrow><cm_t27_list_max>\",CO745,\"</cm_t27_list_max><cm_t27_list_min>\",CO746,\"</cm_t27_list_min><cm_t27_list_order>\",CO747,\"</cm_t27_list_order><cm_t27_list_pct_passing>\",CO748,\"</cm_t27_list_pct_passing><cm_t27_list_sieve>\",CO749,\"</cm_t27_list_sieve></Data>\"))","v":""},{"$f":"IF(BY84=\"\",\"\",TODAY())","v":""},{"$f":"IF(BY84=\"\",\"\",\"WTSYSTEMUSER\")","v":""},{"$f":"IF(BY84=\"\",\"\",TODAY())","v":""},{"$f":"IF(BY84=\"\",\"\",\"WTSYSTEMUSER\")","v":""},null,null,null,null,null,null,null,"",null,{"$f":"IF(BY6=\"\",\"\",\"AgencyEntityInsData Id 97\")","v":""},{"$f":"IF(BY6=\"\",\"\",\"AgencyEntityInstance Id 4\")","v":""},{"$f":"IF(BY6=\"\",\"\",\"cm_base_grad_T1T5_half_inch_label\")","v":""},{"$f":"IF(BY6=\"\",\"\",\"1/2\"\" (12.5 mm)\")","v":""},{"$f":"IF(BY6=\"\",\"\",TODAY())","v":""},{"$f":"IF(BY6=\"\",\"\",\"WTSYSTEMUSER\")","v":""},{"$f":"IF(BY6=\"\",\"\",TODAY())","v":""},{"$f":"IF(BY6=\"\",\"\",\"WTSYSTEMUSER\")","v":""}]
[null,null,null,null,null,null,null,null,null,null,null,null,null,null,null,null,null,null,null,null,null,null,null,null,null,null,null,null,null,null,null,null,null,null,null,null,null,null,null,null,null,null,null,null,null,null,null,null,null,null,null,null,null,null,null,null,null,null,null,null,null,null,null,null,null,null,null,null,null,null,null,null,null,null,null,null,{"$f":"IF(AH25=\"\",\"\",\"AgencyEntityInstance Id 98\")","v":""},{"$f":"IF(BY100=\"\",\"\",VLOOKUP(\"CM_T85Abs\",'Send Sync'!$K$56:$L$96,2,FALSE))","v":""},{"$f":"IF(BY100=\"\",\"\",\"SampleRecordTest Id 23\")","v":""},"",{"$f":"IF(BY100=\"\",\"\",CONCATENATE(\"<Data><CM_T85Abs_Absorption>\",CO750,\"</CM_T85Abs_Absorption><CM_T85Abs_DryWt>\",CO751,\"</CM_T85Abs_DryWt><CM_T85Abs_Label_AASHTO_T85>\",CO752,\"</CM_T85Abs_Label_AASHTO_T85><CM_T85Abs_PlaceHolder1>\",CO753,\"</CM_T85Abs_PlaceHolder1><CM_T85Abs_PlaceHolder2>\",CO754,\"</CM_T85Abs_PlaceHolder2><CM_T85Abs_PlaceHolder3>\",CO755,\"</CM_T85Abs_PlaceHolder3><CM_T85Abs_PlaceHolder4>\",CO756,\"</CM_T85Abs_PlaceHolder4><CM_T85Abs_PlaceHolder5>\",CO757,\"</CM_T85Abs_PlaceHolder5><CM_T85Abs_PlaceHolder6>\",CO758,\"</CM_T85Abs_PlaceHolder6><CM_T85Abs_SurfaceDryWt>\",CO759,\"</CM_T85Abs_SurfaceDryWt><CM_T85Abs_Title_Label>\",CO760,\"</CM_T85Abs_Title_Label></Data>\"))","v":""},{"$f":"IF(BY100=\"\",\"\",TODAY())","v":""},{"$f":"IF(BY100=\"\",\"\",\"WTSYSTEMUSER\")","v":""},{"$f":"IF(BY100=\"\",\"\",TODAY())","v":""},{"$f":"IF(BY100=\"\",\"\",\"WTSYSTEMUSER\")","v":""},null,null,null,null,null,null,null,"",null,{"$f":"IF(BY6=\"\",\"\",\"AgencyEntityInsData Id 98\")","v":""},{"$f":"IF(BY6=\"\",\"\",\"AgencyEntityInstance Id 4\")","v":""},{"$f":"IF(BY6=\"\",\"\",\"cm_base_grad_T1T5_half_inch_max\")","v":""},{"$f":"IF(BY6=\"\",\"\",\"90\")","v":""},{"$f":"IF(BY6=\"\",\"\",TODAY())","v":""},{"$f":"IF(BY6=\"\",\"\",\"WTSYSTEMUSER\")","v":""},{"$f":"IF(BY6=\"\",\"\",TODAY())","v":""},{"$f":"IF(BY6=\"\",\"\",\"WTSYSTEMUSER\")","v":""}]
[null,null,null,null,null,null,null,null,null,null,null,null,null,null,null,null,null,null,null,null,null,null,null,null,null,null,null,null,null,null,null,null,null,null,null,null,null,null,null,null,null,null,null,null,null,null,null,null,null,null,null,null,null,null,null,null,null,null,null,null,null,null,null,null,null,null,null,null,null,null,null,null,null,null,null,null,{"$f":"IF(AH26=\"\",\"\",\"AgencyEntityInstance Id 99\")","v":""},{"$f":"IF(BY101=\"\",\"\",VLOOKUP(\"CM_T85Abs\",'Send Sync'!$K$56:$L$96,2,FALSE))","v":""},{"$f":"IF(BY101=\"\",\"\",\"SampleRecordTest Id 24\")","v":""},"",{"$f":"IF(BY101=\"\",\"\",CONCATENATE(\"<Data><CM_T85Abs_Absorption>\",CO761,\"</CM_T85Abs_Absorption><CM_T85Abs_DryWt>\",CO762,\"</CM_T85Abs_DryWt><CM_T85Abs_Label_AASHTO_T85>\",CO763,\"</CM_T85Abs_Label_AASHTO_T85><CM_T85Abs_PlaceHolder1>\",CO764,\"</CM_T85Abs_PlaceHolder1><CM_T85Abs_PlaceHolder2>\",CO765,\"</CM_T85Abs_PlaceHolder2><CM_T85Abs_PlaceHolder3>\",CO766,\"</CM_T85Abs_PlaceHolder3><CM_T85Abs_PlaceHolder4>\",CO767,\"</CM_T85Abs_PlaceHolder4><CM_T85Abs_PlaceHolder5>\",CO768,\"</CM_T85Abs_PlaceHolder5><CM_T85Abs_PlaceHolder6>\",CO769,\"</CM_T85Abs_PlaceHolder6><CM_T85Abs_SurfaceDryWt>\",CO770,\"</CM_T85Abs_SurfaceDryWt><CM_T85Abs_Title_Label>\",CO771,\"</CM_T85Abs_Title_Label></Data>\"))","v":""},"","","","",null,null,null,null,null,null,null,"",null,{"$f":"IF(BY6=\"\",\"\",\"AgencyEntityInsData Id 99\")","v":""},{"$f":"IF(BY6=\"\",\"\",\"AgencyEntityInstance Id 4\")","v":""},{"$f":"IF(BY6=\"\",\"\",\"cm_base_grad_T1T5_half_inch_min\")","v":""},{"$f":"IF(BY6=\"\",\"\",\"60\")","v":""},{"$f":"IF(BY6=\"\",\"\",TODAY())","v":""},{"$f":"IF(BY6=\"\",\"\",\"WTSYSTEMUSER\")","v":""},{"$f":"IF(BY6=\"\",\"\",TODAY())","v":""},{"$f":"IF(BY6=\"\",\"\",\"WTSYSTEMUSER\")","v":""}]
[null,null,null,null,null,null,null,null,null,null,null,null,null,null,null,null,null,null,null,null,null,null,null,null,null,null,null,null,null,null,null,null,null,null,null,null,null,null,null,null,null,null,null,null,null,null,null,null,null,null,null,null,null,null,null,null,null,null,null,null,null,null,null,null,null,null,null,null,null,null,null,null,null,null,null,null,{"$f":"IF(AH27=\"\",\"\",\"AgencyEntityInstance Id 100\")","v":""},{"$f":"IF(BY102=\"\",\"\",VLOOKUP(\"CM_T85Abs\",'Send Sync'!$K$56:$L$96,2,FALSE))","v":""},{"$f":"IF(BY102=\"\",\"\",\"SampleRecordTest Id 25\")","v":""},"",{"$f":"IF(BY102=\"\",\"\",CONCATENATE(\"<Data><CM_T85Abs_Absorption>\",CO772,\"</CM_T85Abs_Absorption><CM_T85Abs_DryWt>\",CO773,\"</CM_T85Abs_DryWt><CM_T85Abs_Label_AASHTO_T85>\",CO774,\"</CM_T85Abs_Label_AASHTO_T85><CM_T85Abs_PlaceHolder1>\",CO775,\"</CM_T85Abs_PlaceHolder1><CM_T85Abs_PlaceHolder2>\",CO776,\"</CM_T85Abs_PlaceHolder2><CM_T85Abs_PlaceHolder3>\",CO777,\"</CM_T85Abs_PlaceHolder3><CM_T85Abs_PlaceHolder4>\",CO778,\"</CM_T85Abs_PlaceHolder4><CM_T85Abs_PlaceHolder5>\",CO779,\"</CM_T85Abs_PlaceHolder5><CM_T85Abs_PlaceHolder6>\",CO780,\"</CM_T85Abs_PlaceHolder6><CM_T85Abs_SurfaceDryWt>\",CO781,\"</CM_T85Abs_SurfaceDryWt><CM_T85Abs_Title_Label>\",CO782,\"</CM_T85Abs_Title_Label></Data>\"))","v":""},"","","","",null,null,null,null,null,null,null,"",null,{"$f":"IF(BY6=\"\",\"\",\"AgencyEntityInsData Id 100\")","v":""},{"$f":"IF(BY6=\"\",\"\",\"AgencyEntityInstance Id 4\")","v":""},{"$f":"IF(BY6=\"\",\"\",\"cm_base_grad_T1T5_inch_label\")","v":""},{"$f":"IF(BY6=\"\",\"\",\"1\"\" (25.0 mm)\")","v":""},{"$f":"IF(BY6=\"\",\"\",TODAY())","v":""},{"$f":"IF(BY6=\"\",\"\",\"WTSYSTEMUSER\")","v":""},{"$f":"IF(BY6=\"\",\"\",TODAY())","v":""},{"$f":"IF(BY6=\"\",\"\",\"WTSYSTEMUSER\")","v":""}]
[null,null,null,null,null,null,null,null,null,null,null,null,null,null,null,null,null,null,null,null,null,null,null,null,null,null,null,null,null,null,null,null,null,null,null,null,null,null,null,null,null,null,null,null,null,null,null,null,null,null,null,null,null,null,null,null,null,null,null,null,null,null,null,null,null,null,null,null,null,null,null,null,null,null,null,null,{"$f":"IF(AH28=\"\",\"\",\"AgencyEntityInstance Id 101\")","v":""},{"$f":"IF(BY103=\"\",\"\",VLOOKUP(\"CM_T85Abs\",'Send Sync'!$K$56:$L$96,2,FALSE))","v":""},{"$f":"IF(BY103=\"\",\"\",\"SampleRecordTest Id 26\")","v":""},"",{"$f":"IF(BY103=\"\",\"\",CONCATENATE(\"<Data><CM_T85Abs_Absorption>\",CO783,\"</CM_T85Abs_Absorption><CM_T85Abs_DryWt>\",CO784,\"</CM_T85Abs_DryWt><CM_T85Abs_Label_AASHTO_T85>\",CO785,\"</CM_T85Abs_Label_AASHTO_T85><CM_T85Abs_PlaceHolder1>\",CO786,\"</CM_T85Abs_PlaceHolder1><CM_T85Abs_PlaceHolder2>\",CO787,\"</CM_T85Abs_PlaceHolder2><CM_T85Abs_PlaceHolder3>\",CO788,\"</CM_T85Abs_PlaceHolder3><CM_T85Abs_PlaceHolder4>\",CO789,\"</CM_T85Abs_PlaceHolder4><CM_T85Abs_PlaceHolder5>\",CO790,\"</CM_T85Abs_PlaceHolder5><CM_T85Abs_PlaceHolder6>\",CO791,\"</CM_T85Abs_PlaceHolder6><CM_T85Abs_SurfaceDryWt>\",CO792,\"</CM_T85Abs_SurfaceDryWt><CM_T85Abs_Title_Label>\",CO793,\"</CM_T85Abs_Title_Label></Data>\"))","v":""},"","","","",null,null,null,null,null,null,null,"",null,{"$f":"IF(BY6=\"\",\"\",\"AgencyEntityInsData Id 101\")","v":""},{"$f":"IF(BY6=\"\",\"\",\"AgencyEntityInstance Id 4\")","v":""},{"$f":"IF(BY6=\"\",\"\",\"cm_base_grad_T1T5_inch_max\")","v":""},{"$f":"IF(BY6=\"\",\"\",\"100\")","v":""},{"$f":"IF(BY6=\"\",\"\",TODAY())","v":""},{"$f":"IF(BY6=\"\",\"\",\"WTSYSTEMUSER\")","v":""},{"$f":"IF(BY6=\"\",\"\",TODAY())","v":""},{"$f":"IF(BY6=\"\",\"\",\"WTSYSTEMUSER\")","v":""}]
[null,null,null,null,null,null,null,null,null,null,null,null,null,null,null,null,null,null,null,null,null,null,null,null,null,null,null,null,null,null,null,null,null,null,null,null,null,null,null,null,null,null,null,null,null,null,null,null,null,null,null,null,null,null,null,null,null,null,null,null,null,null,null,null,null,null,null,null,null,null,null,null,null,null,null,null,{"$f":"IF(AH29=\"\",\"\",\"AgencyEntityInstance Id 102\")","v":""},{"$f":"IF(BY104=\"\",\"\",VLOOKUP(\"CM_T85Abs\",'Send Sync'!$K$56:$L$96,2,FALSE))","v":""},{"$f":"IF(BY104=\"\",\"\",\"SampleRecordTest Id 27\")","v":""},"",{"$f":"IF(BY104=\"\",\"\",CONCATENATE(\"<Data><CM_T85Abs_Absorption>\",CO794,\"</CM_T85Abs_Absorption><CM_T85Abs_DryWt>\",CO795,\"</CM_T85Abs_DryWt><CM_T85Abs_Label_AASHTO_T85>\",CO796,\"</CM_T85Abs_Label_AASHTO_T85><CM_T85Abs_PlaceHolder1>\",CO797,\"</CM_T85Abs_PlaceHolder1><CM_T85Abs_PlaceHolder2>\",CO798,\"</CM_T85Abs_PlaceHolder2><CM_T85Abs_PlaceHolder3>\",CO799,\"</CM_T85Abs_PlaceHolder3><CM_T85Abs_PlaceHolder4>\",CO800,\"</CM_T85Abs_PlaceHolder4><CM_T85Abs_PlaceHolder5>\",CO801,\"</CM_T85Abs_PlaceHolder5><CM_T85Abs_PlaceHolder6>\",CO802,\"</CM_T85Abs_PlaceHolder6><CM_T85Abs_SurfaceDryWt>\",CO803,\"</CM_T85Abs_SurfaceDryWt><CM_T85Abs_Title_Label>\",CO804,\"</CM_T85Abs_Title_Label></Data>\"))","v":""},"","","","",null,null,null,null,null,null,null,"",null,{"$f":"IF(BY6=\"\",\"\",\"AgencyEntityInsData Id 102\")","v":""},{"$f":"IF(BY6=\"\",\"\",\"AgencyEntityInstance Id 4\")","v":""},{"$f":"IF(BY6=\"\",\"\",\"cm_base_grad_T1T5_inch_min\")","v":""},{"$f":"IF(BY6=\"\",\"\",\"100\")","v":""},{"$f":"IF(BY6=\"\",\"\",TODAY())","v":""},{"$f":"IF(BY6=\"\",\"\",\"WTSYSTEMUSER\")","v":""},{"$f":"IF(BY6=\"\",\"\",TODAY())","v":""},{"$f":"IF(BY6=\"\",\"\",\"WTSYSTEMUSER\")","v":""}]
[null,null,null,null,null,null,null,null,null,null,null,null,null,null,null,null,null,null,null,null,null,null,null,null,null,null,null,null,null,null,null,null,null,null,null,null,null,null,null,null,null,null,null,null,null,null,null,null,null,null,null,null,null,null,null,null,null,null,null,null,null,null,null,null,null,null,null,null,null,null,null,null,null,null,null,null,{"$f":"IF(AH30=\"\",\"\",\"AgencyEntityInstance Id 103\")","v":""},{"$f":"IF(BY105=\"\",\"\",VLOOKUP(\"CM_Del\",'Send Sync'!$K$56:$L$96,2,FALSE))","v":""},{"$f":"IF(BY105=\"\",\"\",\"SampleRecordTest Id 28\")","v":""},"",{"$f":"IF(BY105=\"\",\"\",CONCATENATE(\"<Data><del_ca_200>\",CO805,\"</del_ca_200><del_ca_chert>\",CO806,\"</del_ca_chert><del_ca_clay>\",CO807,\"</del_ca_clay><del_ca_mud>\",CO808,\"</del_ca_mud><del_ca_mud_sh>\",CO809,\"</del_ca_mud_sh><del_ca_ofm>\",CO810,\"</del_ca_ofm><del_ca_rock>\",CO811,\"</del_ca_rock><del_ca_rock_sh>\",CO812,\"</del_ca_rock_sh><del_ca_sh>\",CO813,\"</del_ca_sh><del_fa_clay_sh>\",CO814,\"</del_fa_clay_sh><del_fa_coal>\",CO815,\"</del_fa_coal><del_fa_lw>\",CO816,\"</del_fa_lw><del_fa_other>\",CO817,\"</del_fa_other><del_man_sand>\",CO818,\"</del_man_sand><del_material>\",CO819,\"</del_material><del_nat_sand>\",CO820,\"</del_nat_sand><del_tot_del>\",CO821,\"</del_tot_del></Data>\"))","v":""},"","","","",null,null,null,null,null,null,null,"",null,{"$f":"IF(BY6=\"\",\"\",\"AgencyEntityInsData Id 103\")","v":""},{"$f":"IF(BY6=\"\",\"\",\"AgencyEntityInstance Id 4\")","v":""},{"$f":"IF(BY6=\"\",\"\",\"cm_base_grad_T1T5_label_01_inch\")","v":""},{"$f":"IF(BY6=\"\",\"\",\"1\"\" (25.0 mm)\")","v":""},{"$f":"IF(BY6=\"\",\"\",TODAY())","v":""},{"$f":"IF(BY6=\"\",\"\",\"WTSYSTEMUSER\")","v":""},{"$f":"IF(BY6=\"\",\"\",TODAY())","v":""},{"$f":"IF(BY6=\"\",\"\",\"WTSYSTEMUSER\")","v":""}]
[null,null,null,null,null,null,null,null,null,null,null,null,null,null,null,null,null,null,null,null,null,null,null,null,null,null,null,null,null,null,null,null,null,null,null,null,null,null,null,null,null,null,null,null,null,null,null,null,null,null,null,null,null,null,null,null,null,null,null,null,null,null,null,null,null,null,null,null,null,null,null,null,null,null,null,null,{"$f":"IF(AH31=\"\",\"\",\"AgencyEntityInstance Id 104\")","v":""},{"$f":"IF(BY106=\"\",\"\",VLOOKUP(\"CM_Del\",'Send Sync'!$K$56:$L$96,2,FALSE))","v":""},{"$f":"IF(BY106=\"\",\"\",\"SampleRecordTest Id 29\")","v":""},"",{"$f":"IF(BY106=\"\",\"\",CONCATENATE(\"<Data><del_ca_200>\",CO822,\"</del_ca_200><del_ca_chert>\",CO823,\"</del_ca_chert><del_ca_clay>\",CO824,\"</del_ca_clay><del_ca_mud>\",CO825,\"</del_ca_mud><del_ca_mud_sh>\",CO826,\"</del_ca_mud_sh><del_ca_ofm>\",CO827,\"</del_ca_ofm><del_ca_rock>\",CO828,\"</del_ca_rock><del_ca_rock_sh>\",CO829,\"</del_ca_rock_sh><del_ca_sh>\",CO830,\"</del_ca_sh><del_fa_clay_sh>\",CO831,\"</del_fa_clay_sh><del_fa_coal>\",CO832,\"</del_fa_coal><del_fa_lw>\",CO833,\"</del_fa_lw><del_fa_other>\",CO834,\"</del_fa_other><del_man_sand>\",CO835,\"</del_man_sand><del_material>\",CO836,\"</del_material><del_nat_sand>\",CO837,\"</del_nat_sand><del_tot_del>\",CO838,\"</del_tot_del></Data>\"))","v":""},"","","","",null,null,null,null,null,null,null,"",null,{"$f":"IF(BY6=\"\",\"\",\"AgencyEntityInsData Id 104\")","v":""},{"$f":"IF(BY6=\"\",\"\",\"AgencyEntityInstance Id 4\")","v":""},{"$f":"IF(BY6=\"\",\"\",\"cm_base_grad_T1T5_label_02_half_inch\")","v":""},{"$f":"IF(BY6=\"\",\"\",\"1/2\"\" (12.5 mm)\")","v":""},{"$f":"IF(BY6=\"\",\"\",TODAY())","v":""},{"$f":"IF(BY6=\"\",\"\",\"WTSYSTEMUSER\")","v":""},{"$f":"IF(BY6=\"\",\"\",TODAY())","v":""},{"$f":"IF(BY6=\"\",\"\",\"WTSYSTEMUSER\")","v":""}]
[null,null,null,null,null,null,null,null,null,null,null,null,null,null,null,null,null,null,null,null,null,null,null,null,null,null,null,null,null,null,null,null,null,null,null,null,null,null,null,null,null,null,null,null,null,null,null,null,null,null,null,null,null,null,null,null,null,null,null,null,null,null,null,null,null,null,null,null,null,null,null,null,null,null,null,null,{"$f":"IF(AH32=\"\",\"\",\"AgencyEntityInstance Id 105\")","v":""},{"$f":"IF(BY107=\"\",\"\",VLOOKUP(\"CM_Del\",'Send Sync'!$K$56:$L$96,2,FALSE))","v":""},{"$f":"IF(BY107=\"\",\"\",\"SampleRecordTest Id 30\")","v":""},"",{"$f":"IF(BY107=\"\",\"\",CONCATENATE(\"<Data><del_ca_200>\",CO839,\"</del_ca_200><del_ca_chert>\",CO840,\"</del_ca_chert><del_ca_clay>\",CO841,\"</del_ca_clay><del_ca_mud>\",CO842,\"</del_ca_mud><del_ca_mud_sh>\",CO843,\"</del_ca_mud_sh><del_ca_ofm>\",CO844,\"</del_ca_ofm><del_ca_rock>\",CO845,\"</del_ca_rock><del_ca_rock_sh>\",CO846,\"</del_ca_rock_sh><del_ca_sh>\",CO847,\"</del_ca_sh><del_fa_clay_sh>\",CO848,\"</del_fa_clay_sh><del_fa_coal>\",CO849,\"</del_fa_coal><del_fa_lw>\",CO850,\"</del_fa_lw><del_fa_other>\",CO851,\"</del_fa_other><del_man_sand>\",CO852,\"</del_man_sand><del_material>\",CO853,\"</del_material><del_nat_sand>\",CO854,\"</del_nat_sand><del_tot_del>\",CO855,\"</del_tot_del></Data>\"))","v":""},"","","","",null,null,null,null,null,null,null,"",null,{"$f":"IF(BY6=\"\",\"\",\"AgencyEntityInsData Id 105\")","v":""},{"$f":"IF(BY6=\"\",\"\",\"AgencyEntityInstance Id 4\")","v":""},{"$f":"IF(BY6=\"\",\"\",\"cm_base_grad_T1T5_label_03_no_4\")","v":""},{"$f":"IF(BY6=\"\",\"\",\"No. 4 (4.75 mm)\")","v":""},{"$f":"IF(BY6=\"\",\"\",TODAY())","v":""},{"$f":"IF(BY6=\"\",\"\",\"WTSYSTEMUSER\")","v":""},{"$f":"IF(BY6=\"\",\"\",TODAY())","v":""},{"$f":"IF(BY6=\"\",\"\",\"WTSYSTEMUSER\")","v":""}]
[null,null,null,null,null,null,null,null,null,null,null,null,null,null,null,null,null,null,null,null,null,null,null,null,null,null,null,null,null,null,null,null,null,null,null,null,null,null,null,null,null,null,null,null,null,null,null,null,null,null,null,null,null,null,null,null,null,null,null,null,null,null,null,null,null,null,null,null,null,null,null,null,null,null,null,null,{"$f":"IF(AH33=\"\",\"\",\"AgencyEntityInstance Id 106\")","v":""},{"$f":"IF(BY108=\"\",\"\",VLOOKUP(\"CM_Del\",'Send Sync'!$K$56:$L$96,2,FALSE))","v":""},{"$f":"IF(BY108=\"\",\"\",\"SampleRecordTest Id 31\")","v":""},"",{"$f":"IF(BY108=\"\",\"\",CONCATENATE(\"<Data><del_ca_200>\",CO856,\"</del_ca_200><del_ca_chert>\",CO857,\"</del_ca_chert><del_ca_clay>\",CO858,\"</del_ca_clay><del_ca_mud>\",CO859,\"</del_ca_mud><del_ca_mud_sh>\",CO860,\"</del_ca_mud_sh><del_ca_ofm>\",CO861,\"</del_ca_ofm><del_ca_rock>\",CO862,\"</del_ca_rock><del_ca_rock_sh>\",CO863,\"</del_ca_rock_sh><del_ca_sh>\",CO864,\"</del_ca_sh><del_fa_clay_sh>\",CO865,\"</del_fa_clay_sh><del_fa_coal>\",CO866,\"</del_fa_coal><del_fa_lw>\",CO867,\"</del_fa_lw><del_fa_other>\",CO868,\"</del_fa_other><del_man_sand>\",CO869,\"</del_man_sand><del_material>\",CO870,\"</del_material><del_nat_sand>\",CO871,\"</del_nat_sand><del_tot_del>\",CO872,\"</del_tot_del></Data>\"))","v":""},"","","","",null,null,null,null,null,null,null,"",null,{"$f":"IF(BY6=\"\",\"\",\"AgencyEntityInsData Id 106\")","v":""},{"$f":"IF(BY6=\"\",\"\",\"AgencyEntityInstance Id 4\")","v":""},{"$f":"IF(BY6=\"\",\"\",\"cm_base_grad_T1T5_label_04_no_30\")","v":""},{"$f":"IF(BY6=\"\",\"\",\"No. 30 (600 microns)\")","v":""},{"$f":"IF(BY6=\"\",\"\",TODAY())","v":""},{"$f":"IF(BY6=\"\",\"\",\"WTSYSTEMUSER\")","v":""},{"$f":"IF(BY6=\"\",\"\",TODAY())","v":""},{"$f":"IF(BY6=\"\",\"\",\"WTSYSTEMUSER\")","v":""}]
[null,null,null,null,null,null,null,null,null,null,null,null,null,null,null,null,null,null,null,null,null,null,null,null,null,null,null,null,null,null,null,null,null,null,null,null,null,null,null,null,null,null,null,null,null,null,null,null,null,null,null,null,null,null,null,null,null,null,null,null,null,null,null,null,null,null,null,null,null,null,null,null,null,null,null,null,{"$f":"IF(AH34=\"\",\"\",\"AgencyEntityInstance Id 107\")","v":""},{"$f":"IF(BY109=\"\",\"\",VLOOKUP(\"CM_Del\",'Send Sync'!$K$56:$L$96,2,FALSE))","v":""},{"$f":"IF(BY109=\"\",\"\",\"SampleRecordTest Id 32\")","v":""},"",{"$f":"IF(BY109=\"\",\"\",CONCATENATE(\"<Data><del_ca_200>\",CO873,\"</del_ca_200><del_ca_chert>\",CO874,\"</del_ca_chert><del_ca_clay>\",CO875,\"</del_ca_clay><del_ca_mud>\",CO876,\"</del_ca_mud><del_ca_mud_sh>\",CO877,\"</del_ca_mud_sh><del_ca_ofm>\",CO878,\"</del_ca_ofm><del_ca_rock>\",CO879,\"</del_ca_rock><del_ca_rock_sh>\",CO880,\"</del_ca_rock_sh><del_ca_sh>\",CO881,\"</del_ca_sh><del_fa_clay_sh>\",CO882,\"</del_fa_clay_sh><del_fa_coal>\",CO883,\"</del_fa_coal><del_fa_lw>\",CO884,\"</del_fa_lw><del_fa_other>\",CO885,\"</del_fa_other><del_man_sand>\",CO886,\"</del_man_sand><del_material>\",CO887,\"</del_material><del_nat_sand>\",CO888,\"</del_nat_sand><del_tot_del>\",CO889,\"</del_tot_del></Data>\"))","v":""},"","","","",null,null,null,null,null,null,null,"",null,{"$f":"IF(BY6=\"\",\"\",\"AgencyEntityInsData Id 107\")","v":""},{"$f":"IF(BY6=\"\",\"\",\"AgencyEntityInstance Id 4\")","v":""},{"$f":"IF(BY6=\"\",\"\",\"cm_base_grad_T1T5_label_05_no_200\")","v":""},{"$f":"IF(BY6=\"\",\"\",\"No. 200 (75 microns)\")","v":""},{"$f":"IF(BY6=\"\",\"\",TODAY())","v":""},{"$f":"IF(BY6=\"\",\"\",\"WTSYSTEMUSER\")","v":""},{"$f":"IF(BY6=\"\",\"\",TODAY())","v":""},{"$f":"IF(BY6=\"\",\"\",\"WTSYSTEMUSER\")","v":""}]
[null,null,null,null,null,null,null,null,null,null,null,null,null,null,null,null,null,null,null,null,null,null,null,null,null,null,null,null,null,null,null,null,null,null,null,null,null,null,null,null,null,null,null,null,null,null,null,null,null,null,null,null,null,null,null,null,null,null,null,null,null,null,null,null,null,null,null,null,null,null,null,null,null,null,null,null,{"$f":"IF(AH35=\"\",\"\",\"AgencyEntityInstance Id 108\")","v":""},{"$f":"IF(BY110=\"\",\"\",VLOOKUP(\"CM_T27_Detail\",'Send Sync'!$K$56:$L$96,2,FALSE))","v":""},{"$f":"IF(BY110=\"\",\"\",\"SampleRecordTest Id 33\")","v":""},"",{"$f":"IF(BY110=\"\",\"\",CONCATENATE(\"<Data><cm_t27_detail_inspec>\",CO890,\"</cm_t27_detail_inspec></Data>\"))","v":""},"","","","",null,null,null,null,null,null,null,"",null,{"$f":"IF(BY6=\"\",\"\",\"AgencyEntityInsData Id 108\")","v":""},{"$f":"IF(BY6=\"\",\"\",\"AgencyEntityInstance Id 4\")","v":""},{"$f":"IF(BY6=\"\",\"\",\"cm_base_grad_T1T5_label_06\")","v":""},{"$f":"IF(BY6=\"\",\"\",\"Station\")","v":""},{"$f":"IF(BY6=\"\",\"\",TODAY())","v":""},{"$f":"IF(BY6=\"\",\"\",\"WTSYSTEMUSER\")","v":""},{"$f":"IF(BY6=\"\",\"\",TODAY())","v":""},{"$f":"IF(BY6=\"\",\"\",\"WTSYSTEMUSER\")","v":""}]
[null,null,null,null,null,null,null,null,null,null,null,null,null,null,null,null,null,null,null,null,null,null,null,null,null,null,null,null,null,null,null,null,null,null,null,null,null,null,null,null,null,null,null,null,null,null,null,null,null,null,null,null,null,null,null,null,null,null,null,null,null,null,null,null,null,null,null,null,null,null,null,null,null,null,null,null,{"$f":"IF(AH35=\"\",\"\",\"AgencyEntityInstance Id 109\")","v":""},{"$f":"IF(BY110=\"\",\"\",VLOOKUP(\"CM_T27_List\",'Send Sync'!$K$56:$L$96,2,FALSE))","v":""},null,{"$f":"IF(BY110=\"\",\"\",\"AgencyEntityInstance Id 108\")","v":""},{"$f":"IF(BY110=\"\",\"\",CONCATENATE(\"<Data><cm_t27_list_inspecrow>\",CO891,\"</cm_t27_list_inspecrow><cm_t27_list_max>\",CO892,\"</cm_t27_list_max><cm_t27_list_min>\",CO893,\"</cm_t27_list_min><cm_t27_list_order>\",CO894,\"</cm_t27_list_order><cm_t27_list_pct_passing>\",CO895,\"</cm_t27_list_pct_passing><cm_t27_list_sieve>\",CO896,\"</cm_t27_list_sieve></Data>\"))","v":""},{"$f":"IF(BY110=\"\",\"\",TODAY())","v":""},{"$f":"IF(BY110=\"\",\"\",\"WTSYSTEMUSER\")","v":""},{"$f":"IF(BY110=\"\",\"\",TODAY())","v":""},{"$f":"IF(BY110=\"\",\"\",\"WTSYSTEMUSER\")","v":""},null,null,null,null,null,null,null,"",null,{"$f":"IF(BY6=\"\",\"\",\"AgencyEntityInsData Id 109\")","v":""},{"$f":"IF(BY6=\"\",\"\",\"AgencyEntityInstance Id 4\")","v":""},{"$f":"IF(BY6=\"\",\"\",\"cm_base_grad_T1T5_label_07\")","v":""},{"$f":"IF(BY6=\"\",\"\",\"+\")","v":""},{"$f":"IF(BY6=\"\",\"\",TODAY())","v":""},{"$f":"IF(BY6=\"\",\"\",\"WTSYSTEMUSER\")","v":""},{"$f":"IF(BY6=\"\",\"\",TODAY())","v":""},{"$f":"IF(BY6=\"\",\"\",\"WTSYSTEMUSER\")","v":""}]
[null,null,null,null,null,null,null,null,null,null,null,null,null,null,null,null,null,null,null,null,null,null,null,null,null,null,null,null,null,null,null,null,null,null,null,null,null,null,null,null,null,null,null,null,null,null,null,null,null,null,null,null,null,null,null,null,null,null,null,null,null,null,null,null,null,null,null,null,null,null,null,null,null,null,null,null,{"$f":"IF(AH35=\"\",\"\",\"AgencyEntityInstance Id 110\")","v":""},{"$f":"IF(BY110=\"\",\"\",VLOOKUP(\"CM_T27_List\",'Send Sync'!$K$56:$L$96,2,FALSE))","v":""},null,{"$f":"IF(BY110=\"\",\"\",\"AgencyEntityInstance Id 108\")","v":""},{"$f":"IF(BY110=\"\",\"\",CONCATENATE(\"<Data><cm_t27_list_inspecrow>\",CO897,\"</cm_t27_list_inspecrow><cm_t27_list_max>\",CO898,\"</cm_t27_list_max><cm_t27_list_min>\",CO899,\"</cm_t27_list_min><cm_t27_list_order>\",CO900,\"</cm_t27_list_order><cm_t27_list_pct_passing>\",CO901,\"</cm_t27_list_pct_passing><cm_t27_list_sieve>\",CO902,\"</cm_t27_list_sieve></Data>\"))","v":""},{"$f":"IF(BY110=\"\",\"\",TODAY())","v":""},{"$f":"IF(BY110=\"\",\"\",\"WTSYSTEMUSER\")","v":""},{"$f":"IF(BY110=\"\",\"\",TODAY())","v":""},{"$f":"IF(BY110=\"\",\"\",\"WTSYSTEMUSER\")","v":""},null,null,null,null,null,null,null,"",null,{"$f":"IF(BY6=\"\",\"\",\"AgencyEntityInsData Id 110\")","v":""},{"$f":"IF(BY6=\"\",\"\",\"AgencyEntityInstance Id 4\")","v":""},{"$f":"IF(BY6=\"\",\"\",\"cm_base_grad_T1T5_label_08\")","v":""},{"$f":"IF(BY6=\"\",\"\",\"Location R/L of Centerline\")","v":""},{"$f":"IF(BY6=\"\",\"\",TODAY())","v":""},{"$f":"IF(BY6=\"\",\"\",\"WTSYSTEMUSER\")","v":""},{"$f":"IF(BY6=\"\",\"\",TODAY())","v":""},{"$f":"IF(BY6=\"\",\"\",\"WTSYSTEMUSER\")","v":""}]
[null,null,null,null,null,null,null,null,null,null,null,null,null,null,null,null,null,null,null,null,null,null,null,null,null,null,null,null,null,null,null,null,null,null,null,null,null,null,null,null,null,null,null,null,null,null,null,null,null,null,null,null,null,null,null,null,null,null,null,null,null,null,null,null,null,null,null,null,null,null,null,null,null,null,null,null,{"$f":"IF(AH35=\"\",\"\",\"AgencyEntityInstance Id 111\")","v":""},{"$f":"IF(BY110=\"\",\"\",VLOOKUP(\"CM_T27_List\",'Send Sync'!$K$56:$L$96,2,FALSE))","v":""},null,{"$f":"IF(BY110=\"\",\"\",\"AgencyEntityInstance Id 108\")","v":""},{"$f":"IF(BY110=\"\",\"\",CONCATENATE(\"<Data><cm_t27_list_inspecrow>\",CO903,\"</cm_t27_list_inspecrow><cm_t27_list_max>\",CO904,\"</cm_t27_list_max><cm_t27_list_min>\",CO905,\"</cm_t27_list_min><cm_t27_list_order>\",CO906,\"</cm_t27_list_order><cm_t27_list_pct_passing>\",CO907,\"</cm_t27_list_pct_passing><cm_t27_list_sieve>\",CO908,\"</cm_t27_list_sieve></Data>\"))","v":""},{"$f":"IF(BY110=\"\",\"\",TODAY())","v":""},{"$f":"IF(BY110=\"\",\"\",\"WTSYSTEMUSER\")","v":""},{"$f":"IF(BY110=\"\",\"\",TODAY())","v":""},{"$f":"IF(BY110=\"\",\"\",\"WTSYSTEMUSER\")","v":""},null,null,null,null,null,null,null,"",null,{"$f":"IF(BY6=\"\",\"\",\"AgencyEntityInsData Id 111\")","v":""},{"$f":"IF(BY6=\"\",\"\",\"AgencyEntityInstance Id 4\")","v":""},{"$f":"IF(BY6=\"\",\"\",\"cm_base_grad_T1T5_label_09\")","v":""},{"$f":"IF(BY6=\"\",\"\",\"Test Performed By\")","v":""},{"$f":"IF(BY6=\"\",\"\",TODAY())","v":""},{"$f":"IF(BY6=\"\",\"\",\"WTSYSTEMUSER\")","v":""},{"$f":"IF(BY6=\"\",\"\",TODAY())","v":""},{"$f":"IF(BY6=\"\",\"\",\"WTSYSTEMUSER\")","v":""}]
[null,null,null,null,null,null,null,null,null,null,null,null,null,null,null,null,null,null,null,null,null,null,null,null,null,null,null,null,null,null,null,null,null,null,null,null,null,null,null,null,null,null,null,null,null,null,null,null,null,null,null,null,null,null,null,null,null,null,null,null,null,null,null,null,null,null,null,null,null,null,null,null,null,null,null,null,{"$f":"IF(AH35=\"\",\"\",\"AgencyEntityInstance Id 112\")","v":""},{"$f":"IF(BY110=\"\",\"\",VLOOKUP(\"CM_T27_List\",'Send Sync'!$K$56:$L$96,2,FALSE))","v":""},null,{"$f":"IF(BY110=\"\",\"\",\"AgencyEntityInstance Id 108\")","v":""},{"$f":"IF(BY110=\"\",\"\",CONCATENATE(\"<Data><cm_t27_list_inspecrow>\",CO909,\"</cm_t27_list_inspecrow><cm_t27_list_max>\",CO910,\"</cm_t27_list_max><cm_t27_list_min>\",CO911,\"</cm_t27_list_min><cm_t27_list_order>\",CO912,\"</cm_t27_list_order><cm_t27_list_pct_passing>\",CO913,\"</cm_t27_list_pct_passing><cm_t27_list_sieve>\",CO914,\"</cm_t27_list_sieve></Data>\"))","v":""},{"$f":"IF(BY110=\"\",\"\",TODAY())","v":""},{"$f":"IF(BY110=\"\",\"\",\"WTSYSTEMUSER\")","v":""},{"$f":"IF(BY110=\"\",\"\",TODAY())","v":""},{"$f":"IF(BY110=\"\",\"\",\"WTSYSTEMUSER\")","v":""},null,null,null,null,null,null,null,"",null,{"$f":"IF(BY6=\"\",\"\",\"AgencyEntityInsData Id 112\")","v":""},{"$f":"IF(BY6=\"\",\"\",\"AgencyEntityInstance Id 4\")","v":""},{"$f":"IF(BY6=\"\",\"\",\"cm_base_grad_T1T5_no_200_label\")","v":""},{"$f":"IF(BY6=\"\",\"\",\"No. 200 (75 microns)\")","v":""},{"$f":"IF(BY6=\"\",\"\",TODAY())","v":""},{"$f":"IF(BY6=\"\",\"\",\"WTSYSTEMUSER\")","v":""},{"$f":"IF(BY6=\"\",\"\",TODAY())","v":""},{"$f":"IF(BY6=\"\",\"\",\"WTSYSTEMUSER\")","v":""}]
[null,null,null,null,null,null,null,null,null,null,null,null,null,null,null,null,null,null,null,null,null,null,null,null,null,null,null,null,null,null,null,null,null,null,null,null,null,null,null,null,null,null,null,null,null,null,null,null,null,null,null,null,null,null,null,null,null,null,null,null,null,null,null,null,null,null,null,null,null,null,null,null,null,null,null,null,{"$f":"IF(AH35=\"\",\"\",\"AgencyEntityInstance Id 113\")","v":""},{"$f":"IF(BY110=\"\",\"\",VLOOKUP(\"CM_T27_List\",'Send Sync'!$K$56:$L$96,2,FALSE))","v":""},null,{"$f":"IF(BY110=\"\",\"\",\"AgencyEntityInstance Id 108\")","v":""},{"$f":"IF(BY110=\"\",\"\",CONCATENATE(\"<Data><cm_t27_list_inspecrow>\",CO915,\"</cm_t27_list_inspecrow><cm_t27_list_max>\",CO916,\"</cm_t27_list_max><cm_t27_list_min>\",CO917,\"</cm_t27_list_min><cm_t27_list_order>\",CO918,\"</cm_t27_list_order><cm_t27_list_pct_passing>\",CO919,\"</cm_t27_list_pct_passing><cm_t27_list_sieve>\",CO920,\"</cm_t27_list_sieve></Data>\"))","v":""},{"$f":"IF(BY110=\"\",\"\",TODAY())","v":""},{"$f":"IF(BY110=\"\",\"\",\"WTSYSTEMUSER\")","v":""},{"$f":"IF(BY110=\"\",\"\",TODAY())","v":""},{"$f":"IF(BY110=\"\",\"\",\"WTSYSTEMUSER\")","v":""},null,null,null,null,null,null,null,"",null,{"$f":"IF(BY6=\"\",\"\",\"AgencyEntityInsData Id 113\")","v":""},{"$f":"IF(BY6=\"\",\"\",\"AgencyEntityInstance Id 4\")","v":""},{"$f":"IF(BY6=\"\",\"\",\"cm_base_grad_T1T5_no_200_max\")","v":""},{"$f":"IF(BY6=\"\",\"\",\"15\")","v":""},{"$f":"IF(BY6=\"\",\"\",TODAY())","v":""},{"$f":"IF(BY6=\"\",\"\",\"WTSYSTEMUSER\")","v":""},{"$f":"IF(BY6=\"\",\"\",TODAY())","v":""},{"$f":"IF(BY6=\"\",\"\",\"WTSYSTEMUSER\")","v":""}]
[null,null,null,null,null,null,null,null,null,null,null,null,null,null,null,null,null,null,null,null,null,null,null,null,null,null,null,null,null,null,null,null,null,null,null,null,null,null,null,null,null,null,null,null,null,null,null,null,null,null,null,null,null,null,null,null,null,null,null,null,null,null,null,null,null,null,null,null,null,null,null,null,null,null,null,null,{"$f":"IF(AH35=\"\",\"\",\"AgencyEntityInstance Id 114\")","v":""},{"$f":"IF(BY110=\"\",\"\",VLOOKUP(\"CM_T27_List\",'Send Sync'!$K$56:$L$96,2,FALSE))","v":""},null,{"$f":"IF(BY110=\"\",\"\",\"AgencyEntityInstance Id 108\")","v":""},{"$f":"IF(BY110=\"\",\"\",CONCATENATE(\"<Data><cm_t27_list_inspecrow>\",CO921,\"</cm_t27_list_inspecrow><cm_t27_list_max>\",CO922,\"</cm_t27_list_max><cm_t27_list_min>\",CO923,\"</cm_t27_list_min><cm_t27_list_order>\",CO924,\"</cm_t27_list_order><cm_t27_list_pct_passing>\",CO925,\"</cm_t27_list_pct_passing><cm_t27_list_sieve>\",CO926,\"</cm_t27_list_sieve></Data>\"))","v":""},{"$f":"IF(BY110=\"\",\"\",TODAY())","v":""},{"$f":"IF(BY110=\"\",\"\",\"WTSYSTEMUSER\")","v":""},{"$f":"IF(BY110=\"\",\"\",TODAY())","v":""},{"$f":"IF(BY110=\"\",\"\",\"WTSYSTEMUSER\")","v":""},null,null,null,null,null,null,null,"",null,{"$f":"IF(BY6=\"\",\"\",\"AgencyEntityInsData Id 114\")","v":""},{"$f":"IF(BY6=\"\",\"\",\"AgencyEntityInstance Id 4\")","v":""},{"$f":"IF(BY6=\"\",\"\",\"cm_base_grad_T1T5_no_200_min\")","v":""},{"$f":"IF(BY6=\"\",\"\",\"0\")","v":""},{"$f":"IF(BY6=\"\",\"\",TODAY())","v":""},{"$f":"IF(BY6=\"\",\"\",\"WTSYSTEMUSER\")","v":""},{"$f":"IF(BY6=\"\",\"\",TODAY())","v":""},{"$f":"IF(BY6=\"\",\"\",\"WTSYSTEMUSER\")","v":""}]
[null,null,null,null,null,null,null,null,null,null,null,null,null,null,null,null,null,null,null,null,null,null,null,null,null,null,null,null,null,null,null,null,null,null,null,null,null,null,null,null,null,null,null,null,null,null,null,null,null,null,null,null,null,null,null,null,null,null,null,null,null,null,null,null,null,null,null,null,null,null,null,null,null,null,null,null,{"$f":"IF(AH35=\"\",\"\",\"AgencyEntityInstance Id 115\")","v":""},{"$f":"IF(BY110=\"\",\"\",VLOOKUP(\"CM_T27_List\",'Send Sync'!$K$56:$L$96,2,FALSE))","v":""},null,{"$f":"IF(BY110=\"\",\"\",\"AgencyEntityInstance Id 108\")","v":""},{"$f":"IF(BY110=\"\",\"\",CONCATENATE(\"<Data><cm_t27_list_inspecrow>\",CO927,\"</cm_t27_list_inspecrow><cm_t27_list_max>\",CO928,\"</cm_t27_list_max><cm_t27_list_min>\",CO929,\"</cm_t27_list_min><cm_t27_list_order>\",CO930,\"</cm_t27_list_order><cm_t27_list_pct_passing>\",CO931,\"</cm_t27_list_pct_passing><cm_t27_list_sieve>\",CO932,\"</cm_t27_list_sieve></Data>\"))","v":""},{"$f":"IF(BY110=\"\",\"\",TODAY())","v":""},{"$f":"IF(BY110=\"\",\"\",\"WTSYSTEMUSER\")","v":""},{"$f":"IF(BY110=\"\",\"\",TODAY())","v":""},{"$f":"IF(BY110=\"\",\"\",\"WTSYSTEMUSER\")","v":""},null,null,null,null,null,null,null,"",null,{"$f":"IF(BY6=\"\",\"\",\"AgencyEntityInsData Id 115\")","v":""},{"$f":"IF(BY6=\"\",\"\",\"AgencyEntityInstance Id 4\")","v":""},{"$f":"IF(BY6=\"\",\"\",\"cm_base_grad_T1T5_no_30_label\")","v":""},{"$f":"IF(BY6=\"\",\"\",\"No. 30 (600 microns)\")","v":""},{"$f":"IF(BY6=\"\",\"\",TODAY())","v":""},{"$f":"IF(BY6=\"\",\"\",\"WTSYSTEMUSER\")","v":""},{"$f":"IF(BY6=\"\",\"\",TODAY())","v":""},{"$f":"IF(BY6=\"\",\"\",\"WTSYSTEMUSER\")","v":""}]
[null,null,null,null,null,null,null,null,null,null,null,null,null,null,null,null,null,null,null,null,null,null,null,null,null,null,null,null,null,null,null,null,null,null,null,null,null,null,null,null,null,null,null,null,null,null,null,null,null,null,null,null,null,null,null,null,null,null,null,null,null,null,null,null,null,null,null,null,null,null,null,null,null,null,null,null,{"$f":"IF(AH35=\"\",\"\",\"AgencyEntityInstance Id 116\")","v":""},{"$f":"IF(BY110=\"\",\"\",VLOOKUP(\"CM_T27_List\",'Send Sync'!$K$56:$L$96,2,FALSE))","v":""},null,{"$f":"IF(BY110=\"\",\"\",\"AgencyEntityInstance Id 108\")","v":""},{"$f":"IF(BY110=\"\",\"\",CONCATENATE(\"<Data><cm_t27_list_inspecrow>\",CO933,\"</cm_t27_list_inspecrow><cm_t27_list_max>\",CO934,\"</cm_t27_list_max><cm_t27_list_min>\",CO935,\"</cm_t27_list_min><cm_t27_list_order>\",CO936,\"</cm_t27_list_order><cm_t27_list_pct_passing>\",CO937,\"</cm_t27_list_pct_passing><cm_t27_list_sieve>\",CO938,\"</cm_t27_list_sieve></Data>\"))","v":""},{"$f":"IF(BY110=\"\",\"\",TODAY())","v":""},{"$f":"IF(BY110=\"\",\"\",\"WTSYSTEMUSER\")","v":""},{"$f":"IF(BY110=\"\",\"\",TODAY())","v":""},{"$f":"IF(BY110=\"\",\"\",\"WTSYSTEMUSER\")","v":""},null,null,null,null,null,null,null,"",null,{"$f":"IF(BY6=\"\",\"\",\"AgencyEntityInsData Id 116\")","v":""},{"$f":"IF(BY6=\"\",\"\",\"AgencyEntityInstance Id 4\")","v":""},{"$f":"IF(BY6=\"\",\"\",\"cm_base_grad_T1T5_no_30_max\")","v":""},{"$f":"IF(BY6=\"\",\"\",\"35\")","v":""},{"$f":"IF(BY6=\"\",\"\",TODAY())","v":""},{"$f":"IF(BY6=\"\",\"\",\"WTSYSTEMUSER\")","v":""},{"$f":"IF(BY6=\"\",\"\",TODAY())","v":""},{"$f":"IF(BY6=\"\",\"\",\"WTSYSTEMUSER\")","v":""}]
[null,null,null,null,null,null,null,null,null,null,null,null,null,null,null,null,null,null,null,null,null,null,null,null,null,null,null,null,null,null,null,null,null,null,null,null,null,null,null,null,null,null,null,null,null,null,null,null,null,null,null,null,null,null,null,null,null,null,null,null,null,null,null,null,null,null,null,null,null,null,null,null,null,null,null,null,{"$f":"IF(AH35=\"\",\"\",\"AgencyEntityInstance Id 117\")","v":""},{"$f":"IF(BY110=\"\",\"\",VLOOKUP(\"CM_T27_List\",'Send Sync'!$K$56:$L$96,2,FALSE))","v":""},null,{"$f":"IF(BY110=\"\",\"\",\"AgencyEntityInstance Id 108\")","v":""},{"$f":"IF(BY110=\"\",\"\",CONCATENATE(\"<Data><cm_t27_list_inspecrow>\",CO939,\"</cm_t27_list_inspecrow><cm_t27_list_max>\",CO940,\"</cm_t27_list_max><cm_t27_list_min>\",CO941,\"</cm_t27_list_min><cm_t27_list_order>\",CO942,\"</cm_t27_list_order><cm_t27_list_pct_passing>\",CO943,\"</cm_t27_list_pct_passing><cm_t27_list_sieve>\",CO944,\"</cm_t27_list_sieve></Data>\"))","v":""},{"$f":"IF(BY110=\"\",\"\",TODAY())","v":""},{"$f":"IF(BY110=\"\",\"\",\"WTSYSTEMUSER\")","v":""},{"$f":"IF(BY110=\"\",\"\",TODAY())","v":""},{"$f":"IF(BY110=\"\",\"\",\"WTSYSTEMUSER\")","v":""},null,null,null,null,null,null,null,"",null,{"$f":"IF(BY6=\"\",\"\",\"AgencyEntityInsData Id 117\")","v":""},{"$f":"IF(BY6=\"\",\"\",\"AgencyEntityInstance Id 4\")","v":""},{"$f":"IF(BY6=\"\",\"\",\"cm_base_grad_T1T5_no_30_min\")","v":""},{"$f":"IF(BY6=\"\",\"\",\"10\")","v":""},{"$f":"IF(BY6=\"\",\"\",TODAY())","v":""},{"$f":"IF(BY6=\"\",\"\",\"WTSYSTEMUSER\")","v":""},{"$f":"IF(BY6=\"\",\"\",TODAY())","v":""},{"$f":"IF(BY6=\"\",\"\",\"WTSYSTEMUSER\")","v":""}]
[null,null,null,null,null,null,null,null,null,null,null,null,null,null,null,null,null,null,null,null,null,null,null,null,null,null,null,null,null,null,null,null,null,null,null,null,null,null,null,null,null,null,null,null,null,null,null,null,null,null,null,null,null,null,null,null,null,null,null,null,null,null,null,null,null,null,null,null,null,null,null,null,null,null,null,null,{"$f":"IF(AH35=\"\",\"\",\"AgencyEntityInstance Id 118\")","v":""},{"$f":"IF(BY110=\"\",\"\",VLOOKUP(\"CM_T27_List\",'Send Sync'!$K$56:$L$96,2,FALSE))","v":""},null,{"$f":"IF(BY110=\"\",\"\",\"AgencyEntityInstance Id 108\")","v":""},{"$f":"IF(BY110=\"\",\"\",CONCATENATE(\"<Data><cm_t27_list_inspecrow>\",CO945,\"</cm_t27_list_inspecrow><cm_t27_list_max>\",CO946,\"</cm_t27_list_max><cm_t27_list_min>\",CO947,\"</cm_t27_list_min><cm_t27_list_order>\",CO948,\"</cm_t27_list_order><cm_t27_list_pct_passing>\",CO949,\"</cm_t27_list_pct_passing><cm_t27_list_sieve>\",CO950,\"</cm_t27_list_sieve></Data>\"))","v":""},{"$f":"IF(BY110=\"\",\"\",TODAY())","v":""},{"$f":"IF(BY110=\"\",\"\",\"WTSYSTEMUSER\")","v":""},{"$f":"IF(BY110=\"\",\"\",TODAY())","v":""},{"$f":"IF(BY110=\"\",\"\",\"WTSYSTEMUSER\")","v":""},null,null,null,null,null,null,null,"",null,{"$f":"IF(BY6=\"\",\"\",\"AgencyEntityInsData Id 118\")","v":""},{"$f":"IF(BY6=\"\",\"\",\"AgencyEntityInstance Id 4\")","v":""},{"$f":"IF(BY6=\"\",\"\",\"cm_base_grad_T1T5_no_4_label\")","v":""},{"$f":"IF(BY6=\"\",\"\",\"No. 4 (4.75 mm)\")","v":""},{"$f":"IF(BY6=\"\",\"\",TODAY())","v":""},{"$f":"IF(BY6=\"\",\"\",\"WTSYSTEMUSER\")","v":""},{"$f":"IF(BY6=\"\",\"\",TODAY())","v":""},{"$f":"IF(BY6=\"\",\"\",\"WTSYSTEMUSER\")","v":""}]
[null,null,null,null,null,null,null,null,null,null,null,null,null,null,null,null,null,null,null,null,null,null,null,null,null,null,null,null,null,null,null,null,null,null,null,null,null,null,null,null,null,null,null,null,null,null,null,null,null,null,null,null,null,null,null,null,null,null,null,null,null,null,null,null,null,null,null,null,null,null,null,null,null,null,null,null,{"$f":"IF(AH35=\"\",\"\",\"AgencyEntityInstance Id 119\")","v":""},{"$f":"IF(BY110=\"\",\"\",VLOOKUP(\"CM_T27_List\",'Send Sync'!$K$56:$L$96,2,FALSE))","v":""},null,{"$f":"IF(BY110=\"\",\"\",\"AgencyEntityInstance Id 108\")","v":""},{"$f":"IF(BY110=\"\",\"\",CONCATENATE(\"<Data><cm_t27_list_inspecrow>\",CO951,\"</cm_t27_list_inspecrow><cm_t27_list_max>\",CO952,\"</cm_t27_list_max><cm_t27_list_min>\",CO953,\"</cm_t27_list_min><cm_t27_list_order>\",CO954,\"</cm_t27_list_order><cm_t27_list_pct_passing>\",CO955,\"</cm_t27_list_pct_passing><cm_t27_list_sieve>\",CO956,\"</cm_t27_list_sieve></Data>\"))","v":""},{"$f":"IF(BY110=\"\",\"\",TODAY())","v":""},{"$f":"IF(BY110=\"\",\"\",\"WTSYSTEMUSER\")","v":""},{"$f":"IF(BY110=\"\",\"\",TODAY())","v":""},{"$f":"IF(BY110=\"\",\"\",\"WTSYSTEMUSER\")","v":""},null,null,null,null,null,null,null,"",null,{"$f":"IF(BY6=\"\",\"\",\"AgencyEntityInsData Id 119\")","v":""},{"$f":"IF(BY6=\"\",\"\",\"AgencyEntityInstance Id 4\")","v":""},{"$f":"IF(BY6=\"\",\"\",\"cm_base_grad_T1T5_no_4_max\")","v":""},{"$f":"IF(BY6=\"\",\"\",\"60\")","v":""},{"$f":"IF(BY6=\"\",\"\",TODAY())","v":""},{"$f":"IF(BY6=\"\",\"\",\"WTSYSTEMUSER\")","v":""},{"$f":"IF(BY6=\"\",\"\",TODAY())","v":""},{"$f":"IF(BY6=\"\",\"\",\"WTSYSTEMUSER\")","v":""}]
[null,null,null,null,null,null,null,null,null,null,null,null,null,null,null,null,null,null,null,null,null,null,null,null,null,null,null,null,null,null,null,null,null,null,null,null,null,null,null,null,null,null,null,null,null,null,null,null,null,null,null,null,null,null,null,null,null,null,null,null,null,null,null,null,null,null,null,null,null,null,null,null,null,null,null,null,{"$f":"IF(AH35=\"\",\"\",\"AgencyEntityInstance Id 120\")","v":""},{"$f":"IF(BY110=\"\",\"\",VLOOKUP(\"CM_T27_List\",'Send Sync'!$K$56:$L$96,2,FALSE))","v":""},null,{"$f":"IF(BY110=\"\",\"\",\"AgencyEntityInstance Id 108\")","v":""},{"$f":"IF(BY110=\"\",\"\",CONCATENATE(\"<Data><cm_t27_list_inspecrow>\",CO957,\"</cm_t27_list_inspecrow><cm_t27_list_max>\",CO958,\"</cm_t27_list_max><cm_t27_list_min>\",CO959,\"</cm_t27_list_min><cm_t27_list_order>\",CO960,\"</cm_t27_list_order><cm_t27_list_pct_passing>\",CO961,\"</cm_t27_list_pct_passing><cm_t27_list_sieve>\",CO962,\"</cm_t27_list_sieve></Data>\"))","v":""},{"$f":"IF(BY110=\"\",\"\",TODAY())","v":""},{"$f":"IF(BY110=\"\",\"\",\"WTSYSTEMUSER\")","v":""},{"$f":"IF(BY110=\"\",\"\",TODAY())","v":""},{"$f":"IF(BY110=\"\",\"\",\"WTSYSTEMUSER\")","v":""},null,null,null,null,null,null,null,"",null,{"$f":"IF(BY6=\"\",\"\",\"AgencyEntityInsData Id 120\")","v":""},{"$f":"IF(BY6=\"\",\"\",\"AgencyEntityInstance Id 4\")","v":""},{"$f":"IF(BY6=\"\",\"\",\"cm_base_grad_T1T5_no_4_min\")","v":""},{"$f":"IF(BY6=\"\",\"\",\"35\")","v":""},{"$f":"IF(BY6=\"\",\"\",TODAY())","v":""},{"$f":"IF(BY6=\"\",\"\",\"WTSYSTEMUSER\")","v":""},{"$f":"IF(BY6=\"\",\"\",TODAY())","v":""},{"$f":"IF(BY6=\"\",\"\",\"WTSYSTEMUSER\")","v":""}]
[null,null,null,null,null,null,null,null,null,null,null,null,null,null,null,null,null,null,null,null,null,null,null,null,null,null,null,null,null,null,null,null,null,null,null,null,null,null,null,null,null,null,null,null,null,null,null,null,null,null,null,null,null,null,null,null,null,null,null,null,null,null,null,null,null,null,null,null,null,null,null,null,null,null,null,null,{"$f":"IF(AH35=\"\",\"\",\"AgencyEntityInstance Id 121\")","v":""},{"$f":"IF(BY110=\"\",\"\",VLOOKUP(\"CM_T27_List\",'Send Sync'!$K$56:$L$96,2,FALSE))","v":""},null,{"$f":"IF(BY110=\"\",\"\",\"AgencyEntityInstance Id 108\")","v":""},{"$f":"IF(BY110=\"\",\"\",CONCATENATE(\"<Data><cm_t27_list_inspecrow>\",CO963,\"</cm_t27_list_inspecrow><cm_t27_list_max>\",CO964,\"</cm_t27_list_max><cm_t27_list_min>\",CO965,\"</cm_t27_list_min><cm_t27_list_order>\",CO966,\"</cm_t27_list_order><cm_t27_list_pct_passing>\",CO967,\"</cm_t27_list_pct_passing><cm_t27_list_sieve>\",CO968,\"</cm_t27_list_sieve></Data>\"))","v":""},{"$f":"IF(BY110=\"\",\"\",TODAY())","v":""},{"$f":"IF(BY110=\"\",\"\",\"WTSYSTEMUSER\")","v":""},{"$f":"IF(BY110=\"\",\"\",TODAY())","v":""},{"$f":"IF(BY110=\"\",\"\",\"WTSYSTEMUSER\")","v":""},null,null,null,null,null,null,null,"",null,{"$f":"IF(BY6=\"\",\"\",\"AgencyEntityInsData Id 121\")","v":""},{"$f":"IF(BY6=\"\",\"\",\"AgencyEntityInstance Id 4\")","v":""},{"$f":"IF(BY6=\"\",\"\",\"cm_base_grad_T1T5_spec_01_inch_max\")","v":""},{"$f":"IF(BY6=\"\",\"\",\"100\")","v":""},{"$f":"IF(BY6=\"\",\"\",TODAY())","v":""},{"$f":"IF(BY6=\"\",\"\",\"WTSYSTEMUSER\")","v":""},{"$f":"IF(BY6=\"\",\"\",TODAY())","v":""},{"$f":"IF(BY6=\"\",\"\",\"WTSYSTEMUSER\")","v":""}]
[null,null,null,null,null,null,null,null,null,null,null,null,null,null,null,null,null,null,null,null,null,null,null,null,null,null,null,null,null,null,null,null,null,null,null,null,null,null,null,null,null,null,null,null,null,null,null,null,null,null,null,null,null,null,null,null,null,null,null,null,null,null,null,null,null,null,null,null,null,null,null,null,null,null,null,null,{"$f":"IF(AH35=\"\",\"\",\"AgencyEntityInstance Id 122\")","v":""},{"$f":"IF(BY110=\"\",\"\",VLOOKUP(\"CM_T27_List\",'Send Sync'!$K$56:$L$96,2,FALSE))","v":""},null,{"$f":"IF(BY110=\"\",\"\",\"AgencyEntityInstance Id 108\")","v":""},{"$f":"IF(BY110=\"\",\"\",CONCATENATE(\"<Data><cm_t27_list_inspecrow>\",CO969,\"</cm_t27_list_inspecrow><cm_t27_list_max>\",CO970,\"</cm_t27_list_max><cm_t27_list_min>\",CO971,\"</cm_t27_list_min><cm_t27_list_order>\",CO972,\"</cm_t27_list_order><cm_t27_list_pct_passing>\",CO973,\"</cm_t27_list_pct_passing><cm_t27_list_sieve>\",CO974,\"</cm_t27_list_sieve></Data>\"))","v":""},{"$f":"IF(BY110=\"\",\"\",TODAY())","v":""},{"$f":"IF(BY110=\"\",\"\",\"WTSYSTEMUSER\")","v":""},{"$f":"IF(BY110=\"\",\"\",TODAY())","v":""},{"$f":"IF(BY110=\"\",\"\",\"WTSYSTEMUSER\")","v":""},null,null,null,null,null,null,null,"",null,{"$f":"IF(BY6=\"\",\"\",\"AgencyEntityInsData Id 122\")","v":""},{"$f":"IF(BY6=\"\",\"\",\"AgencyEntityInstance Id 4\")","v":""},{"$f":"IF(BY6=\"\",\"\",\"cm_base_grad_T1T5_spec_01_inch_min\")","v":""},{"$f":"IF(BY6=\"\",\"\",\"100\")","v":""},{"$f":"IF(BY6=\"\",\"\",TODAY())","v":""},{"$f":"IF(BY6=\"\",\"\",\"WTSYSTEMUSER\")","v":""},{"$f":"IF(BY6=\"\",\"\",TODAY())","v":""},{"$f":"IF(BY6=\"\",\"\",\"WTSYSTEMUSER\")","v":""}]
[null,null,null,null,null,null,null,null,null,null,null,null,null,null,null,null,null,null,null,null,null,null,null,null,null,null,null,null,null,null,null,null,null,null,null,null,null,null,null,null,null,null,null,null,null,null,null,null,null,null,null,null,null,null,null,null,null,null,null,null,null,null,null,null,null,null,null,null,null,null,null,null,null,null,null,null,{"$f":"IF(AH35=\"\",\"\",\"AgencyEntityInstance Id 123\")","v":""},{"$f":"IF(BY110=\"\",\"\",VLOOKUP(\"CM_T27_List\",'Send Sync'!$K$56:$L$96,2,FALSE))","v":""},null,{"$f":"IF(BY110=\"\",\"\",\"AgencyEntityInstance Id 108\")","v":""},{"$f":"IF(BY110=\"\",\"\",CONCATENATE(\"<Data><cm_t27_list_inspecrow>\",CO975,\"</cm_t27_list_inspecrow><cm_t27_list_max>\",CO976,\"</cm_t27_list_max><cm_t27_list_min>\",CO977,\"</cm_t27_list_min><cm_t27_list_order>\",CO978,\"</cm_t27_list_order><cm_t27_list_pct_passing>\",CO979,\"</cm_t27_list_pct_passing><cm_t27_list_sieve>\",CO980,\"</cm_t27_list_sieve></Data>\"))","v":""},{"$f":"IF(BY110=\"\",\"\",TODAY())","v":""},{"$f":"IF(BY110=\"\",\"\",\"WTSYSTEMUSER\")","v":""},{"$f":"IF(BY110=\"\",\"\",TODAY())","v":""},{"$f":"IF(BY110=\"\",\"\",\"WTSYSTEMUSER\")","v":""},null,null,null,null,null,null,null,"",null,{"$f":"IF(BY6=\"\",\"\",\"AgencyEntityInsData Id 123\")","v":""},{"$f":"IF(BY6=\"\",\"\",\"AgencyEntityInstance Id 4\")","v":""},{"$f":"IF(BY6=\"\",\"\",\"cm_base_grad_T1T5_spec_02_half_inch_max\")","v":""},{"$f":"IF(BY6=\"\",\"\",\"90\")","v":""},{"$f":"IF(BY6=\"\",\"\",TODAY())","v":""},{"$f":"IF(BY6=\"\",\"\",\"WTSYSTEMUSER\")","v":""},{"$f":"IF(BY6=\"\",\"\",TODAY())","v":""},{"$f":"IF(BY6=\"\",\"\",\"WTSYSTEMUSER\")","v":""}]
[null,null,null,null,null,null,null,null,null,null,null,null,null,null,null,null,null,null,null,null,null,null,null,null,null,null,null,null,null,null,null,null,null,null,null,null,null,null,null,null,null,null,null,null,null,null,null,null,null,null,null,null,null,null,null,null,null,null,null,null,null,null,null,null,null,null,null,null,null,null,null,null,null,null,null,null,{"$f":"IF(AH35=\"\",\"\",\"AgencyEntityInstance Id 124\")","v":""},{"$f":"IF(BY110=\"\",\"\",VLOOKUP(\"CM_T27_List\",'Send Sync'!$K$56:$L$96,2,FALSE))","v":""},null,{"$f":"IF(BY110=\"\",\"\",\"AgencyEntityInstance Id 108\")","v":""},{"$f":"IF(BY110=\"\",\"\",CONCATENATE(\"<Data><cm_t27_list_inspecrow>\",CO981,\"</cm_t27_list_inspecrow><cm_t27_list_max>\",CO982,\"</cm_t27_list_max><cm_t27_list_min>\",CO983,\"</cm_t27_list_min><cm_t27_list_order>\",CO984,\"</cm_t27_list_order><cm_t27_list_pct_passing>\",CO985,\"</cm_t27_list_pct_passing><cm_t27_list_sieve>\",CO986,\"</cm_t27_list_sieve></Data>\"))","v":""},{"$f":"IF(BY110=\"\",\"\",TODAY())","v":""},{"$f":"IF(BY110=\"\",\"\",\"WTSYSTEMUSER\")","v":""},{"$f":"IF(BY110=\"\",\"\",TODAY())","v":""},{"$f":"IF(BY110=\"\",\"\",\"WTSYSTEMUSER\")","v":""},null,null,null,null,null,null,null,"",null,{"$f":"IF(BY6=\"\",\"\",\"AgencyEntityInsData Id 124\")","v":""},{"$f":"IF(BY6=\"\",\"\",\"AgencyEntityInstance Id 4\")","v":""},{"$f":"IF(BY6=\"\",\"\",\"cm_base_grad_T1T5_spec_02_half_inch_min\")","v":""},{"$f":"IF(BY6=\"\",\"\",\"60\")","v":""},{"$f":"IF(BY6=\"\",\"\",TODAY())","v":""},{"$f":"IF(BY6=\"\",\"\",\"WTSYSTEMUSER\")","v":""},{"$f":"IF(BY6=\"\",\"\",TODAY())","v":""},{"$f":"IF(BY6=\"\",\"\",\"WTSYSTEMUSER\")","v":""}]
[null,null,null,null,null,null,null,null,null,null,null,null,null,null,null,null,null,null,null,null,null,null,null,null,null,null,null,null,null,null,null,null,null,null,null,null,null,null,null,null,null,null,null,null,null,null,null,null,null,null,null,null,null,null,null,null,null,null,null,null,null,null,null,null,null,null,null,null,null,null,null,null,null,null,null,null,{"$f":"IF(AH36=\"\",\"\",\"AgencyEntityInstance Id 125\")","v":""},{"$f":"IF(BY127=\"\",\"\",VLOOKUP(\"CM_T27_Detail\",'Send Sync'!$K$56:$L$96,2,FALSE))","v":""},{"$f":"IF(BY127=\"\",\"\",\"SampleRecordTest Id 34\")","v":""},"",{"$f":"IF(BY127=\"\",\"\",CONCATENATE(\"<Data><cm_t27_detail_inspec>\",CO987,\"</cm_t27_detail_inspec></Data>\"))","v":""},{"$f":"IF(BY127=\"\",\"\",TODAY())","v":""},{"$f":"IF(BY127=\"\",\"\",\"WTSYSTEMUSER\")","v":""},{"$f":"IF(BY127=\"\",\"\",TODAY())","v":""},{"$f":"IF(BY127=\"\",\"\",\"WTSYSTEMUSER\")","v":""},null,null,null,null,null,null,null,"",null,{"$f":"IF(BY6=\"\",\"\",\"AgencyEntityInsData Id 125\")","v":""},{"$f":"IF(BY6=\"\",\"\",\"AgencyEntityInstance Id 4\")","v":""},{"$f":"IF(BY6=\"\",\"\",\"cm_base_grad_T1T5_spec_03_no_4_max\")","v":""},{"$f":"IF(BY6=\"\",\"\",\"60\")","v":""},{"$f":"IF(BY6=\"\",\"\",TODAY())","v":""},{"$f":"IF(BY6=\"\",\"\",\"WTSYSTEMUSER\")","v":""},{"$f":"IF(BY6=\"\",\"\",TODAY())","v":""},{"$f":"IF(BY6=\"\",\"\",\"WTSYSTEMUSER\")","v":""}]
[null,null,null,null,null,null,null,null,null,null,null,null,null,null,null,null,null,null,null,null,null,null,null,null,null,null,null,null,null,null,null,null,null,null,null,null,null,null,null,null,null,null,null,null,null,null,null,null,null,null,null,null,null,null,null,null,null,null,null,null,null,null,null,null,null,null,null,null,null,null,null,null,null,null,null,null,{"$f":"IF(AH36=\"\",\"\",\"AgencyEntityInstance Id 126\")","v":""},{"$f":"IF(BY127=\"\",\"\",VLOOKUP(\"CM_T27_List\",'Send Sync'!$K$56:$L$96,2,FALSE))","v":""},null,{"$f":"IF(BY127=\"\",\"\",\"AgencyEntityInstance Id 125\")","v":""},{"$f":"IF(BY127=\"\",\"\",CONCATENATE(\"<Data><cm_t27_list_inspecrow>\",CO988,\"</cm_t27_list_inspecrow><cm_t27_list_max>\",CO989,\"</cm_t27_list_max><cm_t27_list_min>\",CO990,\"</cm_t27_list_min><cm_t27_list_order>\",CO991,\"</cm_t27_list_order><cm_t27_list_pct_passing>\",CO992,\"</cm_t27_list_pct_passing><cm_t27_list_sieve>\",CO993,\"</cm_t27_list_sieve></Data>\"))","v":""},{"$f":"IF(BY127=\"\",\"\",TODAY())","v":""},{"$f":"IF(BY127=\"\",\"\",\"WTSYSTEMUSER\")","v":""},{"$f":"IF(BY127=\"\",\"\",TODAY())","v":""},{"$f":"IF(BY127=\"\",\"\",\"WTSYSTEMUSER\")","v":""},null,null,null,null,null,null,null,"",null,{"$f":"IF(BY6=\"\",\"\",\"AgencyEntityInsData Id 126\")","v":""},{"$f":"IF(BY6=\"\",\"\",\"AgencyEntityInstance Id 4\")","v":""},{"$f":"IF(BY6=\"\",\"\",\"cm_base_grad_T1T5_spec_03_no_4_min\")","v":""},{"$f":"IF(BY6=\"\",\"\",\"35\")","v":""},{"$f":"IF(BY6=\"\",\"\",TODAY())","v":""},{"$f":"IF(BY6=\"\",\"\",\"WTSYSTEMUSER\")","v":""},{"$f":"IF(BY6=\"\",\"\",TODAY())","v":""},{"$f":"IF(BY6=\"\",\"\",\"WTSYSTEMUSER\")","v":""}]
[null,null,null,null,null,null,null,null,null,null,null,null,null,null,null,null,null,null,null,null,null,null,null,null,null,null,null,null,null,null,null,null,null,null,null,null,null,null,null,null,null,null,null,null,null,null,null,null,null,null,null,null,null,null,null,null,null,null,null,null,null,null,null,null,null,null,null,null,null,null,null,null,null,null,null,null,{"$f":"IF(AH36=\"\",\"\",\"AgencyEntityInstance Id 127\")","v":""},{"$f":"IF(BY127=\"\",\"\",VLOOKUP(\"CM_T27_List\",'Send Sync'!$K$56:$L$96,2,FALSE))","v":""},null,{"$f":"IF(BY127=\"\",\"\",\"AgencyEntityInstance Id 125\")","v":""},{"$f":"IF(BY127=\"\",\"\",CONCATENATE(\"<Data><cm_t27_list_inspecrow>\",CO994,\"</cm_t27_list_inspecrow><cm_t27_list_max>\",CO995,\"</cm_t27_list_max><cm_t27_list_min>\",CO996,\"</cm_t27_list_min><cm_t27_list_order>\",CO997,\"</cm_t27_list_order><cm_t27_list_pct_passing>\",CO998,\"</cm_t27_list_pct_passing><cm_t27_list_sieve>\",CO999,\"</cm_t27_list_sieve></Data>\"))","v":""},{"$f":"IF(BY127=\"\",\"\",TODAY())","v":""},{"$f":"IF(BY127=\"\",\"\",\"WTSYSTEMUSER\")","v":""},{"$f":"IF(BY127=\"\",\"\",TODAY())","v":""},{"$f":"IF(BY127=\"\",\"\",\"WTSYSTEMUSER\")","v":""},null,null,null,null,null,null,null,"",null,{"$f":"IF(BY6=\"\",\"\",\"AgencyEntityInsData Id 127\")","v":""},{"$f":"IF(BY6=\"\",\"\",\"AgencyEntityInstance Id 4\")","v":""},{"$f":"IF(BY6=\"\",\"\",\"cm_base_grad_T1T5_spec_04_no_30_max\")","v":""},{"$f":"IF(BY6=\"\",\"\",\"35\")","v":""},{"$f":"IF(BY6=\"\",\"\",TODAY())","v":""},{"$f":"IF(BY6=\"\",\"\",\"WTSYSTEMUSER\")","v":""},{"$f":"IF(BY6=\"\",\"\",TODAY())","v":""},{"$f":"IF(BY6=\"\",\"\",\"WTSYSTEMUSER\")","v":""}]
[null,null,null,null,null,null,null,null,null,null,null,null,null,null,null,null,null,null,null,null,null,null,null,null,null,null,null,null,null,null,null,null,null,null,null,null,null,null,null,null,null,null,null,null,null,null,null,null,null,null,null,null,null,null,null,null,null,null,null,null,null,null,null,null,null,null,null,null,null,null,null,null,null,null,null,null,{"$f":"IF(AH36=\"\",\"\",\"AgencyEntityInstance Id 128\")","v":""},{"$f":"IF(BY127=\"\",\"\",VLOOKUP(\"CM_T27_List\",'Send Sync'!$K$56:$L$96,2,FALSE))","v":""},null,{"$f":"IF(BY127=\"\",\"\",\"AgencyEntityInstance Id 125\")","v":""},{"$f":"IF(BY127=\"\",\"\",CONCATENATE(\"<Data><cm_t27_list_inspecrow>\",CO1000,\"</cm_t27_list_inspecrow><cm_t27_list_max>\",CO1001,\"</cm_t27_list_max><cm_t27_list_min>\",CO1002,\"</cm_t27_list_min><cm_t27_list_order>\",CO1003,\"</cm_t27_list_order><cm_t27_list_pct_passing>\",CO1004,\"</cm_t27_list_pct_passing><cm_t27_list_sieve>\",CO1005,\"</cm_t27_list_sieve></Data>\"))","v":""},{"$f":"IF(BY127=\"\",\"\",TODAY())","v":""},{"$f":"IF(BY127=\"\",\"\",\"WTSYSTEMUSER\")","v":""},{"$f":"IF(BY127=\"\",\"\",TODAY())","v":""},{"$f":"IF(BY127=\"\",\"\",\"WTSYSTEMUSER\")","v":""},null,null,null,null,null,null,null,"",null,{"$f":"IF(BY6=\"\",\"\",\"AgencyEntityInsData Id 128\")","v":""},{"$f":"IF(BY6=\"\",\"\",\"AgencyEntityInstance Id 4\")","v":""},{"$f":"IF(BY6=\"\",\"\",\"cm_base_grad_T1T5_spec_04_no_30_min\")","v":""},{"$f":"IF(BY6=\"\",\"\",\"10\")","v":""},{"$f":"IF(BY6=\"\",\"\",TODAY())","v":""},{"$f":"IF(BY6=\"\",\"\",\"WTSYSTEMUSER\")","v":""},{"$f":"IF(BY6=\"\",\"\",TODAY())","v":""},{"$f":"IF(BY6=\"\",\"\",\"WTSYSTEMUSER\")","v":""}]
[null,null,null,null,null,null,null,null,null,null,null,null,null,null,null,null,null,null,null,null,null,null,null,null,null,null,null,null,null,null,null,null,null,null,null,null,null,null,null,null,null,null,null,null,null,null,null,null,null,null,null,null,null,null,null,null,null,null,null,null,null,null,null,null,null,null,null,null,null,null,null,null,null,null,null,null,{"$f":"IF(AH36=\"\",\"\",\"AgencyEntityInstance Id 129\")","v":""},{"$f":"IF(BY127=\"\",\"\",VLOOKUP(\"CM_T27_List\",'Send Sync'!$K$56:$L$96,2,FALSE))","v":""},null,{"$f":"IF(BY127=\"\",\"\",\"AgencyEntityInstance Id 125\")","v":""},{"$f":"IF(BY127=\"\",\"\",CONCATENATE(\"<Data><cm_t27_list_inspecrow>\",CO1006,\"</cm_t27_list_inspecrow><cm_t27_list_max>\",CO1007,\"</cm_t27_list_max><cm_t27_list_min>\",CO1008,\"</cm_t27_list_min><cm_t27_list_order>\",CO1009,\"</cm_t27_list_order><cm_t27_list_pct_passing>\",CO1010,\"</cm_t27_list_pct_passing><cm_t27_list_sieve>\",CO1011,\"</cm_t27_list_sieve></Data>\"))","v":""},{"$f":"IF(BY127=\"\",\"\",TODAY())","v":""},{"$f":"IF(BY127=\"\",\"\",\"WTSYSTEMUSER\")","v":""},{"$f":"IF(BY127=\"\",\"\",TODAY())","v":""},{"$f":"IF(BY127=\"\",\"\",\"WTSYSTEMUSER\")","v":""},null,null,null,null,null,null,null,"",null,{"$f":"IF(BY6=\"\",\"\",\"AgencyEntityInsData Id 129\")","v":""},{"$f":"IF(BY6=\"\",\"\",\"AgencyEntityInstance Id 4\")","v":""},{"$f":"IF(BY6=\"\",\"\",\"cm_base_grad_T1T5_spec_05_no_200_max\")","v":""},{"$f":"IF(BY6=\"\",\"\",\"15\")","v":""},{"$f":"IF(BY6=\"\",\"\",TODAY())","v":""},{"$f":"IF(BY6=\"\",\"\",\"WTSYSTEMUSER\")","v":""},{"$f":"IF(BY6=\"\",\"\",TODAY())","v":""},{"$f":"IF(BY6=\"\",\"\",\"WTSYSTEMUSER\")","v":""}]
[null,null,null,null,null,null,null,null,null,null,null,null,null,null,null,null,null,null,null,null,null,null,null,null,null,null,null,null,null,null,null,null,null,null,null,null,null,null,null,null,null,null,null,null,null,null,null,null,null,null,null,null,null,null,null,null,null,null,null,null,null,null,null,null,null,null,null,null,null,null,null,null,null,null,null,null,{"$f":"IF(AH36=\"\",\"\",\"AgencyEntityInstance Id 130\")","v":""},{"$f":"IF(BY127=\"\",\"\",VLOOKUP(\"CM_T27_List\",'Send Sync'!$K$56:$L$96,2,FALSE))","v":""},null,{"$f":"IF(BY127=\"\",\"\",\"AgencyEntityInstance Id 125\")","v":""},{"$f":"IF(BY127=\"\",\"\",CONCATENATE(\"<Data><cm_t27_list_inspecrow>\",CO1012,\"</cm_t27_list_inspecrow><cm_t27_list_max>\",CO1013,\"</cm_t27_list_max><cm_t27_list_min>\",CO1014,\"</cm_t27_list_min><cm_t27_list_order>\",CO1015,\"</cm_t27_list_order><cm_t27_list_pct_passing>\",CO1016,\"</cm_t27_list_pct_passing><cm_t27_list_sieve>\",CO1017,\"</cm_t27_list_sieve></Data>\"))","v":""},{"$f":"IF(BY127=\"\",\"\",TODAY())","v":""},{"$f":"IF(BY127=\"\",\"\",\"WTSYSTEMUSER\")","v":""},{"$f":"IF(BY127=\"\",\"\",TODAY())","v":""},{"$f":"IF(BY127=\"\",\"\",\"WTSYSTEMUSER\")","v":""},null,null,null,null,null,null,null,{"$f":"IF(CT132=\"\",\"\",SUBSTITUTE(SUBSTITUTE(SUBSTITUTE(SUBSTITUTE(SUBSTITUTE(CT132,\"&\",\"&amp;\"),\">\",\"&gt;\"),\"<\",\"&lt;\"),\"'\",\"&#39;\"),\"\"\"\",\"&quot;\"))","v":""},null,{"$f":"IF(BY6=\"\",\"\",\"AgencyEntityInsData Id 130\")","v":""},{"$f":"IF(BY6=\"\",\"\",\"AgencyEntityInstance Id 4\")","v":""},{"$f":"IF(BY6=\"\",\"\",\"cm_base_grad_T1T5_spec_05_no_200_min\")","v":""},{"$f":"IF(BY6=\"\",\"\",\"0\")","v":""},{"$f":"IF(BY6=\"\",\"\",TODAY())","v":""},{"$f":"IF(BY6=\"\",\"\",\"WTSYSTEMUSER\")","v":""},{"$f":"IF(BY6=\"\",\"\",TODAY())","v":""},{"$f":"IF(BY6=\"\",\"\",\"WTSYSTEMUSER\")","v":""}]
[null,null,null,null,null,null,null,null,null,null,null,null,null,null,null,null,null,null,null,null,null,null,null,null,null,null,null,null,null,null,null,null,null,null,null,null,null,null,null,null,null,null,null,null,null,null,null,null,null,null,null,null,null,null,null,null,null,null,null,null,null,null,null,null,null,null,null,null,null,null,null,null,null,null,null,null,{"$f":"IF(AH36=\"\",\"\",\"AgencyEntityInstance Id 131\")","v":""},{"$f":"IF(BY127=\"\",\"\",VLOOKUP(\"CM_T27_List\",'Send Sync'!$K$56:$L$96,2,FALSE))","v":""},null,{"$f":"IF(BY127=\"\",\"\",\"AgencyEntityInstance Id 125\")","v":""},{"$f":"IF(BY127=\"\",\"\",CONCATENATE(\"<Data><cm_t27_list_inspecrow>\",CO1018,\"</cm_t27_list_inspecrow><cm_t27_list_max>\",CO1019,\"</cm_t27_list_max><cm_t27_list_min>\",CO1020,\"</cm_t27_list_min><cm_t27_list_order>\",CO1021,\"</cm_t27_list_order><cm_t27_list_pct_passing>\",CO1022,\"</cm_t27_list_pct_passing><cm_t27_list_sieve>\",CO1023,\"</cm_t27_list_sieve></Data>\"))","v":""},{"$f":"IF(BY127=\"\",\"\",TODAY())","v":""},{"$f":"IF(BY127=\"\",\"\",\"WTSYSTEMUSER\")","v":""},{"$f":"IF(BY127=\"\",\"\",TODAY())","v":""},{"$f":"IF(BY127=\"\",\"\",\"WTSYSTEMUSER\")","v":""},null,null,null,null,null,null,null,"",null,{"$f":"IF(BY7=\"\",\"\",\"AgencyEntityInsData Id 131\")","v":""},{"$f":"IF(BY7=\"\",\"\",\"AgencyEntityInstance Id 5\")","v":""},{"$f":"IF(BY7=\"\",\"\",\"cm_base_grad_T7_01_1pt5_inch\")","v":""},{"$f":"IF(BY7=\"\",\"\",IF('Test 1'!$AG25=0,\"\",'Test 1'!$AG25))","v":""},{"$f":"IF(BY7=\"\",\"\",TODAY())","v":""},{"$f":"IF(BY7=\"\",\"\",\"WTSYSTEMUSER\")","v":""},{"$f":"IF(BY7=\"\",\"\",TODAY())","v":""},{"$f":"IF(BY7=\"\",\"\",\"WTSYSTEMUSER\")","v":""}]
[null,null,null,null,null,null,null,null,null,null,null,null,null,null,null,null,null,null,null,null,null,null,null,null,null,null,null,null,null,null,null,null,null,null,null,null,null,null,null,null,null,null,null,null,null,null,null,null,null,null,null,null,null,null,null,null,null,null,null,null,null,null,null,null,null,null,null,null,null,null,null,null,null,null,null,null,{"$f":"IF(AH36=\"\",\"\",\"AgencyEntityInstance Id 132\")","v":""},{"$f":"IF(BY127=\"\",\"\",VLOOKUP(\"CM_T27_List\",'Send Sync'!$K$56:$L$96,2,FALSE))","v":""},null,{"$f":"IF(BY127=\"\",\"\",\"AgencyEntityInstance Id 125\")","v":""},{"$f":"IF(BY127=\"\",\"\",CONCATENATE(\"<Data><cm_t27_list_inspecrow>\",CO1024,\"</cm_t27_list_inspecrow><cm_t27_list_max>\",CO1025,\"</cm_t27_list_max><cm_t27_list_min>\",CO1026,\"</cm_t27_list_min><cm_t27_list_order>\",CO1027,\"</cm_t27_list_order><cm_t27_list_pct_passing>\",CO1028,\"</cm_t27_list_pct_passing><cm_t27_list_sieve>\",CO1029,\"</cm_t27_list_sieve></Data>\"))","v":""},{"$f":"IF(BY127=\"\",\"\",TODAY())","v":""},{"$f":"IF(BY127=\"\",\"\",\"WTSYSTEMUSER\")","v":""},{"$f":"IF(BY127=\"\",\"\",TODAY())","v":""},{"$f":"IF(BY127=\"\",\"\",\"WTSYSTEMUSER\")","v":""},null,null,null,null,null,null,null,"",null,{"$f":"IF(BY7=\"\",\"\",\"AgencyEntityInsData Id 132\")","v":""},{"$f":"IF(BY7=\"\",\"\",\"AgencyEntityInstance Id 5\")","v":""},{"$f":"IF(BY7=\"\",\"\",\"cm_base_grad_T7_02_inch\")","v":""},{"$f":"IF(BY7=\"\",\"\",IF('Test 1'!$AG26=0,\"\",'Test 1'!$AG26))","v":""},{"$f":"IF(BY7=\"\",\"\",TODAY())","v":""},{"$f":"IF(BY7=\"\",\"\",\"WTSYSTEMUSER\")","v":""},{"$f":"IF(BY7=\"\",\"\",TODAY())","v":""},{"$f":"IF(BY7=\"\",\"\",\"WTSYSTEMUSER\")","v":""}]
[null,null,null,null,null,null,null,null,null,null,null,null,null,null,null,null,null,null,null,null,null,null,null,null,null,null,null,null,null,null,null,null,null,null,null,null,null,null,null,null,null,null,null,null,null,null,null,null,null,null,null,null,null,null,null,null,null,null,null,null,null,null,null,null,null,null,null,null,null,null,null,null,null,null,null,null,{"$f":"IF(AH36=\"\",\"\",\"AgencyEntityInstance Id 133\")","v":""},{"$f":"IF(BY127=\"\",\"\",VLOOKUP(\"CM_T27_List\",'Send Sync'!$K$56:$L$96,2,FALSE))","v":""},null,{"$f":"IF(BY127=\"\",\"\",\"AgencyEntityInstance Id 125\")","v":""},{"$f":"IF(BY127=\"\",\"\",CONCATENATE(\"<Data><cm_t27_list_inspecrow>\",CO1030,\"</cm_t27_list_inspecrow><cm_t27_list_max>\",CO1031,\"</cm_t27_list_max><cm_t27_list_min>\",CO1032,\"</cm_t27_list_min><cm_t27_list_order>\",CO1033,\"</cm_t27_list_order><cm_t27_list_pct_passing>\",CO1034,\"</cm_t27_list_pct_passing><cm_t27_list_sieve>\",CO1035,\"</cm_t27_list_sieve></Data>\"))","v":""},{"$f":"IF(BY127=\"\",\"\",TODAY())","v":""},{"$f":"IF(BY127=\"\",\"\",\"WTSYSTEMUSER\")","v":""},{"$f":"IF(BY127=\"\",\"\",TODAY())","v":""},{"$f":"IF(BY127=\"\",\"\",\"WTSYSTEMUSER\")","v":""},null,null,null,null,null,null,null,"",null,{"$f":"IF(BY7=\"\",\"\",\"AgencyEntityInsData Id 133\")","v":""},{"$f":"IF(BY7=\"\",\"\",\"AgencyEntityInstance Id 5\")","v":""},{"$f":"IF(BY7=\"\",\"\",\"cm_base_grad_T7_03_no_8\")","v":""},{"$f":"IF(BY7=\"\",\"\",IF('Test 1'!$AG27=0,\"\",'Test 1'!$AG27))","v":""},{"$f":"IF(BY7=\"\",\"\",TODAY())","v":""},{"$f":"IF(BY7=\"\",\"\",\"WTSYSTEMUSER\")","v":""},{"$f":"IF(BY7=\"\",\"\",TODAY())","v":""},{"$f":"IF(BY7=\"\",\"\",\"WTSYSTEMUSER\")","v":""}]
[null,null,null,null,null,null,null,null,null,null,null,null,null,null,null,null,null,null,null,null,null,null,null,null,null,null,null,null,null,null,null,null,null,null,null,null,null,null,null,null,null,null,null,null,null,null,null,null,null,null,null,null,null,null,null,null,null,null,null,null,null,null,null,null,null,null,null,null,null,null,null,null,null,null,null,null,{"$f":"IF(AH36=\"\",\"\",\"AgencyEntityInstance Id 134\")","v":""},{"$f":"IF(BY127=\"\",\"\",VLOOKUP(\"CM_T27_List\",'Send Sync'!$K$56:$L$96,2,FALSE))","v":""},null,{"$f":"IF(BY127=\"\",\"\",\"AgencyEntityInstance Id 125\")","v":""},{"$f":"IF(BY127=\"\",\"\",CONCATENATE(\"<Data><cm_t27_list_inspecrow>\",CO1036,\"</cm_t27_list_inspecrow><cm_t27_list_max>\",CO1037,\"</cm_t27_list_max><cm_t27_list_min>\",CO1038,\"</cm_t27_list_min><cm_t27_list_order>\",CO1039,\"</cm_t27_list_order><cm_t27_list_pct_passing>\",CO1040,\"</cm_t27_list_pct_passing><cm_t27_list_sieve>\",CO1041,\"</cm_t27_list_sieve></Data>\"))","v":""},{"$f":"IF(BY127=\"\",\"\",TODAY())","v":""},{"$f":"IF(BY127=\"\",\"\",\"WTSYSTEMUSER\")","v":""},{"$f":"IF(BY127=\"\",\"\",TODAY())","v":""},{"$f":"IF(BY127=\"\",\"\",\"WTSYSTEMUSER\")","v":""},null,null,null,null,null,null,null,"",null,{"$f":"IF(BY7=\"\",\"\",\"AgencyEntityInsData Id 134\")","v":""},{"$f":"IF(BY7=\"\",\"\",\"AgencyEntityInstance Id 5\")","v":""},{"$f":"IF(BY7=\"\",\"\",\"cm_base_grad_T7_05_no_200\")","v":""},{"$f":"IF(BY7=\"\",\"\",IF('Test 1'!$AG28=0,\"\",'Test 1'!$AG28))","v":""},{"$f":"IF(BY7=\"\",\"\",TODAY())","v":""},{"$f":"IF(BY7=\"\",\"\",\"WTSYSTEMUSER\")","v":""},{"$f":"IF(BY7=\"\",\"\",TODAY())","v":""},{"$f":"IF(BY7=\"\",\"\",\"WTSYSTEMUSER\")","v":""}]
[null,null,null,null,null,null,null,null,null,null,null,null,null,null,null,null,null,null,null,null,null,null,null,null,null,null,null,null,null,null,null,null,null,null,null,null,null,null,null,null,null,null,null,null,null,null,null,null,null,null,null,null,null,null,null,null,null,null,null,null,null,null,null,null,null,null,null,null,null,null,null,null,null,null,null,null,{"$f":"IF(AH36=\"\",\"\",\"AgencyEntityInstance Id 135\")","v":""},{"$f":"IF(BY127=\"\",\"\",VLOOKUP(\"CM_T27_List\",'Send Sync'!$K$56:$L$96,2,FALSE))","v":""},null,{"$f":"IF(BY127=\"\",\"\",\"AgencyEntityInstance Id 125\")","v":""},{"$f":"IF(BY127=\"\",\"\",CONCATENATE(\"<Data><cm_t27_list_inspecrow>\",CO1042,\"</cm_t27_list_inspecrow><cm_t27_list_max>\",CO1043,\"</cm_t27_list_max><cm_t27_list_min>\",CO1044,\"</cm_t27_list_min><cm_t27_list_order>\",CO1045,\"</cm_t27_list_order><cm_t27_list_pct_passing>\",CO1046,\"</cm_t27_list_pct_passing><cm_t27_list_sieve>\",CO1047,\"</cm_t27_list_sieve></Data>\"))","v":""},{"$f":"IF(BY127=\"\",\"\",TODAY())","v":""},{"$f":"IF(BY127=\"\",\"\",\"WTSYSTEMUSER\")","v":""},{"$f":"IF(BY127=\"\",\"\",TODAY())","v":""},{"$f":"IF(BY127=\"\",\"\",\"WTSYSTEMUSER\")","v":""},null,null,null,null,null,null,null,"",null,{"$f":"IF(BY7=\"\",\"\",\"AgencyEntityInsData Id 135\")","v":""},{"$f":"IF(BY7=\"\",\"\",\"AgencyEntityInstance Id 5\")","v":""},{"$f":"IF(BY7=\"\",\"\",\"cm_base_grad_T7_08_station_1\")","v":""},{"$f":"IF(BY7=\"\",\"\",IF('Test 1'!$F16=0,\"\",'Test 1'!$F16))","v":""},{"$f":"IF(BY7=\"\",\"\",TODAY())","v":""},{"$f":"IF(BY7=\"\",\"\",\"WTSYSTEMUSER\")","v":""},{"$f":"IF(BY7=\"\",\"\",TODAY())","v":""},{"$f":"IF(BY7=\"\",\"\",\"WTSYSTEMUSER\")","v":""}]
[null,null,null,null,null,null,null,null,null,null,null,null,null,null,null,null,null,null,null,null,null,null,null,null,null,null,null,null,null,null,null,null,null,null,null,null,null,null,null,null,null,null,null,null,null,null,null,null,null,null,null,null,null,null,null,null,null,null,null,null,null,null,null,null,null,null,null,null,null,null,null,null,null,null,null,null,{"$f":"IF(AH36=\"\",\"\",\"AgencyEntityInstance Id 136\")","v":""},{"$f":"IF(BY127=\"\",\"\",VLOOKUP(\"CM_T27_List\",'Send Sync'!$K$56:$L$96,2,FALSE))","v":""},null,{"$f":"IF(BY127=\"\",\"\",\"AgencyEntityInstance Id 125\")","v":""},{"$f":"IF(BY127=\"\",\"\",CONCATENATE(\"<Data><cm_t27_list_inspecrow>\",CO1048,\"</cm_t27_list_inspecrow><cm_t27_list_max>\",CO1049,\"</cm_t27_list_max><cm_t27_list_min>\",CO1050,\"</cm_t27_list_min><cm_t27_list_order>\",CO1051,\"</cm_t27_list_order><cm_t27_list_pct_passing>\",CO1052,\"</cm_t27_list_pct_passing><cm_t27_list_sieve>\",CO1053,\"</cm_t27_list_sieve></Data>\"))","v":""},{"$f":"IF(BY127=\"\",\"\",TODAY())","v":""},{"$f":"IF(BY127=\"\",\"\",\"WTSYSTEMUSER\")","v":""},{"$f":"IF(BY127=\"\",\"\",TODAY())","v":""},{"$f":"IF(BY127=\"\",\"\",\"WTSYSTEMUSER\")","v":""},null,null,null,null,null,null,null,"",null,{"$f":"IF(BY7=\"\",\"\",\"AgencyEntityInsData Id 136\")","v":""},{"$f":"IF(BY7=\"\",\"\",\"AgencyEntityInstance Id 5\")","v":""},{"$f":"IF(BY7=\"\",\"\",\"cm_base_grad_T7_09_station_2\")","v":""},{"$f":"IF(BY7=\"\",\"\",IF('Test 1'!$J16=0,\"\",'Test 1'!$J16))","v":""},{"$f":"IF(BY7=\"\",\"\",TODAY())","v":""},{"$f":"IF(BY7=\"\",\"\",\"WTSYSTEMUSER\")","v":""},{"$f":"IF(BY7=\"\",\"\",TODAY())","v":""},{"$f":"IF(BY7=\"\",\"\",\"WTSYSTEMUSER\")","v":""}]
[null,null,null,null,null,null,null,null,null,null,null,null,null,null,null,null,null,null,null,null,null,null,null,null,null,null,null,null,null,null,null,null,null,null,null,null,null,null,null,null,null,null,null,null,null,null,null,null,null,null,null,null,null,null,null,null,null,null,null,null,null,null,null,null,null,null,null,null,null,null,null,null,null,null,null,null,{"$f":"IF(AH36=\"\",\"\",\"AgencyEntityInstance Id 137\")","v":""},{"$f":"IF(BY127=\"\",\"\",VLOOKUP(\"CM_T27_List\",'Send Sync'!$K$56:$L$96,2,FALSE))","v":""},null,{"$f":"IF(BY127=\"\",\"\",\"AgencyEntityInstance Id 125\")","v":""},{"$f":"IF(BY127=\"\",\"\",CONCATENATE(\"<Data><cm_t27_list_inspecrow>\",CO1054,\"</cm_t27_list_inspecrow><cm_t27_list_max>\",CO1055,\"</cm_t27_list_max><cm_t27_list_min>\",CO1056,\"</cm_t27_list_min><cm_t27_list_order>\",CO1057,\"</cm_t27_list_order><cm_t27_list_pct_passing>\",CO1058,\"</cm_t27_list_pct_passing><cm_t27_list_sieve>\",CO1059,\"</cm_t27_list_sieve></Data>\"))","v":""},{"$f":"IF(BY127=\"\",\"\",TODAY())","v":""},{"$f":"IF(BY127=\"\",\"\",\"WTSYSTEMUSER\")","v":""},{"$f":"IF(BY127=\"\",\"\",TODAY())","v":""},{"$f":"IF(BY127=\"\",\"\",\"WTSYSTEMUSER\")","v":""},null,null,null,null,null,null,null,"",null,{"$f":"IF(BY7=\"\",\"\",\"AgencyEntityInsData Id 137\")","v":""},{"$f":"IF(BY7=\"\",\"\",\"AgencyEntityInstance Id 5\")","v":""},{"$f":"IF(BY7=\"\",\"\",\"cm_base_grad_T7_10_centerline_location\")","v":""},{"$f":"IF(BY7=\"\",\"\",IF('Test 1'!I17=\"\",\"\",'Test 1'!I17))","v":""},{"$f":"IF(BY7=\"\",\"\",TODAY())","v":""},{"$f":"IF(BY7=\"\",\"\",\"WTSYSTEMUSER\")","v":""},{"$f":"IF(BY7=\"\",\"\",TODAY())","v":""},{"$f":"IF(BY7=\"\",\"\",\"WTSYSTEMUSER\")","v":""}]
[null,null,null,null,null,null,null,null,null,null,null,null,null,null,null,null,null,null,null,null,null,null,null,null,null,null,null,null,null,null,null,null,null,null,null,null,null,null,null,null,null,null,null,null,null,null,null,null,null,null,null,null,null,null,null,null,null,null,null,null,null,null,null,null,null,null,null,null,null,null,null,null,null,null,null,null,{"$f":"IF(AH36=\"\",\"\",\"AgencyEntityInstance Id 138\")","v":""},{"$f":"IF(BY127=\"\",\"\",VLOOKUP(\"CM_T27_List\",'Send Sync'!$K$56:$L$96,2,FALSE))","v":""},null,{"$f":"IF(BY127=\"\",\"\",\"AgencyEntityInstance Id 125\")","v":""},{"$f":"IF(BY127=\"\",\"\",CONCATENATE(\"<Data><cm_t27_list_inspecrow>\",CO1060,\"</cm_t27_list_inspecrow><cm_t27_list_max>\",CO1061,\"</cm_t27_list_max><cm_t27_list_min>\",CO1062,\"</cm_t27_list_min><cm_t27_list_order>\",CO1063,\"</cm_t27_list_order><cm_t27_list_pct_passing>\",CO1064,\"</cm_t27_list_pct_passing><cm_t27_list_sieve>\",CO1065,\"</cm_t27_list_sieve></Data>\"))","v":""},{"$f":"IF(BY127=\"\",\"\",TODAY())","v":""},{"$f":"IF(BY127=\"\",\"\",\"WTSYSTEMUSER\")","v":""},{"$f":"IF(BY127=\"\",\"\",TODAY())","v":""},{"$f":"IF(BY127=\"\",\"\",\"WTSYSTEMUSER\")","v":""},null,null,null,null,null,null,null,"",null,{"$f":"IF(BY7=\"\",\"\",\"AgencyEntityInsData Id 138\")","v":""},{"$f":"IF(BY7=\"\",\"\",\"AgencyEntityInstance Id 5\")","v":""},{"$f":"IF(BY7=\"\",\"\",\"cm_base_grad_T7_11_tested_by\")","v":""},{"$f":"IF(BY7=\"\",\"\",IF('Test 1'!H13=\"\",\"\",'Test 1'!H13))","v":""},{"$f":"IF(BY7=\"\",\"\",TODAY())","v":""},{"$f":"IF(BY7=\"\",\"\",\"WTSYSTEMUSER\")","v":""},{"$f":"IF(BY7=\"\",\"\",TODAY())","v":""},{"$f":"IF(BY7=\"\",\"\",\"WTSYSTEMUSER\")","v":""}]
[null,null,null,null,null,null,null,null,null,null,null,null,null,null,null,null,null,null,null,null,null,null,null,null,null,null,null,null,null,null,null,null,null,null,null,null,null,null,null,null,null,null,null,null,null,null,null,null,null,null,null,null,null,null,null,null,null,null,null,null,null,null,null,null,null,null,null,null,null,null,null,null,null,null,null,null,{"$f":"IF(AH36=\"\",\"\",\"AgencyEntityInstance Id 139\")","v":""},{"$f":"IF(BY127=\"\",\"\",VLOOKUP(\"CM_T27_List\",'Send Sync'!$K$56:$L$96,2,FALSE))","v":""},null,{"$f":"IF(BY127=\"\",\"\",\"AgencyEntityInstance Id 125\")","v":""},{"$f":"IF(BY127=\"\",\"\",CONCATENATE(\"<Data><cm_t27_list_inspecrow>\",CO1066,\"</cm_t27_list_inspecrow><cm_t27_list_max>\",CO1067,\"</cm_t27_list_max><cm_t27_list_min>\",CO1068,\"</cm_t27_list_min><cm_t27_list_order>\",CO1069,\"</cm_t27_list_order><cm_t27_list_pct_passing>\",CO1070,\"</cm_t27_list_pct_passing><cm_t27_list_sieve>\",CO1071,\"</cm_t27_list_sieve></Data>\"))","v":""},{"$f":"IF(BY127=\"\",\"\",TODAY())","v":""},{"$f":"IF(BY127=\"\",\"\",\"WTSYSTEMUSER\")","v":""},{"$f":"IF(BY127=\"\",\"\",TODAY())","v":""},{"$f":"IF(BY127=\"\",\"\",\"WTSYSTEMUSER\")","v":""},null,null,null,null,null,null,null,"",null,{"$f":"IF(BY7=\"\",\"\",\"AgencyEntityInsData Id 139\")","v":""},{"$f":"IF(BY7=\"\",\"\",\"AgencyEntityInstance Id 5\")","v":""},{"$f":"IF(BY7=\"\",\"\",\"cm_base_grad_T7_label_01_1pt5_inch\")","v":""},{"$f":"IF(BY7=\"\",\"\",\"1 1/2\"\" (37.5 mm)\")","v":""},{"$f":"IF(BY7=\"\",\"\",TODAY())","v":""},{"$f":"IF(BY7=\"\",\"\",\"WTSYSTEMUSER\")","v":""},{"$f":"IF(BY7=\"\",\"\",TODAY())","v":""},{"$f":"IF(BY7=\"\",\"\",\"WTSYSTEMUSER\")","v":""}]
[null,null,null,null,null,null,null,null,null,null,null,null,null,null,null,null,null,null,null,null,null,null,null,null,null,null,null,null,null,null,null,null,null,null,null,null,null,null,null,null,null,null,null,null,null,null,null,null,null,null,null,null,null,null,null,null,null,null,null,null,null,null,null,null,null,null,null,null,null,null,null,null,null,null,null,null,{"$f":"IF(AH36=\"\",\"\",\"AgencyEntityInstance Id 140\")","v":""},{"$f":"IF(BY127=\"\",\"\",VLOOKUP(\"CM_T27_List\",'Send Sync'!$K$56:$L$96,2,FALSE))","v":""},null,{"$f":"IF(BY127=\"\",\"\",\"AgencyEntityInstance Id 125\")","v":""},{"$f":"IF(BY127=\"\",\"\",CONCATENATE(\"<Data><cm_t27_list_inspecrow>\",CO1072,\"</cm_t27_list_inspecrow><cm_t27_list_max>\",CO1073,\"</cm_t27_list_max><cm_t27_list_min>\",CO1074,\"</cm_t27_list_min><cm_t27_list_order>\",CO1075,\"</cm_t27_list_order><cm_t27_list_pct_passing>\",CO1076,\"</cm_t27_list_pct_passing><cm_t27_list_sieve>\",CO1077,\"</cm_t27_list_sieve></Data>\"))","v":""},{"$f":"IF(BY127=\"\",\"\",TODAY())","v":""},{"$f":"IF(BY127=\"\",\"\",\"WTSYSTEMUSER\")","v":""},{"$f":"IF(BY127=\"\",\"\",TODAY())","v":""},{"$f":"IF(BY127=\"\",\"\",\"WTSYSTEMUSER\")","v":""},null,null,null,null,null,null,null,"",null,{"$f":"IF(BY7=\"\",\"\",\"AgencyEntityInsData Id 140\")","v":""},{"$f":"IF(BY7=\"\",\"\",\"AgencyEntityInstance Id 5\")","v":""},{"$f":"IF(BY7=\"\",\"\",\"cm_base_grad_T7_label_02_inch\")","v":""},{"$f":"IF(BY7=\"\",\"\",\"1\"\" (25.0 mm)\")","v":""},{"$f":"IF(BY7=\"\",\"\",TODAY())","v":""},{"$f":"IF(BY7=\"\",\"\",\"WTSYSTEMUSER\")","v":""},{"$f":"IF(BY7=\"\",\"\",TODAY())","v":""},{"$f":"IF(BY7=\"\",\"\",\"WTSYSTEMUSER\")","v":""}]
[null,null,null,null,null,null,null,null,null,null,null,null,null,null,null,null,null,null,null,null,null,null,null,null,null,null,null,null,null,null,null,null,null,null,null,null,null,null,null,null,null,null,null,null,null,null,null,null,null,null,null,null,null,null,null,null,null,null,null,null,null,null,null,null,null,null,null,null,null,null,null,null,null,null,null,null,{"$f":"IF(AH36=\"\",\"\",\"AgencyEntityInstance Id 141\")","v":""},{"$f":"IF(BY127=\"\",\"\",VLOOKUP(\"CM_T27_List\",'Send Sync'!$K$56:$L$96,2,FALSE))","v":""},null,{"$f":"IF(BY127=\"\",\"\",\"AgencyEntityInstance Id 125\")","v":""},{"$f":"IF(BY127=\"\",\"\",CONCATENATE(\"<Data><cm_t27_list_inspecrow>\",CO1078,\"</cm_t27_list_inspecrow><cm_t27_list_max>\",CO1079,\"</cm_t27_list_max><cm_t27_list_min>\",CO1080,\"</cm_t27_list_min><cm_t27_list_order>\",CO1081,\"</cm_t27_list_order><cm_t27_list_pct_passing>\",CO1082,\"</cm_t27_list_pct_passing><cm_t27_list_sieve>\",CO1083,\"</cm_t27_list_sieve></Data>\"))","v":""},{"$f":"IF(BY127=\"\",\"\",TODAY())","v":""},{"$f":"IF(BY127=\"\",\"\",\"WTSYSTEMUSER\")","v":""},{"$f":"IF(BY127=\"\",\"\",TODAY())","v":""},{"$f":"IF(BY127=\"\",\"\",\"WTSYSTEMUSER\")","v":""},null,null,null,null,null,null,null,"",null,{"$f":"IF(BY7=\"\",\"\",\"AgencyEntityInsData Id 141\")","v":""},{"$f":"IF(BY7=\"\",\"\",\"AgencyEntityInstance Id 5\")","v":""},{"$f":"IF(BY7=\"\",\"\",\"cm_base_grad_T7_label_03_no_8\")","v":""},{"$f":"IF(BY7=\"\",\"\",\"No. 8 (2.36 mm)\")","v":""},{"$f":"IF(BY7=\"\",\"\",TODAY())","v":""},{"$f":"IF(BY7=\"\",\"\",\"WTSYSTEMUSER\")","v":""},{"$f":"IF(BY7=\"\",\"\",TODAY())","v":""},{"$f":"IF(BY7=\"\",\"\",\"WTSYSTEMUSER\")","v":""}]
[null,null,null,null,null,null,null,null,null,null,null,null,null,null,null,null,null,null,null,null,null,null,null,null,null,null,null,null,null,null,null,null,null,null,null,null,null,null,null,null,null,null,null,null,null,null,null,null,null,null,null,null,null,null,null,null,null,null,null,null,null,null,null,null,null,null,null,null,null,null,null,null,null,null,null,null,{"$f":"IF(AH37=\"\",\"\",\"AgencyEntityInstance Id 142\")","v":""},{"$f":"IF(BY144=\"\",\"\",VLOOKUP(\"CM_Field_Resistivity\",'Send Sync'!$K$56:$L$96,2,FALSE))","v":""},{"$f":"IF(BY144=\"\",\"\",\"SampleRecordTest Id 35\")","v":""},"",{"$f":"IF(BY144=\"\",\"\",CONCATENATE(\"<Data><cm_field_resistivity_01_resistivity>\",CO1084,\"</cm_field_resistivity_01_resistivity></Data>\"))","v":""},{"$f":"IF(BY144=\"\",\"\",TODAY())","v":""},{"$f":"IF(BY144=\"\",\"\",\"WTSYSTEMUSER\")","v":""},{"$f":"IF(BY144=\"\",\"\",TODAY())","v":""},{"$f":"IF(BY144=\"\",\"\",\"WTSYSTEMUSER\")","v":""},null,null,null,null,null,null,null,"",null,{"$f":"IF(BY7=\"\",\"\",\"AgencyEntityInsData Id 142\")","v":""},{"$f":"IF(BY7=\"\",\"\",\"AgencyEntityInstance Id 5\")","v":""},{"$f":"IF(BY7=\"\",\"\",\"cm_base_grad_T7_label_05_no_200\")","v":""},{"$f":"IF(BY7=\"\",\"\",\"No. 200 (75 microns)\")","v":""},{"$f":"IF(BY7=\"\",\"\",TODAY())","v":""},{"$f":"IF(BY7=\"\",\"\",\"WTSYSTEMUSER\")","v":""},{"$f":"IF(BY7=\"\",\"\",TODAY())","v":""},{"$f":"IF(BY7=\"\",\"\",\"WTSYSTEMUSER\")","v":""}]
[null,null,null,null,null,null,null,null,null,null,null,null,null,null,null,null,null,null,null,null,null,null,null,null,null,null,null,null,null,null,null,null,null,null,null,null,null,null,null,null,null,null,null,null,null,null,null,null,null,null,null,null,null,null,null,null,null,null,null,null,null,null,null,null,null,null,null,null,null,null,null,null,null,null,null,null,{"$f":"IF(AH38=\"\",\"\",\"AgencyEntityInstance Id 143\")","v":""},{"$f":"IF(BY145=\"\",\"\",VLOOKUP(\"CM_Field_Resistivity\",'Send Sync'!$K$56:$L$96,2,FALSE))","v":""},{"$f":"IF(BY145=\"\",\"\",\"SampleRecordTest Id 36\")","v":""},"",{"$f":"IF(BY145=\"\",\"\",CONCATENATE(\"<Data><cm_field_resistivity_01_resistivity>\",CO1085,\"</cm_field_resistivity_01_resistivity></Data>\"))","v":""},{"$f":"IF(BY145=\"\",\"\",TODAY())","v":""},{"$f":"IF(BY145=\"\",\"\",\"WTSYSTEMUSER\")","v":""},{"$f":"IF(BY145=\"\",\"\",TODAY())","v":""},{"$f":"IF(BY145=\"\",\"\",\"WTSYSTEMUSER\")","v":""},null,null,null,null,null,null,null,"",null,{"$f":"IF(BY7=\"\",\"\",\"AgencyEntityInsData Id 143\")","v":""},{"$f":"IF(BY7=\"\",\"\",\"AgencyEntityInstance Id 5\")","v":""},{"$f":"IF(BY7=\"\",\"\",\"cm_base_grad_T7_label_06\")","v":""},{"$f":"IF(BY7=\"\",\"\",\"Station\")","v":""},{"$f":"IF(BY7=\"\",\"\",TODAY())","v":""},{"$f":"IF(BY7=\"\",\"\",\"WTSYSTEMUSER\")","v":""},{"$f":"IF(BY7=\"\",\"\",TODAY())","v":""},{"$f":"IF(BY7=\"\",\"\",\"WTSYSTEMUSER\")","v":""}]
[null,null,null,null,null,null,null,null,null,null,null,null,null,null,null,null,null,null,null,null,null,null,null,null,null,null,null,null,null,null,null,null,null,null,null,null,null,null,null,null,null,null,null,null,null,null,null,null,null,null,null,null,null,null,null,null,null,null,null,null,null,null,null,null,null,null,null,null,null,null,null,null,null,null,null,null,{"$f":"IF(AH39=\"\",\"\",\"AgencyEntityInstance Id 144\")","v":""},{"$f":"IF(BY146=\"\",\"\",VLOOKUP(\"CM_T255_MoistureCont\",'Send Sync'!$K$56:$L$96,2,FALSE))","v":""},{"$f":"IF(BY146=\"\",\"\",\"SampleRecordTest Id 37\")","v":""},null,{"$f":"IF(BY146=\"\",\"\",CONCATENATE(\"<Data><CM_T255_MoistureCont_DryWt>\",CO1086,\"</CM_T255_MoistureCont_DryWt><CM_T255_MoistureCont_OriginalWt>\",CO1087,\"</CM_T255_MoistureCont_OriginalWt><CM_T255_MoistureCont_PH1>\",CO1088,\"</CM_T255_MoistureCont_PH1><CM_T255_MoistureCont_PH2>\",CO1089,\"</CM_T255_MoistureCont_PH2><CM_T255_MoistureCont_PH3>\",CO1090,\"</CM_T255_MoistureCont_PH3><CM_T255_MoistureCont_PH4>\",CO1091,\"</CM_T255_MoistureCont_PH4><CM_T255_MoistureCont_PH5>\",CO1092,\"</CM_T255_MoistureCont_PH5><CM_T255_MoistureCont_Result>\",CO1093,\"</CM_T255_MoistureCont_Result><CM_T255_MoistureCont_Title_Label>\",CO1094,\"</CM_T255_MoistureCont_Title_Label><CM_T255_MoistureCont_UserID>\",CO1095,\"</CM_T255_MoistureCont_UserID></Data>\"))","v":""},{"$f":"IF(BY146=\"\",\"\",TODAY())","v":""},{"$f":"IF(BY146=\"\",\"\",\"WTSYSTEMUSER\")","v":""},{"$f":"IF(BY146=\"\",\"\",TODAY())","v":""},{"$f":"IF(BY146=\"\",\"\",\"WTSYSTEMUSER\")","v":""},null,null,null,null,null,null,null,"",null,{"$f":"IF(BY7=\"\",\"\",\"AgencyEntityInsData Id 144\")","v":""},{"$f":"IF(BY7=\"\",\"\",\"AgencyEntityInstance Id 5\")","v":""},{"$f":"IF(BY7=\"\",\"\",\"cm_base_grad_T7_label_07\")","v":""},{"$f":"IF(BY7=\"\",\"\",\"+\")","v":""},{"$f":"IF(BY7=\"\",\"\",TODAY())","v":""},{"$f":"IF(BY7=\"\",\"\",\"WTSYSTEMUSER\")","v":""},{"$f":"IF(BY7=\"\",\"\",TODAY())","v":""},{"$f":"IF(BY7=\"\",\"\",\"WTSYSTEMUSER\")","v":""}]
[null,null,null,null,null,null,null,null,null,null,null,null,null,null,null,null,null,null,null,null,null,null,null,null,null,null,null,null,null,null,null,null,null,null,null,null,null,null,null,null,null,null,null,null,null,null,null,null,null,null,null,null,null,null,null,null,null,null,null,null,null,null,null,null,null,null,null,null,null,null,null,null,null,null,null,null,{"$f":"IF(AH40=\"\",\"\",\"AgencyEntityInstance Id 145\")","v":""},{"$f":"IF(BY147=\"\",\"\",VLOOKUP(\"CM_T255_MoistureCont\",'Send Sync'!$K$56:$L$96,2,FALSE))","v":""},{"$f":"IF(BY147=\"\",\"\",\"SampleRecordTest Id 38\")","v":""},null,{"$f":"IF(BY147=\"\",\"\",CONCATENATE(\"<Data><CM_T255_MoistureCont_DryWt>\",CO1096,\"</CM_T255_MoistureCont_DryWt><CM_T255_MoistureCont_OriginalWt>\",CO1097,\"</CM_T255_MoistureCont_OriginalWt><CM_T255_MoistureCont_PH1>\",CO1098,\"</CM_T255_MoistureCont_PH1><CM_T255_MoistureCont_PH2>\",CO1099,\"</CM_T255_MoistureCont_PH2><CM_T255_MoistureCont_PH3>\",CO1100,\"</CM_T255_MoistureCont_PH3><CM_T255_MoistureCont_PH4>\",CO1101,\"</CM_T255_MoistureCont_PH4><CM_T255_MoistureCont_PH5>\",CO1102,\"</CM_T255_MoistureCont_PH5><CM_T255_MoistureCont_Result>\",CO1103,\"</CM_T255_MoistureCont_Result><CM_T255_MoistureCont_Title_Label>\",CO1104,\"</CM_T255_MoistureCont_Title_Label><CM_T255_MoistureCont_UserID>\",CO1105,\"</CM_T255_MoistureCont_UserID></Data>\"))","v":""},"","","","",null,null,null,null,null,null,null,"",null,{"$f":"IF(BY7=\"\",\"\",\"AgencyEntityInsData Id 145\")","v":""},{"$f":"IF(BY7=\"\",\"\",\"AgencyEntityInstance Id 5\")","v":""},{"$f":"IF(BY7=\"\",\"\",\"cm_base_grad_T7_label_08\")","v":""},{"$f":"IF(BY7=\"\",\"\",\"Location R/L of Centerline\")","v":""},{"$f":"IF(BY7=\"\",\"\",TODAY())","v":""},{"$f":"IF(BY7=\"\",\"\",\"WTSYSTEMUSER\")","v":""},{"$f":"IF(BY7=\"\",\"\",TODAY())","v":""},{"$f":"IF(BY7=\"\",\"\",\"WTSYSTEMUSER\")","v":""}]
[null,null,null,null,null,null,null,null,null,null,null,null,null,null,null,null,null,null,null,null,null,null,null,null,null,null,null,null,null,null,null,null,null,null,null,null,null,null,null,null,null,null,null,null,null,null,null,null,null,null,null,null,null,null,null,null,null,null,null,null,null,null,null,null,null,null,null,null,null,null,null,null,null,null,null,null,{"$f":"IF(AH41=\"\",\"\",\"AgencyEntityInstance Id 146\")","v":""},{"$f":"IF(BY148=\"\",\"\",VLOOKUP(\"CM_T255_MoistureCont\",'Send Sync'!$K$56:$L$96,2,FALSE))","v":""},{"$f":"IF(BY148=\"\",\"\",\"SampleRecordTest Id 39\")","v":""},null,{"$f":"IF(BY148=\"\",\"\",CONCATENATE(\"<Data><CM_T255_MoistureCont_DryWt>\",CO1106,\"</CM_T255_MoistureCont_DryWt><CM_T255_MoistureCont_OriginalWt>\",CO1107,\"</CM_T255_MoistureCont_OriginalWt><CM_T255_MoistureCont_PH1>\",CO1108,\"</CM_T255_MoistureCont_PH1><CM_T255_MoistureCont_PH2>\",CO1109,\"</CM_T255_MoistureCont_PH2><CM_T255_MoistureCont_PH3>\",CO1110,\"</CM_T255_MoistureCont_PH3><CM_T255_MoistureCont_PH4>\",CO1111,\"</CM_T255_MoistureCont_PH4><CM_T255_MoistureCont_PH5>\",CO1112,\"</CM_T255_MoistureCont_PH5><CM_T255_MoistureCont_Result>\",CO1113,\"</CM_T255_MoistureCont_Result><CM_T255_MoistureCont_Title_Label>\",CO1114,\"</CM_T255_MoistureCont_Title_Label><CM_T255_MoistureCont_UserID>\",CO1115,\"</CM_T255_MoistureCont_UserID></Data>\"))","v":""},"","","","",null,null,null,null,null,null,null,"",null,{"$f":"IF(BY7=\"\",\"\",\"AgencyEntityInsData Id 146\")","v":""},{"$f":"IF(BY7=\"\",\"\",\"AgencyEntityInstance Id 5\")","v":""},{"$f":"IF(BY7=\"\",\"\",\"cm_base_grad_T7_label_09\")","v":""},{"$f":"IF(BY7=\"\",\"\",\"Test Performed By\")","v":""},{"$f":"IF(BY7=\"\",\"\",TODAY())","v":""},{"$f":"IF(BY7=\"\",\"\",\"WTSYSTEMUSER\")","v":""},{"$f":"IF(BY7=\"\",\"\",TODAY())","v":""},{"$f":"IF(BY7=\"\",\"\",\"WTSYSTEMUSER\")","v":""}]
[null,null,null,null,null,null,null,null,null,null,null,null,null,null,null,null,null,null,null,null,null,null,null,null,null,null,null,null,null,null,null,null,null,null,null,null,null,null,null,null,null,null,null,null,null,null,null,null,null,null,null,null,null,null,null,null,null,null,null,null,null,null,null,null,null,null,null,null,null,null,null,null,null,null,null,null,{"$f":"IF(AH42=\"\",\"\",\"AgencyEntityInstance Id 147\")","v":""},{"$f":"IF(BY149=\"\",\"\",VLOOKUP(\"CM_D4791_Flat_Elong\",'Send Sync'!$K$56:$L$96,2,FALSE))","v":""},{"$f":"IF(BY149=\"\",\"\",\"SampleRecordTest Id 40\")","v":""},null,{"$f":"IF(BY149=\"\",\"\",CONCATENATE(\"<Data><cm_d4791_flat_elong_five_to_one>\",CO1116,\"</cm_d4791_flat_elong_five_to_one><cm_d4791_flat_elong_three_to_one>\",CO1117,\"</cm_d4791_flat_elong_three_to_one><cm_d4791_flat_elong_type>\",CO1118,\"</cm_d4791_flat_elong_type></Data>\"))","v":""},{"$f":"IF(BY149=\"\",\"\",TODAY())","v":""},{"$f":"IF(BY149=\"\",\"\",\"WTSYSTEMUSER\")","v":""},{"$f":"IF(BY149=\"\",\"\",TODAY())","v":""},{"$f":"IF(BY149=\"\",\"\",\"WTSYSTEMUSER\")","v":""},null,null,null,null,null,null,null,"",null,{"$f":"IF(BY7=\"\",\"\",\"AgencyEntityInsData Id 147\")","v":""},{"$f":"IF(BY7=\"\",\"\",\"AgencyEntityInstance Id 5\")","v":""},{"$f":"IF(BY7=\"\",\"\",\"cm_base_grad_T7_spec_01_1pt5_inch_max\")","v":""},{"$f":"IF(BY7=\"\",\"\",\"100\")","v":""},{"$f":"IF(BY7=\"\",\"\",TODAY())","v":""},{"$f":"IF(BY7=\"\",\"\",\"WTSYSTEMUSER\")","v":""},{"$f":"IF(BY7=\"\",\"\",TODAY())","v":""},{"$f":"IF(BY7=\"\",\"\",\"WTSYSTEMUSER\")","v":""}]
[null,null,null,null,null,null,null,null,null,null,null,null,null,null,null,null,null,null,null,null,null,null,null,null,null,null,null,null,null,null,null,null,null,null,null,null,null,null,null,null,null,null,null,null,null,null,null,null,null,null,null,null,null,null,null,null,null,null,null,null,null,null,null,null,null,null,null,null,null,null,null,null,null,null,null,null,{"$f":"IF(AH43=\"\",\"\",\"AgencyEntityInstance Id 148\")","v":""},{"$f":"IF(BY150=\"\",\"\",VLOOKUP(\"CM_D4791_Flat_Elong\",'Send Sync'!$K$56:$L$96,2,FALSE))","v":""},{"$f":"IF(BY150=\"\",\"\",\"SampleRecordTest Id 41\")","v":""},null,{"$f":"IF(BY150=\"\",\"\",CONCATENATE(\"<Data><cm_d4791_flat_elong_five_to_one>\",CO1119,\"</cm_d4791_flat_elong_five_to_one><cm_d4791_flat_elong_three_to_one>\",CO1120,\"</cm_d4791_flat_elong_three_to_one><cm_d4791_flat_elong_type>\",CO1121,\"</cm_d4791_flat_elong_type></Data>\"))","v":""},"","","","",null,null,null,null,null,null,null,"",null,{"$f":"IF(BY7=\"\",\"\",\"AgencyEntityInsData Id 148\")","v":""},{"$f":"IF(BY7=\"\",\"\",\"AgencyEntityInstance Id 5\")","v":""},{"$f":"IF(BY7=\"\",\"\",\"cm_base_grad_T7_spec_01_1pt5_inch_min\")","v":""},{"$f":"IF(BY7=\"\",\"\",\"100\")","v":""},{"$f":"IF(BY7=\"\",\"\",TODAY())","v":""},{"$f":"IF(BY7=\"\",\"\",\"WTSYSTEMUSER\")","v":""},{"$f":"IF(BY7=\"\",\"\",TODAY())","v":""},{"$f":"IF(BY7=\"\",\"\",\"WTSYSTEMUSER\")","v":""}]
[null,null,null,null,null,null,null,null,null,null,null,null,null,null,null,null,null,null,null,null,null,null,null,null,null,null,null,null,null,null,null,null,null,null,null,null,null,null,null,null,null,null,null,null,null,null,null,null,null,null,null,null,null,null,null,null,null,null,null,null,null,"",null,null,null,null,null,null,null,null,null,null,null,null,null,null,{"$f":"IF(AH44=\"\",\"\",\"AgencyEntityInstance Id 149\")","v":""},{"$f":"IF(BY151=\"\",\"\",VLOOKUP(\"CM_D4791_Flat_Elong\",'Send Sync'!$K$56:$L$96,2,FALSE))","v":""},{"$f":"IF(BY151=\"\",\"\",\"SampleRecordTest Id 42\")","v":""},null,{"$f":"IF(BY151=\"\",\"\",CONCATENATE(\"<Data><cm_d4791_flat_elong_five_to_one>\",CO1122,\"</cm_d4791_flat_elong_five_to_one><cm_d4791_flat_elong_three_to_one>\",CO1123,\"</cm_d4791_flat_elong_three_to_one><cm_d4791_flat_elong_type>\",CO1124,\"</cm_d4791_flat_elong_type></Data>\"))","v":""},"","","","",null,null,null,null,null,null,null,"",null,{"$f":"IF(BY7=\"\",\"\",\"AgencyEntityInsData Id 149\")","v":""},{"$f":"IF(BY7=\"\",\"\",\"AgencyEntityInstance Id 5\")","v":""},{"$f":"IF(BY7=\"\",\"\",\"cm_base_grad_T7_spec_02_inch_max\")","v":""},{"$f":"IF(BY7=\"\",\"\",\"100\")","v":""},{"$f":"IF(BY7=\"\",\"\",TODAY())","v":""},{"$f":"IF(BY7=\"\",\"\",\"WTSYSTEMUSER\")","v":""},{"$f":"IF(BY7=\"\",\"\",TODAY())","v":""},{"$f":"IF(BY7=\"\",\"\",\"WTSYSTEMUSER\")","v":""}]
[null,null,null,null,null,null,null,null,null,null,null,null,null,null,null,null,null,null,null,null,null,null,null,null,null,null,null,null,null,null,null,null,null,null,null,null,null,null,null,null,null,null,null,null,null,null,null,null,null,null,null,null,null,null,null,null,null,null,null,null,null,"",null,null,null,null,null,null,null,null,null,null,null,null,null,null,{"$f":"IF(AH45=\"\",\"\",\"AgencyEntityInstance Id 150\")","v":""},{"$f":"IF(BY152=\"\",\"\",VLOOKUP(\"CM_D4791_Flat_Elong\",'Send Sync'!$K$56:$L$96,2,FALSE))","v":""},{"$f":"IF(BY152=\"\",\"\",\"SampleRecordTest Id 43\")","v":""},null,{"$f":"IF(BY152=\"\",\"\",CONCATENATE(\"<Data><cm_d4791_flat_elong_five_to_one>\",CO1125,\"</cm_d4791_flat_elong_five_to_one><cm_d4791_flat_elong_three_to_one>\",CO1126,\"</cm_d4791_flat_elong_three_to_one><cm_d4791_flat_elong_type>\",CO1127,\"</cm_d4791_flat_elong_type></Data>\"))","v":""},"","","","",null,null,null,null,null,null,null,"",null,{"$f":"IF(BY7=\"\",\"\",\"AgencyEntityInsData Id 150\")","v":""},{"$f":"IF(BY7=\"\",\"\",\"AgencyEntityInstance Id 5\")","v":""},{"$f":"IF(BY7=\"\",\"\",\"cm_base_grad_T7_spec_02_inch_min\")","v":""},{"$f":"IF(BY7=\"\",\"\",\"70\")","v":""},{"$f":"IF(BY7=\"\",\"\",TODAY())","v":""},{"$f":"IF(BY7=\"\",\"\",\"WTSYSTEMUSER\")","v":""},{"$f":"IF(BY7=\"\",\"\",TODAY())","v":""},{"$f":"IF(BY7=\"\",\"\",\"WTSYSTEMUSER\")","v":""}]
[null,null,null,null,null,null,null,null,null,null,null,null,null,null,null,null,null,null,null,null,null,null,null,null,null,null,null,null,null,null,null,null,null,null,null,null,null,null,null,null,null,null,null,null,null,null,null,null,null,null,null,null,null,null,null,null,null,null,null,null,null,null,null,null,null,null,null,null,null,null,null,null,null,null,null,null,{"$f":"IF(AH46=\"\",\"\",\"AgencyEntityInstance Id 151\")","v":""},{"$f":"IF(BY153=\"\",\"\",VLOOKUP(\"CM_D4791_Flat_Elong\",'Send Sync'!$K$56:$L$96,2,FALSE))","v":""},{"$f":"IF(BY153=\"\",\"\",\"SampleRecordTest Id 44\")","v":""},null,{"$f":"IF(BY153=\"\",\"\",CONCATENATE(\"<Data><cm_d4791_flat_elong_five_to_one>\",CO1128,\"</cm_d4791_flat_elong_five_to_one><cm_d4791_flat_elong_three_to_one>\",CO1129,\"</cm_d4791_flat_elong_three_to_one><cm_d4791_flat_elong_type>\",CO1130,\"</cm_d4791_flat_elong_type></Data>\"))","v":""},"","","","",null,null,null,null,null,null,null,"",null,{"$f":"IF(BY7=\"\",\"\",\"AgencyEntityInsData Id 151\")","v":""},{"$f":"IF(BY7=\"\",\"\",\"AgencyEntityInstance Id 5\")","v":""},{"$f":"IF(BY7=\"\",\"\",\"cm_base_grad_T7_spec_03_no_8_max\")","v":""},{"$f":"IF(BY7=\"\",\"\",\"50\")","v":""},{"$f":"IF(BY7=\"\",\"\",TODAY())","v":""},{"$f":"IF(BY7=\"\",\"\",\"WTSYSTEMUSER\")","v":""},{"$f":"IF(BY7=\"\",\"\",TODAY())","v":""},{"$f":"IF(BY7=\"\",\"\",\"WTSYSTEMUSER\")","v":""}]
[null,null,null,null,null,null,null,null,null,null,null,null,null,null,null,null,null,null,null,null,null,null,null,null,null,null,null,null,null,null,null,null,null,null,null,null,null,null,null,null,null,null,null,null,null,null,null,null,null,null,null,null,null,null,null,null,null,null,null,null,null,null,null,null,null,null,null,null,null,null,null,null,null,null,null,null,{"$f":"IF(AH47=\"\",\"\",\"AgencyEntityInstance Id 152\")","v":""},{"$f":"IF(BY154=\"\",\"\",VLOOKUP(\"CM_QARetainedCompar\",'Send Sync'!$K$56:$L$96,2,FALSE))","v":""},{"$f":"IF(BY154=\"\",\"\",\"SampleRecordTest Id 45\")","v":""},null,{"$f":"IF(BY154=\"\",\"\",_xlfn.CONCAT(\"<Data><CM_QARetainedCompar_100Diff>\",CO1131,\"</CM_QARetainedCompar_100Diff><CM_QARetainedCompar_100QA>\",CO1132,\"</CM_QARetainedCompar_100QA><CM_QARetainedCompar_100QC>\",CO1133,\"</CM_QARetainedCompar_100QC><CM_QARetainedCompar_10Diff>\",CO1134,\"</CM_QARetainedCompar_10Diff><CM_QARetainedCompar_10QA>\",CO1135,\"</CM_QARetainedCompar_10QA><CM_QARetainedCompar_10QC>\",CO1136,\"</CM_QARetainedCompar_10QC><CM_QARetainedCompar_16Diff>\",CO1137,\"</CM_QARetainedCompar_16Diff><CM_QARetainedCompar_16QA>\",CO1138,\"</CM_QARetainedCompar_16QA><CM_QARetainedCompar_16QC>\",CO1139,\"</CM_QARetainedCompar_16QC><CM_QARetainedCompar_1and1HalfDiff>\",CO1140,\"</CM_QARetainedCompar_1and1HalfDiff><CM_QARetainedCompar_1and1HalfQA>\",CO1141,\"</CM_QARetainedCompar_1and1HalfQA><CM_QARetainedCompar_1and1HalfQC>\",CO1142,\"</CM_QARetainedCompar_1and1HalfQC><CM_QARetainedCompar_1halfDiff>\",CO1143,\"</CM_QARetainedCompar_1halfDiff><CM_QARetainedCompar_1halfQA>\",CO1144,\"</CM_QARetainedCompar_1halfQA><CM_QARetainedCompar_1halfQC>\",CO1145,\"</CM_QARetainedCompar_1halfQC><CM_QARetainedCompar_1inchDiff>\",CO1146,\"</CM_QARetainedCompar_1inchDiff><CM_QARetainedCompar_1inchQA>\",CO1147,\"</CM_QARetainedCompar_1inchQA><CM_QARetainedCompar_1inchQC>\",CO1148,\"</CM_QARetainedCompar_1inchQC><CM_QARetainedCompar_200Diff>\",CO1149,\"</CM_QARetainedCompar_200Diff><CM_QARetainedCompar_200QA>\",CO1150,\"</CM_QARetainedCompar_200QA><CM_QARetainedCompar_200QC>\",CO1151,\"</CM_QARetainedCompar_200QC><CM_QARetainedCompar_20Diff>\",CO1152,\"</CM_QARetainedCompar_20Diff><CM_QARetainedCompar_20QA>\",CO1153,\"</CM_QARetainedCompar_20QA><CM_QARetainedCompar_20QC>\",CO1154,\"</CM_QARetainedCompar_20QC><CM_QARetainedCompar_30Diff>\",CO1155,\"</CM_QARetainedCompar_30Diff><CM_QARetainedCompar_30QA>\",CO1156,\"</CM_QARetainedCompar_30QA><CM_QARetainedCompar_30QC>\",CO1157,\"</CM_QARetainedCompar_30QC><CM_QARetainedCompar_3eightsDiff>\",CO1158,\"</CM_QARetainedCompar_3eightsDiff><CM_QARetainedCompar_3eightsQA>\",CO1159,\"</CM_QARetainedCompar_3eightsQA><CM_QARetainedCompar_3eightsQC>\",CO1160,\"</CM_QARetainedCompar_3eightsQC><CM_QARetainedCompar_40Diff>\",CO1161,\"</CM_QARetainedCompar_40Diff><CM_QARetainedCompar_40QA>\",CO1162,\"</CM_QARetainedCompar_40QA><CM_QARetainedCompar_40QC>\",CO1163,\"</CM_QARetainedCompar_40QC><CM_QARetainedCompar_4Diff>\",CO1164,\"</CM_QARetainedCompar_4Diff><CM_QARetainedCompar_4QA>\",CO1165,\"</CM_QARetainedCompar_4QA><CM_QARetainedCompar_4QC>\",CO1166,\"</CM_QARetainedCompar_4QC><CM_QARetainedCompar_50Diff>\",CO1167,\"</CM_QARetainedCompar_50Diff><CM_QARetainedCompar_50QA>\",CO1168,\"</CM_QARetainedCompar_50QA><CM_QARetainedCompar_50QC>\",CO1169,\"</CM_QARetainedCompar_50QC><CM_QARetainedCompar_8Diff>\",CO1170,\"</CM_QARetainedCompar_8Diff><CM_QARetainedCompar_8QA>\",CO1171,\"</CM_QARetainedCompar_8QA><CM_QARetainedCompar_8QC>\",CO1172,\"</CM_QARetainedCompar_8QC><CM_QARetainedCompar_Title_Label>\",CO1173,\"</CM_QARetainedCompar_Title_Label><CM_QARetainedCompar3quarterDiff>\",CO1174,\"</CM_QARetainedCompar3quarterDiff><CM_QARetainedCompar3quarterQA>\",CO1175,\"</CM_QARetainedCompar3quarterQA><CM_QARetainedCompar3quarterQC>\",CO1176,\"</CM_QARetainedCompar3quarterQC><CM_QARetainedComparPH1></CM_QARetainedComparPH1><CM_QARetainedComparPH10></CM_QARetainedComparPH10><CM_QARetainedComparPH11></CM_QARetainedComparPH11><CM_QARetainedComparPH12></CM_QARetainedComparPH12>\",\"<CM_QARetainedComparPH13></CM_QARetainedComparPH13><CM_QARetainedComparPH14></CM_QARetainedComparPH14><CM_QARetainedComparPH15></CM_QARetainedComparPH15><CM_QARetainedComparPH16></CM_QARetainedComparPH16><CM_QARetainedComparPH17>\",\"</CM_QARetainedComparPH17><CM_QARetainedComparPH2></CM_QARetainedComparPH2><CM_QARetainedComparPH3></CM_QARetainedComparPH3><CM_QARetainedComparPH4></CM_QARetainedComparPH4><CM_QARetainedComparPH5>\",\"</CM_QARetainedComparPH5><CM_QARetainedComparPH6></CM_QARetainedComparPH6><CM_QARetainedComparPH7></CM_QARetainedComparPH7><CM_QARetainedComparPH8></CM_QARetainedComparPH8><CM_QARetainedComparPH9></CM_QARetainedComparPH9></Data>\"))","v":""},{"$f":"IF(BY154=\"\",\"\",TODAY())","v":""},{"$f":"IF(BY154=\"\",\"\",\"WTSYSTEMUSER\")","v":""},{"$f":"IF(BY154=\"\",\"\",TODAY())","v":""},{"$f":"IF(BY154=\"\",\"\",\"WTSYSTEMUSER\")","v":""},null,null,null,null,null,null,null,"",null,{"$f":"IF(BY7=\"\",\"\",\"AgencyEntityInsData Id 152\")","v":""},{"$f":"IF(BY7=\"\",\"\",\"AgencyEntityInstance Id 5\")","v":""},{"$f":"IF(BY7=\"\",\"\",\"cm_base_grad_T7_spec_03_no_8_min\")","v":""},{"$f":"IF(BY7=\"\",\"\",\"15\")","v":""},{"$f":"IF(BY7=\"\",\"\",TODAY())","v":""},{"$f":"IF(BY7=\"\",\"\",\"WTSYSTEMUSER\")","v":""},{"$f":"IF(BY7=\"\",\"\",TODAY())","v":""},{"$f":"IF(BY7=\"\",\"\",\"WTSYSTEMUSER\")","v":""}]
[null,null,null,null,null,null,null,null,null,null,null,null,null,null,null,null,null,null,null,null,null,null,null,null,null,null,null,null,null,null,null,null,null,null,null,null,null,null,null,null,null,null,null,null,null,null,null,null,null,null,null,null,null,null,null,null,null,null,null,null,null,null,null,null,null,null,null,null,null,null,null,null,null,null,null,null,{"$f":"IF(AH48=\"\",\"\",\"AgencyEntityInstance Id 153\")","v":""},{"$f":"IF(BY155=\"\",\"\",VLOOKUP(\"CM_QARetainedCompar\",'Send Sync'!$K$56:$L$96,2,FALSE))","v":""},{"$f":"IF(BY155=\"\",\"\",\"SampleRecordTest Id 46\")","v":""},null,{"$f":"IF(BY155=\"\",\"\",_xlfn.CONCAT(\"<Data><CM_QARetainedCompar_100Diff>\",CO1194,\"</CM_QARetainedCompar_100Diff><CM_QARetainedCompar_100QA>\",CO1195,\"</CM_QARetainedCompar_100QA><CM_QARetainedCompar_100QC>\",CO1196,\"</CM_QARetainedCompar_100QC><CM_QARetainedCompar_10Diff>\",CO1197,\"</CM_QARetainedCompar_10Diff><CM_QARetainedCompar_10QA>\",CO1198,\"</CM_QARetainedCompar_10QA><CM_QARetainedCompar_10QC>\",CO1199,\"</CM_QARetainedCompar_10QC><CM_QARetainedCompar_16Diff>\",CO1200,\"</CM_QARetainedCompar_16Diff><CM_QARetainedCompar_16QA>\",CO1201,\"</CM_QARetainedCompar_16QA><CM_QARetainedCompar_16QC>\",CO1202,\"</CM_QARetainedCompar_16QC><CM_QARetainedCompar_1and1HalfDiff>\",CO1203,\"</CM_QARetainedCompar_1and1HalfDiff><CM_QARetainedCompar_1and1HalfQA>\",CO1204,\"</CM_QARetainedCompar_1and1HalfQA><CM_QARetainedCompar_1and1HalfQC>\",CO1205,\"</CM_QARetainedCompar_1and1HalfQC><CM_QARetainedCompar_1halfDiff>\",CO1206,\"</CM_QARetainedCompar_1halfDiff><CM_QARetainedCompar_1halfQA>\",CO1207,\"</CM_QARetainedCompar_1halfQA><CM_QARetainedCompar_1halfQC>\",CO1208,\"</CM_QARetainedCompar_1halfQC><CM_QARetainedCompar_1inchDiff>\",CO1209,\"</CM_QARetainedCompar_1inchDiff><CM_QARetainedCompar_1inchQA>\",CO1210,\"</CM_QARetainedCompar_1inchQA><CM_QARetainedCompar_1inchQC>\",CO1211,\"</CM_QARetainedCompar_1inchQC><CM_QARetainedCompar_200Diff>\",CO1212,\"</CM_QARetainedCompar_200Diff><CM_QARetainedCompar_200QA>\",CO1213,\"</CM_QARetainedCompar_200QA><CM_QARetainedCompar_200QC>\",CO1214,\"</CM_QARetainedCompar_200QC><CM_QARetainedCompar_20Diff>\",CO1215,\"</CM_QARetainedCompar_20Diff><CM_QARetainedCompar_20QA>\",CO1216,\"</CM_QARetainedCompar_20QA><CM_QARetainedCompar_20QC>\",CO1217,\"</CM_QARetainedCompar_20QC><CM_QARetainedCompar_30Diff>\",CO1218,\"</CM_QARetainedCompar_30Diff><CM_QARetainedCompar_30QA>\",CO1219,\"</CM_QARetainedCompar_30QA><CM_QARetainedCompar_30QC>\",CO1220,\"</CM_QARetainedCompar_30QC><CM_QARetainedCompar_3eightsDiff>\",CO1221,\"</CM_QARetainedCompar_3eightsDiff><CM_QARetainedCompar_3eightsQA>\",CO1222,\"</CM_QARetainedCompar_3eightsQA><CM_QARetainedCompar_3eightsQC>\",CO1223,\"</CM_QARetainedCompar_3eightsQC><CM_QARetainedCompar_40Diff>\",CO1224,\"</CM_QARetainedCompar_40Diff><CM_QARetainedCompar_40QA>\",CO1225,\"</CM_QARetainedCompar_40QA><CM_QARetainedCompar_40QC>\",CO1226,\"</CM_QARetainedCompar_40QC><CM_QARetainedCompar_4Diff>\",CO1227,\"</CM_QARetainedCompar_4Diff><CM_QARetainedCompar_4QA>\",CO1228,\"</CM_QARetainedCompar_4QA><CM_QARetainedCompar_4QC>\",CO1229,\"</CM_QARetainedCompar_4QC><CM_QARetainedCompar_50Diff>\",CO1230,\"</CM_QARetainedCompar_50Diff><CM_QARetainedCompar_50QA>\",CO1231,\"</CM_QARetainedCompar_50QA><CM_QARetainedCompar_50QC>\",CO1232,\"</CM_QARetainedCompar_50QC><CM_QARetainedCompar_8Diff>\",CO1233,\"</CM_QARetainedCompar_8Diff><CM_QARetainedCompar_8QA>\",CO1234,\"</CM_QARetainedCompar_8QA><CM_QARetainedCompar_8QC>\",CO1235,\"</CM_QARetainedCompar_8QC><CM_QARetainedCompar_Title_Label>\",CO1236,\"</CM_QARetainedCompar_Title_Label><CM_QARetainedCompar3quarterDiff>\",CO1237,\"</CM_QARetainedCompar3quarterDiff><CM_QARetainedCompar3quarterQA>\",CO1238,\"</CM_QARetainedCompar3quarterQA><CM_QARetainedCompar3quarterQC>\",CO1239,\"</CM_QARetainedCompar3quarterQC><CM_QARetainedComparPH1>\",\"</CM_QARetainedComparPH1><CM_QARetainedComparPH10>\",\"</CM_QARetainedComparPH10><CM_QARetainedComparPH11>\",\"</CM_QARetainedComparPH11><CM_QARetainedComparPH12>\",\"</CM_QARetainedComparPH12><CM_QARetainedComparPH13>\",\"</CM_QARetainedComparPH13><CM_QARetainedComparPH14>\",\"</CM_QARetainedComparPH14><CM_QARetainedComparPH15>\",\"</CM_QARetainedComparPH15><CM_QARetainedComparPH16>\",\"</CM_QARetainedComparPH16><CM_QARetainedComparPH17>\",\"</CM_QARetainedComparPH17><CM_QARetainedComparPH2>\",\"</CM_QARetainedComparPH2><CM_QARetainedComparPH3>\",\"</CM_QARetainedComparPH3><CM_QARetainedComparPH4>\",\"</CM_QARetainedComparPH4><CM_QARetainedComparPH5>\",\"</CM_QARetainedComparPH5><CM_QARetainedComparPH6>\",\"</CM_QARetainedComparPH6><CM_QARetainedComparPH7>\",\"</CM_QARetainedComparPH7><CM_QARetainedComparPH8>\",\"</CM_QARetainedComparPH8><CM_QARetainedComparPH9>\",\"</CM_QARetainedComparPH9></Data>\"))","v":""},"","","","",null,null,null,null,null,null,null,"",null,{"$f":"IF(BY7=\"\",\"\",\"AgencyEntityInsData Id 153\")","v":""},{"$f":"IF(BY7=\"\",\"\",\"AgencyEntityInstance Id 5\")","v":""},{"$f":"IF(BY7=\"\",\"\",\"cm_base_grad_T7_spec_05_no_200_max\")","v":""},{"$f":"IF(BY7=\"\",\"\",\"12\")","v":""},{"$f":"IF(BY7=\"\",\"\",TODAY())","v":""},{"$f":"IF(BY7=\"\",\"\",\"WTSYSTEMUSER\")","v":""},{"$f":"IF(BY7=\"\",\"\",TODAY())","v":""},{"$f":"IF(BY7=\"\",\"\",\"WTSYSTEMUSER\")","v":""}]
[null,null,null,null,null,null,null,null,null,null,null,null,null,null,null,null,null,null,null,null,null,null,null,null,null,null,null,null,null,null,null,null,null,null,null,null,null,null,null,null,null,null,null,null,null,null,null,null,null,null,null,null,null,null,null,null,null,null,null,null,null,null,null,null,null,null,null,null,null,null,null,null,null,null,null,null,{"$f":"IF(AH49=\"\",\"\",\"AgencyEntityInstance Id 154\")","v":""},{"$f":"IF(BY156=\"\",\"\",VLOOKUP(\"CM_QARetainedDel\",'Send Sync'!$K$56:$L$96,2,FALSE))","v":""},{"$f":"IF(BY156=\"\",\"\",\"SampleRecordTest Id 47\")","v":""},null,{"$f":"IF(BY156=\"\",\"\",_xlfn.CONCAT(\"<Data><CM_QARetainedDel_200Diff>\",CO1257,\"</CM_QARetainedDel_200Diff><CM_QARetainedDel_200Lab>\",CO1258,\"</CM_QARetainedDel_200Lab><CM_QARetainedDel_200QA>\",CO1259,\"</CM_QARetainedDel_200QA><CM_QARetainedDel_ChertDiff>\",CO1260,\"</CM_QARetainedDel_ChertDiff><CM_QARetainedDel_ChertLab>\",CO1261,\"</CM_QARetainedDel_ChertLab><CM_QARetainedDel_ChertQA>\",CO1262,\"</CM_QARetainedDel_ChertQA><CM_QARetainedDel_ClaySHDiff>\",CO1263,\"</CM_QARetainedDel_ClaySHDiff><CM_QARetainedDel_ClaySHLab>\",CO1264,\"</CM_QARetainedDel_ClaySHLab><CM_QARetainedDel_ClaySHQA>\",CO1265,\"</CM_QARetainedDel_ClaySHQA><CM_QARetainedDel_CLDiff>\",CO1266,\"</CM_QARetainedDel_CLDiff><CM_QARetainedDel_CLLab>\",CO1267,\"</CM_QARetainedDel_CLLab><CM_QARetainedDel_CLQA>\",CO1268,\"</CM_QARetainedDel_CLQA><CM_QARetainedDel_CUDDiff>\",CO1269,\"</CM_QARetainedDel_CUDDiff><CM_QARetainedDel_CUDLab>\",CO1270,\"</CM_QARetainedDel_CUDLab><CM_QARetainedDel_CUDQA>\",CO1271,\"</CM_QARetainedDel_CUDQA><CM_QARetainedDel_DelRockDiff>\",CO1272,\"</CM_QARetainedDel_DelRockDiff><CM_QARetainedDel_DelRockLab>\",CO1273,\"</CM_QARetainedDel_DelRockLab><CM_QARetainedDel_DelRockQA>\",CO1274,\"</CM_QARetainedDel_DelRockQA><CM_QARetainedDel_MbShDiff>\",CO1275,\"</CM_QARetainedDel_MbShDiff><CM_QARetainedDel_MbShLab>\",CO1276,\"</CM_QARetainedDel_MbShLab><CM_QARetainedDel_MbShQA>\",CO1277,\"</CM_QARetainedDel_MbShQA><CM_QARetainedDel_Note>\",CO1278,\"</CM_QARetainedDel_Note><CM_QARetainedDel_OFMDiff>\",CO1279,\"</CM_QARetainedDel_OFMDiff><CM_QARetainedDel_OFMLab>\",CO1280,\"</CM_QARetainedDel_OFMLab><CM_QARetainedDel_OFMQA>\",CO1281,\"</CM_QARetainedDel_OFMQA><CM_QARetainedDel_PH1>\",CO1282,\"</CM_QARetainedDel_PH1><CM_QARetainedDel_PH2>\",CO1283,\"</CM_QARetainedDel_PH2><CM_QARetainedDel_PH3>\",CO1284,\"</CM_QARetainedDel_PH3><CM_QARetainedDel_PH4>\",CO1285,\"</CM_QARetainedDel_PH4><CM_QARetainedDel_ShaleDiff>\",CO1286,\"</CM_QARetainedDel_ShaleDiff><CM_QARetainedDel_ShaleLab>\",CO1287,\"</CM_QARetainedDel_ShaleLab><CM_QARetainedDel_ShaleQA>\",CO1288,\"</CM_QARetainedDel_ShaleQA><CM_QARetainedDel_TDelDiff>\",CO1289,\"</CM_QARetainedDel_TDelDiff><CM_QARetainedDel_TDelLab>\",CO1290,\"</CM_QARetainedDel_TDelLab><CM_QARetainedDel_TDelQA>\",CO1291,\"</CM_QARetainedDel_TDelQA><CM_QARetainedDel_TEDiff>\",CO1292,\"</CM_QARetainedDel_TEDiff><CM_QARetainedDel_TELab>\",CO1293,\"</CM_QARetainedDel_TELab><CM_QARetainedDel_TEQA>\",CO1294,\"</CM_QARetainedDel_TEQA><CM_QARetainedDel_Title_Label>\",CO1295,\"</CM_QARetainedDel_Title_Label><CM_QARetainedDel_TotalLwDiff>\",CO1296,\"</CM_QARetainedDel_TotalLwDiff><CM_QARetainedDel_TotalLwLab>\",CO1297,\"</CM_QARetainedDel_TotalLwLab><CM_QARetainedDel_TotalLwQA>\",CO1298,\"</CM_QARetainedDel_TotalLwQA></Data>\"))","v":""},"","","","",null,null,null,null,null,null,null,"",null,{"$f":"IF(BY7=\"\",\"\",\"AgencyEntityInsData Id 154\")","v":""},{"$f":"IF(BY7=\"\",\"\",\"AgencyEntityInstance Id 5\")","v":""},{"$f":"IF(BY7=\"\",\"\",\"cm_base_grad_T7_spec_05_no_200_min\")","v":""},{"$f":"IF(BY7=\"\",\"\",\"0\")","v":""},{"$f":"IF(BY7=\"\",\"\",TODAY())","v":""},{"$f":"IF(BY7=\"\",\"\",\"WTSYSTEMUSER\")","v":""},{"$f":"IF(BY7=\"\",\"\",TODAY())","v":""},{"$f":"IF(BY7=\"\",\"\",\"WTSYSTEMUSER\")","v":""}]
[null,null,null,null,null,null,null,null,null,null,null,null,null,null,null,null,null,null,null,null,null,null,null,null,null,null,null,null,null,null,null,null,null,null,null,null,null,null,null,null,null,null,null,null,null,null,null,null,null,null,null,null,null,null,null,null,null,null,null,null,null,null,null,null,null,null,null,null,null,null,null,null,null,null,null,null,{"$f":"IF(AH50=\"\",\"\",\"AgencyEntityInstance Id 155\")","v":""},{"$f":"IF(BY157=\"\",\"\",VLOOKUP(\"CM_QARetainedDel\",'Send Sync'!$K$56:$L$96,2,FALSE))","v":""},{"$f":"IF(BY157=\"\",\"\",\"SampleRecordTest Id 48\")","v":""},null,{"$f":"IF(BY157=\"\",\"\",_xlfn.CONCAT(\"<Data><CM_QARetainedDel_200Diff>\",CO1299,\"</CM_QARetainedDel_200Diff><CM_QARetainedDel_200Lab>\",CO1300,\"</CM_QARetainedDel_200Lab><CM_QARetainedDel_200QA>\",CO1301,\"</CM_QARetainedDel_200QA><CM_QARetainedDel_ChertDiff>\",CO1302,\"</CM_QARetainedDel_ChertDiff><CM_QARetainedDel_ChertLab>\",CO1303,\"</CM_QARetainedDel_ChertLab><CM_QARetainedDel_ChertQA>\",CO1304,\"</CM_QARetainedDel_ChertQA><CM_QARetainedDel_ClaySHDiff>\",CO1305,\"</CM_QARetainedDel_ClaySHDiff><CM_QARetainedDel_ClaySHLab>\",CO1306,\"</CM_QARetainedDel_ClaySHLab><CM_QARetainedDel_ClaySHQA>\",CO1307,\"</CM_QARetainedDel_ClaySHQA><CM_QARetainedDel_CLDiff>\",CO1308,\"</CM_QARetainedDel_CLDiff><CM_QARetainedDel_CLLab>\",CO1309,\"</CM_QARetainedDel_CLLab><CM_QARetainedDel_CLQA>\",CO1310,\"</CM_QARetainedDel_CLQA><CM_QARetainedDel_CUDDiff>\",CO1311,\"</CM_QARetainedDel_CUDDiff><CM_QARetainedDel_CUDLab>\",CO1312,\"</CM_QARetainedDel_CUDLab><CM_QARetainedDel_CUDQA>\",CO1313,\"</CM_QARetainedDel_CUDQA><CM_QARetainedDel_DelRockDiff>\",CO1314,\"</CM_QARetainedDel_DelRockDiff><CM_QARetainedDel_DelRockLab>\",CO1315,\"</CM_QARetainedDel_DelRockLab><CM_QARetainedDel_DelRockQA>\",CO1316,\"</CM_QARetainedDel_DelRockQA><CM_QARetainedDel_MbShDiff>\",CO1317,\"</CM_QARetainedDel_MbShDiff><CM_QARetainedDel_MbShLab>\",CO1318,\"</CM_QARetainedDel_MbShLab><CM_QARetainedDel_MbShQA>\",CO1319,\"</CM_QARetainedDel_MbShQA><CM_QARetainedDel_Note>\",CO1320,\"</CM_QARetainedDel_Note><CM_QARetainedDel_OFMDiff>\",CO1321,\"</CM_QARetainedDel_OFMDiff><CM_QARetainedDel_OFMLab>\",CO1322,\"</CM_QARetainedDel_OFMLab><CM_QARetainedDel_OFMQA>\",CO1323,\"</CM_QARetainedDel_OFMQA><CM_QARetainedDel_PH1>\",CO1324,\"</CM_QARetainedDel_PH1><CM_QARetainedDel_PH2>\",CO1325,\"</CM_QARetainedDel_PH2><CM_QARetainedDel_PH3>\",CO1326,\"</CM_QARetainedDel_PH3><CM_QARetainedDel_PH4>\",CO1327,\"</CM_QARetainedDel_PH4><CM_QARetainedDel_ShaleDiff>\",CO1328,\"</CM_QARetainedDel_ShaleDiff><CM_QARetainedDel_ShaleLab>\",CO1329,\"</CM_QARetainedDel_ShaleLab><CM_QARetainedDel_ShaleQA>\",CO1330,\"</CM_QARetainedDel_ShaleQA><CM_QARetainedDel_TDelDiff>\",CO1331,\"</CM_QARetainedDel_TDelDiff><CM_QARetainedDel_TDelLab>\",CO1332,\"</CM_QARetainedDel_TDelLab><CM_QARetainedDel_TDelQA>\",CO1333,\"</CM_QARetainedDel_TDelQA><CM_QARetainedDel_TEDiff>\",CO1334,\"</CM_QARetainedDel_TEDiff><CM_QARetainedDel_TELab>\",CO1335,\"</CM_QARetainedDel_TELab><CM_QARetainedDel_TEQA>\",CO1336,\"</CM_QARetainedDel_TEQA><CM_QARetainedDel_Title_Label>\",CO1337,\"</CM_QARetainedDel_Title_Label><CM_QARetainedDel_TotalLwDiff>\",CO1338,\"</CM_QARetainedDel_TotalLwDiff><CM_QARetainedDel_TotalLwLab>\",CO1339,\"</CM_QARetainedDel_TotalLwLab><CM_QARetainedDel_TotalLwQA>\",CO1340,\"</CM_QARetainedDel_TotalLwQA></Data>\"))","v":""},"","","","",null,null,null,null,null,null,null,"",null,{"$f":"IF(BY8=\"\",\"\",\"AgencyEntityInsData Id 155\")","v":""},{"$f":"IF(BY8=\"\",\"\",\"AgencyEntityInstance Id 6\")","v":""},{"$f":"IF(BY8=\"\",\"\",\"cm_base_grad_T7_01_1pt5_inch\")","v":""},{"$f":"IF(BY8=\"\",\"\",IF('Test 1'!$AH25=0,\"\",'Test 1'!$AH25))","v":""},{"$f":"IF(BY8=\"\",\"\",TODAY())","v":""},{"$f":"IF(BY8=\"\",\"\",\"WTSYSTEMUSER\")","v":""},{"$f":"IF(BY8=\"\",\"\",TODAY())","v":""},{"$f":"IF(BY8=\"\",\"\",\"WTSYSTEMUSER\")","v":""}]
[null,null,null,null,null,null,null,null,null,null,null,null,null,null,null,null,null,null,null,null,null,null,null,null,null,null,null,null,null,null,null,null,null,null,null,null,null,null,null,null,null,null,null,null,null,null,null,null,null,null,null,null,null,null,null,null,null,null,null,null,null,null,null,null,null,null,null,null,null,null,null,null,null,null,null,null,{"$f":"IF(AH51=\"\",\"\",\"AgencyEntityInstance Id 156\")","v":""},{"$f":"IF(BY158=\"\",\"\",VLOOKUP(\"CM_QCQA_AbsComp\",'Send Sync'!$K$56:$L$96,2,FALSE))","v":""},{"$f":"IF(BY158=\"\",\"\",\"SampleRecordTest Id 49\")","v":""},null,{"$f":"IF(BY158=\"\",\"\",_xlfn.CONCAT(\"<Data><CM_QCQA_AbsComp_Abs_QA>\",CO1341,\"</CM_QCQA_AbsComp_Abs_QA><CM_QCQA_AbsComp_Abs_QC>\",CO1342,\"</CM_QCQA_AbsComp_Abs_QC><CM_QCQA_AbsComp_Diff>\",CO1343,\"</CM_QCQA_AbsComp_Diff><CM_QCQA_AbsComp_MaterialType>\",CO1344,\"</CM_QCQA_AbsComp_MaterialType><CM_QCQA_AbsComp_PH1>\",CO1345,\"</CM_QCQA_AbsComp_PH1><CM_QCQA_AbsComp_PH2>\",CO1346,\"</CM_QCQA_AbsComp_PH2><CM_QCQA_AbsComp_PH3>\",CO1347,\"</CM_QCQA_AbsComp_PH3><CM_QCQA_AbsComp_PH4>\",CO1348,\"</CM_QCQA_AbsComp_PH4><CM_QCQA_AbsComp_PH5>\",CO1349,\"</CM_QCQA_AbsComp_PH5><CM_QCQA_AbsComp_PH6>\",CO1350,\"</CM_QCQA_AbsComp_PH6><CM_QCQA_AbsComp_Title_Label>\",CO1351,\"</CM_QCQA_AbsComp_Title_Label><CM_QCQA_AbsComp_WtDryQA>\",CO1352,\"</CM_QCQA_AbsComp_WtDryQA><CM_QCQA_AbsComp_WtDryQC>\",CO1353,\"</CM_QCQA_AbsComp_WtDryQC><CM_QCQA_AbsComp_WtSurfDryQA>\",CO1354,\"</CM_QCQA_AbsComp_WtSurfDryQA><CM_QCQA_AbsComp_WtSurfDryQC>\",CO1355,\"</CM_QCQA_AbsComp_WtSurfDryQC></Data>\"))","v":""},"","","","",null,null,null,null,null,null,null,"",null,{"$f":"IF(BY8=\"\",\"\",\"AgencyEntityInsData Id 156\")","v":""},{"$f":"IF(BY8=\"\",\"\",\"AgencyEntityInstance Id 6\")","v":""},{"$f":"IF(BY8=\"\",\"\",\"cm_base_grad_T7_02_inch\")","v":""},{"$f":"IF(BY8=\"\",\"\",IF('Test 1'!$AH26=0,\"\",'Test 1'!$AH26))","v":""},{"$f":"IF(BY8=\"\",\"\",TODAY())","v":""},{"$f":"IF(BY8=\"\",\"\",\"WTSYSTEMUSER\")","v":""},{"$f":"IF(BY8=\"\",\"\",TODAY())","v":""},{"$f":"IF(BY8=\"\",\"\",\"WTSYSTEMUSER\")","v":""}]
[null,null,null,null,null,null,null,null,null,null,null,null,null,null,null,null,null,null,null,null,null,null,null,null,null,null,null,null,null,null,null,null,null,null,null,null,null,null,null,null,null,null,null,null,null,null,null,null,null,null,null,null,null,null,null,null,null,null,null,null,null,null,null,null,null,null,null,null,null,null,null,null,null,null,null,null,{"$f":"IF(AH52=\"\",\"\",\"AgencyEntityInstance Id 157\")","v":""},{"$f":"IF(BY159=\"\",\"\",VLOOKUP(\"CM_QCQA_AbsComp\",'Send Sync'!$K$56:$L$96,2,FALSE))","v":""},{"$f":"IF(BY159=\"\",\"\",\"SampleRecordTest Id 50\")","v":""},null,{"$f":"IF(BY159=\"\",\"\",_xlfn.CONCAT(\"<Data><CM_QCQA_AbsComp_Abs_QA>\",CO1356,\"</CM_QCQA_AbsComp_Abs_QA><CM_QCQA_AbsComp_Abs_QC>\",CO1357,\"</CM_QCQA_AbsComp_Abs_QC><CM_QCQA_AbsComp_Diff>\",CO1358,\"</CM_QCQA_AbsComp_Diff><CM_QCQA_AbsComp_MaterialType>\",CO1359,\"</CM_QCQA_AbsComp_MaterialType><CM_QCQA_AbsComp_PH1>\",CO1360,\"</CM_QCQA_AbsComp_PH1><CM_QCQA_AbsComp_PH2>\",CO1361,\"</CM_QCQA_AbsComp_PH2><CM_QCQA_AbsComp_PH3>\",CO1362,\"</CM_QCQA_AbsComp_PH3><CM_QCQA_AbsComp_PH4>\",CO1363,\"</CM_QCQA_AbsComp_PH4><CM_QCQA_AbsComp_PH5>\",CO1364,\"</CM_QCQA_AbsComp_PH5><CM_QCQA_AbsComp_PH6>\",CO1365,\"</CM_QCQA_AbsComp_PH6><CM_QCQA_AbsComp_Title_Label>\",CO1366,\"</CM_QCQA_AbsComp_Title_Label><CM_QCQA_AbsComp_WtDryQA>\",CO1367,\"</CM_QCQA_AbsComp_WtDryQA><CM_QCQA_AbsComp_WtDryQC>\",CO1368,\"</CM_QCQA_AbsComp_WtDryQC><CM_QCQA_AbsComp_WtSurfDryQA>\",CO1369,\"</CM_QCQA_AbsComp_WtSurfDryQA><CM_QCQA_AbsComp_WtSurfDryQC>\",CO1370,\"</CM_QCQA_AbsComp_WtSurfDryQC></Data>\"))","v":""},"","","","",null,null,null,null,null,null,null,"",null,{"$f":"IF(BY8=\"\",\"\",\"AgencyEntityInsData Id 157\")","v":""},{"$f":"IF(BY8=\"\",\"\",\"AgencyEntityInstance Id 6\")","v":""},{"$f":"IF(BY8=\"\",\"\",\"cm_base_grad_T7_03_no_8\")","v":""},{"$f":"IF(BY8=\"\",\"\",IF('Test 1'!$AH27=0,\"\",'Test 1'!$AH27))","v":""},{"$f":"IF(BY8=\"\",\"\",TODAY())","v":""},{"$f":"IF(BY8=\"\",\"\",\"WTSYSTEMUSER\")","v":""},{"$f":"IF(BY8=\"\",\"\",TODAY())","v":""},{"$f":"IF(BY8=\"\",\"\",\"WTSYSTEMUSER\")","v":""}]
[null,null,null,null,null,null,null,null,null,null,null,null,null,null,null,null,null,null,null,null,null,null,null,null,null,null,null,null,null,null,null,null,null,null,null,null,null,null,null,null,null,null,null,null,null,null,null,null,null,null,null,null,null,null,null,null,null,null,null,null,null,null,null,null,null,null,null,null,null,null,null,null,null,null,null,null,{"$f":"IF(AH53=\"\",\"\",\"AgencyEntityInstance Id 158\")","v":""},{"$f":"IF(BY160=\"\",\"\",VLOOKUP(\"CM_QCQABaseCompData\",'Send Sync'!$K$56:$L$96,2,FALSE))","v":""},{"$f":"IF(BY160=\"\",\"\",\"SampleRecordTest Id 51\")","v":""},null,{"$f":"IF(BY160=\"\",\"\",_xlfn.CONCAT(\"<Data><CM_QCQABaseCompData1_Diff>\",CO1371,\"</CM_QCQABaseCompData1_Diff><CM_QCQABaseCompData1_QA>\",CO1372,\"</CM_QCQABaseCompData1_QA><CM_QCQABaseCompData1_QC>\",CO1373,\"</CM_QCQABaseCompData1_QC><CM_QCQABaseCompData1and1half_Diff>\",CO1374,\"</CM_QCQABaseCompData1and1half_Diff><CM_QCQABaseCompData1and1half_QA>\",CO1375,\"</CM_QCQABaseCompData1and1half_QA><CM_QCQABaseCompData1and1half_QC>\",CO1376,\"</CM_QCQABaseCompData1and1half_QC><CM_QCQABaseCompData1half_Diff>\",CO1377,\"</CM_QCQABaseCompData1half_Diff><CM_QCQABaseCompData1half_QA>\",CO1378,\"</CM_QCQABaseCompData1half_QA><CM_QCQABaseCompData1half_QC>\",CO1379,\"</CM_QCQABaseCompData1half_QC><CM_QCQABaseCompData3Quarters_Diff>\",CO1380,\"</CM_QCQABaseCompData3Quarters_Diff><CM_QCQABaseCompData3Quarters_QA>\",CO1381,\"</CM_QCQABaseCompData3Quarters_QA><CM_QCQABaseCompData3Quarters_QC>\",CO1382,\"</CM_QCQABaseCompData3Quarters_QC><CM_QCQABaseCompDataNum100_Diff>\",CO1383,\"</CM_QCQABaseCompDataNum100_Diff><CM_QCQABaseCompDataNum100_QA>\",CO1384,\"</CM_QCQABaseCompDataNum100_QA><CM_QCQABaseCompDataNum100_QC>\",CO1385,\"</CM_QCQABaseCompDataNum100_QC><CM_QCQABaseCompDataNum10_Diff>\",CO1386,\"</CM_QCQABaseCompDataNum10_Diff><CM_QCQABaseCompDataNum10_QA>\",CO1387,\"</CM_QCQABaseCompDataNum10_QA><CM_QCQABaseCompDataNum10_QC>\",CO1388,\"</CM_QCQABaseCompDataNum10_QC><CM_QCQABaseCompDataNum200_Diff>\",CO1389,\"</CM_QCQABaseCompDataNum200_Diff><CM_QCQABaseCompDataNum200_QA>\",CO1390,\"</CM_QCQABaseCompDataNum200_QA><CM_QCQABaseCompDataNum200_QC>\",CO1391,\"</CM_QCQABaseCompDataNum200_QC><CM_QCQABaseCompDataNum30_Diff>\",CO1392,\"</CM_QCQABaseCompDataNum30_Diff><CM_QCQABaseCompDataNum30_QA>\",CO1393,\"</CM_QCQABaseCompDataNum30_QA><CM_QCQABaseCompDataNum30_QC>\",CO1394,\"</CM_QCQABaseCompDataNum30_QC><CM_QCQABaseCompDataNum40_Diff>\",CO1395,\"</CM_QCQABaseCompDataNum40_Diff><CM_QCQABaseCompDataNum40_QA>\",CO1396,\"</CM_QCQABaseCompDataNum40_QA><CM_QCQABaseCompDataNum40_QC>\",CO1397,\"</CM_QCQABaseCompDataNum40_QC><CM_QCQABaseCompDataNum4_Diff>\",CO1398,\"</CM_QCQABaseCompDataNum4_Diff><CM_QCQABaseCompDataNum4_QA>\",CO1399,\"</CM_QCQABaseCompDataNum4_QA><CM_QCQABaseCompDataNum4_QC>\",CO1400,\"</CM_QCQABaseCompDataNum4_QC><CM_QCQABaseCompDataNum8_Diff>\",CO1401,\"</CM_QCQABaseCompDataNum8_Diff><CM_QCQABaseCompDataNum8_QA>\",CO1402,\"</CM_QCQABaseCompDataNum8_QA><CM_QCQABaseCompDataNum8_QC>\",CO1403,\"</CM_QCQABaseCompDataNum8_QC><CM_QCQABaseCompData_1Placeholder>\",CO1404,\"</CM_QCQABaseCompData_1Placeholder><CM_QCQABaseCompData_2Placeholder>\",CO1405,\"</CM_QCQABaseCompData_2Placeholder><CM_QCQABaseCompData_3Placeholder>\",CO1406,\"</CM_QCQABaseCompData_3Placeholder><CM_QCQABaseCompData_4Placeholder>\",CO1407,\"</CM_QCQABaseCompData_4Placeholder><CM_QCQABaseCompData_5Placeholder>\",CO1408,\"</CM_QCQABaseCompData_5Placeholder><CM_QCQABaseCompData_6Placeholder>\",CO1409,\"</CM_QCQABaseCompData_6Placeholder><CM_QCQABaseCompData_7Placeholder>\",CO1410,\"</CM_QCQABaseCompData_7Placeholder><CM_QCQABaseCompData_8Placeholder>\",CO1411,\"</CM_QCQABaseCompData_8Placeholder><CM_QCQABaseCompData_Del_Diff>\",CO1412,\"</CM_QCQABaseCompData_Del_Diff><CM_QCQABaseCompData_Del_QA>\",CO1413,\"</CM_QCQABaseCompData_Del_QA><CM_QCQABaseCompData_Del_QC>\",CO1414,\"</CM_QCQABaseCompData_Del_QC><CM_QCQABaseCompData_DensityDiff>\",CO1415,\"</CM_QCQABaseCompData_DensityDiff><CM_QCQABaseCompData_DensityQA>\",CO1416,\"</CM_QCQABaseCompData_DensityQA><CM_QCQABaseCompData_DensityQC>\",CO1417,\"</CM_QCQABaseCompData_DensityQC><CM_QCQABaseCompData_Moisture_QA>\",CO1418,\"</CM_QCQABaseCompData_Moisture_QA><CM_QCQABaseCompData_Moisture_QC>\",CO1419,\"</CM_QCQABaseCompData_Moisture_QC><CM_QCQABaseCompData_PI_Diff>\",CO1420,\"</CM_QCQABaseCompData_PI_Diff><CM_QCQABaseCompData_PI_QA>\",CO1421,\"</CM_QCQABaseCompData_PI_QA><CM_QCQABaseCompData_PI_QC>\",CO1422,\"</CM_QCQABaseCompData_PI_QC><CM_QCQABaseCompData_Subtitle_CompStd>\",CO1423,\"</CM_QCQABaseCompData_Subtitle_CompStd><CM_QCQABaseCompData_Subtitle_Del>\",CO1424,\"</CM_QCQABaseCompData_Subtitle_Del><CM_QCQABaseCompData_Subtitle_PI>\",CO1425,\"</CM_QCQABaseCompData_Subtitle_PI><CM_QCQABaseCompData_Subtitle_SieveAnalysis>\",CO1426,\"</CM_QCQABaseCompData_Subtitle_SieveAnalysis><CM_QCQABaseCompData_Title_Label>\",CO1427,\"</CM_QCQABaseCompData_Title_Label><CM_QCQABaseCompData_Tolerance1>\",CO1428,\"</CM_QCQABaseCompData_Tolerance1><CM_QCQABaseCompData_Tolerance10>\",CO1429,\"</CM_QCQABaseCompData_Tolerance10><CM_QCQABaseCompData_Tolerance11>\",CO1430,\"</CM_QCQABaseCompData_Tolerance11><CM_QCQABaseCompData_Tolerance12>\",CO1431,\"</CM_QCQABaseCompData_Tolerance12><CM_QCQABaseCompData_Tolerance13>\",CO1432,\"</CM_QCQABaseCompData_Tolerance13><CM_QCQABaseCompData_Tolerance14>\",CO1433,\"</CM_QCQABaseCompData_Tolerance14><CM_QCQABaseCompData_Tolerance2>\",CO1434,\"</CM_QCQABaseCompData_Tolerance2><CM_QCQABaseCompData_Tolerance3>\",CO1435,\"</CM_QCQABaseCompData_Tolerance3><CM_QCQABaseCompData_Tolerance4>\",CO1436,\"</CM_QCQABaseCompData_Tolerance4><CM_QCQABaseCompData_Tolerance5>\",CO1437,\"</CM_QCQABaseCompData_Tolerance5><CM_QCQABaseCompData_Tolerance6>\",CO1438,\"</CM_QCQABaseCompData_Tolerance6><CM_QCQABaseCompData_Tolerance7>\",CO1439,\"</CM_QCQABaseCompData_Tolerance7><CM_QCQABaseCompData_Tolerance8>\",CO1440,\"</CM_QCQABaseCompData_Tolerance8><CM_QCQABaseCompData_Tolerance9>\",CO1441,\"</CM_QCQABaseCompData_Tolerance9></Data>\"))","v":""},"","","","",null,null,null,null,null,null,null,"",null,{"$f":"IF(BY8=\"\",\"\",\"AgencyEntityInsData Id 158\")","v":""},{"$f":"IF(BY8=\"\",\"\",\"AgencyEntityInstance Id 6\")","v":""},{"$f":"IF(BY8=\"\",\"\",\"cm_base_grad_T7_05_no_200\")","v":""},{"$f":"IF(BY8=\"\",\"\",IF('Test 1'!$AH28=0,\"\",'Test 1'!$AH28))","v":""},{"$f":"IF(BY8=\"\",\"\",TODAY())","v":""},{"$f":"IF(BY8=\"\",\"\",\"WTSYSTEMUSER\")","v":""},{"$f":"IF(BY8=\"\",\"\",TODAY())","v":""},{"$f":"IF(BY8=\"\",\"\",\"WTSYSTEMUSER\")","v":""}]
[null,null,null,null,null,null,null,null,null,null,null,null,null,null,null,null,null,null,null,null,null,null,null,null,null,null,null,null,null,null,null,null,null,null,null,null,null,null,null,null,null,null,null,null,null,null,null,null,null,null,null,null,null,null,null,null,null,null,null,null,null,null,null,null,null,null,null,null,null,null,null,null,null,null,null,null,{"$f":"IF(AH54=\"\",\"\",\"AgencyEntityInstance Id 159\")","v":""},{"$f":"IF(BY161=\"\",\"\",VLOOKUP(\"CM_QCQABaseCompData\",'Send Sync'!$K$56:$L$96,2,FALSE))","v":""},{"$f":"IF(BY161=\"\",\"\",\"SampleRecordTest Id 52\")","v":""},null,{"$f":"IF(BY161=\"\",\"\",_xlfn.CONCAT(\"<Data><CM_QCQABaseCompData1_Diff>\",CO1442,\"</CM_QCQABaseCompData1_Diff><CM_QCQABaseCompData1_QA>\",CO1443,\"</CM_QCQABaseCompData1_QA><CM_QCQABaseCompData1_QC>\",CO1444,\"</CM_QCQABaseCompData1_QC><CM_QCQABaseCompData1and1half_Diff>\",CO1445,\"</CM_QCQABaseCompData1and1half_Diff><CM_QCQABaseCompData1and1half_QA>\",CO1446,\"</CM_QCQABaseCompData1and1half_QA><CM_QCQABaseCompData1and1half_QC>\",CO1447,\"</CM_QCQABaseCompData1and1half_QC><CM_QCQABaseCompData1half_Diff>\",CO1448,\"</CM_QCQABaseCompData1half_Diff><CM_QCQABaseCompData1half_QA>\",CO1449,\"</CM_QCQABaseCompData1half_QA><CM_QCQABaseCompData1half_QC>\",CO1450,\"</CM_QCQABaseCompData1half_QC><CM_QCQABaseCompData3Quarters_Diff>\",CO1451,\"</CM_QCQABaseCompData3Quarters_Diff><CM_QCQABaseCompData3Quarters_QA>\",CO1452,\"</CM_QCQABaseCompData3Quarters_QA><CM_QCQABaseCompData3Quarters_QC>\",CO1453,\"</CM_QCQABaseCompData3Quarters_QC><CM_QCQABaseCompDataNum100_Diff>\",CO1454,\"</CM_QCQABaseCompDataNum100_Diff><CM_QCQABaseCompDataNum100_QA>\",CO1455,\"</CM_QCQABaseCompDataNum100_QA><CM_QCQABaseCompDataNum100_QC>\",CO1456,\"</CM_QCQABaseCompDataNum100_QC><CM_QCQABaseCompDataNum10_Diff>\",CO1457,\"</CM_QCQABaseCompDataNum10_Diff><CM_QCQABaseCompDataNum10_QA>\",CO1458,\"</CM_QCQABaseCompDataNum10_QA><CM_QCQABaseCompDataNum10_QC>\",CO1459,\"</CM_QCQABaseCompDataNum10_QC><CM_QCQABaseCompDataNum200_Diff>\",CO1460,\"</CM_QCQABaseCompDataNum200_Diff><CM_QCQABaseCompDataNum200_QA>\",CO1461,\"</CM_QCQABaseCompDataNum200_QA><CM_QCQABaseCompDataNum200_QC>\",CO1462,\"</CM_QCQABaseCompDataNum200_QC><CM_QCQABaseCompDataNum30_Diff>\",CO1463,\"</CM_QCQABaseCompDataNum30_Diff><CM_QCQABaseCompDataNum30_QA>\",CO1464,\"</CM_QCQABaseCompDataNum30_QA><CM_QCQABaseCompDataNum30_QC>\",CO1465,\"</CM_QCQABaseCompDataNum30_QC><CM_QCQABaseCompDataNum40_Diff>\",CO1466,\"</CM_QCQABaseCompDataNum40_Diff><CM_QCQABaseCompDataNum40_QA>\",CO1467,\"</CM_QCQABaseCompDataNum40_QA><CM_QCQABaseCompDataNum40_QC>\",CO1468,\"</CM_QCQABaseCompDataNum40_QC><CM_QCQABaseCompDataNum4_Diff>\",CO1469,\"</CM_QCQABaseCompDataNum4_Diff><CM_QCQABaseCompDataNum4_QA>\",CO1470,\"</CM_QCQABaseCompDataNum4_QA><CM_QCQABaseCompDataNum4_QC>\",CO1471,\"</CM_QCQABaseCompDataNum4_QC><CM_QCQABaseCompDataNum8_Diff>\",CO1472,\"</CM_QCQABaseCompDataNum8_Diff><CM_QCQABaseCompDataNum8_QA>\",CO1473,\"</CM_QCQABaseCompDataNum8_QA><CM_QCQABaseCompDataNum8_QC>\",CO1474,\"</CM_QCQABaseCompDataNum8_QC><CM_QCQABaseCompData_1Placeholder>\",CO1475,\"</CM_QCQABaseCompData_1Placeholder><CM_QCQABaseCompData_2Placeholder>\",CO1476,\"</CM_QCQABaseCompData_2Placeholder><CM_QCQABaseCompData_3Placeholder>\",CO1477,\"</CM_QCQABaseCompData_3Placeholder><CM_QCQABaseCompData_4Placeholder>\",CO1478,\"</CM_QCQABaseCompData_4Placeholder><CM_QCQABaseCompData_5Placeholder>\",CO1479,\"</CM_QCQABaseCompData_5Placeholder><CM_QCQABaseCompData_6Placeholder>\",CO1480,\"</CM_QCQABaseCompData_6Placeholder><CM_QCQABaseCompData_7Placeholder>\",CO1481,\"</CM_QCQABaseCompData_7Placeholder><CM_QCQABaseCompData_8Placeholder>\",CO1482,\"</CM_QCQABaseCompData_8Placeholder><CM_QCQABaseCompData_Del_Diff>\",CO1483,\"</CM_QCQABaseCompData_Del_Diff><CM_QCQABaseCompData_Del_QA>\",CO1484,\"</CM_QCQABaseCompData_Del_QA><CM_QCQABaseCompData_Del_QC>\",CO1485,\"</CM_QCQABaseCompData_Del_QC><CM_QCQABaseCompData_DensityDiff>\",CO1486,\"</CM_QCQABaseCompData_DensityDiff><CM_QCQABaseCompData_DensityQA>\",CO1487,\"</CM_QCQABaseCompData_DensityQA><CM_QCQABaseCompData_DensityQC>\",CO1488,\"</CM_QCQABaseCompData_DensityQC><CM_QCQABaseCompData_Moisture_QA>\",CO1489,\"</CM_QCQABaseCompData_Moisture_QA><CM_QCQABaseCompData_Moisture_QC>\",CO1490,\"</CM_QCQABaseCompData_Moisture_QC><CM_QCQABaseCompData_PI_Diff>\",CO1491,\"</CM_QCQABaseCompData_PI_Diff><CM_QCQABaseCompData_PI_QA>\",CO1492,\"</CM_QCQABaseCompData_PI_QA><CM_QCQABaseCompData_PI_QC>\",CO1493,\"</CM_QCQABaseCompData_PI_QC><CM_QCQABaseCompData_Subtitle_CompStd>\",CO1494,\"</CM_QCQABaseCompData_Subtitle_CompStd><CM_QCQABaseCompData_Subtitle_Del>\",CO1495,\"</CM_QCQABaseCompData_Subtitle_Del><CM_QCQABaseCompData_Subtitle_PI>\",CO1496,\"</CM_QCQABaseCompData_Subtitle_PI><CM_QCQABaseCompData_Subtitle_SieveAnalysis>\",CO1497,\"</CM_QCQABaseCompData_Subtitle_SieveAnalysis><CM_QCQABaseCompData_Title_Label>\",CO1498,\"</CM_QCQABaseCompData_Title_Label><CM_QCQABaseCompData_Tolerance1>\",CO1499,\"</CM_QCQABaseCompData_Tolerance1><CM_QCQABaseCompData_Tolerance10>\",CO1500,\"</CM_QCQABaseCompData_Tolerance10><CM_QCQABaseCompData_Tolerance11>\",CO1501,\"</CM_QCQABaseCompData_Tolerance11><CM_QCQABaseCompData_Tolerance12>\",CO1502,\"</CM_QCQABaseCompData_Tolerance12><CM_QCQABaseCompData_Tolerance13>\",CO1503,\"</CM_QCQABaseCompData_Tolerance13><CM_QCQABaseCompData_Tolerance14>\",CO1504,\"</CM_QCQABaseCompData_Tolerance14><CM_QCQABaseCompData_Tolerance2>\",CO1505,\"</CM_QCQABaseCompData_Tolerance2><CM_QCQABaseCompData_Tolerance3>\",CO1506,\"</CM_QCQABaseCompData_Tolerance3><CM_QCQABaseCompData_Tolerance4>\",CO1507,\"</CM_QCQABaseCompData_Tolerance4><CM_QCQABaseCompData_Tolerance5>\",CO1508,\"</CM_QCQABaseCompData_Tolerance5><CM_QCQABaseCompData_Tolerance6>\",CO1509,\"</CM_QCQABaseCompData_Tolerance6><CM_QCQABaseCompData_Tolerance7>\",CO1510,\"</CM_QCQABaseCompData_Tolerance7><CM_QCQABaseCompData_Tolerance8>\",CO1511,\"</CM_QCQABaseCompData_Tolerance8><CM_QCQABaseCompData_Tolerance9>\",CO1512,\"</CM_QCQABaseCompData_Tolerance9></Data>\"))","v":""},"","","","",null,null,null,null,null,null,null,"",null,{"$f":"IF(BY8=\"\",\"\",\"AgencyEntityInsData Id 159\")","v":""},{"$f":"IF(BY8=\"\",\"\",\"AgencyEntityInstance Id 6\")","v":""},{"$f":"IF(BY8=\"\",\"\",\"cm_base_grad_T7_08_station_1\")","v":""},{"$f":"IF(BY8=\"\",\"\",IF('Test 1'!F18=0,\"\",'Test 1'!F18))","v":""},{"$f":"IF(BY8=\"\",\"\",TODAY())","v":""},{"$f":"IF(BY8=\"\",\"\",\"WTSYSTEMUSER\")","v":""},{"$f":"IF(BY8=\"\",\"\",TODAY())","v":""},{"$f":"IF(BY8=\"\",\"\",\"WTSYSTEMUSER\")","v":""}]
[null,null,null,null,null,null,null,null,null,null,null,null,null,null,null,null,null,null,null,null,null,null,null,null,null,null,null,null,null,null,null,null,null,null,null,null,null,null,null,null,null,null,null,null,null,null,null,null,null,null,null,null,null,null,null,null,null,null,null,null,null,null,null,null,null,null,null,null,null,null,null,null,null,null,null,null,null,null,null,null,null,{"$f":"IF(BY162=\"\",\"\",TODAY())","v":""},{"$f":"IF(BY162=\"\",\"\",\"WTSYSTEMUSER\")","v":""},{"$f":"IF(BY162=\"\",\"\",TODAY())","v":""},{"$f":"IF(BY162=\"\",\"\",\"WTSYSTEMUSER\")","v":""},null,null,null,null,null,null,null,"",null,{"$f":"IF(BY8=\"\",\"\",\"AgencyEntityInsData Id 160\")","v":""},{"$f":"IF(BY8=\"\",\"\",\"AgencyEntityInstance Id 6\")","v":""},{"$f":"IF(BY8=\"\",\"\",\"cm_base_grad_T7_09_station_2\")","v":""},{"$f":"IF(BY8=\"\",\"\",IF('Test 1'!J18=0,\"\",'Test 1'!J18))","v":""},{"$f":"IF(BY8=\"\",\"\",TODAY())","v":""},{"$f":"IF(BY8=\"\",\"\",\"WTSYSTEMUSER\")","v":""},{"$f":"IF(BY8=\"\",\"\",TODAY())","v":""},{"$f":"IF(BY8=\"\",\"\",\"WTSYSTEMUSER\")","v":""}]
[null,null,null,null,null,null,null,null,null,null,null,null,null,null,null,null,null,null,null,null,null,null,null,null,null,null,null,null,null,null,null,null,null,null,null,null,null,null,null,null,null,null,null,null,null,null,null,null,null,null,null,null,null,null,null,null,null,null,null,null,null,null,null,null,null,null,null,null,null,null,null,null,null,null,null,null,null,null,null,null,null,null,null,null,null,null,null,null,null,null,null,null,"",null,{"$f":"IF(BY8=\"\",\"\",\"AgencyEntityInsData Id 161\")","v":""},{"$f":"IF(BY8=\"\",\"\",\"AgencyEntityInstance Id 6\")","v":""},{"$f":"IF(BY8=\"\",\"\",\"cm_base_grad_T7_10_centerline_location\")","v":""},{"$f":"IF(BY8=\"\",\"\",IF('Test 1'!I19=\"\",\"\",'Test 1'!I19))","v":""},{"$f":"IF(BY8=\"\",\"\",TODAY())","v":""},{"$f":"IF(BY8=\"\",\"\",\"WTSYSTEMUSER\")","v":""},{"$f":"IF(BY8=\"\",\"\",TODAY())","v":""},{"$f":"IF(BY8=\"\",\"\",\"WTSYSTEMUSER\")","v":""}]
[null,null,null,null,null,null,null,null,null,null,null,null,null,null,null,null,null,null,null,null,null,null,null,null,null,null,null,null,null,null,null,null,null,null,null,null,null,null,null,null,null,null,null,null,null,null,null,null,null,null,null,null,null,null,null,null,null,null,null,null,null,null,null,null,null,null,null,null,null,null,null,null,null,null,null,null,null,null,null,null,null,null,null,null,null,null,null,null,null,null,null,null,"",null,{"$f":"IF(BY8=\"\",\"\",\"AgencyEntityInsData Id 162\")","v":""},{"$f":"IF(BY8=\"\",\"\",\"AgencyEntityInstance Id 6\")","v":""},{"$f":"IF(BY8=\"\",\"\",\"cm_base_grad_T7_11_tested_by\")","v":""},{"$f":"IF(BY8=\"\",\"\",IF('Test 1'!H13=\"\",\"\",'Test 1'!H13))","v":""},{"$f":"IF(BY8=\"\",\"\",TODAY())","v":""},{"$f":"IF(BY8=\"\",\"\",\"WTSYSTEMUSER\")","v":""},{"$f":"IF(BY8=\"\",\"\",TODAY())","v":""},{"$f":"IF(BY8=\"\",\"\",\"WTSYSTEMUSER\")","v":""}]
[null,null,null,null,null,null,null,null,null,null,null,null,null,null,null,null,null,null,null,null,null,null,null,null,null,null,null,null,null,null,null,null,null,null,null,null,null,null,null,null,null,null,null,null,null,null,null,null,null,null,null,null,null,null,null,null,null,null,null,null,null,null,null,null,null,null,null,null,null,null,null,null,null,null,null,null,null,null,null,null,null,null,null,null,null,null,null,null,null,null,null,null,"",null,{"$f":"IF(BY8=\"\",\"\",\"AgencyEntityInsData Id 163\")","v":""},{"$f":"IF(BY8=\"\",\"\",\"AgencyEntityInstance Id 6\")","v":""},{"$f":"IF(BY8=\"\",\"\",\"cm_base_grad_T7_label_01_1pt5_inch\")","v":""},{"$f":"IF(BY8=\"\",\"\",\"1 1/2\"\" (37.5 mm)\")","v":""},{"$f":"IF(BY8=\"\",\"\",TODAY())","v":""},{"$f":"IF(BY8=\"\",\"\",\"WTSYSTEMUSER\")","v":""},{"$f":"IF(BY8=\"\",\"\",TODAY())","v":""},{"$f":"IF(BY8=\"\",\"\",\"WTSYSTEMUSER\")","v":""}]
[null,null,null,null,null,null,null,null,null,null,null,null,null,null,null,null,null,null,null,null,null,null,null,null,null,null,null,null,null,null,null,null,null,null,null,null,null,null,null,null,null,null,null,null,null,null,null,null,null,null,null,null,null,null,null,null,null,null,null,null,null,null,null,null,null,null,null,null,null,null,null,null,null,null,null,null,null,null,null,null,null,null,null,null,null,null,null,null,null,null,null,null,"",null,{"$f":"IF(BY8=\"\",\"\",\"AgencyEntityInsData Id 164\")","v":""},{"$f":"IF(BY8=\"\",\"\",\"AgencyEntityInstance Id 6\")","v":""},{"$f":"IF(BY8=\"\",\"\",\"cm_base_grad_T7_label_02_inch\")","v":""},{"$f":"IF(BY8=\"\",\"\",\"1\"\" (25.0 mm)\")","v":""},{"$f":"IF(BY8=\"\",\"\",TODAY())","v":""},{"$f":"IF(BY8=\"\",\"\",\"WTSYSTEMUSER\")","v":""},{"$f":"IF(BY8=\"\",\"\",TODAY())","v":""},{"$f":"IF(BY8=\"\",\"\",\"WTSYSTEMUSER\")","v":""}]
[null,null,null,null,null,null,null,null,null,null,null,null,null,null,null,null,null,null,null,null,null,null,null,null,null,null,null,null,null,null,null,null,null,null,null,null,null,null,null,null,null,null,null,null,null,null,null,null,null,null,null,null,null,null,null,null,null,null,null,null,null,null,null,null,null,null,null,null,null,null,null,null,null,null,null,null,null,null,null,null,null,null,null,null,null,null,null,null,null,null,null,null,"",null,{"$f":"IF(BY8=\"\",\"\",\"AgencyEntityInsData Id 165\")","v":""},{"$f":"IF(BY8=\"\",\"\",\"AgencyEntityInstance Id 6\")","v":""},{"$f":"IF(BY8=\"\",\"\",\"cm_base_grad_T7_label_03_no_8\")","v":""},{"$f":"IF(BY8=\"\",\"\",\"No. 8 (2.36 mm)\")","v":""},{"$f":"IF(BY8=\"\",\"\",TODAY())","v":""},{"$f":"IF(BY8=\"\",\"\",\"WTSYSTEMUSER\")","v":""},{"$f":"IF(BY8=\"\",\"\",TODAY())","v":""},{"$f":"IF(BY8=\"\",\"\",\"WTSYSTEMUSER\")","v":""}]
[null,null,null,null,null,null,null,null,null,null,null,null,null,null,null,null,null,null,null,null,null,null,null,null,null,null,null,null,null,null,null,null,null,null,null,null,null,null,null,null,null,null,null,null,null,null,null,null,null,null,null,null,null,null,null,null,null,null,null,null,null,null,null,null,null,null,null,null,null,null,null,null,null,null,null,null,null,null,null,null,null,null,null,null,null,null,null,null,null,null,null,null,"",null,{"$f":"IF(BY8=\"\",\"\",\"AgencyEntityInsData Id 166\")","v":""},{"$f":"IF(BY8=\"\",\"\",\"AgencyEntityInstance Id 6\")","v":""},{"$f":"IF(BY8=\"\",\"\",\"cm_base_grad_T7_label_05_no_200\")","v":""},{"$f":"IF(BY8=\"\",\"\",\"No. 200 (75 microns)\")","v":""},{"$f":"IF(BY8=\"\",\"\",TODAY())","v":""},{"$f":"IF(BY8=\"\",\"\",\"WTSYSTEMUSER\")","v":""},{"$f":"IF(BY8=\"\",\"\",TODAY())","v":""},{"$f":"IF(BY8=\"\",\"\",\"WTSYSTEMUSER\")","v":""}]
[null,null,null,null,null,null,null,null,null,null,null,null,null,null,null,null,null,null,null,null,null,null,null,null,null,null,null,null,null,null,null,null,null,null,null,null,null,null,null,null,null,null,null,null,null,null,null,null,null,null,null,null,null,null,null,null,null,null,null,null,null,null,null,null,null,null,null,null,null,null,null,null,null,null,null,null,null,null,null,null,null,null,null,null,null,null,null,null,null,null,null,null,"",null,{"$f":"IF(BY8=\"\",\"\",\"AgencyEntityInsData Id 167\")","v":""},{"$f":"IF(BY8=\"\",\"\",\"AgencyEntityInstance Id 6\")","v":""},{"$f":"IF(BY8=\"\",\"\",\"cm_base_grad_T7_label_06\")","v":""},{"$f":"IF(BY8=\"\",\"\",\"Station\")","v":""},{"$f":"IF(BY8=\"\",\"\",TODAY())","v":""},{"$f":"IF(BY8=\"\",\"\",\"WTSYSTEMUSER\")","v":""},{"$f":"IF(BY8=\"\",\"\",TODAY())","v":""},{"$f":"IF(BY8=\"\",\"\",\"WTSYSTEMUSER\")","v":""}]
[null,null,null,null,null,null,null,null,null,null,null,null,null,null,null,null,null,null,null,null,null,null,null,null,null,null,null,null,null,null,null,null,null,null,null,null,null,null,null,null,null,null,null,null,null,null,null,null,null,null,null,null,null,null,null,null,null,null,null,null,null,null,null,null,null,null,null,null,null,null,null,null,null,null,null,null,null,null,null,null,null,null,null,null,null,null,null,null,null,null,null,null,"",null,{"$f":"IF(BY8=\"\",\"\",\"AgencyEntityInsData Id 168\")","v":""},{"$f":"IF(BY8=\"\",\"\",\"AgencyEntityInstance Id 6\")","v":""},{"$f":"IF(BY8=\"\",\"\",\"cm_base_grad_T7_label_07\")","v":""},{"$f":"IF(BY8=\"\",\"\",\"+\")","v":""},{"$f":"IF(BY8=\"\",\"\",TODAY())","v":""},{"$f":"IF(BY8=\"\",\"\",\"WTSYSTEMUSER\")","v":""},{"$f":"IF(BY8=\"\",\"\",TODAY())","v":""},{"$f":"IF(BY8=\"\",\"\",\"WTSYSTEMUSER\")","v":""}]
[null,null,null,null,null,null,null,null,null,null,null,null,null,null,null,null,null,null,null,null,null,null,null,null,null,null,null,null,null,null,null,null,null,null,null,null,null,null,null,null,null,null,null,null,null,null,null,null,null,null,null,null,null,null,null,null,null,null,null,null,null,null,null,null,null,null,null,null,null,null,null,null,null,null,null,null,null,null,null,null,null,null,null,null,null,null,null,null,null,null,null,null,"",null,{"$f":"IF(BY8=\"\",\"\",\"AgencyEntityInsData Id 169\")","v":""},{"$f":"IF(BY8=\"\",\"\",\"AgencyEntityInstance Id 6\")","v":""},{"$f":"IF(BY8=\"\",\"\",\"cm_base_grad_T7_label_08\")","v":""},{"$f":"IF(BY8=\"\",\"\",\"Location R/L of Centerline\")","v":""},{"$f":"IF(BY8=\"\",\"\",TODAY())","v":""},{"$f":"IF(BY8=\"\",\"\",\"WTSYSTEMUSER\")","v":""},{"$f":"IF(BY8=\"\",\"\",TODAY())","v":""},{"$f":"IF(BY8=\"\",\"\",\"WTSYSTEMUSER\")","v":""}]
[null,null,null,null,null,null,null,null,null,null,null,null,null,null,null,null,null,null,null,null,null,null,null,null,null,null,null,null,null,null,null,null,null,null,null,null,null,null,null,null,null,null,null,null,null,null,null,null,null,null,null,null,null,null,null,null,null,null,null,null,null,null,null,null,null,null,null,null,null,null,null,null,null,null,null,null,null,null,null,null,null,null,null,null,null,null,null,null,null,null,null,null,"",null,{"$f":"IF(BY8=\"\",\"\",\"AgencyEntityInsData Id 170\")","v":""},{"$f":"IF(BY8=\"\",\"\",\"AgencyEntityInstance Id 6\")","v":""},{"$f":"IF(BY8=\"\",\"\",\"cm_base_grad_T7_label_09\")","v":""},{"$f":"IF(BY8=\"\",\"\",\"Test Performed By\")","v":""},{"$f":"IF(BY8=\"\",\"\",TODAY())","v":""},{"$f":"IF(BY8=\"\",\"\",\"WTSYSTEMUSER\")","v":""},{"$f":"IF(BY8=\"\",\"\",TODAY())","v":""},{"$f":"IF(BY8=\"\",\"\",\"WTSYSTEMUSER\")","v":""}]
[null,null,null,null,null,null,null,null,null,null,null,null,null,null,null,null,null,null,null,null,null,null,null,null,null,null,null,null,null,null,null,null,null,null,null,null,null,null,null,null,null,null,null,null,null,null,null,null,null,null,null,null,null,null,null,null,null,null,null,null,null,null,null,null,null,null,null,null,null,null,null,null,null,null,null,null,null,null,null,null,null,null,null,null,null,null,null,null,null,null,null,null,"",null,{"$f":"IF(BY8=\"\",\"\",\"AgencyEntityInsData Id 171\")","v":""},{"$f":"IF(BY8=\"\",\"\",\"AgencyEntityInstance Id 6\")","v":""},{"$f":"IF(BY8=\"\",\"\",\"cm_base_grad_T7_spec_01_1pt5_inch_max\")","v":""},{"$f":"IF(BY8=\"\",\"\",\"100\")","v":""},{"$f":"IF(BY8=\"\",\"\",TODAY())","v":""},{"$f":"IF(BY8=\"\",\"\",\"WTSYSTEMUSER\")","v":""},{"$f":"IF(BY8=\"\",\"\",TODAY())","v":""},{"$f":"IF(BY8=\"\",\"\",\"WTSYSTEMUSER\")","v":""}]
[null,null,null,null,null,null,null,null,null,null,null,null,null,null,null,null,null,null,null,null,null,null,null,null,null,null,null,null,null,null,null,null,null,null,null,null,null,null,null,null,null,null,null,null,null,null,null,null,null,null,null,null,null,null,null,null,null,null,null,null,null,null,null,null,null,null,null,null,null,null,null,null,null,null,null,null,null,null,null,null,null,null,null,null,null,null,null,null,null,null,null,null,"",null,{"$f":"IF(BY8=\"\",\"\",\"AgencyEntityInsData Id 172\")","v":""},{"$f":"IF(BY8=\"\",\"\",\"AgencyEntityInstance Id 6\")","v":""},{"$f":"IF(BY8=\"\",\"\",\"cm_base_grad_T7_spec_01_1pt5_inch_min\")","v":""},{"$f":"IF(BY8=\"\",\"\",\"100\")","v":""},{"$f":"IF(BY8=\"\",\"\",TODAY())","v":""},{"$f":"IF(BY8=\"\",\"\",\"WTSYSTEMUSER\")","v":""},{"$f":"IF(BY8=\"\",\"\",TODAY())","v":""},{"$f":"IF(BY8=\"\",\"\",\"WTSYSTEMUSER\")","v":""}]
[null,null,null,null,null,null,null,null,null,null,null,null,null,null,null,null,null,null,null,null,null,null,null,null,null,null,null,null,null,null,null,null,null,null,null,null,null,null,null,null,null,null,null,null,null,null,null,null,null,null,null,null,null,null,null,null,null,null,null,null,null,null,null,null,null,null,null,null,null,null,null,null,null,null,null,null,null,null,null,null,null,null,null,null,null,null,null,null,null,null,null,null,"",null,{"$f":"IF(BY8=\"\",\"\",\"AgencyEntityInsData Id 173\")","v":""},{"$f":"IF(BY8=\"\",\"\",\"AgencyEntityInstance Id 6\")","v":""},{"$f":"IF(BY8=\"\",\"\",\"cm_base_grad_T7_spec_02_inch_max\")","v":""},{"$f":"IF(BY8=\"\",\"\",\"100\")","v":""},{"$f":"IF(BY8=\"\",\"\",TODAY())","v":""},{"$f":"IF(BY8=\"\",\"\",\"WTSYSTEMUSER\")","v":""},{"$f":"IF(BY8=\"\",\"\",TODAY())","v":""},{"$f":"IF(BY8=\"\",\"\",\"WTSYSTEMUSER\")","v":""}]
[null,null,null,null,null,null,null,null,null,null,null,null,null,null,null,null,null,null,null,null,null,null,null,null,null,null,null,null,null,null,null,null,null,null,null,null,null,null,null,null,null,null,null,null,null,null,null,null,null,null,null,null,null,null,null,null,null,null,null,null,null,null,null,null,null,null,null,null,null,null,null,null,null,null,null,null,null,null,null,null,null,null,null,null,null,null,null,null,null,null,null,null,"",null,{"$f":"IF(BY8=\"\",\"\",\"AgencyEntityInsData Id 174\")","v":""},{"$f":"IF(BY8=\"\",\"\",\"AgencyEntityInstance Id 6\")","v":""},{"$f":"IF(BY8=\"\",\"\",\"cm_base_grad_T7_spec_02_inch_min\")","v":""},{"$f":"IF(BY8=\"\",\"\",\"70\")","v":""},{"$f":"IF(BY8=\"\",\"\",TODAY())","v":""},{"$f":"IF(BY8=\"\",\"\",\"WTSYSTEMUSER\")","v":""},{"$f":"IF(BY8=\"\",\"\",TODAY())","v":""},{"$f":"IF(BY8=\"\",\"\",\"WTSYSTEMUSER\")","v":""}]
[null,null,null,null,null,null,null,null,null,null,null,null,null,null,null,null,null,null,null,null,null,null,null,null,null,null,null,null,null,null,null,null,null,null,null,null,null,null,null,null,null,null,null,null,null,null,null,null,null,null,null,null,null,null,null,null,null,null,null,null,null,null,null,null,null,null,null,null,null,null,null,null,null,null,null,null,null,null,null,null,null,null,null,null,null,null,null,null,null,null,null,null,"",null,{"$f":"IF(BY8=\"\",\"\",\"AgencyEntityInsData Id 175\")","v":""},{"$f":"IF(BY8=\"\",\"\",\"AgencyEntityInstance Id 6\")","v":""},{"$f":"IF(BY8=\"\",\"\",\"cm_base_grad_T7_spec_03_no_8_max\")","v":""},{"$f":"IF(BY8=\"\",\"\",\"50\")","v":""},{"$f":"IF(BY8=\"\",\"\",TODAY())","v":""},{"$f":"IF(BY8=\"\",\"\",\"WTSYSTEMUSER\")","v":""},{"$f":"IF(BY8=\"\",\"\",TODAY())","v":""},{"$f":"IF(BY8=\"\",\"\",\"WTSYSTEMUSER\")","v":""}]
[null,null,null,null,null,null,null,null,null,null,null,null,null,null,null,null,null,null,null,null,null,null,null,null,null,null,null,null,null,null,null,null,null,null,null,null,null,null,null,null,null,null,null,null,null,null,null,null,null,null,null,null,null,null,null,null,null,null,null,null,null,null,null,null,null,null,null,null,null,null,null,null,null,null,null,null,null,null,null,null,null,null,null,null,null,null,null,null,null,null,null,null,"",null,{"$f":"IF(BY8=\"\",\"\",\"AgencyEntityInsData Id 176\")","v":""},{"$f":"IF(BY8=\"\",\"\",\"AgencyEntityInstance Id 6\")","v":""},{"$f":"IF(BY8=\"\",\"\",\"cm_base_grad_T7_spec_03_no_8_min\")","v":""},{"$f":"IF(BY8=\"\",\"\",\"15\")","v":""},{"$f":"IF(BY8=\"\",\"\",TODAY())","v":""},{"$f":"IF(BY8=\"\",\"\",\"WTSYSTEMUSER\")","v":""},{"$f":"IF(BY8=\"\",\"\",TODAY())","v":""},{"$f":"IF(BY8=\"\",\"\",\"WTSYSTEMUSER\")","v":""}]
[null,null,null,null,null,null,null,null,null,null,null,null,null,null,null,null,null,null,null,null,null,null,null,null,null,null,null,null,null,null,null,null,null,null,null,null,null,null,null,null,null,null,null,null,null,null,null,null,null,null,null,null,null,null,null,null,null,null,null,null,null,null,null,null,null,null,null,null,null,null,null,null,null,null,null,null,null,null,null,null,null,null,null,null,null,null,null,null,null,null,null,null,"",null,{"$f":"IF(BY8=\"\",\"\",\"AgencyEntityInsData Id 177\")","v":""},{"$f":"IF(BY8=\"\",\"\",\"AgencyEntityInstance Id 6\")","v":""},{"$f":"IF(BY8=\"\",\"\",\"cm_base_grad_T7_spec_05_no_200_max\")","v":""},{"$f":"IF(BY8=\"\",\"\",\"12\")","v":""},{"$f":"IF(BY8=\"\",\"\",TODAY())","v":""},{"$f":"IF(BY8=\"\",\"\",\"WTSYSTEMUSER\")","v":""},{"$f":"IF(BY8=\"\",\"\",TODAY())","v":""},{"$f":"IF(BY8=\"\",\"\",\"WTSYSTEMUSER\")","v":""}]
[null,null,null,null,null,null,null,null,null,null,null,null,null,null,null,null,null,null,null,null,null,null,null,null,null,null,null,null,null,null,null,null,null,null,null,null,null,null,null,null,null,null,null,null,null,null,null,null,null,null,null,null,null,null,null,null,null,null,null,null,null,null,null,null,null,null,null,null,null,null,null,null,null,null,null,null,null,null,null,null,null,null,null,null,null,null,null,null,null,null,null,null,"",null,{"$f":"IF(BY8=\"\",\"\",\"AgencyEntityInsData Id 178\")","v":""},{"$f":"IF(BY8=\"\",\"\",\"AgencyEntityInstance Id 6\")","v":""},{"$f":"IF(BY8=\"\",\"\",\"cm_base_grad_T7_spec_05_no_200_min\")","v":""},{"$f":"IF(BY8=\"\",\"\",\"0\")","v":""},{"$f":"IF(BY8=\"\",\"\",TODAY())","v":""},{"$f":"IF(BY8=\"\",\"\",\"WTSYSTEMUSER\")","v":""},{"$f":"IF(BY8=\"\",\"\",TODAY())","v":""},{"$f":"IF(BY8=\"\",\"\",\"WTSYSTEMUSER\")","v":""}]
[null,null,null,null,null,null,null,null,null,null,null,null,null,null,null,null,null,null,null,null,null,null,null,null,null,null,null,null,null,null,null,null,null,null,null,null,null,null,null,null,null,null,null,null,null,null,null,null,null,null,null,null,null,null,null,null,null,null,null,null,null,null,null,null,null,null,null,null,null,null,null,null,null,null,null,null,null,null,null,null,null,null,null,null,null,null,null,null,null,null,null,null,"",null,{"$f":"IF(BY9=\"\",\"\",\"AgencyEntityInsData Id 179\")","v":""},{"$f":"IF(BY9=\"\",\"\",\"AgencyEntityInstance Id 7\")","v":""},{"$f":"IF(BY9=\"\",\"\",\"cm_base_grad_T7_01_1pt5_inch\")","v":""},{"$f":"IF(BY9=\"\",\"\",IF('Test 1'!$AI25=0,\"\",'Test 1'!$AI25))","v":""},{"$f":"IF(BY9=\"\",\"\",TODAY())","v":""},{"$f":"IF(BY9=\"\",\"\",\"WTSYSTEMUSER\")","v":""},{"$f":"IF(BY9=\"\",\"\",TODAY())","v":""},{"$f":"IF(BY9=\"\",\"\",\"WTSYSTEMUSER\")","v":""}]
[null,null,null,null,null,null,null,null,null,null,null,null,null,null,null,null,null,null,null,null,null,null,null,null,null,null,null,null,null,null,null,null,null,null,null,null,null,null,null,null,null,null,null,null,null,null,null,null,null,null,null,null,null,null,null,null,null,null,null,null,null,null,null,null,null,null,null,null,null,null,null,null,null,null,null,null,null,null,null,null,null,null,null,null,null,null,null,null,null,null,null,null,"",null,{"$f":"IF(BY9=\"\",\"\",\"AgencyEntityInsData Id 180\")","v":""},{"$f":"IF(BY9=\"\",\"\",\"AgencyEntityInstance Id 7\")","v":""},{"$f":"IF(BY9=\"\",\"\",\"cm_base_grad_T7_02_inch\")","v":""},{"$f":"IF(BY9=\"\",\"\",IF('Test 1'!$AI26=0,\"\",'Test 1'!$AI26))","v":""},{"$f":"IF(BY9=\"\",\"\",TODAY())","v":""},{"$f":"IF(BY9=\"\",\"\",\"WTSYSTEMUSER\")","v":""},{"$f":"IF(BY9=\"\",\"\",TODAY())","v":""},{"$f":"IF(BY9=\"\",\"\",\"WTSYSTEMUSER\")","v":""}]
[null,null,null,null,null,null,null,null,null,null,null,null,null,null,null,null,null,null,null,null,null,null,null,null,null,null,null,null,null,null,null,null,null,null,null,null,null,null,null,null,null,null,null,null,null,null,null,null,null,null,null,null,null,null,null,null,null,null,null,null,null,null,null,null,null,null,null,null,null,null,null,null,null,null,null,null,null,null,null,null,null,null,null,null,null,null,null,null,null,null,null,null,"",null,{"$f":"IF(BY9=\"\",\"\",\"AgencyEntityInsData Id 181\")","v":""},{"$f":"IF(BY9=\"\",\"\",\"AgencyEntityInstance Id 7\")","v":""},{"$f":"IF(BY9=\"\",\"\",\"cm_base_grad_T7_03_no_8\")","v":""},{"$f":"IF(BY9=\"\",\"\",IF('Test 1'!$AI27=0,\"\",'Test 1'!$AI27))","v":""},{"$f":"IF(BY9=\"\",\"\",TODAY())","v":""},{"$f":"IF(BY9=\"\",\"\",\"WTSYSTEMUSER\")","v":""},{"$f":"IF(BY9=\"\",\"\",TODAY())","v":""},{"$f":"IF(BY9=\"\",\"\",\"WTSYSTEMUSER\")","v":""}]
[null,null,null,null,null,null,null,null,null,null,null,null,null,null,null,null,null,null,null,null,null,null,null,null,null,null,null,null,null,null,null,null,null,null,null,null,null,null,null,null,null,null,null,null,null,null,null,null,null,null,null,null,null,null,null,null,null,null,null,null,null,null,null,null,null,null,null,null,null,null,null,null,null,null,null,null,null,null,null,null,null,null,null,null,null,null,null,null,null,null,null,null,"",null,{"$f":"IF(BY9=\"\",\"\",\"AgencyEntityInsData Id 182\")","v":""},{"$f":"IF(BY9=\"\",\"\",\"AgencyEntityInstance Id 7\")","v":""},{"$f":"IF(BY9=\"\",\"\",\"cm_base_grad_T7_05_no_200\")","v":""},{"$f":"IF(BY9=\"\",\"\",IF('Test 1'!$AI28=0,\"\",'Test 1'!$AI28))","v":""},{"$f":"IF(BY9=\"\",\"\",TODAY())","v":""},{"$f":"IF(BY9=\"\",\"\",\"WTSYSTEMUSER\")","v":""},{"$f":"IF(BY9=\"\",\"\",TODAY())","v":""},{"$f":"IF(BY9=\"\",\"\",\"WTSYSTEMUSER\")","v":""}]
[null,null,null,null,null,null,null,null,null,null,null,null,null,null,null,null,null,null,null,null,null,null,null,null,null,null,null,null,null,null,null,null,null,null,null,null,null,null,null,null,null,null,null,null,null,null,null,null,null,null,null,null,null,null,null,null,null,null,null,null,null,null,null,null,null,null,null,null,null,null,null,null,null,null,null,null,null,null,null,null,null,null,null,null,null,null,null,null,null,null,null,null,"",null,{"$f":"IF(BY9=\"\",\"\",\"AgencyEntityInsData Id 183\")","v":""},{"$f":"IF(BY9=\"\",\"\",\"AgencyEntityInstance Id 7\")","v":""},{"$f":"IF(BY9=\"\",\"\",\"cm_base_grad_T7_08_station_1\")","v":""},{"$f":"IF(BY9=\"\",\"\",IF('Test 1'!$F20=0,\"\",'Test 1'!$F20))","v":""},{"$f":"IF(BY9=\"\",\"\",TODAY())","v":""},{"$f":"IF(BY9=\"\",\"\",\"WTSYSTEMUSER\")","v":""},{"$f":"IF(BY9=\"\",\"\",TODAY())","v":""},{"$f":"IF(BY9=\"\",\"\",\"WTSYSTEMUSER\")","v":""}]
[null,null,null,null,null,null,null,null,null,null,null,null,null,null,null,null,null,null,null,null,null,null,null,null,null,null,null,null,null,null,null,null,null,null,null,null,null,null,null,null,null,null,null,null,null,null,null,null,null,null,null,null,null,null,null,null,null,null,null,null,null,null,null,null,null,null,null,null,null,null,null,null,null,null,null,null,null,null,null,null,null,null,null,null,null,null,null,null,null,null,null,null,"",null,{"$f":"IF(BY9=\"\",\"\",\"AgencyEntityInsData Id 184\")","v":""},{"$f":"IF(BY9=\"\",\"\",\"AgencyEntityInstance Id 7\")","v":""},{"$f":"IF(BY9=\"\",\"\",\"cm_base_grad_T7_09_station_2\")","v":""},{"$f":"IF(BY9=\"\",\"\",IF('Test 1'!J20=0,\"\",'Test 1'!J20))","v":""},{"$f":"IF(BY9=\"\",\"\",TODAY())","v":""},{"$f":"IF(BY9=\"\",\"\",\"WTSYSTEMUSER\")","v":""},{"$f":"IF(BY9=\"\",\"\",TODAY())","v":""},{"$f":"IF(BY9=\"\",\"\",\"WTSYSTEMUSER\")","v":""}]
[null,null,null,null,null,null,null,null,null,null,null,null,null,null,null,null,null,null,null,null,null,null,null,null,null,null,null,null,null,null,null,null,null,null,null,null,null,null,null,null,null,null,null,null,null,null,null,null,null,null,null,null,null,null,null,null,null,null,null,null,null,null,null,null,null,null,null,null,null,null,null,null,null,null,null,null,null,null,null,null,null,null,null,null,null,null,null,null,null,null,null,null,"",null,{"$f":"IF(BY9=\"\",\"\",\"AgencyEntityInsData Id 185\")","v":""},{"$f":"IF(BY9=\"\",\"\",\"AgencyEntityInstance Id 7\")","v":""},{"$f":"IF(BY9=\"\",\"\",\"cm_base_grad_T7_10_centerline_location\")","v":""},{"$f":"IF(BY9=\"\",\"\",IF('Test 1'!I21=\"\",\"\",'Test 1'!I21))","v":""},{"$f":"IF(BY9=\"\",\"\",TODAY())","v":""},{"$f":"IF(BY9=\"\",\"\",\"WTSYSTEMUSER\")","v":""},{"$f":"IF(BY9=\"\",\"\",TODAY())","v":""},{"$f":"IF(BY9=\"\",\"\",\"WTSYSTEMUSER\")","v":""}]
[null,null,null,null,null,null,null,null,null,null,null,null,null,null,null,null,null,null,null,null,null,null,null,null,null,null,null,null,null,null,null,null,null,null,null,null,null,null,null,null,null,null,null,null,null,null,null,null,null,null,null,null,null,null,null,null,null,null,null,null,null,null,null,null,null,null,null,null,null,null,null,null,null,null,null,null,null,null,null,null,null,null,null,null,null,null,null,null,null,null,null,null,"",null,{"$f":"IF(BY9=\"\",\"\",\"AgencyEntityInsData Id 186\")","v":""},{"$f":"IF(BY9=\"\",\"\",\"AgencyEntityInstance Id 7\")","v":""},{"$f":"IF(BY9=\"\",\"\",\"cm_base_grad_T7_11_tested_by\")","v":""},{"$f":"IF(BY9=\"\",\"\",IF('Test 1'!H13=\"\",\"\",'Test 1'!H13))","v":""},{"$f":"IF(BY9=\"\",\"\",TODAY())","v":""},{"$f":"IF(BY9=\"\",\"\",\"WTSYSTEMUSER\")","v":""},{"$f":"IF(BY9=\"\",\"\",TODAY())","v":""},{"$f":"IF(BY9=\"\",\"\",\"WTSYSTEMUSER\")","v":""}]
[null,null,null,null,null,null,null,null,null,null,null,null,null,null,null,null,null,null,null,null,null,null,null,null,null,null,null,null,null,null,null,null,null,null,null,null,null,null,null,null,null,null,null,null,null,null,null,null,null,null,null,null,null,null,null,null,null,null,null,null,null,null,null,null,null,null,null,null,null,null,null,null,null,null,null,null,null,null,null,null,null,null,null,null,null,null,null,null,null,null,null,null,"",null,{"$f":"IF(BY9=\"\",\"\",\"AgencyEntityInsData Id 187\")","v":""},{"$f":"IF(BY9=\"\",\"\",\"AgencyEntityInstance Id 7\")","v":""},{"$f":"IF(BY9=\"\",\"\",\"cm_base_grad_T7_label_01_1pt5_inch\")","v":""},{"$f":"IF(BY9=\"\",\"\",\"1 1/2\"\" (37.5 mm)\")","v":""},{"$f":"IF(BY9=\"\",\"\",TODAY())","v":""},{"$f":"IF(BY9=\"\",\"\",\"WTSYSTEMUSER\")","v":""},{"$f":"IF(BY9=\"\",\"\",TODAY())","v":""},{"$f":"IF(BY9=\"\",\"\",\"WTSYSTEMUSER\")","v":""}]
[null,null,null,null,null,null,null,null,null,null,null,null,null,null,null,null,null,null,null,null,null,null,null,null,null,null,null,null,null,null,null,null,null,null,null,null,null,null,null,null,null,null,null,null,null,null,null,null,null,null,null,null,null,null,null,null,null,null,null,null,null,null,null,null,null,null,null,null,null,null,null,null,null,null,null,null,null,null,null,null,null,null,null,null,null,null,null,null,null,null,null,null,"",null,{"$f":"IF(BY9=\"\",\"\",\"AgencyEntityInsData Id 188\")","v":""},{"$f":"IF(BY9=\"\",\"\",\"AgencyEntityInstance Id 7\")","v":""},{"$f":"IF(BY9=\"\",\"\",\"cm_base_grad_T7_label_02_inch\")","v":""},{"$f":"IF(BY9=\"\",\"\",\"1\"\" (25.0 mm)\")","v":""},{"$f":"IF(BY9=\"\",\"\",TODAY())","v":""},{"$f":"IF(BY9=\"\",\"\",\"WTSYSTEMUSER\")","v":""},{"$f":"IF(BY9=\"\",\"\",TODAY())","v":""},{"$f":"IF(BY9=\"\",\"\",\"WTSYSTEMUSER\")","v":""}]
[null,null,null,null,null,null,null,null,null,null,null,null,null,null,null,null,null,null,null,null,null,null,null,null,null,null,null,null,null,null,null,null,null,null,null,null,null,null,null,null,null,null,null,null,null,null,null,null,null,null,null,null,null,null,null,null,null,null,null,null,null,null,null,null,null,null,null,null,null,null,null,null,null,null,null,null,null,null,null,null,null,null,null,null,null,null,null,null,null,null,null,null,"",null,{"$f":"IF(BY9=\"\",\"\",\"AgencyEntityInsData Id 189\")","v":""},{"$f":"IF(BY9=\"\",\"\",\"AgencyEntityInstance Id 7\")","v":""},{"$f":"IF(BY9=\"\",\"\",\"cm_base_grad_T7_label_03_no_8\")","v":""},{"$f":"IF(BY9=\"\",\"\",\"No. 8 (2.36 mm)\")","v":""},{"$f":"IF(BY9=\"\",\"\",TODAY())","v":""},{"$f":"IF(BY9=\"\",\"\",\"WTSYSTEMUSER\")","v":""},{"$f":"IF(BY9=\"\",\"\",TODAY())","v":""},{"$f":"IF(BY9=\"\",\"\",\"WTSYSTEMUSER\")","v":""}]
[null,null,null,null,null,null,null,null,null,null,null,null,null,null,null,null,null,null,null,null,null,null,null,null,null,null,null,null,null,null,null,null,null,null,null,null,null,null,null,null,null,null,null,null,null,null,null,null,null,null,null,null,null,null,null,null,null,null,null,null,null,null,null,null,null,null,null,null,null,null,null,null,null,null,null,null,null,null,null,null,null,null,null,null,null,null,null,null,null,null,null,null,"",null,{"$f":"IF(BY9=\"\",\"\",\"AgencyEntityInsData Id 190\")","v":""},{"$f":"IF(BY9=\"\",\"\",\"AgencyEntityInstance Id 7\")","v":""},{"$f":"IF(BY9=\"\",\"\",\"cm_base_grad_T7_label_05_no_200\")","v":""},{"$f":"IF(BY9=\"\",\"\",\"No. 200 (75 microns)\")","v":""},{"$f":"IF(BY9=\"\",\"\",TODAY())","v":""},{"$f":"IF(BY9=\"\",\"\",\"WTSYSTEMUSER\")","v":""},{"$f":"IF(BY9=\"\",\"\",TODAY())","v":""},{"$f":"IF(BY9=\"\",\"\",\"WTSYSTEMUSER\")","v":""}]
[null,null,null,null,null,null,null,null,null,null,null,null,null,null,null,null,null,null,null,null,null,null,null,null,null,null,null,null,null,null,null,null,null,null,null,null,null,null,null,null,null,null,null,null,null,null,null,null,null,null,null,null,null,null,null,null,null,null,null,null,null,null,null,null,null,null,null,null,null,null,null,null,null,null,null,null,null,null,null,null,null,null,null,null,null,null,null,null,null,null,null,null,"",null,{"$f":"IF(BY9=\"\",\"\",\"AgencyEntityInsData Id 191\")","v":""},{"$f":"IF(BY9=\"\",\"\",\"AgencyEntityInstance Id 7\")","v":""},{"$f":"IF(BY9=\"\",\"\",\"cm_base_grad_T7_label_06\")","v":""},{"$f":"IF(BY9=\"\",\"\",\"Station\")","v":""},{"$f":"IF(BY9=\"\",\"\",TODAY())","v":""},{"$f":"IF(BY9=\"\",\"\",\"WTSYSTEMUSER\")","v":""},{"$f":"IF(BY9=\"\",\"\",TODAY())","v":""},{"$f":"IF(BY9=\"\",\"\",\"WTSYSTEMUSER\")","v":""}]
[null,null,null,null,null,null,null,null,null,null,null,null,null,null,null,null,null,null,null,null,null,null,null,null,null,null,null,null,null,null,null,null,null,null,null,null,null,null,null,null,null,null,null,null,null,null,null,null,null,null,null,null,null,null,null,null,null,null,null,null,null,null,null,null,null,null,null,null,null,null,null,null,null,null,null,null,null,null,null,null,null,null,null,null,null,null,null,null,null,null,null,null,"",null,{"$f":"IF(BY9=\"\",\"\",\"AgencyEntityInsData Id 192\")","v":""},{"$f":"IF(BY9=\"\",\"\",\"AgencyEntityInstance Id 7\")","v":""},{"$f":"IF(BY9=\"\",\"\",\"cm_base_grad_T7_label_07\")","v":""},{"$f":"IF(BY9=\"\",\"\",\"+\")","v":""},{"$f":"IF(BY9=\"\",\"\",TODAY())","v":""},{"$f":"IF(BY9=\"\",\"\",\"WTSYSTEMUSER\")","v":""},{"$f":"IF(BY9=\"\",\"\",TODAY())","v":""},{"$f":"IF(BY9=\"\",\"\",\"WTSYSTEMUSER\")","v":""}]
[null,null,null,null,null,null,null,null,null,null,null,null,null,null,null,null,null,null,null,null,null,null,null,null,null,null,null,null,null,null,null,null,null,null,null,null,null,null,null,null,null,null,null,null,null,null,null,null,null,null,null,null,null,null,null,null,null,null,null,null,null,null,null,null,null,null,null,null,null,null,null,null,null,null,null,null,null,null,null,null,null,null,null,null,null,null,null,null,null,null,null,null,"",null,{"$f":"IF(BY9=\"\",\"\",\"AgencyEntityInsData Id 193\")","v":""},{"$f":"IF(BY9=\"\",\"\",\"AgencyEntityInstance Id 7\")","v":""},{"$f":"IF(BY9=\"\",\"\",\"cm_base_grad_T7_label_08\")","v":""},{"$f":"IF(BY9=\"\",\"\",\"Location R/L of Centerline\")","v":""},{"$f":"IF(BY9=\"\",\"\",TODAY())","v":""},{"$f":"IF(BY9=\"\",\"\",\"WTSYSTEMUSER\")","v":""},{"$f":"IF(BY9=\"\",\"\",TODAY())","v":""},{"$f":"IF(BY9=\"\",\"\",\"WTSYSTEMUSER\")","v":""}]
[null,null,null,null,null,null,null,null,null,null,null,null,null,null,null,null,null,null,null,null,null,null,null,null,null,null,null,null,null,null,null,null,null,null,null,null,null,null,null,null,null,null,null,null,null,null,null,null,null,null,null,null,null,null,null,null,null,null,null,null,null,null,null,null,null,null,null,null,null,null,null,null,null,null,null,null,null,null,null,null,null,null,null,null,null,null,null,null,null,null,null,null,{"$f":"IF(CT196=\"\",\"\",SUBSTITUTE(SUBSTITUTE(SUBSTITUTE(SUBSTITUTE(SUBSTITUTE(CT196,\"&\",\"&amp;\"),\">\",\"&gt;\"),\"<\",\"&lt;\"),\"'\",\"&#39;\"),\"\"\"\",\"&quot;\"))","v":""},null,{"$f":"IF(BY9=\"\",\"\",\"AgencyEntityInsData Id 194\")","v":""},{"$f":"IF(BY9=\"\",\"\",\"AgencyEntityInstance Id 7\")","v":""},{"$f":"IF(BY9=\"\",\"\",\"cm_base_grad_T7_label_09\")","v":""},{"$f":"IF(BY9=\"\",\"\",\"Test Performed By\")","v":""},{"$f":"IF(BY9=\"\",\"\",TODAY())","v":""},{"$f":"IF(BY9=\"\",\"\",\"WTSYSTEMUSER\")","v":""},{"$f":"IF(BY9=\"\",\"\",TODAY())","v":""},{"$f":"IF(BY9=\"\",\"\",\"WTSYSTEMUSER\")","v":""}]
[null,null,null,null,null,null,null,null,null,null,null,null,null,null,null,null,null,null,null,null,null,null,null,null,null,null,null,null,null,null,null,null,null,null,null,null,null,null,null,null,null,null,null,null,null,null,null,null,null,null,null,null,null,null,null,null,null,null,null,null,null,null,null,null,null,null,null,null,null,null,null,null,null,null,null,null,null,null,null,null,null,null,null,null,null,null,null,null,null,null,null,null,"",null,{"$f":"IF(BY9=\"\",\"\",\"AgencyEntityInsData Id 195\")","v":""},{"$f":"IF(BY9=\"\",\"\",\"AgencyEntityInstance Id 7\")","v":""},{"$f":"IF(BY9=\"\",\"\",\"cm_base_grad_T7_spec_01_1pt5_inch_max\")","v":""},{"$f":"IF(BY9=\"\",\"\",\"100\")","v":""},{"$f":"IF(BY9=\"\",\"\",TODAY())","v":""},{"$f":"IF(BY9=\"\",\"\",\"WTSYSTEMUSER\")","v":""},{"$f":"IF(BY9=\"\",\"\",TODAY())","v":""},{"$f":"IF(BY9=\"\",\"\",\"WTSYSTEMUSER\")","v":""}]
[null,null,null,null,null,null,null,null,null,null,null,null,null,null,null,null,null,null,null,null,null,null,null,null,null,null,null,null,null,null,null,null,null,null,null,null,null,null,null,null,null,null,null,null,null,null,null,null,null,null,null,null,null,null,null,null,null,null,null,null,null,null,null,null,null,null,null,null,null,null,null,null,null,null,null,null,null,null,null,null,null,null,null,null,null,null,null,null,null,null,null,null,"",null,{"$f":"IF(BY9=\"\",\"\",\"AgencyEntityInsData Id 196\")","v":""},{"$f":"IF(BY9=\"\",\"\",\"AgencyEntityInstance Id 7\")","v":""},{"$f":"IF(BY9=\"\",\"\",\"cm_base_grad_T7_spec_01_1pt5_inch_min\")","v":""},{"$f":"IF(BY9=\"\",\"\",\"100\")","v":""},{"$f":"IF(BY9=\"\",\"\",TODAY())","v":""},{"$f":"IF(BY9=\"\",\"\",\"WTSYSTEMUSER\")","v":""},{"$f":"IF(BY9=\"\",\"\",TODAY())","v":""},{"$f":"IF(BY9=\"\",\"\",\"WTSYSTEMUSER\")","v":""}]
[null,null,null,null,null,null,null,null,null,null,null,null,null,null,null,null,null,null,null,null,null,null,null,null,null,null,null,null,null,null,null,null,null,null,null,null,null,null,null,null,null,null,null,null,null,null,null,null,null,null,null,null,null,null,null,null,null,null,null,null,null,null,null,null,null,null,null,null,null,null,null,null,null,null,null,null,null,null,null,null,null,null,null,null,null,null,null,null,null,null,null,null,"",null,{"$f":"IF(BY9=\"\",\"\",\"AgencyEntityInsData Id 197\")","v":""},{"$f":"IF(BY9=\"\",\"\",\"AgencyEntityInstance Id 7\")","v":""},{"$f":"IF(BY9=\"\",\"\",\"cm_base_grad_T7_spec_02_inch_max\")","v":""},{"$f":"IF(BY9=\"\",\"\",\"100\")","v":""},{"$f":"IF(BY9=\"\",\"\",TODAY())","v":""},{"$f":"IF(BY9=\"\",\"\",\"WTSYSTEMUSER\")","v":""},{"$f":"IF(BY9=\"\",\"\",TODAY())","v":""},{"$f":"IF(BY9=\"\",\"\",\"WTSYSTEMUSER\")","v":""}]
[null,null,null,null,null,null,null,null,null,null,null,null,null,null,null,null,null,null,null,null,null,null,null,null,null,null,null,null,null,null,null,null,null,null,null,null,null,null,null,null,null,null,null,null,null,null,null,null,null,null,null,null,null,null,null,null,null,null,null,null,null,null,null,null,null,null,null,null,null,null,null,null,null,null,null,null,null,null,null,null,null,null,null,null,null,null,null,null,null,null,null,null,"",null,{"$f":"IF(BY9=\"\",\"\",\"AgencyEntityInsData Id 198\")","v":""},{"$f":"IF(BY9=\"\",\"\",\"AgencyEntityInstance Id 7\")","v":""},{"$f":"IF(BY9=\"\",\"\",\"cm_base_grad_T7_spec_02_inch_min\")","v":""},{"$f":"IF(BY9=\"\",\"\",\"70\")","v":""},{"$f":"IF(BY9=\"\",\"\",TODAY())","v":""},{"$f":"IF(BY9=\"\",\"\",\"WTSYSTEMUSER\")","v":""},{"$f":"IF(BY9=\"\",\"\",TODAY())","v":""},{"$f":"IF(BY9=\"\",\"\",\"WTSYSTEMUSER\")","v":""}]
[null,null,null,null,null,null,null,null,null,null,null,null,null,null,null,null,null,null,null,null,null,null,null,null,null,null,null,null,null,null,null,null,null,null,null,null,null,null,null,null,null,null,null,null,null,null,null,null,null,null,null,null,null,null,null,null,null,null,null,null,null,null,null,null,null,null,null,null,null,null,null,null,null,null,null,null,null,null,null,null,null,null,null,null,null,null,null,null,null,null,null,null,"",null,{"$f":"IF(BY9=\"\",\"\",\"AgencyEntityInsData Id 199\")","v":""},{"$f":"IF(BY9=\"\",\"\",\"AgencyEntityInstance Id 7\")","v":""},{"$f":"IF(BY9=\"\",\"\",\"cm_base_grad_T7_spec_03_no_8_max\")","v":""},{"$f":"IF(BY9=\"\",\"\",\"50\")","v":""},{"$f":"IF(BY9=\"\",\"\",TODAY())","v":""},{"$f":"IF(BY9=\"\",\"\",\"WTSYSTEMUSER\")","v":""},{"$f":"IF(BY9=\"\",\"\",TODAY())","v":""},{"$f":"IF(BY9=\"\",\"\",\"WTSYSTEMUSER\")","v":""}]
[null,null,null,null,null,null,null,null,null,null,null,null,null,null,null,null,null,null,null,null,null,null,null,null,null,null,null,null,null,null,null,null,null,null,null,null,null,null,null,null,null,null,null,null,null,null,null,null,null,null,null,null,null,null,null,null,null,null,null,null,null,null,null,null,null,null,null,null,null,null,null,null,null,null,null,null,null,null,null,null,null,null,null,null,null,null,null,null,null,null,null,null,"",null,{"$f":"IF(BY9=\"\",\"\",\"AgencyEntityInsData Id 200\")","v":""},{"$f":"IF(BY9=\"\",\"\",\"AgencyEntityInstance Id 7\")","v":""},{"$f":"IF(BY9=\"\",\"\",\"cm_base_grad_T7_spec_03_no_8_min\")","v":""},{"$f":"IF(BY9=\"\",\"\",\"15\")","v":""},{"$f":"IF(BY9=\"\",\"\",TODAY())","v":""},{"$f":"IF(BY9=\"\",\"\",\"WTSYSTEMUSER\")","v":""},{"$f":"IF(BY9=\"\",\"\",TODAY())","v":""},{"$f":"IF(BY9=\"\",\"\",\"WTSYSTEMUSER\")","v":""}]
[null,null,null,null,null,null,null,null,null,null,null,null,null,null,null,null,null,null,null,null,null,null,null,null,null,null,null,null,null,null,null,null,null,null,null,null,null,null,null,null,null,null,null,null,null,null,null,null,null,null,null,null,null,null,null,null,null,null,null,null,null,null,null,null,null,null,null,null,null,null,null,null,null,null,null,null,null,null,null,null,null,null,null,null,null,null,null,null,null,null,null,null,"",null,{"$f":"IF(BY9=\"\",\"\",\"AgencyEntityInsData Id 201\")","v":""},{"$f":"IF(BY9=\"\",\"\",\"AgencyEntityInstance Id 7\")","v":""},{"$f":"IF(BY9=\"\",\"\",\"cm_base_grad_T7_spec_05_no_200_max\")","v":""},{"$f":"IF(BY9=\"\",\"\",\"12\")","v":""},{"$f":"IF(BY9=\"\",\"\",TODAY())","v":""},{"$f":"IF(BY9=\"\",\"\",\"WTSYSTEMUSER\")","v":""},{"$f":"IF(BY9=\"\",\"\",TODAY())","v":""},{"$f":"IF(BY9=\"\",\"\",\"WTSYSTEMUSER\")","v":""}]
[null,null,null,null,null,null,null,null,null,null,null,null,null,null,null,null,null,null,null,null,null,null,null,null,null,null,null,null,null,null,null,null,null,null,null,null,null,null,null,null,null,null,null,null,null,null,null,null,null,null,null,null,null,null,null,null,null,null,null,null,null,null,null,null,null,null,null,null,null,null,null,null,null,null,null,null,null,null,null,null,null,null,null,null,null,null,null,null,null,null,null,null,"",null,{"$f":"IF(BY9=\"\",\"\",\"AgencyEntityInsData Id 202\")","v":""},{"$f":"IF(BY9=\"\",\"\",\"AgencyEntityInstance Id 7\")","v":""},{"$f":"IF(BY9=\"\",\"\",\"cm_base_grad_T7_spec_05_no_200_min\")","v":""},{"$f":"IF(BY9=\"\",\"\",\"0\")","v":""},{"$f":"IF(BY9=\"\",\"\",TODAY())","v":""},{"$f":"IF(BY9=\"\",\"\",\"WTSYSTEMUSER\")","v":""},{"$f":"IF(BY9=\"\",\"\",TODAY())","v":""},{"$f":"IF(BY9=\"\",\"\",\"WTSYSTEMUSER\")","v":""}]
[null,null,null,null,null,null,null,null,null,null,null,null,null,null,null,null,null,null,null,null,null,null,null,null,null,null,null,null,null,null,null,null,null,null,null,null,null,null,null,null,null,null,null,null,null,null,null,null,null,null,null,null,null,null,null,null,null,null,null,null,null,null,null,null,null,null,null,null,null,null,null,null,null,null,null,null,null,null,null,null,null,null,null,null,null,null,null,null,null,null,null,null,"",null,{"$f":"IF(BY10=\"\",\"\",\"AgencyEntityInsData Id 203\")","v":""},{"$f":"IF(BY10=\"\",\"\",\"AgencyEntityInstance Id 8\")","v":""},{"$f":"IF(BY10=\"\",\"\",\"CM_PlasticityIndex_Base_TestResults\")","v":""},{"$f":"IF(BY10=\"\",\"\",IF(LEFT(Main!F14,4)=\"1007\",IF('Test 1'!E44=\"\",\"\",'Test 1'!E44),IF(LEFT(Main!F14,4)=\"1010\",IF('Test 3'!Q13=\"\",\"\",'Test 3'!Q13),IF('Test 2'!D37=\"\",\"\",'Test 2'!D37))))","v":""},"","","",""]
[null,null,null,null,null,null,null,null,null,null,null,null,null,null,null,null,null,null,null,null,null,null,null,null,null,null,null,null,null,null,null,null,null,null,null,null,null,null,null,null,null,null,null,null,null,null,null,null,null,null,null,null,null,null,null,null,null,null,null,null,null,null,null,null,null,null,null,null,null,null,null,null,null,null,null,null,null,null,null,null,null,null,null,null,null,null,null,null,null,null,null,null,"",null,{"$f":"IF(BY11=\"\",\"\",\"AgencyEntityInsData Id 204\")","v":""},{"$f":"IF(BY11=\"\",\"\",\"AgencyEntityInstance Id 9\")","v":""},{"$f":"IF(BY11=\"\",\"\",\"CM_PlasticityIndex_Base_TestResults\")","v":""},{"$f":"IF(BY11=\"\",\"\",IF(LEFT(Main!F14,4)=\"1007\",IF('Test 1'!I44=\"\",\"\",'Test 1'!I44),IF(LEFT(Main!F14,4)=\"1010\",IF('Test 3'!U13=\"\",\"\",'Test 3'!U13),IF('Test 2'!H37=\"\",\"\",'Test 2'!H37))))","v":""},"","","",""]
[null,null,null,null,null,null,null,null,null,null,null,null,null,null,null,null,null,null,null,null,null,null,null,null,null,null,null,null,null,null,null,null,null,null,null,null,null,null,null,null,null,null,null,null,null,null,null,null,null,null,null,null,null,null,null,null,null,null,null,null,null,null,null,null,null,null,null,null,null,null,null,null,null,null,null,null,null,null,null,null,null,null,null,null,null,null,null,null,null,null,null,null,"",null,{"$f":"IF(BY12=\"\",\"\",\"AgencyEntityInsData Id 205\")","v":""},{"$f":"IF(BY12=\"\",\"\",\"AgencyEntityInstance Id 10\")","v":""},{"$f":"IF(BY12=\"\",\"\",\"CM_PlasticityIndex_Base_TestResults\")","v":""},{"$f":"IF(BY12=\"\",\"\",IF(LEFT(Main!F14,4)=\"1007\",IF('Test 1'!M44=\"\",\"\",'Test 1'!M44),IF(LEFT(Main!F14,4)=\"1010\",\"\",IF('Test 2'!L37=\"\",\"\",'Test 2'!L37))))","v":""},"","","",""]
[null,null,null,null,null,null,null,null,null,null,null,null,null,null,null,null,null,null,null,null,null,null,null,null,null,null,null,null,null,null,null,null,null,null,null,null,null,null,null,null,null,null,null,null,null,null,null,null,null,null,null,null,null,null,null,null,null,null,null,null,null,null,null,null,null,null,null,null,null,null,null,null,null,null,null,null,null,null,null,null,null,null,null,null,null,null,null,null,null,null,null,null,"",null,{"$f":"IF(BY13=\"\",\"\",\"AgencyEntityInsData Id 206\")","v":""},{"$f":"IF(BY13=\"\",\"\",\"AgencyEntityInstance Id 11\")","v":""},{"$f":"IF(BY13=\"\",\"\",\"CM_PlasticityIndex_Base_TestResults\")","v":""},{"$f":"IF(BY13=\"\",\"\",IF(LEFT(Main!F14,4)=\"1007\",\"\",IF(LEFT(Main!F14,4)=\"1010\",\"\",IF('Test 2'!P37=\"\",\"\",'Test 2'!P37))))","v":""},"","","",""]
[null,null,null,null,null,null,null,null,null,null,null,null,null,null,null,null,null,null,null,null,null,null,null,null,null,null,null,null,null,null,null,null,null,null,null,null,null,null,null,null,null,null,null,null,null,null,null,null,null,null,null,null,null,null,null,null,null,null,null,null,null,null,null,null,null,null,null,null,null,null,null,null,null,null,null,null,null,null,null,null,null,null,null,null,null,null,null,null,null,null,null,null,"",null,{"$f":"IF(BY14=\"\",\"\",\"AgencyEntityInsData Id 207\")","v":""},{"$f":"IF(BY14=\"\",\"\",\"AgencyEntityInstance Id 12\")","v":""},{"$f":"IF(BY14=\"\",\"\",\"CM_PlasticityIndex_Base_TestResults\")","v":""},{"$f":"IF(BY14=\"\",\"\",IF(LEFT(Main!F14,4)=\"1007\",\"\",IF(LEFT(Main!F14,4)=\"1010\",\"\",IF('Test 2'!T37=\"\",\"\",'Test 2'!T37))))","v":""},"","","",""]
[null,null,null,null,null,null,null,null,null,null,null,null,null,null,null,null,null,null,null,null,null,null,null,null,null,null,null,null,null,null,null,null,null,null,null,null,null,null,null,null,null,null,null,null,null,null,null,null,null,null,null,null,null,null,null,null,null,null,null,null,null,null,null,null,null,null,null,null,null,null,null,null,null,null,null,null,null,null,null,null,null,null,null,null,null,null,null,null,null,null,null,null,"",null,{"$f":"IF(BY15=\"\",\"\",\"AgencyEntityInsData Id 208\")","v":""},{"$f":"IF(BY15=\"\",\"\",\"AgencyEntityInstance Id 13\")","v":""},{"$f":"IF(BY15=\"\",\"\",\"del_ca_200\")","v":""},{"$f":"IF(BY15=\"\",\"\",IF(LEFT(Main!F14,4)=\"1007\",\"\",IF(LEFT(Main!F14,4)=\"1003\",IF('Test 2'!AD48=0,\"\",'Test 2'!AD48),IF(LEFT(Main!F14,4)=\"1010\",\"\",IF('Test 2'!AD48=0,\"\",'Test 2'!AD48)))))","v":""},"","","",""]
[null,null,null,null,null,null,null,null,null,null,null,null,null,null,null,null,null,null,null,null,null,null,null,null,null,null,null,null,null,null,null,null,null,null,null,null,null,null,null,null,null,null,null,null,null,null,null,null,null,null,null,null,null,null,null,null,null,null,null,null,null,null,null,null,null,null,null,null,null,null,null,null,null,null,null,null,null,null,null,null,null,null,null,null,null,null,null,null,null,null,null,null,"",null,{"$f":"IF(BY15=\"\",\"\",\"AgencyEntityInsData Id 209\")","v":""},{"$f":"IF(BY15=\"\",\"\",\"AgencyEntityInstance Id 13\")","v":""},{"$f":"IF(BY15=\"\",\"\",\"del_ca_chert\")","v":""},{"$f":"IF(BY15=\"\",\"\",IF(LEFT(Main!F14,4)=\"1007\",\"\",IF(LEFT(Main!F14,4)=\"1003\",\"\",IF(LEFT(Main!F14,4)=\"1010\",\"\",IF('Test 2'!AD46=0,\"\",'Test 2'!AD46)))))","v":""},{"$f":"IF(BY15=\"\",\"\",TODAY())","v":""},{"$f":"IF(BY15=\"\",\"\",\"WTSYSTEMUSER\")","v":""},{"$f":"IF(BY15=\"\",\"\",TODAY())","v":""},{"$f":"IF(BY15=\"\",\"\",\"WTSYSTEMUSER\")","v":""}]
[null,null,null,null,null,null,null,null,null,null,null,null,null,null,null,null,null,null,null,null,null,null,null,null,null,null,null,null,null,null,null,null,null,null,null,null,null,null,null,null,null,null,null,null,null,null,null,null,null,null,null,null,null,null,null,null,null,null,null,null,null,null,null,null,null,null,null,null,null,null,null,null,null,null,null,null,null,null,null,null,null,null,null,null,null,null,null,null,null,null,null,null,"",null,{"$f":"IF(BY15=\"\",\"\",\"AgencyEntityInsData Id 210\")","v":""},{"$f":"IF(BY15=\"\",\"\",\"AgencyEntityInstance Id 13\")","v":""},{"$f":"IF(BY15=\"\",\"\",\"del_ca_clay\")","v":""},{"$f":"IF(BY15=\"\",\"\",IF(LEFT(Main!F14,4)=\"1007\",\"\",IF(LEFT(Main!F14,4)=\"1003\",\"\",IF(LEFT(Main!F14,4)=\"1010\",\"\",\"\"))))","v":""},{"$f":"IF(BY15=\"\",\"\",TODAY())","v":""},{"$f":"IF(BY15=\"\",\"\",\"WTSYSTEMUSER\")","v":""},{"$f":"IF(BY15=\"\",\"\",TODAY())","v":""},{"$f":"IF(BY15=\"\",\"\",\"WTSYSTEMUSER\")","v":""}]
[null,null,null,null,null,null,null,null,null,null,null,null,null,null,null,null,null,null,null,null,null,null,null,null,null,null,null,null,null,null,null,null,null,null,null,null,null,null,null,null,null,null,null,null,null,null,null,null,null,null,null,null,null,null,null,null,null,null,null,null,null,null,null,null,null,null,null,null,null,null,null,null,null,null,null,null,null,null,null,null,null,null,null,null,null,null,null,null,null,null,null,null,"",null,{"$f":"IF(BY15=\"\",\"\",\"AgencyEntityInsData Id 211\")","v":""},{"$f":"IF(BY15=\"\",\"\",\"AgencyEntityInstance Id 13\")","v":""},{"$f":"IF(BY15=\"\",\"\",\"del_ca_mud\")","v":""},{"$f":"IF(BY15=\"\",\"\",IF(LEFT(Main!F14,4)=\"1007\",\"\",IF(LEFT(Main!F14,4)=\"1003\",\"\",IF(LEFT(Main!F14,4)=\"1010\",\"\",\"\"))))","v":""},{"$f":"IF(BY15=\"\",\"\",TODAY())","v":""},{"$f":"IF(BY15=\"\",\"\",\"WTSYSTEMUSER\")","v":""},{"$f":"IF(BY15=\"\",\"\",TODAY())","v":""},{"$f":"IF(BY15=\"\",\"\",\"WTSYSTEMUSER\")","v":""}]
[null,null,null,null,null,null,null,null,null,null,null,null,null,null,null,null,null,null,null,null,null,null,null,null,null,null,null,null,null,null,null,null,null,null,null,null,null,null,null,null,null,null,null,null,null,null,null,null,null,null,null,null,null,null,null,null,null,null,null,null,null,null,null,null,null,null,null,null,null,null,null,null,null,null,null,null,null,null,null,null,null,null,null,null,null,null,null,null,null,null,null,null,"",null,{"$f":"IF(BY15=\"\",\"\",\"AgencyEntityInsData Id 212\")","v":""},{"$f":"IF(BY15=\"\",\"\",\"AgencyEntityInstance Id 13\")","v":""},{"$f":"IF(BY15=\"\",\"\",\"del_ca_mud_sh\")","v":""},{"$f":"IF(BY15=\"\",\"\",IF(LEFT(Main!F14,4)=\"1007\",\"\",IF(LEFT(Main!F14,4)=\"1003\",\"\",IF(LEFT(Main!F14,4)=\"1010\",\"\",\"\"))))","v":""},{"$f":"IF(BY15=\"\",\"\",TODAY())","v":""},{"$f":"IF(BY15=\"\",\"\",\"WTSYSTEMUSER\")","v":""},{"$f":"IF(BY15=\"\",\"\",TODAY())","v":""},{"$f":"IF(BY15=\"\",\"\",\"WTSYSTEMUSER\")","v":""}]
[null,null,null,null,null,null,null,null,null,null,null,null,null,null,null,null,null,null,null,null,null,null,null,null,null,null,null,null,null,null,null,null,null,null,null,null,null,null,null,null,null,null,null,null,null,null,null,null,null,null,null,null,null,null,null,null,null,null,null,null,null,null,null,null,null,null,null,null,null,null,null,null,null,null,null,null,null,null,null,null,null,null,null,null,null,null,null,null,null,null,null,null,"",null,{"$f":"IF(BY15=\"\",\"\",\"AgencyEntityInsData Id 213\")","v":""},{"$f":"IF(BY15=\"\",\"\",\"AgencyEntityInstance Id 13\")","v":""},{"$f":"IF(BY15=\"\",\"\",\"del_ca_ofm\")","v":""},{"$f":"IF(BY15=\"\",\"\",IF(LEFT(Main!F14,4)=\"1007\",\"\",IF(LEFT(Main!F14,4)=\"1003\",IF('Test 2'!AD47=0,\"\",'Test 2'!AD47),IF(LEFT(Main!F14,4)=\"1010\",\"\",IF('Test 2'!AD47=0,\"\",'Test 2'!AD47)))))","v":""},{"$f":"IF(BY15=\"\",\"\",TODAY())","v":""},{"$f":"IF(BY15=\"\",\"\",\"WTSYSTEMUSER\")","v":""},{"$f":"IF(BY15=\"\",\"\",TODAY())","v":""},{"$f":"IF(BY15=\"\",\"\",\"WTSYSTEMUSER\")","v":""}]
[null,null,null,null,null,null,null,null,null,null,null,null,null,null,null,null,null,null,null,null,null,null,null,null,null,null,null,null,null,null,null,null,null,null,null,null,null,null,null,null,null,null,null,null,null,null,null,null,null,null,null,null,null,null,null,null,null,null,null,null,null,null,null,null,null,null,null,null,null,null,null,null,null,null,null,null,null,null,null,null,null,null,null,null,null,null,null,null,null,null,null,null,"",null,{"$f":"IF(BY15=\"\",\"\",\"AgencyEntityInsData Id 214\")","v":""},{"$f":"IF(BY15=\"\",\"\",\"AgencyEntityInstance Id 13\")","v":""},{"$f":"IF(BY15=\"\",\"\",\"del_ca_rock\")","v":""},{"$f":"IF(BY15=\"\",\"\",IF(LEFT(Main!F14,4)=\"1007\",\"\",IF(LEFT(Main!F14,4)=\"1003\",IF('Test 2'!AD44=0,\"\",'Test 2'!AD44),IF(LEFT(Main!F14,4)=\"1010\",\"\",IF('Test 2'!AD44=0,\"\",'Test 2'!AD44)))))","v":""},{"$f":"IF(BY15=\"\",\"\",TODAY())","v":""},{"$f":"IF(BY15=\"\",\"\",\"WTSYSTEMUSER\")","v":""},{"$f":"IF(BY15=\"\",\"\",TODAY())","v":""},{"$f":"IF(BY15=\"\",\"\",\"WTSYSTEMUSER\")","v":""}]
[null,null,null,null,null,null,null,null,null,null,null,null,null,null,null,null,null,null,null,null,null,null,null,null,null,null,null,null,null,null,null,null,null,null,null,null,null,null,null,null,null,null,null,null,null,null,null,null,null,null,null,null,null,null,null,null,null,null,null,null,null,null,null,null,null,null,null,null,null,null,null,null,null,null,null,null,null,null,null,null,null,null,null,null,null,null,null,null,null,null,null,null,"",null,{"$f":"IF(BY15=\"\",\"\",\"AgencyEntityInsData Id 215\")","v":""},{"$f":"IF(BY15=\"\",\"\",\"AgencyEntityInstance Id 13\")","v":""},{"$f":"IF(BY15=\"\",\"\",\"del_ca_rock_sh\")","v":""},{"$f":"IF(BY15=\"\",\"\",IF(LEFT(Main!F14,4)=\"1007\",IF('Test 1'!AD36=0,\"\",'Test 1'!AD36),IF(LEFT(Main!F14,4)=\"1003\",\"\",IF(LEFT(Main!F14,4)=\"1010\",\"\",\"\"))))","v":""},{"$f":"IF(BY15=\"\",\"\",TODAY())","v":""},{"$f":"IF(BY15=\"\",\"\",\"WTSYSTEMUSER\")","v":""},{"$f":"IF(BY15=\"\",\"\",TODAY())","v":""},{"$f":"IF(BY15=\"\",\"\",\"WTSYSTEMUSER\")","v":""}]
[null,null,null,null,null,null,null,null,null,null,null,null,null,null,null,null,null,null,null,null,null,null,null,null,null,null,null,null,null,null,null,null,null,null,null,null,null,null,null,null,null,null,null,null,null,null,null,null,null,null,null,null,null,null,null,null,null,null,null,null,null,null,null,null,null,null,null,null,null,null,null,null,null,null,null,null,null,null,null,null,null,null,null,null,null,null,null,null,null,null,null,null,"",null,{"$f":"IF(BY15=\"\",\"\",\"AgencyEntityInsData Id 216\")","v":""},{"$f":"IF(BY15=\"\",\"\",\"AgencyEntityInstance Id 13\")","v":""},{"$f":"IF(BY15=\"\",\"\",\"del_ca_sh\")","v":""},{"$f":"IF(BY15=\"\",\"\",IF(LEFT(Main!F14,4)=\"1007\",\"\",IF(LEFT(Main!F14,4)=\"1003\",IF('Test 2'!AD45=0,\"\",'Test 2'!AD45),IF(LEFT(Main!F14,4)=\"1010\",\"\",IF('Test 2'!AD45=0,\"\",'Test 2'!AD45)))))","v":""},{"$f":"IF(BY15=\"\",\"\",TODAY())","v":""},{"$f":"IF(BY15=\"\",\"\",\"WTSYSTEMUSER\")","v":""},{"$f":"IF(BY15=\"\",\"\",TODAY())","v":""},{"$f":"IF(BY15=\"\",\"\",\"WTSYSTEMUSER\")","v":""}]
[null,null,null,null,null,null,null,null,null,null,null,null,null,null,null,null,null,null,null,null,null,null,null,null,null,null,null,null,null,null,null,null,null,null,null,null,null,null,null,null,null,null,null,null,null,null,null,null,null,null,null,null,null,null,null,null,null,null,null,null,null,null,null,null,null,null,null,null,null,null,null,null,null,null,null,null,null,null,null,null,null,null,null,null,null,null,null,null,null,null,null,null,"",null,{"$f":"IF(BY15=\"\",\"\",\"AgencyEntityInsData Id 217\")","v":""},{"$f":"IF(BY15=\"\",\"\",\"AgencyEntityInstance Id 13\")","v":""},{"$f":"IF(BY15=\"\",\"\",\"del_fa_clay_sh\")","v":""},{"$f":"IF(BY15=\"\",\"\",IF(LEFT(Main!F14,4)=\"1007\",\"\",IF(LEFT(Main!F14,4)=\"1003\",\"\",IF(LEFT(Main!F14,4)=\"1010\",\"\",\"\"))))","v":""},{"$f":"IF(BY15=\"\",\"\",TODAY())","v":""},{"$f":"IF(BY15=\"\",\"\",\"WTSYSTEMUSER\")","v":""},{"$f":"IF(BY15=\"\",\"\",TODAY())","v":""},{"$f":"IF(BY15=\"\",\"\",\"WTSYSTEMUSER\")","v":""}]
[null,null,null,null,null,null,null,null,null,null,null,null,null,null,null,null,null,null,null,null,null,null,null,null,null,null,null,null,null,null,null,null,null,null,null,null,null,null,null,null,null,null,null,null,null,null,null,null,null,null,null,null,null,null,null,null,null,null,null,null,null,null,null,null,null,null,null,null,null,null,null,null,null,null,null,null,null,null,null,null,null,null,null,null,null,null,null,null,null,null,null,null,"",null,{"$f":"IF(BY15=\"\",\"\",\"AgencyEntityInsData Id 218\")","v":""},{"$f":"IF(BY15=\"\",\"\",\"AgencyEntityInstance Id 13\")","v":""},{"$f":"IF(BY15=\"\",\"\",\"del_fa_coal\")","v":""},{"$f":"IF(BY15=\"\",\"\",IF(LEFT(Main!F14,4)=\"1007\",\"\",IF(LEFT(Main!F14,4)=\"1003\",\"\",IF(LEFT(Main!F14,4)=\"1010\",\"\",\"\"))))","v":""},{"$f":"IF(BY15=\"\",\"\",TODAY())","v":""},{"$f":"IF(BY15=\"\",\"\",\"WTSYSTEMUSER\")","v":""},{"$f":"IF(BY15=\"\",\"\",TODAY())","v":""},{"$f":"IF(BY15=\"\",\"\",\"WTSYSTEMUSER\")","v":""}]
[null,null,null,null,null,null,null,null,null,null,null,null,null,null,null,null,null,null,null,null,null,null,null,null,null,null,null,null,null,null,null,null,null,null,null,null,null,null,null,null,null,null,null,null,null,null,null,null,null,null,null,null,null,null,null,null,null,null,null,null,null,null,null,null,null,null,null,null,null,null,null,null,null,null,null,null,null,null,null,null,null,null,null,null,null,null,null,null,null,null,null,null,"",null,{"$f":"IF(BY15=\"\",\"\",\"AgencyEntityInsData Id 219\")","v":""},{"$f":"IF(BY15=\"\",\"\",\"AgencyEntityInstance Id 13\")","v":""},{"$f":"IF(BY15=\"\",\"\",\"del_fa_lw\")","v":""},{"$f":"IF(BY15=\"\",\"\",IF(LEFT(Main!F14,4)=\"1007\",\"\",IF(LEFT(Main!F14,4)=\"1003\",\"\",IF(LEFT(Main!F14,4)=\"1010\",\"\",\"\"))))","v":""},{"$f":"IF(BY15=\"\",\"\",TODAY())","v":""},{"$f":"IF(BY15=\"\",\"\",\"WTSYSTEMUSER\")","v":""},{"$f":"IF(BY15=\"\",\"\",TODAY())","v":""},{"$f":"IF(BY15=\"\",\"\",\"WTSYSTEMUSER\")","v":""}]
[null,null,null,null,null,null,null,null,null,null,null,null,null,null,null,null,null,null,null,null,null,null,null,null,null,null,null,null,null,null,null,null,null,null,null,null,null,null,null,null,null,null,null,null,null,null,null,null,null,null,null,null,null,null,null,null,null,null,null,null,null,null,null,null,null,null,null,null,null,null,null,null,null,null,null,null,null,null,null,null,null,null,null,null,null,null,null,null,null,null,null,null,"",null,{"$f":"IF(BY15=\"\",\"\",\"AgencyEntityInsData Id 220\")","v":""},{"$f":"IF(BY15=\"\",\"\",\"AgencyEntityInstance Id 13\")","v":""},{"$f":"IF(BY15=\"\",\"\",\"del_fa_other\")","v":""},{"$f":"IF(BY15=\"\",\"\",IF(LEFT(Main!F14,4)=\"1007\",\"\",IF(LEFT(Main!F14,4)=\"1003\",\"\",IF(LEFT(Main!F14,4)=\"1010\",\"\",\"\"))))","v":""},{"$f":"IF(BY15=\"\",\"\",TODAY())","v":""},{"$f":"IF(BY15=\"\",\"\",\"WTSYSTEMUSER\")","v":""},{"$f":"IF(BY15=\"\",\"\",TODAY())","v":""},{"$f":"IF(BY15=\"\",\"\",\"WTSYSTEMUSER\")","v":""}]
[null,null,null,null,null,null,null,null,null,null,null,null,null,null,null,null,null,null,null,null,null,null,null,null,null,null,null,null,null,null,null,null,null,null,null,null,null,null,null,null,null,null,null,null,null,null,null,null,null,null,null,null,null,null,null,null,null,null,null,null,null,null,null,null,null,null,null,null,null,null,null,null,null,null,null,null,null,null,null,null,null,null,null,null,null,null,null,null,null,null,null,null,"",null,{"$f":"IF(BY15=\"\",\"\",\"AgencyEntityInsData Id 221\")","v":""},{"$f":"IF(BY15=\"\",\"\",\"AgencyEntityInstance Id 13\")","v":""},{"$f":"IF(BY15=\"\",\"\",\"del_man_sand\")","v":""},{"$f":"IF(BY15=\"\",\"\",IF(LEFT(Main!F14,4)=\"1007\",\"\",IF(LEFT(Main!F14,4)=\"1003\",\"\",IF(LEFT(Main!F14,4)=\"1010\",\"\",\"\"))))","v":""},{"$f":"IF(BY15=\"\",\"\",TODAY())","v":""},{"$f":"IF(BY15=\"\",\"\",\"WTSYSTEMUSER\")","v":""},{"$f":"IF(BY15=\"\",\"\",TODAY())","v":""},{"$f":"IF(BY15=\"\",\"\",\"WTSYSTEMUSER\")","v":""}]
[null,null,null,null,null,null,null,null,null,null,null,null,null,null,null,null,null,null,null,null,null,null,null,null,null,null,null,null,null,null,null,null,null,null,null,null,null,null,null,null,null,null,null,null,null,null,null,null,null,null,null,null,null,null,null,null,null,null,null,null,null,null,null,null,null,null,null,null,null,null,null,null,null,null,null,null,null,null,null,null,null,null,null,null,null,null,null,null,null,null,null,null,"",null,{"$f":"IF(BY15=\"\",\"\",\"AgencyEntityInsData Id 222\")","v":""},{"$f":"IF(BY15=\"\",\"\",\"AgencyEntityInstance Id 13\")","v":""},{"$f":"IF(BY15=\"\",\"\",\"del_material\")","v":""},{"$f":"IF(BY15=\"\",\"\",IF(LEFT(Main!F14,4)=\"1007\",\"1007\",IF(LEFT(Main!F14,4)=\"1003\",IF(\"1003\"=0,\"\",\"1003\"),IF(LEFT(Main!F14,4)=\"1010\",\"\",IF(LEFT(Main!F14,4)=\"1009\",\"1009\",IF(\"1005 CA\"=0,\"\",\"1005 CA\"))))))","v":""},{"$f":"IF(BY15=\"\",\"\",TODAY())","v":""},{"$f":"IF(BY15=\"\",\"\",\"WTSYSTEMUSER\")","v":""},{"$f":"IF(BY15=\"\",\"\",TODAY())","v":""},{"$f":"IF(BY15=\"\",\"\",\"WTSYSTEMUSER\")","v":""}]
[null,null,null,null,null,null,null,null,null,null,null,null,null,null,null,null,null,null,null,null,null,null,null,null,null,null,null,null,null,null,null,null,null,null,null,null,null,null,null,null,null,null,null,null,null,null,null,null,null,null,null,null,null,null,null,null,null,null,null,null,null,null,null,null,null,null,null,null,null,null,null,null,null,null,null,null,null,null,null,null,null,null,null,null,null,null,null,null,null,null,null,null,"",null,{"$f":"IF(BY15=\"\",\"\",\"AgencyEntityInsData Id 223\")","v":""},{"$f":"IF(BY15=\"\",\"\",\"AgencyEntityInstance Id 13\")","v":""},{"$f":"IF(BY15=\"\",\"\",\"del_nat_sand\")","v":""},{"$f":"IF(BY15=\"\",\"\",IF(LEFT(Main!F14,4)=\"1007\",\"\",IF(LEFT(Main!F14,4)=\"1003\",\"\",IF(LEFT(Main!F14,4)=\"1010\",\"\",\"\"))))","v":""},{"$f":"IF(BY15=\"\",\"\",TODAY())","v":""},{"$f":"IF(BY15=\"\",\"\",\"WTSYSTEMUSER\")","v":""},{"$f":"IF(BY15=\"\",\"\",TODAY())","v":""},{"$f":"IF(BY15=\"\",\"\",\"WTSYSTEMUSER\")","v":""}]
[null,null,null,null,null,null,null,null,null,null,null,null,null,null,null,null,null,null,null,null,null,null,null,null,null,null,null,null,null,null,null,null,null,null,null,null,null,null,null,null,null,null,null,null,null,null,null,null,null,null,null,null,null,null,null,null,null,null,null,null,null,null,null,null,null,null,null,null,null,null,null,null,null,null,null,null,null,null,null,null,null,null,null,null,null,null,null,null,null,null,null,null,"",null,{"$f":"IF(BY15=\"\",\"\",\"AgencyEntityInsData Id 224\")","v":""},{"$f":"IF(BY15=\"\",\"\",\"AgencyEntityInstance Id 13\")","v":""},{"$f":"IF(BY15=\"\",\"\",\"del_tot_del\")","v":""},{"$f":"IF(BY15=\"\",\"\",IF(LEFT(Main!F14,4)=\"1007\",\"\",IF(LEFT(Main!F14,4)=\"1003\",IF('Test 2'!D50=0,\"\",'Test 2'!D50),IF(LEFT(Main!F14,4)=\"1010\",\"\",IF('Test 2'!D50=0,\"\",'Test 2'!D50)))))","v":""},{"$f":"IF(BY15=\"\",\"\",TODAY())","v":""},{"$f":"IF(BY15=\"\",\"\",\"WTSYSTEMUSER\")","v":""},{"$f":"IF(BY15=\"\",\"\",TODAY())","v":""},{"$f":"IF(BY15=\"\",\"\",\"WTSYSTEMUSER\")","v":""}]
[null,null,null,null,null,null,null,null,null,null,null,null,null,null,null,null,null,null,null,null,null,null,null,null,null,null,null,null,null,null,null,null,null,null,null,null,null,null,null,null,null,null,null,null,null,null,null,null,null,null,null,null,null,null,null,null,null,null,null,null,null,null,null,null,null,null,null,null,null,null,null,null,null,null,null,null,null,null,null,null,null,null,null,null,null,null,null,null,null,null,null,null,"",null,{"$f":"IF(BY16=\"\",\"\",\"AgencyEntityInsData Id 225\")","v":""},{"$f":"IF(BY16=\"\",\"\",\"AgencyEntityInstance Id 14\")","v":""},{"$f":"IF(BY16=\"\",\"\",\"del_ca_200\")","v":""},{"$f":"IF(BY16=\"\",\"\",IF(LEFT(Main!F14,4)=\"1007\",\"\",IF(LEFT(Main!F14,4)=\"1003\",IF('Test 2'!AE48=0,\"\",'Test 2'!AE48),IF(LEFT(Main!F14,4)=\"1010\",\"\",IF('Test 2'!AE48=0,\"\",'Test 2'!AE48)))))","v":""},{"$f":"IF(BY16=\"\",\"\",TODAY())","v":""},{"$f":"IF(BY16=\"\",\"\",\"WTSYSTEMUSER\")","v":""},{"$f":"IF(BY16=\"\",\"\",TODAY())","v":""},{"$f":"IF(BY16=\"\",\"\",\"WTSYSTEMUSER\")","v":""}]
[null,null,null,null,null,null,null,null,null,null,null,null,null,null,null,null,null,null,null,null,null,null,null,null,null,null,null,null,null,null,null,null,null,null,null,null,null,null,null,null,null,null,null,null,null,null,null,null,null,null,null,null,null,null,null,null,null,null,null,null,null,null,null,null,null,null,null,null,null,null,null,null,null,null,null,null,null,null,null,null,null,null,null,null,null,null,null,null,null,null,null,null,"",null,{"$f":"IF(BY16=\"\",\"\",\"AgencyEntityInsData Id 226\")","v":""},{"$f":"IF(BY16=\"\",\"\",\"AgencyEntityInstance Id 14\")","v":""},{"$f":"IF(BY16=\"\",\"\",\"del_ca_chert\")","v":""},{"$f":"IF(BY16=\"\",\"\",IF(LEFT(Main!F14,4)=\"1007\",\"\",IF(LEFT(Main!F14,4)=\"1003\",\"\",IF(LEFT(Main!F14,4)=\"1010\",\"\",IF('Test 2'!AE46=0,\"\",'Test 2'!AE46)))))","v":""},{"$f":"IF(BY16=\"\",\"\",TODAY())","v":""},{"$f":"IF(BY16=\"\",\"\",\"WTSYSTEMUSER\")","v":""},{"$f":"IF(BY16=\"\",\"\",TODAY())","v":""},{"$f":"IF(BY16=\"\",\"\",\"WTSYSTEMUSER\")","v":""}]
[null,null,null,null,null,null,null,null,null,null,null,null,null,null,null,null,null,null,null,null,null,null,null,null,null,null,null,null,null,null,null,null,null,null,null,null,null,null,null,null,null,null,null,null,null,null,null,null,null,null,null,null,null,null,null,null,null,null,null,null,null,null,null,null,null,null,null,null,null,null,null,null,null,null,null,null,null,null,null,null,null,null,null,null,null,null,null,null,null,null,null,null,"",null,{"$f":"IF(BY16=\"\",\"\",\"AgencyEntityInsData Id 227\")","v":""},{"$f":"IF(BY16=\"\",\"\",\"AgencyEntityInstance Id 14\")","v":""},{"$f":"IF(BY16=\"\",\"\",\"del_ca_clay\")","v":""},{"$f":"IF(BY16=\"\",\"\",IF(LEFT(Main!F14,4)=\"1007\",\"\",IF(LEFT(Main!F14,4)=\"1003\",\"\",IF(LEFT(Main!F14,4)=\"1010\",\"\",\"\"))))","v":""},{"$f":"IF(BY16=\"\",\"\",TODAY())","v":""},{"$f":"IF(BY16=\"\",\"\",\"WTSYSTEMUSER\")","v":""},{"$f":"IF(BY16=\"\",\"\",TODAY())","v":""},{"$f":"IF(BY16=\"\",\"\",\"WTSYSTEMUSER\")","v":""}]
[null,null,null,null,null,null,null,null,null,null,null,null,null,null,null,null,null,null,null,null,null,null,null,null,null,null,null,null,null,null,null,null,null,null,null,null,null,null,null,null,null,null,null,null,null,null,null,null,null,null,null,null,null,null,null,null,null,null,null,null,null,null,null,null,null,null,null,null,null,null,null,null,null,null,null,null,null,null,null,null,null,null,null,null,null,null,null,null,null,null,null,null,"",null,{"$f":"IF(BY16=\"\",\"\",\"AgencyEntityInsData Id 228\")","v":""},{"$f":"IF(BY16=\"\",\"\",\"AgencyEntityInstance Id 14\")","v":""},{"$f":"IF(BY16=\"\",\"\",\"del_ca_mud\")","v":""},{"$f":"IF(BY16=\"\",\"\",IF(LEFT(Main!F14,4)=\"1007\",\"\",IF(LEFT(Main!F14,4)=\"1003\",\"\",IF(LEFT(Main!F14,4)=\"1010\",\"\",\"\"))))","v":""},{"$f":"IF(BY16=\"\",\"\",TODAY())","v":""},{"$f":"IF(BY16=\"\",\"\",\"WTSYSTEMUSER\")","v":""},{"$f":"IF(BY16=\"\",\"\",TODAY())","v":""},{"$f":"IF(BY16=\"\",\"\",\"WTSYSTEMUSER\")","v":""}]
[null,null,null,null,null,null,null,null,null,null,null,null,null,null,null,null,null,null,null,null,null,null,null,null,null,null,null,null,null,null,null,null,null,null,null,null,null,null,null,null,null,null,null,null,null,null,null,null,null,null,null,null,null,null,null,null,null,null,null,null,null,null,null,null,null,null,null,null,null,null,null,null,null,null,null,null,null,null,null,null,null,null,null,null,null,null,null,null,null,null,null,null,"",null,{"$f":"IF(BY16=\"\",\"\",\"AgencyEntityInsData Id 229\")","v":""},{"$f":"IF(BY16=\"\",\"\",\"AgencyEntityInstance Id 14\")","v":""},{"$f":"IF(BY16=\"\",\"\",\"del_ca_mud_sh\")","v":""},{"$f":"IF(BY16=\"\",\"\",IF(LEFT(Main!F14,4)=\"1007\",\"\",IF(LEFT(Main!F14,4)=\"1003\",\"\",IF(LEFT(Main!F14,4)=\"1010\",\"\",\"\"))))","v":""},{"$f":"IF(BY16=\"\",\"\",TODAY())","v":""},{"$f":"IF(BY16=\"\",\"\",\"WTSYSTEMUSER\")","v":""},{"$f":"IF(BY16=\"\",\"\",TODAY())","v":""},{"$f":"IF(BY16=\"\",\"\",\"WTSYSTEMUSER\")","v":""}]
[null,null,null,null,null,null,null,null,null,null,null,null,null,null,null,null,null,null,null,null,null,null,null,null,null,null,null,null,null,null,null,null,null,null,null,null,null,null,null,null,null,null,null,null,null,null,null,null,null,null,null,null,null,null,null,null,null,null,null,null,null,null,null,null,null,null,null,null,null,null,null,null,null,null,null,null,null,null,null,null,null,null,null,null,null,null,null,null,null,null,null,null,"",null,{"$f":"IF(BY16=\"\",\"\",\"AgencyEntityInsData Id 230\")","v":""},{"$f":"IF(BY16=\"\",\"\",\"AgencyEntityInstance Id 14\")","v":""},{"$f":"IF(BY16=\"\",\"\",\"del_ca_ofm\")","v":""},{"$f":"IF(BY16=\"\",\"\",IF(LEFT(Main!F14,4)=\"1007\",\"\",IF(LEFT(Main!F14,4)=\"1003\",IF('Test 2'!AE47=0,\"\",'Test 2'!AE47),IF(LEFT(Main!F14,4)=\"1010\",\"\",IF('Test 2'!AE47=0,\"\",'Test 2'!AE47)))))","v":""},{"$f":"IF(BY16=\"\",\"\",TODAY())","v":""},{"$f":"IF(BY16=\"\",\"\",\"WTSYSTEMUSER\")","v":""},{"$f":"IF(BY16=\"\",\"\",TODAY())","v":""},{"$f":"IF(BY16=\"\",\"\",\"WTSYSTEMUSER\")","v":""}]
[null,null,null,null,null,null,null,null,null,null,null,null,null,null,null,null,null,null,null,null,null,null,null,null,null,null,null,null,null,null,null,null,null,null,null,null,null,null,null,null,null,null,null,null,null,null,null,null,null,null,null,null,null,null,null,null,null,null,null,null,null,null,null,null,null,null,null,null,null,null,null,null,null,null,null,null,null,null,null,null,null,null,null,null,null,null,null,null,null,null,null,null,"",null,{"$f":"IF(BY16=\"\",\"\",\"AgencyEntityInsData Id 231\")","v":""},{"$f":"IF(BY16=\"\",\"\",\"AgencyEntityInstance Id 14\")","v":""},{"$f":"IF(BY16=\"\",\"\",\"del_ca_rock\")","v":""},{"$f":"IF(BY16=\"\",\"\",IF(LEFT(Main!F14,4)=\"1007\",\"\",IF(LEFT(Main!F14,4)=\"1003\",IF('Test 2'!AE44=0,\"\",'Test 2'!AE44),IF(LEFT(Main!F14,4)=\"1010\",\"\",IF('Test 2'!AE44=0,\"\",'Test 2'!AE44)))))","v":""},{"$f":"IF(BY16=\"\",\"\",TODAY())","v":""},{"$f":"IF(BY16=\"\",\"\",\"WTSYSTEMUSER\")","v":""},{"$f":"IF(BY16=\"\",\"\",TODAY())","v":""},{"$f":"IF(BY16=\"\",\"\",\"WTSYSTEMUSER\")","v":""}]
[null,null,null,null,null,null,null,null,null,null,null,null,null,null,null,null,null,null,null,null,null,null,null,null,null,null,null,null,null,null,null,null,null,null,null,null,null,null,null,null,null,null,null,null,null,null,null,null,null,null,null,null,null,null,null,null,null,null,null,null,null,null,null,null,null,null,null,null,null,null,null,null,null,null,null,null,null,null,null,null,null,null,null,null,null,null,null,null,null,null,null,null,"",null,{"$f":"IF(BY16=\"\",\"\",\"AgencyEntityInsData Id 232\")","v":""},{"$f":"IF(BY16=\"\",\"\",\"AgencyEntityInstance Id 14\")","v":""},{"$f":"IF(BY16=\"\",\"\",\"del_ca_rock_sh\")","v":""},{"$f":"IF(BY16=\"\",\"\",IF(LEFT(Main!F14,4)=\"1007\",IF('Test 1'!AE36=0,\"\",'Test 1'!AE36),IF(LEFT(Main!F14,4)=\"1003\",\"\",IF(LEFT(Main!F14,4)=\"1010\",\"\",\"\"))))","v":""},{"$f":"IF(BY16=\"\",\"\",TODAY())","v":""},{"$f":"IF(BY16=\"\",\"\",\"WTSYSTEMUSER\")","v":""},{"$f":"IF(BY16=\"\",\"\",TODAY())","v":""},{"$f":"IF(BY16=\"\",\"\",\"WTSYSTEMUSER\")","v":""}]
[null,null,null,null,null,null,null,null,null,null,null,null,null,null,null,null,null,null,null,null,null,null,null,null,null,null,null,null,null,null,null,null,null,null,null,null,null,null,null,null,null,null,null,null,null,null,null,null,null,null,null,null,null,null,null,null,null,null,null,null,null,null,null,null,null,null,null,null,null,null,null,null,null,null,null,null,null,null,null,null,null,null,null,null,null,null,null,null,null,null,null,null,"",null,{"$f":"IF(BY16=\"\",\"\",\"AgencyEntityInsData Id 233\")","v":""},{"$f":"IF(BY16=\"\",\"\",\"AgencyEntityInstance Id 14\")","v":""},{"$f":"IF(BY16=\"\",\"\",\"del_ca_sh\")","v":""},{"$f":"IF(BY16=\"\",\"\",IF(LEFT(Main!F14,4)=\"1007\",\"\",IF(LEFT(Main!F14,4)=\"1003\",IF('Test 2'!AE45=0,\"\",'Test 2'!AE45),IF(LEFT(Main!F14,4)=\"1010\",\"\",IF('Test 2'!AE45=0,\"\",'Test 2'!AE45)))))","v":""},{"$f":"IF(BY16=\"\",\"\",TODAY())","v":""},{"$f":"IF(BY16=\"\",\"\",\"WTSYSTEMUSER\")","v":""},{"$f":"IF(BY16=\"\",\"\",TODAY())","v":""},{"$f":"IF(BY16=\"\",\"\",\"WTSYSTEMUSER\")","v":""}]
[null,null,null,null,null,null,null,null,null,null,null,null,null,null,null,null,null,null,null,null,null,null,null,null,null,null,null,null,null,null,null,null,null,null,null,null,null,null,null,null,null,null,null,null,null,null,null,null,null,null,null,null,null,null,null,null,null,null,null,null,null,null,null,null,null,null,null,null,null,null,null,null,null,null,null,null,null,null,null,null,null,null,null,null,null,null,null,null,null,null,null,null,"",null,{"$f":"IF(BY16=\"\",\"\",\"AgencyEntityInsData Id 234\")","v":""},{"$f":"IF(BY16=\"\",\"\",\"AgencyEntityInstance Id 14\")","v":""},{"$f":"IF(BY16=\"\",\"\",\"del_fa_clay_sh\")","v":""},{"$f":"IF(BY16=\"\",\"\",IF(LEFT(Main!F14,4)=\"1007\",\"\",IF(LEFT(Main!F14,4)=\"1003\",\"\",IF(LEFT(Main!F14,4)=\"1010\",\"\",\"\"))))","v":""},{"$f":"IF(BY16=\"\",\"\",TODAY())","v":""},{"$f":"IF(BY16=\"\",\"\",\"WTSYSTEMUSER\")","v":""},{"$f":"IF(BY16=\"\",\"\",TODAY())","v":""},{"$f":"IF(BY16=\"\",\"\",\"WTSYSTEMUSER\")","v":""}]
[null,null,null,null,null,null,null,null,null,null,null,null,null,null,null,null,null,null,null,null,null,null,null,null,null,null,null,null,null,null,null,null,null,null,null,null,null,null,null,null,null,null,null,null,null,null,null,null,null,null,null,null,null,null,null,null,null,null,null,null,null,null,null,null,null,null,null,null,null,null,null,null,null,null,null,null,null,null,null,null,null,null,null,null,null,null,null,null,null,null,null,null,"",null,{"$f":"IF(BY16=\"\",\"\",\"AgencyEntityInsData Id 235\")","v":""},{"$f":"IF(BY16=\"\",\"\",\"AgencyEntityInstance Id 14\")","v":""},{"$f":"IF(BY16=\"\",\"\",\"del_fa_coal\")","v":""},{"$f":"IF(BY16=\"\",\"\",IF(LEFT(Main!F14,4)=\"1007\",\"\",IF(LEFT(Main!F14,4)=\"1003\",\"\",IF(LEFT(Main!F14,4)=\"1010\",\"\",\"\"))))","v":""},{"$f":"IF(BY16=\"\",\"\",TODAY())","v":""},{"$f":"IF(BY16=\"\",\"\",\"WTSYSTEMUSER\")","v":""},{"$f":"IF(BY16=\"\",\"\",TODAY())","v":""},{"$f":"IF(BY16=\"\",\"\",\"WTSYSTEMUSER\")","v":""}]
[null,null,null,null,null,null,null,null,null,null,null,null,null,null,null,null,null,null,null,null,null,null,null,null,null,null,null,null,null,null,null,null,null,null,null,null,null,null,null,null,null,null,null,null,null,null,null,null,null,null,null,null,null,null,null,null,null,null,null,null,null,null,null,null,null,null,null,null,null,null,null,null,null,null,null,null,null,null,null,null,null,null,null,null,null,null,null,null,null,null,null,null,"",null,{"$f":"IF(BY16=\"\",\"\",\"AgencyEntityInsData Id 236\")","v":""},{"$f":"IF(BY16=\"\",\"\",\"AgencyEntityInstance Id 14\")","v":""},{"$f":"IF(BY16=\"\",\"\",\"del_fa_lw\")","v":""},{"$f":"IF(BY16=\"\",\"\",IF(LEFT(Main!F14,4)=\"1007\",\"\",IF(LEFT(Main!F14,4)=\"1003\",\"\",IF(LEFT(Main!F14,4)=\"1010\",\"\",\"\"))))","v":""},{"$f":"IF(BY16=\"\",\"\",TODAY())","v":""},{"$f":"IF(BY16=\"\",\"\",\"WTSYSTEMUSER\")","v":""},{"$f":"IF(BY16=\"\",\"\",TODAY())","v":""},{"$f":"IF(BY16=\"\",\"\",\"WTSYSTEMUSER\")","v":""}]
[null,null,null,null,null,null,null,null,null,null,null,null,null,null,null,null,null,null,null,null,null,null,null,null,null,null,null,null,null,null,null,null,null,null,null,null,null,null,null,null,null,null,null,null,null,null,null,null,null,null,null,null,null,null,null,null,null,null,null,null,null,null,null,null,null,null,null,null,null,null,null,null,null,null,null,null,null,null,null,null,null,null,null,null,null,null,null,null,null,null,null,null,"",null,{"$f":"IF(BY16=\"\",\"\",\"AgencyEntityInsData Id 237\")","v":""},{"$f":"IF(BY16=\"\",\"\",\"AgencyEntityInstance Id 14\")","v":""},{"$f":"IF(BY16=\"\",\"\",\"del_fa_other\")","v":""},{"$f":"IF(BY16=\"\",\"\",IF(LEFT(Main!F14,4)=\"1007\",\"\",IF(LEFT(Main!F14,4)=\"1003\",\"\",IF(LEFT(Main!F14,4)=\"1010\",\"\",\"\"))))","v":""},{"$f":"IF(BY16=\"\",\"\",TODAY())","v":""},{"$f":"IF(BY16=\"\",\"\",\"WTSYSTEMUSER\")","v":""},{"$f":"IF(BY16=\"\",\"\",TODAY())","v":""},{"$f":"IF(BY16=\"\",\"\",\"WTSYSTEMUSER\")","v":""}]
[null,null,null,null,null,null,null,null,null,null,null,null,null,null,null,null,null,null,null,null,null,null,null,null,null,null,null,null,null,null,null,null,null,null,null,null,null,null,null,null,null,null,null,null,null,null,null,null,null,null,null,null,null,null,null,null,null,null,null,null,null,null,null,null,null,null,null,null,null,null,null,null,null,null,null,null,null,null,null,null,null,null,null,null,null,null,null,null,null,null,null,null,"",null,{"$f":"IF(BY16=\"\",\"\",\"AgencyEntityInsData Id 238\")","v":""},{"$f":"IF(BY16=\"\",\"\",\"AgencyEntityInstance Id 14\")","v":""},{"$f":"IF(BY16=\"\",\"\",\"del_man_sand\")","v":""},{"$f":"IF(BY16=\"\",\"\",IF(LEFT(Main!F14,4)=\"1007\",\"\",IF(LEFT(Main!F14,4)=\"1003\",\"\",IF(LEFT(Main!F14,4)=\"1010\",\"\",\"\"))))","v":""},{"$f":"IF(BY16=\"\",\"\",TODAY())","v":""},{"$f":"IF(BY16=\"\",\"\",\"WTSYSTEMUSER\")","v":""},{"$f":"IF(BY16=\"\",\"\",TODAY())","v":""},{"$f":"IF(BY16=\"\",\"\",\"WTSYSTEMUSER\")","v":""}]
[null,null,null,null,null,null,null,null,null,null,null,null,null,null,null,null,null,null,null,null,null,null,null,null,null,null,null,null,null,null,null,null,null,null,null,null,null,null,null,null,null,null,null,null,null,null,null,null,null,null,null,null,null,null,null,null,null,null,null,null,null,null,null,null,null,null,null,null,null,null,null,null,null,null,null,null,null,null,null,null,null,null,null,null,null,null,null,null,null,null,null,null,"",null,{"$f":"IF(BY16=\"\",\"\",\"AgencyEntityInsData Id 239\")","v":""},{"$f":"IF(BY16=\"\",\"\",\"AgencyEntityInstance Id 14\")","v":""},{"$f":"IF(BY16=\"\",\"\",\"del_material\")","v":""},{"$f":"IF(BY16=\"\",\"\",IF(LEFT(Main!F14,4)=\"1007\",\"1007\",IF(LEFT(Main!F14,4)=\"1003\",IF(\"1003\"=0,\"\",\"1003\"),IF(LEFT(Main!F14,4)=\"1010\",\"\",IF(LEFT(Main!F14,4)=\"1009\",\"1009\",IF(\"1005 CA\"=0,\"\",\"1005 CA\"))))))","v":""},{"$f":"IF(BY16=\"\",\"\",TODAY())","v":""},{"$f":"IF(BY16=\"\",\"\",\"WTSYSTEMUSER\")","v":""},{"$f":"IF(BY16=\"\",\"\",TODAY())","v":""},{"$f":"IF(BY16=\"\",\"\",\"WTSYSTEMUSER\")","v":""}]
[null,null,null,null,null,null,null,null,null,null,null,null,null,null,null,null,null,null,null,null,null,null,null,null,null,null,null,null,null,null,null,null,null,null,null,null,null,null,null,null,null,null,null,null,null,null,null,null,null,null,null,null,null,null,null,null,null,null,null,null,null,null,null,null,null,null,null,null,null,null,null,null,null,null,null,null,null,null,null,null,null,null,null,null,null,null,null,null,null,null,null,null,"",null,{"$f":"IF(BY16=\"\",\"\",\"AgencyEntityInsData Id 240\")","v":""},{"$f":"IF(BY16=\"\",\"\",\"AgencyEntityInstance Id 14\")","v":""},{"$f":"IF(BY16=\"\",\"\",\"del_nat_sand\")","v":""},{"$f":"IF(BY16=\"\",\"\",IF(LEFT(Main!F14,4)=\"1007\",\"\",IF(LEFT(Main!F14,4)=\"1003\",\"\",IF(LEFT(Main!F14,4)=\"1010\",\"\",\"\"))))","v":""},{"$f":"IF(BY16=\"\",\"\",TODAY())","v":""},{"$f":"IF(BY16=\"\",\"\",\"WTSYSTEMUSER\")","v":""},{"$f":"IF(BY16=\"\",\"\",TODAY())","v":""},{"$f":"IF(BY16=\"\",\"\",\"WTSYSTEMUSER\")","v":""}]
[null,null,null,null,null,null,null,null,null,null,null,null,null,null,null,null,null,null,null,null,null,null,null,null,null,null,null,null,null,null,null,null,null,null,null,null,null,null,null,null,null,null,null,null,null,null,null,null,null,null,null,null,null,null,null,null,null,null,null,null,null,null,null,null,null,null,null,null,null,null,null,null,null,null,null,null,null,null,null,null,null,null,null,null,null,null,null,null,null,null,null,null,"",null,{"$f":"IF(BY16=\"\",\"\",\"AgencyEntityInsData Id 241\")","v":""},{"$f":"IF(BY16=\"\",\"\",\"AgencyEntityInstance Id 14\")","v":""},{"$f":"IF(BY16=\"\",\"\",\"del_tot_del\")","v":""},{"$f":"IF(BY16=\"\",\"\",IF(LEFT(Main!F14,4)=\"1007\",\"\",IF(LEFT(Main!F14,4)=\"1003\",IF('Test 2'!H50=0,\"\",'Test 2'!H50),IF(LEFT(Main!F14,4)=\"1010\",\"\",IF('Test 2'!H50=0,\"\",'Test 2'!H50)))))","v":""},{"$f":"IF(BY16=\"\",\"\",TODAY())","v":""},{"$f":"IF(BY16=\"\",\"\",\"WTSYSTEMUSER\")","v":""},{"$f":"IF(BY16=\"\",\"\",TODAY())","v":""},{"$f":"IF(BY16=\"\",\"\",\"WTSYSTEMUSER\")","v":""}]
[null,null,null,null,null,null,null,null,null,null,null,null,null,null,null,null,null,null,null,null,null,null,null,null,null,null,null,null,null,null,null,null,null,null,null,null,null,null,null,null,null,null,null,null,null,null,null,null,null,null,null,null,null,null,null,null,null,null,null,null,null,null,null,null,null,null,null,null,null,null,null,null,null,null,null,null,null,null,null,null,null,null,null,null,null,null,null,null,null,null,null,null,"",null,{"$f":"IF(BY17=\"\",\"\",\"AgencyEntityInsData Id 242\")","v":""},{"$f":"IF(BY17=\"\",\"\",\"AgencyEntityInstance Id 15\")","v":""},{"$f":"IF(BY17=\"\",\"\",\"del_ca_200\")","v":""},{"$f":"IF(BY17=\"\",\"\",IF(LEFT(Main!F14,4)=\"1007\",\"\",IF(LEFT(Main!F14,4)=\"1003\",IF('Test 2'!AF48=0,\"\",'Test 2'!AF48),IF(LEFT(Main!F14,4)=\"1010\",\"\",IF('Test 2'!AF48=0,\"\",'Test 2'!AF48)))))","v":""},{"$f":"IF(BY17=\"\",\"\",TODAY())","v":""},{"$f":"IF(BY17=\"\",\"\",\"WTSYSTEMUSER\")","v":""},{"$f":"IF(BY17=\"\",\"\",TODAY())","v":""},{"$f":"IF(BY17=\"\",\"\",\"WTSYSTEMUSER\")","v":""}]
[null,null,null,null,null,null,null,null,null,null,null,null,null,null,null,null,null,null,null,null,null,null,null,null,null,null,null,null,null,null,null,null,null,null,null,null,null,null,null,null,null,null,null,null,null,null,null,null,null,null,null,null,null,null,null,null,null,null,null,null,null,null,null,null,null,null,null,null,null,null,null,null,null,null,null,null,null,null,null,null,null,null,null,null,null,null,null,null,null,null,null,null,"",null,{"$f":"IF(BY17=\"\",\"\",\"AgencyEntityInsData Id 243\")","v":""},{"$f":"IF(BY17=\"\",\"\",\"AgencyEntityInstance Id 15\")","v":""},{"$f":"IF(BY17=\"\",\"\",\"del_ca_chert\")","v":""},{"$f":"IF(BY17=\"\",\"\",IF(LEFT(Main!F14,4)=\"1007\",\"\",IF(LEFT(Main!F14,4)=\"1003\",\"\",IF(LEFT(Main!F14,4)=\"1010\",\"\",IF('Test 2'!AF46=0,\"\",'Test 2'!AF46)))))","v":""},{"$f":"IF(BY17=\"\",\"\",TODAY())","v":""},{"$f":"IF(BY17=\"\",\"\",\"WTSYSTEMUSER\")","v":""},{"$f":"IF(BY17=\"\",\"\",TODAY())","v":""},{"$f":"IF(BY17=\"\",\"\",\"WTSYSTEMUSER\")","v":""}]
[null,null,null,null,null,null,null,null,null,null,null,null,null,null,null,null,null,null,null,null,null,null,null,null,null,null,null,null,null,null,null,null,null,null,null,null,null,null,null,null,null,null,null,null,null,null,null,null,null,null,null,null,null,null,null,null,null,null,null,null,null,null,null,null,null,null,null,null,null,null,null,null,null,null,null,null,null,null,null,null,null,null,null,null,null,null,null,null,null,null,null,null,"",null,{"$f":"IF(BY17=\"\",\"\",\"AgencyEntityInsData Id 244\")","v":""},{"$f":"IF(BY17=\"\",\"\",\"AgencyEntityInstance Id 15\")","v":""},{"$f":"IF(BY17=\"\",\"\",\"del_ca_clay\")","v":""},{"$f":"IF(BY17=\"\",\"\",IF(LEFT(Main!F14,4)=\"1007\",\"\",IF(LEFT(Main!F14,4)=\"1003\",\"\",IF(LEFT(Main!F14,4)=\"1010\",\"\",\"\"))))","v":""},{"$f":"IF(BY17=\"\",\"\",TODAY())","v":""},{"$f":"IF(BY17=\"\",\"\",\"WTSYSTEMUSER\")","v":""},{"$f":"IF(BY17=\"\",\"\",TODAY())","v":""},{"$f":"IF(BY17=\"\",\"\",\"WTSYSTEMUSER\")","v":""}]
[null,null,null,null,null,null,null,null,null,null,null,null,null,null,null,null,null,null,null,null,null,null,null,null,null,null,null,null,null,null,null,null,null,null,null,null,null,null,null,null,null,null,null,null,null,null,null,null,null,null,null,null,null,null,null,null,null,null,null,null,null,null,null,null,null,null,null,null,null,null,null,null,null,null,null,null,null,null,null,null,null,null,null,null,null,null,null,null,null,null,null,null,"",null,{"$f":"IF(BY17=\"\",\"\",\"AgencyEntityInsData Id 245\")","v":""},{"$f":"IF(BY17=\"\",\"\",\"AgencyEntityInstance Id 15\")","v":""},{"$f":"IF(BY17=\"\",\"\",\"del_ca_mud\")","v":""},{"$f":"IF(BY17=\"\",\"\",IF(LEFT(Main!F14,4)=\"1007\",\"\",IF(LEFT(Main!F14,4)=\"1003\",\"\",IF(LEFT(Main!F14,4)=\"1010\",\"\",\"\"))))","v":""},{"$f":"IF(BY17=\"\",\"\",TODAY())","v":""},{"$f":"IF(BY17=\"\",\"\",\"WTSYSTEMUSER\")","v":""},{"$f":"IF(BY17=\"\",\"\",TODAY())","v":""},{"$f":"IF(BY17=\"\",\"\",\"WTSYSTEMUSER\")","v":""}]
[null,null,null,null,null,null,null,null,null,null,null,null,null,null,null,null,null,null,null,null,null,null,null,null,null,null,null,null,null,null,null,null,null,null,null,null,null,null,null,null,null,null,null,null,null,null,null,null,null,null,null,null,null,null,null,null,null,null,null,null,null,null,null,null,null,null,null,null,null,null,null,null,null,null,null,null,null,null,null,null,null,null,null,null,null,null,null,null,null,null,null,null,"",null,{"$f":"IF(BY17=\"\",\"\",\"AgencyEntityInsData Id 246\")","v":""},{"$f":"IF(BY17=\"\",\"\",\"AgencyEntityInstance Id 15\")","v":""},{"$f":"IF(BY17=\"\",\"\",\"del_ca_mud_sh\")","v":""},{"$f":"IF(BY17=\"\",\"\",IF(LEFT(Main!F14,4)=\"1007\",\"\",IF(LEFT(Main!F14,4)=\"1003\",\"\",IF(LEFT(Main!F14,4)=\"1010\",\"\",\"\"))))","v":""},{"$f":"IF(BY17=\"\",\"\",TODAY())","v":""},{"$f":"IF(BY17=\"\",\"\",\"WTSYSTEMUSER\")","v":""},{"$f":"IF(BY17=\"\",\"\",TODAY())","v":""},{"$f":"IF(BY17=\"\",\"\",\"WTSYSTEMUSER\")","v":""}]
[null,null,null,null,null,null,null,null,null,null,null,null,null,null,null,null,null,null,null,null,null,null,null,null,null,null,null,null,null,null,null,null,null,null,null,null,null,null,null,null,null,null,null,null,null,null,null,null,null,null,null,null,null,null,null,null,null,null,null,null,null,null,null,null,null,null,null,null,null,null,null,null,null,null,null,null,null,null,null,null,null,null,null,null,null,null,null,null,null,null,null,null,"",null,{"$f":"IF(BY17=\"\",\"\",\"AgencyEntityInsData Id 247\")","v":""},{"$f":"IF(BY17=\"\",\"\",\"AgencyEntityInstance Id 15\")","v":""},{"$f":"IF(BY17=\"\",\"\",\"del_ca_ofm\")","v":""},{"$f":"IF(BY17=\"\",\"\",IF(LEFT(Main!F14,4)=\"1007\",\"\",IF(LEFT(Main!F14,4)=\"1003\",IF('Test 2'!AF47=0,\"\",'Test 2'!AF47),IF(LEFT(Main!F14,4)=\"1010\",\"\",IF('Test 2'!AF47=0,\"\",'Test 2'!AF47)))))","v":""},{"$f":"IF(BY17=\"\",\"\",TODAY())","v":""},{"$f":"IF(BY17=\"\",\"\",\"WTSYSTEMUSER\")","v":""},{"$f":"IF(BY17=\"\",\"\",TODAY())","v":""},{"$f":"IF(BY17=\"\",\"\",\"WTSYSTEMUSER\")","v":""}]
[null,null,null,null,null,null,null,null,null,null,null,null,null,null,null,null,null,null,null,null,null,null,null,null,null,null,null,null,null,null,null,null,null,null,null,null,null,null,null,null,null,null,null,null,null,null,null,null,null,null,null,null,null,null,null,null,null,null,null,null,null,null,null,null,null,null,null,null,null,null,null,null,null,null,null,null,null,null,null,null,null,null,null,null,null,null,null,null,null,null,null,null,"",null,{"$f":"IF(BY17=\"\",\"\",\"AgencyEntityInsData Id 248\")","v":""},{"$f":"IF(BY17=\"\",\"\",\"AgencyEntityInstance Id 15\")","v":""},{"$f":"IF(BY17=\"\",\"\",\"del_ca_rock\")","v":""},{"$f":"IF(BY17=\"\",\"\",IF(LEFT(Main!F14,4)=\"1007\",\"\",IF(LEFT(Main!F14,4)=\"1003\",IF('Test 2'!AF44=0,\"\",'Test 2'!AF44),IF(LEFT(Main!F14,4)=\"1010\",\"\",IF('Test 2'!AF44=0,\"\",'Test 2'!AF44)))))","v":""},{"$f":"IF(BY17=\"\",\"\",TODAY())","v":""},{"$f":"IF(BY17=\"\",\"\",\"WTSYSTEMUSER\")","v":""},{"$f":"IF(BY17=\"\",\"\",TODAY())","v":""},{"$f":"IF(BY17=\"\",\"\",\"WTSYSTEMUSER\")","v":""}]
[null,null,null,null,null,null,null,null,null,null,null,null,null,null,null,null,null,null,null,null,null,null,null,null,null,null,null,null,null,null,null,null,null,null,null,null,null,null,null,null,null,null,null,null,null,null,null,null,null,null,null,null,null,null,null,null,null,null,null,null,null,null,null,null,null,null,null,null,null,null,null,null,null,null,null,null,null,null,null,null,null,null,null,null,null,null,null,null,null,null,null,null,"",null,{"$f":"IF(BY17=\"\",\"\",\"AgencyEntityInsData Id 250\")","v":""},{"$f":"IF(BY17=\"\",\"\",\"AgencyEntityInstance Id 15\")","v":""},{"$f":"IF(BY17=\"\",\"\",\"del_ca_sh\")","v":""},{"$f":"IF(BY17=\"\",\"\",IF(LEFT(Main!F14,4)=\"1007\",\"\",IF(LEFT(Main!F14,4)=\"1003\",IF('Test 2'!AF45=0,\"\",'Test 2'!AF45),IF(LEFT(Main!F14,4)=\"1010\",\"\",IF('Test 2'!AF45=0,\"\",'Test 2'!AF45)))))","v":""},{"$f":"IF(BY17=\"\",\"\",TODAY())","v":""},{"$f":"IF(BY17=\"\",\"\",\"WTSYSTEMUSER\")","v":""},{"$f":"IF(BY17=\"\",\"\",TODAY())","v":""},{"$f":"IF(BY17=\"\",\"\",\"WTSYSTEMUSER\")","v":""}]
[null,null,null,null,null,null,null,null,null,null,null,null,null,null,null,null,null,null,null,null,null,null,null,null,null,null,null,null,null,null,null,null,null,null,null,null,null,null,null,null,null,null,null,null,null,null,null,null,null,null,null,null,null,null,null,null,null,null,null,null,null,null,null,null,null,null,null,null,null,null,null,null,null,null,null,null,null,null,null,null,null,null,null,null,null,null,null,null,null,null,null,null,"",null,{"$f":"IF(BY17=\"\",\"\",\"AgencyEntityInsData Id 254\")","v":""},{"$f":"IF(BY17=\"\",\"\",\"AgencyEntityInstance Id 15\")","v":""},{"$f":"IF(BY17=\"\",\"\",\"del_fa_other\")","v":""},{"$f":"IF(BY17=\"\",\"\",IF(LEFT(Main!F14,4)=\"1007\",\"\",IF(LEFT(Main!F14,4)=\"1003\",\"\",IF(LEFT(Main!F14,4)=\"1010\",\"\",\"\"))))","v":""},{"$f":"IF(BY17=\"\",\"\",TODAY())","v":""},{"$f":"IF(BY17=\"\",\"\",\"WTSYSTEMUSER\")","v":""},{"$f":"IF(BY17=\"\",\"\",TODAY())","v":""},{"$f":"IF(BY17=\"\",\"\",\"WTSYSTEMUSER\")","v":""}]
[null,null,null,null,null,null,null,null,null,null,null,null,null,null,null,null,null,null,null,null,null,null,null,null,null,null,null,null,null,null,null,null,null,null,null,null,null,null,null,null,null,null,null,null,null,null,null,null,null,null,null,null,null,null,null,null,null,null,null,null,null,null,null,null,null,null,null,null,null,null,null,null,null,null,null,null,null,null,null,null,null,null,null,null,null,null,null,null,null,null,null,null,"",null,{"$f":"IF(BY18=\"\",\"\",\"AgencyEntityInsData Id 259\")","v":""},{"$f":"IF(BY18=\"\",\"\",\"AgencyEntityInstance Id 16\")","v":""},{"$f":"IF(BY18=\"\",\"\",\"del_ca_200\")","v":""},{"$f":"IF(BY18=\"\",\"\",IF(LEFT(Main!F14,4)=\"1007\",\"\",IF(LEFT(Main!F14,4)=\"1003\",IF('Test 2'!AG48=0,\"\",'Test 2'!AG48),IF(LEFT(Main!F14,4)=\"1010\",\"\",IF('Test 2'!AG48=0,\"\",'Test 2'!AG48)))))","v":""},{"$f":"IF(BY18=\"\",\"\",TODAY())","v":""},{"$f":"IF(BY18=\"\",\"\",\"WTSYSTEMUSER\")","v":""},{"$f":"IF(BY18=\"\",\"\",TODAY())","v":""},{"$f":"IF(BY18=\"\",\"\",\"WTSYSTEMUSER\")","v":""}]
[null,null,null,null,null,null,null,null,null,null,null,null,null,null,null,null,null,null,null,null,null,null,null,null,null,null,null,null,null,null,null,null,null,null,null,null,null,null,null,null,null,null,null,null,null,null,null,null,null,null,null,null,null,null,null,null,null,null,null,null,null,null,null,null,null,null,null,null,null,null,null,null,null,null,null,null,null,null,null,null,null,null,null,null,null,null,null,null,null,null,null,null,"",null,{"$f":"IF(BY18=\"\",\"\",\"AgencyEntityInsData Id 265\")","v":""},{"$f":"IF(BY18=\"\",\"\",\"AgencyEntityInstance Id 16\")","v":""},{"$f":"IF(BY18=\"\",\"\",\"del_ca_rock\")","v":""},{"$f":"IF(BY18=\"\",\"\",IF(LEFT(Main!F14,4)=\"1007\",\"\",IF(LEFT(Main!F14,4)=\"1003\",IF('Test 2'!AG44=0,\"\",'Test 2'!AG44),IF(LEFT(Main!F14,4)=\"1010\",\"\",IF('Test 2'!AG44=0,\"\",'Test 2'!AG44)))))","v":""},{"$f":"IF(BY18=\"\",\"\",TODAY())","v":""},{"$f":"IF(BY18=\"\",\"\",\"WTSYSTEMUSER\")","v":""},{"$f":"IF(BY18=\"\",\"\",TODAY())","v":""},{"$f":"IF(BY18=\"\",\"\",\"WTSYSTEMUSER\")","v":""}]
[null,null,null,null,null,null,null,null,null,null,null,null,null,null,null,null,null,null,null,null,null,null,null,null,null,null,null,null,null,null,null,null,null,null,null,null,null,null,null,null,null,null,null,null,null,null,null,null,null,null,null,null,null,null,null,null,null,null,null,null,null,null,null,null,null,null,null,null,null,null,null,null,null,null,null,null,null,null,null,null,null,null,null,null,null,null,null,null,null,null,null,null,"",null,{"$f":"IF(BY18=\"\",\"\",\"AgencyEntityInsData Id 270\")","v":""},{"$f":"IF(BY18=\"\",\"\",\"AgencyEntityInstance Id 16\")","v":""},{"$f":"IF(BY18=\"\",\"\",\"del_fa_lw\")","v":""},{"$f":"IF(BY18=\"\",\"\",IF(LEFT(Main!F14,4)=\"1007\",\"\",IF(LEFT(Main!F14,4)=\"1003\",\"\",IF(LEFT(Main!F14,4)=\"1010\",\"\",\"\"))))","v":""},{"$f":"IF(BY18=\"\",\"\",TODAY())","v":""},{"$f":"IF(BY18=\"\",\"\",\"WTSYSTEMUSER\")","v":""},{"$f":"IF(BY18=\"\",\"\",TODAY())","v":""},{"$f":"IF(BY18=\"\",\"\",\"WTSYSTEMUSER\")","v":""}]
[null,null,null,null,null,null,null,null,null,null,null,null,null,null,null,null,null,null,null,null,null,null,null,null,null,null,null,null,null,null,null,null,null,null,null,null,null,null,null,null,null,null,null,null,null,null,null,null,null,null,null,null,null,null,null,null,null,null,null,null,null,null,null,null,null,null,null,null,null,null,null,null,null,null,null,null,null,null,null,null,null,null,null,null,null,null,null,null,null,null,null,null,"",null,{"$f":"IF(BY18=\"\",\"\",\"AgencyEntityInsData Id 275\")","v":""},{"$f":"IF(BY18=\"\",\"\",\"AgencyEntityInstance Id 16\")","v":""},{"$f":"IF(BY18=\"\",\"\",\"del_tot_del\")","v":""},{"$f":"IF(BY18=\"\",\"\",IF(LEFT(Main!F14,4)=\"1007\",\"\",IF(LEFT(Main!F14,4)=\"1003\",IF('Test 2'!P50=0,\"\",'Test 2'!P50),IF(LEFT(Main!F14,4)=\"1010\",\"\",IF('Test 2'!P50=0,\"\",'Test 2'!P50)))))","v":""},{"$f":"IF(BY18=\"\",\"\",TODAY())","v":""},{"$f":"IF(BY18=\"\",\"\",\"WTSYSTEMUSER\")","v":""},{"$f":"IF(BY18=\"\",\"\",TODAY())","v":""},{"$f":"IF(BY18=\"\",\"\",\"WTSYSTEMUSER\")","v":""}]
[null,null,null,null,null,null,null,null,null,null,null,null,null,null,null,null,null,null,null,null,null,null,null,null,null,null,null,null,null,null,null,null,null,null,null,null,null,null,null,null,null,null,null,null,null,null,null,null,null,null,null,null,null,null,null,null,null,null,null,null,null,null,null,null,null,null,null,null,null,null,null,null,null,null,null,null,null,null,null,null,null,null,null,null,null,null,null,null,null,null,null,null,"",null,{"$f":"IF(BY19=\"\",\"\",\"AgencyEntityInsData Id 280\")","v":""},{"$f":"IF(BY19=\"\",\"\",\"AgencyEntityInstance Id 17\")","v":""},{"$f":"IF(BY19=\"\",\"\",\"del_ca_mud_sh\")","v":""},{"$f":"IF(BY19=\"\",\"\",IF(LEFT(Main!F14,4)=\"1007\",\"\",IF(LEFT(Main!F14,4)=\"1003\",\"\",IF(LEFT(Main!F14,4)=\"1010\",\"\",\"\"))))","v":""},{"$f":"IF(BY19=\"\",\"\",TODAY())","v":""},{"$f":"IF(BY19=\"\",\"\",\"WTSYSTEMUSER\")","v":""},{"$f":"IF(BY19=\"\",\"\",TODAY())","v":""},{"$f":"IF(BY19=\"\",\"\",\"WTSYSTEMUSER\")","v":""}]
[null,null,null,null,null,null,null,null,null,null,null,null,null,null,null,null,null,null,null,null,null,null,null,null,null,null,null,null,null,null,null,null,null,null,null,null,null,null,null,null,null,null,null,null,null,null,null,null,null,null,null,null,null,null,null,null,null,null,null,null,null,null,null,null,null,null,null,null,null,null,null,null,null,null,null,null,null,null,null,null,null,null,null,null,null,null,null,null,null,null,null,null,"",null,{"$f":"IF(BY19=\"\",\"\",\"AgencyEntityInsData Id 285\")","v":""},{"$f":"IF(BY19=\"\",\"\",\"AgencyEntityInstance Id 17\")","v":""},{"$f":"IF(BY19=\"\",\"\",\"del_fa_clay_sh\")","v":""},{"$f":"IF(BY19=\"\",\"\",IF(LEFT(Main!F14,4)=\"1007\",\"\",IF(LEFT(Main!F14,4)=\"1003\",\"\",IF(LEFT(Main!F14,4)=\"1010\",\"\",\"\"))))","v":""},{"$f":"IF(BY19=\"\",\"\",TODAY())","v":""},{"$f":"IF(BY19=\"\",\"\",\"WTSYSTEMUSER\")","v":""},{"$f":"IF(BY19=\"\",\"\",TODAY())","v":""},{"$f":"IF(BY19=\"\",\"\",\"WTSYSTEMUSER\")","v":""}]
[null,null,null,null,null,null,null,null,null,null,null,null,null,null,null,null,null,null,null,null,null,null,null,null,null,null,null,null,null,null,null,null,null,null,null,null,null,null,null,null,null,null,null,null,null,null,null,null,null,null,null,null,null,null,null,null,null,null,null,null,null,null,null,null,null,null,null,null,null,null,null,null,null,null,null,null,null,null,null,null,null,null,null,null,null,null,null,null,null,null,null,null,"",null,{"$f":"IF(BY19=\"\",\"\",\"AgencyEntityInsData Id 291\")","v":""},{"$f":"IF(BY19=\"\",\"\",\"AgencyEntityInstance Id 17\")","v":""},{"$f":"IF(BY19=\"\",\"\",\"del_nat_sand\")","v":""},{"$f":"IF(BY19=\"\",\"\",IF(LEFT(Main!F14,4)=\"1007\",\"\",IF(LEFT(Main!F14,4)=\"1003\",\"\",IF(LEFT(Main!F14,4)=\"1010\",\"\",\"\"))))","v":""},{"$f":"IF(BY19=\"\",\"\",TODAY())","v":""},{"$f":"IF(BY19=\"\",\"\",\"WTSYSTEMUSER\")","v":""},{"$f":"IF(BY19=\"\",\"\",TODAY())","v":""},{"$f":"IF(BY19=\"\",\"\",\"WTSYSTEMUSER\")","v":""}]
[null,null,null,null,null,null,null,null,null,null,null,null,null,null,null,null,null,null,null,null,null,null,null,null,null,null,null,null,null,null,null,null,null,null,null,null,null,null,null,null,null,null,null,null,null,null,null,null,null,null,null,null,null,null,null,null,null,null,null,null,null,null,null,null,null,null,null,null,null,null,null,null,null,null,null,null,null,null,null,null,null,null,null,null,null,null,null,null,null,null,null,null,"",null,{"$f":"IF(BY21=\"\",\"\",\"AgencyEntityInsData Id 296\")","v":""},{"$f":"IF(BY21=\"\",\"\",\"AgencyEntityInstance Id 19\")","v":""},{"$f":"IF(BY21=\"\",\"\",\"cm_t27_list_min\")","v":""},{"$f":"IF(BY21=\"\",\"\",0)","v":""},{"$f":"IF(BY21=\"\",\"\",TODAY())","v":""},{"$f":"IF(BY21=\"\",\"\",\"WTSYSTEMUSER\")","v":""},{"$f":"IF(BY21=\"\",\"\",TODAY())","v":""},{"$f":"IF(BY21=\"\",\"\",\"WTSYSTEMUSER\")","v":""}]
[null,null,null,null,null,null,null,null,null,null,null,null,null,null,null,null,null,null,null,null,null,null,null,null,null,null,null,null,null,null,null,null,null,null,null,null,null,null,null,null,null,null,null,null,null,null,null,null,null,null,null,null,null,null,null,null,null,null,null,null,null,null,null,null,null,null,null,null,null,null,null,null,null,null,null,null,null,null,null,null,null,null,null,null,null,null,null,null,null,null,null,null,"",null,{"$f":"IF(BY22=\"\",\"\",\"AgencyEntityInsData Id 300\")","v":""},{"$f":"IF(BY22=\"\",\"\",\"AgencyEntityInstance Id 20\")","v":""},{"$f":"IF(BY22=\"\",\"\",\"cm_t27_list_inspecrow\")","v":""},{"$f":"IF(BY22=\"\",\"\",\"Out of Spec\")","v":""},{"$f":"IF(BY22=\"\",\"\",TODAY())","v":""},{"$f":"IF(BY22=\"\",\"\",\"WTSYSTEMUSER\")","v":""},{"$f":"IF(BY22=\"\",\"\",TODAY())","v":""},{"$f":"IF(BY22=\"\",\"\",\"WTSYSTEMUSER\")","v":""}]
[null,null,null,null,null,null,null,null,null,null,null,null,null,null,null,null,null,null,null,null,null,null,null,null,null,null,null,null,null,null,null,null,null,null,null,null,null,null,null,null,null,null,null,null,null,null,null,null,null,null,null,null,null,null,null,null,null,null,null,null,null,null,null,null,null,null,null,null,null,null,null,null,null,null,null,null,null,null,null,null,null,null,null,null,null,null,null,null,null,null,null,null,"",null,{"$f":"IF(BY22=\"\",\"\",\"AgencyEntityInsData Id 301\")","v":""},{"$f":"IF(BY22=\"\",\"\",\"AgencyEntityInstance Id 20\")","v":""},{"$f":"IF(BY22=\"\",\"\",\"cm_t27_list_max\")","v":""},{"$f":"IF(BY22=\"\",\"\",0)","v":""},{"$f":"IF(BY22=\"\",\"\",TODAY())","v":""},{"$f":"IF(BY22=\"\",\"\",\"WTSYSTEMUSER\")","v":""},{"$f":"IF(BY22=\"\",\"\",TODAY())","v":""},{"$f":"IF(BY22=\"\",\"\",\"WTSYSTEMUSER\")","v":""}]
[null,null,null,null,null,null,null,null,null,null,null,null,null,null,null,null,null,null,null,null,null,null,null,null,null,null,null,null,null,null,null,null,null,null,null,null,null,null,null,null,null,null,null,null,null,null,null,null,null,null,null,null,null,null,null,null,null,null,null,null,null,null,null,null,null,null,null,null,null,null,null,null,null,null,null,null,null,null,null,null,null,null,null,null,null,null,null,null,null,null,null,null,"",null,{"$f":"IF(BY23=\"\",\"\",\"AgencyEntityInsData Id 306\")","v":""},{"$f":"IF(BY23=\"\",\"\",\"AgencyEntityInstance Id 21\")","v":""},{"$f":"IF(BY23=\"\",\"\",\"cm_t27_list_inspecrow\")","v":""},{"$f":"IF(BY23=\"\",\"\",\"Out of Spec\")","v":""},{"$f":"IF(BY23=\"\",\"\",TODAY())","v":""},{"$f":"IF(BY23=\"\",\"\",\"WTSYSTEMUSER\")","v":""},{"$f":"IF(BY23=\"\",\"\",TODAY())","v":""},{"$f":"IF(BY23=\"\",\"\",\"WTSYSTEMUSER\")","v":""}]
[null,null,null,null,null,null,null,null,null,null,null,null,null,null,null,null,null,null,null,null,null,null,null,null,null,null,null,null,null,null,null,null,null,null,null,null,null,null,null,null,null,null,null,null,null,null,null,null,null,null,null,null,null,null,null,null,null,null,null,null,null,null,null,null,null,null,null,null,null,null,null,null,null,null,null,null,null,null,null,null,null,null,null,null,null,null,null,null,null,null,null,null,"",null,{"$f":"IF(BY23=\"\",\"\",\"AgencyEntityInsData Id 311\")","v":""},{"$f":"IF(BY23=\"\",\"\",\"AgencyEntityInstance Id 21\")","v":""},{"$f":"IF(BY23=\"\",\"\",\"cm_t27_list_sieve\")","v":""},{"$f":"IF(BY23=\"\",\"\",\"3/4\"\" (19 mm)\")","v":""},{"$f":"IF(BY23=\"\",\"\",TODAY())","v":""},{"$f":"IF(BY23=\"\",\"\",\"WTSYSTEMUSER\")","v":""},{"$f":"IF(BY23=\"\",\"\",TODAY())","v":""},{"$f":"IF(BY23=\"\",\"\",\"WTSYSTEMUSER\")","v":""}]
[null,null,null,null,null,null,null,null,null,null,null,null,null,null,null,null,null,null,null,null,null,null,null,null,null,null,null,null,null,null,null,null,null,null,null,null,null,null,null,null,null,null,null,null,null,null,null,null,null,null,null,null,null,null,null,null,null,null,null,null,null,null,null,null,null,null,null,null,null,null,null,null,null,null,null,null,null,null,null,null,null,null,null,null,null,null,null,null,null,null,null,null,"",null,{"$f":"IF(BY24=\"\",\"\",\"AgencyEntityInsData Id 317\")","v":""},{"$f":"IF(BY24=\"\",\"\",\"AgencyEntityInstance Id 22\")","v":""},{"$f":"IF(BY24=\"\",\"\",\"cm_t27_list_sieve\")","v":""},{"$f":"IF(BY24=\"\",\"\",\"1/2\"\" (12.5 mm)\")","v":""},{"$f":"IF(BY24=\"\",\"\",TODAY())","v":""},{"$f":"IF(BY24=\"\",\"\",\"WTSYSTEMUSER\")","v":""},{"$f":"IF(BY24=\"\",\"\",TODAY())","v":""},{"$f":"IF(BY24=\"\",\"\",\"WTSYSTEMUSER\")","v":""}]
[null,null,null,null,null,null,null,null,null,null,null,null,null,null,null,null,null,null,null,null,null,null,null,null,null,null,null,null,null,null,null,null,null,null,null,null,null,null,null,null,null,null,null,null,null,null,null,null,null,null,null,null,null,null,null,null,null,null,null,null,null,null,null,null,null,null,null,null,null,null,null,null,null,null,null,null,null,null,null,null,null,null,null,null,null,null,null,null,null,null,null,null,"",null,{"$f":"IF(BY25=\"\",\"\",\"AgencyEntityInsData Id 321\")","v":""},{"$f":"IF(BY25=\"\",\"\",\"AgencyEntityInstance Id 23\")","v":""},{"$f":"IF(BY25=\"\",\"\",\"cm_t27_list_order\")","v":""},{"$f":"IF(BY25=\"\",\"\",4)","v":""},{"$f":"IF(BY25=\"\",\"\",TODAY())","v":""},{"$f":"IF(BY25=\"\",\"\",\"WTSYSTEMUSER\")","v":""},{"$f":"IF(BY25=\"\",\"\",TODAY())","v":""},{"$f":"IF(BY25=\"\",\"\",\"WTSYSTEMUSER\")","v":""}]
[null,null,null,null,null,null,null,null,null,null,null,null,null,null,null,null,null,null,null,null,null,null,null,null,null,null,null,null,null,null,null,null,null,null,null,null,null,null,null,null,null,null,null,null,null,null,null,null,null,null,null,null,null,null,null,null,null,null,null,null,null,null,null,null,null,null,null,null,null,null,null,null,null,null,null,null,null,null,null,null,null,null,null,null,null,null,null,null,null,null,null,null,"",null,{"$f":"IF(BY26=\"\",\"\",\"AgencyEntityInsData Id 327\")","v":""},{"$f":"IF(BY26=\"\",\"\",\"AgencyEntityInstance Id 24\")","v":""},{"$f":"IF(BY26=\"\",\"\",\"cm_t27_list_order\")","v":""},{"$f":"IF(BY26=\"\",\"\",5)","v":""},{"$f":"IF(BY26=\"\",\"\",TODAY())","v":""},{"$f":"IF(BY26=\"\",\"\",\"WTSYSTEMUSER\")","v":""},{"$f":"IF(BY26=\"\",\"\",TODAY())","v":""},{"$f":"IF(BY26=\"\",\"\",\"WTSYSTEMUSER\")","v":""}]
[null,null,null,null,null,null,null,null,null,null,null,null,null,null,null,null,null,null,null,null,null,null,null,null,null,null,null,null,null,null,null,null,null,null,null,null,null,null,null,null,null,null,null,null,null,null,null,null,null,null,null,null,null,null,null,null,null,null,null,null,null,null,null,null,null,null,null,null,null,null,null,null,null,null,null,null,null,null,null,null,null,null,null,null,null,null,null,null,null,null,null,null,"",null,{"$f":"IF(BY27=\"\",\"\",\"AgencyEntityInsData Id 332\")","v":""},{"$f":"IF(BY27=\"\",\"\",\"AgencyEntityInstance Id 25\")","v":""},{"$f":"IF(BY27=\"\",\"\",\"cm_t27_list_min\")","v":""},{"$f":"IF(BY27=\"\",\"\",0)","v":""},{"$f":"IF(BY27=\"\",\"\",TODAY())","v":""},{"$f":"IF(BY27=\"\",\"\",\"WTSYSTEMUSER\")","v":""},{"$f":"IF(BY27=\"\",\"\",TODAY())","v":""},{"$f":"IF(BY27=\"\",\"\",\"WTSYSTEMUSER\")","v":""}]
[null,null,null,null,null,null,null,null,null,null,null,null,null,null,null,null,null,null,null,null,null,null,null,null,null,null,null,null,null,null,null,null,null,null,null,null,null,null,null,null,null,null,null,null,null,null,null,null,null,null,null,null,null,null,null,null,null,null,null,null,null,null,null,null,null,null,null,null,null,null,null,null,null,null,null,null,null,null,null,null,null,null,null,null,null,null,null,null,null,null,null,null,"",null,{"$f":"IF(BY28=\"\",\"\",\"AgencyEntityInsData Id 337\")","v":""},{"$f":"IF(BY28=\"\",\"\",\"AgencyEntityInstance Id 26\")","v":""},{"$f":"IF(BY28=\"\",\"\",\"cm_t27_list_max\")","v":""},{"$f":"IF(BY28=\"\",\"\",0)","v":""},{"$f":"IF(BY28=\"\",\"\",TODAY())","v":""},{"$f":"IF(BY28=\"\",\"\",\"WTSYSTEMUSER\")","v":""},{"$f":"IF(BY28=\"\",\"\",TODAY())","v":""},{"$f":"IF(BY28=\"\",\"\",\"WTSYSTEMUSER\")","v":""}]
[null,null,null,null,null,null,null,null,null,null,null,null,null,null,null,null,null,null,null,null,null,null,null,null,null,null,null,null,null,null,null,null,null,null,null,null,null,null,null,null,null,null,null,null,null,null,null,null,null,null,null,null,null,null,null,null,null,null,null,null,null,null,null,null,null,null,null,null,null,null,null,null,null,null,null,null,null,null,null,null,null,null,null,null,null,null,null,null,null,null,null,null,"",null,{"$f":"IF(BY29=\"\",\"\",\"AgencyEntityInsData Id 343\")","v":""},{"$f":"IF(BY29=\"\",\"\",\"AgencyEntityInstance Id 27\")","v":""},{"$f":"IF(BY29=\"\",\"\",\"cm_t27_list_max\")","v":""},{"$f":"IF(BY29=\"\",\"\",0)","v":""},{"$f":"IF(BY29=\"\",\"\",TODAY())","v":""},{"$f":"IF(BY29=\"\",\"\",\"WTSYSTEMUSER\")","v":""},{"$f":"IF(BY29=\"\",\"\",TODAY())","v":""},{"$f":"IF(BY29=\"\",\"\",\"WTSYSTEMUSER\")","v":""}]
[null,null,null,null,null,null,null,null,null,null,null,null,null,null,null,null,null,null,null,null,null,null,null,null,null,null,null,null,null,null,null,null,null,null,null,null,null,null,null,null,null,null,null,null,null,null,null,null,null,null,null,null,null,null,null,null,null,null,null,null,null,null,null,null,null,null,null,null,null,null,null,null,null,null,null,null,null,null,null,null,null,null,null,null,null,null,null,null,null,null,null,null,"",null,{"$f":"IF(BY29=\"\",\"\",\"AgencyEntityInsData Id 346\")","v":""},{"$f":"IF(BY29=\"\",\"\",\"AgencyEntityInstance Id 27\")","v":""},{"$f":"IF(BY29=\"\",\"\",\"cm_t27_list_pct_passing\")","v":""},{"$f":"IF(BY29=\"\",\"\",\"\")","v":""},{"$f":"IF(BY29=\"\",\"\",TODAY())","v":""},{"$f":"IF(BY29=\"\",\"\",\"WTSYSTEMUSER\")","v":""},{"$f":"IF(BY29=\"\",\"\",TODAY())","v":""},{"$f":"IF(BY29=\"\",\"\",\"WTSYSTEMUSER\")","v":""}]
[null,null,null,null,null,null,null,null,null,null,null,null,null,null,null,null,null,null,null,null,null,null,null,null,null,null,null,null,null,null,null,null,null,null,null,null,null,null,null,null,null,null,null,null,null,null,null,null,null,null,null,null,null,null,null,null,null,null,null,null,null,null,null,null,null,null,null,null,null,null,null,null,null,null,null,null,null,null,null,null,null,null,null,null,null,null,null,null,null,null,null,null,"",null,{"$f":"IF(BY30=\"\",\"\",\"AgencyEntityInsData Id 353\")","v":""},{"$f":"IF(BY30=\"\",\"\",\"AgencyEntityInstance Id 28\")","v":""},{"$f":"IF(BY30=\"\",\"\",\"cm_t27_list_sieve\")","v":""},{"$f":"IF(BY30=\"\",\"\",\"No. 16 (1.18 mm)\")","v":""},{"$f":"IF(BY30=\"\",\"\",TODAY())","v":""},{"$f":"IF(BY30=\"\",\"\",\"WTSYSTEMUSER\")","v":""},{"$f":"IF(BY30=\"\",\"\",TODAY())","v":""},{"$f":"IF(BY30=\"\",\"\",\"WTSYSTEMUSER\")","v":""}]
[null,null,null,null,null,null,null,null,null,null,null,null,null,null,null,null,null,null,null,null,null,null,null,null,null,null,null,null,null,null,null,null,null,null,null,null,null,null,null,null,null,null,null,null,null,null,null,null,null,null,null,null,null,null,null,null,null,null,null,null,null,null,null,null,null,null,null,null,null,null,null,null,null,null,null,null,null,null,null,null,null,null,null,null,null,null,null,null,null,null,null,null,"",null,{"$f":"IF(BY31=\"\",\"\",\"AgencyEntityInsData Id 358\")","v":""},{"$f":"IF(BY31=\"\",\"\",\"AgencyEntityInstance Id 29\")","v":""},{"$f":"IF(BY31=\"\",\"\",\"cm_t27_list_pct_passing\")","v":""},{"$f":"IF(BY31=\"\",\"\",IF('Test 2'!AD26=0,\"\",'Test 2'!AD26))","v":""},{"$f":"IF(BY31=\"\",\"\",TODAY())","v":""},{"$f":"IF(BY31=\"\",\"\",\"WTSYSTEMUSER\")","v":""},{"$f":"IF(BY31=\"\",\"\",TODAY())","v":""},{"$f":"IF(BY31=\"\",\"\",\"WTSYSTEMUSER\")","v":""}]
[null,null,null,null,null,null,null,null,null,null,null,null,null,null,null,null,null,null,null,null,null,null,null,null,null,null,null,null,null,null,null,null,null,null,null,null,null,null,null,null,null,null,null,null,null,null,null,null,null,null,null,null,null,null,null,null,null,null,null,null,null,null,null,null,null,null,null,null,null,null,null,null,null,null,null,null,null,null,null,null,null,null,null,null,null,null,null,null,null,null,null,null,"",null,{"$f":"IF(BY32=\"\",\"\",\"AgencyEntityInsData Id 363\")","v":""},{"$f":"IF(BY32=\"\",\"\",\"AgencyEntityInstance Id 30\")","v":""},{"$f":"IF(BY32=\"\",\"\",\"cm_t27_list_order\")","v":""},{"$f":"IF(BY32=\"\",\"\",11)","v":""},{"$f":"IF(BY32=\"\",\"\",TODAY())","v":""},{"$f":"IF(BY32=\"\",\"\",\"WTSYSTEMUSER\")","v":""},{"$f":"IF(BY32=\"\",\"\",TODAY())","v":""},{"$f":"IF(BY32=\"\",\"\",\"WTSYSTEMUSER\")","v":""}]
[null,null,null,null,null,null,null,null,null,null,null,null,null,null,null,null,null,null,null,null,null,null,null,null,null,null,null,null,null,null,null,null,null,null,null,null,null,null,null,null,null,null,null,null,null,null,null,null,null,null,null,null,null,null,null,null,null,null,null,null,null,null,null,null,null,null,null,null,null,null,null,null,null,null,null,null,null,null,null,null,null,null,null,null,null,null,null,null,null,null,null,null,"",null,{"$f":"IF(BY32=\"\",\"\",\"AgencyEntityInsData Id 364\")","v":""},{"$f":"IF(BY32=\"\",\"\",\"AgencyEntityInstance Id 30\")","v":""},{"$f":"IF(BY32=\"\",\"\",\"cm_t27_list_pct_passing\")","v":""},{"$f":"IF(BY32=\"\",\"\",IF('Test 2'!AD27=0,\"\",'Test 2'!AD27))","v":""},{"$f":"IF(BY32=\"\",\"\",TODAY())","v":""},{"$f":"IF(BY32=\"\",\"\",\"WTSYSTEMUSER\")","v":""},{"$f":"IF(BY32=\"\",\"\",TODAY())","v":""},{"$f":"IF(BY32=\"\",\"\",\"WTSYSTEMUSER\")","v":""}]
[null,null,null,null,null,null,null,null,null,null,null,null,null,null,null,null,null,null,null,null,null,null,null,null,null,null,null,null,null,null,null,null,null,null,null,null,null,null,null,null,null,null,null,null,null,null,null,null,null,null,null,null,null,null,null,null,null,null,null,null,null,null,null,null,null,null,null,null,null,null,null,null,null,null,null,null,null,null,null,null,null,null,null,null,null,null,null,null,null,null,null,null,"",null,{"$f":"IF(BY33=\"\",\"\",\"AgencyEntityInsData Id 371\")","v":""},{"$f":"IF(BY33=\"\",\"\",\"AgencyEntityInstance Id 31\")","v":""},{"$f":"IF(BY33=\"\",\"\",\"cm_t27_list_sieve\")","v":""},{"$f":"IF(BY33=\"\",\"\",\"No. 50 (300 um)\")","v":""},{"$f":"IF(BY33=\"\",\"\",TODAY())","v":""},{"$f":"IF(BY33=\"\",\"\",\"WTSYSTEMUSER\")","v":""},{"$f":"IF(BY33=\"\",\"\",TODAY())","v":""},{"$f":"IF(BY33=\"\",\"\",\"WTSYSTEMUSER\")","v":""}]
[null,null,null,null,null,null,null,null,null,null,null,null,null,null,null,null,null,null,null,null,null,null,null,null,null,null,null,null,null,null,null,null,null,null,null,null,null,null,null,null,null,null,null,null,null,null,null,null,null,null,null,null,null,null,null,null,null,null,null,null,null,null,null,null,null,null,null,null,null,null,null,null,null,null,null,null,null,null,null,null,null,null,null,null,null,null,null,null,null,null,null,null,"",null,{"$f":"IF(BY34=\"\",\"\",\"AgencyEntityInsData Id 373\")","v":""},{"$f":"IF(BY34=\"\",\"\",\"AgencyEntityInstance Id 32\")","v":""},{"$f":"IF(BY34=\"\",\"\",\"cm_t27_list_max\")","v":""},{"$f":"IF(BY34=\"\",\"\",0)","v":""},{"$f":"IF(BY34=\"\",\"\",TODAY())","v":""},{"$f":"IF(BY34=\"\",\"\",\"WTSYSTEMUSER\")","v":""},{"$f":"IF(BY34=\"\",\"\",TODAY())","v":""},{"$f":"IF(BY34=\"\",\"\",\"WTSYSTEMUSER\")","v":""}]
[null,null,null,null,null,null,null,null,null,null,null,null,null,null,null,null,null,null,null,null,null,null,null,null,null,null,null,null,null,null,null,null,null,null,null,null,null,null,null,null,null,null,null,null,null,null,null,null,null,null,null,null,null,null,null,null,null,null,null,null,null,null,null,null,null,null,null,null,null,null,null,null,null,null,null,null,null,null,null,null,null,null,null,null,null,null,null,null,null,null,null,null,"",null,{"$f":"IF(BY35=\"\",\"\",\"AgencyEntityInsData Id 379\")","v":""},{"$f":"IF(BY35=\"\",\"\",\"AgencyEntityInstance Id 33\")","v":""},{"$f":"IF(BY35=\"\",\"\",\"cm_t27_list_max\")","v":""},{"$f":"IF(BY35=\"\",\"\",0)","v":""},{"$f":"IF(BY35=\"\",\"\",TODAY())","v":""},{"$f":"IF(BY35=\"\",\"\",\"WTSYSTEMUSER\")","v":""},{"$f":"IF(BY35=\"\",\"\",TODAY())","v":""},{"$f":"IF(BY35=\"\",\"\",\"WTSYSTEMUSER\")","v":""}]
[null,null,null,null,null,null,null,null,null,null,null,null,null,null,null,null,null,null,null,null,null,null,null,null,null,null,null,null,null,null,null,null,null,null,null,null,null,null,null,null,null,null,null,null,null,null,null,null,null,null,null,null,null,null,null,null,null,null,null,null,null,null,null,null,null,null,null,null,null,null,null,null,null,null,null,null,null,null,null,null,null,null,null,null,null,null,null,null,null,null,null,null,"",null,{"$f":"IF(BY36=\"\",\"\",\"AgencyEntityInsData Id 384\")","v":""},{"$f":"IF(BY36=\"\",\"\",\"AgencyEntityInstance Id 34\")","v":""},{"$f":"IF(BY36=\"\",\"\",\"cm_t27_detail_inspec\")","v":""},{"$f":"IF(BY36=\"\",\"\",\"Out of Spec\")","v":""},{"$f":"IF(BY36=\"\",\"\",TODAY())","v":""},{"$f":"IF(BY36=\"\",\"\",\"WTSYSTEMUSER\")","v":""},{"$f":"IF(BY36=\"\",\"\",TODAY())","v":""},{"$f":"IF(BY36=\"\",\"\",\"WTSYSTEMUSER\")","v":""}]
[null,null,null,null,null,null,null,null,null,null,null,null,null,null,null,null,null,null,null,null,null,null,null,null,null,null,null,null,null,null,null,null,null,null,null,null,null,null,null,null,null,null,null,null,null,null,null,null,null,null,null,null,null,null,null,null,null,null,null,null,null,null,null,null,null,null,null,null,null,null,null,null,null,null,null,null,null,null,null,null,null,null,null,null,null,null,null,null,null,null,null,null,"",null,{"$f":"IF(BY37=\"\",\"\",\"AgencyEntityInsData Id 390\")","v":""},{"$f":"IF(BY37=\"\",\"\",\"AgencyEntityInstance Id 35\")","v":""},{"$f":"IF(BY37=\"\",\"\",\"cm_t27_list_sieve\")","v":""},{"$f":"IF(BY37=\"\",\"\",\"1 1/2\"\" (37.5 mm)\")","v":""},{"$f":"IF(BY37=\"\",\"\",TODAY())","v":""},{"$f":"IF(BY37=\"\",\"\",\"WTSYSTEMUSER\")","v":""},{"$f":"IF(BY37=\"\",\"\",TODAY())","v":""},{"$f":"IF(BY37=\"\",\"\",\"WTSYSTEMUSER\")","v":""}]
[null,null,null,null,null,null,null,null,null,null,null,null,null,null,null,null,null,null,null,null,null,null,null,null,null,null,null,null,null,null,null,null,null,null,null,null,null,null,null,null,null,null,null,null,null,null,null,null,null,null,null,null,null,null,null,null,null,null,null,null,null,null,null,null,null,null,null,null,null,null,null,null,null,null,null,null,null,null,null,null,null,null,null,null,null,null,null,null,null,null,null,null,"",null,{"$f":"IF(BY38=\"\",\"\",\"AgencyEntityInsData Id 396\")","v":""},{"$f":"IF(BY38=\"\",\"\",\"AgencyEntityInstance Id 36\")","v":""},{"$f":"IF(BY38=\"\",\"\",\"cm_t27_list_sieve\")","v":""},{"$f":"IF(BY38=\"\",\"\",\"1\"\" (25 mm)\")","v":""},{"$f":"IF(BY38=\"\",\"\",TODAY())","v":""},{"$f":"IF(BY38=\"\",\"\",\"WTSYSTEMUSER\")","v":""},{"$f":"IF(BY38=\"\",\"\",TODAY())","v":""},{"$f":"IF(BY38=\"\",\"\",\"WTSYSTEMUSER\")","v":""}]
[null,null,null,null,null,null,null,null,null,null,null,null,null,null,null,null,null,null,null,null,null,null,null,null,null,null,null,null,null,null,null,null,null,null,null,null,null,null,null,null,null,null,null,null,null,null,null,null,null,null,null,null,null,null,null,null,null,null,null,null,null,null,null,null,null,null,null,null,null,null,null,null,null,null,null,null,null,null,null,null,null,null,null,null,null,null,null,null,null,null,null,null,"",null,{"$f":"IF(BY39=\"\",\"\",\"AgencyEntityInsData Id 399\")","v":""},{"$f":"IF(BY39=\"\",\"\",\"AgencyEntityInstance Id 37\")","v":""},{"$f":"IF(BY39=\"\",\"\",\"cm_t27_list_min\")","v":""},{"$f":"IF(BY39=\"\",\"\",0)","v":""},{"$f":"IF(BY39=\"\",\"\",TODAY())","v":""},{"$f":"IF(BY39=\"\",\"\",\"WTSYSTEMUSER\")","v":""},{"$f":"IF(BY39=\"\",\"\",TODAY())","v":""},{"$f":"IF(BY39=\"\",\"\",\"WTSYSTEMUSER\")","v":""}]
[null,null,null,null,null,null,null,null,null,null,null,null,null,null,null,null,null,null,null,null,null,null,null,null,null,null,null,null,null,null,null,null,null,null,null,null,null,null,null,null,null,null,null,null,null,null,null,null,null,null,null,null,null,null,null,null,null,null,null,null,null,null,null,null,null,null,null,null,null,null,null,null,null,null,null,null,null,null,null,null,null,null,null,null,null,null,null,null,null,null,null,null,"",null,{"$f":"IF(BY40=\"\",\"\",\"AgencyEntityInsData Id 405\")","v":""},{"$f":"IF(BY40=\"\",\"\",\"AgencyEntityInstance Id 38\")","v":""},{"$f":"IF(BY40=\"\",\"\",\"cm_t27_list_min\")","v":""},{"$f":"IF(BY40=\"\",\"\",0)","v":""},{"$f":"IF(BY40=\"\",\"\",TODAY())","v":""},{"$f":"IF(BY40=\"\",\"\",\"WTSYSTEMUSER\")","v":""},{"$f":"IF(BY40=\"\",\"\",TODAY())","v":""},{"$f":"IF(BY40=\"\",\"\",\"WTSYSTEMUSER\")","v":""}]
[null,null,null,null,null,null,null,null,null,null,null,null,null,null,null,null,null,null,null,null,null,null,null,null,null,null,null,null,null,null,null,null,null,null,null,null,null,null,null,null,null,null,null,null,null,null,null,null,null,null,null,null,null,null,null,null,null,null,null,null,null,null,null,null,null,null,null,null,null,null,null,null,null,null,null,null,null,null,null,null,null,null,null,null,null,null,null,null,null,null,null,null,"",null,{"$f":"IF(BY41=\"\",\"\",\"AgencyEntityInsData Id 410\")","v":""},{"$f":"IF(BY41=\"\",\"\",\"AgencyEntityInstance Id 39\")","v":""},{"$f":"IF(BY41=\"\",\"\",\"cm_t27_list_max\")","v":""},{"$f":"IF(BY41=\"\",\"\",0)","v":""},{"$f":"IF(BY41=\"\",\"\",TODAY())","v":""},{"$f":"IF(BY41=\"\",\"\",\"WTSYSTEMUSER\")","v":""},{"$f":"IF(BY41=\"\",\"\",TODAY())","v":""},{"$f":"IF(BY41=\"\",\"\",\"WTSYSTEMUSER\")","v":""}]
[null,null,null,null,null,null,null,null,null,null,null,null,null,null,null,null,null,null,null,null,null,null,null,null,null,null,null,null,null,null,null,null,null,null,null,null,null,null,null,null,null,null,null,null,null,null,null,null,null,null,null,null,null,null,null,null,null,null,null,null,null,null,null,null,null,null,null,null,null,null,null,null,null,null,null,null,null,null,null,null,null,null,null,null,null,null,null,null,null,null,null,null,"",null,{"$f":"IF(BY42=\"\",\"\",\"AgencyEntityInsData Id 415\")","v":""},{"$f":"IF(BY42=\"\",\"\",\"AgencyEntityInstance Id 40\")","v":""},{"$f":"IF(BY42=\"\",\"\",\"cm_t27_list_inspecrow\")","v":""},{"$f":"IF(BY42=\"\",\"\",\"Out of Spec\")","v":""},{"$f":"IF(BY42=\"\",\"\",TODAY())","v":""},{"$f":"IF(BY42=\"\",\"\",\"WTSYSTEMUSER\")","v":""},{"$f":"IF(BY42=\"\",\"\",TODAY())","v":""},{"$f":"IF(BY42=\"\",\"\",\"WTSYSTEMUSER\")","v":""}]
[null,null,null,null,null,null,null,null,null,null,null,null,null,null,null,null,null,null,null,null,null,null,null,null,null,null,null,null,null,null,null,null,null,null,null,null,null,null,null,null,null,null,null,null,null,null,null,null,null,null,null,null,null,null,null,null,null,null,null,null,null,null,null,null,null,null,null,null,null,null,null,null,null,null,null,null,null,null,null,null,null,null,null,null,null,null,null,null,null,null,null,null,"",null,{"$f":"IF(BY42=\"\",\"\",\"AgencyEntityInsData Id 417\")","v":""},{"$f":"IF(BY42=\"\",\"\",\"AgencyEntityInstance Id 40\")","v":""},{"$f":"IF(BY42=\"\",\"\",\"cm_t27_list_min\")","v":""},{"$f":"IF(BY42=\"\",\"\",0)","v":""},{"$f":"IF(BY42=\"\",\"\",TODAY())","v":""},{"$f":"IF(BY42=\"\",\"\",\"WTSYSTEMUSER\")","v":""},{"$f":"IF(BY42=\"\",\"\",TODAY())","v":""},{"$f":"IF(BY42=\"\",\"\",\"WTSYSTEMUSER\")","v":""}]
[null,null,null,null,null,null,null,null,null,null,null,null,null,null,null,null,null,null,null,null,null,null,null,null,null,null,null,null,null,null,null,null,null,null,null,null,null,null,null,null,null,null,null,null,null,null,null,null,null,null,null,null,null,null,null,null,null,null,null,null,null,null,null,null,null,null,null,null,null,null,null,null,null,null,null,null,null,null,null,null,null,null,null,null,null,null,null,null,null,null,null,null,"",null,{"$f":"IF(BY43=\"\",\"\",\"AgencyEntityInsData Id 425\")","v":""},{"$f":"IF(BY43=\"\",\"\",\"AgencyEntityInstance Id 41\")","v":""},{"$f":"IF(BY43=\"\",\"\",\"cm_t27_list_pct_passing\")","v":""},{"$f":"IF(BY43=\"\",\"\",IF('Test 2'!AE23=0,\"\",'Test 2'!AE23))","v":""},{"$f":"IF(BY43=\"\",\"\",TODAY())","v":""},{"$f":"IF(BY43=\"\",\"\",\"WTSYSTEMUSER\")","v":""},{"$f":"IF(BY43=\"\",\"\",TODAY())","v":""},{"$f":"IF(BY43=\"\",\"\",\"WTSYSTEMUSER\")","v":""}]
[null,null,null,null,null,null,null,null,null,null,null,null,null,null,null,null,null,null,null,null,null,null,null,null,null,null,null,null,null,null,null,null,null,null,null,null,null,null,null,null,null,null,null,null,null,null,null,null,null,null,null,null,null,null,null,null,null,null,null,null,null,null,null,null,null,null,null,null,null,null,null,null,null,null,null,null,null,null,null,null,null,null,null,null,null,null,null,null,null,null,null,null,"",null,{"$f":"IF(BY43=\"\",\"\",\"AgencyEntityInsData Id 426\")","v":""},{"$f":"IF(BY43=\"\",\"\",\"AgencyEntityInstance Id 41\")","v":""},{"$f":"IF(BY43=\"\",\"\",\"cm_t27_list_sieve\")","v":""},{"$f":"IF(BY43=\"\",\"\",\"No. 4 (4.75 mm)\")","v":""},{"$f":"IF(BY43=\"\",\"\",TODAY())","v":""},{"$f":"IF(BY43=\"\",\"\",\"WTSYSTEMUSER\")","v":""},{"$f":"IF(BY43=\"\",\"\",TODAY())","v":""},{"$f":"IF(BY43=\"\",\"\",\"WTSYSTEMUSER\")","v":""}]
[null,null,null,null,null,null,null,null,null,null,null,null,null,null,null,null,null,null,null,null,null,null,null,null,null,null,null,null,null,null,null,null,null,null,null,null,null,null,null,null,null,null,null,null,null,null,null,null,null,null,null,null,null,null,null,null,null,null,null,null,null,null,null,null,null,null,null,null,null,null,null,null,null,null,null,null,null,null,null,null,null,null,null,null,null,null,null,null,null,null,null,null,"",null,{"$f":"IF(BY44=\"\",\"\",\"AgencyEntityInsData Id 431\")","v":""},{"$f":"IF(BY44=\"\",\"\",\"AgencyEntityInstance Id 42\")","v":""},{"$f":"IF(BY44=\"\",\"\",\"cm_t27_list_pct_passing\")","v":""},{"$f":"IF(BY44=\"\",\"\",IF('Test 2'!AE24=0,\"\",'Test 2'!AE24))","v":""},{"$f":"IF(BY44=\"\",\"\",TODAY())","v":""},{"$f":"IF(BY44=\"\",\"\",\"WTSYSTEMUSER\")","v":""},{"$f":"IF(BY44=\"\",\"\",TODAY())","v":""},{"$f":"IF(BY44=\"\",\"\",\"WTSYSTEMUSER\")","v":""}]
[null,null,null,null,null,null,null,null,null,null,null,null,null,null,null,null,null,null,null,null,null,null,null,null,null,null,null,null,null,null,null,null,null,null,null,null,null,null,null,null,null,null,null,null,null,null,null,null,null,null,null,null,null,null,null,null,null,null,null,null,null,null,null,null,null,null,null,null,null,null,null,null,null,null,null,null,null,null,null,null,null,null,null,null,null,null,null,null,null,null,null,null,"",null,{"$f":"IF(BY45=\"\",\"\",\"AgencyEntityInsData Id 436\")","v":""},{"$f":"IF(BY45=\"\",\"\",\"AgencyEntityInstance Id 43\")","v":""},{"$f":"IF(BY45=\"\",\"\",\"cm_t27_list_order\")","v":""},{"$f":"IF(BY45=\"\",\"\",8)","v":""},{"$f":"IF(BY45=\"\",\"\",TODAY())","v":""},{"$f":"IF(BY45=\"\",\"\",\"WTSYSTEMUSER\")","v":""},{"$f":"IF(BY45=\"\",\"\",TODAY())","v":""},{"$f":"IF(BY45=\"\",\"\",\"WTSYSTEMUSER\")","v":""}]
[null,null,null,null,null,null,null,null,null,null,null,null,null,null,null,null,null,null,null,null,null,null,null,null,null,null,null,null,null,null,null,null,null,null,null,null,null,null,null,null,null,null,null,null,null,null,null,null,null,null,null,null,null,null,null,null,null,null,null,null,null,null,null,null,null,null,null,null,null,null,null,null,null,null,null,null,null,null,null,null,null,null,null,null,null,null,null,null,null,null,null,null,"",null,{"$f":"IF(BY46=\"\",\"\",\"AgencyEntityInsData Id 442\")","v":""},{"$f":"IF(BY46=\"\",\"\",\"AgencyEntityInstance Id 44\")","v":""},{"$f":"IF(BY46=\"\",\"\",\"cm_t27_list_order\")","v":""},{"$f":"IF(BY46=\"\",\"\",9)","v":""},{"$f":"IF(BY46=\"\",\"\",TODAY())","v":""},{"$f":"IF(BY46=\"\",\"\",\"WTSYSTEMUSER\")","v":""},{"$f":"IF(BY46=\"\",\"\",TODAY())","v":""},{"$f":"IF(BY46=\"\",\"\",\"WTSYSTEMUSER\")","v":""}]
[null,null,null,null,null,null,null,null,null,null,null,null,null,null,null,null,null,null,null,null,null,null,null,null,null,null,null,null,null,null,null,null,null,null,null,null,null,null,null,null,null,null,null,null,null,null,null,null,null,null,null,null,null,null,null,null,null,null,null,null,null,null,null,null,null,null,null,null,null,null,null,null,null,null,null,null,null,null,null,null,null,null,null,null,null,null,null,null,null,null,null,null,"",null,{"$f":"IF(BY47=\"\",\"\",\"AgencyEntityInsData Id 446\")","v":""},{"$f":"IF(BY47=\"\",\"\",\"AgencyEntityInstance Id 45\")","v":""},{"$f":"IF(BY47=\"\",\"\",\"cm_t27_list_max\")","v":""},{"$f":"IF(BY47=\"\",\"\",0)","v":""},{"$f":"IF(BY47=\"\",\"\",TODAY())","v":""},{"$f":"IF(BY47=\"\",\"\",\"WTSYSTEMUSER\")","v":""},{"$f":"IF(BY47=\"\",\"\",TODAY())","v":""},{"$f":"IF(BY47=\"\",\"\",\"WTSYSTEMUSER\")","v":""}]
[null,null,null,null,null,null,null,null,null,null,null,null,null,null,null,null,null,null,null,null,null,null,null,null,null,null,null,null,null,null,null,null,null,null,null,null,null,null,null,null,null,null,null,null,null,null,null,null,null,null,null,null,null,null,null,null,null,null,null,null,null,null,null,null,null,null,null,null,null,null,null,null,null,null,null,null,null,null,null,null,null,null,null,null,null,null,null,null,null,null,null,null,"",null,{"$f":"IF(BY48=\"\",\"\",\"AgencyEntityInsData Id 452\")","v":""},{"$f":"IF(BY48=\"\",\"\",\"AgencyEntityInstance Id 46\")","v":""},{"$f":"IF(BY48=\"\",\"\",\"cm_t27_list_max\")","v":""},{"$f":"IF(BY48=\"\",\"\",0)","v":""},{"$f":"IF(BY48=\"\",\"\",TODAY())","v":""},{"$f":"IF(BY48=\"\",\"\",\"WTSYSTEMUSER\")","v":""},{"$f":"IF(BY48=\"\",\"\",TODAY())","v":""},{"$f":"IF(BY48=\"\",\"\",\"WTSYSTEMUSER\")","v":""}]
[null,null,null,null,null,null,null,null,null,null,null,null,null,null,null,null,null,null,null,null,null,null,null,null,null,null,null,null,null,null,null,null,null,null,null,null,null,null,null,null,null,null,null,null,null,null,null,null,null,null,null,null,null,null,null,null,null,null,null,null,null,null,null,null,null,null,null,null,null,null,null,null,null,null,null,null,null,null,null,null,null,null,null,null,null,null,null,null,null,null,null,null,"",null,{"$f":"IF(BY49=\"\",\"\",\"AgencyEntityInsData Id 457\")","v":""},{"$f":"IF(BY49=\"\",\"\",\"AgencyEntityInstance Id 47\")","v":""},{"$f":"IF(BY49=\"\",\"\",\"cm_t27_list_inspecrow\")","v":""},{"$f":"IF(BY49=\"\",\"\",\"Out of Spec\")","v":""},{"$f":"IF(BY49=\"\",\"\",TODAY())","v":""},{"$f":"IF(BY49=\"\",\"\",\"WTSYSTEMUSER\")","v":""},{"$f":"IF(BY49=\"\",\"\",TODAY())","v":""},{"$f":"IF(BY49=\"\",\"\",\"WTSYSTEMUSER\")","v":""}]
[null,null,null,null,null,null,null,null,null,null,null,null,null,null,null,null,null,null,null,null,null,null,null,null,null,null,null,null,null,null,null,null,null,null,null,null,null,null,null,null,null,null,null,null,null,null,null,null,null,null,null,null,null,null,null,null,null,null,null,null,null,null,null,null,null,null,null,null,null,null,null,null,null,null,null,null,null,null,null,null,null,null,null,null,null,null,null,null,null,null,null,null,"",null,{"$f":"IF(BY49=\"\",\"\",\"AgencyEntityInsData Id 462\")","v":""},{"$f":"IF(BY49=\"\",\"\",\"AgencyEntityInstance Id 47\")","v":""},{"$f":"IF(BY49=\"\",\"\",\"cm_t27_list_sieve\")","v":""},{"$f":"IF(BY49=\"\",\"\",\"No. 50 (300 um)\")","v":""},{"$f":"IF(BY49=\"\",\"\",TODAY())","v":""},{"$f":"IF(BY49=\"\",\"\",\"WTSYSTEMUSER\")","v":""},{"$f":"IF(BY49=\"\",\"\",TODAY())","v":""},{"$f":"IF(BY49=\"\",\"\",\"WTSYSTEMUSER\")","v":""}]
[null,null,null,null,null,null,null,null,null,null,null,null,null,null,null,null,null,null,null,null,null,null,null,null,null,null,null,null,null,null,null,null,null,null,null,null,null,null,null,null,null,null,null,null,null,null,null,null,null,null,null,null,null,null,null,null,null,null,null,null,null,null,null,null,null,null,null,null,null,null,null,null,null,null,null,null,null,null,null,null,null,null,null,null,null,null,null,null,null,null,null,null,"",null,{"$f":"IF(BY50=\"\",\"\",\"AgencyEntityInsData Id 467\")","v":""},{"$f":"IF(BY50=\"\",\"\",\"AgencyEntityInstance Id 48\")","v":""},{"$f":"IF(BY50=\"\",\"\",\"cm_t27_list_pct_passing\")","v":""},{"$f":"IF(BY50=\"\",\"\",IF('Test 2'!AE29=0,\"\",'Test 2'!AE29))","v":""},{"$f":"IF(BY50=\"\",\"\",TODAY())","v":""},{"$f":"IF(BY50=\"\",\"\",\"WTSYSTEMUSER\")","v":""},{"$f":"IF(BY50=\"\",\"\",TODAY())","v":""},{"$f":"IF(BY50=\"\",\"\",\"WTSYSTEMUSER\")","v":""}]
[null,null,null,null,null,null,null,null,null,null,null,null,null,null,null,null,null,null,null,null,null,null,null,null,null,null,null,null,null,null,null,null,null,null,null,null,null,null,null,null,null,null,null,null,null,null,null,null,null,null,null,null,null,null,null,null,null,null,null,null,null,null,null,null,null,null,null,null,null,null,null,null,null,null,null,null,null,null,null,null,null,null,null,null,null,null,null,null,null,null,null,null,"",null,{"$f":"IF(BY51=\"\",\"\",\"AgencyEntityInsData Id 472\")","v":""},{"$f":"IF(BY51=\"\",\"\",\"AgencyEntityInstance Id 49\")","v":""},{"$f":"IF(BY51=\"\",\"\",\"cm_t27_list_order\")","v":""},{"$f":"IF(BY51=\"\",\"\",14)","v":""},{"$f":"IF(BY51=\"\",\"\",TODAY())","v":""},{"$f":"IF(BY51=\"\",\"\",\"WTSYSTEMUSER\")","v":""},{"$f":"IF(BY51=\"\",\"\",TODAY())","v":""},{"$f":"IF(BY51=\"\",\"\",\"WTSYSTEMUSER\")","v":""}]
[null,null,null,null,null,null,null,null,null,null,null,null,null,null,null,null,null,null,null,null,null,null,null,null,null,null,null,null,null,null,null,null,null,null,null,null,null,null,null,null,null,null,null,null,null,null,null,null,null,null,null,null,null,null,null,null,null,null,null,null,null,null,null,null,null,null,null,null,null,null,null,null,null,null,null,null,null,null,null,null,null,null,null,null,null,null,null,null,null,null,null,null,"",null,{"$f":"IF(BY53=\"\",\"\",\"AgencyEntityInsData Id 477\")","v":""},{"$f":"IF(BY53=\"\",\"\",\"AgencyEntityInstance Id 51\")","v":""},{"$f":"IF(BY53=\"\",\"\",\"cm_t27_list_max\")","v":""},{"$f":"IF(BY53=\"\",\"\",0)","v":""},{"$f":"IF(BY53=\"\",\"\",TODAY())","v":""},{"$f":"IF(BY53=\"\",\"\",\"WTSYSTEMUSER\")","v":""},{"$f":"IF(BY53=\"\",\"\",TODAY())","v":""},{"$f":"IF(BY53=\"\",\"\",\"WTSYSTEMUSER\")","v":""}]
[null,null,null,null,null,null,null,null,null,null,null,null,null,null,null,null,null,null,null,null,null,null,null,null,null,null,null,null,null,null,null,null,null,null,null,null,null,null,null,null,null,null,null,null,null,null,null,null,null,null,null,null,null,null,null,null,null,null,null,null,null,null,null,null,null,null,null,null,null,null,null,null,null,null,null,null,null,null,null,null,null,null,null,null,null,null,null,null,null,null,null,null,"",null,{"$f":"IF(BY54=\"\",\"\",\"AgencyEntityInsData Id 483\")","v":""},{"$f":"IF(BY54=\"\",\"\",\"AgencyEntityInstance Id 52\")","v":""},{"$f":"IF(BY54=\"\",\"\",\"cm_t27_list_max\")","v":""},{"$f":"IF(BY54=\"\",\"\",0)","v":""},{"$f":"IF(BY54=\"\",\"\",TODAY())","v":""},{"$f":"IF(BY54=\"\",\"\",\"WTSYSTEMUSER\")","v":""},{"$f":"IF(BY54=\"\",\"\",TODAY())","v":""},{"$f":"IF(BY54=\"\",\"\",\"WTSYSTEMUSER\")","v":""}]
[null,null,null,null,null,null,null,null,null,null,null,null,null,null,null,null,null,null,null,null,null,null,null,null,null,null,null,null,null,null,null,null,null,null,null,null,null,null,null,null,null,null,null,null,null,null,null,null,null,null,null,null,null,null,null,null,null,null,null,null,null,null,null,null,null,null,null,null,null,null,null,null,null,null,null,null,null,null,null,null,null,null,null,null,null,null,null,null,null,null,null,null,"",null,{"$f":"IF(BY55=\"\",\"\",\"AgencyEntityInsData Id 488\")","v":""},{"$f":"IF(BY55=\"\",\"\",\"AgencyEntityInstance Id 53\")","v":""},{"$f":"IF(BY55=\"\",\"\",\"cm_t27_list_inspecrow\")","v":""},{"$f":"IF(BY55=\"\",\"\",\"Out of Spec\")","v":""},{"$f":"IF(BY55=\"\",\"\",TODAY())","v":""},{"$f":"IF(BY55=\"\",\"\",\"WTSYSTEMUSER\")","v":""},{"$f":"IF(BY55=\"\",\"\",TODAY())","v":""},{"$f":"IF(BY55=\"\",\"\",\"WTSYSTEMUSER\")","v":""}]
[null,null,null,null,null,null,null,null,null,null,null,null,null,null,null,null,null,null,null,null,null,null,null,null,null,null,null,null,null,null,null,null,null,null,null,null,null,null,null,null,null,null,null,null,null,null,null,null,null,null,null,null,null,null,null,null,null,null,null,null,null,null,null,null,null,null,null,null,null,null,null,null,null,null,null,null,null,null,null,null,null,null,null,null,null,null,null,null,null,null,null,null,"",null,{"$f":"IF(BY55=\"\",\"\",\"AgencyEntityInsData Id 492\")","v":""},{"$f":"IF(BY55=\"\",\"\",\"AgencyEntityInstance Id 53\")","v":""},{"$f":"IF(BY55=\"\",\"\",\"cm_t27_list_pct_passing\")","v":""},{"$f":"IF(BY55=\"\",\"\",IF('Test 2'!AF19=0,\"\",'Test 2'!AF19))","v":""},{"$f":"IF(BY55=\"\",\"\",TODAY())","v":""},{"$f":"IF(BY55=\"\",\"\",\"WTSYSTEMUSER\")","v":""},{"$f":"IF(BY55=\"\",\"\",TODAY())","v":""},{"$f":"IF(BY55=\"\",\"\",\"WTSYSTEMUSER\")","v":""}]
[null,null,null,null,null,null,null,null,null,null,null,null,null,null,null,null,null,null,null,null,null,null,null,null,null,null,null,null,null,null,null,null,null,null,null,null,null,null,null,null,null,null,null,null,null,null,null,null,null,null,null,null,null,null,null,null,null,null,null,null,null,null,null,null,null,null,null,null,null,null,null,null,null,null,null,null,null,null,null,null,null,null,null,null,null,null,null,null,null,null,null,null,"",null,{"$f":"IF(BY55=\"\",\"\",\"AgencyEntityInsData Id 493\")","v":""},{"$f":"IF(BY55=\"\",\"\",\"AgencyEntityInstance Id 53\")","v":""},{"$f":"IF(BY55=\"\",\"\",\"cm_t27_list_sieve\")","v":""},{"$f":"IF(BY55=\"\",\"\",\"3/4\"\" (19 mm)\")","v":""},{"$f":"IF(BY55=\"\",\"\",TODAY())","v":""},{"$f":"IF(BY55=\"\",\"\",\"WTSYSTEMUSER\")","v":""},{"$f":"IF(BY55=\"\",\"\",TODAY())","v":""},{"$f":"IF(BY55=\"\",\"\",\"WTSYSTEMUSER\")","v":""}]
[null,null,null,null,null,null,null,null,null,null,null,null,null,null,null,null,null,null,null,null,null,null,null,null,null,null,null,null,null,null,null,null,null,null,null,null,null,null,null,null,null,null,null,null,null,null,null,null,null,null,null,null,null,null,null,null,null,null,null,null,null,null,null,null,null,null,null,null,null,null,null,null,null,null,null,null,null,null,null,null,null,null,null,null,null,null,null,null,null,null,null,null,"",null,{"$f":"IF(BY56=\"\",\"\",\"AgencyEntityInsData Id 498\")","v":""},{"$f":"IF(BY56=\"\",\"\",\"AgencyEntityInstance Id 54\")","v":""},{"$f":"IF(BY56=\"\",\"\",\"cm_t27_list_pct_passing\")","v":""},{"$f":"IF(BY56=\"\",\"\",IF('Test 2'!AF20=0,\"\",'Test 2'!AF20))","v":""},{"$f":"IF(BY56=\"\",\"\",TODAY())","v":""},{"$f":"IF(BY56=\"\",\"\",\"WTSYSTEMUSER\")","v":""},{"$f":"IF(BY56=\"\",\"\",TODAY())","v":""},{"$f":"IF(BY56=\"\",\"\",\"WTSYSTEMUSER\")","v":""}]
[null,null,null,null,null,null,null,null,null,null,null,null,null,null,null,null,null,null,null,null,null,null,null,null,null,null,null,null,null,null,null,null,null,null,null,null,null,null,null,null,null,null,null,null,null,null,null,null,null,null,null,null,null,null,null,null,null,null,null,null,null,null,null,null,null,null,null,null,null,null,null,null,null,null,null,null,null,null,null,null,null,null,null,null,null,null,null,null,null,null,null,null,"",null,{"$f":"IF(BY57=\"\",\"\",\"AgencyEntityInsData Id 504\")","v":""},{"$f":"IF(BY57=\"\",\"\",\"AgencyEntityInstance Id 55\")","v":""},{"$f":"IF(BY57=\"\",\"\",\"cm_t27_list_pct_passing\")","v":""},{"$f":"IF(BY57=\"\",\"\",IF('Test 2'!AF21=0,\"\",'Test 2'!AF21))","v":""},{"$f":"IF(BY57=\"\",\"\",TODAY())","v":""},{"$f":"IF(BY57=\"\",\"\",\"WTSYSTEMUSER\")","v":""},{"$f":"IF(BY57=\"\",\"\",TODAY())","v":""},{"$f":"IF(BY57=\"\",\"\",\"WTSYSTEMUSER\")","v":""}]
[null,null,null,null,null,null,null,null,null,null,null,null,null,null,null,null,null,null,null,null,null,null,null,null,null,null,null,null,null,null,null,null,null,null,null,null,null,null,null,null,null,null,null,null,null,null,null,null,null,null,null,null,null,null,null,null,null,null,null,null,null,null,null,null,null,null,null,null,null,null,null,null,null,null,null,null,null,null,null,null,null,null,null,null,null,null,null,null,null,null,null,null,"",null,{"$f":"IF(BY58=\"\",\"\",\"AgencyEntityInsData Id 509\")","v":""},{"$f":"IF(BY58=\"\",\"\",\"AgencyEntityInstance Id 56\")","v":""},{"$f":"IF(BY58=\"\",\"\",\"cm_t27_list_order\")","v":""},{"$f":"IF(BY58=\"\",\"\",5)","v":""},{"$f":"IF(BY58=\"\",\"\",TODAY())","v":""},{"$f":"IF(BY58=\"\",\"\",\"WTSYSTEMUSER\")","v":""},{"$f":"IF(BY58=\"\",\"\",TODAY())","v":""},{"$f":"IF(BY58=\"\",\"\",\"WTSYSTEMUSER\")","v":""}]
[null,null,null,null,null,null,null,null,null,null,null,null,null,null,null,null,null,null,null,null,null,null,null,null,null,null,null,null,null,null,null,null,null,null,null,null,null,null,null,null,null,null,null,null,null,null,null,null,null,null,null,null,null,null,null,null,null,null,null,null,null,null,null,null,null,null,null,null,null,null,null,null,null,null,null,null,null,null,null,null,null,null,null,null,null,null,null,null,null,null,null,null,"",null,{"$f":"IF(BY59=\"\",\"\",\"AgencyEntityInsData Id 513\")","v":""},{"$f":"IF(BY59=\"\",\"\",\"AgencyEntityInstance Id 57\")","v":""},{"$f":"IF(BY59=\"\",\"\",\"cm_t27_list_max\")","v":""},{"$f":"IF(BY59=\"\",\"\",0)","v":""},{"$f":"IF(BY59=\"\",\"\",TODAY())","v":""},{"$f":"IF(BY59=\"\",\"\",\"WTSYSTEMUSER\")","v":""},{"$f":"IF(BY59=\"\",\"\",TODAY())","v":""},{"$f":"IF(BY59=\"\",\"\",\"WTSYSTEMUSER\")","v":""}]
[null,null,null,null,null,null,null,null,null,null,null,null,null,null,null,null,null,null,null,null,null,null,null,null,null,null,null,null,null,null,null,null,null,null,null,null,null,null,null,null,null,null,null,null,null,null,null,null,null,null,null,null,null,null,null,null,null,null,null,null,null,null,null,null,null,null,null,null,null,null,null,null,null,null,null,null,null,null,null,null,null,null,null,null,null,null,null,null,null,null,null,null,"",null,{"$f":"IF(BY60=\"\",\"\",\"AgencyEntityInsData Id 519\")","v":""},{"$f":"IF(BY60=\"\",\"\",\"AgencyEntityInstance Id 58\")","v":""},{"$f":"IF(BY60=\"\",\"\",\"cm_t27_list_max\")","v":""},{"$f":"IF(BY60=\"\",\"\",0)","v":""},{"$f":"IF(BY60=\"\",\"\",TODAY())","v":""},{"$f":"IF(BY60=\"\",\"\",\"WTSYSTEMUSER\")","v":""},{"$f":"IF(BY60=\"\",\"\",TODAY())","v":""},{"$f":"IF(BY60=\"\",\"\",\"WTSYSTEMUSER\")","v":""}]
[null,null,null,null,null,null,null,null,null,null,null,null,null,null,null,null,null,null,null,null,null,null,null,null,null,null,null,null,null,null,null,null,null,null,null,null,null,null,null,null,null,null,null,null,null,null,null,null,null,null,null,null,null,null,null,null,null,null,null,null,null,null,null,null,null,null,null,null,null,null,null,null,null,null,null,null,null,null,null,null,null,null,null,null,null,null,null,null,null,null,null,null,"",null,{"$f":"IF(BY61=\"\",\"\",\"AgencyEntityInsData Id 524\")","v":""},{"$f":"IF(BY61=\"\",\"\",\"AgencyEntityInstance Id 59\")","v":""},{"$f":"IF(BY61=\"\",\"\",\"cm_t27_list_inspecrow\")","v":""},{"$f":"IF(BY61=\"\",\"\",\"Out of Spec\")","v":""},{"$f":"IF(BY61=\"\",\"\",TODAY())","v":""},{"$f":"IF(BY61=\"\",\"\",\"WTSYSTEMUSER\")","v":""},{"$f":"IF(BY61=\"\",\"\",TODAY())","v":""},{"$f":"IF(BY61=\"\",\"\",\"WTSYSTEMUSER\")","v":""}]
[null,null,null,null,null,null,null,null,null,null,null,null,null,null,null,null,null,null,null,null,null,null,null,null,null,null,null,null,null,null,null,null,null,null,null,null,null,null,null,null,null,null,null,null,null,null,null,null,null,null,null,null,null,null,null,null,null,null,null,null,null,null,null,null,null,null,null,null,null,null,null,null,null,null,null,null,null,null,null,null,null,null,null,null,null,null,null,null,null,null,null,null,"",null,{"$f":"IF(BY62=\"\",\"\",\"AgencyEntityInsData Id 530\")","v":""},{"$f":"IF(BY62=\"\",\"\",\"AgencyEntityInstance Id 60\")","v":""},{"$f":"IF(BY62=\"\",\"\",\"cm_t27_list_inspecrow\")","v":""},{"$f":"IF(BY62=\"\",\"\",\"Out of Spec\")","v":""},{"$f":"IF(BY62=\"\",\"\",TODAY())","v":""},{"$f":"IF(BY62=\"\",\"\",\"WTSYSTEMUSER\")","v":""},{"$f":"IF(BY62=\"\",\"\",TODAY())","v":""},{"$f":"IF(BY62=\"\",\"\",\"WTSYSTEMUSER\")","v":""}]
[null,null,null,null,null,null,null,null,null,null,null,null,null,null,null,null,null,null,null,null,null,null,null,null,null,null,null,null,null,null,null,null,null,null,null,null,null,null,null,null,null,null,null,null,null,null,null,null,null,null,null,null,null,null,null,null,null,null,null,null,null,null,null,null,null,null,null,null,null,null,null,null,null,null,null,null,null,null,null,null,null,null,null,null,null,null,null,null,null,null,null,null,"",null,{"$f":"IF(BY62=\"\",\"\",\"AgencyEntityInsData Id 535\")","v":""},{"$f":"IF(BY62=\"\",\"\",\"AgencyEntityInstance Id 60\")","v":""},{"$f":"IF(BY62=\"\",\"\",\"cm_t27_list_sieve\")","v":""},{"$f":"IF(BY62=\"\",\"\",\"No. 16 (1.18 mm)\")","v":""},{"$f":"IF(BY62=\"\",\"\",TODAY())","v":""},{"$f":"IF(BY62=\"\",\"\",\"WTSYSTEMUSER\")","v":""},{"$f":"IF(BY62=\"\",\"\",TODAY())","v":""},{"$f":"IF(BY62=\"\",\"\",\"WTSYSTEMUSER\")","v":""}]
[null,null,null,null,null,null,null,null,null,null,null,null,null,null,null,null,null,null,null,null,null,null,null,null,null,null,null,null,null,null,null,null,null,null,null,null,null,null,null,null,null,null,null,null,null,null,null,null,null,null,null,null,null,null,null,null,null,null,null,null,null,null,null,null,null,null,null,null,null,null,null,null,null,null,null,null,null,null,null,null,null,null,null,null,null,null,null,null,null,null,null,null,"",null,{"$f":"IF(BY63=\"\",\"\",\"AgencyEntityInsData Id 538\")","v":""},{"$f":"IF(BY63=\"\",\"\",\"AgencyEntityInstance Id 61\")","v":""},{"$f":"IF(BY63=\"\",\"\",\"cm_t27_list_min\")","v":""},{"$f":"IF(BY63=\"\",\"\",0)","v":""},{"$f":"IF(BY63=\"\",\"\",TODAY())","v":""},{"$f":"IF(BY63=\"\",\"\",\"WTSYSTEMUSER\")","v":""},{"$f":"IF(BY63=\"\",\"\",TODAY())","v":""},{"$f":"IF(BY63=\"\",\"\",\"WTSYSTEMUSER\")","v":""}]
[null,null,null,null,null,null,null,null,null,null,null,null,null,null,null,null,null,null,null,null,null,null,null,null,null,null,null,null,null,null,null,null,null,null,null,null,null,null,null,null,null,null,null,null,null,null,null,null,null,null,null,null,null,null,null,null,null,null,null,null,null,null,null,null,null,null,null,null,null,null,null,null,null,null,null,null,null,null,null,null,null,null,null,null,null,null,null,null,null,null,null,null,"",null,{"$f":"IF(BY64=\"\",\"\",\"AgencyEntityInsData Id 545\")","v":""},{"$f":"IF(BY64=\"\",\"\",\"AgencyEntityInstance Id 62\")","v":""},{"$f":"IF(BY64=\"\",\"\",\"cm_t27_list_order\")","v":""},{"$f":"IF(BY64=\"\",\"\",11)","v":""},{"$f":"IF(BY64=\"\",\"\",TODAY())","v":""},{"$f":"IF(BY64=\"\",\"\",\"WTSYSTEMUSER\")","v":""},{"$f":"IF(BY64=\"\",\"\",TODAY())","v":""},{"$f":"IF(BY64=\"\",\"\",\"WTSYSTEMUSER\")","v":""}]
[null,null,null,null,null,null,null,null,null,null,null,null,null,null,null,null,null,null,null,null,null,null,null,null,null,null,null,null,null,null,null,null,null,null,null,null,null,null,null,null,null,null,null,null,null,null,null,null,null,null,null,null,null,null,null,null,null,null,null,null,null,null,null,null,null,null,null,null,null,null,null,null,null,null,null,null,null,null,null,null,null,null,null,null,null,null,null,null,null,null,null,null,"",null,{"$f":"IF(BY65=\"\",\"\",\"AgencyEntityInsData Id 550\")","v":""},{"$f":"IF(BY65=\"\",\"\",\"AgencyEntityInstance Id 63\")","v":""},{"$f":"IF(BY65=\"\",\"\",\"cm_t27_list_min\")","v":""},{"$f":"IF(BY65=\"\",\"\",0)","v":""},{"$f":"IF(BY65=\"\",\"\",TODAY())","v":""},{"$f":"IF(BY65=\"\",\"\",\"WTSYSTEMUSER\")","v":""},{"$f":"IF(BY65=\"\",\"\",TODAY())","v":""},{"$f":"IF(BY65=\"\",\"\",\"WTSYSTEMUSER\")","v":""}]
[null,null,null,null,null,null,null,null,null,null,null,null,null,null,null,null,null,null,null,null,null,null,null,null,null,null,null,null,null,null,null,null,null,null,null,null,null,null,null,null,null,null,null,null,null,null,null,null,null,null,null,null,null,null,null,null,null,null,null,null,null,null,null,null,null,null,null,null,null,null,null,null,null,null,null,null,null,null,null,null,null,null,null,null,null,null,null,null,null,null,null,null,"",null,{"$f":"IF(BY65=\"\",\"\",\"AgencyEntityInsData Id 551\")","v":""},{"$f":"IF(BY65=\"\",\"\",\"AgencyEntityInstance Id 63\")","v":""},{"$f":"IF(BY65=\"\",\"\",\"cm_t27_list_order\")","v":""},{"$f":"IF(BY65=\"\",\"\",12)","v":""},{"$f":"IF(BY65=\"\",\"\",TODAY())","v":""},{"$f":"IF(BY65=\"\",\"\",\"WTSYSTEMUSER\")","v":""},{"$f":"IF(BY65=\"\",\"\",TODAY())","v":""},{"$f":"IF(BY65=\"\",\"\",\"WTSYSTEMUSER\")","v":""}]
[null,null,null,null,null,null,null,null,null,null,null,null,null,null,null,null,null,null,null,null,null,null,null,null,null,null,null,null,null,null,null,null,null,null,null,null,null,null,null,null,null,null,null,null,null,null,null,null,null,null,null,null,null,null,null,null,null,null,null,null,null,null,null,null,null,null,null,null,null,null,null,null,null,null,null,null,null,null,null,null,null,null,null,null,null,null,null,null,null,null,null,null,"",null,{"$f":"IF(BY66=\"\",\"\",\"AgencyEntityInsData Id 556\")","v":""},{"$f":"IF(BY66=\"\",\"\",\"AgencyEntityInstance Id 64\")","v":""},{"$f":"IF(BY66=\"\",\"\",\"cm_t27_list_min\")","v":""},{"$f":"IF(BY66=\"\",\"\",0)","v":""},{"$f":"IF(BY66=\"\",\"\",TODAY())","v":""},{"$f":"IF(BY66=\"\",\"\",\"WTSYSTEMUSER\")","v":""},{"$f":"IF(BY66=\"\",\"\",TODAY())","v":""},{"$f":"IF(BY66=\"\",\"\",\"WTSYSTEMUSER\")","v":""}]
[null,null,null,null,null,null,null,null,null,null,null,null,null,null,null,null,null,null,null,null,null,null,null,null,null,null,null,null,null,null,null,null,null,null,null,null,null,null,null,null,null,null,null,null,null,null,null,null,null,null,null,null,null,null,null,null,null,null,null,null,null,null,null,null,null,null,null,null,null,null,null,null,null,null,null,null,null,null,null,null,null,null,null,null,null,null,null,null,null,null,null,null,"",null,{"$f":"IF(BY67=\"\",\"\",\"AgencyEntityInsData Id 563\")","v":""},{"$f":"IF(BY67=\"\",\"\",\"AgencyEntityInstance Id 65\")","v":""},{"$f":"IF(BY67=\"\",\"\",\"cm_t27_list_order\")","v":""},{"$f":"IF(BY67=\"\",\"\",14)","v":""},{"$f":"IF(BY67=\"\",\"\",TODAY())","v":""},{"$f":"IF(BY67=\"\",\"\",\"WTSYSTEMUSER\")","v":""},{"$f":"IF(BY67=\"\",\"\",TODAY())","v":""},{"$f":"IF(BY67=\"\",\"\",\"WTSYSTEMUSER\")","v":""}]
[null,null,null,null,null,null,null,null,null,null,null,null,null,null,null,null,null,null,null,null,null,null,null,null,null,null,null,null,null,null,null,null,null,null,null,null,null,null,null,null,null,null,null,null,null,null,null,null,null,null,null,null,null,null,null,null,null,null,null,null,null,null,null,null,null,null,null,null,null,null,null,null,null,null,null,null,null,null,null,null,null,null,null,null,null,null,null,null,null,null,null,null,"",null,{"$f":"IF(BY68=\"\",\"\",\"AgencyEntityInsData Id 566\")","v":""},{"$f":"IF(BY68=\"\",\"\",\"AgencyEntityInstance Id 66\")","v":""},{"$f":"IF(BY68=\"\",\"\",\"cm_t27_detail_inspec\")","v":""},{"$f":"IF(BY68=\"\",\"\",\"Out of Spec\")","v":""},{"$f":"IF(BY68=\"\",\"\",TODAY())","v":""},{"$f":"IF(BY68=\"\",\"\",\"WTSYSTEMUSER\")","v":""},{"$f":"IF(BY68=\"\",\"\",TODAY())","v":""},{"$f":"IF(BY68=\"\",\"\",\"WTSYSTEMUSER\")","v":""}]
[null,null,null,null,null,null,null,null,null,null,null,null,null,null,null,null,null,null,null,null,null,null,null,null,null,null,null,null,null,null,null,null,null,null,null,null,null,null,null,null,null,null,null,null,null,null,null,null,null,null,null,null,null,null,null,null,null,null,null,null,null,null,null,null,null,null,null,null,null,null,null,null,null,null,null,null,null,null,null,null,null,null,null,null,null,null,null,null,null,null,null,null,"",null,{"$f":"IF(BY69=\"\",\"\",\"AgencyEntityInsData Id 571\")","v":""},{"$f":"IF(BY69=\"\",\"\",\"AgencyEntityInstance Id 67\")","v":""},{"$f":"IF(BY69=\"\",\"\",\"cm_t27_list_pct_passing\")","v":""},{"$f":"IF(BY69=\"\",\"\",IF('Test 2'!AG17=0,\"\",'Test 2'!AG17))","v":""},{"$f":"IF(BY69=\"\",\"\",TODAY())","v":""},{"$f":"IF(BY69=\"\",\"\",\"WTSYSTEMUSER\")","v":""},{"$f":"IF(BY69=\"\",\"\",TODAY())","v":""},{"$f":"IF(BY69=\"\",\"\",\"WTSYSTEMUSER\")","v":""}]
[null,null,null,null,null,null,null,null,null,null,null,null,null,null,null,null,null,null,null,null,null,null,null,null,null,null,null,null,null,null,null,null,null,null,null,null,null,null,null,null,null,null,null,null,null,null,null,null,null,null,null,null,null,null,null,null,null,null,null,null,null,null,null,null,null,null,null,null,null,null,null,null,null,null,null,null,null,null,null,null,null,null,null,null,null,null,null,null,null,null,null,null,"",null,{"$f":"IF(BY70=\"\",\"\",\"AgencyEntityInsData Id 576\")","v":""},{"$f":"IF(BY70=\"\",\"\",\"AgencyEntityInstance Id 68\")","v":""},{"$f":"IF(BY70=\"\",\"\",\"cm_t27_list_order\")","v":""},{"$f":"IF(BY70=\"\",\"\",1)","v":""},{"$f":"IF(BY70=\"\",\"\",TODAY())","v":""},{"$f":"IF(BY70=\"\",\"\",\"WTSYSTEMUSER\")","v":""},{"$f":"IF(BY70=\"\",\"\",TODAY())","v":""},{"$f":"IF(BY70=\"\",\"\",\"WTSYSTEMUSER\")","v":""}]
[null,null,null,null,null,null,null,null,null,null,null,null,null,null,null,null,null,null,null,null,null,null,null,null,null,null,null,null,null,null,null,null,null,null,null,null,null,null,null,null,null,null,null,null,null,null,null,null,null,null,null,null,null,null,null,null,null,null,null,null,null,null,null,null,null,null,null,null,null,null,null,null,null,null,null,null,null,null,null,null,null,null,null,null,null,null,null,null,null,null,null,null,"",null,{"$f":"IF(BY71=\"\",\"\",\"AgencyEntityInsData Id 582\")","v":""},{"$f":"IF(BY71=\"\",\"\",\"AgencyEntityInstance Id 69\")","v":""},{"$f":"IF(BY71=\"\",\"\",\"cm_t27_list_order\")","v":""},{"$f":"IF(BY71=\"\",\"\",2)","v":""},{"$f":"IF(BY71=\"\",\"\",TODAY())","v":""},{"$f":"IF(BY71=\"\",\"\",\"WTSYSTEMUSER\")","v":""},{"$f":"IF(BY71=\"\",\"\",TODAY())","v":""},{"$f":"IF(BY71=\"\",\"\",\"WTSYSTEMUSER\")","v":""}]
[null,null,null,null,null,null,null,null,null,null,null,null,null,null,null,null,null,null,null,null,null,null,null,null,null,null,null,null,null,null,null,null,null,null,null,null,null,null,null,null,null,null,null,null,null,null,null,null,null,null,null,null,null,null,null,null,null,null,null,null,null,null,null,null,null,null,null,null,null,null,null,null,null,null,null,null,null,null,null,null,null,null,null,null,null,null,null,null,null,null,null,null,"",null,{"$f":"IF(BY72=\"\",\"\",\"AgencyEntityInsData Id 588\")","v":""},{"$f":"IF(BY72=\"\",\"\",\"AgencyEntityInstance Id 70\")","v":""},{"$f":"IF(BY72=\"\",\"\",\"cm_t27_list_order\")","v":""},{"$f":"IF(BY72=\"\",\"\",3)","v":""},{"$f":"IF(BY72=\"\",\"\",TODAY())","v":""},{"$f":"IF(BY72=\"\",\"\",\"WTSYSTEMUSER\")","v":""},{"$f":"IF(BY72=\"\",\"\",TODAY())","v":""},{"$f":"IF(BY72=\"\",\"\",\"WTSYSTEMUSER\")","v":""}]
[null,null,null,null,null,null,null,null,null,null,null,null,null,null,null,null,null,null,null,null,null,null,null,null,null,null,null,null,null,null,null,null,null,null,null,null,null,null,null,null,null,null,null,null,null,null,null,null,null,null,null,null,null,null,null,null,null,null,null,null,null,null,null,null,null,null,null,null,null,null,null,null,null,null,null,null,null,null,null,null,null,null,null,null,null,null,null,null,null,null,null,null,"",null,{"$f":"IF(BY73=\"\",\"\",\"AgencyEntityInsData Id 592\")","v":""},{"$f":"IF(BY73=\"\",\"\",\"AgencyEntityInstance Id 71\")","v":""},{"$f":"IF(BY73=\"\",\"\",\"cm_t27_list_max\")","v":""},{"$f":"IF(BY73=\"\",\"\",0)","v":""},{"$f":"IF(BY73=\"\",\"\",TODAY())","v":""},{"$f":"IF(BY73=\"\",\"\",\"WTSYSTEMUSER\")","v":""},{"$f":"IF(BY73=\"\",\"\",TODAY())","v":""},{"$f":"IF(BY73=\"\",\"\",\"WTSYSTEMUSER\")","v":""}]
[null,null,null,null,null,null,null,null,null,null,null,null,null,null,null,null,null,null,null,null,null,null,null,null,null,null,null,null,null,null,null,null,null,null,null,null,null,null,null,null,null,null,null,null,null,null,null,null,null,null,null,null,null,null,null,null,null,null,null,null,null,null,null,null,null,null,null,null,null,null,null,null,null,null,null,null,null,null,null,null,null,null,null,null,null,null,null,null,null,null,null,null,"",null,{"$f":"IF(BY74=\"\",\"\",\"AgencyEntityInsData Id 597\")","v":""},{"$f":"IF(BY74=\"\",\"\",\"AgencyEntityInstance Id 72\")","v":""},{"$f":"IF(BY74=\"\",\"\",\"cm_t27_list_inspecrow\")","v":""},{"$f":"IF(BY74=\"\",\"\",\"Out of Spec\")","v":""},{"$f":"IF(BY74=\"\",\"\",TODAY())","v":""},{"$f":"IF(BY74=\"\",\"\",\"WTSYSTEMUSER\")","v":""},{"$f":"IF(BY74=\"\",\"\",TODAY())","v":""},{"$f":"IF(BY74=\"\",\"\",\"WTSYSTEMUSER\")","v":""}]
[null,null,null,null,null,null,null,null,null,null,null,null,null,null,null,null,null,null,null,null,null,null,null,null,null,null,null,null,null,null,null,null,null,null,null,null,null,null,null,null,null,null,null,null,null,null,null,null,null,null,null,null,null,null,null,null,null,null,null,null,null,null,null,null,null,null,null,null,null,null,null,null,null,null,null,null,null,null,null,null,null,null,null,null,null,null,null,null,null,null,null,null,"",null,{"$f":"IF(BY74=\"\",\"\",\"AgencyEntityInsData Id 602\")","v":""},{"$f":"IF(BY74=\"\",\"\",\"AgencyEntityInstance Id 72\")","v":""},{"$f":"IF(BY74=\"\",\"\",\"cm_t27_list_sieve\")","v":""},{"$f":"IF(BY74=\"\",\"\",\"1/4\"\" (6.25 mm)\")","v":""},{"$f":"IF(BY74=\"\",\"\",TODAY())","v":""},{"$f":"IF(BY74=\"\",\"\",\"WTSYSTEMUSER\")","v":""},{"$f":"IF(BY74=\"\",\"\",TODAY())","v":""},{"$f":"IF(BY74=\"\",\"\",\"WTSYSTEMUSER\")","v":""}]
[null,null,null,null,null,null,null,null,null,null,null,null,null,null,null,null,null,null,null,null,null,null,null,null,null,null,null,null,null,null,null,null,null,null,null,null,null,null,null,null,null,null,null,null,null,null,null,null,null,null,null,null,null,null,null,null,null,null,null,null,null,null,null,null,null,null,null,null,null,null,null,null,null,null,null,null,null,null,null,null,null,null,null,null,null,null,null,null,null,null,null,null,"",null,{"$f":"IF(BY75=\"\",\"\",\"AgencyEntityInsData Id 608\")","v":""},{"$f":"IF(BY75=\"\",\"\",\"AgencyEntityInstance Id 73\")","v":""},{"$f":"IF(BY75=\"\",\"\",\"cm_t27_list_sieve\")","v":""},{"$f":"IF(BY75=\"\",\"\",\"No. 4 (4.75 mm)\")","v":""},{"$f":"IF(BY75=\"\",\"\",TODAY())","v":""},{"$f":"IF(BY75=\"\",\"\",\"WTSYSTEMUSER\")","v":""},{"$f":"IF(BY75=\"\",\"\",TODAY())","v":""},{"$f":"IF(BY75=\"\",\"\",\"WTSYSTEMUSER\")","v":""}]
[null,null,null,null,null,null,null,null,null,null,null,null,null,null,null,null,null,null,null,null,null,null,null,null,null,null,null,null,null,null,null,null,null,null,null,null,null,null,null,null,null,null,null,null,null,null,null,null,null,null,null,null,null,null,null,null,null,null,null,null,null,null,null,null,null,null,null,null,null,null,null,null,null,null,null,null,null,null,null,null,null,null,null,null,null,null,null,null,null,null,null,null,"",null,{"$f":"IF(BY76=\"\",\"\",\"AgencyEntityInsData Id 609\")","v":""},{"$f":"IF(BY76=\"\",\"\",\"AgencyEntityInstance Id 74\")","v":""},{"$f":"IF(BY76=\"\",\"\",\"cm_t27_list_inspecrow\")","v":""},{"$f":"IF(BY76=\"\",\"\",\"Out of Spec\")","v":""},{"$f":"IF(BY76=\"\",\"\",TODAY())","v":""},{"$f":"IF(BY76=\"\",\"\",\"WTSYSTEMUSER\")","v":""},{"$f":"IF(BY76=\"\",\"\",TODAY())","v":""},{"$f":"IF(BY76=\"\",\"\",\"WTSYSTEMUSER\")","v":""}]
[null,null,null,null,null,null,null,null,null,null,null,null,null,null,null,null,null,null,null,null,null,null,null,null,null,null,null,null,null,null,null,null,null,null,null,null,null,null,null,null,null,null,null,null,null,null,null,null,null,null,null,null,null,null,null,null,null,null,null,null,null,null,null,null,null,null,null,null,null,null,null,null,null,null,null,null,null,null,null,null,null,null,null,null,null,null,null,null,null,null,null,null,"",null,{"$f":"IF(BY76=\"\",\"\",\"AgencyEntityInsData Id 613\")","v":""},{"$f":"IF(BY76=\"\",\"\",\"AgencyEntityInstance Id 74\")","v":""},{"$f":"IF(BY76=\"\",\"\",\"cm_t27_list_pct_passing\")","v":""},{"$f":"IF(BY76=\"\",\"\",IF('Test 2'!AG24=0,\"\",'Test 2'!AG24))","v":""},{"$f":"IF(BY76=\"\",\"\",TODAY())","v":""},{"$f":"IF(BY76=\"\",\"\",\"WTSYSTEMUSER\")","v":""},{"$f":"IF(BY76=\"\",\"\",TODAY())","v":""},{"$f":"IF(BY76=\"\",\"\",\"WTSYSTEMUSER\")","v":""}]
[null,null,null,null,null,null,null,null,null,null,null,null,null,null,null,null,null,null,null,null,null,null,null,null,null,null,null,null,null,null,null,null,null,null,null,null,null,null,null,null,null,null,null,null,null,null,null,null,null,null,null,null,null,null,null,null,null,null,null,null,null,null,null,null,null,null,null,null,null,null,null,null,null,null,null,null,null,null,null,null,null,null,null,null,null,null,null,null,null,null,null,null,"",null,{"$f":"IF(BY77=\"\",\"\",\"AgencyEntityInsData Id 618\")","v":""},{"$f":"IF(BY77=\"\",\"\",\"AgencyEntityInstance Id 75\")","v":""},{"$f":"IF(BY77=\"\",\"\",\"cm_t27_list_order\")","v":""},{"$f":"IF(BY77=\"\",\"\",8)","v":""},{"$f":"IF(BY77=\"\",\"\",TODAY())","v":""},{"$f":"IF(BY77=\"\",\"\",\"WTSYSTEMUSER\")","v":""},{"$f":"IF(BY77=\"\",\"\",TODAY())","v":""},{"$f":"IF(BY77=\"\",\"\",\"WTSYSTEMUSER\")","v":""}]
[null,null,null,null,null,null,null,null,null,null,null,null,null,null,null,null,null,null,null,null,null,null,null,null,null,null,null,null,null,null,null,null,null,null,null,null,null,null,null,null,null,null,null,null,null,null,null,null,null,null,null,null,null,null,null,null,null,null,null,null,null,null,null,null,null,null,null,null,null,null,null,null,null,null,null,null,null,null,null,null,null,null,null,null,null,null,null,null,null,null,null,null,"",null,{"$f":"IF(BY78=\"\",\"\",\"AgencyEntityInsData Id 623\")","v":""},{"$f":"IF(BY78=\"\",\"\",\"AgencyEntityInstance Id 76\")","v":""},{"$f":"IF(BY78=\"\",\"\",\"cm_t27_list_min\")","v":""},{"$f":"IF(BY78=\"\",\"\",0)","v":""},{"$f":"IF(BY78=\"\",\"\",TODAY())","v":""},{"$f":"IF(BY78=\"\",\"\",\"WTSYSTEMUSER\")","v":""},{"$f":"IF(BY78=\"\",\"\",TODAY())","v":""},{"$f":"IF(BY78=\"\",\"\",\"WTSYSTEMUSER\")","v":""}]
[null,null,null,null,null,null,null,null,null,null,null,null,null,null,null,null,null,null,null,null,null,null,null,null,null,null,null,null,null,null,null,null,null,null,null,null,null,null,null,null,null,null,null,null,null,null,null,null,null,null,null,null,null,null,null,null,null,null,null,null,null,null,null,null,null,null,null,null,null,null,null,null,null,null,null,null,null,null,null,null,null,null,null,null,null,null,null,null,null,null,null,null,"",null,{"$f":"IF(BY79=\"\",\"\",\"AgencyEntityInsData Id 629\")","v":""},{"$f":"IF(BY79=\"\",\"\",\"AgencyEntityInstance Id 77\")","v":""},{"$f":"IF(BY79=\"\",\"\",\"cm_t27_list_min\")","v":""},{"$f":"IF(BY79=\"\",\"\",0)","v":""},{"$f":"IF(BY79=\"\",\"\",TODAY())","v":""},{"$f":"IF(BY79=\"\",\"\",\"WTSYSTEMUSER\")","v":""},{"$f":"IF(BY79=\"\",\"\",TODAY())","v":""},{"$f":"IF(BY79=\"\",\"\",\"WTSYSTEMUSER\")","v":""}]
[null,null,null,null,null,null,null,null,null,null,null,null,null,null,null,null,null,null,null,null,null,null,null,null,null,null,null,null,null,null,null,null,null,null,null,null,null,null,null,null,null,null,null,null,null,null,null,null,null,null,null,null,null,null,null,null,null,null,null,null,null,null,null,null,null,null,null,null,null,null,null,null,null,null,null,null,null,null,null,null,null,null,null,null,null,null,null,null,null,null,null,null,"",null,{"$f":"IF(BY80=\"\",\"\",\"AgencyEntityInsData Id 634\")","v":""},{"$f":"IF(BY80=\"\",\"\",\"AgencyEntityInstance Id 78\")","v":""},{"$f":"IF(BY80=\"\",\"\",\"cm_t27_list_max\")","v":""},{"$f":"IF(BY80=\"\",\"\",0)","v":""},{"$f":"IF(BY80=\"\",\"\",TODAY())","v":""},{"$f":"IF(BY80=\"\",\"\",\"WTSYSTEMUSER\")","v":""},{"$f":"IF(BY80=\"\",\"\",TODAY())","v":""},{"$f":"IF(BY80=\"\",\"\",\"WTSYSTEMUSER\")","v":""}]
[null,null,null,null,null,null,null,null,null,null,null,null,null,null,null,null,null,null,null,null,null,null,null,null,null,null,null,null,null,null,null,null,null,null,null,null,null,null,null,null,null,null,null,null,null,null,null,null,null,null,null,null,null,null,null,null,null,null,null,null,null,null,null,null,null,null,null,null,null,null,null,null,null,null,null,null,null,null,null,null,null,null,null,null,null,null,null,null,null,null,null,null,"",null,{"$f":"IF(BY80=\"\",\"\",\"AgencyEntityInsData Id 638\")","v":""},{"$f":"IF(BY80=\"\",\"\",\"AgencyEntityInstance Id 78\")","v":""},{"$f":"IF(BY80=\"\",\"\",\"cm_t27_list_sieve\")","v":""},{"$f":"IF(BY80=\"\",\"\",\"No. 40 (425 um)\")","v":""},{"$f":"IF(BY80=\"\",\"\",TODAY())","v":""},{"$f":"IF(BY80=\"\",\"\",\"WTSYSTEMUSER\")","v":""},{"$f":"IF(BY80=\"\",\"\",TODAY())","v":""},{"$f":"IF(BY80=\"\",\"\",\"WTSYSTEMUSER\")","v":""}]
[null,null,null,null,null,null,null,null,null,null,null,null,null,null,null,null,null,null,null,null,null,null,null,null,null,null,null,null,null,null,null,null,null,null,null,null,null,null,null,null,null,null,null,null,null,null,null,null,null,null,null,null,null,null,null,null,null,null,null,null,null,null,null,null,null,null,null,null,null,null,null,null,null,null,null,null,null,null,null,null,null,null,null,null,null,null,null,null,null,null,null,null,"",null,{"$f":"IF(BY81=\"\",\"\",\"AgencyEntityInsData Id 644\")","v":""},{"$f":"IF(BY81=\"\",\"\",\"AgencyEntityInstance Id 79\")","v":""},{"$f":"IF(BY81=\"\",\"\",\"cm_t27_list_sieve\")","v":""},{"$f":"IF(BY81=\"\",\"\",\"No. 50 (300 um)\")","v":""},{"$f":"IF(BY81=\"\",\"\",TODAY())","v":""},{"$f":"IF(BY81=\"\",\"\",\"WTSYSTEMUSER\")","v":""},{"$f":"IF(BY81=\"\",\"\",TODAY())","v":""},{"$f":"IF(BY81=\"\",\"\",\"WTSYSTEMUSER\")","v":""}]
[null,null,null,null,null,null,null,null,null,null,null,null,null,null,null,null,null,null,null,null,null,null,null,null,null,null,null,null,null,null,null,null,null,null,null,null,null,null,null,null,null,null,null,null,null,null,null,null,null,null,null,null,null,null,null,null,null,null,null,null,null,null,null,null,null,null,null,null,null,null,null,null,null,null,null,null,null,null,null,null,null,null,null,null,null,null,null,null,null,null,null,null,"",null,{"$f":"IF(BY82=\"\",\"\",\"AgencyEntityInsData Id 649\")","v":""},{"$f":"IF(BY82=\"\",\"\",\"AgencyEntityInstance Id 80\")","v":""},{"$f":"IF(BY82=\"\",\"\",\"cm_t27_list_pct_passing\")","v":""},{"$f":"IF(BY82=\"\",\"\",IF('Test 2'!AG29=0,\"\",'Test 2'!AG29))","v":""},{"$f":"IF(BY82=\"\",\"\",TODAY())","v":""},{"$f":"IF(BY82=\"\",\"\",\"WTSYSTEMUSER\")","v":""},{"$f":"IF(BY82=\"\",\"\",TODAY())","v":""},{"$f":"IF(BY82=\"\",\"\",\"WTSYSTEMUSER\")","v":""}]
[null,null,null,null,null,null,null,null,null,null,null,null,null,null,null,null,null,null,null,null,null,null,null,null,null,null,null,null,null,null,null,null,null,null,null,null,null,null,null,null,null,null,null,null,null,null,null,null,null,null,null,null,null,null,null,null,null,null,null,null,null,null,null,null,null,null,null,null,null,null,null,null,null,null,null,null,null,null,null,null,null,null,null,null,null,null,null,null,null,null,null,null,"",null,{"$f":"IF(BY83=\"\",\"\",\"AgencyEntityInsData Id 655\")","v":""},{"$f":"IF(BY83=\"\",\"\",\"AgencyEntityInstance Id 81\")","v":""},{"$f":"IF(BY83=\"\",\"\",\"cm_t27_list_pct_passing\")","v":""},{"$f":"IF(BY83=\"\",\"\",IF('Test 2'!AG30=0,\"\",'Test 2'!AG30))","v":""},{"$f":"IF(BY83=\"\",\"\",TODAY())","v":""},{"$f":"IF(BY83=\"\",\"\",\"WTSYSTEMUSER\")","v":""},{"$f":"IF(BY83=\"\",\"\",TODAY())","v":""},{"$f":"IF(BY83=\"\",\"\",\"WTSYSTEMUSER\")","v":""}]
[null,null,null,null,null,null,null,null,null,null,null,null,null,null,null,null,null,null,null,null,null,null,null,null,null,null,null,null,null,null,null,null,null,null,null,null,null,null,null,null,null,null,null,null,null,null,null,null,null,null,null,null,null,null,null,null,null,null,null,null,null,null,null,null,null,null,null,null,null,null,null,null,null,null,null,null,null,null,null,null,null,null,null,null,null,null,null,null,null,null,null,null,"",null,{"$f":"IF(BY85=\"\",\"\",\"AgencyEntityInsData Id 659\")","v":""},{"$f":"IF(BY85=\"\",\"\",\"AgencyEntityInstance Id 83\")","v":""},{"$f":"IF(BY85=\"\",\"\",\"cm_t27_list_max\")","v":""},{"$f":"IF(BY85=\"\",\"\",0)","v":""},{"$f":"IF(BY85=\"\",\"\",TODAY())","v":""},{"$f":"IF(BY85=\"\",\"\",\"WTSYSTEMUSER\")","v":""},{"$f":"IF(BY85=\"\",\"\",TODAY())","v":""},{"$f":"IF(BY85=\"\",\"\",\"WTSYSTEMUSER\")","v":""}]
[null,null,null,null,null,null,null,null,null,null,null,null,null,null,null,null,null,null,null,null,null,null,null,null,null,null,null,null,null,null,null,null,null,null,null,null,null,null,null,null,null,null,null,null,null,null,null,null,null,null,null,null,null,null,null,null,null,null,null,null,null,null,null,null,null,null,null,null,null,null,null,null,null,null,null,null,null,null,null,null,null,null,null,null,null,null,null,null,null,null,null,null,"",null,{"$f":"IF(BY86=\"\",\"\",\"AgencyEntityInsData Id 664\")","v":""},{"$f":"IF(BY86=\"\",\"\",\"AgencyEntityInstance Id 84\")","v":""},{"$f":"IF(BY86=\"\",\"\",\"cm_t27_list_inspecrow\")","v":""},{"$f":"IF(BY86=\"\",\"\",\"Out of Spec\")","v":""},{"$f":"IF(BY86=\"\",\"\",TODAY())","v":""},{"$f":"IF(BY86=\"\",\"\",\"WTSYSTEMUSER\")","v":""},{"$f":"IF(BY86=\"\",\"\",TODAY())","v":""},{"$f":"IF(BY86=\"\",\"\",\"WTSYSTEMUSER\")","v":""}]
[null,null,null,null,null,null,null,null,null,null,null,null,null,null,null,null,null,null,null,null,null,null,null,null,null,null,null,null,null,null,null,null,null,null,null,null,null,null,null,null,null,null,null,null,null,null,null,null,null,null,null,null,null,null,null,null,null,null,null,null,null,null,null,null,null,null,null,null,null,null,null,null,null,null,null,null,null,null,null,null,null,null,null,null,null,null,null,null,null,null,null,null,"",null,{"$f":"IF(BY87=\"\",\"\",\"AgencyEntityInsData Id 670\")","v":""},{"$f":"IF(BY87=\"\",\"\",\"AgencyEntityInstance Id 85\")","v":""},{"$f":"IF(BY87=\"\",\"\",\"cm_t27_list_inspecrow\")","v":""},{"$f":"IF(BY87=\"\",\"\",\"Out of Spec\")","v":""},{"$f":"IF(BY87=\"\",\"\",TODAY())","v":""},{"$f":"IF(BY87=\"\",\"\",\"WTSYSTEMUSER\")","v":""},{"$f":"IF(BY87=\"\",\"\",TODAY())","v":""},{"$f":"IF(BY87=\"\",\"\",\"WTSYSTEMUSER\")","v":""}]
[null,null,null,null,null,null,null,null,null,null,null,null,null,null,null,null,null,null,null,null,null,null,null,null,null,null,null,null,null,null,null,null,null,null,null,null,null,null,null,null,null,null,null,null,null,null,null,null,null,null,null,null,null,null,null,null,null,null,null,null,null,null,null,null,null,null,null,null,null,null,null,null,null,null,null,null,null,null,null,null,null,null,null,null,null,null,null,null,null,null,null,null,"",null,{"$f":"IF(BY87=\"\",\"\",\"AgencyEntityInsData Id 675\")","v":""},{"$f":"IF(BY87=\"\",\"\",\"AgencyEntityInstance Id 85\")","v":""},{"$f":"IF(BY87=\"\",\"\",\"cm_t27_list_sieve\")","v":""},{"$f":"IF(BY87=\"\",\"\",\"3/4\"\" (19 mm)\")","v":""},{"$f":"IF(BY87=\"\",\"\",TODAY())","v":""},{"$f":"IF(BY87=\"\",\"\",\"WTSYSTEMUSER\")","v":""},{"$f":"IF(BY87=\"\",\"\",TODAY())","v":""},{"$f":"IF(BY87=\"\",\"\",\"WTSYSTEMUSER\")","v":""}]
[null,null,null,null,null,null,null,null,null,null,null,null,null,null,null,null,null,null,null,null,null,null,null,null,null,null,null,null,null,null,null,null,null,null,null,null,null,null,null,null,null,null,null,null,null,null,null,null,null,null,null,null,null,null,null,null,null,null,null,null,null,null,null,null,null,null,null,null,null,null,null,null,null,null,null,null,null,null,null,null,null,null,null,null,null,null,null,null,null,null,null,null,"",null,{"$f":"IF(BY88=\"\",\"\",\"AgencyEntityInsData Id 680\")","v":""},{"$f":"IF(BY88=\"\",\"\",\"AgencyEntityInstance Id 86\")","v":""},{"$f":"IF(BY88=\"\",\"\",\"cm_t27_list_pct_passing\")","v":""},{"$f":"IF(BY88=\"\",\"\",IF('Test 2'!AH20=0,\"\",'Test 2'!AH20))","v":""},{"$f":"IF(BY88=\"\",\"\",TODAY())","v":""},{"$f":"IF(BY88=\"\",\"\",\"WTSYSTEMUSER\")","v":""},{"$f":"IF(BY88=\"\",\"\",TODAY())","v":""},{"$f":"IF(BY88=\"\",\"\",\"WTSYSTEMUSER\")","v":""}]
[null,null,null,null,null,null,null,null,null,null,null,null,null,null,null,null,null,null,null,null,null,null,null,null,null,null,null,null,null,null,null,null,null,null,null,null,null,null,null,null,null,null,null,null,null,null,null,null,null,null,null,null,null,null,null,null,null,null,null,null,null,null,null,null,null,null,null,null,null,null,null,null,null,null,null,null,null,null,null,null,null,null,null,null,null,null,null,null,null,null,null,null,"",null,{"$f":"IF(BY89=\"\",\"\",\"AgencyEntityInsData Id 684\")","v":""},{"$f":"IF(BY89=\"\",\"\",\"AgencyEntityInstance Id 87\")","v":""},{"$f":"IF(BY89=\"\",\"\",\"cm_t27_list_min\")","v":""},{"$f":"IF(BY89=\"\",\"\",0)","v":""},{"$f":"IF(BY89=\"\",\"\",TODAY())","v":""},{"$f":"IF(BY89=\"\",\"\",\"WTSYSTEMUSER\")","v":""},{"$f":"IF(BY89=\"\",\"\",TODAY())","v":""},{"$f":"IF(BY89=\"\",\"\",\"WTSYSTEMUSER\")","v":""}]
[null,null,null,null,null,null,null,null,null,null,null,null,null,null,null,null,null,null,null,null,null,null,null,null,null,null,null,null,null,null,null,null,null,null,null,null,null,null,null,null,null,null,null,null,null,null,null,null,null,null,null,null,null,null,null,null,null,null,null,null,null,null,null,null,null,null,null,null,null,null,null,null,null,null,null,null,null,null,null,null,null,null,null,null,null,null,null,null,null,null,null,null,"",null,{"$f":"IF(BY89=\"\",\"\",\"AgencyEntityInsData Id 685\")","v":""},{"$f":"IF(BY89=\"\",\"\",\"AgencyEntityInstance Id 87\")","v":""},{"$f":"IF(BY89=\"\",\"\",\"cm_t27_list_order\")","v":""},{"$f":"IF(BY89=\"\",\"\",4)","v":""},{"$f":"IF(BY89=\"\",\"\",TODAY())","v":""},{"$f":"IF(BY89=\"\",\"\",\"WTSYSTEMUSER\")","v":""},{"$f":"IF(BY89=\"\",\"\",TODAY())","v":""},{"$f":"IF(BY89=\"\",\"\",\"WTSYSTEMUSER\")","v":""}]
[null,null,null,null,null,null,null,null,null,null,null,null,null,null,null,null,null,null,null,null,null,null,null,null,null,null,null,null,null,null,null,null,null,null,null,null,null,null,null,null,null,null,null,null,null,null,null,null,null,null,null,null,null,null,null,null,null,null,null,null,null,null,null,null,null,null,null,null,null,null,null,null,null,null,null,null,null,null,null,null,null,null,null,null,null,null,null,null,null,null,null,null,"",null,{"$f":"IF(BY90=\"\",\"\",\"AgencyEntityInsData Id 691\")","v":""},{"$f":"IF(BY90=\"\",\"\",\"AgencyEntityInstance Id 88\")","v":""},{"$f":"IF(BY90=\"\",\"\",\"cm_t27_list_order\")","v":""},{"$f":"IF(BY90=\"\",\"\",5)","v":""},{"$f":"IF(BY90=\"\",\"\",TODAY())","v":""},{"$f":"IF(BY90=\"\",\"\",\"WTSYSTEMUSER\")","v":""},{"$f":"IF(BY90=\"\",\"\",TODAY())","v":""},{"$f":"IF(BY90=\"\",\"\",\"WTSYSTEMUSER\")","v":""}]
[null,null,null,null,null,null,null,null,null,null,null,null,null,null,null,null,null,null,null,null,null,null,null,null,null,null,null,null,null,null,null,null,null,null,null,null,null,null,null,null,null,null,null,null,null,null,null,null,null,null,null,null,null,null,null,null,null,null,null,null,null,null,null,null,null,null,null,null,null,null,null,null,null,null,null,null,null,null,null,null,null,null,null,null,null,null,null,null,null,null,null,null,"",null,{"$f":"IF(BY91=\"\",\"\",\"AgencyEntityInsData Id 696\")","v":""},{"$f":"IF(BY91=\"\",\"\",\"AgencyEntityInstance Id 89\")","v":""},{"$f":"IF(BY91=\"\",\"\",\"cm_t27_list_min\")","v":""},{"$f":"IF(BY91=\"\",\"\",0)","v":""},{"$f":"IF(BY91=\"\",\"\",TODAY())","v":""},{"$f":"IF(BY91=\"\",\"\",\"WTSYSTEMUSER\")","v":""},{"$f":"IF(BY91=\"\",\"\",TODAY())","v":""},{"$f":"IF(BY91=\"\",\"\",\"WTSYSTEMUSER\")","v":""}]
[null,null,null,null,null,null,null,null,null,null,null,null,null,null,null,null,null,null,null,null,null,null,null,null,null,null,null,null,null,null,null,null,null,null,null,null,null,null,null,null,null,null,null,null,null,null,null,null,null,null,null,null,null,null,null,null,null,null,null,null,null,null,null,null,null,null,null,null,null,null,null,null,null,null,null,null,null,null,null,null,null,null,null,null,null,null,null,null,null,null,null,null,"",null,{"$f":"IF(BY92=\"\",\"\",\"AgencyEntityInsData Id 701\")","v":""},{"$f":"IF(BY92=\"\",\"\",\"AgencyEntityInstance Id 90\")","v":""},{"$f":"IF(BY92=\"\",\"\",\"cm_t27_list_max\")","v":""},{"$f":"IF(BY92=\"\",\"\",0)","v":""},{"$f":"IF(BY92=\"\",\"\",TODAY())","v":""},{"$f":"IF(BY92=\"\",\"\",\"WTSYSTEMUSER\")","v":""},{"$f":"IF(BY92=\"\",\"\",TODAY())","v":""},{"$f":"IF(BY92=\"\",\"\",\"WTSYSTEMUSER\")","v":""}]
[null,null,null,null,null,null,null,null,null,null,null,null,null,null,null,null,null,null,null,null,null,null,null,null,null,null,null,null,null,null,null,null,null,null,null,null,null,null,null,null,null,null,null,null,null,null,null,null,null,null,null,null,null,null,null,null,null,null,null,null,null,null,null,null,null,null,null,null,null,null,null,null,null,null,null,null,null,null,null,null,null,null,null,null,null,null,null,null,null,null,null,null,"",null,{"$f":"IF(BY92=\"\",\"\",\"AgencyEntityInsData Id 705\")","v":""},{"$f":"IF(BY92=\"\",\"\",\"AgencyEntityInstance Id 90\")","v":""},{"$f":"IF(BY92=\"\",\"\",\"cm_t27_list_sieve\")","v":""},{"$f":"IF(BY92=\"\",\"\",\"No. 8 (2.36 mm)\")","v":""},{"$f":"IF(BY92=\"\",\"\",TODAY())","v":""},{"$f":"IF(BY92=\"\",\"\",\"WTSYSTEMUSER\")","v":""},{"$f":"IF(BY92=\"\",\"\",TODAY())","v":""},{"$f":"IF(BY92=\"\",\"\",\"WTSYSTEMUSER\")","v":""}]
[null,null,null,null,null,null,null,null,null,null,null,null,null,null,null,null,null,null,null,null,null,null,null,null,null,null,null,null,null,null,null,null,null,null,null,null,null,null,null,null,null,null,null,null,null,null,null,null,null,null,null,null,null,null,null,null,null,null,null,null,null,null,null,null,null,null,null,null,null,null,null,null,null,null,null,null,null,null,null,null,null,null,null,null,null,null,null,null,null,null,null,null,"",null,{"$f":"IF(BY93=\"\",\"\",\"AgencyEntityInsData Id 711\")","v":""},{"$f":"IF(BY93=\"\",\"\",\"AgencyEntityInstance Id 91\")","v":""},{"$f":"IF(BY93=\"\",\"\",\"cm_t27_list_sieve\")","v":""},{"$f":"IF(BY93=\"\",\"\",\"No. 10 (2.00 mm)\")","v":""},{"$f":"IF(BY93=\"\",\"\",TODAY())","v":""},{"$f":"IF(BY93=\"\",\"\",\"WTSYSTEMUSER\")","v":""},{"$f":"IF(BY93=\"\",\"\",TODAY())","v":""},{"$f":"IF(BY93=\"\",\"\",\"WTSYSTEMUSER\")","v":""}]
[null,null,null,null,null,null,null,null,null,null,null,null,null,null,null,null,null,null,null,null,null,null,null,null,null,null,null,null,null,null,null,null,null,null,null,null,null,null,null,null,null,null,null,null,null,null,null,null,null,null,null,null,null,null,null,null,null,null,null,null,null,null,null,null,null,null,null,null,null,null,null,null,null,null,null,null,null,null,null,null,null,null,null,null,null,null,null,null,null,null,null,null,"",null,{"$f":"IF(BY94=\"\",\"\",\"AgencyEntityInsData Id 717\")","v":""},{"$f":"IF(BY94=\"\",\"\",\"AgencyEntityInstance Id 92\")","v":""},{"$f":"IF(BY94=\"\",\"\",\"cm_t27_list_sieve\")","v":""},{"$f":"IF(BY94=\"\",\"\",\"No. 16 (1.18 mm)\")","v":""},{"$f":"IF(BY94=\"\",\"\",TODAY())","v":""},{"$f":"IF(BY94=\"\",\"\",\"WTSYSTEMUSER\")","v":""},{"$f":"IF(BY94=\"\",\"\",TODAY())","v":""},{"$f":"IF(BY94=\"\",\"\",\"WTSYSTEMUSER\")","v":""}]
[null,null,null,null,null,null,null,null,null,null,null,null,null,null,null,null,null,null,null,null,null,null,null,null,null,null,null,null,null,null,null,null,null,null,null,null,null,null,null,null,null,null,null,null,null,null,null,null,null,null,null,null,null,null,null,null,null,null,null,null,null,null,null,null,null,null,null,null,null,null,null,null,null,null,null,null,null,null,null,null,null,null,null,null,null,null,null,null,null,null,null,null,"",null,{"$f":"IF(BY95=\"\",\"\",\"AgencyEntityInsData Id 722\")","v":""},{"$f":"IF(BY95=\"\",\"\",\"AgencyEntityInstance Id 93\")","v":""},{"$f":"IF(BY95=\"\",\"\",\"cm_t27_list_pct_passing\")","v":""},{"$f":"IF(BY95=\"\",\"\",IF('Test 2'!AH26=0,\"\",'Test 2'!AH26))","v":""},{"$f":"IF(BY95=\"\",\"\",TODAY())","v":""},{"$f":"IF(BY95=\"\",\"\",\"WTSYSTEMUSER\")","v":""},{"$f":"IF(BY95=\"\",\"\",TODAY())","v":""},{"$f":"IF(BY95=\"\",\"\",\"WTSYSTEMUSER\")","v":""}]
[null,null,null,null,null,null,null,null,null,null,null,null,null,null,null,null,null,null,null,null,null,null,null,null,null,null,null,null,null,null,null,null,null,null,null,null,null,null,null,null,null,null,null,null,null,null,null,null,null,null,null,null,null,null,null,null,null,null,null,null,null,null,null,null,null,null,null,null,null,null,null,null,null,null,null,null,null,null,null,null,null,null,null,null,null,null,null,null,null,null,null,null,"",null,{"$f":"IF(BY96=\"\",\"\",\"AgencyEntityInsData Id 727\")","v":""},{"$f":"IF(BY96=\"\",\"\",\"AgencyEntityInstance Id 94\")","v":""},{"$f":"IF(BY96=\"\",\"\",\"cm_t27_list_order\")","v":""},{"$f":"IF(BY96=\"\",\"\",11)","v":""},{"$f":"IF(BY96=\"\",\"\",TODAY())","v":""},{"$f":"IF(BY96=\"\",\"\",\"WTSYSTEMUSER\")","v":""},{"$f":"IF(BY96=\"\",\"\",TODAY())","v":""},{"$f":"IF(BY96=\"\",\"\",\"WTSYSTEMUSER\")","v":""}]
[null,null,null,null,null,null,null,null,null,null,null,null,null,null,null,null,null,null,null,null,null,null,null,null,null,null,null,null,null,null,null,null,null,null,null,null,null,null,null,null,null,null,null,null,null,null,null,null,null,null,null,null,null,null,null,null,null,null,null,null,null,null,null,null,null,null,null,null,null,null,null,null,null,null,null,null,null,null,null,null,null,null,null,null,null,null,null,null,null,null,null,null,"",null,{"$f":"IF(BY97=\"\",\"\",\"AgencyEntityInsData Id 730\")","v":""},{"$f":"IF(BY97=\"\",\"\",\"AgencyEntityInstance Id 95\")","v":""},{"$f":"IF(BY97=\"\",\"\",\"cm_t27_list_inspecrow\")","v":""},{"$f":"IF(BY97=\"\",\"\",\"Out of Spec\")","v":""},{"$f":"IF(BY97=\"\",\"\",TODAY())","v":""},{"$f":"IF(BY97=\"\",\"\",\"WTSYSTEMUSER\")","v":""},{"$f":"IF(BY97=\"\",\"\",TODAY())","v":""},{"$f":"IF(BY97=\"\",\"\",\"WTSYSTEMUSER\")","v":""}]
[null,null,null,null,null,null,null,null,null,null,null,null,null,null,null,null,null,null,null,null,null,null,null,null,null,null,null,null,null,null,null,null,null,null,null,null,null,null,null,null,null,null,null,null,null,null,null,null,null,null,null,null,null,null,null,null,null,null,null,null,null,null,null,null,null,null,null,null,null,null,null,null,null,null,null,null,null,null,null,null,null,null,null,null,null,null,null,null,null,null,null,null,"",null,{"$f":"IF(BY98=\"\",\"\",\"AgencyEntityInsData Id 737\")","v":""},{"$f":"IF(BY98=\"\",\"\",\"AgencyEntityInstance Id 96\")","v":""},{"$f":"IF(BY98=\"\",\"\",\"cm_t27_list_max\")","v":""},{"$f":"IF(BY98=\"\",\"\",0)","v":""},{"$f":"IF(BY98=\"\",\"\",TODAY())","v":""},{"$f":"IF(BY98=\"\",\"\",\"WTSYSTEMUSER\")","v":""},{"$f":"IF(BY98=\"\",\"\",TODAY())","v":""},{"$f":"IF(BY98=\"\",\"\",\"WTSYSTEMUSER\")","v":""}]
[null,null,null,null,null,null,null,null,null,null,null,null,null,null,null,null,null,null,null,null,null,null,null,null,null,null,null,null,null,null,null,null,null,null,null,null,null,null,null,null,null,null,null,null,null,null,null,null,null,null,null,null,null,null,null,null,null,null,null,null,null,null,null,null,null,null,null,null,null,null,null,null,null,null,null,null,null,null,null,null,null,null,null,null,null,null,null,null,null,null,null,null,"",null,{"$f":"IF(BY99=\"\",\"\",\"AgencyEntityInsData Id 742\")","v":""},{"$f":"IF(BY99=\"\",\"\",\"AgencyEntityInstance Id 97\")","v":""},{"$f":"IF(BY99=\"\",\"\",\"cm_t27_list_inspecrow\")","v":""},{"$f":"IF(BY99=\"\",\"\",\"Out of Spec\")","v":""},{"$f":"IF(BY99=\"\",\"\",TODAY())","v":""},{"$f":"IF(BY99=\"\",\"\",\"WTSYSTEMUSER\")","v":""},{"$f":"IF(BY99=\"\",\"\",TODAY())","v":""},{"$f":"IF(BY99=\"\",\"\",\"WTSYSTEMUSER\")","v":""}]
[null,null,null,null,null,null,null,null,null,null,null,null,null,null,null,null,null,null,null,null,null,null,null,null,null,null,null,null,null,null,null,null,null,null,null,null,null,null,null,null,null,null,null,null,null,null,null,null,null,null,null,null,null,null,null,null,null,null,null,null,null,null,null,null,null,null,null,null,null,null,null,null,null,null,null,null,null,null,null,null,null,null,null,null,null,null,null,null,null,null,null,null,"",null,{"$f":"IF(BY99=\"\",\"\",\"AgencyEntityInsData Id 743\")","v":""},{"$f":"IF(BY99=\"\",\"\",\"AgencyEntityInstance Id 97\")","v":""},{"$f":"IF(BY99=\"\",\"\",\"cm_t27_list_max\")","v":""},{"$f":"IF(BY99=\"\",\"\",0)","v":""},{"$f":"IF(BY99=\"\",\"\",TODAY())","v":""},{"$f":"IF(BY99=\"\",\"\",\"WTSYSTEMUSER\")","v":""},{"$f":"IF(BY99=\"\",\"\",TODAY())","v":""},{"$f":"IF(BY99=\"\",\"\",\"WTSYSTEMUSER\")","v":""}]
[null,null,null,null,null,null,null,null,null,null,null,null,null,null,null,null,null,null,null,null,null,null,null,null,null,null,null,null,null,null,null,null,null,null,null,null,null,null,null,null,null,null,null,null,null,null,null,null,null,null,null,null,null,null,null,null,null,null,null,null,null,null,null,null,null,null,null,null,null,null,null,null,null,null,null,null,null,null,null,null,null,null,null,null,null,null,null,null,null,null,null,null,"",null,{"$f":"IF(BY100=\"\",\"\",\"AgencyEntityInsData Id 748\")","v":""},{"$f":"IF(BY100=\"\",\"\",\"AgencyEntityInstance Id 98\")","v":""},{"$f":"IF(BY100=\"\",\"\",\"CM_T85Abs_Absorption\")","v":""},{"$f":"IF(BY100=\"\",\"\",'Test 2'!D59)","v":""},{"$f":"IF(BY100=\"\",\"\",TODAY())","v":""},{"$f":"IF(BY100=\"\",\"\",\"WTSYSTEMUSER\")","v":""},{"$f":"IF(BY100=\"\",\"\",TODAY())","v":""},{"$f":"IF(BY100=\"\",\"\",\"WTSYSTEMUSER\")","v":""}]
[null,null,null,null,null,null,null,null,null,null,null,null,null,null,null,null,null,null,null,null,null,null,null,null,null,null,null,null,null,null,null,null,null,null,null,null,null,null,null,null,null,null,null,null,null,null,null,null,null,null,null,null,null,null,null,null,null,null,null,null,null,null,null,null,null,null,null,null,null,null,null,null,null,null,null,null,null,null,null,null,null,null,null,null,null,null,null,null,null,null,null,null,"",null,{"$f":"IF(BY100=\"\",\"\",\"AgencyEntityInsData Id 755\")","v":""},{"$f":"IF(BY100=\"\",\"\",\"AgencyEntityInstance Id 98\")","v":""},{"$f":"IF(BY100=\"\",\"\",\"CM_T85Abs_PlaceHolder5\")","v":""},"",{"$f":"IF(BY100=\"\",\"\",TODAY())","v":""},{"$f":"IF(BY100=\"\",\"\",\"WTSYSTEMUSER\")","v":""},{"$f":"IF(BY100=\"\",\"\",TODAY())","v":""},{"$f":"IF(BY100=\"\",\"\",\"WTSYSTEMUSER\")","v":""}]
[null,null,null,null,null,null,null,null,null,null,null,null,null,null,null,null,null,null,null,null,null,null,null,null,null,null,null,null,null,null,null,null,null,null,null,null,null,null,null,null,null,null,null,null,null,null,null,null,null,null,null,null,null,null,null,null,null,null,null,null,null,null,null,null,null,null,null,null,null,null,null,null,null,null,null,null,null,null,null,null,null,null,null,null,null,null,null,null,null,null,null,null,"",null,{"$f":"IF(BY100=\"\",\"\",\"AgencyEntityInsData Id 758\")","v":""},{"$f":"IF(BY100=\"\",\"\",\"AgencyEntityInstance Id 98\")","v":""},{"$f":"IF(BY100=\"\",\"\",\"CM_T85Abs_Title_Label\")","v":""},"",{"$f":"IF(BY100=\"\",\"\",TODAY())","v":""},{"$f":"IF(BY100=\"\",\"\",\"WTSYSTEMUSER\")","v":""},{"$f":"IF(BY100=\"\",\"\",TODAY())","v":""},{"$f":"IF(BY100=\"\",\"\",\"WTSYSTEMUSER\")","v":""}]
[null,null,null,null,null,null,null,null,null,null,null,null,null,null,null,null,null,null,null,null,null,null,null,null,null,null,null,null,null,null,null,null,null,null,null,null,null,null,null,null,null,null,null,null,null,null,null,null,null,null,null,null,null,null,null,null,null,null,null,null,null,null,null,null,null,null,null,null,null,null,null,null,null,null,null,null,null,null,null,null,null,null,null,null,null,null,null,null,null,null,null,null,"",null,{"$f":"IF(BY101=\"\",\"\",\"AgencyEntityInsData Id 763\")","v":""},{"$f":"IF(BY101=\"\",\"\",\"AgencyEntityInstance Id 99\")","v":""},{"$f":"IF(BY101=\"\",\"\",\"CM_T85Abs_PlaceHolder2\")","v":""},"",{"$f":"IF(BY101=\"\",\"\",TODAY())","v":""},{"$f":"IF(BY101=\"\",\"\",\"WTSYSTEMUSER\")","v":""},{"$f":"IF(BY101=\"\",\"\",TODAY())","v":""},{"$f":"IF(BY101=\"\",\"\",\"WTSYSTEMUSER\")","v":""}]
[null,null,null,null,null,null,null,null,null,null,null,null,null,null,null,null,null,null,null,null,null,null,null,null,null,null,null,null,null,null,null,null,null,null,null,null,null,null,null,null,null,null,null,null,null,null,null,null,null,null,null,null,null,null,null,null,null,null,null,null,null,null,null,null,null,null,null,null,null,null,null,null,null,null,null,null,null,null,null,null,null,null,null,null,null,null,null,null,null,null,null,null,"",null,{"$f":"IF(BY101=\"\",\"\",\"AgencyEntityInsData Id 769\")","v":""},{"$f":"IF(BY101=\"\",\"\",\"AgencyEntityInstance Id 99\")","v":""},{"$f":"IF(BY101=\"\",\"\",\"CM_T85Abs_Title_Label\")","v":""},"",{"$f":"IF(BY101=\"\",\"\",TODAY())","v":""},{"$f":"IF(BY101=\"\",\"\",\"WTSYSTEMUSER\")","v":""},{"$f":"IF(BY101=\"\",\"\",TODAY())","v":""},{"$f":"IF(BY101=\"\",\"\",\"WTSYSTEMUSER\")","v":""}]
[null,null,null,null,null,null,null,null,null,null,null,null,null,null,null,null,null,null,null,null,null,null,null,null,null,null,null,null,null,null,null,null,null,null,null,null,null,null,null,null,null,null,null,null,null,null,null,null,null,null,null,null,null,null,null,null,null,null,null,null,null,null,null,null,null,null,null,null,null,null,null,null,null,null,null,null,null,null,null,null,null,null,null,null,null,null,null,null,null,null,null,null,"",null,{"$f":"IF(BY102=\"\",\"\",\"AgencyEntityInsData Id 774\")","v":""},{"$f":"IF(BY102=\"\",\"\",\"AgencyEntityInstance Id 100\")","v":""},{"$f":"IF(BY102=\"\",\"\",\"CM_T85Abs_PlaceHolder2\")","v":""},"",{"$f":"IF(BY102=\"\",\"\",TODAY())","v":""},{"$f":"IF(BY102=\"\",\"\",\"WTSYSTEMUSER\")","v":""},{"$f":"IF(BY102=\"\",\"\",TODAY())","v":""},{"$f":"IF(BY102=\"\",\"\",\"WTSYSTEMUSER\")","v":""}]
[null,null,null,null,null,null,null,null,null,null,null,null,null,null,null,null,null,null,null,null,null,null,null,null,null,null,null,null,null,null,null,null,null,null,null,null,null,null,null,null,null,null,null,null,null,null,null,null,null,null,null,null,null,null,null,null,null,null,null,null,null,null,null,null,null,null,null,null,null,null,null,null,null,null,null,null,null,null,null,null,null,null,null,null,null,null,null,null,null,null,null,null,"",null,{"$f":"IF(BY102=\"\",\"\",\"AgencyEntityInsData Id 780\")","v":""},{"$f":"IF(BY102=\"\",\"\",\"AgencyEntityInstance Id 100\")","v":""},{"$f":"IF(BY102=\"\",\"\",\"CM_T85Abs_Title_Label\")","v":""},"",{"$f":"IF(BY102=\"\",\"\",TODAY())","v":""},{"$f":"IF(BY102=\"\",\"\",\"WTSYSTEMUSER\")","v":""},{"$f":"IF(BY102=\"\",\"\",TODAY())","v":""},{"$f":"IF(BY102=\"\",\"\",\"WTSYSTEMUSER\")","v":""}]
[null,null,null,null,null,null,null,null,null,null,null,null,null,null,null,null,null,null,null,null,null,null,null,null,null,null,null,null,null,null,null,null,null,null,null,null,null,null,null,null,null,null,null,null,null,null,null,null,null,null,null,null,null,null,null,null,null,null,null,null,null,null,null,null,null,null,null,null,null,null,null,null,null,null,null,null,null,null,null,null,null,null,null,null,null,null,null,null,null,null,null,null,"",null,{"$f":"IF(BY103=\"\",\"\",\"AgencyEntityInsData Id 784\")","v":""},{"$f":"IF(BY103=\"\",\"\",\"AgencyEntityInstance Id 101\")","v":""},{"$f":"IF(BY103=\"\",\"\",\"CM_T85Abs_PlaceHolder1\")","v":""},"",{"$f":"IF(BY103=\"\",\"\",TODAY())","v":""},{"$f":"IF(BY103=\"\",\"\",\"WTSYSTEMUSER\")","v":""},{"$f":"IF(BY103=\"\",\"\",TODAY())","v":""},{"$f":"IF(BY103=\"\",\"\",\"WTSYSTEMUSER\")","v":""}]
[null,null,null,null,null,null,null,null,null,null,null,null,null,null,null,null,null,null,null,null,null,null,null,null,null,null,null,null,null,null,null,null,null,null,null,null,null,null,null,null,null,null,null,null,null,null,null,null,null,null,null,null,null,null,null,null,null,null,null,null,null,null,null,null,null,null,null,null,null,null,null,null,null,null,null,null,null,null,null,null,null,null,null,null,null,null,null,null,null,null,null,null,"",null,{"$f":"IF(BY103=\"\",\"\",\"AgencyEntityInsData Id 789\")","v":""},{"$f":"IF(BY103=\"\",\"\",\"AgencyEntityInstance Id 101\")","v":""},{"$f":"IF(BY103=\"\",\"\",\"CM_T85Abs_PlaceHolder6\")","v":""},"",{"$f":"IF(BY103=\"\",\"\",TODAY())","v":""},{"$f":"IF(BY103=\"\",\"\",\"WTSYSTEMUSER\")","v":""},{"$f":"IF(BY103=\"\",\"\",TODAY())","v":""},{"$f":"IF(BY103=\"\",\"\",\"WTSYSTEMUSER\")","v":""}]
[null,null,null,null,null,null,null,null,null,null,null,null,null,null,null,null,null,null,null,null,null,null,null,null,null,null,null,null,null,null,null,null,null,null,null,null,null,null,null,null,null,null,null,null,null,null,null,null,null,null,null,null,null,null,null,null,null,null,null,null,null,null,null,null,null,null,null,null,null,null,null,null,null,null,null,null,null,null,null,null,null,null,null,null,null,null,null,null,null,null,null,null,"",null,{"$f":"IF(BY104=\"\",\"\",\"AgencyEntityInsData Id 795\")","v":""},{"$f":"IF(BY104=\"\",\"\",\"AgencyEntityInstance Id 102\")","v":""},{"$f":"IF(BY104=\"\",\"\",\"CM_T85Abs_PlaceHolder1\")","v":""},"",{"$f":"IF(BY104=\"\",\"\",TODAY())","v":""},{"$f":"IF(BY104=\"\",\"\",\"WTSYSTEMUSER\")","v":""},{"$f":"IF(BY104=\"\",\"\",TODAY())","v":""},{"$f":"IF(BY104=\"\",\"\",\"WTSYSTEMUSER\")","v":""}]
[null,null,null,null,null,null,null,null,null,null,null,null,null,null,null,null,null,null,null,null,null,null,null,null,null,null,null,null,null,null,null,null,null,null,null,null,null,null,null,null,null,null,null,null,null,null,null,null,null,null,null,null,null,null,null,null,null,null,null,null,null,null,null,null,null,null,null,null,null,null,null,null,null,null,null,null,null,null,null,null,null,null,null,null,null,null,null,null,null,null,null,null,"",null,{"$f":"IF(BY104=\"\",\"\",\"AgencyEntityInsData Id 800\")","v":""},{"$f":"IF(BY104=\"\",\"\",\"AgencyEntityInstance Id 102\")","v":""},{"$f":"IF(BY104=\"\",\"\",\"CM_T85Abs_PlaceHolder6\")","v":""},"",{"$f":"IF(BY104=\"\",\"\",TODAY())","v":""},{"$f":"IF(BY104=\"\",\"\",\"WTSYSTEMUSER\")","v":""},{"$f":"IF(BY104=\"\",\"\",TODAY())","v":""},{"$f":"IF(BY104=\"\",\"\",\"WTSYSTEMUSER\")","v":""}]
[null,null,null,null,null,null,null,null,null,null,null,null,null,null,null,null,null,null,null,null,null,null,null,null,null,null,null,null,null,null,null,null,null,null,null,null,null,null,null,null,null,null,null,null,null,null,null,null,null,null,null,null,null,null,null,null,null,null,null,null,null,null,null,null,null,null,null,null,null,null,null,null,null,null,null,null,null,null,null,null,null,null,null,null,null,null,null,null,null,null,null,null,"",null,{"$f":"IF(BY104=\"\",\"\",\"AgencyEntityInsData Id 801\")","v":""},{"$f":"IF(BY104=\"\",\"\",\"AgencyEntityInstance Id 102\")","v":""},{"$f":"IF(BY104=\"\",\"\",\"CM_T85Abs_SurfaceDryWt\")","v":""},{"$f":"IF(BY104=\"\",\"\",IF('Test 2'!AH57=0,\"\",'Test 2'!AH57))","v":""},{"$f":"IF(BY104=\"\",\"\",TODAY())","v":""},{"$f":"IF(BY104=\"\",\"\",\"WTSYSTEMUSER\")","v":""},{"$f":"IF(BY104=\"\",\"\",TODAY())","v":""},{"$f":"IF(BY104=\"\",\"\",\"WTSYSTEMUSER\")","v":""}]
[null,null,null,null,null,null,null,null,null,null,null,null,null,null,null,null,null,null,null,null,null,null,null,null,null,null,null,null,null,null,null,null,null,null,null,null,null,null,null,null,null,null,null,null,null,null,null,null,null,null,null,null,null,null,null,null,null,null,null,null,null,null,null,null,null,null,null,null,null,null,null,null,null,null,null,null,null,null,null,null,null,null,null,null,null,null,null,null,null,null,null,null,"",null,{"$f":"IF(BY105=\"\",\"\",\"AgencyEntityInsData Id 805\")","v":""},{"$f":"IF(BY105=\"\",\"\",\"AgencyEntityInstance Id 103\")","v":""},{"$f":"IF(BY105=\"\",\"\",\"del_ca_clay\")","v":""},"",{"$f":"IF(BY105=\"\",\"\",TODAY())","v":""},{"$f":"IF(BY105=\"\",\"\",\"WTSYSTEMUSER\")","v":""},{"$f":"IF(BY105=\"\",\"\",TODAY())","v":""},{"$f":"IF(BY105=\"\",\"\",\"WTSYSTEMUSER\")","v":""}]
[null,null,null,null,null,null,null,null,null,null,null,null,null,null,null,null,null,null,null,null,null,null,null,null,null,null,null,null,null,null,null,null,null,null,null,null,null,null,null,null,null,null,null,null,null,null,null,null,null,null,null,null,null,null,null,null,null,null,null,null,null,null,null,null,null,null,null,null,null,null,null,null,null,null,null,null,null,null,null,null,null,null,null,null,null,null,null,null,null,null,null,null,"",null,{"$f":"IF(BY105=\"\",\"\",\"AgencyEntityInsData Id 810\")","v":""},{"$f":"IF(BY105=\"\",\"\",\"AgencyEntityInstance Id 103\")","v":""},{"$f":"IF(BY105=\"\",\"\",\"del_ca_rock_sh\")","v":""},"",{"$f":"IF(BY105=\"\",\"\",TODAY())","v":""},{"$f":"IF(BY105=\"\",\"\",\"WTSYSTEMUSER\")","v":""},{"$f":"IF(BY105=\"\",\"\",TODAY())","v":""},{"$f":"IF(BY105=\"\",\"\",\"WTSYSTEMUSER\")","v":""}]
[null,null,null,null,null,null,null,null,null,null,null,null,null,null,null,null,null,null,null,null,null,null,null,null,null,null,null,null,null,null,null,null,null,null,null,null,null,null,null,null,null,null,null,null,null,null,null,null,null,null,null,null,null,null,null,null,null,null,null,null,null,null,null,null,null,null,null,null,null,null,null,null,null,null,null,null,null,null,null,null,null,null,null,null,null,null,null,null,null,null,null,null,"",null,{"$f":"IF(BY105=\"\",\"\",\"AgencyEntityInsData Id 816\")","v":""},{"$f":"IF(BY105=\"\",\"\",\"AgencyEntityInstance Id 103\")","v":""},{"$f":"IF(BY105=\"\",\"\",\"del_man_sand\")","v":""},{"$f":"IF(BY105=\"\",\"\",IF('Test 2'!G71=\"\",\"\",'Test 2'!G71))","v":""},{"$f":"IF(BY105=\"\",\"\",TODAY())","v":""},{"$f":"IF(BY105=\"\",\"\",\"WTSYSTEMUSER\")","v":""},{"$f":"IF(BY105=\"\",\"\",TODAY())","v":""},{"$f":"IF(BY105=\"\",\"\",\"WTSYSTEMUSER\")","v":""}]
[null,null,null,null,null,null,null,null,null,null,null,null,null,null,null,null,null,null,null,null,null,null,null,null,null,null,null,null,null,null,null,null,null,null,null,null,null,null,null,null,null,null,null,null,null,null,null,null,null,null,null,null,null,null,null,null,null,null,null,null,null,null,null,null,null,null,null,null,null,null,null,null,null,null,null,null,null,null,null,null,null,null,null,null,null,null,null,null,null,null,null,null,"",null,{"$f":"IF(BY106=\"\",\"\",\"AgencyEntityInsData Id 821\")","v":""},{"$f":"IF(BY106=\"\",\"\",\"AgencyEntityInstance Id 104\")","v":""},{"$f":"IF(BY106=\"\",\"\",\"del_ca_chert\")","v":""},"",{"$f":"IF(BY106=\"\",\"\",TODAY())","v":""},{"$f":"IF(BY106=\"\",\"\",\"WTSYSTEMUSER\")","v":""},{"$f":"IF(BY106=\"\",\"\",TODAY())","v":""},{"$f":"IF(BY106=\"\",\"\",\"WTSYSTEMUSER\")","v":""}]
[null,null,null,null,null,null,null,null,null,null,null,null,null,null,null,null,null,null,null,null,null,null,null,null,null,null,null,null,null,null,null,null,null,null,null,null,null,null,null,null,null,null,null,null,null,null,null,null,null,null,null,null,null,null,null,null,null,null,null,null,null,null,null,null,null,null,null,null,null,null,null,null,null,null,null,null,null,null,null,null,null,null,null,null,null,null,null,null,null,null,null,null,"",null,{"$f":"IF(BY106=\"\",\"\",\"AgencyEntityInsData Id 826\")","v":""},{"$f":"IF(BY106=\"\",\"\",\"AgencyEntityInstance Id 104\")","v":""},{"$f":"IF(BY106=\"\",\"\",\"del_ca_rock\")","v":""},"",{"$f":"IF(BY106=\"\",\"\",TODAY())","v":""},{"$f":"IF(BY106=\"\",\"\",\"WTSYSTEMUSER\")","v":""},{"$f":"IF(BY106=\"\",\"\",TODAY())","v":""},{"$f":"IF(BY106=\"\",\"\",\"WTSYSTEMUSER\")","v":""}]
[null,null,null,null,null,null,null,null,null,null,null,null,null,null,null,null,null,null,null,null,null,null,null,null,null,null,null,null,null,null,null,null,null,null,null,null,null,null,null,null,null,null,null,null,null,null,null,null,null,null,null,null,null,null,null,null,null,null,null,null,null,null,null,null,null,null,null,null,null,null,null,null,null,null,null,null,null,null,null,null,null,null,null,null,null,null,null,null,null,null,null,null,"",null,{"$f":"IF(BY106=\"\",\"\",\"AgencyEntityInsData Id 831\")","v":""},{"$f":"IF(BY106=\"\",\"\",\"AgencyEntityInstance Id 104\")","v":""},{"$f":"IF(BY106=\"\",\"\",\"del_fa_lw\")","v":""},{"$f":"IF(BY106=\"\",\"\",IF('Test 2'!K69=\"\",\"\",'Test 2'!K69))","v":""},{"$f":"IF(BY106=\"\",\"\",TODAY())","v":""},{"$f":"IF(BY106=\"\",\"\",\"WTSYSTEMUSER\")","v":""},{"$f":"IF(BY106=\"\",\"\",TODAY())","v":""},{"$f":"IF(BY106=\"\",\"\",\"WTSYSTEMUSER\")","v":""}]
[null,null,null,null,null,null,null,null,null,null,null,null,null,null,null,null,null,null,null,null,null,null,null,null,null,null,null,null,null,null,null,null,null,null,null,null,null,null,null,null,null,null,null,null,null,null,null,null,null,null,null,null,null,null,null,null,null,null,null,null,null,null,null,null,null,null,null,null,null,null,null,null,null,null,null,null,null,null,null,null,null,null,null,null,null,null,null,null,null,null,null,null,"",null,{"$f":"IF(BY106=\"\",\"\",\"AgencyEntityInsData Id 836\")","v":""},{"$f":"IF(BY106=\"\",\"\",\"AgencyEntityInstance Id 104\")","v":""},{"$f":"IF(BY106=\"\",\"\",\"del_tot_del\")","v":""},"",{"$f":"IF(BY106=\"\",\"\",TODAY())","v":""},{"$f":"IF(BY106=\"\",\"\",\"WTSYSTEMUSER\")","v":""},{"$f":"IF(BY106=\"\",\"\",TODAY())","v":""},{"$f":"IF(BY106=\"\",\"\",\"WTSYSTEMUSER\")","v":""}]
[null,null,null,null,null,null,null,null,null,null,null,null,null,null,null,null,null,null,null,null,null,null,null,null,null,null,null,null,null,null,null,null,null,null,null,null,null,null,null,null,null,null,null,null,null,null,null,null,null,null,null,null,null,null,null,null,null,null,null,null,null,null,null,null,null,null,null,null,null,null,null,null,null,null,null,null,null,null,null,null,null,null,null,null,null,null,null,null,null,null,null,null,"",null,{"$f":"IF(BY107=\"\",\"\",\"AgencyEntityInsData Id 841\")","v":""},{"$f":"IF(BY107=\"\",\"\",\"AgencyEntityInstance Id 105\")","v":""},{"$f":"IF(BY107=\"\",\"\",\"del_ca_mud_sh\")","v":""},"",{"$f":"IF(BY107=\"\",\"\",TODAY())","v":""},{"$f":"IF(BY107=\"\",\"\",\"WTSYSTEMUSER\")","v":""},{"$f":"IF(BY107=\"\",\"\",TODAY())","v":""},{"$f":"IF(BY107=\"\",\"\",\"WTSYSTEMUSER\")","v":""}]
[null,null,null,null,null,null,null,null,null,null,null,null,null,null,null,null,null,null,null,null,null,null,null,null,null,null,null,null,null,null,null,null,null,null,null,null,null,null,null,null,null,null,null,null,null,null,null,null,null,null,null,null,null,null,null,null,null,null,null,null,null,null,null,null,null,null,null,null,null,null,null,null,null,null,null,null,null,null,null,null,null,null,null,null,null,null,null,null,null,null,null,null,"",null,{"$f":"IF(BY107=\"\",\"\",\"AgencyEntityInsData Id 847\")","v":""},{"$f":"IF(BY107=\"\",\"\",\"AgencyEntityInstance Id 105\")","v":""},{"$f":"IF(BY107=\"\",\"\",\"del_fa_coal\")","v":""},{"$f":"IF(BY107=\"\",\"\",IF('Test 2'!O67=\"\",\"\",'Test 2'!O67))","v":""},{"$f":"IF(BY107=\"\",\"\",TODAY())","v":""},{"$f":"IF(BY107=\"\",\"\",\"WTSYSTEMUSER\")","v":""},{"$f":"IF(BY107=\"\",\"\",TODAY())","v":""},{"$f":"IF(BY107=\"\",\"\",\"WTSYSTEMUSER\")","v":""}]
[null,null,null,null,null,null,null,null,null,null,null,null,null,null,null,null,null,null,null,null,null,null,null,null,null,null,null,null,null,null,null,null,null,null,null,null,null,null,null,null,null,null,null,null,null,null,null,null,null,null,null,null,null,null,null,null,null,null,null,null,null,null,null,null,null,null,null,null,null,null,null,null,null,null,null,null,null,null,null,null,null,null,null,null,null,null,null,null,null,null,null,null,"",null,{"$f":"IF(BY107=\"\",\"\",\"AgencyEntityInsData Id 851\")","v":""},{"$f":"IF(BY107=\"\",\"\",\"AgencyEntityInstance Id 105\")","v":""},{"$f":"IF(BY107=\"\",\"\",\"del_material\")","v":""},{"$f":"IF(BY107=\"\",\"\",\"1005 FA\")","v":""},{"$f":"IF(BY107=\"\",\"\",TODAY())","v":""},{"$f":"IF(BY107=\"\",\"\",\"WTSYSTEMUSER\")","v":""},{"$f":"IF(BY107=\"\",\"\",TODAY())","v":""},{"$f":"IF(BY107=\"\",\"\",\"WTSYSTEMUSER\")","v":""}]
[null,null,null,null,null,null,null,null,null,null,null,null,null,null,null,null,null,null,null,null,null,null,null,null,null,null,null,null,null,null,null,null,null,null,null,null,null,null,null,null,null,null,null,null,null,null,null,null,null,null,null,null,null,null,null,null,null,null,null,null,null,null,null,null,null,null,null,null,null,null,null,null,null,null,null,null,null,null,null,null,null,null,null,null,null,null,null,null,null,null,null,null,"",null,{"$f":"IF(BY108=\"\",\"\",\"AgencyEntityInsData Id 857\")","v":""},{"$f":"IF(BY108=\"\",\"\",\"AgencyEntityInstance Id 106\")","v":""},{"$f":"IF(BY108=\"\",\"\",\"del_ca_mud\")","v":""},"",{"$f":"IF(BY108=\"\",\"\",TODAY())","v":""},{"$f":"IF(BY108=\"\",\"\",\"WTSYSTEMUSER\")","v":""},{"$f":"IF(BY108=\"\",\"\",TODAY())","v":""},{"$f":"IF(BY108=\"\",\"\",\"WTSYSTEMUSER\")","v":""}]
[null,null,null,null,null,null,null,null,null,null,null,null,null,null,null,null,null,null,null,null,null,null,null,null,null,null,null,null,null,null,null,null,null,null,null,null,null,null,null,null,null,null,null,null,null,null,null,null,null,null,null,null,null,null,null,null,null,null,null,null,null,null,null,null,null,null,null,null,null,null,null,null,null,null,null,null,null,null,null,null,null,null,null,null,null,null,null,null,null,null,null,null,"",null,{"$f":"IF(BY108=\"\",\"\",\"AgencyEntityInsData Id 862\")","v":""},{"$f":"IF(BY108=\"\",\"\",\"AgencyEntityInstance Id 106\")","v":""},{"$f":"IF(BY108=\"\",\"\",\"del_ca_sh\")","v":""},"",{"$f":"IF(BY108=\"\",\"\",TODAY())","v":""},{"$f":"IF(BY108=\"\",\"\",\"WTSYSTEMUSER\")","v":""},{"$f":"IF(BY108=\"\",\"\",TODAY())","v":""},{"$f":"IF(BY108=\"\",\"\",\"WTSYSTEMUSER\")","v":""}]
[null,null,null,null,null,null,null,null,null,null,null,null,null,null,null,null,null,null,null,null,null,null,null,null,null,null,null,null,null,null,null,null,null,null,null,null,null,null,null,null,null,null,null,null,null,null,null,null,null,null,null,null,null,null,null,null,null,null,null,null,null,null,null,null,null,null,null,null,null,null,null,null,null,null,null,null,null,null,null,null,null,null,null,null,null,null,null,null,null,null,null,null,"",null,{"$f":"IF(BY108=\"\",\"\",\"AgencyEntityInsData Id 867\")","v":""},{"$f":"IF(BY108=\"\",\"\",\"AgencyEntityInstance Id 106\")","v":""},{"$f":"IF(BY108=\"\",\"\",\"del_man_sand\")","v":""},{"$f":"IF(BY108=\"\",\"\",IF('Test 2'!S71=\"\",\"\",'Test 2'!S71))","v":""},{"$f":"IF(BY108=\"\",\"\",TODAY())","v":""},{"$f":"IF(BY108=\"\",\"\",\"WTSYSTEMUSER\")","v":""},{"$f":"IF(BY108=\"\",\"\",TODAY())","v":""},{"$f":"IF(BY108=\"\",\"\",\"WTSYSTEMUSER\")","v":""}]
[null,null,null,null,null,null,null,null,null,null,null,null,null,null,null,null,null,null,null,null,null,null,null,null,null,null,null,null,null,null,null,null,null,null,null,null,null,null,null,null,null,null,null,null,null,null,null,null,null,null,null,null,null,null,null,null,null,null,null,null,null,null,null,null,null,null,null,null,null,null,null,null,null,null,null,null,null,null,null,null,null,null,null,null,null,null,null,null,null,null,null,null,"",null,{"$f":"IF(BY108=\"\",\"\",\"AgencyEntityInsData Id 868\")","v":""},{"$f":"IF(BY108=\"\",\"\",\"AgencyEntityInstance Id 106\")","v":""},{"$f":"IF(BY108=\"\",\"\",\"del_material\")","v":""},{"$f":"IF(BY108=\"\",\"\",\"1005 FA\")","v":""},{"$f":"IF(BY108=\"\",\"\",TODAY())","v":""},{"$f":"IF(BY108=\"\",\"\",\"WTSYSTEMUSER\")","v":""},{"$f":"IF(BY108=\"\",\"\",TODAY())","v":""},{"$f":"IF(BY108=\"\",\"\",\"WTSYSTEMUSER\")","v":""}]
[null,null,null,null,null,null,null,null,null,null,null,null,null,null,null,null,null,null,null,null,null,null,null,null,null,null,null,null,null,null,null,null,null,null,null,null,null,null,null,null,null,null,null,null,null,null,null,null,null,null,null,null,null,null,null,null,null,null,null,null,null,null,null,null,null,null,null,null,null,null,null,null,null,null,null,null,null,null,null,null,null,null,null,null,null,null,null,null,null,null,null,null,"",null,{"$f":"IF(BY109=\"\",\"\",\"AgencyEntityInsData Id 876\")","v":""},{"$f":"IF(BY109=\"\",\"\",\"AgencyEntityInstance Id 107\")","v":""},{"$f":"IF(BY109=\"\",\"\",\"del_ca_ofm\")","v":""},"",{"$f":"IF(BY109=\"\",\"\",TODAY())","v":""},{"$f":"IF(BY109=\"\",\"\",\"WTSYSTEMUSER\")","v":""},{"$f":"IF(BY109=\"\",\"\",TODAY())","v":""},{"$f":"IF(BY109=\"\",\"\",\"WTSYSTEMUSER\")","v":""}]
[null,null,null,null,null,null,null,null,null,null,null,null,null,null,null,null,null,null,null,null,null,null,null,null,null,null,null,null,null,null,null,null,null,null,null,null,null,null,null,null,null,null,null,null,null,null,null,null,null,null,null,null,null,null,null,null,null,null,null,null,null,null,null,null,null,null,null,null,null,null,null,null,null,null,null,null,null,null,null,null,null,null,null,null,null,null,null,null,null,null,null,null,"",null,{"$f":"IF(BY109=\"\",\"\",\"AgencyEntityInsData Id 878\")","v":""},{"$f":"IF(BY109=\"\",\"\",\"AgencyEntityInstance Id 107\")","v":""},{"$f":"IF(BY109=\"\",\"\",\"del_ca_rock_sh\")","v":""},"",{"$f":"IF(BY109=\"\",\"\",TODAY())","v":""},{"$f":"IF(BY109=\"\",\"\",\"WTSYSTEMUSER\")","v":""},{"$f":"IF(BY109=\"\",\"\",TODAY())","v":""},{"$f":"IF(BY109=\"\",\"\",\"WTSYSTEMUSER\")","v":""}]
[null,null,null,null,null,null,null,null,null,null,null,null,null,null,null,null,null,null,null,null,null,null,null,null,null,null,null,null,null,null,null,null,null,null,null,null,null,null,null,null,null,null,null,null,null,null,null,null,null,null,null,null,null,null,null,null,null,null,null,null,null,null,null,null,null,null,null,null,null,null,null,null,null,null,null,null,null,null,null,null,null,null,null,null,null,null,null,null,null,null,null,null,"",null,{"$f":"IF(BY109=\"\",\"\",\"AgencyEntityInsData Id 883\")","v":""},{"$f":"IF(BY109=\"\",\"\",\"AgencyEntityInstance Id 107\")","v":""},{"$f":"IF(BY109=\"\",\"\",\"del_fa_other\")","v":""},{"$f":"IF(BY109=\"\",\"\",IF('Test 2'!W68=\"\",\"\",'Test 2'!W68))","v":""},{"$f":"IF(BY109=\"\",\"\",TODAY())","v":""},{"$f":"IF(BY109=\"\",\"\",\"WTSYSTEMUSER\")","v":""},{"$f":"IF(BY109=\"\",\"\",TODAY())","v":""},{"$f":"IF(BY109=\"\",\"\",\"WTSYSTEMUSER\")","v":""}]
[null,null,null,null,null,null,null,null,null,null,null,null,null,null,null,null,null,null,null,null,null,null,null,null,null,null,null,null,null,null,null,null,null,null,null,null,null,null,null,null,null,null,null,null,null,null,null,null,null,null,null,null,null,null,null,null,null,null,null,null,null,null,null,null,null,null,null,null,null,null,null,null,null,null,null,null,null,null,null,null,null,null,null,null,null,null,null,null,null,null,null,null,"",null,{"$f":"IF(BY110=\"\",\"\",\"AgencyEntityInsData Id 888\")","v":""},{"$f":"IF(BY110=\"\",\"\",\"AgencyEntityInstance Id 108\")","v":""},{"$f":"IF(BY110=\"\",\"\",\"cm_t27_detail_inspec\")","v":""},{"$f":"IF(BY110=\"\",\"\",\"Out of Spec\")","v":""},{"$f":"IF(BY110=\"\",\"\",TODAY())","v":""},{"$f":"IF(BY110=\"\",\"\",\"WTSYSTEMUSER\")","v":""},{"$f":"IF(BY110=\"\",\"\",TODAY())","v":""},{"$f":"IF(BY110=\"\",\"\",\"WTSYSTEMUSER\")","v":""}]
[null,null,null,null,null,null,null,null,null,null,null,null,null,null,null,null,null,null,null,null,null,null,null,null,null,null,null,null,null,null,null,null,null,null,null,null,null,null,null,null,null,null,null,null,null,null,null,null,null,null,null,null,null,null,null,null,null,null,null,null,null,null,null,null,null,null,null,null,null,null,null,null,null,null,null,null,null,null,null,null,null,null,null,null,null,null,null,null,null,null,null,null,"",null,{"$f":"IF(BY111=\"\",\"\",\"AgencyEntityInsData Id 894\")","v":""},{"$f":"IF(BY111=\"\",\"\",\"AgencyEntityInstance Id 109\")","v":""},{"$f":"IF(BY111=\"\",\"\",\"cm_t27_list_sieve\")","v":""},{"$f":"IF(BY111=\"\",\"\",\"4\"\" (100 mm)\")","v":""},{"$f":"IF(BY111=\"\",\"\",TODAY())","v":""},{"$f":"IF(BY111=\"\",\"\",\"WTSYSTEMUSER\")","v":""},{"$f":"IF(BY111=\"\",\"\",TODAY())","v":""},{"$f":"IF(BY111=\"\",\"\",\"WTSYSTEMUSER\")","v":""}]
[null,null,null,null,null,null,null,null,null,null,null,null,null,null,null,null,null,null,null,null,null,null,null,null,null,null,null,null,null,null,null,null,null,null,null,null,null,null,null,null,null,null,null,null,null,null,null,null,null,null,null,null,null,null,null,null,null,null,null,null,null,null,null,null,null,null,null,null,null,null,null,null,null,null,null,null,null,null,null,null,null,null,null,null,null,null,null,null,null,null,null,null,"",null,{"$f":"IF(BY112=\"\",\"\",\"AgencyEntityInsData Id 897\")","v":""},{"$f":"IF(BY112=\"\",\"\",\"AgencyEntityInstance Id 110\")","v":""},{"$f":"IF(BY112=\"\",\"\",\"cm_t27_list_min\")","v":""},{"$f":"IF(BY112=\"\",\"\",0)","v":""},{"$f":"IF(BY112=\"\",\"\",TODAY())","v":""},{"$f":"IF(BY112=\"\",\"\",\"WTSYSTEMUSER\")","v":""},{"$f":"IF(BY112=\"\",\"\",TODAY())","v":""},{"$f":"IF(BY112=\"\",\"\",\"WTSYSTEMUSER\")","v":""}]
[null,null,null,null,null,null,null,null,null,null,null,null,null,null,null,null,null,null,null,null,null,null,null,null,null,null,null,null,null,null,null,null,null,null,null,null,null,null,null,null,null,null,null,null,null,null,null,null,null,null,null,null,null,null,null,null,null,null,null,null,null,null,null,null,null,null,null,null,null,null,null,null,null,null,null,null,null,null,null,null,null,null,null,null,null,null,null,null,null,null,null,null,"",null,{"$f":"IF(BY113=\"\",\"\",\"AgencyEntityInsData Id 903\")","v":""},{"$f":"IF(BY113=\"\",\"\",\"AgencyEntityInstance Id 111\")","v":""},{"$f":"IF(BY113=\"\",\"\",\"cm_t27_list_min\")","v":""},{"$f":"IF(BY113=\"\",\"\",0)","v":""},{"$f":"IF(BY113=\"\",\"\",TODAY())","v":""},{"$f":"IF(BY113=\"\",\"\",\"WTSYSTEMUSER\")","v":""},{"$f":"IF(BY113=\"\",\"\",TODAY())","v":""},{"$f":"IF(BY113=\"\",\"\",\"WTSYSTEMUSER\")","v":""}]
[null,null,null,null,null,null,null,null,null,null,null,null,null,null,null,null,null,null,null,null,null,null,null,null,null,null,null,null,null,null,null,null,null,null,null,null,null,null,null,null,null,null,null,null,null,null,null,null,null,null,null,null,null,null,null,null,null,null,null,null,null,null,null,null,null,null,null,null,null,null,null,null,null,null,null,null,null,null,null,null,null,null,null,null,null,null,null,null,null,null,null,null,"",null,{"$f":"IF(BY114=\"\",\"\",\"AgencyEntityInsData Id 909\")","v":""},{"$f":"IF(BY114=\"\",\"\",\"AgencyEntityInstance Id 112\")","v":""},{"$f":"IF(BY114=\"\",\"\",\"cm_t27_list_min\")","v":""},{"$f":"IF(BY114=\"\",\"\",0)","v":""},{"$f":"IF(BY114=\"\",\"\",TODAY())","v":""},{"$f":"IF(BY114=\"\",\"\",\"WTSYSTEMUSER\")","v":""},{"$f":"IF(BY114=\"\",\"\",TODAY())","v":""},{"$f":"IF(BY114=\"\",\"\",\"WTSYSTEMUSER\")","v":""}]
[null,null,null,null,null,null,null,null,null,null,null,null,null,null,null,null,null,null,null,null,null,null,null,null,null,null,null,null,null,null,null,null,null,null,null,null,null,null,null,null,null,null,null,null,null,null,null,null,null,null,null,null,null,null,null,null,null,null,null,null,null,null,null,null,null,null,null,null,null,null,null,null,null,null,null,null,null,null,null,null,null,null,null,null,null,null,null,null,null,null,null,null,"",null,{"$f":"IF(BY115=\"\",\"\",\"AgencyEntityInsData Id 914\")","v":""},{"$f":"IF(BY115=\"\",\"\",\"AgencyEntityInstance Id 113\")","v":""},{"$f":"IF(BY115=\"\",\"\",\"cm_t27_list_max\")","v":""},{"$f":"IF(BY115=\"\",\"\",0)","v":""},{"$f":"IF(BY115=\"\",\"\",TODAY())","v":""},{"$f":"IF(BY115=\"\",\"\",\"WTSYSTEMUSER\")","v":""},{"$f":"IF(BY115=\"\",\"\",TODAY())","v":""},{"$f":"IF(BY115=\"\",\"\",\"WTSYSTEMUSER\")","v":""}]
[null,null,null,null,null,null,null,null,null,null,null,null,null,null,null,null,null,null,null,null,null,null,null,null,null,null,null,null,null,null,null,null,null,null,null,null,null,null,null,null,null,null,null,null,null,null,null,null,null,null,null,null,null,null,null,null,null,null,null,null,null,null,null,null,null,null,null,null,null,null,null,null,null,null,null,null,null,null,null,null,null,null,null,null,null,null,null,null,null,null,null,null,"",null,{"$f":"IF(BY116=\"\",\"\",\"AgencyEntityInsData Id 920\")","v":""},{"$f":"IF(BY116=\"\",\"\",\"AgencyEntityInstance Id 114\")","v":""},{"$f":"IF(BY116=\"\",\"\",\"cm_t27_list_max\")","v":""},{"$f":"IF(BY116=\"\",\"\",0)","v":""},{"$f":"IF(BY116=\"\",\"\",TODAY())","v":""},{"$f":"IF(BY116=\"\",\"\",\"WTSYSTEMUSER\")","v":""},{"$f":"IF(BY116=\"\",\"\",TODAY())","v":""},{"$f":"IF(BY116=\"\",\"\",\"WTSYSTEMUSER\")","v":""}]
[null,null,null,null,null,null,null,null,null,null,null,null,null,null,null,null,null,null,null,null,null,null,null,null,null,null,null,null,null,null,null,null,null,null,null,null,null,null,null,null,null,null,null,null,null,null,null,null,null,null,null,null,null,null,null,null,null,null,null,null,null,null,null,null,null,null,null,null,null,null,null,null,null,null,null,null,null,null,null,null,null,null,null,null,null,null,null,null,null,null,null,null,"",null,{"$f":"IF(BY116=\"\",\"\",\"AgencyEntityInsData Id 922\")","v":""},{"$f":"IF(BY116=\"\",\"\",\"AgencyEntityInstance Id 114\")","v":""},{"$f":"IF(BY116=\"\",\"\",\"cm_t27_list_order\")","v":""},{"$f":"IF(BY116=\"\",\"\",5)","v":""},{"$f":"IF(BY116=\"\",\"\",TODAY())","v":""},{"$f":"IF(BY116=\"\",\"\",\"WTSYSTEMUSER\")","v":""},{"$f":"IF(BY116=\"\",\"\",TODAY())","v":""},{"$f":"IF(BY116=\"\",\"\",\"WTSYSTEMUSER\")","v":""}]
[null,null,null,null,null,null,null,null,null,null,null,null,null,null,null,null,null,null,null,null,null,null,null,null,null,null,null,null,null,null,null,null,null,null,null,null,null,null,null,null,null,null,null,null,null,null,null,null,null,null,null,null,null,null,null,null,null,null,null,null,null,null,null,null,null,null,null,null,null,null,null,null,null,null,null,null,null,null,null,null,null,null,null,null,null,null,null,null,null,null,null,null,"",null,{"$f":"IF(BY117=\"\",\"\",\"AgencyEntityInsData Id 929\")","v":""},{"$f":"IF(BY117=\"\",\"\",\"AgencyEntityInstance Id 115\")","v":""},{"$f":"IF(BY117=\"\",\"\",\"cm_t27_list_pct_passing\")","v":""},{"$f":"IF(BY117=\"\",\"\",\"\")","v":""},{"$f":"IF(BY117=\"\",\"\",TODAY())","v":""},{"$f":"IF(BY117=\"\",\"\",\"WTSYSTEMUSER\")","v":""},{"$f":"IF(BY117=\"\",\"\",TODAY())","v":""},{"$f":"IF(BY117=\"\",\"\",\"WTSYSTEMUSER\")","v":""}]
[null,null,null,null,null,null,null,null,null,null,null,null,null,null,null,null,null,null,null,null,null,null,null,null,null,null,null,null,null,null,null,null,null,null,null,null,null,null,null,null,null,null,null,null,null,null,null,null,null,null,null,null,null,null,null,null,null,null,null,null,null,null,null,null,null,null,null,null,null,null,null,null,null,null,null,null,null,null,null,null,null,null,null,null,null,null,null,null,null,null,null,null,"",null,{"$f":"IF(BY117=\"\",\"\",\"AgencyEntityInsData Id 930\")","v":""},{"$f":"IF(BY117=\"\",\"\",\"AgencyEntityInstance Id 115\")","v":""},{"$f":"IF(BY117=\"\",\"\",\"cm_t27_list_sieve\")","v":""},{"$f":"IF(BY117=\"\",\"\",\"1/4\"\" (6.25 mm)\")","v":""},{"$f":"IF(BY117=\"\",\"\",TODAY())","v":""},{"$f":"IF(BY117=\"\",\"\",\"WTSYSTEMUSER\")","v":""},{"$f":"IF(BY117=\"\",\"\",TODAY())","v":""},{"$f":"IF(BY117=\"\",\"\",\"WTSYSTEMUSER\")","v":""}]
[null,null,null,null,null,null,null,null,null,null,null,null,null,null,null,null,null,null,null,null,null,null,null,null,null,null,null,null,null,null,null,null,null,null,null,null,null,null,null,null,null,null,null,null,null,null,null,null,null,null,null,null,null,null,null,null,null,null,null,null,null,null,null,null,null,null,null,null,null,null,null,null,null,null,null,null,null,null,null,null,null,null,null,null,null,null,null,null,null,null,null,null,"",null,{"$f":"IF(BY118=\"\",\"\",\"AgencyEntityInsData Id 935\")","v":""},{"$f":"IF(BY118=\"\",\"\",\"AgencyEntityInstance Id 116\")","v":""},{"$f":"IF(BY118=\"\",\"\",\"cm_t27_list_pct_passing\")","v":""},{"$f":"IF(BY118=\"\",\"\",IF('Test 3'!AE18=0,\"\",'Test 3'!AE18))","v":""},{"$f":"IF(BY118=\"\",\"\",TODAY())","v":""},{"$f":"IF(BY118=\"\",\"\",\"WTSYSTEMUSER\")","v":""},{"$f":"IF(BY118=\"\",\"\",TODAY())","v":""},{"$f":"IF(BY118=\"\",\"\",\"WTSYSTEMUSER\")","v":""}]
[null,null,null,null,null,null,null,null,null,null,null,null,null,null,null,null,null,null,null,null,null,null,null,null,null,null,null,null,null,null,null,null,null,null,null,null,null,null,null,null,null,null,null,null,null,null,null,null,null,null,null,null,null,null,null,null,null,null,null,null,null,null,null,null,null,null,null,null,null,null,null,null,null,null,null,null,null,null,null,null,null,null,null,null,null,null,null,null,null,null,null,null,"",null,{"$f":"IF(BY119=\"\",\"\",\"AgencyEntityInsData Id 941\")","v":""},{"$f":"IF(BY119=\"\",\"\",\"AgencyEntityInstance Id 117\")","v":""},{"$f":"IF(BY119=\"\",\"\",\"cm_t27_list_pct_passing\")","v":""},{"$f":"IF(BY119=\"\",\"\",IF('Test 3'!AE19=0,\"\",'Test 3'!AE19))","v":""},{"$f":"IF(BY119=\"\",\"\",TODAY())","v":""},{"$f":"IF(BY119=\"\",\"\",\"WTSYSTEMUSER\")","v":""},{"$f":"IF(BY119=\"\",\"\",TODAY())","v":""},{"$f":"IF(BY119=\"\",\"\",\"WTSYSTEMUSER\")","v":""}]
[null,null,null,null,null,null,null,null,null,null,null,null,null,null,null,null,null,null,null,null,null,null,null,null,null,null,null,null,null,null,null,null,null,null,null,null,null,null,null,null,null,null,null,null,null,null,null,null,null,null,null,null,null,null,null,null,null,null,null,null,null,null,null,null,null,null,null,null,null,null,null,null,null,null,null,null,null,null,null,null,null,null,null,null,null,null,null,null,null,null,null,null,"",null,{"$f":"IF(BY120=\"\",\"\",\"AgencyEntityInsData Id 947\")","v":""},{"$f":"IF(BY120=\"\",\"\",\"AgencyEntityInstance Id 118\")","v":""},{"$f":"IF(BY120=\"\",\"\",\"cm_t27_list_pct_passing\")","v":""},{"$f":"IF(BY120=\"\",\"\",IF('Test 3'!AE20=0,\"\",'Test 3'!AE20))","v":""},{"$f":"IF(BY120=\"\",\"\",TODAY())","v":""},{"$f":"IF(BY120=\"\",\"\",\"WTSYSTEMUSER\")","v":""},{"$f":"IF(BY120=\"\",\"\",TODAY())","v":""},{"$f":"IF(BY120=\"\",\"\",\"WTSYSTEMUSER\")","v":""}]
[null,null,null,null,null,null,null,null,null,null,null,null,null,null,null,null,null,null,null,null,null,null,null,null,null,null,null,null,null,null,null,null,null,null,null,null,null,null,null,null,null,null,null,null,null,null,null,null,null,null,null,null,null,null,null,null,null,null,null,null,null,null,null,null,null,null,null,null,null,null,null,null,null,null,null,null,null,null,null,null,null,null,null,null,null,null,null,null,null,null,null,null,"",null,{"$f":"IF(BY121=\"\",\"\",\"AgencyEntityInsData Id 950\")","v":""},{"$f":"IF(BY121=\"\",\"\",\"AgencyEntityInstance Id 119\")","v":""},{"$f":"IF(BY121=\"\",\"\",\"cm_t27_list_max\")","v":""},{"$f":"IF(BY121=\"\",\"\",0)","v":""},{"$f":"IF(BY121=\"\",\"\",TODAY())","v":""},{"$f":"IF(BY121=\"\",\"\",\"WTSYSTEMUSER\")","v":""},{"$f":"IF(BY121=\"\",\"\",TODAY())","v":""},{"$f":"IF(BY121=\"\",\"\",\"WTSYSTEMUSER\")","v":""}]
[null,null,null,null,null,null,null,null,null,null,null,null,null,null,null,null,null,null,null,null,null,null,null,null,null,null,null,null,null,null,null,null,null,null,null,null,null,null,null,null,null,null,null,null,null,null,null,null,null,null,null,null,null,null,null,null,null,null,null,null,null,null,null,null,null,null,null,null,null,null,null,null,null,null,null,null,null,null,null,null,null,null,null,null,null,null,null,null,null,null,null,null,"",null,{"$f":"IF(BY122=\"\",\"\",\"AgencyEntityInsData Id 956\")","v":""},{"$f":"IF(BY122=\"\",\"\",\"AgencyEntityInstance Id 120\")","v":""},{"$f":"IF(BY122=\"\",\"\",\"cm_t27_list_max\")","v":""},{"$f":"IF(BY122=\"\",\"\",0)","v":""},{"$f":"IF(BY122=\"\",\"\",TODAY())","v":""},{"$f":"IF(BY122=\"\",\"\",\"WTSYSTEMUSER\")","v":""},{"$f":"IF(BY122=\"\",\"\",TODAY())","v":""},{"$f":"IF(BY122=\"\",\"\",\"WTSYSTEMUSER\")","v":""}]
[null,null,null,null,null,null,null,null,null,null,null,null,null,null,null,null,null,null,null,null,null,null,null,null,null,null,null,null,null,null,null,null,null,null,null,null,null,null,null,null,null,null,null,null,null,null,null,null,null,null,null,null,null,null,null,null,null,null,null,null,null,null,null,null,null,null,null,null,null,null,null,null,null,null,null,null,null,null,null,null,null,null,null,null,null,null,null,null,null,null,null,null,"",null,{"$f":"IF(BY123=\"\",\"\",\"AgencyEntityInsData Id 961\")","v":""},{"$f":"IF(BY123=\"\",\"\",\"AgencyEntityInstance Id 121\")","v":""},{"$f":"IF(BY123=\"\",\"\",\"cm_t27_list_inspecrow\")","v":""},{"$f":"IF(BY123=\"\",\"\",\"Out of Spec\")","v":""},{"$f":"IF(BY123=\"\",\"\",TODAY())","v":""},{"$f":"IF(BY123=\"\",\"\",\"WTSYSTEMUSER\")","v":""},{"$f":"IF(BY123=\"\",\"\",TODAY())","v":""},{"$f":"IF(BY123=\"\",\"\",\"WTSYSTEMUSER\")","v":""}]
[null,null,null,null,null,null,null,null,null,null,null,null,null,null,null,null,null,null,null,null,null,null,null,null,null,null,null,null,null,null,null,null,null,null,null,null,null,null,null,null,null,null,null,null,null,null,null,null,null,null,null,null,null,null,null,null,null,null,null,null,null,null,null,null,null,null,null,null,null,null,null,null,null,null,null,null,null,null,null,null,null,null,null,null,null,null,null,null,null,null,null,null,"",null,{"$f":"IF(BY123=\"\",\"\",\"AgencyEntityInsData Id 966\")","v":""},{"$f":"IF(BY123=\"\",\"\",\"AgencyEntityInstance Id 121\")","v":""},{"$f":"IF(BY123=\"\",\"\",\"cm_t27_list_sieve\")","v":""},{"$f":"IF(BY123=\"\",\"\",\"No. 40 (425 um)\")","v":""},{"$f":"IF(BY123=\"\",\"\",TODAY())","v":""},{"$f":"IF(BY123=\"\",\"\",\"WTSYSTEMUSER\")","v":""},{"$f":"IF(BY123=\"\",\"\",TODAY())","v":""},{"$f":"IF(BY123=\"\",\"\",\"WTSYSTEMUSER\")","v":""}]
[null,null,null,null,null,null,null,null,null,null,null,null,null,null,null,null,null,null,null,null,null,null,null,null,null,null,null,null,null,null,null,null,null,null,null,null,null,null,null,null,null,null,null,null,null,null,null,null,null,null,null,null,null,null,null,null,null,null,null,null,null,null,null,null,null,null,null,null,null,null,null,null,null,null,null,null,null,null,null,null,null,null,null,null,null,null,null,null,null,null,null,null,"",null,{"$f":"IF(BY124=\"\",\"\",\"AgencyEntityInsData Id 972\")","v":""},{"$f":"IF(BY124=\"\",\"\",\"AgencyEntityInstance Id 122\")","v":""},{"$f":"IF(BY124=\"\",\"\",\"cm_t27_list_sieve\")","v":""},{"$f":"IF(BY124=\"\",\"\",\"No. 50 (300 um)\")","v":""},{"$f":"IF(BY124=\"\",\"\",TODAY())","v":""},{"$f":"IF(BY124=\"\",\"\",\"WTSYSTEMUSER\")","v":""},{"$f":"IF(BY124=\"\",\"\",TODAY())","v":""},{"$f":"IF(BY124=\"\",\"\",\"WTSYSTEMUSER\")","v":""}]
[null,null,null,null,null,null,null,null,null,null,null,null,null,null,null,null,null,null,null,null,null,null,null,null,null,null,null,null,null,null,null,null,null,null,null,null,null,null,null,null,null,null,null,null,null,null,null,null,null,null,null,null,null,null,null,null,null,null,null,null,null,null,null,null,null,null,null,null,null,null,null,null,null,null,null,null,null,null,null,null,null,null,null,null,null,null,null,null,null,null,null,null,"",null,{"$f":"IF(BY125=\"\",\"\",\"AgencyEntityInsData Id 976\")","v":""},{"$f":"IF(BY125=\"\",\"\",\"AgencyEntityInstance Id 123\")","v":""},{"$f":"IF(BY125=\"\",\"\",\"cm_t27_list_order\")","v":""},{"$f":"IF(BY125=\"\",\"\",14)","v":""},{"$f":"IF(BY125=\"\",\"\",TODAY())","v":""},{"$f":"IF(BY125=\"\",\"\",\"WTSYSTEMUSER\")","v":""},{"$f":"IF(BY125=\"\",\"\",TODAY())","v":""},{"$f":"IF(BY125=\"\",\"\",\"WTSYSTEMUSER\")","v":""}]
[null,null,null,null,null,null,null,null,null,null,null,null,null,null,null,null,null,null,null,null,null,null,null,null,null,null,null,null,null,null,null,null,null,null,null,null,null,null,null,null,null,null,null,null,null,null,null,null,null,null,null,null,null,null,null,null,null,null,null,null,null,null,null,null,null,null,null,null,null,null,null,null,null,null,null,null,null,null,null,null,null,null,null,null,null,null,null,null,null,null,null,null,"",null,{"$f":"IF(BY126=\"\",\"\",\"AgencyEntityInsData Id 982\")","v":""},{"$f":"IF(BY126=\"\",\"\",\"AgencyEntityInstance Id 124\")","v":""},{"$f":"IF(BY126=\"\",\"\",\"cm_t27_list_order\")","v":""},{"$f":"IF(BY126=\"\",\"\",15)","v":""},{"$f":"IF(BY126=\"\",\"\",TODAY())","v":""},{"$f":"IF(BY126=\"\",\"\",\"WTSYSTEMUSER\")","v":""},{"$f":"IF(BY126=\"\",\"\",TODAY())","v":""},{"$f":"IF(BY126=\"\",\"\",\"WTSYSTEMUSER\")","v":""}]
[null,null,null,null,null,null,null,null,null,null,null,null,null,null,null,null,null,null,null,null,null,null,null,null,null,null,null,null,null,null,null,null,null,null,null,null,null,null,null,null,null,null,null,null,null,null,null,null,null,null,null,null,null,null,null,null,null,null,null,null,null,null,null,null,null,null,null,null,null,null,null,null,null,null,null,null,null,null,null,null,null,null,null,null,null,null,null,null,null,null,null,null,"",null,{"$f":"IF(BY128=\"\",\"\",\"AgencyEntityInsData Id 987\")","v":""},{"$f":"IF(BY128=\"\",\"\",\"AgencyEntityInstance Id 126\")","v":""},{"$f":"IF(BY128=\"\",\"\",\"cm_t27_list_max\")","v":""},{"$f":"IF(BY128=\"\",\"\",0)","v":""},{"$f":"IF(BY128=\"\",\"\",TODAY())","v":""},{"$f":"IF(BY128=\"\",\"\",\"WTSYSTEMUSER\")","v":""},{"$f":"IF(BY128=\"\",\"\",TODAY())","v":""},{"$f":"IF(BY128=\"\",\"\",\"WTSYSTEMUSER\")","v":""}]
[null,null,null,null,null,null,null,null,null,null,null,null,null,null,null,null,null,null,null,null,null,null,null,null,null,null,null,null,null,null,null,null,null,null,null,null,null,null,null,null,null,null,null,null,null,null,null,null,null,null,null,null,null,null,null,null,null,null,null,null,null,null,null,null,null,null,null,null,null,null,null,null,null,null,null,null,null,null,null,null,null,null,null,null,null,null,null,null,null,null,null,null,"",null,{"$f":"IF(BY129=\"\",\"\",\"AgencyEntityInsData Id 992\")","v":""},{"$f":"IF(BY129=\"\",\"\",\"AgencyEntityInstance Id 127\")","v":""},{"$f":"IF(BY129=\"\",\"\",\"cm_t27_list_inspecrow\")","v":""},{"$f":"IF(BY129=\"\",\"\",\"Out of Spec\")","v":""},{"$f":"IF(BY129=\"\",\"\",TODAY())","v":""},{"$f":"IF(BY129=\"\",\"\",\"WTSYSTEMUSER\")","v":""},{"$f":"IF(BY129=\"\",\"\",TODAY())","v":""},{"$f":"IF(BY129=\"\",\"\",\"WTSYSTEMUSER\")","v":""}]
[null,null,null,null,null,null,null,null,null,null,null,null,null,null,null,null,null,null,null,null,null,null,null,null,null,null,null,null,null,null,null,null,null,null,null,null,null,null,null,null,null,null,null,null,null,null,null,null,null,null,null,null,null,null,null,null,null,null,null,null,null,null,null,null,null,null,null,null,null,null,null,null,null,null,null,null,null,null,null,null,null,null,null,null,null,null,null,null,null,null,null,null,"",null,{"$f":"IF(BY129=\"\",\"\",\"AgencyEntityInsData Id 993\")","v":""},{"$f":"IF(BY129=\"\",\"\",\"AgencyEntityInstance Id 127\")","v":""},{"$f":"IF(BY129=\"\",\"\",\"cm_t27_list_max\")","v":""},{"$f":"IF(BY129=\"\",\"\",0)","v":""},{"$f":"IF(BY129=\"\",\"\",TODAY())","v":""},{"$f":"IF(BY129=\"\",\"\",\"WTSYSTEMUSER\")","v":""},{"$f":"IF(BY129=\"\",\"\",TODAY())","v":""},{"$f":"IF(BY129=\"\",\"\",\"WTSYSTEMUSER\")","v":""}]
[null,null,null,null,null,null,null,null,null,null,null,null,null,null,null,null,null,null,null,null,null,null,null,null,null,null,null,null,null,null,null,null,null,null,null,null,null,null,null,null,null,null,null,null,null,null,null,null,null,null,null,null,null,null,null,null,null,null,null,null,null,null,null,null,null,null,null,null,null,null,null,null,null,null,null,null,null,null,null,null,null,null,null,null,null,null,null,null,null,null,null,null,"",null,{"$f":"IF(BY129=\"\",\"\",\"AgencyEntityInsData Id 997\")","v":""},{"$f":"IF(BY129=\"\",\"\",\"AgencyEntityInstance Id 127\")","v":""},{"$f":"IF(BY129=\"\",\"\",\"cm_t27_list_sieve\")","v":""},{"$f":"IF(BY129=\"\",\"\",\"1 1/2\"\" (37.5 mm)\")","v":""},{"$f":"IF(BY129=\"\",\"\",TODAY())","v":""},{"$f":"IF(BY129=\"\",\"\",\"WTSYSTEMUSER\")","v":""},{"$f":"IF(BY129=\"\",\"\",TODAY())","v":""},{"$f":"IF(BY129=\"\",\"\",\"WTSYSTEMUSER\")","v":""}]
[null,null,null,null,null,null,null,null,null,null,null,null,null,null,null,null,null,null,null,null,null,null,null,null,null,null,null,null,null,null,null,null,null,null,null,null,null,null,null,null,null,null,null,null,null,null,null,null,null,null,null,null,null,null,null,null,null,null,null,null,null,null,null,null,null,null,null,null,null,null,null,null,null,null,null,null,null,null,null,null,null,null,null,null,null,null,null,null,null,null,null,null,"",null,{"$f":"IF(BY130=\"\",\"\",\"AgencyEntityInsData Id 1002\")","v":""},{"$f":"IF(BY130=\"\",\"\",\"AgencyEntityInstance Id 128\")","v":""},{"$f":"IF(BY130=\"\",\"\",\"cm_t27_list_pct_passing\")","v":""},{"$f":"IF(BY130=\"\",\"\",IF('Test 3'!AF14=0,\"\",'Test 3'!AF14))","v":""},{"$f":"IF(BY130=\"\",\"\",TODAY())","v":""},{"$f":"IF(BY130=\"\",\"\",\"WTSYSTEMUSER\")","v":""},{"$f":"IF(BY130=\"\",\"\",TODAY())","v":""},{"$f":"IF(BY130=\"\",\"\",\"WTSYSTEMUSER\")","v":""}]
[null,null,null,null,null,null,null,null,null,null,null,null,null,null,null,null,null,null,null,null,null,null,null,null,null,null,null,null,null,null,null,null,null,null,null,null,null,null,null,null,null,null,null,null,null,null,null,null,null,null,null,null,null,null,null,null,null,null,null,null,null,null,null,null,null,null,null,null,null,null,null,null,null,null,null,null,null,null,null,null,null,null,null,null,null,null,null,null,null,null,null,null,"",null,{"$f":"IF(BY131=\"\",\"\",\"AgencyEntityInsData Id 1008\")","v":""},{"$f":"IF(BY131=\"\",\"\",\"AgencyEntityInstance Id 129\")","v":""},{"$f":"IF(BY131=\"\",\"\",\"cm_t27_list_pct_passing\")","v":""},{"$f":"IF(BY131=\"\",\"\",IF('Test 3'!AF15=0,\"\",'Test 3'!AF15))","v":""},{"$f":"IF(BY131=\"\",\"\",TODAY())","v":""},{"$f":"IF(BY131=\"\",\"\",\"WTSYSTEMUSER\")","v":""},{"$f":"IF(BY131=\"\",\"\",TODAY())","v":""},{"$f":"IF(BY131=\"\",\"\",\"WTSYSTEMUSER\")","v":""}]
[null,null,null,null,null,null,null,null,null,null,null,null,null,null,null,null,null,null,null,null,null,null,null,null,null,null,null,null,null,null,null,null,null,null,null,null,null,null,null,null,null,null,null,null,null,null,null,null,null,null,null,null,null,null,null,null,null,null,null,null,null,null,null,null,null,null,null,null,null,null,null,null,null,null,null,null,null,null,null,null,null,null,null,null,null,null,null,null,null,null,null,null,"",null,{"$f":"IF(BY132=\"\",\"\",\"AgencyEntityInsData Id 1013\")","v":""},{"$f":"IF(BY132=\"\",\"\",\"AgencyEntityInstance Id 130\")","v":""},{"$f":"IF(BY132=\"\",\"\",\"cm_t27_list_order\")","v":""},{"$f":"IF(BY132=\"\",\"\",4)","v":""},{"$f":"IF(BY132=\"\",\"\",TODAY())","v":""},{"$f":"IF(BY132=\"\",\"\",\"WTSYSTEMUSER\")","v":""},{"$f":"IF(BY132=\"\",\"\",TODAY())","v":""},{"$f":"IF(BY132=\"\",\"\",\"WTSYSTEMUSER\")","v":""}]
[null,null,null,null,null,null,null,null,null,null,null,null,null,null,null,null,null,null,null,null,null,null,null,null,null,null,null,null,null,null,null,null,null,null,null,null,null,null,null,null,null,null,null,null,null,null,null,null,null,null,null,null,null,null,null,null,null,null,null,null,null,null,null,null,null,null,null,null,null,null,null,null,null,null,null,null,null,null,null,null,null,null,null,null,null,null,null,null,null,null,null,null,"",null,{"$f":"IF(BY133=\"\",\"\",\"AgencyEntityInsData Id 1018\")","v":""},{"$f":"IF(BY133=\"\",\"\",\"AgencyEntityInstance Id 131\")","v":""},{"$f":"IF(BY133=\"\",\"\",\"cm_t27_list_min\")","v":""},{"$f":"IF(BY133=\"\",\"\",0)","v":""},{"$f":"IF(BY133=\"\",\"\",TODAY())","v":""},{"$f":"IF(BY133=\"\",\"\",\"WTSYSTEMUSER\")","v":""},{"$f":"IF(BY133=\"\",\"\",TODAY())","v":""},{"$f":"IF(BY133=\"\",\"\",\"WTSYSTEMUSER\")","v":""}]
[null,null,null,null,null,null,null,null,null,null,null,null,null,null,null,null,null,null,null,null,null,null,null,null,null,null,null,null,null,null,null,null,null,null,null,null,null,null,null,null,null,null,null,null,null,null,null,null,null,null,null,null,null,null,null,null,null,null,null,null,null,null,null,null,null,null,null,null,null,null,null,null,null,null,null,null,null,null,null,null,null,null,null,null,null,null,null,null,null,null,null,null,"",null,{"$f":"IF(BY134=\"\",\"\",\"AgencyEntityInsData Id 1023\")","v":""},{"$f":"IF(BY134=\"\",\"\",\"AgencyEntityInstance Id 132\")","v":""},{"$f":"IF(BY134=\"\",\"\",\"cm_t27_list_max\")","v":""},{"$f":"IF(BY134=\"\",\"\",0)","v":""},{"$f":"IF(BY134=\"\",\"\",TODAY())","v":""},{"$f":"IF(BY134=\"\",\"\",\"WTSYSTEMUSER\")","v":""},{"$f":"IF(BY134=\"\",\"\",TODAY())","v":""},{"$f":"IF(BY134=\"\",\"\",\"WTSYSTEMUSER\")","v":""}]
[null,null,null,null,null,null,null,null,null,null,null,null,null,null,null,null,null,null,null,null,null,null,null,null,null,null,null,null,null,null,null,null,null,null,null,null,null,null,null,null,null,null,null,null,null,null,null,null,null,null,null,null,null,null,null,null,null,null,null,null,null,null,null,null,null,null,null,null,null,null,null,null,null,null,null,null,null,null,null,null,null,null,null,null,null,null,null,null,null,null,null,null,"",null,{"$f":"IF(BY135=\"\",\"\",\"AgencyEntityInsData Id 1028\")","v":""},{"$f":"IF(BY135=\"\",\"\",\"AgencyEntityInstance Id 133\")","v":""},{"$f":"IF(BY135=\"\",\"\",\"cm_t27_list_inspecrow\")","v":""},{"$f":"IF(BY135=\"\",\"\",\"Out of Spec\")","v":""},{"$f":"IF(BY135=\"\",\"\",TODAY())","v":""},{"$f":"IF(BY135=\"\",\"\",\"WTSYSTEMUSER\")","v":""},{"$f":"IF(BY135=\"\",\"\",TODAY())","v":""},{"$f":"IF(BY135=\"\",\"\",\"WTSYSTEMUSER\")","v":""}]
[null,null,null,null,null,null,null,null,null,null,null,null,null,null,null,null,null,null,null,null,null,null,null,null,null,null,null,null,null,null,null,null,null,null,null,null,null,null,null,null,null,null,null,null,null,null,null,null,null,null,null,null,null,null,null,null,null,null,null,null,null,null,null,null,null,null,null,null,null,null,null,null,null,null,null,null,null,null,null,null,null,null,null,null,null,null,null,null,null,null,null,null,"",null,{"$f":"IF(BY136=\"\",\"\",\"AgencyEntityInsData Id 1034\")","v":""},{"$f":"IF(BY136=\"\",\"\",\"AgencyEntityInstance Id 134\")","v":""},{"$f":"IF(BY136=\"\",\"\",\"cm_t27_list_inspecrow\")","v":""},{"$f":"IF(BY136=\"\",\"\",\"Out of Spec\")","v":""},{"$f":"IF(BY136=\"\",\"\",TODAY())","v":""},{"$f":"IF(BY136=\"\",\"\",\"WTSYSTEMUSER\")","v":""},{"$f":"IF(BY136=\"\",\"\",TODAY())","v":""},{"$f":"IF(BY136=\"\",\"\",\"WTSYSTEMUSER\")","v":""}]
[null,null,null,null,null,null,null,null,null,null,null,null,null,null,null,null,null,null,null,null,null,null,null,null,null,null,null,null,null,null,null,null,null,null,null,null,null,null,null,null,null,null,null,null,null,null,null,null,null,null,null,null,null,null,null,null,null,null,null,null,null,null,null,null,null,null,null,null,null,null,null,null,null,null,null,null,null,null,null,null,null,null,null,null,null,null,null,null,null,null,null,null,"",null,{"$f":"IF(BY136=\"\",\"\",\"AgencyEntityInsData Id 1039\")","v":""},{"$f":"IF(BY136=\"\",\"\",\"AgencyEntityInstance Id 134\")","v":""},{"$f":"IF(BY136=\"\",\"\",\"cm_t27_list_sieve\")","v":""},{"$f":"IF(BY136=\"\",\"\",\"No. 8 (2.36 mm)\")","v":""},{"$f":"IF(BY136=\"\",\"\",TODAY())","v":""},{"$f":"IF(BY136=\"\",\"\",\"WTSYSTEMUSER\")","v":""},{"$f":"IF(BY136=\"\",\"\",TODAY())","v":""},{"$f":"IF(BY136=\"\",\"\",\"WTSYSTEMUSER\")","v":""}]
[null,null,null,null,null,null,null,null,null,null,null,null,null,null,null,null,null,null,null,null,null,null,null,null,null,null,null,null,null,null,null,null,null,null,null,null,null,null,null,null,null,null,null,null,null,null,null,null,null,null,null,null,null,null,null,null,null,null,null,null,null,null,null,null,null,null,null,null,null,null,null,null,null,null,null,null,null,null,null,null,null,null,null,null,null,null,null,null,null,null,null,null,"",null,{"$f":"IF(BY137=\"\",\"\",\"AgencyEntityInsData Id 1043\")","v":""},{"$f":"IF(BY137=\"\",\"\",\"AgencyEntityInstance Id 135\")","v":""},{"$f":"IF(BY137=\"\",\"\",\"cm_t27_list_order\")","v":""},{"$f":"IF(BY137=\"\",\"\",9)","v":""},{"$f":"IF(BY137=\"\",\"\",TODAY())","v":""},{"$f":"IF(BY137=\"\",\"\",\"WTSYSTEMUSER\")","v":""},{"$f":"IF(BY137=\"\",\"\",TODAY())","v":""},{"$f":"IF(BY137=\"\",\"\",\"WTSYSTEMUSER\")","v":""}]
[null,null,null,null,null,null,null,null,null,null,null,null,null,null,null,null,null,null,null,null,null,null,null,null,null,null,null,null,null,null,null,null,null,null,null,null,null,null,null,null,null,null,null,null,null,null,null,null,null,null,null,null,null,null,null,null,null,null,null,null,null,null,null,null,null,null,null,null,null,null,null,null,null,null,null,null,null,null,null,null,null,null,null,null,null,null,null,null,null,null,null,null,"",null,{"$f":"IF(BY138=\"\",\"\",\"AgencyEntityInsData Id 1049\")","v":""},{"$f":"IF(BY138=\"\",\"\",\"AgencyEntityInstance Id 136\")","v":""},{"$f":"IF(BY138=\"\",\"\",\"cm_t27_list_order\")","v":""},{"$f":"IF(BY138=\"\",\"\",10)","v":""},{"$f":"IF(BY138=\"\",\"\",TODAY())","v":""},{"$f":"IF(BY138=\"\",\"\",\"WTSYSTEMUSER\")","v":""},{"$f":"IF(BY138=\"\",\"\",TODAY())","v":""},{"$f":"IF(BY138=\"\",\"\",\"WTSYSTEMUSER\")","v":""}]
[null,null,null,null,null,null,null,null,null,null,null,null,null,null,null,null,null,null,null,null,null,null,null,null,null,null,null,null,null,null,null,null,null,null,null,null,null,null,null,null,null,null,null,null,null,null,null,null,null,null,null,null,null,null,null,null,null,null,null,null,null,null,null,null,null,null,null,null,null,null,null,null,null,null,null,null,null,null,null,null,null,null,null,null,null,null,null,null,null,null,null,null,"",null,{"$f":"IF(BY139=\"\",\"\",\"AgencyEntityInsData Id 1054\")","v":""},{"$f":"IF(BY139=\"\",\"\",\"AgencyEntityInstance Id 137\")","v":""},{"$f":"IF(BY139=\"\",\"\",\"cm_t27_list_min\")","v":""},{"$f":"IF(BY139=\"\",\"\",0)","v":""},{"$f":"IF(BY139=\"\",\"\",TODAY())","v":""},{"$f":"IF(BY139=\"\",\"\",\"WTSYSTEMUSER\")","v":""},{"$f":"IF(BY139=\"\",\"\",TODAY())","v":""},{"$f":"IF(BY139=\"\",\"\",\"WTSYSTEMUSER\")","v":""}]
[null,null,null,null,null,null,null,null,null,null,null,null,null,null,null,null,null,null,null,null,null,null,null,null,null,null,null,null,null,null,null,null,null,null,null,null,null,null,null,null,null,null,null,null,null,null,null,null,null,null,null,null,null,null,null,null,null,null,null,null,null,null,null,null,null,null,null,null,null,null,null,null,null,null,null,null,null,null,null,null,null,null,null,null,null,null,null,null,null,null,null,null,"",null,{"$f":"IF(BY139=\"\",\"\",\"AgencyEntityInsData Id 1055\")","v":""},{"$f":"IF(BY139=\"\",\"\",\"AgencyEntityInstance Id 137\")","v":""},{"$f":"IF(BY139=\"\",\"\",\"cm_t27_list_order\")","v":""},{"$f":"IF(BY139=\"\",\"\",11)","v":""},{"$f":"IF(BY139=\"\",\"\",TODAY())","v":""},{"$f":"IF(BY139=\"\",\"\",\"WTSYSTEMUSER\")","v":""},{"$f":"IF(BY139=\"\",\"\",TODAY())","v":""},{"$f":"IF(BY139=\"\",\"\",\"WTSYSTEMUSER\")","v":""}]
[null,null,null,null,null,null,null,null,null,null,null,null,null,null,null,null,null,null,null,null,null,null,null,null,null,null,null,null,null,null,null,null,null,null,null,null,null,null,null,null,null,null,null,null,null,null,null,null,null,null,null,null,null,null,null,null,null,null,null,null,null,null,null,null,null,null,null,null,null,null,null,null,null,null,null,null,null,null,null,null,null,null,null,null,null,null,null,null,null,null,null,null,"",null,{"$f":"IF(BY140=\"\",\"\",\"AgencyEntityInsData Id 1060\")","v":""},{"$f":"IF(BY140=\"\",\"\",\"AgencyEntityInstance Id 138\")","v":""},{"$f":"IF(BY140=\"\",\"\",\"cm_t27_list_min\")","v":""},{"$f":"IF(BY140=\"\",\"\",0)","v":""},{"$f":"IF(BY140=\"\",\"\",TODAY())","v":""},{"$f":"IF(BY140=\"\",\"\",\"WTSYSTEMUSER\")","v":""},{"$f":"IF(BY140=\"\",\"\",TODAY())","v":""},{"$f":"IF(BY140=\"\",\"\",\"WTSYSTEMUSER\")","v":""}]
[null,null,null,null,null,null,null,null,null,null,null,null,null,null,null,null,null,null,null,null,null,null,null,null,null,null,null,null,null,null,null,null,null,null,null,null,null,null,null,null,null,null,null,null,null,null,null,null,null,null,null,null,null,null,null,null,null,null,null,null,null,null,null,null,null,null,null,null,null,null,null,null,null,null,null,null,null,null,null,null,null,null,null,null,null,null,null,null,null,null,null,null,"",null,{"$f":"IF(BY141=\"\",\"\",\"AgencyEntityInsData Id 1068\")","v":""},{"$f":"IF(BY141=\"\",\"\",\"AgencyEntityInstance Id 139\")","v":""},{"$f":"IF(BY141=\"\",\"\",\"cm_t27_list_pct_passing\")","v":""},{"$f":"IF(BY141=\"\",\"\",IF('Test 3'!AF24=0,\"\",'Test 3'!AF24))","v":""},{"$f":"IF(BY141=\"\",\"\",TODAY())","v":""},{"$f":"IF(BY141=\"\",\"\",\"WTSYSTEMUSER\")","v":""},{"$f":"IF(BY141=\"\",\"\",TODAY())","v":""},{"$f":"IF(BY141=\"\",\"\",\"WTSYSTEMUSER\")","v":""}]
[null,null,null,null,null,null,null,null,null,null,null,null,null,null,null,null,null,null,null,null,null,null,null,null,null,null,null,null,null,null,null,null,null,null,null,null,null,null,null,null,null,null,null,null,null,null,null,null,null,null,null,null,null,null,null,null,null,null,null,null,null,null,null,null,null,null,null,null,null,null,null,null,null,null,null,null,null,null,null,null,null,null,null,null,null,null,null,null,null,null,null,null,"",null,{"$f":"IF(BY142=\"\",\"\",\"AgencyEntityInsData Id 1070\")","v":""},{"$f":"IF(BY142=\"\",\"\",\"AgencyEntityInstance Id 140\")","v":""},{"$f":"IF(BY142=\"\",\"\",\"cm_t27_list_inspecrow\")","v":""},{"$f":"IF(BY142=\"\",\"\",\"Out of Spec\")","v":""},{"$f":"IF(BY142=\"\",\"\",TODAY())","v":""},{"$f":"IF(BY142=\"\",\"\",\"WTSYSTEMUSER\")","v":""},{"$f":"IF(BY142=\"\",\"\",TODAY())","v":""},{"$f":"IF(BY142=\"\",\"\",\"WTSYSTEMUSER\")","v":""}]
[null,null,null,null,null,null,null,null,null,null,null,null,null,null,null,null,null,null,null,null,null,null,null,null,null,null,null,null,null,null,null,null,null,null,null,null,null,null,null,null,null,null,null,null,null,null,null,null,null,null,null,null,null,null,null,null,null,null,null,null,null,null,null,null,null,null,null,null,null,null,null,null,null,null,null,null,null,null,null,null,null,null,null,null,null,null,null,null,null,null,null,null,"",null,{"$f":"IF(BY142=\"\",\"\",\"AgencyEntityInsData Id 1075\")","v":""},{"$f":"IF(BY142=\"\",\"\",\"AgencyEntityInstance Id 140\")","v":""},{"$f":"IF(BY142=\"\",\"\",\"cm_t27_list_sieve\")","v":""},{"$f":"IF(BY142=\"\",\"\",\"No. 100 (150 um)\")","v":""},{"$f":"IF(BY142=\"\",\"\",TODAY())","v":""},{"$f":"IF(BY142=\"\",\"\",\"WTSYSTEMUSER\")","v":""},{"$f":"IF(BY142=\"\",\"\",TODAY())","v":""},{"$f":"IF(BY142=\"\",\"\",\"WTSYSTEMUSER\")","v":""}]
[null,null,null,null,null,null,null,null,null,null,null,null,null,null,null,null,null,null,null,null,null,null,null,null,null,null,null,null,null,null,null,null,null,null,null,null,null,null,null,null,null,null,null,null,null,null,null,null,null,null,null,null,null,null,null,null,null,null,null,null,null,null,null,null,null,null,null,null,null,null,null,null,null,null,null,null,null,null,null,null,null,null,null,null,null,null,null,null,null,null,null,null,"",null,{"$f":"IF(BY143=\"\",\"\",\"AgencyEntityInsData Id 1081\")","v":""},{"$f":"IF(BY143=\"\",\"\",\"AgencyEntityInstance Id 141\")","v":""},{"$f":"IF(BY143=\"\",\"\",\"cm_t27_list_sieve\")","v":""},{"$f":"IF(BY143=\"\",\"\",\"No. 200 (75 um)\")","v":""},{"$f":"IF(BY143=\"\",\"\",TODAY())","v":""},{"$f":"IF(BY143=\"\",\"\",\"WTSYSTEMUSER\")","v":""},{"$f":"IF(BY143=\"\",\"\",TODAY())","v":""},{"$f":"IF(BY143=\"\",\"\",\"WTSYSTEMUSER\")","v":""}]
[null,null,null,null,null,null,null,null,null,null,null,null,null,null,null,null,null,null,null,null,null,null,null,null,null,null,null,null,null,null,null,null,null,null,null,null,null,null,null,null,null,null,null,null,null,null,null,null,null,null,null,null,null,null,null,null,null,null,null,null,null,null,null,null,null,null,null,null,null,null,null,null,null,null,null,null,null,null,null,null,null,null,null,null,null,null,null,null,null,null,null,null,"",null,{"$f":"IF(BY146=\"\",\"\",\"AgencyEntityInsData Id 1086\")","v":""},{"$f":"IF(BY146=\"\",\"\",\"AgencyEntityInstance Id 144\")","v":""},{"$f":"IF(BY146=\"\",\"\",\"CM_T255_MoistureCont_PH1\")","v":""},"",{"$f":"IF(BY146=\"\",\"\",TODAY())","v":""},{"$f":"IF(BY146=\"\",\"\",\"WTSYSTEMUSER\")","v":""},{"$f":"IF(BY146=\"\",\"\",TODAY())","v":""},{"$f":"IF(BY146=\"\",\"\",\"WTSYSTEMUSER\")","v":""}]
[null,null,null,null,null,null,null,null,null,null,null,null,null,null,null,null,null,null,null,null,null,null,null,null,null,null,null,null,null,null,null,null,null,null,null,null,null,null,null,null,null,null,null,null,null,null,null,null,null,null,null,null,null,null,null,null,null,null,null,null,null,null,null,null,null,null,null,null,null,null,null,null,null,null,null,null,null,null,null,null,null,null,null,null,null,null,null,null,null,null,null,null,"",null,{"$f":"IF(BY146=\"\",\"\",\"AgencyEntityInsData Id 1089\")","v":""},{"$f":"IF(BY146=\"\",\"\",\"AgencyEntityInstance Id 144\")","v":""},{"$f":"IF(BY146=\"\",\"\",\"CM_T255_MoistureCont_PH4\")","v":""},"",{"$f":"IF(BY146=\"\",\"\",TODAY())","v":""},{"$f":"IF(BY146=\"\",\"\",\"WTSYSTEMUSER\")","v":""},{"$f":"IF(BY146=\"\",\"\",TODAY())","v":""},{"$f":"IF(BY146=\"\",\"\",\"WTSYSTEMUSER\")","v":""}]
[null,null,null,null,null,null,null,null,null,null,null,null,null,null,null,null,null,null,null,null,null,null,null,null,null,null,null,null,null,null,null,null,null,null,null,null,null,null,null,null,null,null,null,null,null,null,null,null,null,null,null,null,null,null,null,null,null,null,null,null,null,null,null,null,null,null,null,null,null,null,null,null,null,null,null,null,null,null,null,null,null,null,null,null,null,null,null,null,null,null,null,null,"",null,{"$f":"IF(BY147=\"\",\"\",\"AgencyEntityInsData Id 1096\")","v":""},{"$f":"IF(BY147=\"\",\"\",\"AgencyEntityInstance Id 145\")","v":""},{"$f":"IF(BY147=\"\",\"\",\"CM_T255_MoistureCont_PH1\")","v":""},"",{"$f":"IF(BY147=\"\",\"\",TODAY())","v":""},{"$f":"IF(BY147=\"\",\"\",\"WTSYSTEMUSER\")","v":""},{"$f":"IF(BY147=\"\",\"\",TODAY())","v":""},{"$f":"IF(BY147=\"\",\"\",\"WTSYSTEMUSER\")","v":""}]
[null,null,null,null,null,null,null,null,null,null,null,null,null,null,null,null,null,null,null,null,null,null,null,null,null,null,null,null,null,null,null,null,null,null,null,null,null,null,null,null,null,null,null,null,null,null,null,null,null,null,null,null,null,null,null,null,null,null,null,null,null,null,null,null,null,null,null,null,null,null,null,null,null,null,null,null,null,null,null,null,null,null,null,null,null,null,null,null,null,null,null,null,"",null,{"$f":"IF(BY147=\"\",\"\",\"AgencyEntityInsData Id 1101\")","v":""},{"$f":"IF(BY147=\"\",\"\",\"AgencyEntityInstance Id 145\")","v":""},{"$f":"IF(BY147=\"\",\"\",\"CM_T255_MoistureCont_Result\")","v":""},{"$f":"IF(BY147=\"\",\"\",IF('Test 1'!I53=0,\"\",'Test 1'!I53))","v":""},{"$f":"IF(BY147=\"\",\"\",TODAY())","v":""},{"$f":"IF(BY147=\"\",\"\",\"WTSYSTEMUSER\")","v":""},{"$f":"IF(BY147=\"\",\"\",TODAY())","v":""},{"$f":"IF(BY147=\"\",\"\",\"WTSYSTEMUSER\")","v":""}]
[null,null,null,null,null,null,null,null,null,null,null,null,null,null,null,null,null,null,null,null,null,null,null,null,null,null,null,null,null,null,null,null,null,null,null,null,null,null,null,null,null,null,null,null,null,null,null,null,null,null,null,null,null,null,null,null,null,null,null,null,null,null,null,null,null,null,null,null,null,null,null,null,null,null,null,null,null,null,null,null,null,null,null,null,null,null,null,null,null,null,null,null,"",null,{"$f":"IF(BY148=\"\",\"\",\"AgencyEntityInsData Id 1106\")","v":""},{"$f":"IF(BY148=\"\",\"\",\"AgencyEntityInstance Id 146\")","v":""},{"$f":"IF(BY148=\"\",\"\",\"CM_T255_MoistureCont_PH1\")","v":""},null,{"$f":"IF(BY148=\"\",\"\",TODAY())","v":""},{"$f":"IF(BY148=\"\",\"\",\"WTSYSTEMUSER\")","v":""},{"$f":"IF(BY148=\"\",\"\",TODAY())","v":""},{"$f":"IF(BY148=\"\",\"\",\"WTSYSTEMUSER\")","v":""}]
[null,null,null,null,null,null,null,null,null,null,null,null,null,null,null,null,null,null,null,null,null,null,null,null,null,null,null,null,null,null,null,null,null,null,null,null,null,null,null,null,null,null,null,null,null,null,null,null,null,null,null,null,null,null,null,null,null,null,null,null,null,null,null,null,null,null,null,null,null,null,null,null,null,null,null,null,null,null,null,null,null,null,null,null,null,null,null,null,null,null,null,null,"",null,{"$f":"IF(BY148=\"\",\"\",\"AgencyEntityInsData Id 1112\")","v":""},{"$f":"IF(BY148=\"\",\"\",\"AgencyEntityInstance Id 146\")","v":""},{"$f":"IF(BY148=\"\",\"\",\"CM_T255_MoistureCont_Title_Label\")","v":""},null,{"$f":"IF(BY148=\"\",\"\",TODAY())","v":""},{"$f":"IF(BY148=\"\",\"\",\"WTSYSTEMUSER\")","v":""},{"$f":"IF(BY148=\"\",\"\",TODAY())","v":""},{"$f":"IF(BY148=\"\",\"\",\"WTSYSTEMUSER\")","v":""}]
[null,null,null,null,null,null,null,null,null,null,null,null,null,null,null,null,null,null,null,null,null,null,null,null,null,null,null,null,null,null,null,null,null,null,null,null,null,null,null,null,null,null,null,null,null,null,null,null,null,null,null,null,null,null,null,null,null,null,null,null,null,null,null,null,null,null,null,null,null,null,null,null,null,null,null,null,null,null,null,null,null,null,null,null,null,null,null,null,null,null,null,null,"",null,{"$f":"IF(BY149=\"\",\"\",\"AgencyEntityInsData Id 1114\")","v":""},{"$f":"IF(BY149=\"\",\"\",\"AgencyEntityInstance Id 147\")","v":""},{"$f":"IF(BY149=\"\",\"\",\"cm_d4791_flat_elong_five_to_one\")","v":""},{"$f":"IF(BY149=\"\",\"\",IF('Test 2'!AD49=0,\"\",'Test 2'!AD49))","v":""},{"$f":"IF(BY149=\"\",\"\",TODAY())","v":""},{"$f":"IF(BY149=\"\",\"\",\"WTSYSTEMUSER\")","v":""},{"$f":"IF(BY149=\"\",\"\",TODAY())","v":""},{"$f":"IF(BY149=\"\",\"\",\"WTSYSTEMUSER\")","v":""}]
[null,null,null,null,null,null,null,null,null,null,null,null,null,null,null,null,null,null,null,null,null,null,null,null,null,null,null,null,null,null,null,null,null,null,null,null,null,null,null,null,null,null,null,null,null,null,null,null,null,null,null,null,null,null,null,null,null,null,null,null,null,null,null,null,null,null,null,null,null,null,null,null,null,null,null,null,null,null,null,null,null,null,null,null,null,null,null,null,null,null,null,null,"",null,{"$f":"IF(BY150=\"\",\"\",\"AgencyEntityInsData Id 1117\")","v":""},{"$f":"IF(BY150=\"\",\"\",\"AgencyEntityInstance Id 148\")","v":""},{"$f":"IF(BY150=\"\",\"\",\"cm_d4791_flat_elong_five_to_one\")","v":""},{"$f":"IF(BY150=\"\",\"\",IF('Test 2'!AE49=0,\"\",'Test 2'!AE49))","v":""},{"$f":"IF(BY150=\"\",\"\",TODAY())","v":""},{"$f":"IF(BY150=\"\",\"\",\"WTSYSTEMUSER\")","v":""},{"$f":"IF(BY150=\"\",\"\",TODAY())","v":""},{"$f":"IF(BY150=\"\",\"\",\"WTSYSTEMUSER\")","v":""}]
[null,null,null,null,null,null,null,null,null,null,null,null,null,null,null,null,null,null,null,null,null,null,null,null,null,null,null,null,null,null,null,null,null,null,null,null,null,null,null,null,null,null,null,null,null,null,null,null,null,null,null,null,null,null,null,null,null,null,null,null,null,null,null,null,null,null,null,null,null,null,null,null,null,null,null,null,null,null,null,null,null,null,null,null,null,null,null,null,null,null,null,null,"",null,{"$f":"IF(BY151=\"\",\"\",\"AgencyEntityInsData Id 1122\")","v":""},{"$f":"IF(BY151=\"\",\"\",\"AgencyEntityInstance Id 149\")","v":""},{"$f":"IF(BY151=\"\",\"\",\"cm_d4791_flat_elong_type\")","v":""},{"$f":"IF(BY151=\"\",\"\",\"Particle Count\")","v":""},{"$f":"IF(BY151=\"\",\"\",TODAY())","v":""},{"$f":"IF(BY151=\"\",\"\",\"WTSYSTEMUSER\")","v":""},{"$f":"IF(BY151=\"\",\"\",TODAY())","v":""},{"$f":"IF(BY151=\"\",\"\",\"WTSYSTEMUSER\")","v":""}]
[null,null,null,null,null,null,null,null,null,null,null,null,null,null,null,null,null,null,null,null,null,null,null,null,null,null,null,null,null,null,null,null,null,null,null,null,null,null,null,null,null,null,null,null,null,null,null,null,null,null,null,null,null,null,null,null,null,null,null,null,null,null,null,null,null,null,null,null,null,null,null,null,null,null,null,null,null,null,null,null,null,null,null,null,null,null,null,null,null,null,null,null,"",null,{"$f":"IF(BY153=\"\",\"\",\"AgencyEntityInsData Id 1127\")","v":""},{"$f":"IF(BY153=\"\",\"\",\"AgencyEntityInstance Id 151\")","v":""},{"$f":"IF(BY153=\"\",\"\",\"cm_d4791_flat_elong_three_to_one\")","v":""},null,{"$f":"IF(BY153=\"\",\"\",TODAY())","v":""},{"$f":"IF(BY153=\"\",\"\",\"WTSYSTEMUSER\")","v":""},{"$f":"IF(BY153=\"\",\"\",TODAY())","v":""},{"$f":"IF(BY153=\"\",\"\",\"WTSYSTEMUSER\")","v":""}]
[null,null,null,null,null,null,null,null,null,null,null,null,null,null,null,null,null,null,null,null,null,null,null,null,null,null,null,null,null,null,null,null,null,null,null,null,null,null,null,null,null,null,null,null,null,null,null,null,null,null,null,null,null,null,null,null,null,null,null,null,null,null,null,null,null,null,null,null,null,null,null,null,null,null,null,null,null,null,null,null,null,null,null,null,null,null,null,null,null,null,null,null,"",null,{"$f":"IF(BY154=\"\",\"\",\"AgencyEntityInsData Id 1133\")","v":""},{"$f":"IF(BY154=\"\",\"\",\"AgencyEntityInstance Id 152\")","v":""},{"$f":"IF(BY154=\"\",\"\",\"CM_QARetainedCompar_10QA\")","v":""},{"$f":"IF(BY154=\"\",\"\",IF('Test 4'!AE21=\"\",\"\",'Test 4'!AE21))","v":""},{"$f":"IF(BY154=\"\",\"\",TODAY())","v":""},{"$f":"IF(BY154=\"\",\"\",\"WTSYSTEMUSER\")","v":""},{"$f":"IF(BY154=\"\",\"\",TODAY())","v":""},{"$f":"IF(BY154=\"\",\"\",\"WTSYSTEMUSER\")","v":""}]
[null,null,null,null,null,null,null,null,null,null,null,null,null,null,null,null,null,null,null,null,null,null,null,null,null,null,null,null,null,null,null,null,null,null,null,null,null,null,null,null,null,null,null,null,null,null,null,null,null,null,null,null,null,null,null,null,null,null,null,null,null,null,null,null,null,null,null,null,null,null,null,null,null,null,null,null,null,null,null,null,null,null,null,null,null,null,null,null,null,null,null,null,"",null,{"$f":"IF(BY154=\"\",\"\",\"AgencyEntityInsData Id 1139\")","v":""},{"$f":"IF(BY154=\"\",\"\",\"AgencyEntityInstance Id 152\")","v":""},{"$f":"IF(BY154=\"\",\"\",\"CM_QARetainedCompar_1and1HalfQA\")","v":""},{"$f":"IF(BY154=\"\",\"\",IF('Test 4'!AE14=\"\",\"\",'Test 4'!AE14))","v":""},{"$f":"IF(BY154=\"\",\"\",TODAY())","v":""},{"$f":"IF(BY154=\"\",\"\",\"WTSYSTEMUSER\")","v":""},{"$f":"IF(BY154=\"\",\"\",TODAY())","v":""},{"$f":"IF(BY154=\"\",\"\",\"WTSYSTEMUSER\")","v":""}]
[null,null,null,null,null,null,null,null,null,null,null,null,null,null,null,null,null,null,null,null,null,null,null,null,null,null,null,null,null,null,null,null,null,null,null,null,null,null,null,null,null,null,null,null,null,null,null,null,null,null,null,null,null,null,null,null,null,null,null,null,null,null,null,null,null,null,null,null,null,null,null,null,null,null,null,null,null,null,null,null,null,null,null,null,null,null,null,null,null,null,null,null,"",null,{"$f":"IF(BY154=\"\",\"\",\"AgencyEntityInsData Id 1143\")","v":""},{"$f":"IF(BY154=\"\",\"\",\"AgencyEntityInstance Id 152\")","v":""},{"$f":"IF(BY154=\"\",\"\",\"CM_QARetainedCompar_1halfQC\")","v":""},{"$f":"IF(BY154=\"\",\"\",IF('Test 4'!AF17=\"\",\"\",'Test 4'!AF17))","v":""},{"$f":"IF(BY154=\"\",\"\",TODAY())","v":""},{"$f":"IF(BY154=\"\",\"\",\"WTSYSTEMUSER\")","v":""},{"$f":"IF(BY154=\"\",\"\",TODAY())","v":""},{"$f":"IF(BY154=\"\",\"\",\"WTSYSTEMUSER\")","v":""}]
[null,null,null,null,null,null,null,null,null,null,null,null,null,null,null,null,null,null,null,null,null,null,null,null,null,null,null,null,null,null,null,null,null,null,null,null,null,null,null,null,null,null,null,null,null,null,null,null,null,null,null,null,null,null,null,null,null,null,null,null,null,null,null,null,null,null,null,null,null,null,null,null,null,null,null,null,null,null,null,null,null,null,null,null,null,null,null,null,null,null,null,null,"",null,{"$f":"IF(BY154=\"\",\"\",\"AgencyEntityInsData Id 1148\")","v":""},{"$f":"IF(BY154=\"\",\"\",\"AgencyEntityInstance Id 152\")","v":""},{"$f":"IF(BY154=\"\",\"\",\"CM_QARetainedCompar_200QA\")","v":""},{"$f":"IF(BY154=\"\",\"\",IF('Test 4'!AE28=\"\",\"\",'Test 4'!AE28))","v":""},{"$f":"IF(BY154=\"\",\"\",TODAY())","v":""},{"$f":"IF(BY154=\"\",\"\",\"WTSYSTEMUSER\")","v":""},{"$f":"IF(BY154=\"\",\"\",TODAY())","v":""},{"$f":"IF(BY154=\"\",\"\",\"WTSYSTEMUSER\")","v":""}]
[null,null,null,null,null,null,null,null,null,null,null,null,null,null,null,null,null,null,null,null,null,null,null,null,null,null,null,null,null,null,null,null,null,null,null,null,null,null,null,null,null,null,null,null,null,null,null,null,null,null,null,null,null,null,null,null,null,null,null,null,null,null,null,null,null,null,null,null,null,null,null,null,null,null,null,null,null,null,null,null,null,null,null,null,null,null,null,null,null,null,null,null,"",null,{"$f":"IF(BY154=\"\",\"\",\"AgencyEntityInsData Id 1153\")","v":""},{"$f":"IF(BY154=\"\",\"\",\"AgencyEntityInstance Id 152\")","v":""},{"$f":"IF(BY154=\"\",\"\",\"CM_QARetainedCompar_30Diff\")","v":""},{"$f":"IF(BY154=\"\",\"\",IF('Test 4'!L24=\"\",\"\",'Test 4'!L24))","v":""},{"$f":"IF(BY154=\"\",\"\",TODAY())","v":""},{"$f":"IF(BY154=\"\",\"\",\"WTSYSTEMUSER\")","v":""},{"$f":"IF(BY154=\"\",\"\",TODAY())","v":""},{"$f":"IF(BY154=\"\",\"\",\"WTSYSTEMUSER\")","v":""}]
[null,null,null,null,null,null,null,null,null,null,null,null,null,null,null,null,null,null,null,null,null,null,null,null,null,null,null,null,null,null,null,null,null,null,null,null,null,null,null,null,null,null,null,null,null,null,null,null,null,null,null,null,null,null,null,null,null,null,null,null,null,null,null,null,null,null,null,null,null,null,null,null,null,null,null,null,null,null,null,null,null,null,null,null,null,null,null,null,null,null,null,null,"",null,{"$f":"IF(BY154=\"\",\"\",\"AgencyEntityInsData Id 1159\")","v":""},{"$f":"IF(BY154=\"\",\"\",\"AgencyEntityInstance Id 152\")","v":""},{"$f":"IF(BY154=\"\",\"\",\"CM_QARetainedCompar_40Diff\")","v":""},{"$f":"IF(BY154=\"\",\"\",IF('Test 4'!L25=\"\",\"\",'Test 4'!L25))","v":""},{"$f":"IF(BY154=\"\",\"\",TODAY())","v":""},{"$f":"IF(BY154=\"\",\"\",\"WTSYSTEMUSER\")","v":""},{"$f":"IF(BY154=\"\",\"\",TODAY())","v":""},{"$f":"IF(BY154=\"\",\"\",\"WTSYSTEMUSER\")","v":""}]
[null,null,null,null,null,null,null,null,null,null,null,null,null,null,null,null,null,null,null,null,null,null,null,null,null,null,null,null,null,null,null,null,null,null,null,null,null,null,null,null,null,null,null,null,null,null,null,null,null,null,null,null,null,null,null,null,null,null,null,null,null,null,null,null,null,null,null,null,null,null,null,null,null,null,null,null,null,null,null,null,null,null,null,null,null,null,null,null,null,null,null,null,"",null,{"$f":"IF(BY154=\"\",\"\",\"AgencyEntityInsData Id 1164\")","v":""},{"$f":"IF(BY154=\"\",\"\",\"AgencyEntityInstance Id 152\")","v":""},{"$f":"IF(BY154=\"\",\"\",\"CM_QARetainedCompar_4QC\")","v":""},{"$f":"IF(BY154=\"\",\"\",IF('Test 4'!AF19=\"\",\"\",'Test 4'!AF19))","v":""},{"$f":"IF(BY154=\"\",\"\",TODAY())","v":""},{"$f":"IF(BY154=\"\",\"\",\"WTSYSTEMUSER\")","v":""},{"$f":"IF(BY154=\"\",\"\",TODAY())","v":""},{"$f":"IF(BY154=\"\",\"\",\"WTSYSTEMUSER\")","v":""}]
[null,null,null,null,null,null,null,null,null,null,null,null,null,null,null,null,null,null,null,null,null,null,null,null,null,null,null,null,null,null,null,null,null,null,null,null,null,null,null,null,null,null,null,null,null,null,null,null,null,null,null,null,null,null,null,null,null,null,null,null,null,null,null,null,null,null,null,null,null,null,null,null,null,null,null,null,null,null,null,null,null,null,null,null,null,null,null,null,null,null,null,null,"",null,{"$f":"IF(BY154=\"\",\"\",\"AgencyEntityInsData Id 1168\")","v":""},{"$f":"IF(BY154=\"\",\"\",\"AgencyEntityInstance Id 152\")","v":""},{"$f":"IF(BY154=\"\",\"\",\"CM_QARetainedCompar_8Diff\")","v":""},{"$f":"IF(BY154=\"\",\"\",IF('Test 4'!L20=\"\",\"\",'Test 4'!L20))","v":""},{"$f":"IF(BY154=\"\",\"\",TODAY())","v":""},{"$f":"IF(BY154=\"\",\"\",\"WTSYSTEMUSER\")","v":""},{"$f":"IF(BY154=\"\",\"\",TODAY())","v":""},{"$f":"IF(BY154=\"\",\"\",\"WTSYSTEMUSER\")","v":""}]
[null,null,null,null,null,null,null,null,null,null,null,null,null,null,null,null,null,null,null,null,null,null,null,null,null,null,null,null,null,null,null,null,null,null,null,null,null,null,null,null,null,null,null,null,null,null,null,null,null,null,null,null,null,null,null,null,null,null,null,null,null,null,null,null,null,null,null,null,null,null,null,null,null,null,null,null,null,null,null,null,null,null,null,null,null,null,null,null,null,null,null,null,"",null,{"$f":"IF(BY154=\"\",\"\",\"AgencyEntityInsData Id 1174\")","v":""},{"$f":"IF(BY154=\"\",\"\",\"AgencyEntityInstance Id 152\")","v":""},{"$f":"IF(BY154=\"\",\"\",\"CM_QARetainedCompar3quarterQC\")","v":""},{"$f":"IF(BY154=\"\",\"\",IF('Test 4'!AF16=\"\",\"\",'Test 4'!AF16))","v":""},{"$f":"IF(BY154=\"\",\"\",TODAY())","v":""},{"$f":"IF(BY154=\"\",\"\",\"WTSYSTEMUSER\")","v":""},{"$f":"IF(BY154=\"\",\"\",TODAY())","v":""},{"$f":"IF(BY154=\"\",\"\",\"WTSYSTEMUSER\")","v":""}]
[null,null,null,null,null,null,null,null,null,null,null,null,null,null,null,null,null,null,null,null,null,null,null,null,null,null,null,null,null,null,null,null,null,null,null,null,null,null,null,null,null,null,null,null,null,null,null,null,null,null,null,null,null,null,null,null,null,null,null,null,null,null,null,null,null,null,null,null,null,null,null,null,null,null,null,null,null,null,null,null,null,null,null,null,null,null,null,null,null,null,null,null,"",null,{"$f":"IF(BY154=\"\",\"\",\"AgencyEntityInsData Id 1179\")","v":""},{"$f":"IF(BY154=\"\",\"\",\"AgencyEntityInstance Id 152\")","v":""},{"$f":"IF(BY154=\"\",\"\",\"CM_QARetainedComparPH13\")","v":""},null,{"$f":"IF(BY154=\"\",\"\",TODAY())","v":""},{"$f":"IF(BY154=\"\",\"\",\"WTSYSTEMUSER\")","v":""},{"$f":"IF(BY154=\"\",\"\",TODAY())","v":""},{"$f":"IF(BY154=\"\",\"\",\"WTSYSTEMUSER\")","v":""}]
[null,null,null,null,null,null,null,null,null,null,null,null,null,null,null,null,null,null,null,null,null,null,null,null,null,null,null,null,null,null,null,null,null,null,null,null,null,null,null,null,null,null,null,null,null,null,null,null,null,null,null,null,null,null,null,null,null,null,null,null,null,null,null,null,null,null,null,null,null,null,null,null,null,null,null,null,null,null,null,null,null,null,null,null,null,null,null,null,null,null,null,null,"",null,{"$f":"IF(BY154=\"\",\"\",\"AgencyEntityInsData Id 1180\")","v":""},{"$f":"IF(BY154=\"\",\"\",\"AgencyEntityInstance Id 152\")","v":""},{"$f":"IF(BY154=\"\",\"\",\"CM_QARetainedComparPH14\")","v":""},null,{"$f":"IF(BY154=\"\",\"\",TODAY())","v":""},{"$f":"IF(BY154=\"\",\"\",\"WTSYSTEMUSER\")","v":""},{"$f":"IF(BY154=\"\",\"\",TODAY())","v":""},{"$f":"IF(BY154=\"\",\"\",\"WTSYSTEMUSER\")","v":""}]
[null,null,null,null,null,null,null,null,null,null,null,null,null,null,null,null,null,null,null,null,null,null,null,null,null,null,null,null,null,null,null,null,null,null,null,null,null,null,null,null,null,null,null,null,null,null,null,null,null,null,null,null,null,null,null,null,null,null,null,null,null,null,null,null,null,null,null,null,null,null,null,null,null,null,null,null,null,null,null,null,null,null,null,null,null,null,null,null,null,null,null,null,"",null,{"$f":"IF(BY154=\"\",\"\",\"AgencyEntityInsData Id 1185\")","v":""},{"$f":"IF(BY154=\"\",\"\",\"AgencyEntityInstance Id 152\")","v":""},{"$f":"IF(BY154=\"\",\"\",\"CM_QARetainedComparPH3\")","v":""},null,{"$f":"IF(BY154=\"\",\"\",TODAY())","v":""},{"$f":"IF(BY154=\"\",\"\",\"WTSYSTEMUSER\")","v":""},{"$f":"IF(BY154=\"\",\"\",TODAY())","v":""},{"$f":"IF(BY154=\"\",\"\",\"WTSYSTEMUSER\")","v":""}]
[null,null,null,null,null,null,null,null,null,null,null,null,null,null,null,null,null,null,null,null,null,null,null,null,null,null,null,null,null,null,null,null,null,null,null,null,null,null,null,null,null,null,null,null,null,null,null,null,null,null,null,null,null,null,null,null,null,null,null,null,null,null,null,null,null,null,null,null,null,null,null,null,null,null,null,null,null,null,null,null,null,null,null,null,null,null,null,null,null,null,null,null,"",null,{"$f":"IF(BY154=\"\",\"\",\"AgencyEntityInsData Id 1189\")","v":""},{"$f":"IF(BY154=\"\",\"\",\"AgencyEntityInstance Id 152\")","v":""},{"$f":"IF(BY154=\"\",\"\",\"CM_QARetainedComparPH7\")","v":""},null,{"$f":"IF(BY154=\"\",\"\",TODAY())","v":""},{"$f":"IF(BY154=\"\",\"\",\"WTSYSTEMUSER\")","v":""},{"$f":"IF(BY154=\"\",\"\",TODAY())","v":""},{"$f":"IF(BY154=\"\",\"\",\"WTSYSTEMUSER\")","v":""}]
[null,null,null,null,null,null,null,null,null,null,null,null,null,null,null,null,null,null,null,null,null,null,null,null,null,null,null,null,null,null,null,null,null,null,null,null,null,null,null,null,null,null,null,null,null,null,null,null,null,null,null,null,null,null,null,null,null,null,null,null,null,null,null,null,null,null,null,null,null,null,null,null,null,null,null,null,null,null,null,null,null,null,null,null,null,null,null,null,null,null,null,null,"",null,{"$f":"IF(BY155=\"\",\"\",\"AgencyEntityInsData Id 1195\")","v":""},{"$f":"IF(BY155=\"\",\"\",\"AgencyEntityInstance Id 153\")","v":""},{"$f":"IF(BY155=\"\",\"\",\"CM_QARetainedCompar_10Diff\")","v":""},{"$f":"IF(BY155=\"\",\"\",IF('Test 4'!V21=\"\",\"\",'Test 4'!V21))","v":""},{"$f":"IF(BY155=\"\",\"\",TODAY())","v":""},{"$f":"IF(BY155=\"\",\"\",\"WTSYSTEMUSER\")","v":""},{"$f":"IF(BY155=\"\",\"\",TODAY())","v":""},{"$f":"IF(BY155=\"\",\"\",\"WTSYSTEMUSER\")","v":""}]
[null,null,null,null,null,null,null,null,null,null,null,null,null,null,null,null,null,null,null,null,null,null,null,null,null,null,null,null,null,null,null,null,null,null,null,null,null,null,null,null,null,null,null,null,null,null,null,null,null,null,null,null,null,null,null,null,null,null,null,null,null,null,null,null,null,null,null,null,null,null,null,null,null,null,null,null,null,null,null,null,null,null,null,null,null,null,null,null,null,null,null,null,"",null,{"$f":"IF(BY155=\"\",\"\",\"AgencyEntityInsData Id 1200\")","v":""},{"$f":"IF(BY155=\"\",\"\",\"AgencyEntityInstance Id 153\")","v":""},{"$f":"IF(BY155=\"\",\"\",\"CM_QARetainedCompar_16QC\")","v":""},{"$f":"IF(BY155=\"\",\"\",IF('Test 4'!AH22=\"\",\"\",'Test 4'!AH22))","v":""},{"$f":"IF(BY155=\"\",\"\",TODAY())","v":""},{"$f":"IF(BY155=\"\",\"\",\"WTSYSTEMUSER\")","v":""},{"$f":"IF(BY155=\"\",\"\",TODAY())","v":""},{"$f":"IF(BY155=\"\",\"\",\"WTSYSTEMUSER\")","v":""}]
[null,null,null,null,null,null,null,null,null,null,null,null,null,null,null,null,null,null,null,null,null,null,null,null,null,null,null,null,null,null,null,null,null,null,null,null,null,null,null,null,null,null,null,null,null,null,null,null,null,null,null,null,null,null,null,null,null,null,null,null,null,null,null,null,null,null,null,null,null,null,null,null,null,null,null,null,null,null,null,null,null,null,null,null,null,null,null,null,null,null,null,null,"",null,{"$f":"IF(BY155=\"\",\"\",\"AgencyEntityInsData Id 1206\")","v":""},{"$f":"IF(BY155=\"\",\"\",\"AgencyEntityInstance Id 153\")","v":""},{"$f":"IF(BY155=\"\",\"\",\"CM_QARetainedCompar_1halfQC\")","v":""},{"$f":"IF(BY155=\"\",\"\",IF('Test 4'!AH17=\"\",\"\",'Test 4'!AH17))","v":""},{"$f":"IF(BY155=\"\",\"\",TODAY())","v":""},{"$f":"IF(BY155=\"\",\"\",\"WTSYSTEMUSER\")","v":""},{"$f":"IF(BY155=\"\",\"\",TODAY())","v":""},{"$f":"IF(BY155=\"\",\"\",\"WTSYSTEMUSER\")","v":""}]
[null,null,null,null,null,null,null,null,null,null,null,null,null,null,null,null,null,null,null,null,null,null,null,null,null,null,null,null,null,null,null,null,null,null,null,null,null,null,null,null,null,null,null,null,null,null,null,null,null,null,null,null,null,null,null,null,null,null,null,null,null,null,null,null,null,null,null,null,null,null,null,null,null,null,null,null,null,null,null,null,null,null,null,null,null,null,null,null,null,null,null,null,"",null,{"$f":"IF(BY155=\"\",\"\",\"AgencyEntityInsData Id 1210\")","v":""},{"$f":"IF(BY155=\"\",\"\",\"AgencyEntityInstance Id 153\")","v":""},{"$f":"IF(BY155=\"\",\"\",\"CM_QARetainedCompar_200Diff\")","v":""},{"$f":"IF(BY155=\"\",\"\",IF('Test 4'!V28=\"\",\"\",'Test 4'!V28))","v":""},{"$f":"IF(BY155=\"\",\"\",TODAY())","v":""},{"$f":"IF(BY155=\"\",\"\",\"WTSYSTEMUSER\")","v":""},{"$f":"IF(BY155=\"\",\"\",TODAY())","v":""},{"$f":"IF(BY155=\"\",\"\",\"WTSYSTEMUSER\")","v":""}]
[null,null,null,null,null,null,null,null,null,null,null,null,null,null,null,null,null,null,null,null,null,null,null,null,null,null,null,null,null,null,null,null,null,null,null,null,null,null,null,null,null,null,null,null,null,null,null,null,null,null,null,null,null,null,null,null,null,null,null,null,null,null,null,null,null,null,null,null,null,null,null,null,null,null,null,null,null,null,null,null,null,null,null,null,null,null,null,null,null,null,null,null,"",null,{"$f":"IF(BY155=\"\",\"\",\"AgencyEntityInsData Id 1215\")","v":""},{"$f":"IF(BY155=\"\",\"\",\"AgencyEntityInstance Id 153\")","v":""},{"$f":"IF(BY155=\"\",\"\",\"CM_QARetainedCompar_20QC\")","v":""},{"$f":"IF(BY155=\"\",\"\",IF('Test 4'!AH23=\"\",\"\",'Test 4'!AH23))","v":""},{"$f":"IF(BY155=\"\",\"\",TODAY())","v":""},{"$f":"IF(BY155=\"\",\"\",\"WTSYSTEMUSER\")","v":""},{"$f":"IF(BY155=\"\",\"\",TODAY())","v":""},{"$f":"IF(BY155=\"\",\"\",\"WTSYSTEMUSER\")","v":""}]
[null,null,null,null,null,null,null,null,null,null,null,null,null,null,null,null,null,null,null,null,null,null,null,null,null,null,null,null,null,null,null,null,null,null,null,null,null,null,null,null,null,null,null,null,null,null,null,null,null,null,null,null,null,null,null,null,null,null,null,null,null,null,null,null,null,null,null,null,null,null,null,null,null,null,null,null,null,null,null,null,null,null,null,null,null,null,null,null,null,null,null,null,"",null,{"$f":"IF(BY155=\"\",\"\",\"AgencyEntityInsData Id 1221\")","v":""},{"$f":"IF(BY155=\"\",\"\",\"AgencyEntityInstance Id 153\")","v":""},{"$f":"IF(BY155=\"\",\"\",\"CM_QARetainedCompar_3eightsQC\")","v":""},{"$f":"IF(BY155=\"\",\"\",IF('Test 4'!AH18=\"\",\"\",'Test 4'!AH18))","v":""},{"$f":"IF(BY155=\"\",\"\",TODAY())","v":""},{"$f":"IF(BY155=\"\",\"\",\"WTSYSTEMUSER\")","v":""},{"$f":"IF(BY155=\"\",\"\",TODAY())","v":""},{"$f":"IF(BY155=\"\",\"\",\"WTSYSTEMUSER\")","v":""}]
[null,null,null,null,null,null,null,null,null,null,null,null,null,null,null,null,null,null,null,null,null,null,null,null,null,null,null,null,null,null,null,null,null,null,null,null,null,null,null,null,null,null,null,null,null,null,null,null,null,null,null,null,null,null,null,null,null,null,null,null,null,null,null,null,null,null,null,null,null,null,null,null,null,null,null,null,null,null,null,null,null,null,null,null,null,null,null,null,null,null,null,null,"",null,{"$f":"IF(BY155=\"\",\"\",\"AgencyEntityInsData Id 1226\")","v":""},{"$f":"IF(BY155=\"\",\"\",\"AgencyEntityInstance Id 153\")","v":""},{"$f":"IF(BY155=\"\",\"\",\"CM_QARetainedCompar_4QA\")","v":""},{"$f":"IF(BY155=\"\",\"\",IF('Test 4'!AG19=\"\",\"\",'Test 4'!AG19))","v":""},{"$f":"IF(BY155=\"\",\"\",TODAY())","v":""},{"$f":"IF(BY155=\"\",\"\",\"WTSYSTEMUSER\")","v":""},{"$f":"IF(BY155=\"\",\"\",TODAY())","v":""},{"$f":"IF(BY155=\"\",\"\",\"WTSYSTEMUSER\")","v":""}]
[null,null,null,null,null,null,null,null,null,null,null,null,null,null,null,null,null,null,null,null,null,null,null,null,null,null,null,null,null,null,null,null,null,null,null,null,null,null,null,null,null,null,null,null,null,null,null,null,null,null,null,null,null,null,null,null,null,null,null,null,null,null,null,null,null,null,null,null,null,null,null,null,null,null,null,null,null,null,null,null,null,null,null,null,null,null,null,null,null,null,null,null,"",null,{"$f":"IF(BY155=\"\",\"\",\"AgencyEntityInsData Id 1231\")","v":""},{"$f":"IF(BY155=\"\",\"\",\"AgencyEntityInstance Id 153\")","v":""},{"$f":"IF(BY155=\"\",\"\",\"CM_QARetainedCompar_8Diff\")","v":""},{"$f":"IF(BY155=\"\",\"\",IF('Test 4'!V20=\"\",\"\",'Test 4'!V20))","v":""},{"$f":"IF(BY155=\"\",\"\",TODAY())","v":""},{"$f":"IF(BY155=\"\",\"\",\"WTSYSTEMUSER\")","v":""},{"$f":"IF(BY155=\"\",\"\",TODAY())","v":""},{"$f":"IF(BY155=\"\",\"\",\"WTSYSTEMUSER\")","v":""}]
[null,null,null,null,null,null,null,null,null,null,null,null,null,null,null,null,null,null,null,null,null,null,null,null,null,null,null,null,null,null,null,null,null,null,null,null,null,null,null,null,null,null,null,null,null,null,null,null,null,null,null,null,null,null,null,null,null,null,null,null,null,null,null,null,null,null,null,null,null,null,null,null,null,null,null,null,null,null,null,null,null,null,null,null,null,null,null,null,null,null,null,null,"",null,{"$f":"IF(BY155=\"\",\"\",\"AgencyEntityInsData Id 1235\")","v":""},{"$f":"IF(BY155=\"\",\"\",\"AgencyEntityInstance Id 153\")","v":""},{"$f":"IF(BY155=\"\",\"\",\"CM_QARetainedCompar3quarterDiff\")","v":""},{"$f":"IF(BY155=\"\",\"\",IF('Test 4'!V16=\"\",\"\",'Test 4'!V16))","v":""},{"$f":"IF(BY155=\"\",\"\",TODAY())","v":""},{"$f":"IF(BY155=\"\",\"\",\"WTSYSTEMUSER\")","v":""},{"$f":"IF(BY155=\"\",\"\",TODAY())","v":""},{"$f":"IF(BY155=\"\",\"\",\"WTSYSTEMUSER\")","v":""}]
[null,null,null,null,null,null,null,null,null,null,null,null,null,null,null,null,null,null,null,null,null,null,null,null,null,null,null,null,null,null,null,null,null,null,null,null,null,null,null,null,null,null,null,null,null,null,null,null,null,null,null,null,null,null,null,null,null,null,null,null,null,null,null,null,null,null,null,null,null,null,null,null,null,null,null,null,null,null,null,null,null,null,null,null,null,null,null,null,null,null,null,null,"",null,{"$f":"IF(BY155=\"\",\"\",\"AgencyEntityInsData Id 1241\")","v":""},{"$f":"IF(BY155=\"\",\"\",\"AgencyEntityInstance Id 153\")","v":""},{"$f":"IF(BY155=\"\",\"\",\"CM_QARetainedComparPH12\")","v":""},null,{"$f":"IF(BY155=\"\",\"\",TODAY())","v":""},{"$f":"IF(BY155=\"\",\"\",\"WTSYSTEMUSER\")","v":""},{"$f":"IF(BY155=\"\",\"\",TODAY())","v":""},{"$f":"IF(BY155=\"\",\"\",\"WTSYSTEMUSER\")","v":""}]
[null,null,null,null,null,null,null,null,null,null,null,null,null,null,null,null,null,null,null,null,null,null,null,null,null,null,null,null,null,null,null,null,null,null,null,null,null,null,null,null,null,null,null,null,null,null,null,null,null,null,null,null,null,null,null,null,null,null,null,null,null,null,null,null,null,null,null,null,null,null,null,null,null,null,null,null,null,null,null,null,null,null,null,null,null,null,null,null,null,null,null,null,"",null,{"$f":"IF(BY155=\"\",\"\",\"AgencyEntityInsData Id 1242\")","v":""},{"$f":"IF(BY155=\"\",\"\",\"AgencyEntityInstance Id 153\")","v":""},{"$f":"IF(BY155=\"\",\"\",\"CM_QARetainedComparPH13\")","v":""},null,{"$f":"IF(BY155=\"\",\"\",TODAY())","v":""},{"$f":"IF(BY155=\"\",\"\",\"WTSYSTEMUSER\")","v":""},{"$f":"IF(BY155=\"\",\"\",TODAY())","v":""},{"$f":"IF(BY155=\"\",\"\",\"WTSYSTEMUSER\")","v":""}]
[null,null,null,null,null,null,null,null,null,null,null,null,null,null,null,null,null,null,null,null,null,null,null,null,null,null,null,null,null,null,null,null,null,null,null,null,null,null,null,null,null,null,null,null,null,null,null,null,null,null,null,null,null,null,null,null,null,null,null,null,null,null,null,null,null,null,null,null,null,null,null,null,null,null,null,null,null,null,null,null,null,null,null,null,null,null,null,null,null,null,null,null,"",null,{"$f":"IF(BY155=\"\",\"\",\"AgencyEntityInsData Id 1247\")","v":""},{"$f":"IF(BY155=\"\",\"\",\"AgencyEntityInstance Id 153\")","v":""},{"$f":"IF(BY155=\"\",\"\",\"CM_QARetainedComparPH2\")","v":""},null,{"$f":"IF(BY155=\"\",\"\",TODAY())","v":""},{"$f":"IF(BY155=\"\",\"\",\"WTSYSTEMUSER\")","v":""},{"$f":"IF(BY155=\"\",\"\",TODAY())","v":""},{"$f":"IF(BY155=\"\",\"\",\"WTSYSTEMUSER\")","v":""}]
[null,null,null,null,null,null,null,null,null,null,null,null,null,null,null,null,null,null,null,null,null,null,null,null,null,null,null,null,null,null,null,null,null,null,null,null,null,null,null,null,null,null,null,null,null,null,null,null,null,null,null,null,null,null,null,null,null,null,null,null,null,null,null,null,null,null,null,null,null,null,null,null,null,null,null,null,null,null,null,null,null,null,null,null,null,null,null,null,null,null,null,null,"",null,{"$f":"IF(BY155=\"\",\"\",\"AgencyEntityInsData Id 1252\")","v":""},{"$f":"IF(BY155=\"\",\"\",\"AgencyEntityInstance Id 153\")","v":""},{"$f":"IF(BY155=\"\",\"\",\"CM_QARetainedComparPH7\")","v":""},null,{"$f":"IF(BY155=\"\",\"\",TODAY())","v":""},{"$f":"IF(BY155=\"\",\"\",\"WTSYSTEMUSER\")","v":""},{"$f":"IF(BY155=\"\",\"\",TODAY())","v":""},{"$f":"IF(BY155=\"\",\"\",\"WTSYSTEMUSER\")","v":""}]
[null,null,null,null,null,null,null,null,null,null,null,null,null,null,null,null,null,null,null,null,null,null,null,null,null,null,null,null,null,null,null,null,null,null,null,null,null,null,null,null,null,null,null,null,null,null,null,null,null,null,null,null,null,null,null,null,null,null,null,null,null,null,null,null,null,null,null,null,null,null,null,null,null,null,null,null,null,null,null,null,null,null,null,null,null,null,null,null,null,null,null,null,"",null,{"$f":"IF(BY156=\"\",\"\",\"AgencyEntityInsData Id 1260\")","v":""},{"$f":"IF(BY156=\"\",\"\",\"AgencyEntityInstance Id 154\")","v":""},{"$f":"IF(BY156=\"\",\"\",\"CM_QARetainedDel_ChertQA\")","v":""},{"$f":"IF(BY156=\"\",\"\",IF('Test 4'!AE35=\"\",\"\",'Test 4'!AE35))","v":""},{"$f":"IF(BY156=\"\",\"\",TODAY())","v":""},{"$f":"IF(BY156=\"\",\"\",\"WTSYSTEMUSER\")","v":""},{"$f":"IF(BY156=\"\",\"\",TODAY())","v":""},{"$f":"IF(BY156=\"\",\"\",\"WTSYSTEMUSER\")","v":""}]
[null,null,null,null,null,null,null,null,null,null,null,null,null,null,null,null,null,null,null,null,null,null,null,null,null,null,null,null,null,null,null,null,null,null,null,null,null,null,null,null,null,null,null,null,null,null,null,null,null,null,null,null,null,null,null,null,null,null,null,null,null,null,null,null,null,null,null,null,null,null,null,null,null,null,null,null,null,null,null,null,null,null,null,null,null,null,null,null,null,null,null,null,"",null,{"$f":"IF(BY156=\"\",\"\",\"AgencyEntityInsData Id 1262\")","v":""},{"$f":"IF(BY156=\"\",\"\",\"AgencyEntityInstance Id 154\")","v":""},{"$f":"IF(BY156=\"\",\"\",\"CM_QARetainedDel_ClaySHLab\")","v":""},null,{"$f":"IF(BY156=\"\",\"\",TODAY())","v":""},{"$f":"IF(BY156=\"\",\"\",\"WTSYSTEMUSER\")","v":""},{"$f":"IF(BY156=\"\",\"\",TODAY())","v":""},{"$f":"IF(BY156=\"\",\"\",\"WTSYSTEMUSER\")","v":""}]
[null,null,null,null,null,null,null,null,null,null,null,null,null,null,null,null,null,null,null,null,null,null,null,null,null,null,null,null,null,null,null,null,null,null,null,null,null,null,null,null,null,null,null,null,null,null,null,null,null,null,null,null,null,null,null,null,null,null,null,null,null,null,null,null,null,null,null,null,null,null,null,null,null,null,null,null,null,null,null,null,null,null,null,null,null,null,null,null,null,null,null,null,"",null,{"$f":"IF(BY156=\"\",\"\",\"AgencyEntityInsData Id 1267\")","v":""},{"$f":"IF(BY156=\"\",\"\",\"AgencyEntityInstance Id 154\")","v":""},{"$f":"IF(BY156=\"\",\"\",\"CM_QARetainedDel_CUDDiff\")","v":""},null,{"$f":"IF(BY156=\"\",\"\",TODAY())","v":""},{"$f":"IF(BY156=\"\",\"\",\"WTSYSTEMUSER\")","v":""},{"$f":"IF(BY156=\"\",\"\",TODAY())","v":""},{"$f":"IF(BY156=\"\",\"\",\"WTSYSTEMUSER\")","v":""}]
[null,null,null,null,null,null,null,null,null,null,null,null,null,null,null,null,null,null,null,null,null,null,null,null,null,null,null,null,null,null,null,null,null,null,null,null,null,null,null,null,null,null,null,null,null,null,null,null,null,null,null,null,null,null,null,null,null,null,null,null,null,null,null,null,null,null,null,null,null,null,null,null,null,null,null,null,null,null,null,null,null,null,null,null,null,null,null,null,null,null,null,null,"",null,{"$f":"IF(BY156=\"\",\"\",\"AgencyEntityInsData Id 1273\")","v":""},{"$f":"IF(BY156=\"\",\"\",\"AgencyEntityInstance Id 154\")","v":""},{"$f":"IF(BY156=\"\",\"\",\"CM_QARetainedDel_MbShDiff\")","v":""},null,{"$f":"IF(BY156=\"\",\"\",TODAY())","v":""},{"$f":"IF(BY156=\"\",\"\",\"WTSYSTEMUSER\")","v":""},{"$f":"IF(BY156=\"\",\"\",TODAY())","v":""},{"$f":"IF(BY156=\"\",\"\",\"WTSYSTEMUSER\")","v":""}]
[null,null,null,null,null,null,null,null,null,null,null,null,null,null,null,null,null,null,null,null,null,null,null,null,null,null,null,null,null,null,null,null,null,null,null,null,null,null,null,null,null,null,null,null,null,null,null,null,null,null,null,null,null,null,null,null,null,null,null,null,null,null,null,null,null,null,null,null,null,null,null,null,null,null,null,null,null,null,null,null,null,null,null,null,null,null,null,null,null,null,null,null,"",null,{"$f":"IF(BY156=\"\",\"\",\"AgencyEntityInsData Id 1278\")","v":""},{"$f":"IF(BY156=\"\",\"\",\"AgencyEntityInstance Id 154\")","v":""},{"$f":"IF(BY156=\"\",\"\",\"CM_QARetainedDel_OFMLab\")","v":""},{"$f":"IF(BY156=\"\",\"\",IF('Test 4'!AF36=\"\",\"\",'Test 4'!AF36))","v":""},{"$f":"IF(BY156=\"\",\"\",TODAY())","v":""},{"$f":"IF(BY156=\"\",\"\",\"WTSYSTEMUSER\")","v":""},{"$f":"IF(BY156=\"\",\"\",TODAY())","v":""},{"$f":"IF(BY156=\"\",\"\",\"WTSYSTEMUSER\")","v":""}]
[null,null,null,null,null,null,null,null,null,null,null,null,null,null,null,null,null,null,null,null,null,null,null,null,null,null,null,null,null,null,null,null,null,null,null,null,null,null,null,null,null,null,null,null,null,null,null,null,null,null,null,null,null,null,null,null,null,null,null,null,null,null,null,null,null,null,null,null,null,null,null,null,null,null,null,null,null,null,null,null,null,null,null,null,null,null,null,null,null,null,null,null,"",null,{"$f":"IF(BY156=\"\",\"\",\"AgencyEntityInsData Id 1281\")","v":""},{"$f":"IF(BY156=\"\",\"\",\"AgencyEntityInstance Id 154\")","v":""},{"$f":"IF(BY156=\"\",\"\",\"CM_QARetainedDel_PH2\")","v":""},null,{"$f":"IF(BY156=\"\",\"\",TODAY())","v":""},{"$f":"IF(BY156=\"\",\"\",\"WTSYSTEMUSER\")","v":""},{"$f":"IF(BY156=\"\",\"\",TODAY())","v":""},{"$f":"IF(BY156=\"\",\"\",\"WTSYSTEMUSER\")","v":""}]
[null,null,null,null,null,null,null,null,null,null,null,null,null,null,null,null,null,null,null,null,null,null,null,null,null,null,null,null,null,null,null,null,null,null,null,null,null,null,null,null,null,null,null,null,null,null,null,null,null,null,null,null,null,null,null,null,null,null,null,null,null,null,null,null,null,null,null,null,null,null,null,null,null,null,null,null,null,null,null,null,null,null,null,null,null,null,null,null,null,null,null,null,"",null,{"$f":"IF(BY156=\"\",\"\",\"AgencyEntityInsData Id 1288\")","v":""},{"$f":"IF(BY156=\"\",\"\",\"AgencyEntityInstance Id 154\")","v":""},{"$f":"IF(BY156=\"\",\"\",\"CM_QARetainedDel_TDelLab\")","v":""},{"$f":"IF(BY156=\"\",\"\",IF('Test 4'!I39=\"\",\"\",'Test 4'!I39))","v":""},{"$f":"IF(BY156=\"\",\"\",TODAY())","v":""},{"$f":"IF(BY156=\"\",\"\",\"WTSYSTEMUSER\")","v":""},{"$f":"IF(BY156=\"\",\"\",TODAY())","v":""},{"$f":"IF(BY156=\"\",\"\",\"WTSYSTEMUSER\")","v":""}]
[null,null,null,null,null,null,null,null,null,null,null,null,null,null,null,null,null,null,null,null,null,null,null,null,null,null,null,null,null,null,null,null,null,null,null,null,null,null,null,null,null,null,null,null,null,null,null,null,null,null,null,null,null,null,null,null,null,null,null,null,null,null,null,null,null,null,null,null,null,null,null,null,null,null,null,null,null,null,null,null,null,null,null,null,null,null,null,null,null,null,null,null,"",null,{"$f":"IF(BY156=\"\",\"\",\"AgencyEntityInsData Id 1293\")","v":""},{"$f":"IF(BY156=\"\",\"\",\"AgencyEntityInstance Id 154\")","v":""},{"$f":"IF(BY156=\"\",\"\",\"CM_QARetainedDel_Title_Label\")","v":""},null,{"$f":"IF(BY156=\"\",\"\",TODAY())","v":""},{"$f":"IF(BY156=\"\",\"\",\"WTSYSTEMUSER\")","v":""},{"$f":"IF(BY156=\"\",\"\",TODAY())","v":""},{"$f":"IF(BY156=\"\",\"\",\"WTSYSTEMUSER\")","v":""}]
[null,null,null,null,null,null,null,null,null,null,null,null,null,null,null,null,null,null,null,null,null,null,null,null,null,null,null,null,null,null,null,null,null,null,null,null,null,null,null,null,null,null,null,null,null,null,null,null,null,null,null,null,null,null,null,null,null,null,null,null,null,null,null,null,null,null,null,null,null,null,null,null,null,null,null,null,null,null,null,null,null,null,null,null,null,null,null,null,null,null,null,null,"",null,{"$f":"IF(BY157=\"\",\"\",\"AgencyEntityInsData Id 1299\")","v":""},{"$f":"IF(BY157=\"\",\"\",\"AgencyEntityInstance Id 155\")","v":""},{"$f":"IF(BY157=\"\",\"\",\"CM_QARetainedDel_200QA\")","v":""},{"$f":"IF(BY157=\"\",\"\",IF('Test 4'!AG37=\"\",\"\",'Test 4'!AG37))","v":""},{"$f":"IF(BY157=\"\",\"\",TODAY())","v":""},{"$f":"IF(BY157=\"\",\"\",\"WTSYSTEMUSER\")","v":""},{"$f":"IF(BY157=\"\",\"\",TODAY())","v":""},{"$f":"IF(BY157=\"\",\"\",\"WTSYSTEMUSER\")","v":""}]
[null,null,null,null,null,null,null,null,null,null,null,null,null,null,null,null,null,null,null,null,null,null,null,null,null,null,null,null,null,null,null,null,null,null,null,null,null,null,null,null,null,null,null,null,null,null,null,null,null,null,null,null,null,null,null,null,null,null,null,null,null,null,null,null,null,null,null,null,null,null,null,null,null,null,null,null,null,null,null,null,null,null,null,null,null,null,null,null,null,null,null,null,"",null,{"$f":"IF(BY157=\"\",\"\",\"AgencyEntityInsData Id 1304\")","v":""},{"$f":"IF(BY157=\"\",\"\",\"AgencyEntityInstance Id 155\")","v":""},{"$f":"IF(BY157=\"\",\"\",\"CM_QARetainedDel_ClaySHLab\")","v":""},null,{"$f":"IF(BY157=\"\",\"\",TODAY())","v":""},{"$f":"IF(BY157=\"\",\"\",\"WTSYSTEMUSER\")","v":""},{"$f":"IF(BY157=\"\",\"\",TODAY())","v":""},{"$f":"IF(BY157=\"\",\"\",\"WTSYSTEMUSER\")","v":""}]
[null,null,null,null,null,null,null,null,null,null,null,null,null,null,null,null,null,null,null,null,null,null,null,null,null,null,null,null,null,null,null,null,null,null,null,null,null,null,null,null,null,null,null,null,null,null,null,null,null,null,null,null,null,null,null,null,null,null,null,null,null,null,null,null,null,null,null,null,null,null,null,null,null,null,null,null,null,null,null,null,null,null,null,null,null,null,null,null,null,null,null,null,"",null,{"$f":"IF(BY157=\"\",\"\",\"AgencyEntityInsData Id 1306\")","v":""},{"$f":"IF(BY157=\"\",\"\",\"AgencyEntityInstance Id 155\")","v":""},{"$f":"IF(BY157=\"\",\"\",\"CM_QARetainedDel_CLDiff\")","v":""},null,{"$f":"IF(BY157=\"\",\"\",TODAY())","v":""},{"$f":"IF(BY157=\"\",\"\",\"WTSYSTEMUSER\")","v":""},{"$f":"IF(BY157=\"\",\"\",TODAY())","v":""},{"$f":"IF(BY157=\"\",\"\",\"WTSYSTEMUSER\")","v":""}]
[null,null,null,null,null,null,null,null,null,null,null,null,null,null,null,null,null,null,null,null,null,null,null,null,null,null,null,null,null,null,null,null,null,null,null,null,null,null,null,null,null,null,null,null,null,null,null,null,null,null,null,null,null,null,null,null,null,null,null,null,null,null,null,null,null,null,null,null,null,null,null,null,null,null,null,null,null,null,null,null,null,null,null,null,null,null,null,null,null,null,null,null,"",null,{"$f":"IF(BY157=\"\",\"\",\"AgencyEntityInsData Id 1309\")","v":""},{"$f":"IF(BY157=\"\",\"\",\"AgencyEntityInstance Id 155\")","v":""},{"$f":"IF(BY157=\"\",\"\",\"CM_QARetainedDel_CUDDiff\")","v":""},null,{"$f":"IF(BY157=\"\",\"\",TODAY())","v":""},{"$f":"IF(BY157=\"\",\"\",\"WTSYSTEMUSER\")","v":""},{"$f":"IF(BY157=\"\",\"\",TODAY())","v":""},{"$f":"IF(BY157=\"\",\"\",\"WTSYSTEMUSER\")","v":""}]
[null,null,null,null,null,null,null,null,null,null,null,null,null,null,null,null,null,null,null,null,null,null,null,null,null,null,null,null,null,null,null,null,null,null,null,null,null,null,null,null,null,null,null,null,null,null,null,null,null,null,null,null,null,null,null,null,null,null,null,null,null,null,null,null,null,null,null,null,null,null,null,null,null,null,null,null,null,null,null,null,null,null,null,null,null,null,null,null,null,null,null,null,"",null,{"$f":"IF(BY157=\"\",\"\",\"AgencyEntityInsData Id 1314\")","v":""},{"$f":"IF(BY157=\"\",\"\",\"AgencyEntityInstance Id 155\")","v":""},{"$f":"IF(BY157=\"\",\"\",\"CM_QARetainedDel_DelRockQA\")","v":""},{"$f":"IF(BY157=\"\",\"\",IF('Test 4'!AG33=\"\",\"\",'Test 4'!AG33))","v":""},{"$f":"IF(BY157=\"\",\"\",TODAY())","v":""},{"$f":"IF(BY157=\"\",\"\",\"WTSYSTEMUSER\")","v":""},{"$f":"IF(BY157=\"\",\"\",TODAY())","v":""},{"$f":"IF(BY157=\"\",\"\",\"WTSYSTEMUSER\")","v":""}]
[null,null,null,null,null,null,null,null,null,null,null,null,null,null,null,null,null,null,null,null,null,null,null,null,null,null,null,null,null,null,null,null,null,null,null,null,null,null,null,null,null,null,null,null,null,null,null,null,null,null,null,null,null,null,null,null,null,null,null,null,null,null,null,null,null,null,null,null,null,null,null,null,null,null,null,null,null,null,null,null,null,null,null,null,null,null,null,null,null,null,null,null,"",null,{"$f":"IF(BY157=\"\",\"\",\"AgencyEntityInsData Id 1320\")","v":""},{"$f":"IF(BY157=\"\",\"\",\"AgencyEntityInstance Id 155\")","v":""},{"$f":"IF(BY157=\"\",\"\",\"CM_QARetainedDel_OFMLab\")","v":""},{"$f":"IF(BY157=\"\",\"\",IF('Test 4'!AH36=\"\",\"\",'Test 4'!AH36))","v":""},{"$f":"IF(BY157=\"\",\"\",TODAY())","v":""},{"$f":"IF(BY157=\"\",\"\",\"WTSYSTEMUSER\")","v":""},{"$f":"IF(BY157=\"\",\"\",TODAY())","v":""},{"$f":"IF(BY157=\"\",\"\",\"WTSYSTEMUSER\")","v":""}]
[null,null,null,null,null,null,null,null,null,null,null,null,null,null,null,null,null,null,null,null,null,null,null,null,null,null,null,null,null,null,null,null,null,null,null,null,null,null,null,null,null,null,null,null,null,null,null,null,null,null,null,null,null,null,null,null,null,null,null,null,null,null,null,null,null,null,null,null,null,null,null,null,null,null,null,null,null,null,null,null,null,null,null,null,null,null,null,null,null,null,null,null,"",null,{"$f":"IF(BY157=\"\",\"\",\"AgencyEntityInsData Id 1325\")","v":""},{"$f":"IF(BY157=\"\",\"\",\"AgencyEntityInstance Id 155\")","v":""},{"$f":"IF(BY157=\"\",\"\",\"CM_QARetainedDel_PH4\")","v":""},null,{"$f":"IF(BY157=\"\",\"\",TODAY())","v":""},{"$f":"IF(BY157=\"\",\"\",\"WTSYSTEMUSER\")","v":""},{"$f":"IF(BY157=\"\",\"\",TODAY())","v":""},{"$f":"IF(BY157=\"\",\"\",\"WTSYSTEMUSER\")","v":""}]
[null,null,null,null,null,null,null,null,null,null,null,null,null,null,null,null,null,null,null,null,null,null,null,null,null,null,null,null,null,null,null,null,null,null,null,null,null,null,null,null,null,null,null,null,null,null,null,null,null,null,null,null,null,null,null,null,null,null,null,null,null,null,null,null,null,null,null,null,null,null,null,null,null,null,null,null,null,null,null,null,null,null,null,null,null,null,null,null,null,null,null,null,"",null,{"$f":"IF(BY157=\"\",\"\",\"AgencyEntityInsData Id 1331\")","v":""},{"$f":"IF(BY157=\"\",\"\",\"AgencyEntityInstance Id 155\")","v":""},{"$f":"IF(BY157=\"\",\"\",\"CM_QARetainedDel_TDelQA\")","v":""},{"$f":"IF(BY157=\"\",\"\",IF('Test 4'!O39=\"\",\"\",'Test 4'!O39))","v":""},{"$f":"IF(BY157=\"\",\"\",TODAY())","v":""},{"$f":"IF(BY157=\"\",\"\",\"WTSYSTEMUSER\")","v":""},{"$f":"IF(BY157=\"\",\"\",TODAY())","v":""},{"$f":"IF(BY157=\"\",\"\",\"WTSYSTEMUSER\")","v":""}]
[null,null,null,null,null,null,null,null,null,null,null,null,null,null,null,null,null,null,null,null,null,null,null,null,null,null,null,null,null,null,null,null,null,null,null,null,null,null,null,null,null,null,null,null,null,null,null,null,null,null,null,null,null,null,null,null,null,null,null,null,null,null,null,null,null,null,null,null,null,null,null,null,null,null,null,null,null,null,null,null,null,null,null,null,null,null,null,null,null,null,null,null,"",null,{"$f":"IF(BY157=\"\",\"\",\"AgencyEntityInsData Id 1335\")","v":""},{"$f":"IF(BY157=\"\",\"\",\"AgencyEntityInstance Id 155\")","v":""},{"$f":"IF(BY157=\"\",\"\",\"CM_QARetainedDel_Title_Label\")","v":""},null,{"$f":"IF(BY157=\"\",\"\",TODAY())","v":""},{"$f":"IF(BY157=\"\",\"\",\"WTSYSTEMUSER\")","v":""},{"$f":"IF(BY157=\"\",\"\",TODAY())","v":""},{"$f":"IF(BY157=\"\",\"\",\"WTSYSTEMUSER\")","v":""}]
[null,null,null,null,null,null,null,null,null,null,null,null,null,null,null,null,null,null,null,null,null,null,null,null,null,null,null,null,null,null,null,null,null,null,null,null,null,null,null,null,null,null,null,null,null,null,null,null,null,null,null,null,null,null,null,null,null,null,null,null,null,null,null,null,null,null,null,null,null,null,null,null,null,null,null,null,null,null,null,null,null,null,null,null,null,null,null,null,null,null,null,null,"",null,{"$f":"IF(BY158=\"\",\"\",\"AgencyEntityInsData Id 1340\")","v":""},{"$f":"IF(BY158=\"\",\"\",\"AgencyEntityInstance Id 156\")","v":""},{"$f":"IF(BY158=\"\",\"\",\"CM_QCQA_AbsComp_Abs_QC\")","v":""},{"$f":"IF(BY158=\"\",\"\",IF('Test 4'!I46=\"\",\"\",'Test 4'!I46))","v":""},{"$f":"IF(BY158=\"\",\"\",TODAY())","v":""},{"$f":"IF(BY158=\"\",\"\",\"WTSYSTEMUSER\")","v":""},{"$f":"IF(BY158=\"\",\"\",TODAY())","v":""},{"$f":"IF(BY158=\"\",\"\",\"WTSYSTEMUSER\")","v":""}]
[null,null,null,null,null,null,null,null,null,null,null,null,null,null,null,null,null,null,null,null,null,null,null,null,null,null,null,null,null,null,null,null,null,null,null,null,null,null,null,null,null,null,null,null,null,null,null,null,null,null,null,null,null,null,null,null,null,null,null,null,null,null,null,null,null,null,null,null,null,null,null,null,null,null,null,null,null,null,null,null,null,null,null,null,null,null,null,null,null,null,null,null,"",null,{"$f":"IF(BY158=\"\",\"\",\"AgencyEntityInsData Id 1346\")","v":""},{"$f":"IF(BY158=\"\",\"\",\"AgencyEntityInstance Id 156\")","v":""},{"$f":"IF(BY158=\"\",\"\",\"CM_QCQA_AbsComp_PH4\")","v":""},null,{"$f":"IF(BY158=\"\",\"\",TODAY())","v":""},{"$f":"IF(BY158=\"\",\"\",\"WTSYSTEMUSER\")","v":""},{"$f":"IF(BY158=\"\",\"\",TODAY())","v":""},{"$f":"IF(BY158=\"\",\"\",\"WTSYSTEMUSER\")","v":""}]
[null,null,null,null,null,null,null,null,null,null,null,null,null,null,null,null,null,null,null,null,null,null,null,null,null,null,null,null,null,null,null,null,null,null,null,null,null,null,null,null,null,null,null,null,null,null,null,null,null,null,null,null,null,null,null,null,null,null,null,null,null,null,null,null,null,null,null,null,null,null,null,null,null,null,null,null,null,null,null,null,null,null,null,null,null,null,null,null,null,null,null,null,"",null,{"$f":"IF(BY158=\"\",\"\",\"AgencyEntityInsData Id 1351\")","v":""},{"$f":"IF(BY158=\"\",\"\",\"AgencyEntityInstance Id 156\")","v":""},{"$f":"IF(BY158=\"\",\"\",\"CM_QCQA_AbsComp_WtDryQC\")","v":""},{"$f":"IF(BY158=\"\",\"\",IF('Test 4'!AF45=\"\",\"\",'Test 4'!AF45))","v":""},{"$f":"IF(BY158=\"\",\"\",TODAY())","v":""},{"$f":"IF(BY158=\"\",\"\",\"WTSYSTEMUSER\")","v":""},{"$f":"IF(BY158=\"\",\"\",TODAY())","v":""},{"$f":"IF(BY158=\"\",\"\",\"WTSYSTEMUSER\")","v":""}]
[null,null,null,null,null,null,null,null,null,null,null,null,null,null,null,null,null,null,null,null,null,null,null,null,null,null,null,null,null,null,null,null,null,null,null,null,null,null,null,null,null,null,null,null,null,null,null,null,null,null,null,null,null,null,null,null,null,null,null,null,null,null,null,null,null,null,null,null,null,null,null,null,null,null,null,null,null,null,null,null,null,null,null,null,null,null,null,null,null,null,null,null,"",null,{"$f":"IF(BY159=\"\",\"\",\"AgencyEntityInsData Id 1356\")","v":""},{"$f":"IF(BY159=\"\",\"\",\"AgencyEntityInstance Id 157\")","v":""},{"$f":"IF(BY159=\"\",\"\",\"CM_QCQA_AbsComp_Diff\")","v":""},{"$f":"IF(BY159=\"\",\"\",IF('Test 4'!V46=\"\",\"\",'Test 4'!V46))","v":""},{"$f":"IF(BY159=\"\",\"\",TODAY())","v":""},{"$f":"IF(BY159=\"\",\"\",\"WTSYSTEMUSER\")","v":""},{"$f":"IF(BY159=\"\",\"\",TODAY())","v":""},{"$f":"IF(BY159=\"\",\"\",\"WTSYSTEMUSER\")","v":""}]
[null,null,null,null,null,null,null,null,null,null,null,null,null,null,null,null,null,null,null,null,null,null,null,null,null,null,null,null,null,null,null,null,null,null,null,null,null,null,null,null,null,null,null,null,null,null,null,null,null,null,null,null,null,null,null,null,null,null,null,null,null,null,null,null,null,null,null,null,null,null,null,null,null,null,null,null,null,null,null,null,null,null,null,null,null,null,null,null,null,null,null,null,"",null,{"$f":"IF(BY159=\"\",\"\",\"AgencyEntityInsData Id 1361\")","v":""},{"$f":"IF(BY159=\"\",\"\",\"AgencyEntityInstance Id 157\")","v":""},{"$f":"IF(BY159=\"\",\"\",\"CM_QCQA_AbsComp_PH4\")","v":""},null,{"$f":"IF(BY159=\"\",\"\",TODAY())","v":""},{"$f":"IF(BY159=\"\",\"\",\"WTSYSTEMUSER\")","v":""},{"$f":"IF(BY159=\"\",\"\",TODAY())","v":""},{"$f":"IF(BY159=\"\",\"\",\"WTSYSTEMUSER\")","v":""}]
[null,null,null,null,null,null,null,null,null,null,null,null,null,null,null,null,null,null,null,null,null,null,null,null,null,null,null,null,null,null,null,null,null,null,null,null,null,null,null,null,null,null,null,null,null,null,null,null,null,null,null,null,null,null,null,null,null,null,null,null,null,null,null,null,null,null,null,null,null,null,null,null,null,null,null,null,null,null,null,null,null,null,null,null,null,null,null,null,null,null,null,null,"",null,{"$f":"IF(BY159=\"\",\"\",\"AgencyEntityInsData Id 1366\")","v":""},{"$f":"IF(BY159=\"\",\"\",\"AgencyEntityInstance Id 157\")","v":""},{"$f":"IF(BY159=\"\",\"\",\"CM_QCQA_AbsComp_WtDryQC\")","v":""},{"$f":"IF(BY159=\"\",\"\",IF('Test 4'!AH45=\"\",\"\",'Test 4'!AH45))","v":""},{"$f":"IF(BY159=\"\",\"\",TODAY())","v":""},{"$f":"IF(BY159=\"\",\"\",\"WTSYSTEMUSER\")","v":""},{"$f":"IF(BY159=\"\",\"\",TODAY())","v":""},{"$f":"IF(BY159=\"\",\"\",\"WTSYSTEMUSER\")","v":""}]
[null,null,null,null,null,null,null,null,null,null,null,null,null,null,null,null,null,null,null,null,null,null,null,null,null,null,null,null,null,null,null,null,null,null,null,null,null,null,null,null,null,null,null,null,null,null,null,null,null,null,null,null,null,null,null,null,null,null,null,null,null,null,null,null,null,null,null,null,null,null,null,null,null,null,null,null,null,null,null,null,null,null,null,null,null,null,null,null,null,null,null,null,"",null,{"$f":"IF(BY160=\"\",\"\",\"AgencyEntityInsData Id 1371\")","v":""},{"$f":"IF(BY160=\"\",\"\",\"AgencyEntityInstance Id 158\")","v":""},{"$f":"IF(BY160=\"\",\"\",\"CM_QCQABaseCompData1_QC\")","v":""},{"$f":"IF(BY160=\"\",\"\",IF('Test 4'!AF15=\"\",\"\",'Test 4'!AF15))","v":""},{"$f":"IF(BY160=\"\",\"\",TODAY())","v":""},{"$f":"IF(BY160=\"\",\"\",\"WTSYSTEMUSER\")","v":""},{"$f":"IF(BY160=\"\",\"\",TODAY())","v":""},{"$f":"IF(BY160=\"\",\"\",\"WTSYSTEMUSER\")","v":""}]
[null,null,null,null,null,null,null,null,null,null,null,null,null,null,null,null,null,null,null,null,null,null,null,null,null,null,null,null,null,null,null,null,null,null,null,null,null,null,null,null,null,null,null,null,null,null,null,null,null,null,null,null,null,null,null,null,null,null,null,null,null,null,null,null,null,null,null,null,null,null,null,null,null,null,null,null,null,null,null,null,null,null,null,null,null,null,null,null,null,null,null,null,"",null,{"$f":"IF(BY160=\"\",\"\",\"AgencyEntityInsData Id 1372\")","v":""},{"$f":"IF(BY160=\"\",\"\",\"AgencyEntityInstance Id 158\")","v":""},{"$f":"IF(BY160=\"\",\"\",\"CM_QCQABaseCompData1and1half_Diff\")","v":""},{"$f":"IF(BY160=\"\",\"\",IF('Test 4'!L14=\"\",\"\",'Test 4'!L14))","v":""},{"$f":"IF(BY160=\"\",\"\",TODAY())","v":""},{"$f":"IF(BY160=\"\",\"\",\"WTSYSTEMUSER\")","v":""},{"$f":"IF(BY160=\"\",\"\",TODAY())","v":""},{"$f":"IF(BY160=\"\",\"\",\"WTSYSTEMUSER\")","v":""}]
[null,null,null,null,null,null,null,null,null,null,null,null,null,null,null,null,null,null,null,null,null,null,null,null,null,null,null,null,null,null,null,null,null,null,null,null,null,null,null,null,null,null,null,null,null,null,null,null,null,null,null,null,null,null,null,null,null,null,null,null,null,null,null,null,null,null,null,null,null,null,null,null,null,null,null,null,null,null,null,null,null,null,null,null,null,null,null,null,null,null,null,null,"",null,{"$f":"IF(BY160=\"\",\"\",\"AgencyEntityInsData Id 1377\")","v":""},{"$f":"IF(BY160=\"\",\"\",\"AgencyEntityInstance Id 158\")","v":""},{"$f":"IF(BY160=\"\",\"\",\"CM_QCQABaseCompData1half_QC\")","v":""},{"$f":"IF(BY160=\"\",\"\",IF('Test 4'!AF17=\"\",\"\",'Test 4'!AF17))","v":""},{"$f":"IF(BY160=\"\",\"\",TODAY())","v":""},{"$f":"IF(BY160=\"\",\"\",\"WTSYSTEMUSER\")","v":""},{"$f":"IF(BY160=\"\",\"\",TODAY())","v":""},{"$f":"IF(BY160=\"\",\"\",\"WTSYSTEMUSER\")","v":""}]
[null,null,null,null,null,null,null,null,null,null,null,null,null,null,null,null,null,null,null,null,null,null,null,null,null,null,null,null,null,null,null,null,null,null,null,null,null,null,null,null,null,null,null,null,null,null,null,null,null,null,null,null,null,null,null,null,null,null,null,null,null,null,null,null,null,null,null,null,null,null,null,null,null,null,null,null,null,null,null,null,null,null,null,null,null,null,null,null,null,null,null,null,"",null,{"$f":"IF(BY160=\"\",\"\",\"AgencyEntityInsData Id 1382\")","v":""},{"$f":"IF(BY160=\"\",\"\",\"AgencyEntityInstance Id 158\")","v":""},{"$f":"IF(BY160=\"\",\"\",\"CM_QCQABaseCompDataNum100_QA\")","v":""},{"$f":"IF(BY160=\"\",\"\",IF('Test 4'!AE27=\"\",\"\",'Test 4'!AE27))","v":""},{"$f":"IF(BY160=\"\",\"\",TODAY())","v":""},{"$f":"IF(BY160=\"\",\"\",\"WTSYSTEMUSER\")","v":""},{"$f":"IF(BY160=\"\",\"\",TODAY())","v":""},{"$f":"IF(BY160=\"\",\"\",\"WTSYSTEMUSER\")","v":""}]
[null,null,null,null,null,null,null,null,null,null,null,null,null,null,null,null,null,null,null,null,null,null,null,null,null,null,null,null,null,null,null,null,null,null,null,null,null,null,null,null,null,null,null,null,null,null,null,null,null,null,null,null,null,null,null,null,null,null,null,null,null,null,null,null,null,null,null,null,null,null,null,null,null,null,null,null,null,null,null,null,null,null,null,null,null,null,null,null,null,null,null,null,"",null,{"$f":"IF(BY160=\"\",\"\",\"AgencyEntityInsData Id 1387\")","v":""},{"$f":"IF(BY160=\"\",\"\",\"AgencyEntityInstance Id 158\")","v":""},{"$f":"IF(BY160=\"\",\"\",\"CM_QCQABaseCompDataNum200_Diff\")","v":""},{"$f":"IF(BY160=\"\",\"\",IF('Test 4'!L28=\"\",\"\",'Test 4'!L28))","v":""},{"$f":"IF(BY160=\"\",\"\",TODAY())","v":""},{"$f":"IF(BY160=\"\",\"\",\"WTSYSTEMUSER\")","v":""},{"$f":"IF(BY160=\"\",\"\",TODAY())","v":""},{"$f":"IF(BY160=\"\",\"\",\"WTSYSTEMUSER\")","v":""}]
[null,null,null,null,null,null,null,null,null,null,null,null,null,null,null,null,null,null,null,null,null,null,null,null,null,null,null,null,null,null,null,null,null,null,null,null,null,null,null,null,null,null,null,null,null,null,null,null,null,null,null,null,null,null,null,null,null,null,null,null,null,null,null,null,null,null,null,null,null,null,null,null,null,null,null,null,null,null,null,null,null,null,null,null,null,null,null,null,null,null,null,null,"",null,{"$f":"IF(BY160=\"\",\"\",\"AgencyEntityInsData Id 1392\")","v":""},{"$f":"IF(BY160=\"\",\"\",\"AgencyEntityInstance Id 158\")","v":""},{"$f":"IF(BY160=\"\",\"\",\"CM_QCQABaseCompDataNum30_QC\")","v":""},{"$f":"IF(BY160=\"\",\"\",IF('Test 4'!AF24=\"\",\"\",'Test 4'!AF24))","v":""},{"$f":"IF(BY160=\"\",\"\",TODAY())","v":""},{"$f":"IF(BY160=\"\",\"\",\"WTSYSTEMUSER\")","v":""},{"$f":"IF(BY160=\"\",\"\",TODAY())","v":""},{"$f":"IF(BY160=\"\",\"\",\"WTSYSTEMUSER\")","v":""}]
[null,null,null,null,null,null,null,null,null,null,null,null,null,null,null,null,null,null,null,null,null,null,null,null,null,null,null,null,null,null,null,null,null,null,null,null,null,null,null,null,null,null,null,null,null,null,null,null,null,null,null,null,null,null,null,null,null,null,null,null,null,null,null,null,null,null,null,null,null,null,null,null,null,null,null,null,null,null,null,null,null,null,null,null,null,null,null,null,null,null,null,null,"",null,{"$f":"IF(BY160=\"\",\"\",\"AgencyEntityInsData Id 1398\")","v":""},{"$f":"IF(BY160=\"\",\"\",\"AgencyEntityInstance Id 158\")","v":""},{"$f":"IF(BY160=\"\",\"\",\"CM_QCQABaseCompDataNum4_QC\")","v":""},{"$f":"IF(BY160=\"\",\"\",IF('Test 4'!AF19=\"\",\"\",'Test 4'!AF19))","v":""},{"$f":"IF(BY160=\"\",\"\",TODAY())","v":""},{"$f":"IF(BY160=\"\",\"\",\"WTSYSTEMUSER\")","v":""},{"$f":"IF(BY160=\"\",\"\",TODAY())","v":""},{"$f":"IF(BY160=\"\",\"\",\"WTSYSTEMUSER\")","v":""}]
[null,null,null,null,null,null,null,null,null,null,null,null,null,null,null,null,null,null,null,null,null,null,null,null,null,null,null,null,null,null,null,null,null,null,null,null,null,null,null,null,null,null,null,null,null,null,null,null,null,null,null,null,null,null,null,null,null,null,null,null,null,null,null,null,null,null,null,null,null,null,null,null,null,null,null,null,null,null,null,null,null,null,null,null,null,null,null,null,null,null,null,null,"",null,{"$f":"IF(BY160=\"\",\"\",\"AgencyEntityInsData Id 1402\")","v":""},{"$f":"IF(BY160=\"\",\"\",\"AgencyEntityInstance Id 158\")","v":""},{"$f":"IF(BY160=\"\",\"\",\"CM_QCQABaseCompData_1Placeholder\")","v":""},null,{"$f":"IF(BY160=\"\",\"\",TODAY())","v":""},{"$f":"IF(BY160=\"\",\"\",\"WTSYSTEMUSER\")","v":""},{"$f":"IF(BY160=\"\",\"\",TODAY())","v":""},{"$f":"IF(BY160=\"\",\"\",\"WTSYSTEMUSER\")","v":""}]
[null,null,null,null,null,null,null,null,null,null,null,null,null,null,null,null,null,null,null,null,null,null,null,null,null,null,null,null,null,null,null,null,null,null,null,null,null,null,null,null,null,null,null,null,null,null,null,null,null,null,null,null,null,null,null,null,null,null,null,null,null,null,null,null,null,null,null,null,null,null,null,null,null,null,null,null,null,null,null,null,null,null,null,null,null,null,null,null,null,null,null,null,"",null,{"$f":"IF(BY160=\"\",\"\",\"AgencyEntityInsData Id 1408\")","v":""},{"$f":"IF(BY160=\"\",\"\",\"AgencyEntityInstance Id 158\")","v":""},{"$f":"IF(BY160=\"\",\"\",\"CM_QCQABaseCompData_7Placeholder\")","v":""},null,{"$f":"IF(BY160=\"\",\"\",TODAY())","v":""},{"$f":"IF(BY160=\"\",\"\",\"WTSYSTEMUSER\")","v":""},{"$f":"IF(BY160=\"\",\"\",TODAY())","v":""},{"$f":"IF(BY160=\"\",\"\",\"WTSYSTEMUSER\")","v":""}]
[null,null,null,null,null,null,null,null,null,null,null,null,null,null,null,null,null,null,null,null,null,null,null,null,null,null,null,null,null,null,null,null,null,null,null,null,null,null,null,null,null,null,null,null,null,null,null,null,null,null,null,null,null,null,null,null,null,null,null,null,null,null,null,null,null,null,null,null,null,null,null,null,null,null,null,null,null,null,null,null,null,null,null,null,null,null,null,null,null,null,null,null,"",null,{"$f":"IF(BY160=\"\",\"\",\"AgencyEntityInsData Id 1413\")","v":""},{"$f":"IF(BY160=\"\",\"\",\"AgencyEntityInstance Id 158\")","v":""},{"$f":"IF(BY160=\"\",\"\",\"CM_QCQABaseCompData_DensityDiff\")","v":""},{"$f":"IF(BY160=\"\",\"\",IF('Test 4'!L63=\"\",\"\",'Test 4'!L63))","v":""},{"$f":"IF(BY160=\"\",\"\",TODAY())","v":""},{"$f":"IF(BY160=\"\",\"\",\"WTSYSTEMUSER\")","v":""},{"$f":"IF(BY160=\"\",\"\",TODAY())","v":""},{"$f":"IF(BY160=\"\",\"\",\"WTSYSTEMUSER\")","v":""}]
[null,null,null,null,null,null,null,null,null,null,null,null,null,null,null,null,null,null,null,null,null,null,null,null,null,null,null,null,null,null,null,null,null,null,null,null,null,null,null,null,null,null,null,null,null,null,null,null,null,null,null,null,null,null,null,null,null,null,null,null,null,null,null,null,null,null,null,null,null,null,null,null,null,null,null,null,null,null,null,null,null,null,null,null,null,null,null,null,null,null,null,null,"",null,{"$f":"IF(BY160=\"\",\"\",\"AgencyEntityInsData Id 1418\")","v":""},{"$f":"IF(BY160=\"\",\"\",\"AgencyEntityInstance Id 158\")","v":""},{"$f":"IF(BY160=\"\",\"\",\"CM_QCQABaseCompData_PI_Diff\")","v":""},{"$f":"IF(BY160=\"\",\"\",IF('Test 4'!K57=\"\",\"\",'Test 4'!K57))","v":""},{"$f":"IF(BY160=\"\",\"\",TODAY())","v":""},{"$f":"IF(BY160=\"\",\"\",\"WTSYSTEMUSER\")","v":""},{"$f":"IF(BY160=\"\",\"\",TODAY())","v":""},{"$f":"IF(BY160=\"\",\"\",\"WTSYSTEMUSER\")","v":""}]
[null,null,null,null,null,null,null,null,null,null,null,null,null,null,null,null,null,null,null,null,null,null,null,null,null,null,null,null,null,null,null,null,null,null,null,null,null,null,null,null,null,null,null,null,null,null,null,null,null,null,null,null,null,null,null,null,null,null,null,null,null,null,null,null,null,null,null,null,null,null,null,null,null,null,null,null,null,null,null,null,null,null,null,null,null,null,null,null,null,null,null,null,"",null,{"$f":"IF(BY160=\"\",\"\",\"AgencyEntityInsData Id 1424\")","v":""},{"$f":"IF(BY160=\"\",\"\",\"AgencyEntityInstance Id 158\")","v":""},{"$f":"IF(BY160=\"\",\"\",\"CM_QCQABaseCompData_Subtitle_SieveAnalysis\")","v":""},null,{"$f":"IF(BY160=\"\",\"\",TODAY())","v":""},{"$f":"IF(BY160=\"\",\"\",\"WTSYSTEMUSER\")","v":""},{"$f":"IF(BY160=\"\",\"\",TODAY())","v":""},{"$f":"IF(BY160=\"\",\"\",\"WTSYSTEMUSER\")","v":""}]
[null,null,null,null,null,null,null,null,null,null,null,null,null,null,null,null,null,null,null,null,null,null,null,null,null,null,null,null,null,null,null,null,null,null,null,null,null,null,null,null,null,null,null,null,null,null,null,null,null,null,null,null,null,null,null,null,null,null,null,null,null,null,null,null,null,null,null,null,null,null,null,null,null,null,null,null,null,null,null,null,null,null,null,null,null,null,null,null,null,null,null,null,"",null,{"$f":"IF(BY160=\"\",\"\",\"AgencyEntityInsData Id 1427\")","v":""},{"$f":"IF(BY160=\"\",\"\",\"AgencyEntityInstance Id 158\")","v":""},{"$f":"IF(BY160=\"\",\"\",\"CM_QCQABaseCompData_Tolerance10\")","v":""},null,{"$f":"IF(BY160=\"\",\"\",TODAY())","v":""},{"$f":"IF(BY160=\"\",\"\",\"WTSYSTEMUSER\")","v":""},{"$f":"IF(BY160=\"\",\"\",TODAY())","v":""},{"$f":"IF(BY160=\"\",\"\",\"WTSYSTEMUSER\")","v":""}]
[null,null,null,null,null,null,null,null,null,null,null,null,null,null,null,null,null,null,null,null,null,null,null,null,null,null,null,null,null,null,null,null,null,null,null,null,null,null,null,null,null,null,null,null,null,null,null,null,null,null,null,null,null,null,null,null,null,null,null,null,null,null,null,null,null,null,null,null,null,null,null,null,null,null,null,null,null,null,null,null,null,null,null,null,null,null,null,null,null,null,null,null,"",null,{"$f":"IF(BY160=\"\",\"\",\"AgencyEntityInsData Id 1433\")","v":""},{"$f":"IF(BY160=\"\",\"\",\"AgencyEntityInstance Id 158\")","v":""},{"$f":"IF(BY160=\"\",\"\",\"CM_QCQABaseCompData_Tolerance3\")","v":""},null,{"$f":"IF(BY160=\"\",\"\",TODAY())","v":""},{"$f":"IF(BY160=\"\",\"\",\"WTSYSTEMUSER\")","v":""},{"$f":"IF(BY160=\"\",\"\",TODAY())","v":""},{"$f":"IF(BY160=\"\",\"\",\"WTSYSTEMUSER\")","v":""}]
[null,null,null,null,null,null,null,null,null,null,null,null,null,null,null,null,null,null,null,null,null,null,null,null,null,null,null,null,null,null,null,null,null,null,null,null,null,null,null,null,null,null,null,null,null,null,null,null,null,null,null,null,null,null,null,null,null,null,null,null,null,null,null,null,null,null,null,null,null,null,null,null,null,null,null,null,null,null,null,null,null,null,null,null,null,null,null,null,null,null,null,null,"",null,{"$f":"IF(BY160=\"\",\"\",\"AgencyEntityInsData Id 1434\")","v":""},{"$f":"IF(BY160=\"\",\"\",\"AgencyEntityInstance Id 158\")","v":""},{"$f":"IF(BY160=\"\",\"\",\"CM_QCQABaseCompData_Tolerance4\")","v":""},null,{"$f":"IF(BY160=\"\",\"\",TODAY())","v":""},{"$f":"IF(BY160=\"\",\"\",\"WTSYSTEMUSER\")","v":""},{"$f":"IF(BY160=\"\",\"\",TODAY())","v":""},{"$f":"IF(BY160=\"\",\"\",\"WTSYSTEMUSER\")","v":""}]
[null,null,null,null,null,null,null,null,null,null,null,null,null,null,null,null,null,null,null,null,null,null,null,null,null,null,null,null,null,null,null,null,null,null,null,null,null,null,null,null,null,null,null,null,null,null,null,null,null,null,null,null,null,null,null,null,null,null,null,null,null,null,null,null,null,null,null,null,null,null,null,null,null,null,null,null,null,null,null,null,null,null,null,null,null,null,null,null,null,null,null,null,"",null,{"$f":"IF(BY160=\"\",\"\",\"AgencyEntityInsData Id 1439\")","v":""},{"$f":"IF(BY160=\"\",\"\",\"AgencyEntityInstance Id 158\")","v":""},{"$f":"IF(BY160=\"\",\"\",\"CM_QCQABaseCompData_Tolerance9\")","v":""},null,{"$f":"IF(BY160=\"\",\"\",TODAY())","v":""},{"$f":"IF(BY160=\"\",\"\",\"WTSYSTEMUSER\")","v":""},{"$f":"IF(BY160=\"\",\"\",TODAY())","v":""},{"$f":"IF(BY160=\"\",\"\",\"WTSYSTEMUSER\")","v":""}]
[null,null,null,null,null,null,null,null,null,null,null,null,null,null,null,null,null,null,null,null,null,null,null,null,null,null,null,null,null,null,null,null,null,null,null,null,null,null,null,null,null,null,null,null,null,null,null,null,null,null,null,null,null,null,null,null,null,null,null,null,null,null,null,null,null,null,null,null,null,null,null,null,null,null,null,null,null,null,null,null,null,null,null,null,null,null,null,null,null,null,null,null,"",null,{"$f":"IF(BY161=\"\",\"\",\"AgencyEntityInsData Id 1445\")","v":""},{"$f":"IF(BY161=\"\",\"\",\"AgencyEntityInstance Id 159\")","v":""},{"$f":"IF(BY161=\"\",\"\",\"CM_QCQABaseCompData1and1half_QC\")","v":""},{"$f":"IF(BY161=\"\",\"\",IF('Test 4'!AH14=\"\",\"\",'Test 4'!AH14))","v":""},{"$f":"IF(BY161=\"\",\"\",TODAY())","v":""},{"$f":"IF(BY161=\"\",\"\",\"WTSYSTEMUSER\")","v":""},{"$f":"IF(BY161=\"\",\"\",TODAY())","v":""},{"$f":"IF(BY161=\"\",\"\",\"WTSYSTEMUSER\")","v":""}]
[null,null,null,null,null,null,null,null,null,null,null,null,null,null,null,null,null,null,null,null,null,null,null,null,null,null,null,null,null,null,null,null,null,null,null,null,null,null,null,null,null,null,null,null,null,null,null,null,null,null,null,null,null,null,null,null,null,null,null,null,null,null,null,null,null,null,null,null,null,null,null,null,null,null,null,null,null,null,null,null,null,null,null,null,null,null,null,null,null,null,null,null,{"$f":"IF(CT1451=\"\",\"\",SUBSTITUTE(SUBSTITUTE(SUBSTITUTE(SUBSTITUTE(SUBSTITUTE(CT1451,\"&\",\"&amp;\"),\">\",\"&gt;\"),\"<\",\"&lt;\"),\"'\",\"&39;\"),\"\"\"\",\"&quot;\"))","v":""},null,{"$f":"IF(BY161=\"\",\"\",\"AgencyEntityInsData Id 1449\")","v":""},{"$f":"IF(BY161=\"\",\"\",\"AgencyEntityInstance Id 159\")","v":""},{"$f":"IF(BY161=\"\",\"\",\"CM_QCQABaseCompData3Quarters_Diff\")","v":""},{"$f":"IF(BY161=\"\",\"\",IF('Test 4'!V16=\"\",\"\",'Test 4'!V16))","v":""},{"$f":"IF(BY161=\"\",\"\",TODAY())","v":""},{"$f":"IF(BY161=\"\",\"\",\"WTSYSTEMUSER\")","v":""},{"$f":"IF(BY161=\"\",\"\",TODAY())","v":""},{"$f":"IF(BY161=\"\",\"\",\"WTSYSTEMUSER\")","v":""}]
[null,null,null,null,null,null,null,null,null,null,null,null,null,null,null,null,null,null,null,null,null,null,null,null,null,null,null,null,null,null,null,null,null,null,null,null,null,null,null,null,null,null,null,null,null,null,null,null,null,null,null,null,null,null,null,null,null,null,null,null,null,null,null,null,null,null,null,null,null,null,null,null,null,null,null,null,null,null,null,null,null,null,null,null,null,null,null,null,null,null,null,null,"",null,{"$f":"IF(BY161=\"\",\"\",\"AgencyEntityInsData Id 1450\")","v":""},{"$f":"IF(BY161=\"\",\"\",\"AgencyEntityInstance Id 159\")","v":""},{"$f":"IF(BY161=\"\",\"\",\"CM_QCQABaseCompData3Quarters_QA\")","v":""},{"$f":"IF(BY161=\"\",\"\",IF('Test 4'!AG16=\"\",\"\",'Test 4'!AG16))","v":""},{"$f":"IF(BY161=\"\",\"\",TODAY())","v":""},{"$f":"IF(BY161=\"\",\"\",\"WTSYSTEMUSER\")","v":""},{"$f":"IF(BY161=\"\",\"\",TODAY())","v":""},{"$f":"IF(BY161=\"\",\"\",\"WTSYSTEMUSER\")","v":""}]
[null,null,null,null,null,null,null,null,null,null,null,null,null,null,null,null,null,null,null,null,null,null,null,null,null,null,null,null,null,null,null,null,null,null,null,null,null,null,null,null,null,null,null,null,null,null,null,null,null,null,null,null,null,null,null,null,null,null,null,null,null,null,null,null,null,null,null,null,null,null,null,null,null,null,null,null,null,null,null,null,null,null,null,null,null,null,null,null,null,null,null,null,"",null,{"$f":"IF(BY161=\"\",\"\",\"AgencyEntityInsData Id 1451\")","v":""},{"$f":"IF(BY161=\"\",\"\",\"AgencyEntityInstance Id 159\")","v":""},{"$f":"IF(BY161=\"\",\"\",\"CM_QCQABaseCompData3Quarters_QC\")","v":""},{"$f":"IF(BY161=\"\",\"\",IF('Test 4'!AH16=\"\",\"\",'Test 4'!AH16))","v":""},{"$f":"IF(BY161=\"\",\"\",TODAY())","v":""},{"$f":"IF(BY161=\"\",\"\",\"WTSYSTEMUSER\")","v":""},{"$f":"IF(BY161=\"\",\"\",TODAY())","v":""},{"$f":"IF(BY161=\"\",\"\",\"WTSYSTEMUSER\")","v":""}]
[null,null,null,null,null,null,null,null,null,null,null,null,null,null,null,null,null,null,null,null,null,null,null,null,null,null,null,null,null,null,null,null,null,null,null,null,null,null,null,null,null,null,null,null,null,null,null,null,null,null,null,null,null,null,null,null,null,null,null,null,null,null,null,null,null,null,null,null,null,null,null,null,null,null,null,null,null,null,null,null,null,null,null,null,null,null,null,null,null,null,null,null,"",null,{"$f":"IF(BY161=\"\",\"\",\"AgencyEntityInsData Id 1452\")","v":""},{"$f":"IF(BY161=\"\",\"\",\"AgencyEntityInstance Id 159\")","v":""},{"$f":"IF(BY161=\"\",\"\",\"CM_QCQABaseCompDataNum100_Diff\")","v":""},{"$f":"IF(BY161=\"\",\"\",IF('Test 4'!V27=\"\",\"\",'Test 4'!V27))","v":""},{"$f":"IF(BY161=\"\",\"\",TODAY())","v":""},{"$f":"IF(BY161=\"\",\"\",\"WTSYSTEMUSER\")","v":""},{"$f":"IF(BY161=\"\",\"\",TODAY())","v":""},{"$f":"IF(BY161=\"\",\"\",\"WTSYSTEMUSER\")","v":""}]
[null,null,null,null,null,null,null,null,null,null,null,null,null,null,null,null,null,null,null,null,null,null,null,null,null,null,null,null,null,null,null,null,null,null,null,null,null,null,null,null,null,null,null,null,null,null,null,null,null,null,null,null,null,null,null,null,null,null,null,null,null,null,null,null,null,null,null,null,null,null,null,null,null,null,null,null,null,null,null,null,null,null,null,null,null,null,null,null,null,null,null,null,"",null,{"$f":"IF(BY161=\"\",\"\",\"AgencyEntityInsData Id 1453\")","v":""},{"$f":"IF(BY161=\"\",\"\",\"AgencyEntityInstance Id 159\")","v":""},{"$f":"IF(BY161=\"\",\"\",\"CM_QCQABaseCompDataNum100_QA\")","v":""},{"$f":"IF(BY161=\"\",\"\",IF('Test 4'!AG27=\"\",\"\",'Test 4'!AG27))","v":""},{"$f":"IF(BY161=\"\",\"\",TODAY())","v":""},{"$f":"IF(BY161=\"\",\"\",\"WTSYSTEMUSER\")","v":""},{"$f":"IF(BY161=\"\",\"\",TODAY())","v":""},{"$f":"IF(BY161=\"\",\"\",\"WTSYSTEMUSER\")","v":""}]
[null,null,null,null,null,null,null,null,null,null,null,null,null,null,null,null,null,null,null,null,null,null,null,null,null,null,null,null,null,null,null,null,null,null,null,null,null,null,null,null,null,null,null,null,null,null,null,null,null,null,null,null,null,null,null,null,null,null,null,null,null,null,null,null,null,null,null,null,null,null,null,null,null,null,null,null,null,null,null,null,null,null,null,null,null,null,null,null,null,null,null,null,"",null,{"$f":"IF(BY161=\"\",\"\",\"AgencyEntityInsData Id 1454\")","v":""},{"$f":"IF(BY161=\"\",\"\",\"AgencyEntityInstance Id 159\")","v":""},{"$f":"IF(BY161=\"\",\"\",\"CM_QCQABaseCompDataNum100_QC\")","v":""},{"$f":"IF(BY161=\"\",\"\",IF('Test 4'!AH27=\"\",\"\",'Test 4'!AH27))","v":""},{"$f":"IF(BY161=\"\",\"\",TODAY())","v":""},{"$f":"IF(BY161=\"\",\"\",\"WTSYSTEMUSER\")","v":""},{"$f":"IF(BY161=\"\",\"\",TODAY())","v":""},{"$f":"IF(BY161=\"\",\"\",\"WTSYSTEMUSER\")","v":""}]
[null,null,null,null,null,null,null,null,null,null,null,null,null,null,null,null,null,null,null,null,null,null,null,null,null,null,null,null,null,null,null,null,null,null,null,null,null,null,null,null,null,null,null,null,null,null,null,null,null,null,null,null,null,null,null,null,null,null,null,null,null,null,null,null,null,null,null,null,null,null,null,null,null,null,null,null,null,null,null,null,null,null,null,null,null,null,null,null,null,null,null,null,"",null,{"$f":"IF(BY161=\"\",\"\",\"AgencyEntityInsData Id 1455\")","v":""},{"$f":"IF(BY161=\"\",\"\",\"AgencyEntityInstance Id 159\")","v":""},{"$f":"IF(BY161=\"\",\"\",\"CM_QCQABaseCompDataNum10_Diff\")","v":""},{"$f":"IF(BY161=\"\",\"\",IF('Test 4'!V21=\"\",\"\",'Test 4'!V21))","v":""},{"$f":"IF(BY161=\"\",\"\",TODAY())","v":""},{"$f":"IF(BY161=\"\",\"\",\"WTSYSTEMUSER\")","v":""},{"$f":"IF(BY161=\"\",\"\",TODAY())","v":""},{"$f":"IF(BY161=\"\",\"\",\"WTSYSTEMUSER\")","v":""}]
[null,null,null,null,null,null,null,null,null,null,null,null,null,null,null,null,null,null,null,null,null,null,null,null,null,null,null,null,null,null,null,null,null,null,null,null,null,null,null,null,null,null,null,null,null,null,null,null,null,null,null,null,null,null,null,null,null,null,null,null,null,null,null,null,null,null,null,null,null,null,null,null,null,null,null,null,null,null,null,null,null,null,null,null,null,null,null,null,null,null,null,null,"",null,{"$f":"IF(BY161=\"\",\"\",\"AgencyEntityInsData Id 1456\")","v":""},{"$f":"IF(BY161=\"\",\"\",\"AgencyEntityInstance Id 159\")","v":""},{"$f":"IF(BY161=\"\",\"\",\"CM_QCQABaseCompDataNum10_QA\")","v":""},{"$f":"IF(BY161=\"\",\"\",IF('Test 4'!AG21=\"\",\"\",'Test 4'!AG21))","v":""},{"$f":"IF(BY161=\"\",\"\",TODAY())","v":""},{"$f":"IF(BY161=\"\",\"\",\"WTSYSTEMUSER\")","v":""},{"$f":"IF(BY161=\"\",\"\",TODAY())","v":""},{"$f":"IF(BY161=\"\",\"\",\"WTSYSTEMUSER\")","v":""}]
[null,null,null,null,null,null,null,null,null,null,null,null,null,null,null,null,null,null,null,null,null,null,null,null,null,null,null,null,null,null,null,null,null,null,null,null,null,null,null,null,null,null,null,null,null,null,null,null,null,null,null,null,null,null,null,null,null,null,null,null,null,null,null,null,null,null,null,null,null,null,null,null,null,null,null,null,null,null,null,null,null,null,null,null,null,null,null,null,null,null,null,null,"",null,{"$f":"IF(BY161=\"\",\"\",\"AgencyEntityInsData Id 1457\")","v":""},{"$f":"IF(BY161=\"\",\"\",\"AgencyEntityInstance Id 159\")","v":""},{"$f":"IF(BY161=\"\",\"\",\"CM_QCQABaseCompDataNum10_QC\")","v":""},{"$f":"IF(BY161=\"\",\"\",IF('Test 4'!AH21=\"\",\"\",'Test 4'!AH21))","v":""},{"$f":"IF(BY161=\"\",\"\",TODAY())","v":""},{"$f":"IF(BY161=\"\",\"\",\"WTSYSTEMUSER\")","v":""},{"$f":"IF(BY161=\"\",\"\",TODAY())","v":""},{"$f":"IF(BY161=\"\",\"\",\"WTSYSTEMUSER\")","v":""}]
[null,null,null,null,null,null,null,null,null,null,null,null,null,null,null,null,null,null,null,null,null,null,null,null,null,null,null,null,null,null,null,null,null,null,null,null,null,null,null,null,null,null,null,null,null,null,null,null,null,null,null,null,null,null,null,null,null,null,null,null,null,null,null,null,null,null,null,null,null,null,null,null,null,null,null,null,null,null,null,null,null,null,null,null,null,null,null,null,null,null,null,null,"",null,{"$f":"IF(BY161=\"\",\"\",\"AgencyEntityInsData Id 1458\")","v":""},{"$f":"IF(BY161=\"\",\"\",\"AgencyEntityInstance Id 159\")","v":""},{"$f":"IF(BY161=\"\",\"\",\"CM_QCQABaseCompDataNum200_Diff\")","v":""},{"$f":"IF(BY161=\"\",\"\",IF('Test 4'!V28=\"\",\"\",'Test 4'!V28))","v":""},{"$f":"IF(BY161=\"\",\"\",TODAY())","v":""},{"$f":"IF(BY161=\"\",\"\",\"WTSYSTEMUSER\")","v":""},{"$f":"IF(BY161=\"\",\"\",TODAY())","v":""},{"$f":"IF(BY161=\"\",\"\",\"WTSYSTEMUSER\")","v":""}]
[null,null,null,null,null,null,null,null,null,null,null,null,null,null,null,null,null,null,null,null,null,null,null,null,null,null,null,null,null,null,null,null,null,null,null,null,null,null,null,null,null,null,null,null,null,null,null,null,null,null,null,null,null,null,null,null,null,null,null,null,null,null,null,null,null,null,null,null,null,null,null,null,null,null,null,null,null,null,null,null,null,null,null,null,null,null,null,null,null,null,null,null,"",null,{"$f":"IF(BY161=\"\",\"\",\"AgencyEntityInsData Id 1459\")","v":""},{"$f":"IF(BY161=\"\",\"\",\"AgencyEntityInstance Id 159\")","v":""},{"$f":"IF(BY161=\"\",\"\",\"CM_QCQABaseCompDataNum200_QA\")","v":""},{"$f":"IF(BY161=\"\",\"\",IF('Test 4'!AG28=\"\",\"\",'Test 4'!AG28))","v":""},{"$f":"IF(BY161=\"\",\"\",TODAY())","v":""},{"$f":"IF(BY161=\"\",\"\",\"WTSYSTEMUSER\")","v":""},{"$f":"IF(BY161=\"\",\"\",TODAY())","v":""},{"$f":"IF(BY161=\"\",\"\",\"WTSYSTEMUSER\")","v":""}]
[null,null,null,null,null,null,null,null,null,null,null,null,null,null,null,null,null,null,null,null,null,null,null,null,null,null,null,null,null,null,null,null,null,null,null,null,null,null,null,null,null,null,null,null,null,null,null,null,null,null,null,null,null,null,null,null,null,null,null,null,null,null,null,null,null,null,null,null,null,null,null,null,null,null,null,null,null,null,null,null,null,null,null,null,null,null,null,null,null,null,null,null,"",null,{"$f":"IF(BY161=\"\",\"\",\"AgencyEntityInsData Id 1460\")","v":""},{"$f":"IF(BY161=\"\",\"\",\"AgencyEntityInstance Id 159\")","v":""},{"$f":"IF(BY161=\"\",\"\",\"CM_QCQABaseCompDataNum200_QC\")","v":""},{"$f":"IF(BY161=\"\",\"\",IF('Test 4'!AH28=\"\",\"\",'Test 4'!AH28))","v":""},{"$f":"IF(BY161=\"\",\"\",TODAY())","v":""},{"$f":"IF(BY161=\"\",\"\",\"WTSYSTEMUSER\")","v":""},{"$f":"IF(BY161=\"\",\"\",TODAY())","v":""},{"$f":"IF(BY161=\"\",\"\",\"WTSYSTEMUSER\")","v":""}]
[null,null,null,null,null,null,null,null,null,null,null,null,null,null,null,null,null,null,null,null,null,null,null,null,null,null,null,null,null,null,null,null,null,null,null,null,null,null,null,null,null,null,null,null,null,null,null,null,null,null,null,null,null,null,null,null,null,null,null,null,null,null,null,null,null,null,null,null,null,null,null,null,null,null,null,null,null,null,null,null,null,null,null,null,null,null,null,null,null,null,null,null,"",null,{"$f":"IF(BY161=\"\",\"\",\"AgencyEntityInsData Id 1461\")","v":""},{"$f":"IF(BY161=\"\",\"\",\"AgencyEntityInstance Id 159\")","v":""},{"$f":"IF(BY161=\"\",\"\",\"CM_QCQABaseCompDataNum30_Diff\")","v":""},{"$f":"IF(BY161=\"\",\"\",IF('Test 4'!V24=\"\",\"\",'Test 4'!V24))","v":""},{"$f":"IF(BY161=\"\",\"\",TODAY())","v":""},{"$f":"IF(BY161=\"\",\"\",\"WTSYSTEMUSER\")","v":""},{"$f":"IF(BY161=\"\",\"\",TODAY())","v":""},{"$f":"IF(BY161=\"\",\"\",\"WTSYSTEMUSER\")","v":""}]
[null,null,null,null,null,null,null,null,null,null,null,null,null,null,null,null,null,null,null,null,null,null,null,null,null,null,null,null,null,null,null,null,null,null,null,null,null,null,null,null,null,null,null,null,null,null,null,null,null,null,null,null,null,null,null,null,null,null,null,null,null,null,null,null,null,null,null,null,null,null,null,null,null,null,null,null,null,null,null,null,null,null,null,null,null,null,null,null,null,null,null,null,"",null,{"$f":"IF(BY161=\"\",\"\",\"AgencyEntityInsData Id 1462\")","v":""},{"$f":"IF(BY161=\"\",\"\",\"AgencyEntityInstance Id 159\")","v":""},{"$f":"IF(BY161=\"\",\"\",\"CM_QCQABaseCompDataNum30_QA\")","v":""},{"$f":"IF(BY161=\"\",\"\",IF('Test 4'!AG24=\"\",\"\",'Test 4'!AG24))","v":""},{"$f":"IF(BY161=\"\",\"\",TODAY())","v":""},{"$f":"IF(BY161=\"\",\"\",\"WTSYSTEMUSER\")","v":""},{"$f":"IF(BY161=\"\",\"\",TODAY())","v":""},{"$f":"IF(BY161=\"\",\"\",\"WTSYSTEMUSER\")","v":""}]
[null,null,null,null,null,null,null,null,null,null,null,null,null,null,null,null,null,null,null,null,null,null,null,null,null,null,null,null,null,null,null,null,null,null,null,null,null,null,null,null,null,null,null,null,null,null,null,null,null,null,null,null,null,null,null,null,null,null,null,null,null,null,null,null,null,null,null,null,null,null,null,null,null,null,null,null,null,null,null,null,null,null,null,null,null,null,null,null,null,null,null,null,"",null,{"$f":"IF(BY161=\"\",\"\",\"AgencyEntityInsData Id 1463\")","v":""},{"$f":"IF(BY161=\"\",\"\",\"AgencyEntityInstance Id 159\")","v":""},{"$f":"IF(BY161=\"\",\"\",\"CM_QCQABaseCompDataNum30_QC\")","v":""},{"$f":"IF(BY161=\"\",\"\",IF('Test 4'!AH24=\"\",\"\",'Test 4'!AH24))","v":""},{"$f":"IF(BY161=\"\",\"\",TODAY())","v":""},{"$f":"IF(BY161=\"\",\"\",\"WTSYSTEMUSER\")","v":""},{"$f":"IF(BY161=\"\",\"\",TODAY())","v":""},{"$f":"IF(BY161=\"\",\"\",\"WTSYSTEMUSER\")","v":""}]
[null,null,null,null,null,null,null,null,null,null,null,null,null,null,null,null,null,null,null,null,null,null,null,null,null,null,null,null,null,null,null,null,null,null,null,null,null,null,null,null,null,null,null,null,null,null,null,null,null,null,null,null,null,null,null,null,null,null,null,null,null,null,null,null,null,null,null,null,null,null,null,null,null,null,null,null,null,null,null,null,null,null,null,null,null,null,null,null,null,null,null,null,"",null,{"$f":"IF(BY161=\"\",\"\",\"AgencyEntityInsData Id 1464\")","v":""},{"$f":"IF(BY161=\"\",\"\",\"AgencyEntityInstance Id 159\")","v":""},{"$f":"IF(BY161=\"\",\"\",\"CM_QCQABaseCompDataNum40_Diff\")","v":""},{"$f":"IF(BY161=\"\",\"\",IF('Test 4'!V25=\"\",\"\",'Test 4'!V25))","v":""},{"$f":"IF(BY161=\"\",\"\",TODAY())","v":""},{"$f":"IF(BY161=\"\",\"\",\"WTSYSTEMUSER\")","v":""},{"$f":"IF(BY161=\"\",\"\",TODAY())","v":""},{"$f":"IF(BY161=\"\",\"\",\"WTSYSTEMUSER\")","v":""}]
[null,null,null,null,null,null,null,null,null,null,null,null,null,null,null,null,null,null,null,null,null,null,null,null,null,null,null,null,null,null,null,null,null,null,null,null,null,null,null,null,null,null,null,null,null,null,null,null,null,null,null,null,null,null,null,null,null,null,null,null,null,null,null,null,null,null,null,null,null,null,null,null,null,null,null,null,null,null,null,null,null,null,null,null,null,null,null,null,null,null,null,null,"",null,{"$f":"IF(BY161=\"\",\"\",\"AgencyEntityInsData Id 1465\")","v":""},{"$f":"IF(BY161=\"\",\"\",\"AgencyEntityInstance Id 159\")","v":""},{"$f":"IF(BY161=\"\",\"\",\"CM_QCQABaseCompDataNum40_QA\")","v":""},{"$f":"IF(BY161=\"\",\"\",IF('Test 4'!AG25=\"\",\"\",'Test 4'!AG25))","v":""},{"$f":"IF(BY161=\"\",\"\",TODAY())","v":""},{"$f":"IF(BY161=\"\",\"\",\"WTSYSTEMUSER\")","v":""},{"$f":"IF(BY161=\"\",\"\",TODAY())","v":""},{"$f":"IF(BY161=\"\",\"\",\"WTSYSTEMUSER\")","v":""}]
[null,null,null,null,null,null,null,null,null,null,null,null,null,null,null,null,null,null,null,null,null,null,null,null,null,null,null,null,null,null,null,null,null,null,null,null,null,null,null,null,null,null,null,null,null,null,null,null,null,null,null,null,null,null,null,null,null,null,null,null,null,null,null,null,null,null,null,null,null,null,null,null,null,null,null,null,null,null,null,null,null,null,null,null,null,null,null,null,null,null,null,null,"",null,{"$f":"IF(BY161=\"\",\"\",\"AgencyEntityInsData Id 1466\")","v":""},{"$f":"IF(BY161=\"\",\"\",\"AgencyEntityInstance Id 159\")","v":""},{"$f":"IF(BY161=\"\",\"\",\"CM_QCQABaseCompDataNum40_QC\")","v":""},{"$f":"IF(BY161=\"\",\"\",IF('Test 4'!AH25=\"\",\"\",'Test 4'!AH25))","v":""},{"$f":"IF(BY161=\"\",\"\",TODAY())","v":""},{"$f":"IF(BY161=\"\",\"\",\"WTSYSTEMUSER\")","v":""},{"$f":"IF(BY161=\"\",\"\",TODAY())","v":""},{"$f":"IF(BY161=\"\",\"\",\"WTSYSTEMUSER\")","v":""}]
[null,null,null,null,null,null,null,null,null,null,null,null,null,null,null,null,null,null,null,null,null,null,null,null,null,null,null,null,null,null,null,null,null,null,null,null,null,null,null,null,null,null,null,null,null,null,null,null,null,null,null,null,null,null,null,null,null,null,null,null,null,null,null,null,null,null,null,null,null,null,null,null,null,null,null,null,null,null,null,null,null,null,null,null,null,null,null,null,null,null,null,null,"",null,{"$f":"IF(BY161=\"\",\"\",\"AgencyEntityInsData Id 1467\")","v":""},{"$f":"IF(BY161=\"\",\"\",\"AgencyEntityInstance Id 159\")","v":""},{"$f":"IF(BY161=\"\",\"\",\"CM_QCQABaseCompDataNum4_Diff\")","v":""},{"$f":"IF(BY161=\"\",\"\",IF('Test 4'!V19=\"\",\"\",'Test 4'!V19))","v":""},{"$f":"IF(BY161=\"\",\"\",TODAY())","v":""},{"$f":"IF(BY161=\"\",\"\",\"WTSYSTEMUSER\")","v":""},{"$f":"IF(BY161=\"\",\"\",TODAY())","v":""},{"$f":"IF(BY161=\"\",\"\",\"WTSYSTEMUSER\")","v":""}]
[null,null,null,null,null,null,null,null,null,null,null,null,null,null,null,null,null,null,null,null,null,null,null,null,null,null,null,null,null,null,null,null,null,null,null,null,null,null,null,null,null,null,null,null,null,null,null,null,null,null,null,null,null,null,null,null,null,null,null,null,null,null,null,null,null,null,null,null,null,null,null,null,null,null,null,null,null,null,null,null,null,null,null,null,null,null,null,null,null,null,null,null,"",null,{"$f":"IF(BY161=\"\",\"\",\"AgencyEntityInsData Id 1468\")","v":""},{"$f":"IF(BY161=\"\",\"\",\"AgencyEntityInstance Id 159\")","v":""},{"$f":"IF(BY161=\"\",\"\",\"CM_QCQABaseCompDataNum4_QA\")","v":""},{"$f":"IF(BY161=\"\",\"\",IF('Test 4'!AG19=\"\",\"\",'Test 4'!AG19))","v":""},{"$f":"IF(BY161=\"\",\"\",TODAY())","v":""},{"$f":"IF(BY161=\"\",\"\",\"WTSYSTEMUSER\")","v":""},{"$f":"IF(BY161=\"\",\"\",TODAY())","v":""},{"$f":"IF(BY161=\"\",\"\",\"WTSYSTEMUSER\")","v":""}]
[null,null,null,null,null,null,null,null,null,null,null,null,null,null,null,null,null,null,null,null,null,null,null,null,null,null,null,null,null,null,null,null,null,null,null,null,null,null,null,null,null,null,null,null,null,null,null,null,null,null,null,null,null,null,null,null,null,null,null,null,null,null,null,null,null,null,null,null,null,null,null,null,null,null,null,null,null,null,null,null,null,null,null,null,null,null,null,null,null,null,null,null,"",null,{"$f":"IF(BY161=\"\",\"\",\"AgencyEntityInsData Id 1469\")","v":""},{"$f":"IF(BY161=\"\",\"\",\"AgencyEntityInstance Id 159\")","v":""},{"$f":"IF(BY161=\"\",\"\",\"CM_QCQABaseCompDataNum4_QC\")","v":""},{"$f":"IF(BY161=\"\",\"\",IF('Test 4'!AH19=\"\",\"\",'Test 4'!AH19))","v":""},{"$f":"IF(BY161=\"\",\"\",TODAY())","v":""},{"$f":"IF(BY161=\"\",\"\",\"WTSYSTEMUSER\")","v":""},{"$f":"IF(BY161=\"\",\"\",TODAY())","v":""},{"$f":"IF(BY161=\"\",\"\",\"WTSYSTEMUSER\")","v":""}]
[null,null,null,null,null,null,null,null,null,null,null,null,null,null,null,null,null,null,null,null,null,null,null,null,null,null,null,null,null,null,null,null,null,null,null,null,null,null,null,null,null,null,null,null,null,null,null,null,null,null,null,null,null,null,null,null,null,null,null,null,null,null,null,null,null,null,null,null,null,null,null,null,null,null,null,null,null,null,null,null,null,null,null,null,null,null,null,null,null,null,null,null,"",null,{"$f":"IF(BY161=\"\",\"\",\"AgencyEntityInsData Id 1470\")","v":""},{"$f":"IF(BY161=\"\",\"\",\"AgencyEntityInstance Id 159\")","v":""},{"$f":"IF(BY161=\"\",\"\",\"CM_QCQABaseCompDataNum8_Diff\")","v":""},{"$f":"IF(BY161=\"\",\"\",IF('Test 4'!V20=\"\",\"\",'Test 4'!V20))","v":""},{"$f":"IF(BY161=\"\",\"\",TODAY())","v":""},{"$f":"IF(BY161=\"\",\"\",\"WTSYSTEMUSER\")","v":""},{"$f":"IF(BY161=\"\",\"\",TODAY())","v":""},{"$f":"IF(BY161=\"\",\"\",\"WTSYSTEMUSER\")","v":""}]
[null,null,null,null,null,null,null,null,null,null,null,null,null,null,null,null,null,null,null,null,null,null,null,null,null,null,null,null,null,null,null,null,null,null,null,null,null,null,null,null,null,null,null,null,null,null,null,null,null,null,null,null,null,null,null,null,null,null,null,null,null,null,null,null,null,null,null,null,null,null,null,null,null,null,null,null,null,null,null,null,null,null,null,null,null,null,null,null,null,null,null,null,"",null,{"$f":"IF(BY161=\"\",\"\",\"AgencyEntityInsData Id 1471\")","v":""},{"$f":"IF(BY161=\"\",\"\",\"AgencyEntityInstance Id 159\")","v":""},{"$f":"IF(BY161=\"\",\"\",\"CM_QCQABaseCompDataNum8_QA\")","v":""},{"$f":"IF(BY161=\"\",\"\",IF('Test 4'!AG20=\"\",\"\",'Test 4'!AG20))","v":""},{"$f":"IF(BY161=\"\",\"\",TODAY())","v":""},{"$f":"IF(BY161=\"\",\"\",\"WTSYSTEMUSER\")","v":""},{"$f":"IF(BY161=\"\",\"\",TODAY())","v":""},{"$f":"IF(BY161=\"\",\"\",\"WTSYSTEMUSER\")","v":""}]
[null,null,null,null,null,null,null,null,null,null,null,null,null,null,null,null,null,null,null,null,null,null,null,null,null,null,null,null,null,null,null,null,null,null,null,null,null,null,null,null,null,null,null,null,null,null,null,null,null,null,null,null,null,null,null,null,null,null,null,null,null,null,null,null,null,null,null,null,null,null,null,null,null,null,null,null,null,null,null,null,null,null,null,null,null,null,null,null,null,null,null,null,"",null,{"$f":"IF(BY161=\"\",\"\",\"AgencyEntityInsData Id 1472\")","v":""},{"$f":"IF(BY161=\"\",\"\",\"AgencyEntityInstance Id 159\")","v":""},{"$f":"IF(BY161=\"\",\"\",\"CM_QCQABaseCompDataNum8_QC\")","v":""},{"$f":"IF(BY161=\"\",\"\",IF('Test 4'!AH20=\"\",\"\",'Test 4'!AH20))","v":""},{"$f":"IF(BY161=\"\",\"\",TODAY())","v":""},{"$f":"IF(BY161=\"\",\"\",\"WTSYSTEMUSER\")","v":""},{"$f":"IF(BY161=\"\",\"\",TODAY())","v":""},{"$f":"IF(BY161=\"\",\"\",\"WTSYSTEMUSER\")","v":""}]
[null,null,null,null,null,null,null,null,null,null,null,null,null,null,null,null,null,null,null,null,null,null,null,null,null,null,null,null,null,null,null,null,null,null,null,null,null,null,null,null,null,null,null,null,null,null,null,null,null,null,null,null,null,null,null,null,null,null,null,null,null,null,null,null,null,null,null,null,null,null,null,null,null,null,null,null,null,null,null,null,null,null,null,null,null,null,null,null,null,null,null,null,"",null,{"$f":"IF(BY161=\"\",\"\",\"AgencyEntityInsData Id 1473\")","v":""},{"$f":"IF(BY161=\"\",\"\",\"AgencyEntityInstance Id 159\")","v":""},{"$f":"IF(BY161=\"\",\"\",\"CM_QCQABaseCompData_1Placeholder\")","v":""},null,{"$f":"IF(BY161=\"\",\"\",TODAY())","v":""},{"$f":"IF(BY161=\"\",\"\",\"WTSYSTEMUSER\")","v":""},{"$f":"IF(BY161=\"\",\"\",TODAY())","v":""},{"$f":"IF(BY161=\"\",\"\",\"WTSYSTEMUSER\")","v":""}]
[null,null,null,null,null,null,null,null,null,null,null,null,null,null,null,null,null,null,null,null,null,null,null,null,null,null,null,null,null,null,null,null,null,null,null,null,null,null,null,null,null,null,null,null,null,null,null,null,null,null,null,null,null,null,null,null,null,null,null,null,null,null,null,null,null,null,null,null,null,null,null,null,null,null,null,null,null,null,null,null,null,null,null,null,null,null,null,null,null,null,null,null,"",null,{"$f":"IF(BY161=\"\",\"\",\"AgencyEntityInsData Id 1474\")","v":""},{"$f":"IF(BY161=\"\",\"\",\"AgencyEntityInstance Id 159\")","v":""},{"$f":"IF(BY161=\"\",\"\",\"CM_QCQABaseCompData_2Placeholder\")","v":""},null,{"$f":"IF(BY161=\"\",\"\",TODAY())","v":""},{"$f":"IF(BY161=\"\",\"\",\"WTSYSTEMUSER\")","v":""},{"$f":"IF(BY161=\"\",\"\",TODAY())","v":""},{"$f":"IF(BY161=\"\",\"\",\"WTSYSTEMUSER\")","v":""}]
[null,null,null,null,null,null,null,null,null,null,null,null,null,null,null,null,null,null,null,null,null,null,null,null,null,null,null,null,null,null,null,null,null,null,null,null,null,null,null,null,null,null,null,null,null,null,null,null,null,null,null,null,null,null,null,null,null,null,null,null,null,null,null,null,null,null,null,null,null,null,null,null,null,null,null,null,null,null,null,null,null,null,null,null,null,null,null,null,null,null,null,null,"",null,{"$f":"IF(BY161=\"\",\"\",\"AgencyEntityInsData Id 1475\")","v":""},{"$f":"IF(BY161=\"\",\"\",\"AgencyEntityInstance Id 159\")","v":""},{"$f":"IF(BY161=\"\",\"\",\"CM_QCQABaseCompData_3Placeholder\")","v":""},null,{"$f":"IF(BY161=\"\",\"\",TODAY())","v":""},{"$f":"IF(BY161=\"\",\"\",\"WTSYSTEMUSER\")","v":""},{"$f":"IF(BY161=\"\",\"\",TODAY())","v":""},{"$f":"IF(BY161=\"\",\"\",\"WTSYSTEMUSER\")","v":""}]
[null,null,null,null,null,null,null,null,null,null,null,null,null,null,null,null,null,null,null,null,null,null,null,null,null,null,null,null,null,null,null,null,null,null,null,null,null,null,null,null,null,null,null,null,null,null,null,null,null,null,null,null,null,null,null,null,null,null,null,null,null,null,null,null,null,null,null,null,null,null,null,null,null,null,null,null,null,null,null,null,null,null,null,null,null,null,null,null,null,null,null,null,"",null,{"$f":"IF(BY161=\"\",\"\",\"AgencyEntityInsData Id 1476\")","v":""},{"$f":"IF(BY161=\"\",\"\",\"AgencyEntityInstance Id 159\")","v":""},{"$f":"IF(BY161=\"\",\"\",\"CM_QCQABaseCompData_4Placeholder\")","v":""},null,{"$f":"IF(BY161=\"\",\"\",TODAY())","v":""},{"$f":"IF(BY161=\"\",\"\",\"WTSYSTEMUSER\")","v":""},{"$f":"IF(BY161=\"\",\"\",TODAY())","v":""},{"$f":"IF(BY161=\"\",\"\",\"WTSYSTEMUSER\")","v":""}]
[null,null,null,null,null,null,null,null,null,null,null,null,null,null,null,null,null,null,null,null,null,null,null,null,null,null,null,null,null,null,null,null,null,null,null,null,null,null,null,null,null,null,null,null,null,null,null,null,null,null,null,null,null,null,null,null,null,null,null,null,null,null,null,null,null,null,null,null,null,null,null,null,null,null,null,null,null,null,null,null,null,null,null,null,null,null,null,null,null,null,null,null,"",null,{"$f":"IF(BY161=\"\",\"\",\"AgencyEntityInsData Id 1477\")","v":""},{"$f":"IF(BY161=\"\",\"\",\"AgencyEntityInstance Id 159\")","v":""},{"$f":"IF(BY161=\"\",\"\",\"CM_QCQABaseCompData_5Placeholder\")","v":""},null,{"$f":"IF(BY161=\"\",\"\",TODAY())","v":""},{"$f":"IF(BY161=\"\",\"\",\"WTSYSTEMUSER\")","v":""},{"$f":"IF(BY161=\"\",\"\",TODAY())","v":""},{"$f":"IF(BY161=\"\",\"\",\"WTSYSTEMUSER\")","v":""}]
[null,null,null,null,null,null,null,null,null,null,null,null,null,null,null,null,null,null,null,null,null,null,null,null,null,null,null,null,null,null,null,null,null,null,null,null,null,null,null,null,null,null,null,null,null,null,null,null,null,null,null,null,null,null,null,null,null,null,null,null,null,null,null,null,null,null,null,null,null,null,null,null,null,null,null,null,null,null,null,null,null,null,null,null,null,null,null,null,null,null,null,null,"",null,{"$f":"IF(BY161=\"\",\"\",\"AgencyEntityInsData Id 1478\")","v":""},{"$f":"IF(BY161=\"\",\"\",\"AgencyEntityInstance Id 159\")","v":""},{"$f":"IF(BY161=\"\",\"\",\"CM_QCQABaseCompData_6Placeholder\")","v":""},null,{"$f":"IF(BY161=\"\",\"\",TODAY())","v":""},{"$f":"IF(BY161=\"\",\"\",\"WTSYSTEMUSER\")","v":""},{"$f":"IF(BY161=\"\",\"\",TODAY())","v":""},{"$f":"IF(BY161=\"\",\"\",\"WTSYSTEMUSER\")","v":""}]
[null,null,null,null,null,null,null,null,null,null,null,null,null,null,null,null,null,null,null,null,null,null,null,null,null,null,null,null,null,null,null,null,null,null,null,null,null,null,null,null,null,null,null,null,null,null,null,null,null,null,null,null,null,null,null,null,null,null,null,null,null,null,null,null,null,null,null,null,null,null,null,null,null,null,null,null,null,null,null,null,null,null,null,null,null,null,null,null,null,null,null,null,"",null,{"$f":"IF(BY161=\"\",\"\",\"AgencyEntityInsData Id 1479\")","v":""},{"$f":"IF(BY161=\"\",\"\",\"AgencyEntityInstance Id 159\")","v":""},{"$f":"IF(BY161=\"\",\"\",\"CM_QCQABaseCompData_7Placeholder\")","v":""},null,{"$f":"IF(BY161=\"\",\"\",TODAY())","v":""},{"$f":"IF(BY161=\"\",\"\",\"WTSYSTEMUSER\")","v":""},{"$f":"IF(BY161=\"\",\"\",TODAY())","v":""},{"$f":"IF(BY161=\"\",\"\",\"WTSYSTEMUSER\")","v":""}]
[null,null,null,null,null,null,null,null,null,null,null,null,null,null,null,null,null,null,null,null,null,null,null,null,null,null,null,null,null,null,null,null,null,null,null,null,null,null,null,null,null,null,null,null,null,null,null,null,null,null,null,null,null,null,null,null,null,null,null,null,null,null,null,null,null,null,null,null,null,null,null,null,null,null,null,null,null,null,null,null,null,null,null,null,null,null,null,null,null,null,null,null,"",null,{"$f":"IF(BY161=\"\",\"\",\"AgencyEntityInsData Id 1480\")","v":""},{"$f":"IF(BY161=\"\",\"\",\"AgencyEntityInstance Id 159\")","v":""},{"$f":"IF(BY161=\"\",\"\",\"CM_QCQABaseCompData_8Placeholder\")","v":""},null,{"$f":"IF(BY161=\"\",\"\",TODAY())","v":""},{"$f":"IF(BY161=\"\",\"\",\"WTSYSTEMUSER\")","v":""},{"$f":"IF(BY161=\"\",\"\",TODAY())","v":""},{"$f":"IF(BY161=\"\",\"\",\"WTSYSTEMUSER\")","v":""}]
[null,null,null,null,null,null,null,null,null,null,null,null,null,null,null,null,null,null,null,null,null,null,null,null,null,null,null,null,null,null,null,null,null,null,null,null,null,null,null,null,null,null,null,null,null,null,null,null,null,null,null,null,null,null,null,null,null,null,null,null,null,null,null,null,null,null,null,null,null,null,null,null,null,null,null,null,null,null,null,null,null,null,null,null,null,null,null,null,null,null,null,null,"",null,{"$f":"IF(BY161=\"\",\"\",\"AgencyEntityInsData Id 1481\")","v":""},{"$f":"IF(BY161=\"\",\"\",\"AgencyEntityInstance Id 159\")","v":""},{"$f":"IF(BY161=\"\",\"\",\"CM_QCQABaseCompData_Del_Diff\")","v":""},{"$f":"IF(BY161=\"\",\"\",IF('Test 4'!V51=\"\",\"\",'Test 4'!V51))","v":""},{"$f":"IF(BY161=\"\",\"\",TODAY())","v":""},{"$f":"IF(BY161=\"\",\"\",\"WTSYSTEMUSER\")","v":""},{"$f":"IF(BY161=\"\",\"\",TODAY())","v":""},{"$f":"IF(BY161=\"\",\"\",\"WTSYSTEMUSER\")","v":""}]
[null,null,null,null,null,null,null,null,null,null,null,null,null,null,null,null,null,null,null,null,null,null,null,null,null,null,null,null,null,null,null,null,null,null,null,null,null,null,null,null,null,null,null,null,null,null,null,null,null,null,null,null,null,null,null,null,null,null,null,null,null,null,null,null,null,null,null,null,null,null,null,null,null,null,null,null,null,null,null,null,null,null,null,null,null,null,null,null,null,null,null,null,"",null,{"$f":"IF(BY161=\"\",\"\",\"AgencyEntityInsData Id 1482\")","v":""},{"$f":"IF(BY161=\"\",\"\",\"AgencyEntityInstance Id 159\")","v":""},{"$f":"IF(BY161=\"\",\"\",\"CM_QCQABaseCompData_Del_QA\")","v":""},{"$f":"IF(BY161=\"\",\"\",IF('Test 4'!O51=\"\",\"\",'Test 4'!O51))","v":""},{"$f":"IF(BY161=\"\",\"\",TODAY())","v":""},{"$f":"IF(BY161=\"\",\"\",\"WTSYSTEMUSER\")","v":""},{"$f":"IF(BY161=\"\",\"\",TODAY())","v":""},{"$f":"IF(BY161=\"\",\"\",\"WTSYSTEMUSER\")","v":""}]
[null,null,null,null,null,null,null,null,null,null,null,null,null,null,null,null,null,null,null,null,null,null,null,null,null,null,null,null,null,null,null,null,null,null,null,null,null,null,null,null,null,null,null,null,null,null,null,null,null,null,null,null,null,null,null,null,null,null,null,null,null,null,null,null,null,null,null,null,null,null,null,null,null,null,null,null,null,null,null,null,null,null,null,null,null,null,null,null,null,null,null,null,"",null,{"$f":"IF(BY161=\"\",\"\",\"AgencyEntityInsData Id 1483\")","v":""},{"$f":"IF(BY161=\"\",\"\",\"AgencyEntityInstance Id 159\")","v":""},{"$f":"IF(BY161=\"\",\"\",\"CM_QCQABaseCompData_Del_QC\")","v":""},{"$f":"IF(BY161=\"\",\"\",IF('Test 4'!S51=\"\",\"\",'Test 4'!S51))","v":""},{"$f":"IF(BY161=\"\",\"\",TODAY())","v":""},{"$f":"IF(BY161=\"\",\"\",\"WTSYSTEMUSER\")","v":""},{"$f":"IF(BY161=\"\",\"\",TODAY())","v":""},{"$f":"IF(BY161=\"\",\"\",\"WTSYSTEMUSER\")","v":""}]
[null,null,null,null,null,null,null,null,null,null,null,null,null,null,null,null,null,null,null,null,null,null,null,null,null,null,null,null,null,null,null,null,null,null,null,null,null,null,null,null,null,null,null,null,null,null,null,null,null,null,null,null,null,null,null,null,null,null,null,null,null,null,null,null,null,null,null,null,null,null,null,null,null,null,null,null,null,null,null,null,null,null,null,null,null,null,null,null,null,null,null,null,"",null,{"$f":"IF(BY161=\"\",\"\",\"AgencyEntityInsData Id 1484\")","v":""},{"$f":"IF(BY161=\"\",\"\",\"AgencyEntityInstance Id 159\")","v":""},{"$f":"IF(BY161=\"\",\"\",\"CM_QCQABaseCompData_DensityDiff\")","v":""},{"$f":"IF(BY161=\"\",\"\",IF('Test 4'!V63=\"\",\"\",'Test 4'!V63))","v":""},{"$f":"IF(BY161=\"\",\"\",TODAY())","v":""},{"$f":"IF(BY161=\"\",\"\",\"WTSYSTEMUSER\")","v":""},{"$f":"IF(BY161=\"\",\"\",TODAY())","v":""},{"$f":"IF(BY161=\"\",\"\",\"WTSYSTEMUSER\")","v":""}]
[null,null,null,null,null,null,null,null,null,null,null,null,null,null,null,null,null,null,null,null,null,null,null,null,null,null,null,null,null,null,null,null,null,null,null,null,null,null,null,null,null,null,null,null,null,null,null,null,null,null,null,null,null,null,null,null,null,null,null,null,null,null,null,null,null,null,null,null,null,null,null,null,null,null,null,null,null,null,null,null,null,null,null,null,null,null,null,null,null,null,null,null,"",null,{"$f":"IF(BY161=\"\",\"\",\"AgencyEntityInsData Id 1485\")","v":""},{"$f":"IF(BY161=\"\",\"\",\"AgencyEntityInstance Id 159\")","v":""},{"$f":"IF(BY161=\"\",\"\",\"CM_QCQABaseCompData_DensityQA\")","v":""},{"$f":"IF(BY161=\"\",\"\",IF('Test 4'!O63=\"\",\"\",'Test 4'!O63))","v":""},{"$f":"IF(BY161=\"\",\"\",TODAY())","v":""},{"$f":"IF(BY161=\"\",\"\",\"WTSYSTEMUSER\")","v":""},{"$f":"IF(BY161=\"\",\"\",TODAY())","v":""},{"$f":"IF(BY161=\"\",\"\",\"WTSYSTEMUSER\")","v":""}]
[null,null,null,null,null,null,null,null,null,null,null,null,null,null,null,null,null,null,null,null,null,null,null,null,null,null,null,null,null,null,null,null,null,null,null,null,null,null,null,null,null,null,null,null,null,null,null,null,null,null,null,null,null,null,null,null,null,null,null,null,null,null,null,null,null,null,null,null,null,null,null,null,null,null,null,null,null,null,null,null,null,null,null,null,null,null,null,null,null,null,null,null,"",null,{"$f":"IF(BY161=\"\",\"\",\"AgencyEntityInsData Id 1486\")","v":""},{"$f":"IF(BY161=\"\",\"\",\"AgencyEntityInstance Id 159\")","v":""},{"$f":"IF(BY161=\"\",\"\",\"CM_QCQABaseCompData_DensityQC\")","v":""},{"$f":"IF(BY161=\"\",\"\",IF('Test 4'!S63=\"\",\"\",'Test 4'!S63))","v":""},{"$f":"IF(BY161=\"\",\"\",TODAY())","v":""},{"$f":"IF(BY161=\"\",\"\",\"WTSYSTEMUSER\")","v":""},{"$f":"IF(BY161=\"\",\"\",TODAY())","v":""},{"$f":"IF(BY161=\"\",\"\",\"WTSYSTEMUSER\")","v":""}]
[null,null,null,null,null,null,null,null,null,null,null,null,null,null,null,null,null,null,null,null,null,null,null,null,null,null,null,null,null,null,null,null,null,null,null,null,null,null,null,null,null,null,null,null,null,null,null,null,null,null,null,null,null,null,null,null,null,null,null,null,null,null,null,null,null,null,null,null,null,null,null,null,null,null,null,null,null,null,null,null,null,null,null,null,null,null,null,null,null,null,null,null,"",null,{"$f":"IF(BY161=\"\",\"\",\"AgencyEntityInsData Id 1487\")","v":""},{"$f":"IF(BY161=\"\",\"\",\"AgencyEntityInstance Id 159\")","v":""},{"$f":"IF(BY161=\"\",\"\",\"CM_QCQABaseCompData_Moisture_QA\")","v":""},{"$f":"IF(BY161=\"\",\"\",IF('Test 4'!O64=\"\",\"\",'Test 4'!O64))","v":""},{"$f":"IF(BY161=\"\",\"\",TODAY())","v":""},{"$f":"IF(BY161=\"\",\"\",\"WTSYSTEMUSER\")","v":""},{"$f":"IF(BY161=\"\",\"\",TODAY())","v":""},{"$f":"IF(BY161=\"\",\"\",\"WTSYSTEMUSER\")","v":""}]
[null,null,null,null,null,null,null,null,null,null,null,null,null,null,null,null,null,null,null,null,null,null,null,null,null,null,null,null,null,null,null,null,null,null,null,null,null,null,null,null,null,null,null,null,null,null,null,null,null,null,null,null,null,null,null,null,null,null,null,null,null,null,null,null,null,null,null,null,null,null,null,null,null,null,null,null,null,null,null,null,null,null,null,null,null,null,null,null,null,null,null,null,"",null,{"$f":"IF(BY161=\"\",\"\",\"AgencyEntityInsData Id 1488\")","v":""},{"$f":"IF(BY161=\"\",\"\",\"AgencyEntityInstance Id 159\")","v":""},{"$f":"IF(BY161=\"\",\"\",\"CM_QCQABaseCompData_Moisture_QC\")","v":""},{"$f":"IF(BY161=\"\",\"\",IF('Test 4'!S64=\"\",\"\",'Test 4'!S64))","v":""},{"$f":"IF(BY161=\"\",\"\",TODAY())","v":""},{"$f":"IF(BY161=\"\",\"\",\"WTSYSTEMUSER\")","v":""},{"$f":"IF(BY161=\"\",\"\",TODAY())","v":""},{"$f":"IF(BY161=\"\",\"\",\"WTSYSTEMUSER\")","v":""}]
[null,null,null,null,null,null,null,null,null,null,null,null,null,null,null,null,null,null,null,null,null,null,null,null,null,null,null,null,null,null,null,null,null,null,null,null,null,null,null,null,null,null,null,null,null,null,null,null,null,null,null,null,null,null,null,null,null,null,null,null,null,null,null,null,null,null,null,null,null,null,null,null,null,null,null,null,null,null,null,null,null,null,null,null,null,null,null,null,null,null,null,null,"",null,{"$f":"IF(BY161=\"\",\"\",\"AgencyEntityInsData Id 1489\")","v":""},{"$f":"IF(BY161=\"\",\"\",\"AgencyEntityInstance Id 159\")","v":""},{"$f":"IF(BY161=\"\",\"\",\"CM_QCQABaseCompData_PI_Diff\")","v":""},{"$f":"IF(BY161=\"\",\"\",IF('Test 4'!U57=\"\",\"\",'Test 4'!U57))","v":""},{"$f":"IF(BY161=\"\",\"\",TODAY())","v":""},{"$f":"IF(BY161=\"\",\"\",\"WTSYSTEMUSER\")","v":""},{"$f":"IF(BY161=\"\",\"\",TODAY())","v":""},{"$f":"IF(BY161=\"\",\"\",\"WTSYSTEMUSER\")","v":""}]
[null,null,null,null,null,null,null,null,null,null,null,null,null,null,null,null,null,null,null,null,null,null,null,null,null,null,null,null,null,null,null,null,null,null,null,null,null,null,null,null,null,null,null,null,null,null,null,null,null,null,null,null,null,null,null,null,null,null,null,null,null,null,null,null,null,null,null,null,null,null,null,null,null,null,null,null,null,null,null,null,null,null,null,null,null,null,null,null,null,null,null,null,"",null,{"$f":"IF(BY161=\"\",\"\",\"AgencyEntityInsData Id 1490\")","v":""},{"$f":"IF(BY161=\"\",\"\",\"AgencyEntityInstance Id 159\")","v":""},{"$f":"IF(BY161=\"\",\"\",\"CM_QCQABaseCompData_PI_QA\")","v":""},{"$f":"IF(BY161=\"\",\"\",IF('Test 4'!O57=\"\",\"\",'Test 4'!O57))","v":""},{"$f":"IF(BY161=\"\",\"\",TODAY())","v":""},{"$f":"IF(BY161=\"\",\"\",\"WTSYSTEMUSER\")","v":""},{"$f":"IF(BY161=\"\",\"\",TODAY())","v":""},{"$f":"IF(BY161=\"\",\"\",\"WTSYSTEMUSER\")","v":""}]
[null,null,null,null,null,null,null,null,null,null,null,null,null,null,null,null,null,null,null,null,null,null,null,null,null,null,null,null,null,null,null,null,null,null,null,null,null,null,null,null,null,null,null,null,null,null,null,null,null,null,null,null,null,null,null,null,null,null,null,null,null,null,null,null,null,null,null,null,null,null,null,null,null,null,null,null,null,null,null,null,null,null,null,null,null,null,null,null,null,null,null,null,"",null,{"$f":"IF(BY161=\"\",\"\",\"AgencyEntityInsData Id 1491\")","v":""},{"$f":"IF(BY161=\"\",\"\",\"AgencyEntityInstance Id 159\")","v":""},{"$f":"IF(BY161=\"\",\"\",\"CM_QCQABaseCompData_PI_QC\")","v":""},{"$f":"IF(BY161=\"\",\"\",IF('Test 4'!S57=\"\",\"\",'Test 4'!S57))","v":""},{"$f":"IF(BY161=\"\",\"\",TODAY())","v":""},{"$f":"IF(BY161=\"\",\"\",\"WTSYSTEMUSER\")","v":""},{"$f":"IF(BY161=\"\",\"\",TODAY())","v":""},{"$f":"IF(BY161=\"\",\"\",\"WTSYSTEMUSER\")","v":""}]
[null,null,null,null,null,null,null,null,null,null,null,null,null,null,null,null,null,null,null,null,null,null,null,null,null,null,null,null,null,null,null,null,null,null,null,null,null,null,null,null,null,null,null,null,null,null,null,null,null,null,null,null,null,null,null,null,null,null,null,null,null,null,null,null,null,null,null,null,null,null,null,null,null,null,null,null,null,null,null,null,null,null,null,null,null,null,null,null,null,null,null,null,"",null,{"$f":"IF(BY161=\"\",\"\",\"AgencyEntityInsData Id 1492\")","v":""},{"$f":"IF(BY161=\"\",\"\",\"AgencyEntityInstance Id 159\")","v":""},{"$f":"IF(BY161=\"\",\"\",\"CM_QCQABaseCompData_Subtitle_CompStd\")","v":""},null,{"$f":"IF(BY161=\"\",\"\",TODAY())","v":""},{"$f":"IF(BY161=\"\",\"\",\"WTSYSTEMUSER\")","v":""},{"$f":"IF(BY161=\"\",\"\",TODAY())","v":""},{"$f":"IF(BY161=\"\",\"\",\"WTSYSTEMUSER\")","v":""}]
[null,null,null,null,null,null,null,null,null,null,null,null,null,null,null,null,null,null,null,null,null,null,null,null,null,null,null,null,null,null,null,null,null,null,null,null,null,null,null,null,null,null,null,null,null,null,null,null,null,null,null,null,null,null,null,null,null,null,null,null,null,null,null,null,null,null,null,null,null,null,null,null,null,null,null,null,null,null,null,null,null,null,null,null,null,null,null,null,null,null,null,null,"",null,{"$f":"IF(BY161=\"\",\"\",\"AgencyEntityInsData Id 1493\")","v":""},{"$f":"IF(BY161=\"\",\"\",\"AgencyEntityInstance Id 159\")","v":""},{"$f":"IF(BY161=\"\",\"\",\"CM_QCQABaseCompData_Subtitle_Del\")","v":""},null,{"$f":"IF(BY161=\"\",\"\",TODAY())","v":""},{"$f":"IF(BY161=\"\",\"\",\"WTSYSTEMUSER\")","v":""},{"$f":"IF(BY161=\"\",\"\",TODAY())","v":""},{"$f":"IF(BY161=\"\",\"\",\"WTSYSTEMUSER\")","v":""}]
[null,null,null,null,null,null,null,null,null,null,null,null,null,null,null,null,null,null,null,null,null,null,null,null,null,null,null,null,null,null,null,null,null,null,null,null,null,null,null,null,null,null,null,null,null,null,null,null,null,null,null,null,null,null,null,null,null,null,null,null,null,null,null,null,null,null,null,null,null,null,null,null,null,null,null,null,null,null,null,null,null,null,null,null,null,null,null,null,null,null,null,null,"",null,{"$f":"IF(BY161=\"\",\"\",\"AgencyEntityInsData Id 1494\")","v":""},{"$f":"IF(BY161=\"\",\"\",\"AgencyEntityInstance Id 159\")","v":""},{"$f":"IF(BY161=\"\",\"\",\"CM_QCQABaseCompData_Subtitle_PI\")","v":""},null,{"$f":"IF(BY161=\"\",\"\",TODAY())","v":""},{"$f":"IF(BY161=\"\",\"\",\"WTSYSTEMUSER\")","v":""},{"$f":"IF(BY161=\"\",\"\",TODAY())","v":""},{"$f":"IF(BY161=\"\",\"\",\"WTSYSTEMUSER\")","v":""}]
[null,null,null,null,null,null,null,null,null,null,null,null,null,null,null,null,null,null,null,null,null,null,null,null,null,null,null,null,null,null,null,null,null,null,null,null,null,null,null,null,null,null,null,null,null,null,null,null,null,null,null,null,null,null,null,null,null,null,null,null,null,null,null,null,null,null,null,null,null,null,null,null,null,null,null,null,null,null,null,null,null,null,null,null,null,null,null,null,null,null,null,null,"",null,{"$f":"IF(BY161=\"\",\"\",\"AgencyEntityInsData Id 1495\")","v":""},{"$f":"IF(BY161=\"\",\"\",\"AgencyEntityInstance Id 159\")","v":""},{"$f":"IF(BY161=\"\",\"\",\"CM_QCQABaseCompData_Subtitle_SieveAnalysis\")","v":""},null,{"$f":"IF(BY161=\"\",\"\",TODAY())","v":""},{"$f":"IF(BY161=\"\",\"\",\"WTSYSTEMUSER\")","v":""},{"$f":"IF(BY161=\"\",\"\",TODAY())","v":""},{"$f":"IF(BY161=\"\",\"\",\"WTSYSTEMUSER\")","v":""}]
[null,null,null,null,null,null,null,null,null,null,null,null,null,null,null,null,null,null,null,null,null,null,null,null,null,null,null,null,null,null,null,null,null,null,null,null,null,null,null,null,null,null,null,null,null,null,null,null,null,null,null,null,null,null,null,null,null,null,null,null,null,null,null,null,null,null,null,null,null,null,null,null,null,null,null,null,null,null,null,null,null,null,null,null,null,null,null,null,null,null,null,null,"",null,{"$f":"IF(BY161=\"\",\"\",\"AgencyEntityInsData Id 1496\")","v":""},{"$f":"IF(BY161=\"\",\"\",\"AgencyEntityInstance Id 159\")","v":""},{"$f":"IF(BY161=\"\",\"\",\"CM_QCQABaseCompData_Title_Label\")","v":""},null,{"$f":"IF(BY161=\"\",\"\",TODAY())","v":""},{"$f":"IF(BY161=\"\",\"\",\"WTSYSTEMUSER\")","v":""},{"$f":"IF(BY161=\"\",\"\",TODAY())","v":""},{"$f":"IF(BY161=\"\",\"\",\"WTSYSTEMUSER\")","v":""}]
[null,null,null,null,null,null,null,null,null,null,null,null,null,null,null,null,null,null,null,null,null,null,null,null,null,null,null,null,null,null,null,null,null,null,null,null,null,null,null,null,null,null,null,null,null,null,null,null,null,null,null,null,null,null,null,null,null,null,null,null,null,null,null,null,null,null,null,null,null,null,null,null,null,null,null,null,null,null,null,null,null,null,null,null,null,null,null,null,null,null,null,null,"",null,{"$f":"IF(BY161=\"\",\"\",\"AgencyEntityInsData Id 1497\")","v":""},{"$f":"IF(BY161=\"\",\"\",\"AgencyEntityInstance Id 159\")","v":""},{"$f":"IF(BY161=\"\",\"\",\"CM_QCQABaseCompData_Tolerance1\")","v":""},null,{"$f":"IF(BY161=\"\",\"\",TODAY())","v":""},{"$f":"IF(BY161=\"\",\"\",\"WTSYSTEMUSER\")","v":""},{"$f":"IF(BY161=\"\",\"\",TODAY())","v":""},{"$f":"IF(BY161=\"\",\"\",\"WTSYSTEMUSER\")","v":""}]
[null,null,null,null,null,null,null,null,null,null,null,null,null,null,null,null,null,null,null,null,null,null,null,null,null,null,null,null,null,null,null,null,null,null,null,null,null,null,null,null,null,null,null,null,null,null,null,null,null,null,null,null,null,null,null,null,null,null,null,null,null,null,null,null,null,null,null,null,null,null,null,null,null,null,null,null,null,null,null,null,null,null,null,null,null,null,null,null,null,null,null,null,"",null,{"$f":"IF(BY161=\"\",\"\",\"AgencyEntityInsData Id 1498\")","v":""},{"$f":"IF(BY161=\"\",\"\",\"AgencyEntityInstance Id 159\")","v":""},{"$f":"IF(BY161=\"\",\"\",\"CM_QCQABaseCompData_Tolerance10\")","v":""},null,{"$f":"IF(BY161=\"\",\"\",TODAY())","v":""},{"$f":"IF(BY161=\"\",\"\",\"WTSYSTEMUSER\")","v":""},{"$f":"IF(BY161=\"\",\"\",TODAY())","v":""},{"$f":"IF(BY161=\"\",\"\",\"WTSYSTEMUSER\")","v":""}]
[null,null,null,null,null,null,null,null,null,null,null,null,null,null,null,null,null,null,null,null,null,null,null,null,null,null,null,null,null,null,null,null,null,null,null,null,null,null,null,null,null,null,null,null,null,null,null,null,null,null,null,null,null,null,null,null,null,null,null,null,null,null,null,null,null,null,null,null,null,null,null,null,null,null,null,null,null,null,null,null,null,null,null,null,null,null,null,null,null,null,null,null,"",null,{"$f":"IF(BY161=\"\",\"\",\"AgencyEntityInsData Id 1499\")","v":""},{"$f":"IF(BY161=\"\",\"\",\"AgencyEntityInstance Id 159\")","v":""},{"$f":"IF(BY161=\"\",\"\",\"CM_QCQABaseCompData_Tolerance11\")","v":""},null,{"$f":"IF(BY161=\"\",\"\",TODAY())","v":""},{"$f":"IF(BY161=\"\",\"\",\"WTSYSTEMUSER\")","v":""},{"$f":"IF(BY161=\"\",\"\",TODAY())","v":""},{"$f":"IF(BY161=\"\",\"\",\"WTSYSTEMUSER\")","v":""}]
[null,null,null,null,null,null,null,null,null,null,null,null,null,null,null,null,null,null,null,null,null,null,null,null,null,null,null,null,null,null,null,null,null,null,null,null,null,null,null,null,null,null,null,null,null,null,null,null,null,null,null,null,null,null,null,null,null,null,null,null,null,null,null,null,null,null,null,null,null,null,null,null,null,null,null,null,null,null,null,null,null,null,null,null,null,null,null,null,null,null,null,null,"",null,{"$f":"IF(BY161=\"\",\"\",\"AgencyEntityInsData Id 1500\")","v":""},{"$f":"IF(BY161=\"\",\"\",\"AgencyEntityInstance Id 159\")","v":""},{"$f":"IF(BY161=\"\",\"\",\"CM_QCQABaseCompData_Tolerance12\")","v":""},null,{"$f":"IF(BY161=\"\",\"\",TODAY())","v":""},{"$f":"IF(BY161=\"\",\"\",\"WTSYSTEMUSER\")","v":""},{"$f":"IF(BY161=\"\",\"\",TODAY())","v":""},{"$f":"IF(BY161=\"\",\"\",\"WTSYSTEMUSER\")","v":""}]
[null,null,null,null,null,null,null,null,null,null,null,null,null,null,null,null,null,null,null,null,null,null,null,null,null,null,null,null,null,null,null,null,null,null,null,null,null,null,null,null,null,null,null,null,null,null,null,null,null,null,null,null,null,null,null,null,null,null,null,null,null,null,null,null,null,null,null,null,null,null,null,null,null,null,null,null,null,null,null,null,null,null,null,null,null,null,null,null,null,null,null,null,"",null,{"$f":"IF(BY161=\"\",\"\",\"AgencyEntityInsData Id 1501\")","v":""},{"$f":"IF(BY161=\"\",\"\",\"AgencyEntityInstance Id 159\")","v":""},{"$f":"IF(BY161=\"\",\"\",\"CM_QCQABaseCompData_Tolerance13\")","v":""},null,{"$f":"IF(BY161=\"\",\"\",TODAY())","v":""},{"$f":"IF(BY161=\"\",\"\",\"WTSYSTEMUSER\")","v":""},{"$f":"IF(BY161=\"\",\"\",TODAY())","v":""},{"$f":"IF(BY161=\"\",\"\",\"WTSYSTEMUSER\")","v":""}]
[null,null,null,null,null,null,null,null,null,null,null,null,null,null,null,null,null,null,null,null,null,null,null,null,null,null,null,null,null,null,null,null,null,null,null,null,null,null,null,null,null,null,null,null,null,null,null,null,null,null,null,null,null,null,null,null,null,null,null,null,null,null,null,null,null,null,null,null,null,null,null,null,null,null,null,null,null,null,null,null,null,null,null,null,null,null,null,null,null,null,null,null,"",null,{"$f":"IF(BY161=\"\",\"\",\"AgencyEntityInsData Id 1502\")","v":""},{"$f":"IF(BY161=\"\",\"\",\"AgencyEntityInstance Id 159\")","v":""},{"$f":"IF(BY161=\"\",\"\",\"CM_QCQABaseCompData_Tolerance14\")","v":""},null,{"$f":"IF(BY161=\"\",\"\",TODAY())","v":""},{"$f":"IF(BY161=\"\",\"\",\"WTSYSTEMUSER\")","v":""},{"$f":"IF(BY161=\"\",\"\",TODAY())","v":""},{"$f":"IF(BY161=\"\",\"\",\"WTSYSTEMUSER\")","v":""}]
[null,null,null,null,null,null,null,null,null,null,null,null,null,null,null,null,null,null,null,null,null,null,null,null,null,null,null,null,null,null,null,null,null,null,null,null,null,null,null,null,null,null,null,null,null,null,null,null,null,null,null,null,null,null,null,null,null,null,null,null,null,null,null,null,null,null,null,null,null,null,null,null,null,null,null,null,null,null,null,null,null,null,null,null,null,null,null,null,null,null,null,null,"",null,{"$f":"IF(BY161=\"\",\"\",\"AgencyEntityInsData Id 1503\")","v":""},{"$f":"IF(BY161=\"\",\"\",\"AgencyEntityInstance Id 159\")","v":""},{"$f":"IF(BY161=\"\",\"\",\"CM_QCQABaseCompData_Tolerance2\")","v":""},null,{"$f":"IF(BY161=\"\",\"\",TODAY())","v":""},{"$f":"IF(BY161=\"\",\"\",\"WTSYSTEMUSER\")","v":""},{"$f":"IF(BY161=\"\",\"\",TODAY())","v":""},{"$f":"IF(BY161=\"\",\"\",\"WTSYSTEMUSER\")","v":""}]
[null,null,null,null,null,null,null,null,null,null,null,null,null,null,null,null,null,null,null,null,null,null,null,null,null,null,null,null,null,null,null,null,null,null,null,null,null,null,null,null,null,null,null,null,null,null,null,null,null,null,null,null,null,null,null,null,null,null,null,null,null,null,null,null,null,null,null,null,null,null,null,null,null,null,null,null,null,null,null,null,null,null,null,null,null,null,null,null,null,null,null,null,"",null,{"$f":"IF(BY161=\"\",\"\",\"AgencyEntityInsData Id 1504\")","v":""},{"$f":"IF(BY161=\"\",\"\",\"AgencyEntityInstance Id 159\")","v":""},{"$f":"IF(BY161=\"\",\"\",\"CM_QCQABaseCompData_Tolerance3\")","v":""},null,{"$f":"IF(BY161=\"\",\"\",TODAY())","v":""},{"$f":"IF(BY161=\"\",\"\",\"WTSYSTEMUSER\")","v":""},{"$f":"IF(BY161=\"\",\"\",TODAY())","v":""},{"$f":"IF(BY161=\"\",\"\",\"WTSYSTEMUSER\")","v":""}]
[null,null,null,null,null,null,null,null,null,null,null,null,null,null,null,null,null,null,null,null,null,null,null,null,null,null,null,null,null,null,null,null,null,null,null,null,null,null,null,null,null,null,null,null,null,null,null,null,null,null,null,null,null,null,null,null,null,null,null,null,null,null,null,null,null,null,null,null,null,null,null,null,null,null,null,null,null,null,null,null,null,null,null,null,null,null,null,null,null,null,null,null,"",null,{"$f":"IF(BY161=\"\",\"\",\"AgencyEntityInsData Id 1505\")","v":""},{"$f":"IF(BY161=\"\",\"\",\"AgencyEntityInstance Id 159\")","v":""},{"$f":"IF(BY161=\"\",\"\",\"CM_QCQABaseCompData_Tolerance4\")","v":""},null,{"$f":"IF(BY161=\"\",\"\",TODAY())","v":""},{"$f":"IF(BY161=\"\",\"\",\"WTSYSTEMUSER\")","v":""},{"$f":"IF(BY161=\"\",\"\",TODAY())","v":""},{"$f":"IF(BY161=\"\",\"\",\"WTSYSTEMUSER\")","v":""}]
[null,null,null,null,null,null,null,null,null,null,null,null,null,null,null,null,null,null,null,null,null,null,null,null,null,null,null,null,null,null,null,null,null,null,null,null,null,null,null,null,null,null,null,null,null,null,null,null,null,null,null,null,null,null,null,null,null,null,null,null,null,null,null,null,null,null,null,null,null,null,null,null,null,null,null,null,null,null,null,null,null,null,null,null,null,null,null,null,null,null,null,null,"",null,{"$f":"IF(BY161=\"\",\"\",\"AgencyEntityInsData Id 1506\")","v":""},{"$f":"IF(BY161=\"\",\"\",\"AgencyEntityInstance Id 159\")","v":""},{"$f":"IF(BY161=\"\",\"\",\"CM_QCQABaseCompData_Tolerance5\")","v":""},null,{"$f":"IF(BY161=\"\",\"\",TODAY())","v":""},{"$f":"IF(BY161=\"\",\"\",\"WTSYSTEMUSER\")","v":""},{"$f":"IF(BY161=\"\",\"\",TODAY())","v":""},{"$f":"IF(BY161=\"\",\"\",\"WTSYSTEMUSER\")","v":""}]
[null,null,null,null,null,null,null,null,null,null,null,null,null,null,null,null,null,null,null,null,null,null,null,null,null,null,null,null,null,null,null,null,null,null,null,null,null,null,null,null,null,null,null,null,null,null,null,null,null,null,null,null,null,null,null,null,null,null,null,null,null,null,null,null,null,null,null,null,null,null,null,null,null,null,null,null,null,null,null,null,null,null,null,null,null,null,null,null,null,null,null,null,"",null,{"$f":"IF(BY161=\"\",\"\",\"AgencyEntityInsData Id 1507\")","v":""},{"$f":"IF(BY161=\"\",\"\",\"AgencyEntityInstance Id 159\")","v":""},{"$f":"IF(BY161=\"\",\"\",\"CM_QCQABaseCompData_Tolerance6\")","v":""},null,{"$f":"IF(BY161=\"\",\"\",TODAY())","v":""},{"$f":"IF(BY161=\"\",\"\",\"WTSYSTEMUSER\")","v":""},{"$f":"IF(BY161=\"\",\"\",TODAY())","v":""},{"$f":"IF(BY161=\"\",\"\",\"WTSYSTEMUSER\")","v":""}]
[null,null,null,null,null,null,null,null,null,null,null,null,null,null,null,null,null,null,null,null,null,null,null,null,null,null,null,null,null,null,null,null,null,null,null,null,null,null,null,null,null,null,null,null,null,null,null,null,null,null,null,null,null,null,null,null,null,null,null,null,null,null,null,null,null,null,null,null,null,null,null,null,null,null,null,null,null,null,null,null,null,null,null,null,null,null,null,null,null,null,null,null,"",null,{"$f":"IF(BY161=\"\",\"\",\"AgencyEntityInsData Id 1508\")","v":""},{"$f":"IF(BY161=\"\",\"\",\"AgencyEntityInstance Id 159\")","v":""},{"$f":"IF(BY161=\"\",\"\",\"CM_QCQABaseCompData_Tolerance7\")","v":""},null,{"$f":"IF(BY161=\"\",\"\",TODAY())","v":""},{"$f":"IF(BY161=\"\",\"\",\"WTSYSTEMUSER\")","v":""},{"$f":"IF(BY161=\"\",\"\",TODAY())","v":""},{"$f":"IF(BY161=\"\",\"\",\"WTSYSTEMUSER\")","v":""}]
[null,null,null,null,null,null,null,null,null,null,null,null,null,null,null,null,null,null,null,null,null,null,null,null,null,null,null,null,null,null,null,null,null,null,null,null,null,null,null,null,null,null,null,null,null,null,null,null,null,null,null,null,null,null,null,null,null,null,null,null,null,null,null,null,null,null,null,null,null,null,null,null,null,null,null,null,null,null,null,null,null,null,null,null,null,null,null,null,null,null,null,null,"",null,{"$f":"IF(BY161=\"\",\"\",\"AgencyEntityInsData Id 1509\")","v":""},{"$f":"IF(BY161=\"\",\"\",\"AgencyEntityInstance Id 159\")","v":""},{"$f":"IF(BY161=\"\",\"\",\"CM_QCQABaseCompData_Tolerance8\")","v":""},null,{"$f":"IF(BY161=\"\",\"\",TODAY())","v":""},{"$f":"IF(BY161=\"\",\"\",\"WTSYSTEMUSER\")","v":""},{"$f":"IF(BY161=\"\",\"\",TODAY())","v":""},{"$f":"IF(BY161=\"\",\"\",\"WTSYSTEMUSER\")","v":""}]
[null,null,null,null,null,null,null,null,null,null,null,null,null,null,null,null,null,null,null,null,null,null,null,null,null,null,null,null,null,null,null,null,null,null,null,null,null,null,null,null,null,null,null,null,null,null,null,null,null,null,null,null,null,null,null,null,null,null,null,null,null,null,null,null,null,null,null,null,null,null,null,null,null,null,null,null,null,null,null,null,null,null,null,null,null,null,null,null,null,null,null,null,"",null,{"$f":"IF(BY161=\"\",\"\",\"AgencyEntityInsData Id 1510\")","v":""},{"$f":"IF(BY161=\"\",\"\",\"AgencyEntityInstance Id 159\")","v":""},{"$f":"IF(BY161=\"\",\"\",\"CM_QCQABaseCompData_Tolerance9\")","v":""},null,{"$f":"IF(BY161=\"\",\"\",TODAY())","v":""},{"$f":"IF(BY161=\"\",\"\",\"WTSYSTEMUSER\")","v":""},{"$f":"IF(BY161=\"\",\"\",TODAY())","v":""},{"$f":"IF(BY161=\"\",\"\",\"WTSYSTEMUSER\")","v":""}]