{"text_format":"1","workbook":"xlsx","n_sheets":4,"sheets":["Intructions","Redeck Deflections","Deliverables","Reference"],"not_rendered":{"charts":0,"images":0,"macros":1,"external_links":0,"defined_names":1,"comments":0,"pivot_tables":0},"unopened":[],"bounds":{"document_bytes":16777216,"sheet_cells":100000,"rows_first":2000,"rows_last":500,"rows_between":2000,"halvings":0,"cell_chars":16384,"cell_head_chars":4096},"cells_cut":0,"cells_raw":0,"read":"whole","date_system":"1900"}

{"sheet":"Intructions","index":0,"n_rows":5,"n_cols":1,"rows_kept":5,"cut":false,"hidden":false,"merged":[]}
["1. Use the \"Clear Spreadsheet\" Button on the \"Redeck Deflections\" sheet when starting a new job."]
["2. Enter the number of spans and span lengths in the \"Redeck Deflections\" sheet and click on the \"Genereate Deflections Table\" button."]
["3. Copy and paste the deflections from AASHTOWare Bridge Rating to the spreadsheet table."]
["4. Go to the \"Deliverables\" sheet and click the \"Generate Deflections\" Button."]
["5. Copy the Data on the \"Deliverables\" sheet to a blank spreadsheet. This information will be shared in the electronic deliverables."]

{"sheet":"Redeck Deflections","index":1,"n_rows":43,"n_cols":30,"rows_kept":43,"cut":false,"hidden":false,"merged":[[0,0,1,9],[7,7,7,17],[7,19,7,29],[8,12,8,13],[8,15,8,16],[8,24,8,25],[8,27,8,28]]}
["Dead Load Deflections"]
[]
[null,null,"Number of Spans = ",3]
[]
[null,null,null,{"$f":"IF($D$3=1,\"Span 1\",IF($D$3=2,\"Span 1\",IF($D$3=3,\"Span 1\",IF($D$3=4,\"Span 1\",IF($D$3=5,\"Span 1\",IF($D$3=6,\"Span 1\",IF($D$3=7,\"Span 1\",IF($D$3=8,\"Span 1\",\"\"))))))))","v":"Span 1"},{"$f":"IF($D$3=1,\"\",IF($D$3=2,\"Span 2\",IF($D$3=3,\"Span 2\",IF($D$3=4,\"Span 2\",IF($D$3=5,\"Span 2\",IF($D$3=6,\"Span 2\",IF($D$3=7,\"Span 2\",IF($D$3=8,\"Span 2\",\"\"))))))))","v":"Span 2"},{"$f":"IF($D$3=1,\"\",IF($D$3=2,\"\",IF($D$3=3,\"Span 3\",IF($D$3=4,\"Span 3\",IF($D$3=5,\"Span 3\",IF($D$3=6,\"Span 3\",IF($D$3=7,\"Span 3\",IF($D$3=8,\"Span 3\",\"\"))))))))","v":"Span 3"},{"$f":"IF($D$3=1,\"\",IF($D$3=2,\"\",IF($D$3=3,\"\",IF($D$3=4,\"Span 4\",IF($D$3=5,\"Span 4\",IF($D$3=6,\"Span 4\",IF($D$3=7,\"Span 4\",IF($D$3=8,\"Span 4\",\"\"))))))))","v":""},{"$f":"IF($D$3=1,\"\",IF($D$3=2,\"\",IF($D$3=3,\"\",IF($D$3=4,\"\",IF($D$3=5,\"Span 5\",IF($D$3=6,\"Span 5\",IF($D$3=7,\"Span 5\",IF($D$3=8,\"Span 5\",\"\"))))))))","v":""},{"$f":"IF($D$3=1,\"\",IF($D$3=2,\"\",IF($D$3=3,\"\",IF($D$3=4,\"\",IF($D$3=5,\"\",IF($D$3=6,\"Span 6\",IF($D$3=7,\"Span 6\",IF($D$3=8,\"Span 6\",\"\"))))))))","v":""},{"$f":"IF($D$3=1,\"\",IF($D$3=2,\"\",IF($D$3=3,\"\",IF($D$3=4,\"\",IF($D$3=5,\"\",IF($D$3=6,\"\",IF($D$3=7,\"Span 7\",IF($D$3=8,\"Span 7\",\"\"))))))))","v":""},{"$f":"IF($D$3=1,\"\",IF($D$3=2,\"\",IF($D$3=3,\"\",IF($D$3=4,\"\",IF($D$3=5,\"\",IF($D$3=6,\"\",IF($D$3=7,\"\",IF($D$3=8,\"Span 8\",\"\"))))))))","v":""}]
[null,null,"Span Length, ft. = ",110,120,110]
[]
[null,null,null,null,null,null,null,"EXTERIOR GIRDERS",null,null,null,null,null,null,null,null,null,null,null,"INTERIOR GIRDERS"]
[null,null,null,null,null,null,null,null,null,null,"Girder","Intermediate diaphragms","Concrete",null,"Barrier","Total DL Deflection",null,null,null,null,null,null,"Girder","Intermediate diaphragms","Concrete",null,"Barrier","Total DL Deflection"]
[null,null,null,null,null,null,null,"Tenth point"," Location"," Distance"," YDL-s1- Load Case 1 - Self Load (Stage1:D,DC)"," YDL-s1- Load Case 2 - Add'l Self Load (In Force/Length) (Stage 1:D,DC)"," YDL-s1- Load Case 3 - Haunch Load (Stage1:D,DC)"," YDL-s1- Load Case 4 - Concrete Deck Load (Stage1:D,DC)"," YDL-s2- Load Case 1 - Parapet Loads(DL2 - Barriers & Curbs: Stage 2:D,D~","Decimal Inches","Nearest 1/8\"","Tenth point",null,"Tenth point"," Location"," Distance"," YDL-s1- Load Case 1 - Self Load (Stage1:D,DC)"," YDL-s1- Load Case 2 - Add'l Self Load (In Force/Length) (Stage 1:D,DC)"," YDL-s1- Load Case 3 - Haunch Load (Stage1:D,DC)"," YDL-s1- Load Case 4 - Concrete Deck Load (Stage1:D,DC)"," YDL-s2- Load Case 1 - Parapet Loads(DL2 - Barriers & Curbs: Stage 2:D,D~","Decimal Inches","Nearest 1/8\"","Tenth point"]
[null,null,null,null,null,null,null,1,0,0,0,0,0,0,0,{"$f":"SUM('Redeck Deflections'!$K$11:$O$11)","v":0},{"$f":"IF('Redeck Deflections'!$P$11<0,MROUND(ABS('Redeck Deflections'!$P$11),0.125),MROUND('Redeck Deflections'!$P$11,0.125)*-1)","v":0},1,null,1,0,0,0,0,0,0,0,{"$f":"SUM('Redeck Deflections'!$W$11:$AA$11)","v":0},{"$f":"IF('Redeck Deflections'!$AB$11<0,MROUND(ABS('Redeck Deflections'!$AB$11),0.125),MROUND('Redeck Deflections'!$AB$11,0.125)*-1)","v":0},1]
[null,null,null,null,null,null,null,1.1000000000000001,{"$f":"'Redeck Deflections'!$D$6*0.1","v":11},{"$f":"Reference!$C$349","v":11},-1.5699999999999999E-2,-7.4000000000000003E-3,-8.9999999999999998E-4,-0.12970000000000001,-2.4400000000000002E-2,{"$f":"SUM('Redeck Deflections'!$K$12:$O$12)","v":-0.17810000000000001},{"$f":"IF('Redeck Deflections'!$P$12<0,MROUND(ABS('Redeck Deflections'!$P$12),0.125),MROUND('Redeck Deflections'!$P$12,0.125)*-1)","v":0.125},1.1000000000000001,null,1.1000000000000001,{"$f":"'Redeck Deflections'!$D$6*0.1","v":11},{"$f":"Reference!$C$349","v":11},-1.5699999999999999E-2,-7.4000000000000003E-3,-8.9999999999999998E-4,-0.12970000000000001,-2.4400000000000002E-2,{"$f":"SUM('Redeck Deflections'!$W$12:$AA$12)","v":-0.17810000000000001},{"$f":"IF('Redeck Deflections'!$AB$12<0,MROUND(ABS('Redeck Deflections'!$AB$12),0.125),MROUND('Redeck Deflections'!$AB$12,0.125)*-1)","v":0.125},1.1000000000000001]
[null,null,null,null,null,null,null,1.2,{"$f":"'Redeck Deflections'!$D$6*0.2","v":22},{"$f":"Reference!$D$349+Reference!$D$349","v":22},-2.87E-2,-1.35E-2,-1.6999999999999999E-3,-0.23680000000000001,-4.4900000000000002E-2,{"$f":"SUM('Redeck Deflections'!$K$13:$O$13)","v":-0.3256},{"$f":"IF('Redeck Deflections'!$P$13<0,MROUND(ABS('Redeck Deflections'!$P$13),0.125),MROUND('Redeck Deflections'!$P$13,0.125)*-1)","v":0.375},1.2,null,1.2,{"$f":"'Redeck Deflections'!$D$6*0.2","v":22},{"$f":"Reference!$D$349+Reference!$D$349","v":22},-2.87E-2,-1.35E-2,-1.6999999999999999E-3,-0.23680000000000001,-4.4900000000000002E-2,{"$f":"SUM('Redeck Deflections'!$W$13:$AA$13)","v":-0.3256},{"$f":"IF('Redeck Deflections'!$AB$13<0,MROUND(ABS('Redeck Deflections'!$AB$13),0.125),MROUND('Redeck Deflections'!$AB$13,0.125)*-1)","v":0.375},1.2]
[null,null,null,null,null,null,null,1.3,{"$f":"'Redeck Deflections'!$D$6*0.3","v":33},{"$f":"Reference!$D$350+Reference!$D$349","v":33},-3.6999999999999998E-2,-1.7500000000000002E-2,-2.2000000000000001E-3,-0.30559999999999998,-5.8799999999999998E-2,{"$f":"SUM('Redeck Deflections'!$K$14:$O$14)","v":-0.42109999999999997},{"$f":"IF('Redeck Deflections'!$P$14<0,MROUND(ABS('Redeck Deflections'!$P$14),0.125),MROUND('Redeck Deflections'!$P$14,0.125)*-1)","v":0.375},1.3,null,1.3,{"$f":"'Redeck Deflections'!$D$6*0.3","v":33},{"$f":"Reference!$D$350+Reference!$D$349","v":33},-3.6999999999999998E-2,-1.7500000000000002E-2,-2.2000000000000001E-3,-0.30559999999999998,-5.8799999999999998E-2,{"$f":"SUM('Redeck Deflections'!$W$14:$AA$14)","v":-0.42109999999999997},{"$f":"IF('Redeck Deflections'!$AB$14<0,MROUND(ABS('Redeck Deflections'!$AB$14),0.125),MROUND('Redeck Deflections'!$AB$14,0.125)*-1)","v":0.375},1.3]
[null,null,null,null,null,null,null,1.4,{"$f":"'Redeck Deflections'!$D$6*0.4","v":44},{"$f":"Reference!$D$351+Reference!$D$349","v":44},-3.9800000000000002E-2,-1.8800000000000001E-2,-2.3999999999999998E-3,-0.32840000000000003,-6.4299999999999996E-2,{"$f":"SUM('Redeck Deflections'!$K$15:$O$15)","v":-0.45369999999999999},{"$f":"IF('Redeck Deflections'!$P$15<0,MROUND(ABS('Redeck Deflections'!$P$15),0.125),MROUND('Redeck Deflections'!$P$15,0.125)*-1)","v":0.5},1.4,null,1.4,{"$f":"'Redeck Deflections'!$D$6*0.4","v":44},{"$f":"Reference!$D$351+Reference!$D$349","v":44},-3.9800000000000002E-2,-1.8800000000000001E-2,-2.3999999999999998E-3,-0.32840000000000003,-6.4299999999999996E-2,{"$f":"SUM('Redeck Deflections'!$W$15:$AA$15)","v":-0.45369999999999999},{"$f":"IF('Redeck Deflections'!$AB$15<0,MROUND(ABS('Redeck Deflections'!$AB$15),0.125),MROUND('Redeck Deflections'!$AB$15,0.125)*-1)","v":0.5},1.4]
[null,null,null,null,null,null,null,1.5,{"$f":"'Redeck Deflections'!$D$6*0.5","v":55},{"$f":"Reference!$D$352+Reference!$D$349","v":55},-3.7100000000000001E-2,-1.7399999999999999E-2,-2.2000000000000001E-3,-0.30530000000000002,-6.1400000000000003E-2,{"$f":"SUM('Redeck Deflections'!$K$16:$O$16)","v":-0.4234},{"$f":"IF('Redeck Deflections'!$P$16<0,MROUND(ABS('Redeck Deflections'!$P$16),0.125),MROUND('Redeck Deflections'!$P$16,0.125)*-1)","v":0.375},1.5,null,1.5,{"$f":"'Redeck Deflections'!$D$6*0.5","v":55},{"$f":"Reference!$D$352+Reference!$D$349","v":55},-3.7100000000000001E-2,-1.7399999999999999E-2,-2.2000000000000001E-3,-0.30530000000000002,-6.1400000000000003E-2,{"$f":"SUM('Redeck Deflections'!$W$16:$AA$16)","v":-0.4234},{"$f":"IF('Redeck Deflections'!$AB$16<0,MROUND(ABS('Redeck Deflections'!$AB$16),0.125),MROUND('Redeck Deflections'!$AB$16,0.125)*-1)","v":0.375},1.5]
[null,null,null,null,null,null,null,1.6,{"$f":"'Redeck Deflections'!$D$6*0.6","v":66},{"$f":"Reference!$D$353+Reference!$D$349","v":66},-2.9700000000000001E-2,-1.3899999999999999E-2,-1.8E-3,-0.24390000000000001,-5.0799999999999998E-2,{"$f":"SUM('Redeck Deflections'!$K$17:$O$17)","v":-0.34010000000000001},{"$f":"IF('Redeck Deflections'!$P$17<0,MROUND(ABS('Redeck Deflections'!$P$17),0.125),MROUND('Redeck Deflections'!$P$17,0.125)*-1)","v":0.375},1.6,null,1.6,{"$f":"'Redeck Deflections'!$D$6*0.6","v":66},{"$f":"Reference!$D$353+Reference!$D$349","v":66},-2.9700000000000001E-2,-1.3899999999999999E-2,-1.8E-3,-0.24390000000000001,-5.0799999999999998E-2,{"$f":"SUM('Redeck Deflections'!$W$17:$AA$17)","v":-0.34010000000000001},{"$f":"IF('Redeck Deflections'!$AB$17<0,MROUND(ABS('Redeck Deflections'!$AB$17),0.125),MROUND('Redeck Deflections'!$AB$17,0.125)*-1)","v":0.375},1.6]
[null,null,null,null,null,null,null,1.7,{"$f":"'Redeck Deflections'!$D$6*0.7","v":77},{"$f":"Reference!$D$354+Reference!$D$349","v":77},-1.95E-2,-9.1000000000000004E-3,-1.1000000000000001E-3,-0.15989999999999999,-3.4799999999999998E-2,{"$f":"SUM('Redeck Deflections'!$K$18:$O$18)","v":-0.22439999999999999},{"$f":"IF('Redeck Deflections'!$P$18<0,MROUND(ABS('Redeck Deflections'!$P$18),0.125),MROUND('Redeck Deflections'!$P$18,0.125)*-1)","v":0.25},1.7,null,1.7,{"$f":"'Redeck Deflections'!$D$6*0.7","v":77},{"$f":"Reference!$D$354+Reference!$D$349","v":77},-1.95E-2,-9.1000000000000004E-3,-1.1000000000000001E-3,-0.15989999999999999,-3.4799999999999998E-2,{"$f":"SUM('Redeck Deflections'!$W$18:$AA$18)","v":-0.22439999999999999},{"$f":"IF('Redeck Deflections'!$AB$18<0,MROUND(ABS('Redeck Deflections'!$AB$18),0.125),MROUND('Redeck Deflections'!$AB$18,0.125)*-1)","v":0.25},1.7]
[null,null,null,null,null,null,null,1.8,{"$f":"'Redeck Deflections'!$D$6*0.8","v":88},{"$f":"Reference!$D$355+Reference!$D$349","v":88},-9.4000000000000004E-3,-4.4000000000000003E-3,-5.0000000000000001E-4,-7.6399999999999996E-2,-1.6899999999999998E-2,{"$f":"SUM('Redeck Deflections'!$K$19:$O$19)","v":-0.1076},{"$f":"IF('Redeck Deflections'!$P$19<0,MROUND(ABS('Redeck Deflections'!$P$19),0.125),MROUND('Redeck Deflections'!$P$19,0.125)*-1)","v":0.125},1.8,null,1.8,{"$f":"'Redeck Deflections'!$D$6*0.8","v":88},{"$f":"Reference!$D$355+Reference!$D$349","v":88},-9.4000000000000004E-3,-4.4000000000000003E-3,-5.0000000000000001E-4,-7.6399999999999996E-2,-1.6899999999999998E-2,{"$f":"SUM('Redeck Deflections'!$W$19:$AA$19)","v":-0.1076},{"$f":"IF('Redeck Deflections'!$AB$19<0,MROUND(ABS('Redeck Deflections'!$AB$19),0.125),MROUND('Redeck Deflections'!$AB$19,0.125)*-1)","v":0.125},1.8]
[null,null,null,null,null,null,null,1.9,{"$f":"'Redeck Deflections'!$D$6*0.9","v":99},{"$f":"Reference!$D$356+Reference!$D$349","v":99},-2.3999999999999998E-3,-1.1000000000000001E-3,-1E-4,-1.9099999999999999E-2,-3.0000000000000001E-3,{"$f":"SUM('Redeck Deflections'!$K$20:$O$20)","v":-2.5699999999999997E-2},{"$f":"IF('Redeck Deflections'!$P$20<0,MROUND(ABS('Redeck Deflections'!$P$20),0.125),MROUND('Redeck Deflections'!$P$20,0.125)*-1)","v":0},1.9,null,1.9,{"$f":"'Redeck Deflections'!$D$6*0.9","v":99},{"$f":"Reference!$D$356+Reference!$D$349","v":99},-2.3999999999999998E-3,-1.1000000000000001E-3,-1E-4,-1.9099999999999999E-2,-3.0000000000000001E-3,{"$f":"SUM('Redeck Deflections'!$W$20:$AA$20)","v":-2.5699999999999997E-2},{"$f":"IF('Redeck Deflections'!$AB$20<0,MROUND(ABS('Redeck Deflections'!$AB$20),0.125),MROUND('Redeck Deflections'!$AB$20,0.125)*-1)","v":0},1.9]
[null,null,null,null,null,null,null,2,{"$f":"'Redeck Deflections'!$D$6*1","v":110},{"$f":"Reference!$D$357+Reference!$D$349","v":110},0,0,0,0,0,{"$f":"SUM('Redeck Deflections'!$K$21:$O$21)","v":0},{"$f":"IF('Redeck Deflections'!$P$21<0,MROUND(ABS('Redeck Deflections'!$P$21),0.125),MROUND('Redeck Deflections'!$P$21,0.125)*-1)","v":0},2,null,2,{"$f":"'Redeck Deflections'!$D$6*1","v":110},{"$f":"Reference!$D$357+Reference!$D$349","v":110},0,0,0,0,0,{"$f":"SUM('Redeck Deflections'!$W$21:$AA$21)","v":0},{"$f":"IF('Redeck Deflections'!$AB$21<0,MROUND(ABS('Redeck Deflections'!$AB$21),0.125),MROUND('Redeck Deflections'!$AB$21,0.125)*-1)","v":0},2]
[null,null,null,null,null,null,null,2,0,{"$f":"Reference!$D$358","v":110},0,0,0,0,0,{"$f":"SUM('Redeck Deflections'!$K$22:$O$22)","v":0},{"$f":"IF('Redeck Deflections'!$P$22<0,MROUND(ABS('Redeck Deflections'!$P$22),0.125),MROUND('Redeck Deflections'!$P$22,0.125)*-1)","v":0},2,null,2,0,{"$f":"Reference!$D$358","v":110},0,0,0,0,0,{"$f":"SUM('Redeck Deflections'!$W$22:$AA$22)","v":0},{"$f":"IF('Redeck Deflections'!$AB$22<0,MROUND(ABS('Redeck Deflections'!$AB$22),0.125),MROUND('Redeck Deflections'!$AB$22,0.125)*-1)","v":0},2]
[null,null,null,null,null,null,null,2.1,{"$f":"'Redeck Deflections'!$E$6*0.1","v":12},{"$f":"Reference!$D$359+Reference!$C$360","v":122},-6.4999999999999997E-3,-2.8999999999999998E-3,-4.0000000000000002E-4,-5.1400000000000001E-2,-1.9400000000000001E-2,{"$f":"SUM('Redeck Deflections'!$K$23:$O$23)","v":-8.0600000000000005E-2},{"$f":"IF('Redeck Deflections'!$P$23<0,MROUND(ABS('Redeck Deflections'!$P$23),0.125),MROUND('Redeck Deflections'!$P$23,0.125)*-1)","v":0.125},2.1,null,2.1,{"$f":"'Redeck Deflections'!$E$6*0.1","v":12},{"$f":"Reference!$D$359+Reference!$C$360","v":122},-6.4999999999999997E-3,-2.8999999999999998E-3,-4.0000000000000002E-4,-5.1400000000000001E-2,-1.9400000000000001E-2,{"$f":"SUM('Redeck Deflections'!$W$23:$AA$23)","v":-8.0600000000000005E-2},{"$f":"IF('Redeck Deflections'!$AB$23<0,MROUND(ABS('Redeck Deflections'!$AB$23),0.125),MROUND('Redeck Deflections'!$AB$23,0.125)*-1)","v":0.125},2.1]
[null,null,null,null,null,null,null,2.2000000000000002,{"$f":"'Redeck Deflections'!$E$6*0.2","v":24},{"$f":"Reference!$C$361+Reference!$D$59","v":134},-0.02,-9.1999999999999998E-3,-1.1999999999999999E-3,-0.16139999999999999,-5.2999999999999999E-2,{"$f":"SUM('Redeck Deflections'!$K$24:$O$24)","v":-0.24479999999999999},{"$f":"IF('Redeck Deflections'!$P$24<0,MROUND(ABS('Redeck Deflections'!$P$24),0.125),MROUND('Redeck Deflections'!$P$24,0.125)*-1)","v":0.25},2.2000000000000002,null,2.2000000000000002,{"$f":"'Redeck Deflections'!$E$6*0.2","v":24},{"$f":"Reference!$C$361+Reference!$D$59","v":134},-0.02,-9.1999999999999998E-3,-1.1999999999999999E-3,-0.16139999999999999,-5.2999999999999999E-2,{"$f":"SUM('Redeck Deflections'!$W$24:$AA$24)","v":-0.24479999999999999},{"$f":"IF('Redeck Deflections'!$AB$24<0,MROUND(ABS('Redeck Deflections'!$AB$24),0.125),MROUND('Redeck Deflections'!$AB$24,0.125)*-1)","v":0.25},2.2000000000000002]
[null,null,null,null,null,null,null,2.2999999999999998,{"$f":"'Redeck Deflections'!$E$6*0.3","v":36},{"$f":"Reference!$C$362+Reference!$D$359","v":146},-3.5999999999999997E-2,-1.67E-2,-2.0999999999999999E-3,-0.2928,-8.6300000000000002E-2,{"$f":"SUM('Redeck Deflections'!$K$25:$O$25)","v":-0.43390000000000001},{"$f":"IF('Redeck Deflections'!$P$25<0,MROUND(ABS('Redeck Deflections'!$P$25),0.125),MROUND('Redeck Deflections'!$P$25,0.125)*-1)","v":0.375},2.2999999999999998,null,2.2999999999999998,{"$f":"'Redeck Deflections'!$E$6*0.3","v":36},{"$f":"Reference!$C$362+Reference!$D$359","v":146},-3.5999999999999997E-2,-1.67E-2,-2.0999999999999999E-3,-0.2928,-8.6300000000000002E-2,{"$f":"SUM('Redeck Deflections'!$W$25:$AA$25)","v":-0.43390000000000001},{"$f":"IF('Redeck Deflections'!$AB$25<0,MROUND(ABS('Redeck Deflections'!$AB$25),0.125),MROUND('Redeck Deflections'!$AB$25,0.125)*-1)","v":0.375},2.2999999999999998]
[null,null,null,null,null,null,null,2.4,{"$f":"'Redeck Deflections'!$E$6*0.4","v":48},{"$f":"Reference!$C$363+Reference!$D$359","v":158},-4.8300000000000003E-2,-2.2499999999999999E-2,-2.8E-3,-0.39329999999999998,-0.10979999999999999,{"$f":"SUM('Redeck Deflections'!$K$26:$O$26)","v":-0.57669999999999999},{"$f":"IF('Redeck Deflections'!$P$26<0,MROUND(ABS('Redeck Deflections'!$P$26),0.125),MROUND('Redeck Deflections'!$P$26,0.125)*-1)","v":0.625},2.4,null,2.4,{"$f":"'Redeck Deflections'!$E$6*0.4","v":48},{"$f":"Reference!$C$363+Reference!$D$359","v":158},-4.8300000000000003E-2,-2.2499999999999999E-2,-2.8E-3,-0.39329999999999998,-0.10979999999999999,{"$f":"SUM('Redeck Deflections'!$W$26:$AA$26)","v":-0.57669999999999999},{"$f":"IF('Redeck Deflections'!$AB$26<0,MROUND(ABS('Redeck Deflections'!$AB$26),0.125),MROUND('Redeck Deflections'!$AB$26,0.125)*-1)","v":0.625},2.4]
[null,null,null,null,null,null,null,2.5,{"$f":"'Redeck Deflections'!$E$6*0.5","v":60},{"$f":"Reference!$C$364+Reference!$D$359","v":170},-5.28E-2,-2.46E-2,-3.0999999999999999E-3,-0.4304,-0.1182,{"$f":"SUM('Redeck Deflections'!$K$27:$O$27)","v":-0.62909999999999999},{"$f":"IF('Redeck Deflections'!$P$27<0,MROUND(ABS('Redeck Deflections'!$P$27),0.125),MROUND('Redeck Deflections'!$P$27,0.125)*-1)","v":0.625},2.5,null,2.5,{"$f":"'Redeck Deflections'!$E$6*0.5","v":60},{"$f":"Reference!$C$364+Reference!$D$359","v":170},-5.28E-2,-2.46E-2,-3.0999999999999999E-3,-0.4304,-0.1182,{"$f":"SUM('Redeck Deflections'!$W$27:$AA$27)","v":-0.62909999999999999},{"$f":"IF('Redeck Deflections'!$AB$27<0,MROUND(ABS('Redeck Deflections'!$AB$27),0.125),MROUND('Redeck Deflections'!$AB$27,0.125)*-1)","v":0.625},2.5]
[null,null,null,null,null,null,null,2.6,{"$f":"'Redeck Deflections'!$E$6*0.6","v":72},{"$f":"Reference!$C$365+Reference!$D$359","v":182},-4.8300000000000003E-2,-2.2499999999999999E-2,-2.8E-3,-0.39329999999999998,-0.10979999999999999,{"$f":"SUM('Redeck Deflections'!$K$28:$O$28)","v":-0.57669999999999999},{"$f":"IF('Redeck Deflections'!$P$28<0,MROUND(ABS('Redeck Deflections'!$P$28),0.125),MROUND('Redeck Deflections'!$P$28,0.125)*-1)","v":0.625},2.6,null,2.6,{"$f":"'Redeck Deflections'!$E$6*0.6","v":72},{"$f":"Reference!$C$365+Reference!$D$359","v":182},-4.8300000000000003E-2,-2.2499999999999999E-2,-2.8E-3,-0.39329999999999998,-0.10979999999999999,{"$f":"SUM('Redeck Deflections'!$W$28:$AA$28)","v":-0.57669999999999999},{"$f":"IF('Redeck Deflections'!$AB$28<0,MROUND(ABS('Redeck Deflections'!$AB$28),0.125),MROUND('Redeck Deflections'!$AB$28,0.125)*-1)","v":0.625},2.6]
[null,null,null,null,null,null,null,2.7,{"$f":"'Redeck Deflections'!$E$6*0.7","v":84},{"$f":"Reference!$C$366+Reference!$D$359","v":194},-3.5999999999999997E-2,-1.67E-2,-2.0999999999999999E-3,-0.2928,-8.6300000000000002E-2,{"$f":"SUM('Redeck Deflections'!$K$29:$O$29)","v":-0.43390000000000001},{"$f":"IF('Redeck Deflections'!$P$29<0,MROUND(ABS('Redeck Deflections'!$P$29),0.125),MROUND('Redeck Deflections'!$P$29,0.125)*-1)","v":0.375},2.7,null,2.7,{"$f":"'Redeck Deflections'!$E$6*0.7","v":84},{"$f":"Reference!$C$366+Reference!$D$359","v":194},-3.5999999999999997E-2,-1.67E-2,-2.0999999999999999E-3,-0.2928,-8.6300000000000002E-2,{"$f":"SUM('Redeck Deflections'!$W$29:$AA$29)","v":-0.43390000000000001},{"$f":"IF('Redeck Deflections'!$AB$29<0,MROUND(ABS('Redeck Deflections'!$AB$29),0.125),MROUND('Redeck Deflections'!$AB$29,0.125)*-1)","v":0.375},2.7]
[null,null,null,null,null,null,null,2.8,{"$f":"'Redeck Deflections'!$E$6*0.8","v":96},{"$f":"Reference!$C$367+Reference!$D$359","v":206},-0.02,-9.1999999999999998E-3,-1.1999999999999999E-3,-0.16139999999999999,-5.2999999999999999E-2,{"$f":"SUM('Redeck Deflections'!$K$30:$O$30)","v":-0.24479999999999999},{"$f":"IF('Redeck Deflections'!$P$30<0,MROUND(ABS('Redeck Deflections'!$P$30),0.125),MROUND('Redeck Deflections'!$P$30,0.125)*-1)","v":0.25},2.8,null,2.8,{"$f":"'Redeck Deflections'!$E$6*0.8","v":96},{"$f":"Reference!$C$367+Reference!$D$359","v":206},-0.02,-9.1999999999999998E-3,-1.1999999999999999E-3,-0.16139999999999999,-5.2999999999999999E-2,{"$f":"SUM('Redeck Deflections'!$W$30:$AA$30)","v":-0.24479999999999999},{"$f":"IF('Redeck Deflections'!$AB$30<0,MROUND(ABS('Redeck Deflections'!$AB$30),0.125),MROUND('Redeck Deflections'!$AB$30,0.125)*-1)","v":0.25},2.8]
[null,null,null,null,null,null,null,2.9,{"$f":"'Redeck Deflections'!$E$6*0.9","v":108},{"$f":"Reference!$C$368+Reference!$D$359","v":218},-6.4999999999999997E-3,-2.8999999999999998E-3,-4.0000000000000002E-4,-5.1400000000000001E-2,-1.9400000000000001E-2,{"$f":"SUM('Redeck Deflections'!$K$31:$O$31)","v":-8.0600000000000005E-2},{"$f":"IF('Redeck Deflections'!$P$31<0,MROUND(ABS('Redeck Deflections'!$P$31),0.125),MROUND('Redeck Deflections'!$P$31,0.125)*-1)","v":0.125},2.9,null,2.9,{"$f":"'Redeck Deflections'!$E$6*0.9","v":108},{"$f":"Reference!$C$368+Reference!$D$359","v":218},-6.4999999999999997E-3,-2.8999999999999998E-3,-4.0000000000000002E-4,-5.1400000000000001E-2,-1.9400000000000001E-2,{"$f":"SUM('Redeck Deflections'!$W$31:$AA$31)","v":-8.0600000000000005E-2},{"$f":"IF('Redeck Deflections'!$AB$31<0,MROUND(ABS('Redeck Deflections'!$AB$31),0.125),MROUND('Redeck Deflections'!$AB$31,0.125)*-1)","v":0.125},2.9]
[null,null,null,null,null,null,null,3,{"$f":"'Redeck Deflections'!$E$6*1","v":120},{"$f":"Reference!$C$369+Reference!$D$359","v":230},0,0,0,0,0,{"$f":"SUM('Redeck Deflections'!$K$32:$O$32)","v":0},{"$f":"IF('Redeck Deflections'!$P$32<0,MROUND(ABS('Redeck Deflections'!$P$32),0.125),MROUND('Redeck Deflections'!$P$32,0.125)*-1)","v":0},3,null,3,{"$f":"'Redeck Deflections'!$E$6*1","v":120},{"$f":"Reference!$C$369+Reference!$D$359","v":230},0,0,0,0,0,{"$f":"SUM('Redeck Deflections'!$W$32:$AA$32)","v":0},{"$f":"IF('Redeck Deflections'!$AB$32<0,MROUND(ABS('Redeck Deflections'!$AB$32),0.125),MROUND('Redeck Deflections'!$AB$32,0.125)*-1)","v":0},3]
[null,null,null,null,null,null,null,3,0,{"$f":"Reference!$D$369","v":230},0,0,0,0,0,{"$f":"SUM('Redeck Deflections'!$K$33:$O$33)","v":0},{"$f":"IF('Redeck Deflections'!$P$33<0,MROUND(ABS('Redeck Deflections'!$P$33),0.125),MROUND('Redeck Deflections'!$P$33,0.125)*-1)","v":0},3,null,3,0,{"$f":"Reference!$D$369","v":230},0,0,0,0,0,{"$f":"SUM('Redeck Deflections'!$W$33:$AA$33)","v":0},{"$f":"IF('Redeck Deflections'!$AB$33<0,MROUND(ABS('Redeck Deflections'!$AB$33),0.125),MROUND('Redeck Deflections'!$AB$33,0.125)*-1)","v":0},3]
[null,null,null,null,null,null,null,3.1,{"$f":"'Redeck Deflections'!$F$6*0.1","v":11},{"$f":"Reference!$D$370+Reference!$C$371","v":241},-2.3999999999999998E-3,-1.1000000000000001E-3,-1E-4,-1.9099999999999999E-2,-3.0000000000000001E-3,{"$f":"SUM('Redeck Deflections'!$K$34:$O$34)","v":-2.5699999999999997E-2},{"$f":"IF('Redeck Deflections'!$P$34<0,MROUND(ABS('Redeck Deflections'!$P$34),0.125),MROUND('Redeck Deflections'!$P$34,0.125)*-1)","v":0},3.1,null,3.1,{"$f":"'Redeck Deflections'!$F$6*0.1","v":11},{"$f":"Reference!$D$370+Reference!$C$371","v":241},-2.3999999999999998E-3,-1.1000000000000001E-3,-1E-4,-1.9099999999999999E-2,-3.0000000000000001E-3,{"$f":"SUM('Redeck Deflections'!$W$34:$AA$34)","v":-2.5699999999999997E-2},{"$f":"IF('Redeck Deflections'!$AB$34<0,MROUND(ABS('Redeck Deflections'!$AB$34),0.125),MROUND('Redeck Deflections'!$AB$34,0.125)*-1)","v":0},3.1]
[null,null,null,null,null,null,null,3.2,{"$f":"'Redeck Deflections'!$F$6*0.2","v":22},{"$f":"Reference!$C$372+Reference!$D$370","v":252},-9.4000000000000004E-3,-4.4000000000000003E-3,-5.0000000000000001E-4,-7.6399999999999996E-2,-1.6899999999999998E-2,{"$f":"SUM('Redeck Deflections'!$K$35:$O$35)","v":-0.1076},{"$f":"IF('Redeck Deflections'!$P$35<0,MROUND(ABS('Redeck Deflections'!$P$35),0.125),MROUND('Redeck Deflections'!$P$35,0.125)*-1)","v":0.125},3.2,null,3.2,{"$f":"'Redeck Deflections'!$F$6*0.2","v":22},{"$f":"Reference!$C$372+Reference!$D$370","v":252},-9.4000000000000004E-3,-4.4000000000000003E-3,-5.0000000000000001E-4,-7.6399999999999996E-2,-1.6899999999999998E-2,{"$f":"SUM('Redeck Deflections'!$W$35:$AA$35)","v":-0.1076},{"$f":"IF('Redeck Deflections'!$AB$35<0,MROUND(ABS('Redeck Deflections'!$AB$35),0.125),MROUND('Redeck Deflections'!$AB$35,0.125)*-1)","v":0.125},3.2]
[null,null,null,null,null,null,null,3.3,{"$f":"'Redeck Deflections'!$F$6*0.3","v":33},{"$f":"Reference!$C$373+Reference!$D$370","v":263},-1.95E-2,-9.1000000000000004E-3,-1.1000000000000001E-3,-0.15989999999999999,-3.4799999999999998E-2,{"$f":"SUM('Redeck Deflections'!$K$36:$O$36)","v":-0.22439999999999999},{"$f":"IF('Redeck Deflections'!$P$36<0,MROUND(ABS('Redeck Deflections'!$P$36),0.125),MROUND('Redeck Deflections'!$P$36,0.125)*-1)","v":0.25},3.3,null,3.3,{"$f":"'Redeck Deflections'!$F$6*0.3","v":33},{"$f":"Reference!$C$373+Reference!$D$370","v":263},-1.95E-2,-9.1000000000000004E-3,-1.1000000000000001E-3,-0.15989999999999999,-3.4799999999999998E-2,{"$f":"SUM('Redeck Deflections'!$W$36:$AA$36)","v":-0.22439999999999999},{"$f":"IF('Redeck Deflections'!$AB$36<0,MROUND(ABS('Redeck Deflections'!$AB$36),0.125),MROUND('Redeck Deflections'!$AB$36,0.125)*-1)","v":0.25},3.3]
[null,null,null,null,null,null,null,3.4,{"$f":"'Redeck Deflections'!$F$6*0.4","v":44},{"$f":"Reference!$C$374+Reference!$D$370","v":274},-2.9700000000000001E-2,-1.3899999999999999E-2,-1.8E-3,-0.24390000000000001,-5.0799999999999998E-2,{"$f":"SUM('Redeck Deflections'!$K$37:$O$37)","v":-0.34010000000000001},{"$f":"IF('Redeck Deflections'!$P$37<0,MROUND(ABS('Redeck Deflections'!$P$37),0.125),MROUND('Redeck Deflections'!$P$37,0.125)*-1)","v":0.375},3.4,null,3.4,{"$f":"'Redeck Deflections'!$F$6*0.4","v":44},{"$f":"Reference!$C$374+Reference!$D$370","v":274},-2.9700000000000001E-2,-1.3899999999999999E-2,-1.8E-3,-0.24390000000000001,-5.0799999999999998E-2,{"$f":"SUM('Redeck Deflections'!$W$37:$AA$37)","v":-0.34010000000000001},{"$f":"IF('Redeck Deflections'!$AB$37<0,MROUND(ABS('Redeck Deflections'!$AB$37),0.125),MROUND('Redeck Deflections'!$AB$37,0.125)*-1)","v":0.375},3.4]
[null,null,null,null,null,null,null,3.5,{"$f":"'Redeck Deflections'!$F$6*0.5","v":55},{"$f":"Reference!$C$375+Reference!$D$370","v":285},-3.7100000000000001E-2,-1.7399999999999999E-2,-2.2000000000000001E-3,-0.30530000000000002,-6.1400000000000003E-2,{"$f":"SUM('Redeck Deflections'!$K$38:$O$38)","v":-0.4234},{"$f":"IF('Redeck Deflections'!$P$38<0,MROUND(ABS('Redeck Deflections'!$P$38),0.125),MROUND('Redeck Deflections'!$P$38,0.125)*-1)","v":0.375},3.5,null,3.5,{"$f":"'Redeck Deflections'!$F$6*0.5","v":55},{"$f":"Reference!$C$375+Reference!$D$370","v":285},-3.7100000000000001E-2,-1.7399999999999999E-2,-2.2000000000000001E-3,-0.30530000000000002,-6.1400000000000003E-2,{"$f":"SUM('Redeck Deflections'!$W$38:$AA$38)","v":-0.4234},{"$f":"IF('Redeck Deflections'!$AB$38<0,MROUND(ABS('Redeck Deflections'!$AB$38),0.125),MROUND('Redeck Deflections'!$AB$38,0.125)*-1)","v":0.375},3.5]
[null,null,null,null,null,null,null,3.6,{"$f":"'Redeck Deflections'!$F$6*0.6","v":66},{"$f":"Reference!$C$376+Reference!$D$370","v":296},-3.9800000000000002E-2,-1.8800000000000001E-2,-2.3999999999999998E-3,-0.32840000000000003,-6.4299999999999996E-2,{"$f":"SUM('Redeck Deflections'!$K$39:$O$39)","v":-0.45369999999999999},{"$f":"IF('Redeck Deflections'!$P$39<0,MROUND(ABS('Redeck Deflections'!$P$39),0.125),MROUND('Redeck Deflections'!$P$39,0.125)*-1)","v":0.5},3.6,null,3.6,{"$f":"'Redeck Deflections'!$F$6*0.6","v":66},{"$f":"Reference!$C$376+Reference!$D$370","v":296},-3.9800000000000002E-2,-1.8800000000000001E-2,-2.3999999999999998E-3,-0.32840000000000003,-6.4299999999999996E-2,{"$f":"SUM('Redeck Deflections'!$W$39:$AA$39)","v":-0.45369999999999999},{"$f":"IF('Redeck Deflections'!$AB$39<0,MROUND(ABS('Redeck Deflections'!$AB$39),0.125),MROUND('Redeck Deflections'!$AB$39,0.125)*-1)","v":0.5},3.6]
[null,null,null,null,null,null,null,3.7,{"$f":"'Redeck Deflections'!$F$6*0.7","v":77},{"$f":"Reference!$C$377+Reference!$D$370","v":307},-3.6999999999999998E-2,-1.7500000000000002E-2,-2.2000000000000001E-3,-0.30559999999999998,-5.8799999999999998E-2,{"$f":"SUM('Redeck Deflections'!$K$40:$O$40)","v":-0.42109999999999997},{"$f":"IF('Redeck Deflections'!$P$40<0,MROUND(ABS('Redeck Deflections'!$P$40),0.125),MROUND('Redeck Deflections'!$P$40,0.125)*-1)","v":0.375},3.7,null,3.7,{"$f":"'Redeck Deflections'!$F$6*0.7","v":77},{"$f":"Reference!$C$377+Reference!$D$370","v":307},-3.6999999999999998E-2,-1.7500000000000002E-2,-2.2000000000000001E-3,-0.30559999999999998,-5.8799999999999998E-2,{"$f":"SUM('Redeck Deflections'!$W$40:$AA$40)","v":-0.42109999999999997},{"$f":"IF('Redeck Deflections'!$AB$40<0,MROUND(ABS('Redeck Deflections'!$AB$40),0.125),MROUND('Redeck Deflections'!$AB$40,0.125)*-1)","v":0.375},3.7]
[null,null,null,null,null,null,null,3.8,{"$f":"'Redeck Deflections'!$F$6*0.8","v":88},{"$f":"Reference!$C$378+Reference!$D$370","v":318},-2.87E-2,-1.35E-2,-1.6999999999999999E-3,-0.23680000000000001,-4.4900000000000002E-2,{"$f":"SUM('Redeck Deflections'!$K$41:$O$41)","v":-0.3256},{"$f":"IF('Redeck Deflections'!$P$41<0,MROUND(ABS('Redeck Deflections'!$P$41),0.125),MROUND('Redeck Deflections'!$P$41,0.125)*-1)","v":0.375},3.8,null,3.8,{"$f":"'Redeck Deflections'!$F$6*0.8","v":88},{"$f":"Reference!$C$378+Reference!$D$370","v":318},-2.87E-2,-1.35E-2,-1.6999999999999999E-3,-0.23680000000000001,-4.4900000000000002E-2,{"$f":"SUM('Redeck Deflections'!$W$41:$AA$41)","v":-0.3256},{"$f":"IF('Redeck Deflections'!$AB$41<0,MROUND(ABS('Redeck Deflections'!$AB$41),0.125),MROUND('Redeck Deflections'!$AB$41,0.125)*-1)","v":0.375},3.8]
[null,null,null,null,null,null,null,3.9,{"$f":"'Redeck Deflections'!$F$6*0.9","v":99},{"$f":"Reference!$C$379+Reference!$D$370","v":329},-1.5699999999999999E-2,-7.4000000000000003E-3,-8.9999999999999998E-4,-0.12970000000000001,-2.4400000000000002E-2,{"$f":"SUM('Redeck Deflections'!$K$42:$O$42)","v":-0.17810000000000001},{"$f":"IF('Redeck Deflections'!$P$42<0,MROUND(ABS('Redeck Deflections'!$P$42),0.125),MROUND('Redeck Deflections'!$P$42,0.125)*-1)","v":0.125},3.9,null,3.9,{"$f":"'Redeck Deflections'!$F$6*0.9","v":99},{"$f":"Reference!$C$379+Reference!$D$370","v":329},-1.5699999999999999E-2,-7.4000000000000003E-3,-8.9999999999999998E-4,-0.12970000000000001,-2.4400000000000002E-2,{"$f":"SUM('Redeck Deflections'!$W$42:$AA$42)","v":-0.17810000000000001},{"$f":"IF('Redeck Deflections'!$AB$42<0,MROUND(ABS('Redeck Deflections'!$AB$42),0.125),MROUND('Redeck Deflections'!$AB$42,0.125)*-1)","v":0.125},3.9]
[null,null,null,null,null,null,null,4,{"$f":"'Redeck Deflections'!$F$6*1","v":110},{"$f":"Reference!$C$380+Reference!$D$370","v":340},0,0,0,0,0,{"$f":"SUM('Redeck Deflections'!$K$43:$O$43)","v":0},{"$f":"IF('Redeck Deflections'!$P$43<0,MROUND(ABS('Redeck Deflections'!$P$43),0.125),MROUND('Redeck Deflections'!$P$43,0.125)*-1)","v":0},4,null,4,{"$f":"'Redeck Deflections'!$F$6*1","v":110},{"$f":"Reference!$C$380+Reference!$D$370","v":340},0,0,0,0,0,{"$f":"SUM('Redeck Deflections'!$W$43:$AA$43)","v":0},{"$f":"IF('Redeck Deflections'!$AB$43<0,MROUND(ABS('Redeck Deflections'!$AB$43),0.125),MROUND('Redeck Deflections'!$AB$43,0.125)*-1)","v":0},4]

{"sheet":"Deliverables","index":2,"n_rows":38,"n_cols":10,"rows_kept":38,"cut":false,"hidden":false,"merged":[[3,2,3,4],[3,6,3,8],[0,2,2,8],[0,9,2,15]]}
[null,null,"Dead Load Deflections Summary",null,null,null,null,null,null,"Copy and Paste these Values into a Separate Spreadsheet for the Electronic Deliverables"]
[]
[]
[null,null,"Exterior Girder",null,null,null,"Interior Girder"]
[null,null,"Decimal Inches","Nearest 1/8\"","Tenth point",null,"Decimal Inches","Nearest 1/8\"","Tenth point"]
[null,null,0,0,1,null,0,0,1]
[null,null,-0.17810000000000001,0.125,1.1000000000000001,null,-0.17810000000000001,0.125,1.1000000000000001]
[null,null,-0.3256,0.375,1.2,null,-0.3256,0.375,1.2]
[null,null,-0.42109999999999997,0.375,1.3,null,-0.42109999999999997,0.375,1.3]
[null,null,-0.45369999999999999,0.5,1.4,null,-0.45369999999999999,0.5,1.4]
[null,null,-0.4234,0.375,1.5,null,-0.4234,0.375,1.5]
[null,null,-0.34010000000000001,0.375,1.6,null,-0.34010000000000001,0.375,1.6]
[null,null,-0.22439999999999999,0.25,1.7,null,-0.22439999999999999,0.25,1.7]
[null,null,-0.1076,0.125,1.8,null,-0.1076,0.125,1.8]
[null,null,-2.5699999999999997E-2,0,1.9,null,-2.5699999999999997E-2,0,1.9]
[null,null,0,0,2,null,0,0,2]
[null,null,0,0,2,null,0,0,2]
[null,null,-8.0600000000000005E-2,0.125,2.1,null,-8.0600000000000005E-2,0.125,2.1]
[null,null,-0.24479999999999999,0.25,2.2000000000000002,null,-0.24479999999999999,0.25,2.2000000000000002]
[null,null,-0.43390000000000001,0.375,2.2999999999999998,null,-0.43390000000000001,0.375,2.2999999999999998]
[null,null,-0.57669999999999999,0.625,2.4,null,-0.57669999999999999,0.625,2.4]
[null,null,-0.62909999999999999,0.625,2.5,null,-0.62909999999999999,0.625,2.5]
[null,null,-0.57669999999999999,0.625,2.6,null,-0.57669999999999999,0.625,2.6]
[null,null,-0.43390000000000001,0.375,2.7,null,-0.43390000000000001,0.375,2.7]
[null,null,-0.24479999999999999,0.25,2.8,null,-0.24479999999999999,0.25,2.8]
[null,null,-8.0600000000000005E-2,0.125,2.9,null,-8.0600000000000005E-2,0.125,2.9]
[null,null,0,0,3,null,0,0,3]
[null,null,0,0,3,null,0,0,3]
[null,null,-2.5699999999999997E-2,0,3.1,null,-2.5699999999999997E-2,0,3.1]
[null,null,-0.1076,0.125,3.2,null,-0.1076,0.125,3.2]
[null,null,-0.22439999999999999,0.25,3.3,null,-0.22439999999999999,0.25,3.3]
[null,null,-0.34010000000000001,0.375,3.4,null,-0.34010000000000001,0.375,3.4]
[null,null,-0.4234,0.375,3.5,null,-0.4234,0.375,3.5]
[null,null,-0.45369999999999999,0.5,3.6,null,-0.45369999999999999,0.5,3.6]
[null,null,-0.42109999999999997,0.375,3.7,null,-0.42109999999999997,0.375,3.7]
[null,null,-0.3256,0.375,3.8,null,-0.3256,0.375,3.8]
[null,null,-0.17810000000000001,0.125,3.9,null,-0.17810000000000001,0.125,3.9]
[null,null,0,0,4,null,0,0,4]

{"sheet":"Reference","index":3,"n_rows":435,"n_cols":24,"rows_kept":435,"cut":false,"hidden":false,"merged":[[1,0,14,0],[17,1,17,11],[17,13,17,23],[18,6,18,7],[18,9,18,10],[18,18,18,19],[18,21,18,22],[17,0,41,0],[1,1,1,11],[1,13,1,23],[2,6,2,7],[2,9,2,10],[2,18,2,19],[2,21,2,22],[44,1,44,11],[45,6,45,7],[45,9,45,10],[44,0,79,0],[44,13,44,23],[45,18,45,19],[45,21,45,22],[131,0,188,0],[82,0,128,0],[131,1,131,11],[131,13,131,23],[132,6,132,7],[132,9,132,10],[132,18,132,19],[132,21,132,22],[82,1,82,11],[82,13,82,23],[83,6,83,7],[83,9,83,10],[83,18,83,19],[83,21,83,22],[191,0,259,0],[262,1,262,11],[262,13,262,23],[263,6,263,7],[263,9,263,10],[263,18,263,19],[263,21,263,22],[262,0,341,0],[191,1,191,11],[191,13,191,23],[192,6,192,7],[192,9,192,10],[192,18,192,19],[192,21,192,22],[344,0,434,0],[344,1,344,11],[344,13,344,23],[345,6,345,7],[345,9,345,10],[345,18,345,19],[345,21,345,22]]}
[]
["1 Span","EXTERIOR GIRDERS",null,null,null,null,null,null,null,null,null,null,null,"INTERIOR GIRDERS"]
[null,null,null,null,"Girder","Intermediate diaphragms","Concrete",null,"Barrier","Total DL Deflection",null,null,null,null,null,null,"Girder","Intermediate diaphragms","Concrete",null,"Barrier","Total DL Deflection"]
[null,"Tenth point"," Location"," Distance"," YDL-s1- Load Case 1 - Self Load (Stage1:D,DC)"," YDL-s1- Load Case 2 - Add'l Self Load (In Force/Length) (Stage 1:D,DC)"," YDL-s1- Load Case 3 - Haunch Load (Stage1:D,DC)"," YDL-s1- Load Case 4 - Concrete Deck Load (Stage1:D,DC)"," YDL-s2- Load Case 1 - Parapet Loads(DL2 - Barriers & Curbs: Stage 2:D,D~","Decimal Inches","Nearest 1/8\"","Tenth point",null,"Tenth point"," Location"," Distance"," YDL-s1- Load Case 1 - Self Load (Stage1:D,DC)"," YDL-s1- Load Case 2 - Add'l Self Load (In Force/Length) (Stage 1:D,DC)"," YDL-s1- Load Case 3 - Haunch Load (Stage1:D,DC)"," YDL-s1- Load Case 4 - Concrete Deck Load (Stage1:D,DC)"," YDL-s2- Load Case 1 - Parapet Loads(DL2 - Barriers & Curbs: Stage 2:D,D~","Decimal Inches","Nearest 1/8\"","Tenth point"]
[null,1,0,0,"Copy and Paste Values from Virtis",null,null,null,null,{"$f":"SUM('Redeck Deflections'!$K$11:$O$11)","v":0},{"$f":"IF('Redeck Deflections'!$P$11<0,MROUND(ABS('Redeck Deflections'!$P$11),0.125),MROUND('Redeck Deflections'!$P$11,0.125)*-1)","v":0},1,null,1,0,0,"Copy and Paste Values from Virtis",null,null,null,null,{"$f":"SUM('Redeck Deflections'!$W$11:$AA$11)","v":0},{"$f":"IF('Redeck Deflections'!$AB$11<0,MROUND(ABS('Redeck Deflections'!$AB$11),0.125),MROUND('Redeck Deflections'!$AB$11,0.125)*-1)","v":0},1]
[null,1.1000000000000001,{"$f":"'Redeck Deflections'!$D$6*0.1","v":11},{"$f":"Reference!$C$349","v":11},null,null,null,null,null,{"$f":"SUM('Redeck Deflections'!$K$12:$O$12)","v":-0.17810000000000001},{"$f":"IF('Redeck Deflections'!$P$12<0,MROUND(ABS('Redeck Deflections'!$P$12),0.125),MROUND('Redeck Deflections'!$P$12,0.125)*-1)","v":0.125},1.1000000000000001,null,1.1000000000000001,{"$f":"'Redeck Deflections'!$D$6*0.1","v":11},{"$f":"Reference!$C$349","v":11},null,null,null,null,null,{"$f":"SUM('Redeck Deflections'!$W$12:$AA$12)","v":-0.17810000000000001},{"$f":"IF('Redeck Deflections'!$AB$12<0,MROUND(ABS('Redeck Deflections'!$AB$12),0.125),MROUND('Redeck Deflections'!$AB$12,0.125)*-1)","v":0.125},1.1000000000000001]
[null,1.2,{"$f":"'Redeck Deflections'!$D$6*0.2","v":22},{"$f":"Reference!$D$349+Reference!$D$349","v":22},null,null,null,null,null,{"$f":"SUM('Redeck Deflections'!$K$13:$O$13)","v":-0.3256},{"$f":"IF('Redeck Deflections'!$P$13<0,MROUND(ABS('Redeck Deflections'!$P$13),0.125),MROUND('Redeck Deflections'!$P$13,0.125)*-1)","v":0.375},1.2,null,1.2,{"$f":"'Redeck Deflections'!$D$6*0.2","v":22},{"$f":"Reference!$D$349+Reference!$D$349","v":22},null,null,null,null,null,{"$f":"SUM('Redeck Deflections'!$W$13:$AA$13)","v":-0.3256},{"$f":"IF('Redeck Deflections'!$AB$13<0,MROUND(ABS('Redeck Deflections'!$AB$13),0.125),MROUND('Redeck Deflections'!$AB$13,0.125)*-1)","v":0.375},1.2]
[null,1.3,{"$f":"'Redeck Deflections'!$D$6*0.3","v":33},{"$f":"Reference!$D$350+Reference!$D$349","v":33},null,null,null,null,null,{"$f":"SUM('Redeck Deflections'!$K$14:$O$14)","v":-0.42109999999999997},{"$f":"IF('Redeck Deflections'!$P$14<0,MROUND(ABS('Redeck Deflections'!$P$14),0.125),MROUND('Redeck Deflections'!$P$14,0.125)*-1)","v":0.375},1.3,null,1.3,{"$f":"'Redeck Deflections'!$D$6*0.3","v":33},{"$f":"Reference!$D$350+Reference!$D$349","v":33},null,null,null,null,null,{"$f":"SUM('Redeck Deflections'!$W$14:$AA$14)","v":-0.42109999999999997},{"$f":"IF('Redeck Deflections'!$AB$14<0,MROUND(ABS('Redeck Deflections'!$AB$14),0.125),MROUND('Redeck Deflections'!$AB$14,0.125)*-1)","v":0.375},1.3]
[null,1.4,{"$f":"'Redeck Deflections'!$D$6*0.4","v":44},{"$f":"Reference!$D$351+Reference!$D$349","v":44},null,null,null,null,null,{"$f":"SUM('Redeck Deflections'!$K$15:$O$15)","v":-0.45369999999999999},{"$f":"IF('Redeck Deflections'!$P$15<0,MROUND(ABS('Redeck Deflections'!$P$15),0.125),MROUND('Redeck Deflections'!$P$15,0.125)*-1)","v":0.5},1.4,null,1.4,{"$f":"'Redeck Deflections'!$D$6*0.4","v":44},{"$f":"Reference!$D$351+Reference!$D$349","v":44},null,null,null,null,null,{"$f":"SUM('Redeck Deflections'!$W$15:$AA$15)","v":-0.45369999999999999},{"$f":"IF('Redeck Deflections'!$AB$15<0,MROUND(ABS('Redeck Deflections'!$AB$15),0.125),MROUND('Redeck Deflections'!$AB$15,0.125)*-1)","v":0.5},1.4]
[null,1.5,{"$f":"'Redeck Deflections'!$D$6*0.5","v":55},{"$f":"Reference!$D$352+Reference!$D$349","v":55},null,null,null,null,null,{"$f":"SUM('Redeck Deflections'!$K$16:$O$16)","v":-0.4234},{"$f":"IF('Redeck Deflections'!$P$16<0,MROUND(ABS('Redeck Deflections'!$P$16),0.125),MROUND('Redeck Deflections'!$P$16,0.125)*-1)","v":0.375},1.5,null,1.5,{"$f":"'Redeck Deflections'!$D$6*0.5","v":55},{"$f":"Reference!$D$352+Reference!$D$349","v":55},null,null,null,null,null,{"$f":"SUM('Redeck Deflections'!$W$16:$AA$16)","v":-0.4234},{"$f":"IF('Redeck Deflections'!$AB$16<0,MROUND(ABS('Redeck Deflections'!$AB$16),0.125),MROUND('Redeck Deflections'!$AB$16,0.125)*-1)","v":0.375},1.5]
[null,1.6,{"$f":"'Redeck Deflections'!$D$6*0.6","v":66},{"$f":"Reference!$D$353+Reference!$D$349","v":66},null,null,null,null,null,{"$f":"SUM('Redeck Deflections'!$K$17:$O$17)","v":-0.34010000000000001},{"$f":"IF('Redeck Deflections'!$P$17<0,MROUND(ABS('Redeck Deflections'!$P$17),0.125),MROUND('Redeck Deflections'!$P$17,0.125)*-1)","v":0.375},1.6,null,1.6,{"$f":"'Redeck Deflections'!$D$6*0.6","v":66},{"$f":"Reference!$D$353+Reference!$D$349","v":66},null,null,null,null,null,{"$f":"SUM('Redeck Deflections'!$W$17:$AA$17)","v":-0.34010000000000001},{"$f":"IF('Redeck Deflections'!$AB$17<0,MROUND(ABS('Redeck Deflections'!$AB$17),0.125),MROUND('Redeck Deflections'!$AB$17,0.125)*-1)","v":0.375},1.6]
[null,1.7,{"$f":"'Redeck Deflections'!$D$6*0.7","v":77},{"$f":"Reference!$D$354+Reference!$D$349","v":77},null,null,null,null,null,{"$f":"SUM('Redeck Deflections'!$K$18:$O$18)","v":-0.22439999999999999},{"$f":"IF('Redeck Deflections'!$P$18<0,MROUND(ABS('Redeck Deflections'!$P$18),0.125),MROUND('Redeck Deflections'!$P$18,0.125)*-1)","v":0.25},1.7,null,1.7,{"$f":"'Redeck Deflections'!$D$6*0.7","v":77},{"$f":"Reference!$D$354+Reference!$D$349","v":77},null,null,null,null,null,{"$f":"SUM('Redeck Deflections'!$W$18:$AA$18)","v":-0.22439999999999999},{"$f":"IF('Redeck Deflections'!$AB$18<0,MROUND(ABS('Redeck Deflections'!$AB$18),0.125),MROUND('Redeck Deflections'!$AB$18,0.125)*-1)","v":0.25},1.7]
[null,1.8,{"$f":"'Redeck Deflections'!$D$6*0.8","v":88},{"$f":"Reference!$D$355+Reference!$D$349","v":88},null,null,null,null,null,{"$f":"SUM('Redeck Deflections'!$K$19:$O$19)","v":-0.1076},{"$f":"IF('Redeck Deflections'!$P$19<0,MROUND(ABS('Redeck Deflections'!$P$19),0.125),MROUND('Redeck Deflections'!$P$19,0.125)*-1)","v":0.125},1.8,null,1.8,{"$f":"'Redeck Deflections'!$D$6*0.8","v":88},{"$f":"Reference!$D$355+Reference!$D$349","v":88},null,null,null,null,null,{"$f":"SUM('Redeck Deflections'!$W$19:$AA$19)","v":-0.1076},{"$f":"IF('Redeck Deflections'!$AB$19<0,MROUND(ABS('Redeck Deflections'!$AB$19),0.125),MROUND('Redeck Deflections'!$AB$19,0.125)*-1)","v":0.125},1.8]
[null,1.9,{"$f":"'Redeck Deflections'!$D$6*0.9","v":99},{"$f":"Reference!$D$356+Reference!$D$349","v":99},null,null,null,null,null,{"$f":"SUM('Redeck Deflections'!$K$20:$O$20)","v":-2.5699999999999997E-2},{"$f":"IF('Redeck Deflections'!$P$20<0,MROUND(ABS('Redeck Deflections'!$P$20),0.125),MROUND('Redeck Deflections'!$P$20,0.125)*-1)","v":0},1.9,null,1.9,{"$f":"'Redeck Deflections'!$D$6*0.9","v":99},{"$f":"Reference!$D$356+Reference!$D$349","v":99},null,null,null,null,null,{"$f":"SUM('Redeck Deflections'!$W$20:$AA$20)","v":-2.5699999999999997E-2},{"$f":"IF('Redeck Deflections'!$AB$20<0,MROUND(ABS('Redeck Deflections'!$AB$20),0.125),MROUND('Redeck Deflections'!$AB$20,0.125)*-1)","v":0},1.9]
[null,2,{"$f":"'Redeck Deflections'!$D$6*1","v":110},{"$f":"Reference!$D$357+Reference!$D$349","v":110},null,null,null,null,null,{"$f":"SUM('Redeck Deflections'!$K$21:$O$21)","v":0},{"$f":"IF('Redeck Deflections'!$P$21<0,MROUND(ABS('Redeck Deflections'!$P$21),0.125),MROUND('Redeck Deflections'!$P$21,0.125)*-1)","v":0},2,null,2,{"$f":"'Redeck Deflections'!$D$6*1","v":110},{"$f":"Reference!$D$357+Reference!$D$349","v":110},null,null,null,null,null,{"$f":"SUM('Redeck Deflections'!$W$21:$AA$21)","v":0},{"$f":"IF('Redeck Deflections'!$AB$21<0,MROUND(ABS('Redeck Deflections'!$AB$21),0.125),MROUND('Redeck Deflections'!$AB$21,0.125)*-1)","v":0},2]
[]
[]
["2 Span","EXTERIOR GIRDERS",null,null,null,null,null,null,null,null,null,null,null,"INTERIOR GIRDERS"]
[null,null,null,null,"Girder","Intermediate diaphragms","Concrete",null,"Barrier","Total DL Deflection",null,null,null,null,null,null,"Girder","Intermediate diaphragms","Concrete",null,"Barrier","Total DL Deflection"]
[null,"Tenth point"," Location"," Distance"," YDL-s1- Load Case 1 - Self Load (Stage1:D,DC)"," YDL-s1- Load Case 2 - Add'l Self Load (In Force/Length) (Stage 1:D,DC)"," YDL-s1- Load Case 3 - Haunch Load (Stage1:D,DC)"," YDL-s1- Load Case 4 - Concrete Deck Load (Stage1:D,DC)"," YDL-s2- Load Case 1 - Parapet Loads(DL2 - Barriers & Curbs: Stage 2:D,D~","Decimal Inches","Nearest 1/8\"","Tenth point",null,"Tenth point"," Location"," Distance"," YDL-s1- Load Case 1 - Self Load (Stage1:D,DC)"," YDL-s1- Load Case 2 - Add'l Self Load (In Force/Length) (Stage 1:D,DC)"," YDL-s1- Load Case 3 - Haunch Load (Stage1:D,DC)"," YDL-s1- Load Case 4 - Concrete Deck Load (Stage1:D,DC)"," YDL-s2- Load Case 1 - Parapet Loads(DL2 - Barriers & Curbs: Stage 2:D,D~","Decimal Inches","Nearest 1/8\"","Tenth point"]
[null,1,0,0,"Copy and Paste Values from Virtis",null,null,null,null,{"$f":"SUM('Redeck Deflections'!$K$11:$O$11)","v":0},{"$f":"IF('Redeck Deflections'!$P$11<0,MROUND(ABS('Redeck Deflections'!$P$11),0.125),MROUND('Redeck Deflections'!$P$11,0.125)*-1)","v":0},1,null,1,0,0,"Copy and Paste Values from Virtis",null,null,null,null,{"$f":"SUM('Redeck Deflections'!$W$11:$AA$11)","v":0},{"$f":"IF('Redeck Deflections'!$AB$11<0,MROUND(ABS('Redeck Deflections'!$AB$11),0.125),MROUND('Redeck Deflections'!$AB$11,0.125)*-1)","v":0},1]
[null,1.1000000000000001,{"$f":"'Redeck Deflections'!$D$6*0.1","v":11},{"$f":"Reference!$C$349","v":11},null,null,null,null,null,{"$f":"SUM('Redeck Deflections'!$K$12:$O$12)","v":-0.17810000000000001},{"$f":"IF('Redeck Deflections'!$P$12<0,MROUND(ABS('Redeck Deflections'!$P$12),0.125),MROUND('Redeck Deflections'!$P$12,0.125)*-1)","v":0.125},1.1000000000000001,null,1.1000000000000001,{"$f":"'Redeck Deflections'!$D$6*0.1","v":11},{"$f":"Reference!$C$349","v":11},null,null,null,null,null,{"$f":"SUM('Redeck Deflections'!$W$12:$AA$12)","v":-0.17810000000000001},{"$f":"IF('Redeck Deflections'!$AB$12<0,MROUND(ABS('Redeck Deflections'!$AB$12),0.125),MROUND('Redeck Deflections'!$AB$12,0.125)*-1)","v":0.125},1.1000000000000001]
[null,1.2,{"$f":"'Redeck Deflections'!$D$6*0.2","v":22},{"$f":"Reference!$D$349+Reference!$D$349","v":22},null,null,null,null,null,{"$f":"SUM('Redeck Deflections'!$K$13:$O$13)","v":-0.3256},{"$f":"IF('Redeck Deflections'!$P$13<0,MROUND(ABS('Redeck Deflections'!$P$13),0.125),MROUND('Redeck Deflections'!$P$13,0.125)*-1)","v":0.375},1.2,null,1.2,{"$f":"'Redeck Deflections'!$D$6*0.2","v":22},{"$f":"Reference!$D$349+Reference!$D$349","v":22},null,null,null,null,null,{"$f":"SUM('Redeck Deflections'!$W$13:$AA$13)","v":-0.3256},{"$f":"IF('Redeck Deflections'!$AB$13<0,MROUND(ABS('Redeck Deflections'!$AB$13),0.125),MROUND('Redeck Deflections'!$AB$13,0.125)*-1)","v":0.375},1.2]
[null,1.3,{"$f":"'Redeck Deflections'!$D$6*0.3","v":33},{"$f":"Reference!$D$350+Reference!$D$349","v":33},null,null,null,null,null,{"$f":"SUM('Redeck Deflections'!$K$14:$O$14)","v":-0.42109999999999997},{"$f":"IF('Redeck Deflections'!$P$14<0,MROUND(ABS('Redeck Deflections'!$P$14),0.125),MROUND('Redeck Deflections'!$P$14,0.125)*-1)","v":0.375},1.3,null,1.3,{"$f":"'Redeck Deflections'!$D$6*0.3","v":33},{"$f":"Reference!$D$350+Reference!$D$349","v":33},null,null,null,null,null,{"$f":"SUM('Redeck Deflections'!$W$14:$AA$14)","v":-0.42109999999999997},{"$f":"IF('Redeck Deflections'!$AB$14<0,MROUND(ABS('Redeck Deflections'!$AB$14),0.125),MROUND('Redeck Deflections'!$AB$14,0.125)*-1)","v":0.375},1.3]
[null,1.4,{"$f":"'Redeck Deflections'!$D$6*0.4","v":44},{"$f":"Reference!$D$351+Reference!$D$349","v":44},null,null,null,null,null,{"$f":"SUM('Redeck Deflections'!$K$15:$O$15)","v":-0.45369999999999999},{"$f":"IF('Redeck Deflections'!$P$15<0,MROUND(ABS('Redeck Deflections'!$P$15),0.125),MROUND('Redeck Deflections'!$P$15,0.125)*-1)","v":0.5},1.4,null,1.4,{"$f":"'Redeck Deflections'!$D$6*0.4","v":44},{"$f":"Reference!$D$351+Reference!$D$349","v":44},null,null,null,null,null,{"$f":"SUM('Redeck Deflections'!$W$15:$AA$15)","v":-0.45369999999999999},{"$f":"IF('Redeck Deflections'!$AB$15<0,MROUND(ABS('Redeck Deflections'!$AB$15),0.125),MROUND('Redeck Deflections'!$AB$15,0.125)*-1)","v":0.5},1.4]
[null,1.5,{"$f":"'Redeck Deflections'!$D$6*0.5","v":55},{"$f":"Reference!$D$352+Reference!$D$349","v":55},null,null,null,null,null,{"$f":"SUM('Redeck Deflections'!$K$16:$O$16)","v":-0.4234},{"$f":"IF('Redeck Deflections'!$P$16<0,MROUND(ABS('Redeck Deflections'!$P$16),0.125),MROUND('Redeck Deflections'!$P$16,0.125)*-1)","v":0.375},1.5,null,1.5,{"$f":"'Redeck Deflections'!$D$6*0.5","v":55},{"$f":"Reference!$D$352+Reference!$D$349","v":55},null,null,null,null,null,{"$f":"SUM('Redeck Deflections'!$W$16:$AA$16)","v":-0.4234},{"$f":"IF('Redeck Deflections'!$AB$16<0,MROUND(ABS('Redeck Deflections'!$AB$16),0.125),MROUND('Redeck Deflections'!$AB$16,0.125)*-1)","v":0.375},1.5]
[null,1.6,{"$f":"'Redeck Deflections'!$D$6*0.6","v":66},{"$f":"Reference!$D$353+Reference!$D$349","v":66},null,null,null,null,null,{"$f":"SUM('Redeck Deflections'!$K$17:$O$17)","v":-0.34010000000000001},{"$f":"IF('Redeck Deflections'!$P$17<0,MROUND(ABS('Redeck Deflections'!$P$17),0.125),MROUND('Redeck Deflections'!$P$17,0.125)*-1)","v":0.375},1.6,null,1.6,{"$f":"'Redeck Deflections'!$D$6*0.6","v":66},{"$f":"Reference!$D$353+Reference!$D$349","v":66},null,null,null,null,null,{"$f":"SUM('Redeck Deflections'!$W$17:$AA$17)","v":-0.34010000000000001},{"$f":"IF('Redeck Deflections'!$AB$17<0,MROUND(ABS('Redeck Deflections'!$AB$17),0.125),MROUND('Redeck Deflections'!$AB$17,0.125)*-1)","v":0.375},1.6]
[null,1.7,{"$f":"'Redeck Deflections'!$D$6*0.7","v":77},{"$f":"Reference!$D$354+Reference!$D$349","v":77},null,null,null,null,null,{"$f":"SUM('Redeck Deflections'!$K$18:$O$18)","v":-0.22439999999999999},{"$f":"IF('Redeck Deflections'!$P$18<0,MROUND(ABS('Redeck Deflections'!$P$18),0.125),MROUND('Redeck Deflections'!$P$18,0.125)*-1)","v":0.25},1.7,null,1.7,{"$f":"'Redeck Deflections'!$D$6*0.7","v":77},{"$f":"Reference!$D$354+Reference!$D$349","v":77},null,null,null,null,null,{"$f":"SUM('Redeck Deflections'!$W$18:$AA$18)","v":-0.22439999999999999},{"$f":"IF('Redeck Deflections'!$AB$18<0,MROUND(ABS('Redeck Deflections'!$AB$18),0.125),MROUND('Redeck Deflections'!$AB$18,0.125)*-1)","v":0.25},1.7]
[null,1.8,{"$f":"'Redeck Deflections'!$D$6*0.8","v":88},{"$f":"Reference!$D$355+Reference!$D$349","v":88},null,null,null,null,null,{"$f":"SUM('Redeck Deflections'!$K$19:$O$19)","v":-0.1076},{"$f":"IF('Redeck Deflections'!$P$19<0,MROUND(ABS('Redeck Deflections'!$P$19),0.125),MROUND('Redeck Deflections'!$P$19,0.125)*-1)","v":0.125},1.8,null,1.8,{"$f":"'Redeck Deflections'!$D$6*0.8","v":88},{"$f":"Reference!$D$355+Reference!$D$349","v":88},null,null,null,null,null,{"$f":"SUM('Redeck Deflections'!$W$19:$AA$19)","v":-0.1076},{"$f":"IF('Redeck Deflections'!$AB$19<0,MROUND(ABS('Redeck Deflections'!$AB$19),0.125),MROUND('Redeck Deflections'!$AB$19,0.125)*-1)","v":0.125},1.8]
[null,1.9,{"$f":"'Redeck Deflections'!$D$6*0.9","v":99},{"$f":"Reference!$D$356+Reference!$D$349","v":99},null,null,null,null,null,{"$f":"SUM('Redeck Deflections'!$K$20:$O$20)","v":-2.5699999999999997E-2},{"$f":"IF('Redeck Deflections'!$P$20<0,MROUND(ABS('Redeck Deflections'!$P$20),0.125),MROUND('Redeck Deflections'!$P$20,0.125)*-1)","v":0},1.9,null,1.9,{"$f":"'Redeck Deflections'!$D$6*0.9","v":99},{"$f":"Reference!$D$356+Reference!$D$349","v":99},null,null,null,null,null,{"$f":"SUM('Redeck Deflections'!$W$20:$AA$20)","v":-2.5699999999999997E-2},{"$f":"IF('Redeck Deflections'!$AB$20<0,MROUND(ABS('Redeck Deflections'!$AB$20),0.125),MROUND('Redeck Deflections'!$AB$20,0.125)*-1)","v":0},1.9]
[null,2,{"$f":"'Redeck Deflections'!$D$6*1","v":110},{"$f":"Reference!$D$357+Reference!$D$349","v":110},null,null,null,null,null,{"$f":"SUM('Redeck Deflections'!$K$21:$O$21)","v":0},{"$f":"IF('Redeck Deflections'!$P$21<0,MROUND(ABS('Redeck Deflections'!$P$21),0.125),MROUND('Redeck Deflections'!$P$21,0.125)*-1)","v":0},2,null,2,{"$f":"'Redeck Deflections'!$D$6*1","v":110},{"$f":"Reference!$D$357+Reference!$D$349","v":110},null,null,null,null,null,{"$f":"SUM('Redeck Deflections'!$W$21:$AA$21)","v":0},{"$f":"IF('Redeck Deflections'!$AB$21<0,MROUND(ABS('Redeck Deflections'!$AB$21),0.125),MROUND('Redeck Deflections'!$AB$21,0.125)*-1)","v":0},2]
[null,2,0,{"$f":"Reference!$D$358","v":110},null,null,null,null,null,{"$f":"SUM('Redeck Deflections'!$K$22:$O$22)","v":0},{"$f":"IF('Redeck Deflections'!$P$22<0,MROUND(ABS('Redeck Deflections'!$P$22),0.125),MROUND('Redeck Deflections'!$P$22,0.125)*-1)","v":0},2,null,2,0,{"$f":"Reference!$D$358","v":110},null,null,null,null,null,{"$f":"SUM('Redeck Deflections'!$W$22:$AA$22)","v":0},{"$f":"IF('Redeck Deflections'!$AB$22<0,MROUND(ABS('Redeck Deflections'!$AB$22),0.125),MROUND('Redeck Deflections'!$AB$22,0.125)*-1)","v":0},2]
[null,2.1,{"$f":"'Redeck Deflections'!$E$6*0.1","v":12},{"$f":"Reference!$D$359+Reference!$C$360","v":122},null,null,null,null,null,{"$f":"SUM('Redeck Deflections'!$K$23:$O$23)","v":-8.0600000000000005E-2},{"$f":"IF('Redeck Deflections'!$P$23<0,MROUND(ABS('Redeck Deflections'!$P$23),0.125),MROUND('Redeck Deflections'!$P$23,0.125)*-1)","v":0.125},2.1,null,2.1,{"$f":"'Redeck Deflections'!$E$6*0.1","v":12},{"$f":"Reference!$D$359+Reference!$C$360","v":122},null,null,null,null,null,{"$f":"SUM('Redeck Deflections'!$W$23:$AA$23)","v":-8.0600000000000005E-2},{"$f":"IF('Redeck Deflections'!$AB$23<0,MROUND(ABS('Redeck Deflections'!$AB$23),0.125),MROUND('Redeck Deflections'!$AB$23,0.125)*-1)","v":0.125},2.1]
[null,2.2000000000000002,{"$f":"'Redeck Deflections'!$E$6*0.2","v":24},{"$f":"Reference!$C$361+Reference!$D$59","v":134},null,null,null,null,null,{"$f":"SUM('Redeck Deflections'!$K$24:$O$24)","v":-0.24479999999999999},{"$f":"IF('Redeck Deflections'!$P$24<0,MROUND(ABS('Redeck Deflections'!$P$24),0.125),MROUND('Redeck Deflections'!$P$24,0.125)*-1)","v":0.25},2.2000000000000002,null,2.2000000000000002,{"$f":"'Redeck Deflections'!$E$6*0.2","v":24},{"$f":"Reference!$C$361+Reference!$D$59","v":134},null,null,null,null,null,{"$f":"SUM('Redeck Deflections'!$W$24:$AA$24)","v":-0.24479999999999999},{"$f":"IF('Redeck Deflections'!$AB$24<0,MROUND(ABS('Redeck Deflections'!$AB$24),0.125),MROUND('Redeck Deflections'!$AB$24,0.125)*-1)","v":0.25},2.2000000000000002]
[null,2.2999999999999998,{"$f":"'Redeck Deflections'!$E$6*0.3","v":36},{"$f":"Reference!$C$362+Reference!$D$359","v":146},null,null,null,null,null,{"$f":"SUM('Redeck Deflections'!$K$25:$O$25)","v":-0.43390000000000001},{"$f":"IF('Redeck Deflections'!$P$25<0,MROUND(ABS('Redeck Deflections'!$P$25),0.125),MROUND('Redeck Deflections'!$P$25,0.125)*-1)","v":0.375},2.2999999999999998,null,2.2999999999999998,{"$f":"'Redeck Deflections'!$E$6*0.3","v":36},{"$f":"Reference!$C$362+Reference!$D$359","v":146},null,null,null,null,null,{"$f":"SUM('Redeck Deflections'!$W$25:$AA$25)","v":-0.43390000000000001},{"$f":"IF('Redeck Deflections'!$AB$25<0,MROUND(ABS('Redeck Deflections'!$AB$25),0.125),MROUND('Redeck Deflections'!$AB$25,0.125)*-1)","v":0.375},2.2999999999999998]
[null,2.4,{"$f":"'Redeck Deflections'!$E$6*0.4","v":48},{"$f":"Reference!$C$363+Reference!$D$359","v":158},null,null,null,null,null,{"$f":"SUM('Redeck Deflections'!$K$26:$O$26)","v":-0.57669999999999999},{"$f":"IF('Redeck Deflections'!$P$26<0,MROUND(ABS('Redeck Deflections'!$P$26),0.125),MROUND('Redeck Deflections'!$P$26,0.125)*-1)","v":0.625},2.4,null,2.4,{"$f":"'Redeck Deflections'!$E$6*0.4","v":48},{"$f":"Reference!$C$363+Reference!$D$359","v":158},null,null,null,null,null,{"$f":"SUM('Redeck Deflections'!$W$26:$AA$26)","v":-0.57669999999999999},{"$f":"IF('Redeck Deflections'!$AB$26<0,MROUND(ABS('Redeck Deflections'!$AB$26),0.125),MROUND('Redeck Deflections'!$AB$26,0.125)*-1)","v":0.625},2.4]
[null,2.5,{"$f":"'Redeck Deflections'!$E$6*0.5","v":60},{"$f":"Reference!$C$364+Reference!$D$359","v":170},null,null,null,null,null,{"$f":"SUM('Redeck Deflections'!$K$27:$O$27)","v":-0.62909999999999999},{"$f":"IF('Redeck Deflections'!$P$27<0,MROUND(ABS('Redeck Deflections'!$P$27),0.125),MROUND('Redeck Deflections'!$P$27,0.125)*-1)","v":0.625},2.5,null,2.5,{"$f":"'Redeck Deflections'!$E$6*0.5","v":60},{"$f":"Reference!$C$364+Reference!$D$359","v":170},null,null,null,null,null,{"$f":"SUM('Redeck Deflections'!$W$27:$AA$27)","v":-0.62909999999999999},{"$f":"IF('Redeck Deflections'!$AB$27<0,MROUND(ABS('Redeck Deflections'!$AB$27),0.125),MROUND('Redeck Deflections'!$AB$27,0.125)*-1)","v":0.625},2.5]
[null,2.6,{"$f":"'Redeck Deflections'!$E$6*0.6","v":72},{"$f":"Reference!$C$365+Reference!$D$359","v":182},null,null,null,null,null,{"$f":"SUM('Redeck Deflections'!$K$28:$O$28)","v":-0.57669999999999999},{"$f":"IF('Redeck Deflections'!$P$28<0,MROUND(ABS('Redeck Deflections'!$P$28),0.125),MROUND('Redeck Deflections'!$P$28,0.125)*-1)","v":0.625},2.6,null,2.6,{"$f":"'Redeck Deflections'!$E$6*0.6","v":72},{"$f":"Reference!$C$365+Reference!$D$359","v":182},null,null,null,null,null,{"$f":"SUM('Redeck Deflections'!$W$28:$AA$28)","v":-0.57669999999999999},{"$f":"IF('Redeck Deflections'!$AB$28<0,MROUND(ABS('Redeck Deflections'!$AB$28),0.125),MROUND('Redeck Deflections'!$AB$28,0.125)*-1)","v":0.625},2.6]
[null,2.7,{"$f":"'Redeck Deflections'!$E$6*0.7","v":84},{"$f":"Reference!$C$366+Reference!$D$359","v":194},null,null,null,null,null,{"$f":"SUM('Redeck Deflections'!$K$29:$O$29)","v":-0.43390000000000001},{"$f":"IF('Redeck Deflections'!$P$29<0,MROUND(ABS('Redeck Deflections'!$P$29),0.125),MROUND('Redeck Deflections'!$P$29,0.125)*-1)","v":0.375},2.7,null,2.7,{"$f":"'Redeck Deflections'!$E$6*0.7","v":84},{"$f":"Reference!$C$366+Reference!$D$359","v":194},null,null,null,null,null,{"$f":"SUM('Redeck Deflections'!$W$29:$AA$29)","v":-0.43390000000000001},{"$f":"IF('Redeck Deflections'!$AB$29<0,MROUND(ABS('Redeck Deflections'!$AB$29),0.125),MROUND('Redeck Deflections'!$AB$29,0.125)*-1)","v":0.375},2.7]
[null,2.8,{"$f":"'Redeck Deflections'!$E$6*0.8","v":96},{"$f":"Reference!$C$367+Reference!$D$359","v":206},null,null,null,null,null,{"$f":"SUM('Redeck Deflections'!$K$30:$O$30)","v":-0.24479999999999999},{"$f":"IF('Redeck Deflections'!$P$30<0,MROUND(ABS('Redeck Deflections'!$P$30),0.125),MROUND('Redeck Deflections'!$P$30,0.125)*-1)","v":0.25},2.8,null,2.8,{"$f":"'Redeck Deflections'!$E$6*0.8","v":96},{"$f":"Reference!$C$367+Reference!$D$359","v":206},null,null,null,null,null,{"$f":"SUM('Redeck Deflections'!$W$30:$AA$30)","v":-0.24479999999999999},{"$f":"IF('Redeck Deflections'!$AB$30<0,MROUND(ABS('Redeck Deflections'!$AB$30),0.125),MROUND('Redeck Deflections'!$AB$30,0.125)*-1)","v":0.25},2.8]
[null,2.9,{"$f":"'Redeck Deflections'!$E$6*0.9","v":108},{"$f":"Reference!$C$368+Reference!$D$359","v":218},null,null,null,null,null,{"$f":"SUM('Redeck Deflections'!$K$31:$O$31)","v":-8.0600000000000005E-2},{"$f":"IF('Redeck Deflections'!$P$31<0,MROUND(ABS('Redeck Deflections'!$P$31),0.125),MROUND('Redeck Deflections'!$P$31,0.125)*-1)","v":0.125},2.9,null,2.9,{"$f":"'Redeck Deflections'!$E$6*0.9","v":108},{"$f":"Reference!$C$368+Reference!$D$359","v":218},null,null,null,null,null,{"$f":"SUM('Redeck Deflections'!$W$31:$AA$31)","v":-8.0600000000000005E-2},{"$f":"IF('Redeck Deflections'!$AB$31<0,MROUND(ABS('Redeck Deflections'!$AB$31),0.125),MROUND('Redeck Deflections'!$AB$31,0.125)*-1)","v":0.125},2.9]
[null,3,{"$f":"'Redeck Deflections'!$E$6*1","v":120},{"$f":"Reference!$C$369+Reference!$D$359","v":230},null,null,null,null,null,{"$f":"SUM('Redeck Deflections'!$K$32:$O$32)","v":0},{"$f":"IF('Redeck Deflections'!$P$32<0,MROUND(ABS('Redeck Deflections'!$P$32),0.125),MROUND('Redeck Deflections'!$P$32,0.125)*-1)","v":0},3,null,3,{"$f":"'Redeck Deflections'!$E$6*1","v":120},{"$f":"Reference!$C$369+Reference!$D$359","v":230},null,null,null,null,null,{"$f":"SUM('Redeck Deflections'!$W$32:$AA$32)","v":0},{"$f":"IF('Redeck Deflections'!$AB$32<0,MROUND(ABS('Redeck Deflections'!$AB$32),0.125),MROUND('Redeck Deflections'!$AB$32,0.125)*-1)","v":0},3]
[]
[]
["3 Span","EXTERIOR GIRDERS",null,null,null,null,null,null,null,null,null,null,null,"INTERIOR GIRDERS"]
[null,null,null,null,"Girder","Intermediate diaphragms","Concrete",null,"Barrier","Total DL Deflection",null,null,null,null,null,null,"Girder","Intermediate diaphragms","Concrete",null,"Barrier","Total DL Deflection"]
[null,"Tenth point"," Location"," Distance"," YDL-s1- Load Case 1 - Self Load (Stage1:D,DC)"," YDL-s1- Load Case 2 - Add'l Self Load (In Force/Length) (Stage 1:D,DC)"," YDL-s1- Load Case 3 - Haunch Load (Stage1:D,DC)"," YDL-s1- Load Case 4 - Concrete Deck Load (Stage1:D,DC)"," YDL-s2- Load Case 1 - Parapet Loads(DL2 - Barriers & Curbs: Stage 2:D,D~","Decimal Inches","Nearest 1/8\"","Tenth point",null,"Tenth point"," Location"," Distance"," YDL-s1- Load Case 1 - Self Load (Stage1:D,DC)"," YDL-s1- Load Case 2 - Add'l Self Load (In Force/Length) (Stage 1:D,DC)"," YDL-s1- Load Case 3 - Haunch Load (Stage1:D,DC)"," YDL-s1- Load Case 4 - Concrete Deck Load (Stage1:D,DC)"," YDL-s2- Load Case 1 - Parapet Loads(DL2 - Barriers & Curbs: Stage 2:D,D~","Decimal Inches","Nearest 1/8\"","Tenth point"]
[null,1,0,0,"Copy and Paste Values from Virtis",null,null,null,null,{"$f":"SUM('Redeck Deflections'!$K$11:$O$11)","v":0},{"$f":"IF('Redeck Deflections'!$P$11<0,MROUND(ABS('Redeck Deflections'!$P$11),0.125),MROUND('Redeck Deflections'!$P$11,0.125)*-1)","v":0},1,null,1,0,0,"Copy and Paste Values from Virtis",null,null,null,null,{"$f":"SUM('Redeck Deflections'!$W$11:$AA$11)","v":0},{"$f":"IF('Redeck Deflections'!$AB$11<0,MROUND(ABS('Redeck Deflections'!$AB$11),0.125),MROUND('Redeck Deflections'!$AB$11,0.125)*-1)","v":0},1]
[null,1.1000000000000001,{"$f":"'Redeck Deflections'!$D$6*0.1","v":11},{"$f":"Reference!$C$349","v":11},null,null,null,null,null,{"$f":"SUM('Redeck Deflections'!$K$12:$O$12)","v":-0.17810000000000001},{"$f":"IF('Redeck Deflections'!$P$12<0,MROUND(ABS('Redeck Deflections'!$P$12),0.125),MROUND('Redeck Deflections'!$P$12,0.125)*-1)","v":0.125},1.1000000000000001,null,1.1000000000000001,{"$f":"'Redeck Deflections'!$D$6*0.1","v":11},{"$f":"Reference!$C$349","v":11},null,null,null,null,null,{"$f":"SUM('Redeck Deflections'!$W$12:$AA$12)","v":-0.17810000000000001},{"$f":"IF('Redeck Deflections'!$AB$12<0,MROUND(ABS('Redeck Deflections'!$AB$12),0.125),MROUND('Redeck Deflections'!$AB$12,0.125)*-1)","v":0.125},1.1000000000000001]
[null,1.2,{"$f":"'Redeck Deflections'!$D$6*0.2","v":22},{"$f":"Reference!$D$349+Reference!$D$349","v":22},null,null,null,null,null,{"$f":"SUM('Redeck Deflections'!$K$13:$O$13)","v":-0.3256},{"$f":"IF('Redeck Deflections'!$P$13<0,MROUND(ABS('Redeck Deflections'!$P$13),0.125),MROUND('Redeck Deflections'!$P$13,0.125)*-1)","v":0.375},1.2,null,1.2,{"$f":"'Redeck Deflections'!$D$6*0.2","v":22},{"$f":"Reference!$D$349+Reference!$D$349","v":22},null,null,null,null,null,{"$f":"SUM('Redeck Deflections'!$W$13:$AA$13)","v":-0.3256},{"$f":"IF('Redeck Deflections'!$AB$13<0,MROUND(ABS('Redeck Deflections'!$AB$13),0.125),MROUND('Redeck Deflections'!$AB$13,0.125)*-1)","v":0.375},1.2]
[null,1.3,{"$f":"'Redeck Deflections'!$D$6*0.3","v":33},{"$f":"Reference!$D$350+Reference!$D$349","v":33},null,null,null,null,null,{"$f":"SUM('Redeck Deflections'!$K$14:$O$14)","v":-0.42109999999999997},{"$f":"IF('Redeck Deflections'!$P$14<0,MROUND(ABS('Redeck Deflections'!$P$14),0.125),MROUND('Redeck Deflections'!$P$14,0.125)*-1)","v":0.375},1.3,null,1.3,{"$f":"'Redeck Deflections'!$D$6*0.3","v":33},{"$f":"Reference!$D$350+Reference!$D$349","v":33},null,null,null,null,null,{"$f":"SUM('Redeck Deflections'!$W$14:$AA$14)","v":-0.42109999999999997},{"$f":"IF('Redeck Deflections'!$AB$14<0,MROUND(ABS('Redeck Deflections'!$AB$14),0.125),MROUND('Redeck Deflections'!$AB$14,0.125)*-1)","v":0.375},1.3]
[null,1.4,{"$f":"'Redeck Deflections'!$D$6*0.4","v":44},{"$f":"Reference!$D$351+Reference!$D$349","v":44},null,null,null,null,null,{"$f":"SUM('Redeck Deflections'!$K$15:$O$15)","v":-0.45369999999999999},{"$f":"IF('Redeck Deflections'!$P$15<0,MROUND(ABS('Redeck Deflections'!$P$15),0.125),MROUND('Redeck Deflections'!$P$15,0.125)*-1)","v":0.5},1.4,null,1.4,{"$f":"'Redeck Deflections'!$D$6*0.4","v":44},{"$f":"Reference!$D$351+Reference!$D$349","v":44},null,null,null,null,null,{"$f":"SUM('Redeck Deflections'!$W$15:$AA$15)","v":-0.45369999999999999},{"$f":"IF('Redeck Deflections'!$AB$15<0,MROUND(ABS('Redeck Deflections'!$AB$15),0.125),MROUND('Redeck Deflections'!$AB$15,0.125)*-1)","v":0.5},1.4]
[null,1.5,{"$f":"'Redeck Deflections'!$D$6*0.5","v":55},{"$f":"Reference!$D$352+Reference!$D$349","v":55},null,null,null,null,null,{"$f":"SUM('Redeck Deflections'!$K$16:$O$16)","v":-0.4234},{"$f":"IF('Redeck Deflections'!$P$16<0,MROUND(ABS('Redeck Deflections'!$P$16),0.125),MROUND('Redeck Deflections'!$P$16,0.125)*-1)","v":0.375},1.5,null,1.5,{"$f":"'Redeck Deflections'!$D$6*0.5","v":55},{"$f":"Reference!$D$352+Reference!$D$349","v":55},null,null,null,null,null,{"$f":"SUM('Redeck Deflections'!$W$16:$AA$16)","v":-0.4234},{"$f":"IF('Redeck Deflections'!$AB$16<0,MROUND(ABS('Redeck Deflections'!$AB$16),0.125),MROUND('Redeck Deflections'!$AB$16,0.125)*-1)","v":0.375},1.5]
[null,1.6,{"$f":"'Redeck Deflections'!$D$6*0.6","v":66},{"$f":"Reference!$D$353+Reference!$D$349","v":66},null,null,null,null,null,{"$f":"SUM('Redeck Deflections'!$K$17:$O$17)","v":-0.34010000000000001},{"$f":"IF('Redeck Deflections'!$P$17<0,MROUND(ABS('Redeck Deflections'!$P$17),0.125),MROUND('Redeck Deflections'!$P$17,0.125)*-1)","v":0.375},1.6,null,1.6,{"$f":"'Redeck Deflections'!$D$6*0.6","v":66},{"$f":"Reference!$D$353+Reference!$D$349","v":66},null,null,null,null,null,{"$f":"SUM('Redeck Deflections'!$W$17:$AA$17)","v":-0.34010000000000001},{"$f":"IF('Redeck Deflections'!$AB$17<0,MROUND(ABS('Redeck Deflections'!$AB$17),0.125),MROUND('Redeck Deflections'!$AB$17,0.125)*-1)","v":0.375},1.6]
[null,1.7,{"$f":"'Redeck Deflections'!$D$6*0.7","v":77},{"$f":"Reference!$D$354+Reference!$D$349","v":77},null,null,null,null,null,{"$f":"SUM('Redeck Deflections'!$K$18:$O$18)","v":-0.22439999999999999},{"$f":"IF('Redeck Deflections'!$P$18<0,MROUND(ABS('Redeck Deflections'!$P$18),0.125),MROUND('Redeck Deflections'!$P$18,0.125)*-1)","v":0.25},1.7,null,1.7,{"$f":"'Redeck Deflections'!$D$6*0.7","v":77},{"$f":"Reference!$D$354+Reference!$D$349","v":77},null,null,null,null,null,{"$f":"SUM('Redeck Deflections'!$W$18:$AA$18)","v":-0.22439999999999999},{"$f":"IF('Redeck Deflections'!$AB$18<0,MROUND(ABS('Redeck Deflections'!$AB$18),0.125),MROUND('Redeck Deflections'!$AB$18,0.125)*-1)","v":0.25},1.7]
[null,1.8,{"$f":"'Redeck Deflections'!$D$6*0.8","v":88},{"$f":"Reference!$D$355+Reference!$D$349","v":88},null,null,null,null,null,{"$f":"SUM('Redeck Deflections'!$K$19:$O$19)","v":-0.1076},{"$f":"IF('Redeck Deflections'!$P$19<0,MROUND(ABS('Redeck Deflections'!$P$19),0.125),MROUND('Redeck Deflections'!$P$19,0.125)*-1)","v":0.125},1.8,null,1.8,{"$f":"'Redeck Deflections'!$D$6*0.8","v":88},{"$f":"Reference!$D$355+Reference!$D$349","v":88},null,null,null,null,null,{"$f":"SUM('Redeck Deflections'!$W$19:$AA$19)","v":-0.1076},{"$f":"IF('Redeck Deflections'!$AB$19<0,MROUND(ABS('Redeck Deflections'!$AB$19),0.125),MROUND('Redeck Deflections'!$AB$19,0.125)*-1)","v":0.125},1.8]
[null,1.9,{"$f":"'Redeck Deflections'!$D$6*0.9","v":99},{"$f":"Reference!$D$356+Reference!$D$349","v":99},null,null,null,null,null,{"$f":"SUM('Redeck Deflections'!$K$20:$O$20)","v":-2.5699999999999997E-2},{"$f":"IF('Redeck Deflections'!$P$20<0,MROUND(ABS('Redeck Deflections'!$P$20),0.125),MROUND('Redeck Deflections'!$P$20,0.125)*-1)","v":0},1.9,null,1.9,{"$f":"'Redeck Deflections'!$D$6*0.9","v":99},{"$f":"Reference!$D$356+Reference!$D$349","v":99},null,null,null,null,null,{"$f":"SUM('Redeck Deflections'!$W$20:$AA$20)","v":-2.5699999999999997E-2},{"$f":"IF('Redeck Deflections'!$AB$20<0,MROUND(ABS('Redeck Deflections'!$AB$20),0.125),MROUND('Redeck Deflections'!$AB$20,0.125)*-1)","v":0},1.9]
[null,2,{"$f":"'Redeck Deflections'!$D$6*1","v":110},{"$f":"Reference!$D$357+Reference!$D$349","v":110},null,null,null,null,null,{"$f":"SUM('Redeck Deflections'!$K$21:$O$21)","v":0},{"$f":"IF('Redeck Deflections'!$P$21<0,MROUND(ABS('Redeck Deflections'!$P$21),0.125),MROUND('Redeck Deflections'!$P$21,0.125)*-1)","v":0},2,null,2,{"$f":"'Redeck Deflections'!$D$6*1","v":110},{"$f":"Reference!$D$357+Reference!$D$349","v":110},null,null,null,null,null,{"$f":"SUM('Redeck Deflections'!$W$21:$AA$21)","v":0},{"$f":"IF('Redeck Deflections'!$AB$21<0,MROUND(ABS('Redeck Deflections'!$AB$21),0.125),MROUND('Redeck Deflections'!$AB$21,0.125)*-1)","v":0},2]
[null,2,0,{"$f":"Reference!$D$358","v":110},null,null,null,null,null,{"$f":"SUM('Redeck Deflections'!$K$22:$O$22)","v":0},{"$f":"IF('Redeck Deflections'!$P$22<0,MROUND(ABS('Redeck Deflections'!$P$22),0.125),MROUND('Redeck Deflections'!$P$22,0.125)*-1)","v":0},2,null,2,0,{"$f":"Reference!$D$358","v":110},null,null,null,null,null,{"$f":"SUM('Redeck Deflections'!$W$22:$AA$22)","v":0},{"$f":"IF('Redeck Deflections'!$AB$22<0,MROUND(ABS('Redeck Deflections'!$AB$22),0.125),MROUND('Redeck Deflections'!$AB$22,0.125)*-1)","v":0},2]
[null,2.1,{"$f":"'Redeck Deflections'!$E$6*0.1","v":12},{"$f":"Reference!$D$359+Reference!$C$360","v":122},null,null,null,null,null,{"$f":"SUM('Redeck Deflections'!$K$23:$O$23)","v":-8.0600000000000005E-2},{"$f":"IF('Redeck Deflections'!$P$23<0,MROUND(ABS('Redeck Deflections'!$P$23),0.125),MROUND('Redeck Deflections'!$P$23,0.125)*-1)","v":0.125},2.1,null,2.1,{"$f":"'Redeck Deflections'!$E$6*0.1","v":12},{"$f":"Reference!$D$359+Reference!$C$360","v":122},null,null,null,null,null,{"$f":"SUM('Redeck Deflections'!$W$23:$AA$23)","v":-8.0600000000000005E-2},{"$f":"IF('Redeck Deflections'!$AB$23<0,MROUND(ABS('Redeck Deflections'!$AB$23),0.125),MROUND('Redeck Deflections'!$AB$23,0.125)*-1)","v":0.125},2.1]
[null,2.2000000000000002,{"$f":"'Redeck Deflections'!$E$6*0.2","v":24},{"$f":"Reference!$C$361+Reference!$D$59","v":134},null,null,null,null,null,{"$f":"SUM('Redeck Deflections'!$K$24:$O$24)","v":-0.24479999999999999},{"$f":"IF('Redeck Deflections'!$P$24<0,MROUND(ABS('Redeck Deflections'!$P$24),0.125),MROUND('Redeck Deflections'!$P$24,0.125)*-1)","v":0.25},2.2000000000000002,null,2.2000000000000002,{"$f":"'Redeck Deflections'!$E$6*0.2","v":24},{"$f":"Reference!$C$361+Reference!$D$59","v":134},null,null,null,null,null,{"$f":"SUM('Redeck Deflections'!$W$24:$AA$24)","v":-0.24479999999999999},{"$f":"IF('Redeck Deflections'!$AB$24<0,MROUND(ABS('Redeck Deflections'!$AB$24),0.125),MROUND('Redeck Deflections'!$AB$24,0.125)*-1)","v":0.25},2.2000000000000002]
[null,2.2999999999999998,{"$f":"'Redeck Deflections'!$E$6*0.3","v":36},{"$f":"Reference!$C$362+Reference!$D$359","v":146},null,null,null,null,null,{"$f":"SUM('Redeck Deflections'!$K$25:$O$25)","v":-0.43390000000000001},{"$f":"IF('Redeck Deflections'!$P$25<0,MROUND(ABS('Redeck Deflections'!$P$25),0.125),MROUND('Redeck Deflections'!$P$25,0.125)*-1)","v":0.375},2.2999999999999998,null,2.2999999999999998,{"$f":"'Redeck Deflections'!$E$6*0.3","v":36},{"$f":"Reference!$C$362+Reference!$D$359","v":146},null,null,null,null,null,{"$f":"SUM('Redeck Deflections'!$W$25:$AA$25)","v":-0.43390000000000001},{"$f":"IF('Redeck Deflections'!$AB$25<0,MROUND(ABS('Redeck Deflections'!$AB$25),0.125),MROUND('Redeck Deflections'!$AB$25,0.125)*-1)","v":0.375},2.2999999999999998]
[null,2.4,{"$f":"'Redeck Deflections'!$E$6*0.4","v":48},{"$f":"Reference!$C$363+Reference!$D$359","v":158},null,null,null,null,null,{"$f":"SUM('Redeck Deflections'!$K$26:$O$26)","v":-0.57669999999999999},{"$f":"IF('Redeck Deflections'!$P$26<0,MROUND(ABS('Redeck Deflections'!$P$26),0.125),MROUND('Redeck Deflections'!$P$26,0.125)*-1)","v":0.625},2.4,null,2.4,{"$f":"'Redeck Deflections'!$E$6*0.4","v":48},{"$f":"Reference!$C$363+Reference!$D$359","v":158},null,null,null,null,null,{"$f":"SUM('Redeck Deflections'!$W$26:$AA$26)","v":-0.57669999999999999},{"$f":"IF('Redeck Deflections'!$AB$26<0,MROUND(ABS('Redeck Deflections'!$AB$26),0.125),MROUND('Redeck Deflections'!$AB$26,0.125)*-1)","v":0.625},2.4]
[null,2.5,{"$f":"'Redeck Deflections'!$E$6*0.5","v":60},{"$f":"Reference!$C$364+Reference!$D$359","v":170},null,null,null,null,null,{"$f":"SUM('Redeck Deflections'!$K$27:$O$27)","v":-0.62909999999999999},{"$f":"IF('Redeck Deflections'!$P$27<0,MROUND(ABS('Redeck Deflections'!$P$27),0.125),MROUND('Redeck Deflections'!$P$27,0.125)*-1)","v":0.625},2.5,null,2.5,{"$f":"'Redeck Deflections'!$E$6*0.5","v":60},{"$f":"Reference!$C$364+Reference!$D$359","v":170},null,null,null,null,null,{"$f":"SUM('Redeck Deflections'!$W$27:$AA$27)","v":-0.62909999999999999},{"$f":"IF('Redeck Deflections'!$AB$27<0,MROUND(ABS('Redeck Deflections'!$AB$27),0.125),MROUND('Redeck Deflections'!$AB$27,0.125)*-1)","v":0.625},2.5]
[null,2.6,{"$f":"'Redeck Deflections'!$E$6*0.6","v":72},{"$f":"Reference!$C$365+Reference!$D$359","v":182},null,null,null,null,null,{"$f":"SUM('Redeck Deflections'!$K$28:$O$28)","v":-0.57669999999999999},{"$f":"IF('Redeck Deflections'!$P$28<0,MROUND(ABS('Redeck Deflections'!$P$28),0.125),MROUND('Redeck Deflections'!$P$28,0.125)*-1)","v":0.625},2.6,null,2.6,{"$f":"'Redeck Deflections'!$E$6*0.6","v":72},{"$f":"Reference!$C$365+Reference!$D$359","v":182},null,null,null,null,null,{"$f":"SUM('Redeck Deflections'!$W$28:$AA$28)","v":-0.57669999999999999},{"$f":"IF('Redeck Deflections'!$AB$28<0,MROUND(ABS('Redeck Deflections'!$AB$28),0.125),MROUND('Redeck Deflections'!$AB$28,0.125)*-1)","v":0.625},2.6]
[null,2.7,{"$f":"'Redeck Deflections'!$E$6*0.7","v":84},{"$f":"Reference!$C$366+Reference!$D$359","v":194},null,null,null,null,null,{"$f":"SUM('Redeck Deflections'!$K$29:$O$29)","v":-0.43390000000000001},{"$f":"IF('Redeck Deflections'!$P$29<0,MROUND(ABS('Redeck Deflections'!$P$29),0.125),MROUND('Redeck Deflections'!$P$29,0.125)*-1)","v":0.375},2.7,null,2.7,{"$f":"'Redeck Deflections'!$E$6*0.7","v":84},{"$f":"Reference!$C$366+Reference!$D$359","v":194},null,null,null,null,null,{"$f":"SUM('Redeck Deflections'!$W$29:$AA$29)","v":-0.43390000000000001},{"$f":"IF('Redeck Deflections'!$AB$29<0,MROUND(ABS('Redeck Deflections'!$AB$29),0.125),MROUND('Redeck Deflections'!$AB$29,0.125)*-1)","v":0.375},2.7]
[null,2.8,{"$f":"'Redeck Deflections'!$E$6*0.8","v":96},{"$f":"Reference!$C$367+Reference!$D$359","v":206},null,null,null,null,null,{"$f":"SUM('Redeck Deflections'!$K$30:$O$30)","v":-0.24479999999999999},{"$f":"IF('Redeck Deflections'!$P$30<0,MROUND(ABS('Redeck Deflections'!$P$30),0.125),MROUND('Redeck Deflections'!$P$30,0.125)*-1)","v":0.25},2.8,null,2.8,{"$f":"'Redeck Deflections'!$E$6*0.8","v":96},{"$f":"Reference!$C$367+Reference!$D$359","v":206},null,null,null,null,null,{"$f":"SUM('Redeck Deflections'!$W$30:$AA$30)","v":-0.24479999999999999},{"$f":"IF('Redeck Deflections'!$AB$30<0,MROUND(ABS('Redeck Deflections'!$AB$30),0.125),MROUND('Redeck Deflections'!$AB$30,0.125)*-1)","v":0.25},2.8]
[null,2.9,{"$f":"'Redeck Deflections'!$E$6*0.9","v":108},{"$f":"Reference!$C$368+Reference!$D$359","v":218},null,null,null,null,null,{"$f":"SUM('Redeck Deflections'!$K$31:$O$31)","v":-8.0600000000000005E-2},{"$f":"IF('Redeck Deflections'!$P$31<0,MROUND(ABS('Redeck Deflections'!$P$31),0.125),MROUND('Redeck Deflections'!$P$31,0.125)*-1)","v":0.125},2.9,null,2.9,{"$f":"'Redeck Deflections'!$E$6*0.9","v":108},{"$f":"Reference!$C$368+Reference!$D$359","v":218},null,null,null,null,null,{"$f":"SUM('Redeck Deflections'!$W$31:$AA$31)","v":-8.0600000000000005E-2},{"$f":"IF('Redeck Deflections'!$AB$31<0,MROUND(ABS('Redeck Deflections'!$AB$31),0.125),MROUND('Redeck Deflections'!$AB$31,0.125)*-1)","v":0.125},2.9]
[null,3,{"$f":"'Redeck Deflections'!$E$6*1","v":120},{"$f":"Reference!$C$369+Reference!$D$359","v":230},null,null,null,null,null,{"$f":"SUM('Redeck Deflections'!$K$32:$O$32)","v":0},{"$f":"IF('Redeck Deflections'!$P$32<0,MROUND(ABS('Redeck Deflections'!$P$32),0.125),MROUND('Redeck Deflections'!$P$32,0.125)*-1)","v":0},3,null,3,{"$f":"'Redeck Deflections'!$E$6*1","v":120},{"$f":"Reference!$C$369+Reference!$D$359","v":230},null,null,null,null,null,{"$f":"SUM('Redeck Deflections'!$W$32:$AA$32)","v":0},{"$f":"IF('Redeck Deflections'!$AB$32<0,MROUND(ABS('Redeck Deflections'!$AB$32),0.125),MROUND('Redeck Deflections'!$AB$32,0.125)*-1)","v":0},3]
[null,3,0,{"$f":"Reference!$D$369","v":230},null,null,null,null,null,{"$f":"SUM('Redeck Deflections'!$K$33:$O$33)","v":0},{"$f":"IF('Redeck Deflections'!$P$33<0,MROUND(ABS('Redeck Deflections'!$P$33),0.125),MROUND('Redeck Deflections'!$P$33,0.125)*-1)","v":0},3,null,3,0,{"$f":"Reference!$D$369","v":230},null,null,null,null,null,{"$f":"SUM('Redeck Deflections'!$W$33:$AA$33)","v":0},{"$f":"IF('Redeck Deflections'!$AB$33<0,MROUND(ABS('Redeck Deflections'!$AB$33),0.125),MROUND('Redeck Deflections'!$AB$33,0.125)*-1)","v":0},3]
[null,3.1,{"$f":"'Redeck Deflections'!$F$6*0.1","v":11},{"$f":"Reference!$D$370+Reference!$C$371","v":241},null,null,null,null,null,{"$f":"SUM('Redeck Deflections'!$K$34:$O$34)","v":-2.5699999999999997E-2},{"$f":"IF('Redeck Deflections'!$P$34<0,MROUND(ABS('Redeck Deflections'!$P$34),0.125),MROUND('Redeck Deflections'!$P$34,0.125)*-1)","v":0},3.1,null,3.1,{"$f":"'Redeck Deflections'!$F$6*0.1","v":11},{"$f":"Reference!$D$370+Reference!$C$371","v":241},null,null,null,null,null,{"$f":"SUM('Redeck Deflections'!$W$34:$AA$34)","v":-2.5699999999999997E-2},{"$f":"IF('Redeck Deflections'!$AB$34<0,MROUND(ABS('Redeck Deflections'!$AB$34),0.125),MROUND('Redeck Deflections'!$AB$34,0.125)*-1)","v":0},3.1]
[null,3.2,{"$f":"'Redeck Deflections'!$F$6*0.2","v":22},{"$f":"Reference!$C$372+Reference!$D$370","v":252},null,null,null,null,null,{"$f":"SUM('Redeck Deflections'!$K$35:$O$35)","v":-0.1076},{"$f":"IF('Redeck Deflections'!$P$35<0,MROUND(ABS('Redeck Deflections'!$P$35),0.125),MROUND('Redeck Deflections'!$P$35,0.125)*-1)","v":0.125},3.2,null,3.2,{"$f":"'Redeck Deflections'!$F$6*0.2","v":22},{"$f":"Reference!$C$372+Reference!$D$370","v":252},null,null,null,null,null,{"$f":"SUM('Redeck Deflections'!$W$35:$AA$35)","v":-0.1076},{"$f":"IF('Redeck Deflections'!$AB$35<0,MROUND(ABS('Redeck Deflections'!$AB$35),0.125),MROUND('Redeck Deflections'!$AB$35,0.125)*-1)","v":0.125},3.2]
[null,3.3,{"$f":"'Redeck Deflections'!$F$6*0.3","v":33},{"$f":"Reference!$C$373+Reference!$D$370","v":263},null,null,null,null,null,{"$f":"SUM('Redeck Deflections'!$K$36:$O$36)","v":-0.22439999999999999},{"$f":"IF('Redeck Deflections'!$P$36<0,MROUND(ABS('Redeck Deflections'!$P$36),0.125),MROUND('Redeck Deflections'!$P$36,0.125)*-1)","v":0.25},3.3,null,3.3,{"$f":"'Redeck Deflections'!$F$6*0.3","v":33},{"$f":"Reference!$C$373+Reference!$D$370","v":263},null,null,null,null,null,{"$f":"SUM('Redeck Deflections'!$W$36:$AA$36)","v":-0.22439999999999999},{"$f":"IF('Redeck Deflections'!$AB$36<0,MROUND(ABS('Redeck Deflections'!$AB$36),0.125),MROUND('Redeck Deflections'!$AB$36,0.125)*-1)","v":0.25},3.3]
[null,3.4,{"$f":"'Redeck Deflections'!$F$6*0.4","v":44},{"$f":"Reference!$C$374+Reference!$D$370","v":274},null,null,null,null,null,{"$f":"SUM('Redeck Deflections'!$K$37:$O$37)","v":-0.34010000000000001},{"$f":"IF('Redeck Deflections'!$P$37<0,MROUND(ABS('Redeck Deflections'!$P$37),0.125),MROUND('Redeck Deflections'!$P$37,0.125)*-1)","v":0.375},3.4,null,3.4,{"$f":"'Redeck Deflections'!$F$6*0.4","v":44},{"$f":"Reference!$C$374+Reference!$D$370","v":274},null,null,null,null,null,{"$f":"SUM('Redeck Deflections'!$W$37:$AA$37)","v":-0.34010000000000001},{"$f":"IF('Redeck Deflections'!$AB$37<0,MROUND(ABS('Redeck Deflections'!$AB$37),0.125),MROUND('Redeck Deflections'!$AB$37,0.125)*-1)","v":0.375},3.4]
[null,3.5,{"$f":"'Redeck Deflections'!$F$6*0.5","v":55},{"$f":"Reference!$C$375+Reference!$D$370","v":285},null,null,null,null,null,{"$f":"SUM('Redeck Deflections'!$K$38:$O$38)","v":-0.4234},{"$f":"IF('Redeck Deflections'!$P$38<0,MROUND(ABS('Redeck Deflections'!$P$38),0.125),MROUND('Redeck Deflections'!$P$38,0.125)*-1)","v":0.375},3.5,null,3.5,{"$f":"'Redeck Deflections'!$F$6*0.5","v":55},{"$f":"Reference!$C$375+Reference!$D$370","v":285},null,null,null,null,null,{"$f":"SUM('Redeck Deflections'!$W$38:$AA$38)","v":-0.4234},{"$f":"IF('Redeck Deflections'!$AB$38<0,MROUND(ABS('Redeck Deflections'!$AB$38),0.125),MROUND('Redeck Deflections'!$AB$38,0.125)*-1)","v":0.375},3.5]
[null,3.6,{"$f":"'Redeck Deflections'!$F$6*0.6","v":66},{"$f":"Reference!$C$376+Reference!$D$370","v":296},null,null,null,null,null,{"$f":"SUM('Redeck Deflections'!$K$39:$O$39)","v":-0.45369999999999999},{"$f":"IF('Redeck Deflections'!$P$39<0,MROUND(ABS('Redeck Deflections'!$P$39),0.125),MROUND('Redeck Deflections'!$P$39,0.125)*-1)","v":0.5},3.6,null,3.6,{"$f":"'Redeck Deflections'!$F$6*0.6","v":66},{"$f":"Reference!$C$376+Reference!$D$370","v":296},null,null,null,null,null,{"$f":"SUM('Redeck Deflections'!$W$39:$AA$39)","v":-0.45369999999999999},{"$f":"IF('Redeck Deflections'!$AB$39<0,MROUND(ABS('Redeck Deflections'!$AB$39),0.125),MROUND('Redeck Deflections'!$AB$39,0.125)*-1)","v":0.5},3.6]
[null,3.7,{"$f":"'Redeck Deflections'!$F$6*0.7","v":77},{"$f":"Reference!$C$377+Reference!$D$370","v":307},null,null,null,null,null,{"$f":"SUM('Redeck Deflections'!$K$40:$O$40)","v":-0.42109999999999997},{"$f":"IF('Redeck Deflections'!$P$40<0,MROUND(ABS('Redeck Deflections'!$P$40),0.125),MROUND('Redeck Deflections'!$P$40,0.125)*-1)","v":0.375},3.7,null,3.7,{"$f":"'Redeck Deflections'!$F$6*0.7","v":77},{"$f":"Reference!$C$377+Reference!$D$370","v":307},null,null,null,null,null,{"$f":"SUM('Redeck Deflections'!$W$40:$AA$40)","v":-0.42109999999999997},{"$f":"IF('Redeck Deflections'!$AB$40<0,MROUND(ABS('Redeck Deflections'!$AB$40),0.125),MROUND('Redeck Deflections'!$AB$40,0.125)*-1)","v":0.375},3.7]
[null,3.8,{"$f":"'Redeck Deflections'!$F$6*0.8","v":88},{"$f":"Reference!$C$378+Reference!$D$370","v":318},null,null,null,null,null,{"$f":"SUM('Redeck Deflections'!$K$41:$O$41)","v":-0.3256},{"$f":"IF('Redeck Deflections'!$P$41<0,MROUND(ABS('Redeck Deflections'!$P$41),0.125),MROUND('Redeck Deflections'!$P$41,0.125)*-1)","v":0.375},3.8,null,3.8,{"$f":"'Redeck Deflections'!$F$6*0.8","v":88},{"$f":"Reference!$C$378+Reference!$D$370","v":318},null,null,null,null,null,{"$f":"SUM('Redeck Deflections'!$W$41:$AA$41)","v":-0.3256},{"$f":"IF('Redeck Deflections'!$AB$41<0,MROUND(ABS('Redeck Deflections'!$AB$41),0.125),MROUND('Redeck Deflections'!$AB$41,0.125)*-1)","v":0.375},3.8]
[null,3.9,{"$f":"'Redeck Deflections'!$F$6*0.9","v":99},{"$f":"Reference!$C$379+Reference!$D$370","v":329},null,null,null,null,null,{"$f":"SUM('Redeck Deflections'!$K$42:$O$42)","v":-0.17810000000000001},{"$f":"IF('Redeck Deflections'!$P$42<0,MROUND(ABS('Redeck Deflections'!$P$42),0.125),MROUND('Redeck Deflections'!$P$42,0.125)*-1)","v":0.125},3.9,null,3.9,{"$f":"'Redeck Deflections'!$F$6*0.9","v":99},{"$f":"Reference!$C$379+Reference!$D$370","v":329},null,null,null,null,null,{"$f":"SUM('Redeck Deflections'!$W$42:$AA$42)","v":-0.17810000000000001},{"$f":"IF('Redeck Deflections'!$AB$42<0,MROUND(ABS('Redeck Deflections'!$AB$42),0.125),MROUND('Redeck Deflections'!$AB$42,0.125)*-1)","v":0.125},3.9]
[null,4,{"$f":"'Redeck Deflections'!$F$6*1","v":110},{"$f":"Reference!$C$380+Reference!$D$370","v":340},null,null,null,null,null,{"$f":"SUM('Redeck Deflections'!$K$43:$O$43)","v":0},{"$f":"IF('Redeck Deflections'!$P$43<0,MROUND(ABS('Redeck Deflections'!$P$43),0.125),MROUND('Redeck Deflections'!$P$43,0.125)*-1)","v":0},4,null,4,{"$f":"'Redeck Deflections'!$F$6*1","v":110},{"$f":"Reference!$C$380+Reference!$D$370","v":340},null,null,null,null,null,{"$f":"SUM('Redeck Deflections'!$W$43:$AA$43)","v":0},{"$f":"IF('Redeck Deflections'!$AB$43<0,MROUND(ABS('Redeck Deflections'!$AB$43),0.125),MROUND('Redeck Deflections'!$AB$43,0.125)*-1)","v":0},4]
[]
[]
["4 Span","EXTERIOR GIRDERS",null,null,null,null,null,null,null,null,null,null,null,"INTERIOR GIRDERS"]
[null,null,null,null,"Girder","Intermediate diaphragms","Concrete",null,"Barrier","Total DL Deflection",null,null,null,null,null,null,"Girder","Intermediate diaphragms","Concrete",null,"Barrier","Total DL Deflection"]
[null,"Tenth point"," Location"," Distance"," YDL-s1- Load Case 1 - Self Load (Stage1:D,DC)"," YDL-s1- Load Case 2 - Add'l Self Load (In Force/Length) (Stage 1:D,DC)"," YDL-s1- Load Case 3 - Haunch Load (Stage1:D,DC)"," YDL-s1- Load Case 4 - Concrete Deck Load (Stage1:D,DC)"," YDL-s2- Load Case 1 - Parapet Loads(DL2 - Barriers & Curbs: Stage 2:D,D~","Decimal Inches","Nearest 1/8\"","Tenth point",null,"Tenth point"," Location"," Distance"," YDL-s1- Load Case 1 - Self Load (Stage1:D,DC)"," YDL-s1- Load Case 2 - Add'l Self Load (In Force/Length) (Stage 1:D,DC)"," YDL-s1- Load Case 3 - Haunch Load (Stage1:D,DC)"," YDL-s1- Load Case 4 - Concrete Deck Load (Stage1:D,DC)"," YDL-s2- Load Case 1 - Parapet Loads(DL2 - Barriers & Curbs: Stage 2:D,D~","Decimal Inches","Nearest 1/8\"","Tenth point"]
[null,1,0,0,"Copy and Paste Values from Virtis",null,null,null,null,{"$f":"SUM('Redeck Deflections'!$K$11:$O$11)","v":0},{"$f":"IF('Redeck Deflections'!$P$11<0,MROUND(ABS('Redeck Deflections'!$P$11),0.125),MROUND('Redeck Deflections'!$P$11,0.125)*-1)","v":0},1,null,1,0,0,"Copy and Paste Values from Virtis",null,null,null,null,{"$f":"SUM('Redeck Deflections'!$W$11:$AA$11)","v":0},{"$f":"IF('Redeck Deflections'!$AB$11<0,MROUND(ABS('Redeck Deflections'!$AB$11),0.125),MROUND('Redeck Deflections'!$AB$11,0.125)*-1)","v":0},1]
[null,1.1000000000000001,{"$f":"'Redeck Deflections'!$D$6*0.1","v":11},{"$f":"Reference!$C$349","v":11},null,null,null,null,null,{"$f":"SUM('Redeck Deflections'!$K$12:$O$12)","v":-0.17810000000000001},{"$f":"IF('Redeck Deflections'!$P$12<0,MROUND(ABS('Redeck Deflections'!$P$12),0.125),MROUND('Redeck Deflections'!$P$12,0.125)*-1)","v":0.125},1.1000000000000001,null,1.1000000000000001,{"$f":"'Redeck Deflections'!$D$6*0.1","v":11},{"$f":"Reference!$C$349","v":11},null,null,null,null,null,{"$f":"SUM('Redeck Deflections'!$W$12:$AA$12)","v":-0.17810000000000001},{"$f":"IF('Redeck Deflections'!$AB$12<0,MROUND(ABS('Redeck Deflections'!$AB$12),0.125),MROUND('Redeck Deflections'!$AB$12,0.125)*-1)","v":0.125},1.1000000000000001]
[null,1.2,{"$f":"'Redeck Deflections'!$D$6*0.2","v":22},{"$f":"Reference!$D$349+Reference!$D$349","v":22},null,null,null,null,null,{"$f":"SUM('Redeck Deflections'!$K$13:$O$13)","v":-0.3256},{"$f":"IF('Redeck Deflections'!$P$13<0,MROUND(ABS('Redeck Deflections'!$P$13),0.125),MROUND('Redeck Deflections'!$P$13,0.125)*-1)","v":0.375},1.2,null,1.2,{"$f":"'Redeck Deflections'!$D$6*0.2","v":22},{"$f":"Reference!$D$349+Reference!$D$349","v":22},null,null,null,null,null,{"$f":"SUM('Redeck Deflections'!$W$13:$AA$13)","v":-0.3256},{"$f":"IF('Redeck Deflections'!$AB$13<0,MROUND(ABS('Redeck Deflections'!$AB$13),0.125),MROUND('Redeck Deflections'!$AB$13,0.125)*-1)","v":0.375},1.2]
[null,1.3,{"$f":"'Redeck Deflections'!$D$6*0.3","v":33},{"$f":"Reference!$D$350+Reference!$D$349","v":33},null,null,null,null,null,{"$f":"SUM('Redeck Deflections'!$K$14:$O$14)","v":-0.42109999999999997},{"$f":"IF('Redeck Deflections'!$P$14<0,MROUND(ABS('Redeck Deflections'!$P$14),0.125),MROUND('Redeck Deflections'!$P$14,0.125)*-1)","v":0.375},1.3,null,1.3,{"$f":"'Redeck Deflections'!$D$6*0.3","v":33},{"$f":"Reference!$D$350+Reference!$D$349","v":33},null,null,null,null,null,{"$f":"SUM('Redeck Deflections'!$W$14:$AA$14)","v":-0.42109999999999997},{"$f":"IF('Redeck Deflections'!$AB$14<0,MROUND(ABS('Redeck Deflections'!$AB$14),0.125),MROUND('Redeck Deflections'!$AB$14,0.125)*-1)","v":0.375},1.3]
[null,1.4,{"$f":"'Redeck Deflections'!$D$6*0.4","v":44},{"$f":"Reference!$D$351+Reference!$D$349","v":44},null,null,null,null,null,{"$f":"SUM('Redeck Deflections'!$K$15:$O$15)","v":-0.45369999999999999},{"$f":"IF('Redeck Deflections'!$P$15<0,MROUND(ABS('Redeck Deflections'!$P$15),0.125),MROUND('Redeck Deflections'!$P$15,0.125)*-1)","v":0.5},1.4,null,1.4,{"$f":"'Redeck Deflections'!$D$6*0.4","v":44},{"$f":"Reference!$D$351+Reference!$D$349","v":44},null,null,null,null,null,{"$f":"SUM('Redeck Deflections'!$W$15:$AA$15)","v":-0.45369999999999999},{"$f":"IF('Redeck Deflections'!$AB$15<0,MROUND(ABS('Redeck Deflections'!$AB$15),0.125),MROUND('Redeck Deflections'!$AB$15,0.125)*-1)","v":0.5},1.4]
[null,1.5,{"$f":"'Redeck Deflections'!$D$6*0.5","v":55},{"$f":"Reference!$D$352+Reference!$D$349","v":55},null,null,null,null,null,{"$f":"SUM('Redeck Deflections'!$K$16:$O$16)","v":-0.4234},{"$f":"IF('Redeck Deflections'!$P$16<0,MROUND(ABS('Redeck Deflections'!$P$16),0.125),MROUND('Redeck Deflections'!$P$16,0.125)*-1)","v":0.375},1.5,null,1.5,{"$f":"'Redeck Deflections'!$D$6*0.5","v":55},{"$f":"Reference!$D$352+Reference!$D$349","v":55},null,null,null,null,null,{"$f":"SUM('Redeck Deflections'!$W$16:$AA$16)","v":-0.4234},{"$f":"IF('Redeck Deflections'!$AB$16<0,MROUND(ABS('Redeck Deflections'!$AB$16),0.125),MROUND('Redeck Deflections'!$AB$16,0.125)*-1)","v":0.375},1.5]
[null,1.6,{"$f":"'Redeck Deflections'!$D$6*0.6","v":66},{"$f":"Reference!$D$353+Reference!$D$349","v":66},null,null,null,null,null,{"$f":"SUM('Redeck Deflections'!$K$17:$O$17)","v":-0.34010000000000001},{"$f":"IF('Redeck Deflections'!$P$17<0,MROUND(ABS('Redeck Deflections'!$P$17),0.125),MROUND('Redeck Deflections'!$P$17,0.125)*-1)","v":0.375},1.6,null,1.6,{"$f":"'Redeck Deflections'!$D$6*0.6","v":66},{"$f":"Reference!$D$353+Reference!$D$349","v":66},null,null,null,null,null,{"$f":"SUM('Redeck Deflections'!$W$17:$AA$17)","v":-0.34010000000000001},{"$f":"IF('Redeck Deflections'!$AB$17<0,MROUND(ABS('Redeck Deflections'!$AB$17),0.125),MROUND('Redeck Deflections'!$AB$17,0.125)*-1)","v":0.375},1.6]
[null,1.7,{"$f":"'Redeck Deflections'!$D$6*0.7","v":77},{"$f":"Reference!$D$354+Reference!$D$349","v":77},null,null,null,null,null,{"$f":"SUM('Redeck Deflections'!$K$18:$O$18)","v":-0.22439999999999999},{"$f":"IF('Redeck Deflections'!$P$18<0,MROUND(ABS('Redeck Deflections'!$P$18),0.125),MROUND('Redeck Deflections'!$P$18,0.125)*-1)","v":0.25},1.7,null,1.7,{"$f":"'Redeck Deflections'!$D$6*0.7","v":77},{"$f":"Reference!$D$354+Reference!$D$349","v":77},null,null,null,null,null,{"$f":"SUM('Redeck Deflections'!$W$18:$AA$18)","v":-0.22439999999999999},{"$f":"IF('Redeck Deflections'!$AB$18<0,MROUND(ABS('Redeck Deflections'!$AB$18),0.125),MROUND('Redeck Deflections'!$AB$18,0.125)*-1)","v":0.25},1.7]
[null,1.8,{"$f":"'Redeck Deflections'!$D$6*0.8","v":88},{"$f":"Reference!$D$355+Reference!$D$349","v":88},null,null,null,null,null,{"$f":"SUM('Redeck Deflections'!$K$19:$O$19)","v":-0.1076},{"$f":"IF('Redeck Deflections'!$P$19<0,MROUND(ABS('Redeck Deflections'!$P$19),0.125),MROUND('Redeck Deflections'!$P$19,0.125)*-1)","v":0.125},1.8,null,1.8,{"$f":"'Redeck Deflections'!$D$6*0.8","v":88},{"$f":"Reference!$D$355+Reference!$D$349","v":88},null,null,null,null,null,{"$f":"SUM('Redeck Deflections'!$W$19:$AA$19)","v":-0.1076},{"$f":"IF('Redeck Deflections'!$AB$19<0,MROUND(ABS('Redeck Deflections'!$AB$19),0.125),MROUND('Redeck Deflections'!$AB$19,0.125)*-1)","v":0.125},1.8]
[null,1.9,{"$f":"'Redeck Deflections'!$D$6*0.9","v":99},{"$f":"Reference!$D$356+Reference!$D$349","v":99},null,null,null,null,null,{"$f":"SUM('Redeck Deflections'!$K$20:$O$20)","v":-2.5699999999999997E-2},{"$f":"IF('Redeck Deflections'!$P$20<0,MROUND(ABS('Redeck Deflections'!$P$20),0.125),MROUND('Redeck Deflections'!$P$20,0.125)*-1)","v":0},1.9,null,1.9,{"$f":"'Redeck Deflections'!$D$6*0.9","v":99},{"$f":"Reference!$D$356+Reference!$D$349","v":99},null,null,null,null,null,{"$f":"SUM('Redeck Deflections'!$W$20:$AA$20)","v":-2.5699999999999997E-2},{"$f":"IF('Redeck Deflections'!$AB$20<0,MROUND(ABS('Redeck Deflections'!$AB$20),0.125),MROUND('Redeck Deflections'!$AB$20,0.125)*-1)","v":0},1.9]
[null,2,{"$f":"'Redeck Deflections'!$D$6*1","v":110},{"$f":"Reference!$D$357+Reference!$D$349","v":110},null,null,null,null,null,{"$f":"SUM('Redeck Deflections'!$K$21:$O$21)","v":0},{"$f":"IF('Redeck Deflections'!$P$21<0,MROUND(ABS('Redeck Deflections'!$P$21),0.125),MROUND('Redeck Deflections'!$P$21,0.125)*-1)","v":0},2,null,2,{"$f":"'Redeck Deflections'!$D$6*1","v":110},{"$f":"Reference!$D$357+Reference!$D$349","v":110},null,null,null,null,null,{"$f":"SUM('Redeck Deflections'!$W$21:$AA$21)","v":0},{"$f":"IF('Redeck Deflections'!$AB$21<0,MROUND(ABS('Redeck Deflections'!$AB$21),0.125),MROUND('Redeck Deflections'!$AB$21,0.125)*-1)","v":0},2]
[null,2,0,{"$f":"Reference!$D$358","v":110},null,null,null,null,null,{"$f":"SUM('Redeck Deflections'!$K$22:$O$22)","v":0},{"$f":"IF('Redeck Deflections'!$P$22<0,MROUND(ABS('Redeck Deflections'!$P$22),0.125),MROUND('Redeck Deflections'!$P$22,0.125)*-1)","v":0},2,null,2,0,{"$f":"Reference!$D$358","v":110},null,null,null,null,null,{"$f":"SUM('Redeck Deflections'!$W$22:$AA$22)","v":0},{"$f":"IF('Redeck Deflections'!$AB$22<0,MROUND(ABS('Redeck Deflections'!$AB$22),0.125),MROUND('Redeck Deflections'!$AB$22,0.125)*-1)","v":0},2]
[null,2.1,{"$f":"'Redeck Deflections'!$E$6*0.1","v":12},{"$f":"Reference!$D$359+Reference!$C$360","v":122},null,null,null,null,null,{"$f":"SUM('Redeck Deflections'!$K$23:$O$23)","v":-8.0600000000000005E-2},{"$f":"IF('Redeck Deflections'!$P$23<0,MROUND(ABS('Redeck Deflections'!$P$23),0.125),MROUND('Redeck Deflections'!$P$23,0.125)*-1)","v":0.125},2.1,null,2.1,{"$f":"'Redeck Deflections'!$E$6*0.1","v":12},{"$f":"Reference!$D$359+Reference!$C$360","v":122},null,null,null,null,null,{"$f":"SUM('Redeck Deflections'!$W$23:$AA$23)","v":-8.0600000000000005E-2},{"$f":"IF('Redeck Deflections'!$AB$23<0,MROUND(ABS('Redeck Deflections'!$AB$23),0.125),MROUND('Redeck Deflections'!$AB$23,0.125)*-1)","v":0.125},2.1]
[null,2.2000000000000002,{"$f":"'Redeck Deflections'!$E$6*0.2","v":24},{"$f":"Reference!$C$361+Reference!$D$59","v":134},null,null,null,null,null,{"$f":"SUM('Redeck Deflections'!$K$24:$O$24)","v":-0.24479999999999999},{"$f":"IF('Redeck Deflections'!$P$24<0,MROUND(ABS('Redeck Deflections'!$P$24),0.125),MROUND('Redeck Deflections'!$P$24,0.125)*-1)","v":0.25},2.2000000000000002,null,2.2000000000000002,{"$f":"'Redeck Deflections'!$E$6*0.2","v":24},{"$f":"Reference!$C$361+Reference!$D$59","v":134},null,null,null,null,null,{"$f":"SUM('Redeck Deflections'!$W$24:$AA$24)","v":-0.24479999999999999},{"$f":"IF('Redeck Deflections'!$AB$24<0,MROUND(ABS('Redeck Deflections'!$AB$24),0.125),MROUND('Redeck Deflections'!$AB$24,0.125)*-1)","v":0.25},2.2000000000000002]
[null,2.2999999999999998,{"$f":"'Redeck Deflections'!$E$6*0.3","v":36},{"$f":"Reference!$C$362+Reference!$D$359","v":146},null,null,null,null,null,{"$f":"SUM('Redeck Deflections'!$K$25:$O$25)","v":-0.43390000000000001},{"$f":"IF('Redeck Deflections'!$P$25<0,MROUND(ABS('Redeck Deflections'!$P$25),0.125),MROUND('Redeck Deflections'!$P$25,0.125)*-1)","v":0.375},2.2999999999999998,null,2.2999999999999998,{"$f":"'Redeck Deflections'!$E$6*0.3","v":36},{"$f":"Reference!$C$362+Reference!$D$359","v":146},null,null,null,null,null,{"$f":"SUM('Redeck Deflections'!$W$25:$AA$25)","v":-0.43390000000000001},{"$f":"IF('Redeck Deflections'!$AB$25<0,MROUND(ABS('Redeck Deflections'!$AB$25),0.125),MROUND('Redeck Deflections'!$AB$25,0.125)*-1)","v":0.375},2.2999999999999998]
[null,2.4,{"$f":"'Redeck Deflections'!$E$6*0.4","v":48},{"$f":"Reference!$C$363+Reference!$D$359","v":158},null,null,null,null,null,{"$f":"SUM('Redeck Deflections'!$K$26:$O$26)","v":-0.57669999999999999},{"$f":"IF('Redeck Deflections'!$P$26<0,MROUND(ABS('Redeck Deflections'!$P$26),0.125),MROUND('Redeck Deflections'!$P$26,0.125)*-1)","v":0.625},2.4,null,2.4,{"$f":"'Redeck Deflections'!$E$6*0.4","v":48},{"$f":"Reference!$C$363+Reference!$D$359","v":158},null,null,null,null,null,{"$f":"SUM('Redeck Deflections'!$W$26:$AA$26)","v":-0.57669999999999999},{"$f":"IF('Redeck Deflections'!$AB$26<0,MROUND(ABS('Redeck Deflections'!$AB$26),0.125),MROUND('Redeck Deflections'!$AB$26,0.125)*-1)","v":0.625},2.4]
[null,2.5,{"$f":"'Redeck Deflections'!$E$6*0.5","v":60},{"$f":"Reference!$C$364+Reference!$D$359","v":170},null,null,null,null,null,{"$f":"SUM('Redeck Deflections'!$K$27:$O$27)","v":-0.62909999999999999},{"$f":"IF('Redeck Deflections'!$P$27<0,MROUND(ABS('Redeck Deflections'!$P$27),0.125),MROUND('Redeck Deflections'!$P$27,0.125)*-1)","v":0.625},2.5,null,2.5,{"$f":"'Redeck Deflections'!$E$6*0.5","v":60},{"$f":"Reference!$C$364+Reference!$D$359","v":170},null,null,null,null,null,{"$f":"SUM('Redeck Deflections'!$W$27:$AA$27)","v":-0.62909999999999999},{"$f":"IF('Redeck Deflections'!$AB$27<0,MROUND(ABS('Redeck Deflections'!$AB$27),0.125),MROUND('Redeck Deflections'!$AB$27,0.125)*-1)","v":0.625},2.5]
[null,2.6,{"$f":"'Redeck Deflections'!$E$6*0.6","v":72},{"$f":"Reference!$C$365+Reference!$D$359","v":182},null,null,null,null,null,{"$f":"SUM('Redeck Deflections'!$K$28:$O$28)","v":-0.57669999999999999},{"$f":"IF('Redeck Deflections'!$P$28<0,MROUND(ABS('Redeck Deflections'!$P$28),0.125),MROUND('Redeck Deflections'!$P$28,0.125)*-1)","v":0.625},2.6,null,2.6,{"$f":"'Redeck Deflections'!$E$6*0.6","v":72},{"$f":"Reference!$C$365+Reference!$D$359","v":182},null,null,null,null,null,{"$f":"SUM('Redeck Deflections'!$W$28:$AA$28)","v":-0.57669999999999999},{"$f":"IF('Redeck Deflections'!$AB$28<0,MROUND(ABS('Redeck Deflections'!$AB$28),0.125),MROUND('Redeck Deflections'!$AB$28,0.125)*-1)","v":0.625},2.6]
[null,2.7,{"$f":"'Redeck Deflections'!$E$6*0.7","v":84},{"$f":"Reference!$C$366+Reference!$D$359","v":194},null,null,null,null,null,{"$f":"SUM('Redeck Deflections'!$K$29:$O$29)","v":-0.43390000000000001},{"$f":"IF('Redeck Deflections'!$P$29<0,MROUND(ABS('Redeck Deflections'!$P$29),0.125),MROUND('Redeck Deflections'!$P$29,0.125)*-1)","v":0.375},2.7,null,2.7,{"$f":"'Redeck Deflections'!$E$6*0.7","v":84},{"$f":"Reference!$C$366+Reference!$D$359","v":194},null,null,null,null,null,{"$f":"SUM('Redeck Deflections'!$W$29:$AA$29)","v":-0.43390000000000001},{"$f":"IF('Redeck Deflections'!$AB$29<0,MROUND(ABS('Redeck Deflections'!$AB$29),0.125),MROUND('Redeck Deflections'!$AB$29,0.125)*-1)","v":0.375},2.7]
[null,2.8,{"$f":"'Redeck Deflections'!$E$6*0.8","v":96},{"$f":"Reference!$C$367+Reference!$D$359","v":206},null,null,null,null,null,{"$f":"SUM('Redeck Deflections'!$K$30:$O$30)","v":-0.24479999999999999},{"$f":"IF('Redeck Deflections'!$P$30<0,MROUND(ABS('Redeck Deflections'!$P$30),0.125),MROUND('Redeck Deflections'!$P$30,0.125)*-1)","v":0.25},2.8,null,2.8,{"$f":"'Redeck Deflections'!$E$6*0.8","v":96},{"$f":"Reference!$C$367+Reference!$D$359","v":206},null,null,null,null,null,{"$f":"SUM('Redeck Deflections'!$W$30:$AA$30)","v":-0.24479999999999999},{"$f":"IF('Redeck Deflections'!$AB$30<0,MROUND(ABS('Redeck Deflections'!$AB$30),0.125),MROUND('Redeck Deflections'!$AB$30,0.125)*-1)","v":0.25},2.8]
[null,2.9,{"$f":"'Redeck Deflections'!$E$6*0.9","v":108},{"$f":"Reference!$C$368+Reference!$D$359","v":218},null,null,null,null,null,{"$f":"SUM('Redeck Deflections'!$K$31:$O$31)","v":-8.0600000000000005E-2},{"$f":"IF('Redeck Deflections'!$P$31<0,MROUND(ABS('Redeck Deflections'!$P$31),0.125),MROUND('Redeck Deflections'!$P$31,0.125)*-1)","v":0.125},2.9,null,2.9,{"$f":"'Redeck Deflections'!$E$6*0.9","v":108},{"$f":"Reference!$C$368+Reference!$D$359","v":218},null,null,null,null,null,{"$f":"SUM('Redeck Deflections'!$W$31:$AA$31)","v":-8.0600000000000005E-2},{"$f":"IF('Redeck Deflections'!$AB$31<0,MROUND(ABS('Redeck Deflections'!$AB$31),0.125),MROUND('Redeck Deflections'!$AB$31,0.125)*-1)","v":0.125},2.9]
[null,3,{"$f":"'Redeck Deflections'!$E$6*1","v":120},{"$f":"Reference!$C$369+Reference!$D$359","v":230},null,null,null,null,null,{"$f":"SUM('Redeck Deflections'!$K$32:$O$32)","v":0},{"$f":"IF('Redeck Deflections'!$P$32<0,MROUND(ABS('Redeck Deflections'!$P$32),0.125),MROUND('Redeck Deflections'!$P$32,0.125)*-1)","v":0},3,null,3,{"$f":"'Redeck Deflections'!$E$6*1","v":120},{"$f":"Reference!$C$369+Reference!$D$359","v":230},null,null,null,null,null,{"$f":"SUM('Redeck Deflections'!$W$32:$AA$32)","v":0},{"$f":"IF('Redeck Deflections'!$AB$32<0,MROUND(ABS('Redeck Deflections'!$AB$32),0.125),MROUND('Redeck Deflections'!$AB$32,0.125)*-1)","v":0},3]
[null,3,0,{"$f":"Reference!$D$369","v":230},null,null,null,null,null,{"$f":"SUM('Redeck Deflections'!$K$33:$O$33)","v":0},{"$f":"IF('Redeck Deflections'!$P$33<0,MROUND(ABS('Redeck Deflections'!$P$33),0.125),MROUND('Redeck Deflections'!$P$33,0.125)*-1)","v":0},3,null,3,0,{"$f":"Reference!$D$369","v":230},null,null,null,null,null,{"$f":"SUM('Redeck Deflections'!$W$33:$AA$33)","v":0},{"$f":"IF('Redeck Deflections'!$AB$33<0,MROUND(ABS('Redeck Deflections'!$AB$33),0.125),MROUND('Redeck Deflections'!$AB$33,0.125)*-1)","v":0},3]
[null,3.1,{"$f":"'Redeck Deflections'!$F$6*0.1","v":11},{"$f":"Reference!$D$370+Reference!$C$371","v":241},null,null,null,null,null,{"$f":"SUM('Redeck Deflections'!$K$34:$O$34)","v":-2.5699999999999997E-2},{"$f":"IF('Redeck Deflections'!$P$34<0,MROUND(ABS('Redeck Deflections'!$P$34),0.125),MROUND('Redeck Deflections'!$P$34,0.125)*-1)","v":0},3.1,null,3.1,{"$f":"'Redeck Deflections'!$F$6*0.1","v":11},{"$f":"Reference!$D$370+Reference!$C$371","v":241},null,null,null,null,null,{"$f":"SUM('Redeck Deflections'!$W$34:$AA$34)","v":-2.5699999999999997E-2},{"$f":"IF('Redeck Deflections'!$AB$34<0,MROUND(ABS('Redeck Deflections'!$AB$34),0.125),MROUND('Redeck Deflections'!$AB$34,0.125)*-1)","v":0},3.1]
[null,3.2,{"$f":"'Redeck Deflections'!$F$6*0.2","v":22},{"$f":"Reference!$C$372+Reference!$D$370","v":252},null,null,null,null,null,{"$f":"SUM('Redeck Deflections'!$K$35:$O$35)","v":-0.1076},{"$f":"IF('Redeck Deflections'!$P$35<0,MROUND(ABS('Redeck Deflections'!$P$35),0.125),MROUND('Redeck Deflections'!$P$35,0.125)*-1)","v":0.125},3.2,null,3.2,{"$f":"'Redeck Deflections'!$F$6*0.2","v":22},{"$f":"Reference!$C$372+Reference!$D$370","v":252},null,null,null,null,null,{"$f":"SUM('Redeck Deflections'!$W$35:$AA$35)","v":-0.1076},{"$f":"IF('Redeck Deflections'!$AB$35<0,MROUND(ABS('Redeck Deflections'!$AB$35),0.125),MROUND('Redeck Deflections'!$AB$35,0.125)*-1)","v":0.125},3.2]
[null,3.3,{"$f":"'Redeck Deflections'!$F$6*0.3","v":33},{"$f":"Reference!$C$373+Reference!$D$370","v":263},null,null,null,null,null,{"$f":"SUM('Redeck Deflections'!$K$36:$O$36)","v":-0.22439999999999999},{"$f":"IF('Redeck Deflections'!$P$36<0,MROUND(ABS('Redeck Deflections'!$P$36),0.125),MROUND('Redeck Deflections'!$P$36,0.125)*-1)","v":0.25},3.3,null,3.3,{"$f":"'Redeck Deflections'!$F$6*0.3","v":33},{"$f":"Reference!$C$373+Reference!$D$370","v":263},null,null,null,null,null,{"$f":"SUM('Redeck Deflections'!$W$36:$AA$36)","v":-0.22439999999999999},{"$f":"IF('Redeck Deflections'!$AB$36<0,MROUND(ABS('Redeck Deflections'!$AB$36),0.125),MROUND('Redeck Deflections'!$AB$36,0.125)*-1)","v":0.25},3.3]
[null,3.4,{"$f":"'Redeck Deflections'!$F$6*0.4","v":44},{"$f":"Reference!$C$374+Reference!$D$370","v":274},null,null,null,null,null,{"$f":"SUM('Redeck Deflections'!$K$37:$O$37)","v":-0.34010000000000001},{"$f":"IF('Redeck Deflections'!$P$37<0,MROUND(ABS('Redeck Deflections'!$P$37),0.125),MROUND('Redeck Deflections'!$P$37,0.125)*-1)","v":0.375},3.4,null,3.4,{"$f":"'Redeck Deflections'!$F$6*0.4","v":44},{"$f":"Reference!$C$374+Reference!$D$370","v":274},null,null,null,null,null,{"$f":"SUM('Redeck Deflections'!$W$37:$AA$37)","v":-0.34010000000000001},{"$f":"IF('Redeck Deflections'!$AB$37<0,MROUND(ABS('Redeck Deflections'!$AB$37),0.125),MROUND('Redeck Deflections'!$AB$37,0.125)*-1)","v":0.375},3.4]
[null,3.5,{"$f":"'Redeck Deflections'!$F$6*0.5","v":55},{"$f":"Reference!$C$375+Reference!$D$370","v":285},null,null,null,null,null,{"$f":"SUM('Redeck Deflections'!$K$38:$O$38)","v":-0.4234},{"$f":"IF('Redeck Deflections'!$P$38<0,MROUND(ABS('Redeck Deflections'!$P$38),0.125),MROUND('Redeck Deflections'!$P$38,0.125)*-1)","v":0.375},3.5,null,3.5,{"$f":"'Redeck Deflections'!$F$6*0.5","v":55},{"$f":"Reference!$C$375+Reference!$D$370","v":285},null,null,null,null,null,{"$f":"SUM('Redeck Deflections'!$W$38:$AA$38)","v":-0.4234},{"$f":"IF('Redeck Deflections'!$AB$38<0,MROUND(ABS('Redeck Deflections'!$AB$38),0.125),MROUND('Redeck Deflections'!$AB$38,0.125)*-1)","v":0.375},3.5]
[null,3.6,{"$f":"'Redeck Deflections'!$F$6*0.6","v":66},{"$f":"Reference!$C$376+Reference!$D$370","v":296},null,null,null,null,null,{"$f":"SUM('Redeck Deflections'!$K$39:$O$39)","v":-0.45369999999999999},{"$f":"IF('Redeck Deflections'!$P$39<0,MROUND(ABS('Redeck Deflections'!$P$39),0.125),MROUND('Redeck Deflections'!$P$39,0.125)*-1)","v":0.5},3.6,null,3.6,{"$f":"'Redeck Deflections'!$F$6*0.6","v":66},{"$f":"Reference!$C$376+Reference!$D$370","v":296},null,null,null,null,null,{"$f":"SUM('Redeck Deflections'!$W$39:$AA$39)","v":-0.45369999999999999},{"$f":"IF('Redeck Deflections'!$AB$39<0,MROUND(ABS('Redeck Deflections'!$AB$39),0.125),MROUND('Redeck Deflections'!$AB$39,0.125)*-1)","v":0.5},3.6]
[null,3.7,{"$f":"'Redeck Deflections'!$F$6*0.7","v":77},{"$f":"Reference!$C$377+Reference!$D$370","v":307},null,null,null,null,null,{"$f":"SUM('Redeck Deflections'!$K$40:$O$40)","v":-0.42109999999999997},{"$f":"IF('Redeck Deflections'!$P$40<0,MROUND(ABS('Redeck Deflections'!$P$40),0.125),MROUND('Redeck Deflections'!$P$40,0.125)*-1)","v":0.375},3.7,null,3.7,{"$f":"'Redeck Deflections'!$F$6*0.7","v":77},{"$f":"Reference!$C$377+Reference!$D$370","v":307},null,null,null,null,null,{"$f":"SUM('Redeck Deflections'!$W$40:$AA$40)","v":-0.42109999999999997},{"$f":"IF('Redeck Deflections'!$AB$40<0,MROUND(ABS('Redeck Deflections'!$AB$40),0.125),MROUND('Redeck Deflections'!$AB$40,0.125)*-1)","v":0.375},3.7]
[null,3.8,{"$f":"'Redeck Deflections'!$F$6*0.8","v":88},{"$f":"Reference!$C$378+Reference!$D$370","v":318},null,null,null,null,null,{"$f":"SUM('Redeck Deflections'!$K$41:$O$41)","v":-0.3256},{"$f":"IF('Redeck Deflections'!$P$41<0,MROUND(ABS('Redeck Deflections'!$P$41),0.125),MROUND('Redeck Deflections'!$P$41,0.125)*-1)","v":0.375},3.8,null,3.8,{"$f":"'Redeck Deflections'!$F$6*0.8","v":88},{"$f":"Reference!$C$378+Reference!$D$370","v":318},null,null,null,null,null,{"$f":"SUM('Redeck Deflections'!$W$41:$AA$41)","v":-0.3256},{"$f":"IF('Redeck Deflections'!$AB$41<0,MROUND(ABS('Redeck Deflections'!$AB$41),0.125),MROUND('Redeck Deflections'!$AB$41,0.125)*-1)","v":0.375},3.8]
[null,3.9,{"$f":"'Redeck Deflections'!$F$6*0.9","v":99},{"$f":"Reference!$C$379+Reference!$D$370","v":329},null,null,null,null,null,{"$f":"SUM('Redeck Deflections'!$K$42:$O$42)","v":-0.17810000000000001},{"$f":"IF('Redeck Deflections'!$P$42<0,MROUND(ABS('Redeck Deflections'!$P$42),0.125),MROUND('Redeck Deflections'!$P$42,0.125)*-1)","v":0.125},3.9,null,3.9,{"$f":"'Redeck Deflections'!$F$6*0.9","v":99},{"$f":"Reference!$C$379+Reference!$D$370","v":329},null,null,null,null,null,{"$f":"SUM('Redeck Deflections'!$W$42:$AA$42)","v":-0.17810000000000001},{"$f":"IF('Redeck Deflections'!$AB$42<0,MROUND(ABS('Redeck Deflections'!$AB$42),0.125),MROUND('Redeck Deflections'!$AB$42,0.125)*-1)","v":0.125},3.9]
[null,4,{"$f":"'Redeck Deflections'!$F$6*1","v":110},{"$f":"Reference!$C$380+Reference!$D$370","v":340},null,null,null,null,null,{"$f":"SUM('Redeck Deflections'!$K$43:$O$43)","v":0},{"$f":"IF('Redeck Deflections'!$P$43<0,MROUND(ABS('Redeck Deflections'!$P$43),0.125),MROUND('Redeck Deflections'!$P$43,0.125)*-1)","v":0},4,null,4,{"$f":"'Redeck Deflections'!$F$6*1","v":110},{"$f":"Reference!$C$380+Reference!$D$370","v":340},null,null,null,null,null,{"$f":"SUM('Redeck Deflections'!$W$43:$AA$43)","v":0},{"$f":"IF('Redeck Deflections'!$AB$43<0,MROUND(ABS('Redeck Deflections'!$AB$43),0.125),MROUND('Redeck Deflections'!$AB$43,0.125)*-1)","v":0},4]
[null,4,0,{"$f":"Reference!$D$380","v":340},null,null,null,null,null,{"$f":"SUM('Redeck Deflections'!$K$44:$O$44)","v":0},{"$f":"IF('Redeck Deflections'!$P$44<0,MROUND(ABS('Redeck Deflections'!$P$44),0.125),MROUND('Redeck Deflections'!$P$44,0.125)*-1)","v":0},4,null,4,0,{"$f":"Reference!$D$380","v":340},null,null,null,null,null,{"$f":"SUM('Redeck Deflections'!$W$44:$AA$44)","v":0},{"$f":"IF('Redeck Deflections'!$AB$44<0,MROUND(ABS('Redeck Deflections'!$AB$44),0.125),MROUND('Redeck Deflections'!$AB$44,0.125)*-1)","v":0},4]
[null,4.0999999999999996,{"$f":"'Redeck Deflections'!$G$6*0.1","v":0},{"$f":"Reference!$D$381+Reference!$C$382","v":340},null,null,null,null,null,{"$f":"SUM('Redeck Deflections'!$K$45:$O$45)","v":0},{"$f":"IF('Redeck Deflections'!$P$45<0,MROUND(ABS('Redeck Deflections'!$P$45),0.125),MROUND('Redeck Deflections'!$P$45,0.125)*-1)","v":0},4.0999999999999996,null,4.0999999999999996,{"$f":"'Redeck Deflections'!$G$6*0.1","v":0},{"$f":"Reference!$D$381+Reference!$C$382","v":340},null,null,null,null,null,{"$f":"SUM('Redeck Deflections'!$W$45:$AA$45)","v":0},{"$f":"IF('Redeck Deflections'!$AB$45<0,MROUND(ABS('Redeck Deflections'!$AB$45),0.125),MROUND('Redeck Deflections'!$AB$45,0.125)*-1)","v":0},4.0999999999999996]
[null,4.2,{"$f":"'Redeck Deflections'!$G$6*0.2","v":0},{"$f":"Reference!$C$383+Reference!$D$381","v":340},null,null,null,null,null,{"$f":"SUM('Redeck Deflections'!$K$46:$O$46)","v":0},{"$f":"IF('Redeck Deflections'!$P$46<0,MROUND(ABS('Redeck Deflections'!$P$46),0.125),MROUND('Redeck Deflections'!$P$46,0.125)*-1)","v":0},4.2,null,4.2,{"$f":"'Redeck Deflections'!$G$6*0.2","v":0},{"$f":"Reference!$C$383+Reference!$D$381","v":340},null,null,null,null,null,{"$f":"SUM('Redeck Deflections'!$W$46:$AA$46)","v":0},{"$f":"IF('Redeck Deflections'!$AB$46<0,MROUND(ABS('Redeck Deflections'!$AB$46),0.125),MROUND('Redeck Deflections'!$AB$46,0.125)*-1)","v":0},4.2]
[null,4.3,{"$f":"'Redeck Deflections'!$G$6*0.3","v":0},{"$f":"Reference!$C$384+Reference!$D$381","v":340},null,null,null,null,null,{"$f":"SUM('Redeck Deflections'!$K$47:$O$47)","v":0},{"$f":"IF('Redeck Deflections'!$P$47<0,MROUND(ABS('Redeck Deflections'!$P$47),0.125),MROUND('Redeck Deflections'!$P$47,0.125)*-1)","v":0},4.3,null,4.3,{"$f":"'Redeck Deflections'!$G$6*0.3","v":0},{"$f":"Reference!$C$384+Reference!$D$381","v":340},null,null,null,null,null,{"$f":"SUM('Redeck Deflections'!$W$47:$AA$47)","v":0},{"$f":"IF('Redeck Deflections'!$AB$47<0,MROUND(ABS('Redeck Deflections'!$AB$47),0.125),MROUND('Redeck Deflections'!$AB$47,0.125)*-1)","v":0},4.3]
[null,4.4000000000000004,{"$f":"'Redeck Deflections'!$G$6*0.4","v":0},{"$f":"Reference!$C$385+Reference!$D$381","v":340},null,null,null,null,null,{"$f":"SUM('Redeck Deflections'!$K$48:$O$48)","v":0},{"$f":"IF('Redeck Deflections'!$P$48<0,MROUND(ABS('Redeck Deflections'!$P$48),0.125),MROUND('Redeck Deflections'!$P$48,0.125)*-1)","v":0},4.4000000000000004,null,4.4000000000000004,{"$f":"'Redeck Deflections'!$G$6*0.4","v":0},{"$f":"Reference!$C$385+Reference!$D$381","v":340},null,null,null,null,null,{"$f":"SUM('Redeck Deflections'!$W$48:$AA$48)","v":0},{"$f":"IF('Redeck Deflections'!$AB$48<0,MROUND(ABS('Redeck Deflections'!$AB$48),0.125),MROUND('Redeck Deflections'!$AB$48,0.125)*-1)","v":0},4.4000000000000004]
[null,4.5,{"$f":"'Redeck Deflections'!$G$6*0.5","v":0},{"$f":"Reference!$C$386+Reference!$D$381","v":340},null,null,null,null,null,{"$f":"SUM('Redeck Deflections'!$K$49:$O$49)","v":0},{"$f":"IF('Redeck Deflections'!$P$49<0,MROUND(ABS('Redeck Deflections'!$P$49),0.125),MROUND('Redeck Deflections'!$P$49,0.125)*-1)","v":0},4.5,null,4.5,{"$f":"'Redeck Deflections'!$G$6*0.5","v":0},{"$f":"Reference!$C$386+Reference!$D$381","v":340},null,null,null,null,null,{"$f":"SUM('Redeck Deflections'!$W$49:$AA$49)","v":0},{"$f":"IF('Redeck Deflections'!$AB$49<0,MROUND(ABS('Redeck Deflections'!$AB$49),0.125),MROUND('Redeck Deflections'!$AB$49,0.125)*-1)","v":0},4.5]
[null,4.5999999999999996,{"$f":"'Redeck Deflections'!$G$6*0.6","v":0},{"$f":"Reference!$C$387+Reference!$D$381","v":340},null,null,null,null,null,{"$f":"SUM('Redeck Deflections'!$K$50:$O$50)","v":0},{"$f":"IF('Redeck Deflections'!$P$50<0,MROUND(ABS('Redeck Deflections'!$P$50),0.125),MROUND('Redeck Deflections'!$P$50,0.125)*-1)","v":0},4.5999999999999996,null,4.5999999999999996,{"$f":"'Redeck Deflections'!$G$6*0.6","v":0},{"$f":"Reference!$C$387+Reference!$D$381","v":340},null,null,null,null,null,{"$f":"SUM('Redeck Deflections'!$W$50:$AA$50)","v":0},{"$f":"IF('Redeck Deflections'!$AB$50<0,MROUND(ABS('Redeck Deflections'!$AB$50),0.125),MROUND('Redeck Deflections'!$AB$50,0.125)*-1)","v":0},4.5999999999999996]
[null,4.7,{"$f":"'Redeck Deflections'!$G$6*0.7","v":0},{"$f":"Reference!$C$388+Reference!$D$381","v":340},null,null,null,null,null,{"$f":"SUM('Redeck Deflections'!$K$51:$O$51)","v":0},{"$f":"IF('Redeck Deflections'!$P$51<0,MROUND(ABS('Redeck Deflections'!$P$51),0.125),MROUND('Redeck Deflections'!$P$51,0.125)*-1)","v":0},4.7,null,4.7,{"$f":"'Redeck Deflections'!$G$6*0.7","v":0},{"$f":"Reference!$C$388+Reference!$D$381","v":340},null,null,null,null,null,{"$f":"SUM('Redeck Deflections'!$W$51:$AA$51)","v":0},{"$f":"IF('Redeck Deflections'!$AB$51<0,MROUND(ABS('Redeck Deflections'!$AB$51),0.125),MROUND('Redeck Deflections'!$AB$51,0.125)*-1)","v":0},4.7]
[null,4.8,{"$f":"'Redeck Deflections'!$G$6*0.8","v":0},{"$f":"Reference!$C$389+Reference!$D$381","v":340},null,null,null,null,null,{"$f":"SUM('Redeck Deflections'!$K$52:$O$52)","v":0},{"$f":"IF('Redeck Deflections'!$P$52<0,MROUND(ABS('Redeck Deflections'!$P$52),0.125),MROUND('Redeck Deflections'!$P$52,0.125)*-1)","v":0},4.8,null,4.8,{"$f":"'Redeck Deflections'!$G$6*0.8","v":0},{"$f":"Reference!$C$389+Reference!$D$381","v":340},null,null,null,null,null,{"$f":"SUM('Redeck Deflections'!$W$52:$AA$52)","v":0},{"$f":"IF('Redeck Deflections'!$AB$52<0,MROUND(ABS('Redeck Deflections'!$AB$52),0.125),MROUND('Redeck Deflections'!$AB$52,0.125)*-1)","v":0},4.8]
[null,4.9000000000000004,{"$f":"'Redeck Deflections'!$G$6*0.9","v":0},{"$f":"Reference!$C$390+Reference!$D$381","v":340},null,null,null,null,null,{"$f":"SUM('Redeck Deflections'!$K$53:$O$53)","v":0},{"$f":"IF('Redeck Deflections'!$P$53<0,MROUND(ABS('Redeck Deflections'!$P$53),0.125),MROUND('Redeck Deflections'!$P$53,0.125)*-1)","v":0},4.9000000000000004,null,4.9000000000000004,{"$f":"'Redeck Deflections'!$G$6*0.9","v":0},{"$f":"Reference!$C$390+Reference!$D$381","v":340},null,null,null,null,null,{"$f":"SUM('Redeck Deflections'!$W$53:$AA$53)","v":0},{"$f":"IF('Redeck Deflections'!$AB$53<0,MROUND(ABS('Redeck Deflections'!$AB$53),0.125),MROUND('Redeck Deflections'!$AB$53,0.125)*-1)","v":0},4.9000000000000004]
[null,5,{"$f":"'Redeck Deflections'!$G$6*1","v":0},{"$f":"Reference!$C$391+Reference!$D$381","v":340},null,null,null,null,null,{"$f":"SUM('Redeck Deflections'!$K$54:$O$54)","v":0},{"$f":"IF('Redeck Deflections'!$P$54<0,MROUND(ABS('Redeck Deflections'!$P$54),0.125),MROUND('Redeck Deflections'!$P$54,0.125)*-1)","v":0},5,null,5,{"$f":"'Redeck Deflections'!$G$6*1","v":0},{"$f":"Reference!$C$391+Reference!$D$381","v":340},null,null,null,null,null,{"$f":"SUM('Redeck Deflections'!$W$54:$AA$54)","v":0},{"$f":"IF('Redeck Deflections'!$AB$54<0,MROUND(ABS('Redeck Deflections'!$AB$54),0.125),MROUND('Redeck Deflections'!$AB$54,0.125)*-1)","v":0},5]
[]
[]
["5 Span","EXTERIOR GIRDERS",null,null,null,null,null,null,null,null,null,null,null,"INTERIOR GIRDERS"]
[null,null,null,null,"Girder","Intermediate diaphragms","Concrete",null,"Barrier","Total DL Deflection",null,null,null,null,null,null,"Girder","Intermediate diaphragms","Concrete",null,"Barrier","Total DL Deflection"]
[null,"Tenth point"," Location"," Distance"," YDL-s1- Load Case 1 - Self Load (Stage1:D,DC)"," YDL-s1- Load Case 2 - Add'l Self Load (In Force/Length) (Stage 1:D,DC)"," YDL-s1- Load Case 3 - Haunch Load (Stage1:D,DC)"," YDL-s1- Load Case 4 - Concrete Deck Load (Stage1:D,DC)"," YDL-s2- Load Case 1 - Parapet Loads(DL2 - Barriers & Curbs: Stage 2:D,D~","Decimal Inches","Nearest 1/8\"","Tenth point",null,"Tenth point"," Location"," Distance"," YDL-s1- Load Case 1 - Self Load (Stage1:D,DC)"," YDL-s1- Load Case 2 - Add'l Self Load (In Force/Length) (Stage 1:D,DC)"," YDL-s1- Load Case 3 - Haunch Load (Stage1:D,DC)"," YDL-s1- Load Case 4 - Concrete Deck Load (Stage1:D,DC)"," YDL-s2- Load Case 1 - Parapet Loads(DL2 - Barriers & Curbs: Stage 2:D,D~","Decimal Inches","Nearest 1/8\"","Tenth point"]
[null,1,0,0,"Copy and Paste Values from Virtis",null,null,null,null,{"$f":"SUM('Redeck Deflections'!$K$11:$O$11)","v":0},{"$f":"IF('Redeck Deflections'!$P$11<0,MROUND(ABS('Redeck Deflections'!$P$11),0.125),MROUND('Redeck Deflections'!$P$11,0.125)*-1)","v":0},1,null,1,0,0,"Copy and Paste Values from Virtis",null,null,null,null,{"$f":"SUM('Redeck Deflections'!$W$11:$AA$11)","v":0},{"$f":"IF('Redeck Deflections'!$AB$11<0,MROUND(ABS('Redeck Deflections'!$AB$11),0.125),MROUND('Redeck Deflections'!$AB$11,0.125)*-1)","v":0},1]
[null,1.1000000000000001,{"$f":"'Redeck Deflections'!$D$6*0.1","v":11},{"$f":"Reference!$C$349","v":11},null,null,null,null,null,{"$f":"SUM('Redeck Deflections'!$K$12:$O$12)","v":-0.17810000000000001},{"$f":"IF('Redeck Deflections'!$P$12<0,MROUND(ABS('Redeck Deflections'!$P$12),0.125),MROUND('Redeck Deflections'!$P$12,0.125)*-1)","v":0.125},1.1000000000000001,null,1.1000000000000001,{"$f":"'Redeck Deflections'!$D$6*0.1","v":11},{"$f":"Reference!$C$349","v":11},null,null,null,null,null,{"$f":"SUM('Redeck Deflections'!$W$12:$AA$12)","v":-0.17810000000000001},{"$f":"IF('Redeck Deflections'!$AB$12<0,MROUND(ABS('Redeck Deflections'!$AB$12),0.125),MROUND('Redeck Deflections'!$AB$12,0.125)*-1)","v":0.125},1.1000000000000001]
[null,1.2,{"$f":"'Redeck Deflections'!$D$6*0.2","v":22},{"$f":"Reference!$D$349+Reference!$D$349","v":22},null,null,null,null,null,{"$f":"SUM('Redeck Deflections'!$K$13:$O$13)","v":-0.3256},{"$f":"IF('Redeck Deflections'!$P$13<0,MROUND(ABS('Redeck Deflections'!$P$13),0.125),MROUND('Redeck Deflections'!$P$13,0.125)*-1)","v":0.375},1.2,null,1.2,{"$f":"'Redeck Deflections'!$D$6*0.2","v":22},{"$f":"Reference!$D$349+Reference!$D$349","v":22},null,null,null,null,null,{"$f":"SUM('Redeck Deflections'!$W$13:$AA$13)","v":-0.3256},{"$f":"IF('Redeck Deflections'!$AB$13<0,MROUND(ABS('Redeck Deflections'!$AB$13),0.125),MROUND('Redeck Deflections'!$AB$13,0.125)*-1)","v":0.375},1.2]
[null,1.3,{"$f":"'Redeck Deflections'!$D$6*0.3","v":33},{"$f":"Reference!$D$350+Reference!$D$349","v":33},null,null,null,null,null,{"$f":"SUM('Redeck Deflections'!$K$14:$O$14)","v":-0.42109999999999997},{"$f":"IF('Redeck Deflections'!$P$14<0,MROUND(ABS('Redeck Deflections'!$P$14),0.125),MROUND('Redeck Deflections'!$P$14,0.125)*-1)","v":0.375},1.3,null,1.3,{"$f":"'Redeck Deflections'!$D$6*0.3","v":33},{"$f":"Reference!$D$350+Reference!$D$349","v":33},null,null,null,null,null,{"$f":"SUM('Redeck Deflections'!$W$14:$AA$14)","v":-0.42109999999999997},{"$f":"IF('Redeck Deflections'!$AB$14<0,MROUND(ABS('Redeck Deflections'!$AB$14),0.125),MROUND('Redeck Deflections'!$AB$14,0.125)*-1)","v":0.375},1.3]
[null,1.4,{"$f":"'Redeck Deflections'!$D$6*0.4","v":44},{"$f":"Reference!$D$351+Reference!$D$349","v":44},null,null,null,null,null,{"$f":"SUM('Redeck Deflections'!$K$15:$O$15)","v":-0.45369999999999999},{"$f":"IF('Redeck Deflections'!$P$15<0,MROUND(ABS('Redeck Deflections'!$P$15),0.125),MROUND('Redeck Deflections'!$P$15,0.125)*-1)","v":0.5},1.4,null,1.4,{"$f":"'Redeck Deflections'!$D$6*0.4","v":44},{"$f":"Reference!$D$351+Reference!$D$349","v":44},null,null,null,null,null,{"$f":"SUM('Redeck Deflections'!$W$15:$AA$15)","v":-0.45369999999999999},{"$f":"IF('Redeck Deflections'!$AB$15<0,MROUND(ABS('Redeck Deflections'!$AB$15),0.125),MROUND('Redeck Deflections'!$AB$15,0.125)*-1)","v":0.5},1.4]
[null,1.5,{"$f":"'Redeck Deflections'!$D$6*0.5","v":55},{"$f":"Reference!$D$352+Reference!$D$349","v":55},null,null,null,null,null,{"$f":"SUM('Redeck Deflections'!$K$16:$O$16)","v":-0.4234},{"$f":"IF('Redeck Deflections'!$P$16<0,MROUND(ABS('Redeck Deflections'!$P$16),0.125),MROUND('Redeck Deflections'!$P$16,0.125)*-1)","v":0.375},1.5,null,1.5,{"$f":"'Redeck Deflections'!$D$6*0.5","v":55},{"$f":"Reference!$D$352+Reference!$D$349","v":55},null,null,null,null,null,{"$f":"SUM('Redeck Deflections'!$W$16:$AA$16)","v":-0.4234},{"$f":"IF('Redeck Deflections'!$AB$16<0,MROUND(ABS('Redeck Deflections'!$AB$16),0.125),MROUND('Redeck Deflections'!$AB$16,0.125)*-1)","v":0.375},1.5]
[null,1.6,{"$f":"'Redeck Deflections'!$D$6*0.6","v":66},{"$f":"Reference!$D$353+Reference!$D$349","v":66},null,null,null,null,null,{"$f":"SUM('Redeck Deflections'!$K$17:$O$17)","v":-0.34010000000000001},{"$f":"IF('Redeck Deflections'!$P$17<0,MROUND(ABS('Redeck Deflections'!$P$17),0.125),MROUND('Redeck Deflections'!$P$17,0.125)*-1)","v":0.375},1.6,null,1.6,{"$f":"'Redeck Deflections'!$D$6*0.6","v":66},{"$f":"Reference!$D$353+Reference!$D$349","v":66},null,null,null,null,null,{"$f":"SUM('Redeck Deflections'!$W$17:$AA$17)","v":-0.34010000000000001},{"$f":"IF('Redeck Deflections'!$AB$17<0,MROUND(ABS('Redeck Deflections'!$AB$17),0.125),MROUND('Redeck Deflections'!$AB$17,0.125)*-1)","v":0.375},1.6]
[null,1.7,{"$f":"'Redeck Deflections'!$D$6*0.7","v":77},{"$f":"Reference!$D$354+Reference!$D$349","v":77},null,null,null,null,null,{"$f":"SUM('Redeck Deflections'!$K$18:$O$18)","v":-0.22439999999999999},{"$f":"IF('Redeck Deflections'!$P$18<0,MROUND(ABS('Redeck Deflections'!$P$18),0.125),MROUND('Redeck Deflections'!$P$18,0.125)*-1)","v":0.25},1.7,null,1.7,{"$f":"'Redeck Deflections'!$D$6*0.7","v":77},{"$f":"Reference!$D$354+Reference!$D$349","v":77},null,null,null,null,null,{"$f":"SUM('Redeck Deflections'!$W$18:$AA$18)","v":-0.22439999999999999},{"$f":"IF('Redeck Deflections'!$AB$18<0,MROUND(ABS('Redeck Deflections'!$AB$18),0.125),MROUND('Redeck Deflections'!$AB$18,0.125)*-1)","v":0.25},1.7]
[null,1.8,{"$f":"'Redeck Deflections'!$D$6*0.8","v":88},{"$f":"Reference!$D$355+Reference!$D$349","v":88},null,null,null,null,null,{"$f":"SUM('Redeck Deflections'!$K$19:$O$19)","v":-0.1076},{"$f":"IF('Redeck Deflections'!$P$19<0,MROUND(ABS('Redeck Deflections'!$P$19),0.125),MROUND('Redeck Deflections'!$P$19,0.125)*-1)","v":0.125},1.8,null,1.8,{"$f":"'Redeck Deflections'!$D$6*0.8","v":88},{"$f":"Reference!$D$355+Reference!$D$349","v":88},null,null,null,null,null,{"$f":"SUM('Redeck Deflections'!$W$19:$AA$19)","v":-0.1076},{"$f":"IF('Redeck Deflections'!$AB$19<0,MROUND(ABS('Redeck Deflections'!$AB$19),0.125),MROUND('Redeck Deflections'!$AB$19,0.125)*-1)","v":0.125},1.8]
[null,1.9,{"$f":"'Redeck Deflections'!$D$6*0.9","v":99},{"$f":"Reference!$D$356+Reference!$D$349","v":99},null,null,null,null,null,{"$f":"SUM('Redeck Deflections'!$K$20:$O$20)","v":-2.5699999999999997E-2},{"$f":"IF('Redeck Deflections'!$P$20<0,MROUND(ABS('Redeck Deflections'!$P$20),0.125),MROUND('Redeck Deflections'!$P$20,0.125)*-1)","v":0},1.9,null,1.9,{"$f":"'Redeck Deflections'!$D$6*0.9","v":99},{"$f":"Reference!$D$356+Reference!$D$349","v":99},null,null,null,null,null,{"$f":"SUM('Redeck Deflections'!$W$20:$AA$20)","v":-2.5699999999999997E-2},{"$f":"IF('Redeck Deflections'!$AB$20<0,MROUND(ABS('Redeck Deflections'!$AB$20),0.125),MROUND('Redeck Deflections'!$AB$20,0.125)*-1)","v":0},1.9]
[null,2,{"$f":"'Redeck Deflections'!$D$6*1","v":110},{"$f":"Reference!$D$357+Reference!$D$349","v":110},null,null,null,null,null,{"$f":"SUM('Redeck Deflections'!$K$21:$O$21)","v":0},{"$f":"IF('Redeck Deflections'!$P$21<0,MROUND(ABS('Redeck Deflections'!$P$21),0.125),MROUND('Redeck Deflections'!$P$21,0.125)*-1)","v":0},2,null,2,{"$f":"'Redeck Deflections'!$D$6*1","v":110},{"$f":"Reference!$D$357+Reference!$D$349","v":110},null,null,null,null,null,{"$f":"SUM('Redeck Deflections'!$W$21:$AA$21)","v":0},{"$f":"IF('Redeck Deflections'!$AB$21<0,MROUND(ABS('Redeck Deflections'!$AB$21),0.125),MROUND('Redeck Deflections'!$AB$21,0.125)*-1)","v":0},2]
[null,2,0,{"$f":"Reference!$D$358","v":110},null,null,null,null,null,{"$f":"SUM('Redeck Deflections'!$K$22:$O$22)","v":0},{"$f":"IF('Redeck Deflections'!$P$22<0,MROUND(ABS('Redeck Deflections'!$P$22),0.125),MROUND('Redeck Deflections'!$P$22,0.125)*-1)","v":0},2,null,2,0,{"$f":"Reference!$D$358","v":110},null,null,null,null,null,{"$f":"SUM('Redeck Deflections'!$W$22:$AA$22)","v":0},{"$f":"IF('Redeck Deflections'!$AB$22<0,MROUND(ABS('Redeck Deflections'!$AB$22),0.125),MROUND('Redeck Deflections'!$AB$22,0.125)*-1)","v":0},2]
[null,2.1,{"$f":"'Redeck Deflections'!$E$6*0.1","v":12},{"$f":"Reference!$D$359+Reference!$C$360","v":122},null,null,null,null,null,{"$f":"SUM('Redeck Deflections'!$K$23:$O$23)","v":-8.0600000000000005E-2},{"$f":"IF('Redeck Deflections'!$P$23<0,MROUND(ABS('Redeck Deflections'!$P$23),0.125),MROUND('Redeck Deflections'!$P$23,0.125)*-1)","v":0.125},2.1,null,2.1,{"$f":"'Redeck Deflections'!$E$6*0.1","v":12},{"$f":"Reference!$D$359+Reference!$C$360","v":122},null,null,null,null,null,{"$f":"SUM('Redeck Deflections'!$W$23:$AA$23)","v":-8.0600000000000005E-2},{"$f":"IF('Redeck Deflections'!$AB$23<0,MROUND(ABS('Redeck Deflections'!$AB$23),0.125),MROUND('Redeck Deflections'!$AB$23,0.125)*-1)","v":0.125},2.1]
[null,2.2000000000000002,{"$f":"'Redeck Deflections'!$E$6*0.2","v":24},{"$f":"Reference!$C$361+Reference!$D$59","v":134},null,null,null,null,null,{"$f":"SUM('Redeck Deflections'!$K$24:$O$24)","v":-0.24479999999999999},{"$f":"IF('Redeck Deflections'!$P$24<0,MROUND(ABS('Redeck Deflections'!$P$24),0.125),MROUND('Redeck Deflections'!$P$24,0.125)*-1)","v":0.25},2.2000000000000002,null,2.2000000000000002,{"$f":"'Redeck Deflections'!$E$6*0.2","v":24},{"$f":"Reference!$C$361+Reference!$D$59","v":134},null,null,null,null,null,{"$f":"SUM('Redeck Deflections'!$W$24:$AA$24)","v":-0.24479999999999999},{"$f":"IF('Redeck Deflections'!$AB$24<0,MROUND(ABS('Redeck Deflections'!$AB$24),0.125),MROUND('Redeck Deflections'!$AB$24,0.125)*-1)","v":0.25},2.2000000000000002]
[null,2.2999999999999998,{"$f":"'Redeck Deflections'!$E$6*0.3","v":36},{"$f":"Reference!$C$362+Reference!$D$359","v":146},null,null,null,null,null,{"$f":"SUM('Redeck Deflections'!$K$25:$O$25)","v":-0.43390000000000001},{"$f":"IF('Redeck Deflections'!$P$25<0,MROUND(ABS('Redeck Deflections'!$P$25),0.125),MROUND('Redeck Deflections'!$P$25,0.125)*-1)","v":0.375},2.2999999999999998,null,2.2999999999999998,{"$f":"'Redeck Deflections'!$E$6*0.3","v":36},{"$f":"Reference!$C$362+Reference!$D$359","v":146},null,null,null,null,null,{"$f":"SUM('Redeck Deflections'!$W$25:$AA$25)","v":-0.43390000000000001},{"$f":"IF('Redeck Deflections'!$AB$25<0,MROUND(ABS('Redeck Deflections'!$AB$25),0.125),MROUND('Redeck Deflections'!$AB$25,0.125)*-1)","v":0.375},2.2999999999999998]
[null,2.4,{"$f":"'Redeck Deflections'!$E$6*0.4","v":48},{"$f":"Reference!$C$363+Reference!$D$359","v":158},null,null,null,null,null,{"$f":"SUM('Redeck Deflections'!$K$26:$O$26)","v":-0.57669999999999999},{"$f":"IF('Redeck Deflections'!$P$26<0,MROUND(ABS('Redeck Deflections'!$P$26),0.125),MROUND('Redeck Deflections'!$P$26,0.125)*-1)","v":0.625},2.4,null,2.4,{"$f":"'Redeck Deflections'!$E$6*0.4","v":48},{"$f":"Reference!$C$363+Reference!$D$359","v":158},null,null,null,null,null,{"$f":"SUM('Redeck Deflections'!$W$26:$AA$26)","v":-0.57669999999999999},{"$f":"IF('Redeck Deflections'!$AB$26<0,MROUND(ABS('Redeck Deflections'!$AB$26),0.125),MROUND('Redeck Deflections'!$AB$26,0.125)*-1)","v":0.625},2.4]
[null,2.5,{"$f":"'Redeck Deflections'!$E$6*0.5","v":60},{"$f":"Reference!$C$364+Reference!$D$359","v":170},null,null,null,null,null,{"$f":"SUM('Redeck Deflections'!$K$27:$O$27)","v":-0.62909999999999999},{"$f":"IF('Redeck Deflections'!$P$27<0,MROUND(ABS('Redeck Deflections'!$P$27),0.125),MROUND('Redeck Deflections'!$P$27,0.125)*-1)","v":0.625},2.5,null,2.5,{"$f":"'Redeck Deflections'!$E$6*0.5","v":60},{"$f":"Reference!$C$364+Reference!$D$359","v":170},null,null,null,null,null,{"$f":"SUM('Redeck Deflections'!$W$27:$AA$27)","v":-0.62909999999999999},{"$f":"IF('Redeck Deflections'!$AB$27<0,MROUND(ABS('Redeck Deflections'!$AB$27),0.125),MROUND('Redeck Deflections'!$AB$27,0.125)*-1)","v":0.625},2.5]
[null,2.6,{"$f":"'Redeck Deflections'!$E$6*0.6","v":72},{"$f":"Reference!$C$365+Reference!$D$359","v":182},null,null,null,null,null,{"$f":"SUM('Redeck Deflections'!$K$28:$O$28)","v":-0.57669999999999999},{"$f":"IF('Redeck Deflections'!$P$28<0,MROUND(ABS('Redeck Deflections'!$P$28),0.125),MROUND('Redeck Deflections'!$P$28,0.125)*-1)","v":0.625},2.6,null,2.6,{"$f":"'Redeck Deflections'!$E$6*0.6","v":72},{"$f":"Reference!$C$365+Reference!$D$359","v":182},null,null,null,null,null,{"$f":"SUM('Redeck Deflections'!$W$28:$AA$28)","v":-0.57669999999999999},{"$f":"IF('Redeck Deflections'!$AB$28<0,MROUND(ABS('Redeck Deflections'!$AB$28),0.125),MROUND('Redeck Deflections'!$AB$28,0.125)*-1)","v":0.625},2.6]
[null,2.7,{"$f":"'Redeck Deflections'!$E$6*0.7","v":84},{"$f":"Reference!$C$366+Reference!$D$359","v":194},null,null,null,null,null,{"$f":"SUM('Redeck Deflections'!$K$29:$O$29)","v":-0.43390000000000001},{"$f":"IF('Redeck Deflections'!$P$29<0,MROUND(ABS('Redeck Deflections'!$P$29),0.125),MROUND('Redeck Deflections'!$P$29,0.125)*-1)","v":0.375},2.7,null,2.7,{"$f":"'Redeck Deflections'!$E$6*0.7","v":84},{"$f":"Reference!$C$366+Reference!$D$359","v":194},null,null,null,null,null,{"$f":"SUM('Redeck Deflections'!$W$29:$AA$29)","v":-0.43390000000000001},{"$f":"IF('Redeck Deflections'!$AB$29<0,MROUND(ABS('Redeck Deflections'!$AB$29),0.125),MROUND('Redeck Deflections'!$AB$29,0.125)*-1)","v":0.375},2.7]
[null,2.8,{"$f":"'Redeck Deflections'!$E$6*0.8","v":96},{"$f":"Reference!$C$367+Reference!$D$359","v":206},null,null,null,null,null,{"$f":"SUM('Redeck Deflections'!$K$30:$O$30)","v":-0.24479999999999999},{"$f":"IF('Redeck Deflections'!$P$30<0,MROUND(ABS('Redeck Deflections'!$P$30),0.125),MROUND('Redeck Deflections'!$P$30,0.125)*-1)","v":0.25},2.8,null,2.8,{"$f":"'Redeck Deflections'!$E$6*0.8","v":96},{"$f":"Reference!$C$367+Reference!$D$359","v":206},null,null,null,null,null,{"$f":"SUM('Redeck Deflections'!$W$30:$AA$30)","v":-0.24479999999999999},{"$f":"IF('Redeck Deflections'!$AB$30<0,MROUND(ABS('Redeck Deflections'!$AB$30),0.125),MROUND('Redeck Deflections'!$AB$30,0.125)*-1)","v":0.25},2.8]
[null,2.9,{"$f":"'Redeck Deflections'!$E$6*0.9","v":108},{"$f":"Reference!$C$368+Reference!$D$359","v":218},null,null,null,null,null,{"$f":"SUM('Redeck Deflections'!$K$31:$O$31)","v":-8.0600000000000005E-2},{"$f":"IF('Redeck Deflections'!$P$31<0,MROUND(ABS('Redeck Deflections'!$P$31),0.125),MROUND('Redeck Deflections'!$P$31,0.125)*-1)","v":0.125},2.9,null,2.9,{"$f":"'Redeck Deflections'!$E$6*0.9","v":108},{"$f":"Reference!$C$368+Reference!$D$359","v":218},null,null,null,null,null,{"$f":"SUM('Redeck Deflections'!$W$31:$AA$31)","v":-8.0600000000000005E-2},{"$f":"IF('Redeck Deflections'!$AB$31<0,MROUND(ABS('Redeck Deflections'!$AB$31),0.125),MROUND('Redeck Deflections'!$AB$31,0.125)*-1)","v":0.125},2.9]
[null,3,{"$f":"'Redeck Deflections'!$E$6*1","v":120},{"$f":"Reference!$C$369+Reference!$D$359","v":230},null,null,null,null,null,{"$f":"SUM('Redeck Deflections'!$K$32:$O$32)","v":0},{"$f":"IF('Redeck Deflections'!$P$32<0,MROUND(ABS('Redeck Deflections'!$P$32),0.125),MROUND('Redeck Deflections'!$P$32,0.125)*-1)","v":0},3,null,3,{"$f":"'Redeck Deflections'!$E$6*1","v":120},{"$f":"Reference!$C$369+Reference!$D$359","v":230},null,null,null,null,null,{"$f":"SUM('Redeck Deflections'!$W$32:$AA$32)","v":0},{"$f":"IF('Redeck Deflections'!$AB$32<0,MROUND(ABS('Redeck Deflections'!$AB$32),0.125),MROUND('Redeck Deflections'!$AB$32,0.125)*-1)","v":0},3]
[null,3,0,{"$f":"Reference!$D$369","v":230},null,null,null,null,null,{"$f":"SUM('Redeck Deflections'!$K$33:$O$33)","v":0},{"$f":"IF('Redeck Deflections'!$P$33<0,MROUND(ABS('Redeck Deflections'!$P$33),0.125),MROUND('Redeck Deflections'!$P$33,0.125)*-1)","v":0},3,null,3,0,{"$f":"Reference!$D$369","v":230},null,null,null,null,null,{"$f":"SUM('Redeck Deflections'!$W$33:$AA$33)","v":0},{"$f":"IF('Redeck Deflections'!$AB$33<0,MROUND(ABS('Redeck Deflections'!$AB$33),0.125),MROUND('Redeck Deflections'!$AB$33,0.125)*-1)","v":0},3]
[null,3.1,{"$f":"'Redeck Deflections'!$F$6*0.1","v":11},{"$f":"Reference!$D$370+Reference!$C$371","v":241},null,null,null,null,null,{"$f":"SUM('Redeck Deflections'!$K$34:$O$34)","v":-2.5699999999999997E-2},{"$f":"IF('Redeck Deflections'!$P$34<0,MROUND(ABS('Redeck Deflections'!$P$34),0.125),MROUND('Redeck Deflections'!$P$34,0.125)*-1)","v":0},3.1,null,3.1,{"$f":"'Redeck Deflections'!$F$6*0.1","v":11},{"$f":"Reference!$D$370+Reference!$C$371","v":241},null,null,null,null,null,{"$f":"SUM('Redeck Deflections'!$W$34:$AA$34)","v":-2.5699999999999997E-2},{"$f":"IF('Redeck Deflections'!$AB$34<0,MROUND(ABS('Redeck Deflections'!$AB$34),0.125),MROUND('Redeck Deflections'!$AB$34,0.125)*-1)","v":0},3.1]
[null,3.2,{"$f":"'Redeck Deflections'!$F$6*0.2","v":22},{"$f":"Reference!$C$372+Reference!$D$370","v":252},null,null,null,null,null,{"$f":"SUM('Redeck Deflections'!$K$35:$O$35)","v":-0.1076},{"$f":"IF('Redeck Deflections'!$P$35<0,MROUND(ABS('Redeck Deflections'!$P$35),0.125),MROUND('Redeck Deflections'!$P$35,0.125)*-1)","v":0.125},3.2,null,3.2,{"$f":"'Redeck Deflections'!$F$6*0.2","v":22},{"$f":"Reference!$C$372+Reference!$D$370","v":252},null,null,null,null,null,{"$f":"SUM('Redeck Deflections'!$W$35:$AA$35)","v":-0.1076},{"$f":"IF('Redeck Deflections'!$AB$35<0,MROUND(ABS('Redeck Deflections'!$AB$35),0.125),MROUND('Redeck Deflections'!$AB$35,0.125)*-1)","v":0.125},3.2]
[null,3.3,{"$f":"'Redeck Deflections'!$F$6*0.3","v":33},{"$f":"Reference!$C$373+Reference!$D$370","v":263},null,null,null,null,null,{"$f":"SUM('Redeck Deflections'!$K$36:$O$36)","v":-0.22439999999999999},{"$f":"IF('Redeck Deflections'!$P$36<0,MROUND(ABS('Redeck Deflections'!$P$36),0.125),MROUND('Redeck Deflections'!$P$36,0.125)*-1)","v":0.25},3.3,null,3.3,{"$f":"'Redeck Deflections'!$F$6*0.3","v":33},{"$f":"Reference!$C$373+Reference!$D$370","v":263},null,null,null,null,null,{"$f":"SUM('Redeck Deflections'!$W$36:$AA$36)","v":-0.22439999999999999},{"$f":"IF('Redeck Deflections'!$AB$36<0,MROUND(ABS('Redeck Deflections'!$AB$36),0.125),MROUND('Redeck Deflections'!$AB$36,0.125)*-1)","v":0.25},3.3]
[null,3.4,{"$f":"'Redeck Deflections'!$F$6*0.4","v":44},{"$f":"Reference!$C$374+Reference!$D$370","v":274},null,null,null,null,null,{"$f":"SUM('Redeck Deflections'!$K$37:$O$37)","v":-0.34010000000000001},{"$f":"IF('Redeck Deflections'!$P$37<0,MROUND(ABS('Redeck Deflections'!$P$37),0.125),MROUND('Redeck Deflections'!$P$37,0.125)*-1)","v":0.375},3.4,null,3.4,{"$f":"'Redeck Deflections'!$F$6*0.4","v":44},{"$f":"Reference!$C$374+Reference!$D$370","v":274},null,null,null,null,null,{"$f":"SUM('Redeck Deflections'!$W$37:$AA$37)","v":-0.34010000000000001},{"$f":"IF('Redeck Deflections'!$AB$37<0,MROUND(ABS('Redeck Deflections'!$AB$37),0.125),MROUND('Redeck Deflections'!$AB$37,0.125)*-1)","v":0.375},3.4]
[null,3.5,{"$f":"'Redeck Deflections'!$F$6*0.5","v":55},{"$f":"Reference!$C$375+Reference!$D$370","v":285},null,null,null,null,null,{"$f":"SUM('Redeck Deflections'!$K$38:$O$38)","v":-0.4234},{"$f":"IF('Redeck Deflections'!$P$38<0,MROUND(ABS('Redeck Deflections'!$P$38),0.125),MROUND('Redeck Deflections'!$P$38,0.125)*-1)","v":0.375},3.5,null,3.5,{"$f":"'Redeck Deflections'!$F$6*0.5","v":55},{"$f":"Reference!$C$375+Reference!$D$370","v":285},null,null,null,null,null,{"$f":"SUM('Redeck Deflections'!$W$38:$AA$38)","v":-0.4234},{"$f":"IF('Redeck Deflections'!$AB$38<0,MROUND(ABS('Redeck Deflections'!$AB$38),0.125),MROUND('Redeck Deflections'!$AB$38,0.125)*-1)","v":0.375},3.5]
[null,3.6,{"$f":"'Redeck Deflections'!$F$6*0.6","v":66},{"$f":"Reference!$C$376+Reference!$D$370","v":296},null,null,null,null,null,{"$f":"SUM('Redeck Deflections'!$K$39:$O$39)","v":-0.45369999999999999},{"$f":"IF('Redeck Deflections'!$P$39<0,MROUND(ABS('Redeck Deflections'!$P$39),0.125),MROUND('Redeck Deflections'!$P$39,0.125)*-1)","v":0.5},3.6,null,3.6,{"$f":"'Redeck Deflections'!$F$6*0.6","v":66},{"$f":"Reference!$C$376+Reference!$D$370","v":296},null,null,null,null,null,{"$f":"SUM('Redeck Deflections'!$W$39:$AA$39)","v":-0.45369999999999999},{"$f":"IF('Redeck Deflections'!$AB$39<0,MROUND(ABS('Redeck Deflections'!$AB$39),0.125),MROUND('Redeck Deflections'!$AB$39,0.125)*-1)","v":0.5},3.6]
[null,3.7,{"$f":"'Redeck Deflections'!$F$6*0.7","v":77},{"$f":"Reference!$C$377+Reference!$D$370","v":307},null,null,null,null,null,{"$f":"SUM('Redeck Deflections'!$K$40:$O$40)","v":-0.42109999999999997},{"$f":"IF('Redeck Deflections'!$P$40<0,MROUND(ABS('Redeck Deflections'!$P$40),0.125),MROUND('Redeck Deflections'!$P$40,0.125)*-1)","v":0.375},3.7,null,3.7,{"$f":"'Redeck Deflections'!$F$6*0.7","v":77},{"$f":"Reference!$C$377+Reference!$D$370","v":307},null,null,null,null,null,{"$f":"SUM('Redeck Deflections'!$W$40:$AA$40)","v":-0.42109999999999997},{"$f":"IF('Redeck Deflections'!$AB$40<0,MROUND(ABS('Redeck Deflections'!$AB$40),0.125),MROUND('Redeck Deflections'!$AB$40,0.125)*-1)","v":0.375},3.7]
[null,3.8,{"$f":"'Redeck Deflections'!$F$6*0.8","v":88},{"$f":"Reference!$C$378+Reference!$D$370","v":318},null,null,null,null,null,{"$f":"SUM('Redeck Deflections'!$K$41:$O$41)","v":-0.3256},{"$f":"IF('Redeck Deflections'!$P$41<0,MROUND(ABS('Redeck Deflections'!$P$41),0.125),MROUND('Redeck Deflections'!$P$41,0.125)*-1)","v":0.375},3.8,null,3.8,{"$f":"'Redeck Deflections'!$F$6*0.8","v":88},{"$f":"Reference!$C$378+Reference!$D$370","v":318},null,null,null,null,null,{"$f":"SUM('Redeck Deflections'!$W$41:$AA$41)","v":-0.3256},{"$f":"IF('Redeck Deflections'!$AB$41<0,MROUND(ABS('Redeck Deflections'!$AB$41),0.125),MROUND('Redeck Deflections'!$AB$41,0.125)*-1)","v":0.375},3.8]
[null,3.9,{"$f":"'Redeck Deflections'!$F$6*0.9","v":99},{"$f":"Reference!$C$379+Reference!$D$370","v":329},null,null,null,null,null,{"$f":"SUM('Redeck Deflections'!$K$42:$O$42)","v":-0.17810000000000001},{"$f":"IF('Redeck Deflections'!$P$42<0,MROUND(ABS('Redeck Deflections'!$P$42),0.125),MROUND('Redeck Deflections'!$P$42,0.125)*-1)","v":0.125},3.9,null,3.9,{"$f":"'Redeck Deflections'!$F$6*0.9","v":99},{"$f":"Reference!$C$379+Reference!$D$370","v":329},null,null,null,null,null,{"$f":"SUM('Redeck Deflections'!$W$42:$AA$42)","v":-0.17810000000000001},{"$f":"IF('Redeck Deflections'!$AB$42<0,MROUND(ABS('Redeck Deflections'!$AB$42),0.125),MROUND('Redeck Deflections'!$AB$42,0.125)*-1)","v":0.125},3.9]
[null,4,{"$f":"'Redeck Deflections'!$F$6*1","v":110},{"$f":"Reference!$C$380+Reference!$D$370","v":340},null,null,null,null,null,{"$f":"SUM('Redeck Deflections'!$K$43:$O$43)","v":0},{"$f":"IF('Redeck Deflections'!$P$43<0,MROUND(ABS('Redeck Deflections'!$P$43),0.125),MROUND('Redeck Deflections'!$P$43,0.125)*-1)","v":0},4,null,4,{"$f":"'Redeck Deflections'!$F$6*1","v":110},{"$f":"Reference!$C$380+Reference!$D$370","v":340},null,null,null,null,null,{"$f":"SUM('Redeck Deflections'!$W$43:$AA$43)","v":0},{"$f":"IF('Redeck Deflections'!$AB$43<0,MROUND(ABS('Redeck Deflections'!$AB$43),0.125),MROUND('Redeck Deflections'!$AB$43,0.125)*-1)","v":0},4]
[null,4,0,{"$f":"Reference!$D$380","v":340},null,null,null,null,null,{"$f":"SUM('Redeck Deflections'!$K$44:$O$44)","v":0},{"$f":"IF('Redeck Deflections'!$P$44<0,MROUND(ABS('Redeck Deflections'!$P$44),0.125),MROUND('Redeck Deflections'!$P$44,0.125)*-1)","v":0},4,null,4,0,{"$f":"Reference!$D$380","v":340},null,null,null,null,null,{"$f":"SUM('Redeck Deflections'!$W$44:$AA$44)","v":0},{"$f":"IF('Redeck Deflections'!$AB$44<0,MROUND(ABS('Redeck Deflections'!$AB$44),0.125),MROUND('Redeck Deflections'!$AB$44,0.125)*-1)","v":0},4]
[null,4.0999999999999996,{"$f":"'Redeck Deflections'!$G$6*0.1","v":0},{"$f":"Reference!$D$381+Reference!$C$382","v":340},null,null,null,null,null,{"$f":"SUM('Redeck Deflections'!$K$45:$O$45)","v":0},{"$f":"IF('Redeck Deflections'!$P$45<0,MROUND(ABS('Redeck Deflections'!$P$45),0.125),MROUND('Redeck Deflections'!$P$45,0.125)*-1)","v":0},4.0999999999999996,null,4.0999999999999996,{"$f":"'Redeck Deflections'!$G$6*0.1","v":0},{"$f":"Reference!$D$381+Reference!$C$382","v":340},null,null,null,null,null,{"$f":"SUM('Redeck Deflections'!$W$45:$AA$45)","v":0},{"$f":"IF('Redeck Deflections'!$AB$45<0,MROUND(ABS('Redeck Deflections'!$AB$45),0.125),MROUND('Redeck Deflections'!$AB$45,0.125)*-1)","v":0},4.0999999999999996]
[null,4.2,{"$f":"'Redeck Deflections'!$G$6*0.2","v":0},{"$f":"Reference!$C$383+Reference!$D$381","v":340},null,null,null,null,null,{"$f":"SUM('Redeck Deflections'!$K$46:$O$46)","v":0},{"$f":"IF('Redeck Deflections'!$P$46<0,MROUND(ABS('Redeck Deflections'!$P$46),0.125),MROUND('Redeck Deflections'!$P$46,0.125)*-1)","v":0},4.2,null,4.2,{"$f":"'Redeck Deflections'!$G$6*0.2","v":0},{"$f":"Reference!$C$383+Reference!$D$381","v":340},null,null,null,null,null,{"$f":"SUM('Redeck Deflections'!$W$46:$AA$46)","v":0},{"$f":"IF('Redeck Deflections'!$AB$46<0,MROUND(ABS('Redeck Deflections'!$AB$46),0.125),MROUND('Redeck Deflections'!$AB$46,0.125)*-1)","v":0},4.2]
[null,4.3,{"$f":"'Redeck Deflections'!$G$6*0.3","v":0},{"$f":"Reference!$C$384+Reference!$D$381","v":340},null,null,null,null,null,{"$f":"SUM('Redeck Deflections'!$K$47:$O$47)","v":0},{"$f":"IF('Redeck Deflections'!$P$47<0,MROUND(ABS('Redeck Deflections'!$P$47),0.125),MROUND('Redeck Deflections'!$P$47,0.125)*-1)","v":0},4.3,null,4.3,{"$f":"'Redeck Deflections'!$G$6*0.3","v":0},{"$f":"Reference!$C$384+Reference!$D$381","v":340},null,null,null,null,null,{"$f":"SUM('Redeck Deflections'!$W$47:$AA$47)","v":0},{"$f":"IF('Redeck Deflections'!$AB$47<0,MROUND(ABS('Redeck Deflections'!$AB$47),0.125),MROUND('Redeck Deflections'!$AB$47,0.125)*-1)","v":0},4.3]
[null,4.4000000000000004,{"$f":"'Redeck Deflections'!$G$6*0.4","v":0},{"$f":"Reference!$C$385+Reference!$D$381","v":340},null,null,null,null,null,{"$f":"SUM('Redeck Deflections'!$K$48:$O$48)","v":0},{"$f":"IF('Redeck Deflections'!$P$48<0,MROUND(ABS('Redeck Deflections'!$P$48),0.125),MROUND('Redeck Deflections'!$P$48,0.125)*-1)","v":0},4.4000000000000004,null,4.4000000000000004,{"$f":"'Redeck Deflections'!$G$6*0.4","v":0},{"$f":"Reference!$C$385+Reference!$D$381","v":340},null,null,null,null,null,{"$f":"SUM('Redeck Deflections'!$W$48:$AA$48)","v":0},{"$f":"IF('Redeck Deflections'!$AB$48<0,MROUND(ABS('Redeck Deflections'!$AB$48),0.125),MROUND('Redeck Deflections'!$AB$48,0.125)*-1)","v":0},4.4000000000000004]
[null,4.5,{"$f":"'Redeck Deflections'!$G$6*0.5","v":0},{"$f":"Reference!$C$386+Reference!$D$381","v":340},null,null,null,null,null,{"$f":"SUM('Redeck Deflections'!$K$49:$O$49)","v":0},{"$f":"IF('Redeck Deflections'!$P$49<0,MROUND(ABS('Redeck Deflections'!$P$49),0.125),MROUND('Redeck Deflections'!$P$49,0.125)*-1)","v":0},4.5,null,4.5,{"$f":"'Redeck Deflections'!$G$6*0.5","v":0},{"$f":"Reference!$C$386+Reference!$D$381","v":340},null,null,null,null,null,{"$f":"SUM('Redeck Deflections'!$W$49:$AA$49)","v":0},{"$f":"IF('Redeck Deflections'!$AB$49<0,MROUND(ABS('Redeck Deflections'!$AB$49),0.125),MROUND('Redeck Deflections'!$AB$49,0.125)*-1)","v":0},4.5]
[null,4.5999999999999996,{"$f":"'Redeck Deflections'!$G$6*0.6","v":0},{"$f":"Reference!$C$387+Reference!$D$381","v":340},null,null,null,null,null,{"$f":"SUM('Redeck Deflections'!$K$50:$O$50)","v":0},{"$f":"IF('Redeck Deflections'!$P$50<0,MROUND(ABS('Redeck Deflections'!$P$50),0.125),MROUND('Redeck Deflections'!$P$50,0.125)*-1)","v":0},4.5999999999999996,null,4.5999999999999996,{"$f":"'Redeck Deflections'!$G$6*0.6","v":0},{"$f":"Reference!$C$387+Reference!$D$381","v":340},null,null,null,null,null,{"$f":"SUM('Redeck Deflections'!$W$50:$AA$50)","v":0},{"$f":"IF('Redeck Deflections'!$AB$50<0,MROUND(ABS('Redeck Deflections'!$AB$50),0.125),MROUND('Redeck Deflections'!$AB$50,0.125)*-1)","v":0},4.5999999999999996]
[null,4.7,{"$f":"'Redeck Deflections'!$G$6*0.7","v":0},{"$f":"Reference!$C$388+Reference!$D$381","v":340},null,null,null,null,null,{"$f":"SUM('Redeck Deflections'!$K$51:$O$51)","v":0},{"$f":"IF('Redeck Deflections'!$P$51<0,MROUND(ABS('Redeck Deflections'!$P$51),0.125),MROUND('Redeck Deflections'!$P$51,0.125)*-1)","v":0},4.7,null,4.7,{"$f":"'Redeck Deflections'!$G$6*0.7","v":0},{"$f":"Reference!$C$388+Reference!$D$381","v":340},null,null,null,null,null,{"$f":"SUM('Redeck Deflections'!$W$51:$AA$51)","v":0},{"$f":"IF('Redeck Deflections'!$AB$51<0,MROUND(ABS('Redeck Deflections'!$AB$51),0.125),MROUND('Redeck Deflections'!$AB$51,0.125)*-1)","v":0},4.7]
[null,4.8,{"$f":"'Redeck Deflections'!$G$6*0.8","v":0},{"$f":"Reference!$C$389+Reference!$D$381","v":340},null,null,null,null,null,{"$f":"SUM('Redeck Deflections'!$K$52:$O$52)","v":0},{"$f":"IF('Redeck Deflections'!$P$52<0,MROUND(ABS('Redeck Deflections'!$P$52),0.125),MROUND('Redeck Deflections'!$P$52,0.125)*-1)","v":0},4.8,null,4.8,{"$f":"'Redeck Deflections'!$G$6*0.8","v":0},{"$f":"Reference!$C$389+Reference!$D$381","v":340},null,null,null,null,null,{"$f":"SUM('Redeck Deflections'!$W$52:$AA$52)","v":0},{"$f":"IF('Redeck Deflections'!$AB$52<0,MROUND(ABS('Redeck Deflections'!$AB$52),0.125),MROUND('Redeck Deflections'!$AB$52,0.125)*-1)","v":0},4.8]
[null,4.9000000000000004,{"$f":"'Redeck Deflections'!$G$6*0.9","v":0},{"$f":"Reference!$C$390+Reference!$D$381","v":340},null,null,null,null,null,{"$f":"SUM('Redeck Deflections'!$K$53:$O$53)","v":0},{"$f":"IF('Redeck Deflections'!$P$53<0,MROUND(ABS('Redeck Deflections'!$P$53),0.125),MROUND('Redeck Deflections'!$P$53,0.125)*-1)","v":0},4.9000000000000004,null,4.9000000000000004,{"$f":"'Redeck Deflections'!$G$6*0.9","v":0},{"$f":"Reference!$C$390+Reference!$D$381","v":340},null,null,null,null,null,{"$f":"SUM('Redeck Deflections'!$W$53:$AA$53)","v":0},{"$f":"IF('Redeck Deflections'!$AB$53<0,MROUND(ABS('Redeck Deflections'!$AB$53),0.125),MROUND('Redeck Deflections'!$AB$53,0.125)*-1)","v":0},4.9000000000000004]
[null,5,{"$f":"'Redeck Deflections'!$G$6*1","v":0},{"$f":"Reference!$C$391+Reference!$D$381","v":340},null,null,null,null,null,{"$f":"SUM('Redeck Deflections'!$K$54:$O$54)","v":0},{"$f":"IF('Redeck Deflections'!$P$54<0,MROUND(ABS('Redeck Deflections'!$P$54),0.125),MROUND('Redeck Deflections'!$P$54,0.125)*-1)","v":0},5,null,5,{"$f":"'Redeck Deflections'!$G$6*1","v":0},{"$f":"Reference!$C$391+Reference!$D$381","v":340},null,null,null,null,null,{"$f":"SUM('Redeck Deflections'!$W$54:$AA$54)","v":0},{"$f":"IF('Redeck Deflections'!$AB$54<0,MROUND(ABS('Redeck Deflections'!$AB$54),0.125),MROUND('Redeck Deflections'!$AB$54,0.125)*-1)","v":0},5]
[null,5,0,{"$f":"Reference!$D$391","v":340},null,null,null,null,null,{"$f":"SUM('Redeck Deflections'!$K$55:$O$55)","v":0},{"$f":"IF('Redeck Deflections'!$P$55<0,MROUND(ABS('Redeck Deflections'!$P$55),0.125),MROUND('Redeck Deflections'!$P$55,0.125)*-1)","v":0},5,null,5,0,{"$f":"Reference!$D$391","v":340},null,null,null,null,null,{"$f":"SUM('Redeck Deflections'!$W$55:$AA$55)","v":0},{"$f":"IF('Redeck Deflections'!$AB$55<0,MROUND(ABS('Redeck Deflections'!$AB$55),0.125),MROUND('Redeck Deflections'!$AB$55,0.125)*-1)","v":0},5]
[null,5.0999999999999996,{"$f":"'Redeck Deflections'!$H$6*0.1","v":0},{"$f":"Reference!$D$392+Reference!$C$393","v":340},null,null,null,null,null,{"$f":"SUM('Redeck Deflections'!$K$56:$O$56)","v":0},{"$f":"IF('Redeck Deflections'!$P$56<0,MROUND(ABS('Redeck Deflections'!$P$56),0.125),MROUND('Redeck Deflections'!$P$56,0.125)*-1)","v":0},5.0999999999999996,null,5.0999999999999996,{"$f":"'Redeck Deflections'!$H$6*0.1","v":0},{"$f":"Reference!$D$392+Reference!$C$393","v":340},null,null,null,null,null,{"$f":"SUM('Redeck Deflections'!$W$56:$AA$56)","v":0},{"$f":"IF('Redeck Deflections'!$AB$56<0,MROUND(ABS('Redeck Deflections'!$AB$56),0.125),MROUND('Redeck Deflections'!$AB$56,0.125)*-1)","v":0},5.0999999999999996]
[null,5.2,{"$f":"'Redeck Deflections'!$H$6*0.2","v":0},{"$f":"Reference!$C$394+Reference!$D$392","v":340},null,null,null,null,null,{"$f":"SUM('Redeck Deflections'!$K$57:$O$57)","v":0},{"$f":"IF('Redeck Deflections'!$P$57<0,MROUND(ABS('Redeck Deflections'!$P$57),0.125),MROUND('Redeck Deflections'!$P$57,0.125)*-1)","v":0},5.2,null,5.2,{"$f":"'Redeck Deflections'!$H$6*0.2","v":0},{"$f":"Reference!$C$394+Reference!$D$392","v":340},null,null,null,null,null,{"$f":"SUM('Redeck Deflections'!$W$57:$AA$57)","v":0},{"$f":"IF('Redeck Deflections'!$AB$57<0,MROUND(ABS('Redeck Deflections'!$AB$57),0.125),MROUND('Redeck Deflections'!$AB$57,0.125)*-1)","v":0},5.2]
[null,5.3,{"$f":"'Redeck Deflections'!$H$6*0.3","v":0},{"$f":"Reference!$C$395+Reference!$D$392","v":340},null,null,null,null,null,{"$f":"SUM('Redeck Deflections'!$K$58:$O$58)","v":0},{"$f":"IF('Redeck Deflections'!$P$58<0,MROUND(ABS('Redeck Deflections'!$P$58),0.125),MROUND('Redeck Deflections'!$P$58,0.125)*-1)","v":0},5.3,null,5.3,{"$f":"'Redeck Deflections'!$H$6*0.3","v":0},{"$f":"Reference!$C$395+Reference!$D$392","v":340},null,null,null,null,null,{"$f":"SUM('Redeck Deflections'!$W$58:$AA$58)","v":0},{"$f":"IF('Redeck Deflections'!$AB$58<0,MROUND(ABS('Redeck Deflections'!$AB$58),0.125),MROUND('Redeck Deflections'!$AB$58,0.125)*-1)","v":0},5.3]
[null,5.4,{"$f":"'Redeck Deflections'!$H$6*0.4","v":0},{"$f":"Reference!$C$396+Reference!$D$392","v":340},null,null,null,null,null,{"$f":"SUM('Redeck Deflections'!$K$59:$O$59)","v":0},{"$f":"IF('Redeck Deflections'!$P$59<0,MROUND(ABS('Redeck Deflections'!$P$59),0.125),MROUND('Redeck Deflections'!$P$59,0.125)*-1)","v":0},5.4,null,5.4,{"$f":"'Redeck Deflections'!$H$6*0.4","v":0},{"$f":"Reference!$C$396+Reference!$D$392","v":340},null,null,null,null,null,{"$f":"SUM('Redeck Deflections'!$W$59:$AA$59)","v":0},{"$f":"IF('Redeck Deflections'!$AB$59<0,MROUND(ABS('Redeck Deflections'!$AB$59),0.125),MROUND('Redeck Deflections'!$AB$59,0.125)*-1)","v":0},5.4]
[null,5.5,{"$f":"'Redeck Deflections'!$H$6*0.5","v":0},{"$f":"Reference!$C$397+Reference!$D$392","v":340},null,null,null,null,null,{"$f":"SUM('Redeck Deflections'!$K$60:$O$60)","v":0},{"$f":"IF('Redeck Deflections'!$P$60<0,MROUND(ABS('Redeck Deflections'!$P$60),0.125),MROUND('Redeck Deflections'!$P$60,0.125)*-1)","v":0},5.5,null,5.5,{"$f":"'Redeck Deflections'!$H$6*0.5","v":0},{"$f":"Reference!$C$397+Reference!$D$392","v":340},null,null,null,null,null,{"$f":"SUM('Redeck Deflections'!$W$60:$AA$60)","v":0},{"$f":"IF('Redeck Deflections'!$AB$60<0,MROUND(ABS('Redeck Deflections'!$AB$60),0.125),MROUND('Redeck Deflections'!$AB$60,0.125)*-1)","v":0},5.5]
[null,5.6,{"$f":"'Redeck Deflections'!$H$6*0.6","v":0},{"$f":"Reference!$C$398+Reference!$D$392","v":340},null,null,null,null,null,{"$f":"SUM('Redeck Deflections'!$K$61:$O$61)","v":0},{"$f":"IF('Redeck Deflections'!$P$61<0,MROUND(ABS('Redeck Deflections'!$P$61),0.125),MROUND('Redeck Deflections'!$P$61,0.125)*-1)","v":0},5.6,null,5.6,{"$f":"'Redeck Deflections'!$H$6*0.6","v":0},{"$f":"Reference!$C$398+Reference!$D$392","v":340},null,null,null,null,null,{"$f":"SUM('Redeck Deflections'!$W$61:$AA$61)","v":0},{"$f":"IF('Redeck Deflections'!$AB$61<0,MROUND(ABS('Redeck Deflections'!$AB$61),0.125),MROUND('Redeck Deflections'!$AB$61,0.125)*-1)","v":0},5.6]
[null,5.7,{"$f":"'Redeck Deflections'!$H$6*0.7","v":0},{"$f":"Reference!$C$399+Reference!$D$392","v":340},null,null,null,null,null,{"$f":"SUM('Redeck Deflections'!$K$62:$O$62)","v":0},{"$f":"IF('Redeck Deflections'!$P$62<0,MROUND(ABS('Redeck Deflections'!$P$62),0.125),MROUND('Redeck Deflections'!$P$62,0.125)*-1)","v":0},5.7,null,5.7,{"$f":"'Redeck Deflections'!$H$6*0.7","v":0},{"$f":"Reference!$C$399+Reference!$D$392","v":340},null,null,null,null,null,{"$f":"SUM('Redeck Deflections'!$W$62:$AA$62)","v":0},{"$f":"IF('Redeck Deflections'!$AB$62<0,MROUND(ABS('Redeck Deflections'!$AB$62),0.125),MROUND('Redeck Deflections'!$AB$62,0.125)*-1)","v":0},5.7]
[null,5.8,{"$f":"'Redeck Deflections'!$H$6*0.8","v":0},{"$f":"Reference!$C$400+Reference!$D$392","v":340},null,null,null,null,null,{"$f":"SUM('Redeck Deflections'!$K$63:$O$63)","v":0},{"$f":"IF('Redeck Deflections'!$P$63<0,MROUND(ABS('Redeck Deflections'!$P$63),0.125),MROUND('Redeck Deflections'!$P$63,0.125)*-1)","v":0},5.8,null,5.8,{"$f":"'Redeck Deflections'!$H$6*0.8","v":0},{"$f":"Reference!$C$400+Reference!$D$392","v":340},null,null,null,null,null,{"$f":"SUM('Redeck Deflections'!$W$63:$AA$63)","v":0},{"$f":"IF('Redeck Deflections'!$AB$63<0,MROUND(ABS('Redeck Deflections'!$AB$63),0.125),MROUND('Redeck Deflections'!$AB$63,0.125)*-1)","v":0},5.8]
[null,5.9,{"$f":"'Redeck Deflections'!$H$6*0.9","v":0},{"$f":"Reference!$C$401+Reference!$D$392","v":340},null,null,null,null,null,{"$f":"SUM('Redeck Deflections'!$K$64:$O$64)","v":0},{"$f":"IF('Redeck Deflections'!$P$64<0,MROUND(ABS('Redeck Deflections'!$P$64),0.125),MROUND('Redeck Deflections'!$P$64,0.125)*-1)","v":0},5.9,null,5.9,{"$f":"'Redeck Deflections'!$H$6*0.9","v":0},{"$f":"Reference!$C$401+Reference!$D$392","v":340},null,null,null,null,null,{"$f":"SUM('Redeck Deflections'!$W$64:$AA$64)","v":0},{"$f":"IF('Redeck Deflections'!$AB$64<0,MROUND(ABS('Redeck Deflections'!$AB$64),0.125),MROUND('Redeck Deflections'!$AB$64,0.125)*-1)","v":0},5.9]
[null,6,{"$f":"'Redeck Deflections'!$H$6*1","v":0},{"$f":"Reference!$C$402+Reference!$D$392","v":340},null,null,null,null,null,{"$f":"SUM('Redeck Deflections'!$K$65:$O$65)","v":0},{"$f":"IF('Redeck Deflections'!$P$65<0,MROUND(ABS('Redeck Deflections'!$P$65),0.125),MROUND('Redeck Deflections'!$P$65,0.125)*-1)","v":0},6,null,6,{"$f":"'Redeck Deflections'!$H$6*1","v":0},{"$f":"Reference!$C$402+Reference!$D$392","v":340},null,null,null,null,null,{"$f":"SUM('Redeck Deflections'!$W$65:$AA$65)","v":0},{"$f":"IF('Redeck Deflections'!$AB$65<0,MROUND(ABS('Redeck Deflections'!$AB$65),0.125),MROUND('Redeck Deflections'!$AB$65,0.125)*-1)","v":0},6]
[]
[]
["6 Span","EXTERIOR GIRDERS",null,null,null,null,null,null,null,null,null,null,null,"INTERIOR GIRDERS"]
[null,null,null,null,"Girder","Intermediate diaphragms","Concrete",null,"Barrier","Total DL Deflection",null,null,null,null,null,null,"Girder","Intermediate diaphragms","Concrete",null,"Barrier","Total DL Deflection"]
[null,"Tenth point"," Location"," Distance"," YDL-s1- Load Case 1 - Self Load (Stage1:D,DC)"," YDL-s1- Load Case 2 - Add'l Self Load (In Force/Length) (Stage 1:D,DC)"," YDL-s1- Load Case 3 - Haunch Load (Stage1:D,DC)"," YDL-s1- Load Case 4 - Concrete Deck Load (Stage1:D,DC)"," YDL-s2- Load Case 1 - Parapet Loads(DL2 - Barriers & Curbs: Stage 2:D,D~","Decimal Inches","Nearest 1/8\"","Tenth point",null,"Tenth point"," Location"," Distance"," YDL-s1- Load Case 1 - Self Load (Stage1:D,DC)"," YDL-s1- Load Case 2 - Add'l Self Load (In Force/Length) (Stage 1:D,DC)"," YDL-s1- Load Case 3 - Haunch Load (Stage1:D,DC)"," YDL-s1- Load Case 4 - Concrete Deck Load (Stage1:D,DC)"," YDL-s2- Load Case 1 - Parapet Loads(DL2 - Barriers & Curbs: Stage 2:D,D~","Decimal Inches","Nearest 1/8\"","Tenth point"]
[null,1,0,0,"Copy and Paste Values from Virtis",null,null,null,null,{"$f":"SUM('Redeck Deflections'!$K$11:$O$11)","v":0},{"$f":"IF('Redeck Deflections'!$P$11<0,MROUND(ABS('Redeck Deflections'!$P$11),0.125),MROUND('Redeck Deflections'!$P$11,0.125)*-1)","v":0},1,null,1,0,0,"Copy and Paste Values from Virtis",null,null,null,null,{"$f":"SUM('Redeck Deflections'!$W$11:$AA$11)","v":0},{"$f":"IF('Redeck Deflections'!$AB$11<0,MROUND(ABS('Redeck Deflections'!$AB$11),0.125),MROUND('Redeck Deflections'!$AB$11,0.125)*-1)","v":0},1]
[null,1.1000000000000001,{"$f":"'Redeck Deflections'!$D$6*0.1","v":11},{"$f":"Reference!$C$349","v":11},null,null,null,null,null,{"$f":"SUM('Redeck Deflections'!$K$12:$O$12)","v":-0.17810000000000001},{"$f":"IF('Redeck Deflections'!$P$12<0,MROUND(ABS('Redeck Deflections'!$P$12),0.125),MROUND('Redeck Deflections'!$P$12,0.125)*-1)","v":0.125},1.1000000000000001,null,1.1000000000000001,{"$f":"'Redeck Deflections'!$D$6*0.1","v":11},{"$f":"Reference!$C$349","v":11},null,null,null,null,null,{"$f":"SUM('Redeck Deflections'!$W$12:$AA$12)","v":-0.17810000000000001},{"$f":"IF('Redeck Deflections'!$AB$12<0,MROUND(ABS('Redeck Deflections'!$AB$12),0.125),MROUND('Redeck Deflections'!$AB$12,0.125)*-1)","v":0.125},1.1000000000000001]
[null,1.2,{"$f":"'Redeck Deflections'!$D$6*0.2","v":22},{"$f":"Reference!$D$349+Reference!$D$349","v":22},null,null,null,null,null,{"$f":"SUM('Redeck Deflections'!$K$13:$O$13)","v":-0.3256},{"$f":"IF('Redeck Deflections'!$P$13<0,MROUND(ABS('Redeck Deflections'!$P$13),0.125),MROUND('Redeck Deflections'!$P$13,0.125)*-1)","v":0.375},1.2,null,1.2,{"$f":"'Redeck Deflections'!$D$6*0.2","v":22},{"$f":"Reference!$D$349+Reference!$D$349","v":22},null,null,null,null,null,{"$f":"SUM('Redeck Deflections'!$W$13:$AA$13)","v":-0.3256},{"$f":"IF('Redeck Deflections'!$AB$13<0,MROUND(ABS('Redeck Deflections'!$AB$13),0.125),MROUND('Redeck Deflections'!$AB$13,0.125)*-1)","v":0.375},1.2]
[null,1.3,{"$f":"'Redeck Deflections'!$D$6*0.3","v":33},{"$f":"Reference!$D$350+Reference!$D$349","v":33},null,null,null,null,null,{"$f":"SUM('Redeck Deflections'!$K$14:$O$14)","v":-0.42109999999999997},{"$f":"IF('Redeck Deflections'!$P$14<0,MROUND(ABS('Redeck Deflections'!$P$14),0.125),MROUND('Redeck Deflections'!$P$14,0.125)*-1)","v":0.375},1.3,null,1.3,{"$f":"'Redeck Deflections'!$D$6*0.3","v":33},{"$f":"Reference!$D$350+Reference!$D$349","v":33},null,null,null,null,null,{"$f":"SUM('Redeck Deflections'!$W$14:$AA$14)","v":-0.42109999999999997},{"$f":"IF('Redeck Deflections'!$AB$14<0,MROUND(ABS('Redeck Deflections'!$AB$14),0.125),MROUND('Redeck Deflections'!$AB$14,0.125)*-1)","v":0.375},1.3]
[null,1.4,{"$f":"'Redeck Deflections'!$D$6*0.4","v":44},{"$f":"Reference!$D$351+Reference!$D$349","v":44},null,null,null,null,null,{"$f":"SUM('Redeck Deflections'!$K$15:$O$15)","v":-0.45369999999999999},{"$f":"IF('Redeck Deflections'!$P$15<0,MROUND(ABS('Redeck Deflections'!$P$15),0.125),MROUND('Redeck Deflections'!$P$15,0.125)*-1)","v":0.5},1.4,null,1.4,{"$f":"'Redeck Deflections'!$D$6*0.4","v":44},{"$f":"Reference!$D$351+Reference!$D$349","v":44},null,null,null,null,null,{"$f":"SUM('Redeck Deflections'!$W$15:$AA$15)","v":-0.45369999999999999},{"$f":"IF('Redeck Deflections'!$AB$15<0,MROUND(ABS('Redeck Deflections'!$AB$15),0.125),MROUND('Redeck Deflections'!$AB$15,0.125)*-1)","v":0.5},1.4]
[null,1.5,{"$f":"'Redeck Deflections'!$D$6*0.5","v":55},{"$f":"Reference!$D$352+Reference!$D$349","v":55},null,null,null,null,null,{"$f":"SUM('Redeck Deflections'!$K$16:$O$16)","v":-0.4234},{"$f":"IF('Redeck Deflections'!$P$16<0,MROUND(ABS('Redeck Deflections'!$P$16),0.125),MROUND('Redeck Deflections'!$P$16,0.125)*-1)","v":0.375},1.5,null,1.5,{"$f":"'Redeck Deflections'!$D$6*0.5","v":55},{"$f":"Reference!$D$352+Reference!$D$349","v":55},null,null,null,null,null,{"$f":"SUM('Redeck Deflections'!$W$16:$AA$16)","v":-0.4234},{"$f":"IF('Redeck Deflections'!$AB$16<0,MROUND(ABS('Redeck Deflections'!$AB$16),0.125),MROUND('Redeck Deflections'!$AB$16,0.125)*-1)","v":0.375},1.5]
[null,1.6,{"$f":"'Redeck Deflections'!$D$6*0.6","v":66},{"$f":"Reference!$D$353+Reference!$D$349","v":66},null,null,null,null,null,{"$f":"SUM('Redeck Deflections'!$K$17:$O$17)","v":-0.34010000000000001},{"$f":"IF('Redeck Deflections'!$P$17<0,MROUND(ABS('Redeck Deflections'!$P$17),0.125),MROUND('Redeck Deflections'!$P$17,0.125)*-1)","v":0.375},1.6,null,1.6,{"$f":"'Redeck Deflections'!$D$6*0.6","v":66},{"$f":"Reference!$D$353+Reference!$D$349","v":66},null,null,null,null,null,{"$f":"SUM('Redeck Deflections'!$W$17:$AA$17)","v":-0.34010000000000001},{"$f":"IF('Redeck Deflections'!$AB$17<0,MROUND(ABS('Redeck Deflections'!$AB$17),0.125),MROUND('Redeck Deflections'!$AB$17,0.125)*-1)","v":0.375},1.6]
[null,1.7,{"$f":"'Redeck Deflections'!$D$6*0.7","v":77},{"$f":"Reference!$D$354+Reference!$D$349","v":77},null,null,null,null,null,{"$f":"SUM('Redeck Deflections'!$K$18:$O$18)","v":-0.22439999999999999},{"$f":"IF('Redeck Deflections'!$P$18<0,MROUND(ABS('Redeck Deflections'!$P$18),0.125),MROUND('Redeck Deflections'!$P$18,0.125)*-1)","v":0.25},1.7,null,1.7,{"$f":"'Redeck Deflections'!$D$6*0.7","v":77},{"$f":"Reference!$D$354+Reference!$D$349","v":77},null,null,null,null,null,{"$f":"SUM('Redeck Deflections'!$W$18:$AA$18)","v":-0.22439999999999999},{"$f":"IF('Redeck Deflections'!$AB$18<0,MROUND(ABS('Redeck Deflections'!$AB$18),0.125),MROUND('Redeck Deflections'!$AB$18,0.125)*-1)","v":0.25},1.7]
[null,1.8,{"$f":"'Redeck Deflections'!$D$6*0.8","v":88},{"$f":"Reference!$D$355+Reference!$D$349","v":88},null,null,null,null,null,{"$f":"SUM('Redeck Deflections'!$K$19:$O$19)","v":-0.1076},{"$f":"IF('Redeck Deflections'!$P$19<0,MROUND(ABS('Redeck Deflections'!$P$19),0.125),MROUND('Redeck Deflections'!$P$19,0.125)*-1)","v":0.125},1.8,null,1.8,{"$f":"'Redeck Deflections'!$D$6*0.8","v":88},{"$f":"Reference!$D$355+Reference!$D$349","v":88},null,null,null,null,null,{"$f":"SUM('Redeck Deflections'!$W$19:$AA$19)","v":-0.1076},{"$f":"IF('Redeck Deflections'!$AB$19<0,MROUND(ABS('Redeck Deflections'!$AB$19),0.125),MROUND('Redeck Deflections'!$AB$19,0.125)*-1)","v":0.125},1.8]
[null,1.9,{"$f":"'Redeck Deflections'!$D$6*0.9","v":99},{"$f":"Reference!$D$356+Reference!$D$349","v":99},null,null,null,null,null,{"$f":"SUM('Redeck Deflections'!$K$20:$O$20)","v":-2.5699999999999997E-2},{"$f":"IF('Redeck Deflections'!$P$20<0,MROUND(ABS('Redeck Deflections'!$P$20),0.125),MROUND('Redeck Deflections'!$P$20,0.125)*-1)","v":0},1.9,null,1.9,{"$f":"'Redeck Deflections'!$D$6*0.9","v":99},{"$f":"Reference!$D$356+Reference!$D$349","v":99},null,null,null,null,null,{"$f":"SUM('Redeck Deflections'!$W$20:$AA$20)","v":-2.5699999999999997E-2},{"$f":"IF('Redeck Deflections'!$AB$20<0,MROUND(ABS('Redeck Deflections'!$AB$20),0.125),MROUND('Redeck Deflections'!$AB$20,0.125)*-1)","v":0},1.9]
[null,2,{"$f":"'Redeck Deflections'!$D$6*1","v":110},{"$f":"Reference!$D$357+Reference!$D$349","v":110},null,null,null,null,null,{"$f":"SUM('Redeck Deflections'!$K$21:$O$21)","v":0},{"$f":"IF('Redeck Deflections'!$P$21<0,MROUND(ABS('Redeck Deflections'!$P$21),0.125),MROUND('Redeck Deflections'!$P$21,0.125)*-1)","v":0},2,null,2,{"$f":"'Redeck Deflections'!$D$6*1","v":110},{"$f":"Reference!$D$357+Reference!$D$349","v":110},null,null,null,null,null,{"$f":"SUM('Redeck Deflections'!$W$21:$AA$21)","v":0},{"$f":"IF('Redeck Deflections'!$AB$21<0,MROUND(ABS('Redeck Deflections'!$AB$21),0.125),MROUND('Redeck Deflections'!$AB$21,0.125)*-1)","v":0},2]
[null,2,0,{"$f":"Reference!$D$358","v":110},null,null,null,null,null,{"$f":"SUM('Redeck Deflections'!$K$22:$O$22)","v":0},{"$f":"IF('Redeck Deflections'!$P$22<0,MROUND(ABS('Redeck Deflections'!$P$22),0.125),MROUND('Redeck Deflections'!$P$22,0.125)*-1)","v":0},2,null,2,0,{"$f":"Reference!$D$358","v":110},null,null,null,null,null,{"$f":"SUM('Redeck Deflections'!$W$22:$AA$22)","v":0},{"$f":"IF('Redeck Deflections'!$AB$22<0,MROUND(ABS('Redeck Deflections'!$AB$22),0.125),MROUND('Redeck Deflections'!$AB$22,0.125)*-1)","v":0},2]
[null,2.1,{"$f":"'Redeck Deflections'!$E$6*0.1","v":12},{"$f":"Reference!$D$359+Reference!$C$360","v":122},null,null,null,null,null,{"$f":"SUM('Redeck Deflections'!$K$23:$O$23)","v":-8.0600000000000005E-2},{"$f":"IF('Redeck Deflections'!$P$23<0,MROUND(ABS('Redeck Deflections'!$P$23),0.125),MROUND('Redeck Deflections'!$P$23,0.125)*-1)","v":0.125},2.1,null,2.1,{"$f":"'Redeck Deflections'!$E$6*0.1","v":12},{"$f":"Reference!$D$359+Reference!$C$360","v":122},null,null,null,null,null,{"$f":"SUM('Redeck Deflections'!$W$23:$AA$23)","v":-8.0600000000000005E-2},{"$f":"IF('Redeck Deflections'!$AB$23<0,MROUND(ABS('Redeck Deflections'!$AB$23),0.125),MROUND('Redeck Deflections'!$AB$23,0.125)*-1)","v":0.125},2.1]
[null,2.2000000000000002,{"$f":"'Redeck Deflections'!$E$6*0.2","v":24},{"$f":"Reference!$C$361+Reference!$D$59","v":134},null,null,null,null,null,{"$f":"SUM('Redeck Deflections'!$K$24:$O$24)","v":-0.24479999999999999},{"$f":"IF('Redeck Deflections'!$P$24<0,MROUND(ABS('Redeck Deflections'!$P$24),0.125),MROUND('Redeck Deflections'!$P$24,0.125)*-1)","v":0.25},2.2000000000000002,null,2.2000000000000002,{"$f":"'Redeck Deflections'!$E$6*0.2","v":24},{"$f":"Reference!$C$361+Reference!$D$59","v":134},null,null,null,null,null,{"$f":"SUM('Redeck Deflections'!$W$24:$AA$24)","v":-0.24479999999999999},{"$f":"IF('Redeck Deflections'!$AB$24<0,MROUND(ABS('Redeck Deflections'!$AB$24),0.125),MROUND('Redeck Deflections'!$AB$24,0.125)*-1)","v":0.25},2.2000000000000002]
[null,2.2999999999999998,{"$f":"'Redeck Deflections'!$E$6*0.3","v":36},{"$f":"Reference!$C$362+Reference!$D$359","v":146},null,null,null,null,null,{"$f":"SUM('Redeck Deflections'!$K$25:$O$25)","v":-0.43390000000000001},{"$f":"IF('Redeck Deflections'!$P$25<0,MROUND(ABS('Redeck Deflections'!$P$25),0.125),MROUND('Redeck Deflections'!$P$25,0.125)*-1)","v":0.375},2.2999999999999998,null,2.2999999999999998,{"$f":"'Redeck Deflections'!$E$6*0.3","v":36},{"$f":"Reference!$C$362+Reference!$D$359","v":146},null,null,null,null,null,{"$f":"SUM('Redeck Deflections'!$W$25:$AA$25)","v":-0.43390000000000001},{"$f":"IF('Redeck Deflections'!$AB$25<0,MROUND(ABS('Redeck Deflections'!$AB$25),0.125),MROUND('Redeck Deflections'!$AB$25,0.125)*-1)","v":0.375},2.2999999999999998]
[null,2.4,{"$f":"'Redeck Deflections'!$E$6*0.4","v":48},{"$f":"Reference!$C$363+Reference!$D$359","v":158},null,null,null,null,null,{"$f":"SUM('Redeck Deflections'!$K$26:$O$26)","v":-0.57669999999999999},{"$f":"IF('Redeck Deflections'!$P$26<0,MROUND(ABS('Redeck Deflections'!$P$26),0.125),MROUND('Redeck Deflections'!$P$26,0.125)*-1)","v":0.625},2.4,null,2.4,{"$f":"'Redeck Deflections'!$E$6*0.4","v":48},{"$f":"Reference!$C$363+Reference!$D$359","v":158},null,null,null,null,null,{"$f":"SUM('Redeck Deflections'!$W$26:$AA$26)","v":-0.57669999999999999},{"$f":"IF('Redeck Deflections'!$AB$26<0,MROUND(ABS('Redeck Deflections'!$AB$26),0.125),MROUND('Redeck Deflections'!$AB$26,0.125)*-1)","v":0.625},2.4]
[null,2.5,{"$f":"'Redeck Deflections'!$E$6*0.5","v":60},{"$f":"Reference!$C$364+Reference!$D$359","v":170},null,null,null,null,null,{"$f":"SUM('Redeck Deflections'!$K$27:$O$27)","v":-0.62909999999999999},{"$f":"IF('Redeck Deflections'!$P$27<0,MROUND(ABS('Redeck Deflections'!$P$27),0.125),MROUND('Redeck Deflections'!$P$27,0.125)*-1)","v":0.625},2.5,null,2.5,{"$f":"'Redeck Deflections'!$E$6*0.5","v":60},{"$f":"Reference!$C$364+Reference!$D$359","v":170},null,null,null,null,null,{"$f":"SUM('Redeck Deflections'!$W$27:$AA$27)","v":-0.62909999999999999},{"$f":"IF('Redeck Deflections'!$AB$27<0,MROUND(ABS('Redeck Deflections'!$AB$27),0.125),MROUND('Redeck Deflections'!$AB$27,0.125)*-1)","v":0.625},2.5]
[null,2.6,{"$f":"'Redeck Deflections'!$E$6*0.6","v":72},{"$f":"Reference!$C$365+Reference!$D$359","v":182},null,null,null,null,null,{"$f":"SUM('Redeck Deflections'!$K$28:$O$28)","v":-0.57669999999999999},{"$f":"IF('Redeck Deflections'!$P$28<0,MROUND(ABS('Redeck Deflections'!$P$28),0.125),MROUND('Redeck Deflections'!$P$28,0.125)*-1)","v":0.625},2.6,null,2.6,{"$f":"'Redeck Deflections'!$E$6*0.6","v":72},{"$f":"Reference!$C$365+Reference!$D$359","v":182},null,null,null,null,null,{"$f":"SUM('Redeck Deflections'!$W$28:$AA$28)","v":-0.57669999999999999},{"$f":"IF('Redeck Deflections'!$AB$28<0,MROUND(ABS('Redeck Deflections'!$AB$28),0.125),MROUND('Redeck Deflections'!$AB$28,0.125)*-1)","v":0.625},2.6]
[null,2.7,{"$f":"'Redeck Deflections'!$E$6*0.7","v":84},{"$f":"Reference!$C$366+Reference!$D$359","v":194},null,null,null,null,null,{"$f":"SUM('Redeck Deflections'!$K$29:$O$29)","v":-0.43390000000000001},{"$f":"IF('Redeck Deflections'!$P$29<0,MROUND(ABS('Redeck Deflections'!$P$29),0.125),MROUND('Redeck Deflections'!$P$29,0.125)*-1)","v":0.375},2.7,null,2.7,{"$f":"'Redeck Deflections'!$E$6*0.7","v":84},{"$f":"Reference!$C$366+Reference!$D$359","v":194},null,null,null,null,null,{"$f":"SUM('Redeck Deflections'!$W$29:$AA$29)","v":-0.43390000000000001},{"$f":"IF('Redeck Deflections'!$AB$29<0,MROUND(ABS('Redeck Deflections'!$AB$29),0.125),MROUND('Redeck Deflections'!$AB$29,0.125)*-1)","v":0.375},2.7]
[null,2.8,{"$f":"'Redeck Deflections'!$E$6*0.8","v":96},{"$f":"Reference!$C$367+Reference!$D$359","v":206},null,null,null,null,null,{"$f":"SUM('Redeck Deflections'!$K$30:$O$30)","v":-0.24479999999999999},{"$f":"IF('Redeck Deflections'!$P$30<0,MROUND(ABS('Redeck Deflections'!$P$30),0.125),MROUND('Redeck Deflections'!$P$30,0.125)*-1)","v":0.25},2.8,null,2.8,{"$f":"'Redeck Deflections'!$E$6*0.8","v":96},{"$f":"Reference!$C$367+Reference!$D$359","v":206},null,null,null,null,null,{"$f":"SUM('Redeck Deflections'!$W$30:$AA$30)","v":-0.24479999999999999},{"$f":"IF('Redeck Deflections'!$AB$30<0,MROUND(ABS('Redeck Deflections'!$AB$30),0.125),MROUND('Redeck Deflections'!$AB$30,0.125)*-1)","v":0.25},2.8]
[null,2.9,{"$f":"'Redeck Deflections'!$E$6*0.9","v":108},{"$f":"Reference!$C$368+Reference!$D$359","v":218},null,null,null,null,null,{"$f":"SUM('Redeck Deflections'!$K$31:$O$31)","v":-8.0600000000000005E-2},{"$f":"IF('Redeck Deflections'!$P$31<0,MROUND(ABS('Redeck Deflections'!$P$31),0.125),MROUND('Redeck Deflections'!$P$31,0.125)*-1)","v":0.125},2.9,null,2.9,{"$f":"'Redeck Deflections'!$E$6*0.9","v":108},{"$f":"Reference!$C$368+Reference!$D$359","v":218},null,null,null,null,null,{"$f":"SUM('Redeck Deflections'!$W$31:$AA$31)","v":-8.0600000000000005E-2},{"$f":"IF('Redeck Deflections'!$AB$31<0,MROUND(ABS('Redeck Deflections'!$AB$31),0.125),MROUND('Redeck Deflections'!$AB$31,0.125)*-1)","v":0.125},2.9]
[null,3,{"$f":"'Redeck Deflections'!$E$6*1","v":120},{"$f":"Reference!$C$369+Reference!$D$359","v":230},null,null,null,null,null,{"$f":"SUM('Redeck Deflections'!$K$32:$O$32)","v":0},{"$f":"IF('Redeck Deflections'!$P$32<0,MROUND(ABS('Redeck Deflections'!$P$32),0.125),MROUND('Redeck Deflections'!$P$32,0.125)*-1)","v":0},3,null,3,{"$f":"'Redeck Deflections'!$E$6*1","v":120},{"$f":"Reference!$C$369+Reference!$D$359","v":230},null,null,null,null,null,{"$f":"SUM('Redeck Deflections'!$W$32:$AA$32)","v":0},{"$f":"IF('Redeck Deflections'!$AB$32<0,MROUND(ABS('Redeck Deflections'!$AB$32),0.125),MROUND('Redeck Deflections'!$AB$32,0.125)*-1)","v":0},3]
[null,3,0,{"$f":"Reference!$D$369","v":230},null,null,null,null,null,{"$f":"SUM('Redeck Deflections'!$K$33:$O$33)","v":0},{"$f":"IF('Redeck Deflections'!$P$33<0,MROUND(ABS('Redeck Deflections'!$P$33),0.125),MROUND('Redeck Deflections'!$P$33,0.125)*-1)","v":0},3,null,3,0,{"$f":"Reference!$D$369","v":230},null,null,null,null,null,{"$f":"SUM('Redeck Deflections'!$W$33:$AA$33)","v":0},{"$f":"IF('Redeck Deflections'!$AB$33<0,MROUND(ABS('Redeck Deflections'!$AB$33),0.125),MROUND('Redeck Deflections'!$AB$33,0.125)*-1)","v":0},3]
[null,3.1,{"$f":"'Redeck Deflections'!$F$6*0.1","v":11},{"$f":"Reference!$D$370+Reference!$C$371","v":241},null,null,null,null,null,{"$f":"SUM('Redeck Deflections'!$K$34:$O$34)","v":-2.5699999999999997E-2},{"$f":"IF('Redeck Deflections'!$P$34<0,MROUND(ABS('Redeck Deflections'!$P$34),0.125),MROUND('Redeck Deflections'!$P$34,0.125)*-1)","v":0},3.1,null,3.1,{"$f":"'Redeck Deflections'!$F$6*0.1","v":11},{"$f":"Reference!$D$370+Reference!$C$371","v":241},null,null,null,null,null,{"$f":"SUM('Redeck Deflections'!$W$34:$AA$34)","v":-2.5699999999999997E-2},{"$f":"IF('Redeck Deflections'!$AB$34<0,MROUND(ABS('Redeck Deflections'!$AB$34),0.125),MROUND('Redeck Deflections'!$AB$34,0.125)*-1)","v":0},3.1]
[null,3.2,{"$f":"'Redeck Deflections'!$F$6*0.2","v":22},{"$f":"Reference!$C$372+Reference!$D$370","v":252},null,null,null,null,null,{"$f":"SUM('Redeck Deflections'!$K$35:$O$35)","v":-0.1076},{"$f":"IF('Redeck Deflections'!$P$35<0,MROUND(ABS('Redeck Deflections'!$P$35),0.125),MROUND('Redeck Deflections'!$P$35,0.125)*-1)","v":0.125},3.2,null,3.2,{"$f":"'Redeck Deflections'!$F$6*0.2","v":22},{"$f":"Reference!$C$372+Reference!$D$370","v":252},null,null,null,null,null,{"$f":"SUM('Redeck Deflections'!$W$35:$AA$35)","v":-0.1076},{"$f":"IF('Redeck Deflections'!$AB$35<0,MROUND(ABS('Redeck Deflections'!$AB$35),0.125),MROUND('Redeck Deflections'!$AB$35,0.125)*-1)","v":0.125},3.2]
[null,3.3,{"$f":"'Redeck Deflections'!$F$6*0.3","v":33},{"$f":"Reference!$C$373+Reference!$D$370","v":263},null,null,null,null,null,{"$f":"SUM('Redeck Deflections'!$K$36:$O$36)","v":-0.22439999999999999},{"$f":"IF('Redeck Deflections'!$P$36<0,MROUND(ABS('Redeck Deflections'!$P$36),0.125),MROUND('Redeck Deflections'!$P$36,0.125)*-1)","v":0.25},3.3,null,3.3,{"$f":"'Redeck Deflections'!$F$6*0.3","v":33},{"$f":"Reference!$C$373+Reference!$D$370","v":263},null,null,null,null,null,{"$f":"SUM('Redeck Deflections'!$W$36:$AA$36)","v":-0.22439999999999999},{"$f":"IF('Redeck Deflections'!$AB$36<0,MROUND(ABS('Redeck Deflections'!$AB$36),0.125),MROUND('Redeck Deflections'!$AB$36,0.125)*-1)","v":0.25},3.3]
[null,3.4,{"$f":"'Redeck Deflections'!$F$6*0.4","v":44},{"$f":"Reference!$C$374+Reference!$D$370","v":274},null,null,null,null,null,{"$f":"SUM('Redeck Deflections'!$K$37:$O$37)","v":-0.34010000000000001},{"$f":"IF('Redeck Deflections'!$P$37<0,MROUND(ABS('Redeck Deflections'!$P$37),0.125),MROUND('Redeck Deflections'!$P$37,0.125)*-1)","v":0.375},3.4,null,3.4,{"$f":"'Redeck Deflections'!$F$6*0.4","v":44},{"$f":"Reference!$C$374+Reference!$D$370","v":274},null,null,null,null,null,{"$f":"SUM('Redeck Deflections'!$W$37:$AA$37)","v":-0.34010000000000001},{"$f":"IF('Redeck Deflections'!$AB$37<0,MROUND(ABS('Redeck Deflections'!$AB$37),0.125),MROUND('Redeck Deflections'!$AB$37,0.125)*-1)","v":0.375},3.4]
[null,3.5,{"$f":"'Redeck Deflections'!$F$6*0.5","v":55},{"$f":"Reference!$C$375+Reference!$D$370","v":285},null,null,null,null,null,{"$f":"SUM('Redeck Deflections'!$K$38:$O$38)","v":-0.4234},{"$f":"IF('Redeck Deflections'!$P$38<0,MROUND(ABS('Redeck Deflections'!$P$38),0.125),MROUND('Redeck Deflections'!$P$38,0.125)*-1)","v":0.375},3.5,null,3.5,{"$f":"'Redeck Deflections'!$F$6*0.5","v":55},{"$f":"Reference!$C$375+Reference!$D$370","v":285},null,null,null,null,null,{"$f":"SUM('Redeck Deflections'!$W$38:$AA$38)","v":-0.4234},{"$f":"IF('Redeck Deflections'!$AB$38<0,MROUND(ABS('Redeck Deflections'!$AB$38),0.125),MROUND('Redeck Deflections'!$AB$38,0.125)*-1)","v":0.375},3.5]
[null,3.6,{"$f":"'Redeck Deflections'!$F$6*0.6","v":66},{"$f":"Reference!$C$376+Reference!$D$370","v":296},null,null,null,null,null,{"$f":"SUM('Redeck Deflections'!$K$39:$O$39)","v":-0.45369999999999999},{"$f":"IF('Redeck Deflections'!$P$39<0,MROUND(ABS('Redeck Deflections'!$P$39),0.125),MROUND('Redeck Deflections'!$P$39,0.125)*-1)","v":0.5},3.6,null,3.6,{"$f":"'Redeck Deflections'!$F$6*0.6","v":66},{"$f":"Reference!$C$376+Reference!$D$370","v":296},null,null,null,null,null,{"$f":"SUM('Redeck Deflections'!$W$39:$AA$39)","v":-0.45369999999999999},{"$f":"IF('Redeck Deflections'!$AB$39<0,MROUND(ABS('Redeck Deflections'!$AB$39),0.125),MROUND('Redeck Deflections'!$AB$39,0.125)*-1)","v":0.5},3.6]
[null,3.7,{"$f":"'Redeck Deflections'!$F$6*0.7","v":77},{"$f":"Reference!$C$377+Reference!$D$370","v":307},null,null,null,null,null,{"$f":"SUM('Redeck Deflections'!$K$40:$O$40)","v":-0.42109999999999997},{"$f":"IF('Redeck Deflections'!$P$40<0,MROUND(ABS('Redeck Deflections'!$P$40),0.125),MROUND('Redeck Deflections'!$P$40,0.125)*-1)","v":0.375},3.7,null,3.7,{"$f":"'Redeck Deflections'!$F$6*0.7","v":77},{"$f":"Reference!$C$377+Reference!$D$370","v":307},null,null,null,null,null,{"$f":"SUM('Redeck Deflections'!$W$40:$AA$40)","v":-0.42109999999999997},{"$f":"IF('Redeck Deflections'!$AB$40<0,MROUND(ABS('Redeck Deflections'!$AB$40),0.125),MROUND('Redeck Deflections'!$AB$40,0.125)*-1)","v":0.375},3.7]
[null,3.8,{"$f":"'Redeck Deflections'!$F$6*0.8","v":88},{"$f":"Reference!$C$378+Reference!$D$370","v":318},null,null,null,null,null,{"$f":"SUM('Redeck Deflections'!$K$41:$O$41)","v":-0.3256},{"$f":"IF('Redeck Deflections'!$P$41<0,MROUND(ABS('Redeck Deflections'!$P$41),0.125),MROUND('Redeck Deflections'!$P$41,0.125)*-1)","v":0.375},3.8,null,3.8,{"$f":"'Redeck Deflections'!$F$6*0.8","v":88},{"$f":"Reference!$C$378+Reference!$D$370","v":318},null,null,null,null,null,{"$f":"SUM('Redeck Deflections'!$W$41:$AA$41)","v":-0.3256},{"$f":"IF('Redeck Deflections'!$AB$41<0,MROUND(ABS('Redeck Deflections'!$AB$41),0.125),MROUND('Redeck Deflections'!$AB$41,0.125)*-1)","v":0.375},3.8]
[null,3.9,{"$f":"'Redeck Deflections'!$F$6*0.9","v":99},{"$f":"Reference!$C$379+Reference!$D$370","v":329},null,null,null,null,null,{"$f":"SUM('Redeck Deflections'!$K$42:$O$42)","v":-0.17810000000000001},{"$f":"IF('Redeck Deflections'!$P$42<0,MROUND(ABS('Redeck Deflections'!$P$42),0.125),MROUND('Redeck Deflections'!$P$42,0.125)*-1)","v":0.125},3.9,null,3.9,{"$f":"'Redeck Deflections'!$F$6*0.9","v":99},{"$f":"Reference!$C$379+Reference!$D$370","v":329},null,null,null,null,null,{"$f":"SUM('Redeck Deflections'!$W$42:$AA$42)","v":-0.17810000000000001},{"$f":"IF('Redeck Deflections'!$AB$42<0,MROUND(ABS('Redeck Deflections'!$AB$42),0.125),MROUND('Redeck Deflections'!$AB$42,0.125)*-1)","v":0.125},3.9]
[null,4,{"$f":"'Redeck Deflections'!$F$6*1","v":110},{"$f":"Reference!$C$380+Reference!$D$370","v":340},null,null,null,null,null,{"$f":"SUM('Redeck Deflections'!$K$43:$O$43)","v":0},{"$f":"IF('Redeck Deflections'!$P$43<0,MROUND(ABS('Redeck Deflections'!$P$43),0.125),MROUND('Redeck Deflections'!$P$43,0.125)*-1)","v":0},4,null,4,{"$f":"'Redeck Deflections'!$F$6*1","v":110},{"$f":"Reference!$C$380+Reference!$D$370","v":340},null,null,null,null,null,{"$f":"SUM('Redeck Deflections'!$W$43:$AA$43)","v":0},{"$f":"IF('Redeck Deflections'!$AB$43<0,MROUND(ABS('Redeck Deflections'!$AB$43),0.125),MROUND('Redeck Deflections'!$AB$43,0.125)*-1)","v":0},4]
[null,4,0,{"$f":"Reference!$D$380","v":340},null,null,null,null,null,{"$f":"SUM('Redeck Deflections'!$K$44:$O$44)","v":0},{"$f":"IF('Redeck Deflections'!$P$44<0,MROUND(ABS('Redeck Deflections'!$P$44),0.125),MROUND('Redeck Deflections'!$P$44,0.125)*-1)","v":0},4,null,4,0,{"$f":"Reference!$D$380","v":340},null,null,null,null,null,{"$f":"SUM('Redeck Deflections'!$W$44:$AA$44)","v":0},{"$f":"IF('Redeck Deflections'!$AB$44<0,MROUND(ABS('Redeck Deflections'!$AB$44),0.125),MROUND('Redeck Deflections'!$AB$44,0.125)*-1)","v":0},4]
[null,4.0999999999999996,{"$f":"'Redeck Deflections'!$G$6*0.1","v":0},{"$f":"Reference!$D$381+Reference!$C$382","v":340},null,null,null,null,null,{"$f":"SUM('Redeck Deflections'!$K$45:$O$45)","v":0},{"$f":"IF('Redeck Deflections'!$P$45<0,MROUND(ABS('Redeck Deflections'!$P$45),0.125),MROUND('Redeck Deflections'!$P$45,0.125)*-1)","v":0},4.0999999999999996,null,4.0999999999999996,{"$f":"'Redeck Deflections'!$G$6*0.1","v":0},{"$f":"Reference!$D$381+Reference!$C$382","v":340},null,null,null,null,null,{"$f":"SUM('Redeck Deflections'!$W$45:$AA$45)","v":0},{"$f":"IF('Redeck Deflections'!$AB$45<0,MROUND(ABS('Redeck Deflections'!$AB$45),0.125),MROUND('Redeck Deflections'!$AB$45,0.125)*-1)","v":0},4.0999999999999996]
[null,4.2,{"$f":"'Redeck Deflections'!$G$6*0.2","v":0},{"$f":"Reference!$C$383+Reference!$D$381","v":340},null,null,null,null,null,{"$f":"SUM('Redeck Deflections'!$K$46:$O$46)","v":0},{"$f":"IF('Redeck Deflections'!$P$46<0,MROUND(ABS('Redeck Deflections'!$P$46),0.125),MROUND('Redeck Deflections'!$P$46,0.125)*-1)","v":0},4.2,null,4.2,{"$f":"'Redeck Deflections'!$G$6*0.2","v":0},{"$f":"Reference!$C$383+Reference!$D$381","v":340},null,null,null,null,null,{"$f":"SUM('Redeck Deflections'!$W$46:$AA$46)","v":0},{"$f":"IF('Redeck Deflections'!$AB$46<0,MROUND(ABS('Redeck Deflections'!$AB$46),0.125),MROUND('Redeck Deflections'!$AB$46,0.125)*-1)","v":0},4.2]
[null,4.3,{"$f":"'Redeck Deflections'!$G$6*0.3","v":0},{"$f":"Reference!$C$384+Reference!$D$381","v":340},null,null,null,null,null,{"$f":"SUM('Redeck Deflections'!$K$47:$O$47)","v":0},{"$f":"IF('Redeck Deflections'!$P$47<0,MROUND(ABS('Redeck Deflections'!$P$47),0.125),MROUND('Redeck Deflections'!$P$47,0.125)*-1)","v":0},4.3,null,4.3,{"$f":"'Redeck Deflections'!$G$6*0.3","v":0},{"$f":"Reference!$C$384+Reference!$D$381","v":340},null,null,null,null,null,{"$f":"SUM('Redeck Deflections'!$W$47:$AA$47)","v":0},{"$f":"IF('Redeck Deflections'!$AB$47<0,MROUND(ABS('Redeck Deflections'!$AB$47),0.125),MROUND('Redeck Deflections'!$AB$47,0.125)*-1)","v":0},4.3]
[null,4.4000000000000004,{"$f":"'Redeck Deflections'!$G$6*0.4","v":0},{"$f":"Reference!$C$385+Reference!$D$381","v":340},null,null,null,null,null,{"$f":"SUM('Redeck Deflections'!$K$48:$O$48)","v":0},{"$f":"IF('Redeck Deflections'!$P$48<0,MROUND(ABS('Redeck Deflections'!$P$48),0.125),MROUND('Redeck Deflections'!$P$48,0.125)*-1)","v":0},4.4000000000000004,null,4.4000000000000004,{"$f":"'Redeck Deflections'!$G$6*0.4","v":0},{"$f":"Reference!$C$385+Reference!$D$381","v":340},null,null,null,null,null,{"$f":"SUM('Redeck Deflections'!$W$48:$AA$48)","v":0},{"$f":"IF('Redeck Deflections'!$AB$48<0,MROUND(ABS('Redeck Deflections'!$AB$48),0.125),MROUND('Redeck Deflections'!$AB$48,0.125)*-1)","v":0},4.4000000000000004]
[null,4.5,{"$f":"'Redeck Deflections'!$G$6*0.5","v":0},{"$f":"Reference!$C$386+Reference!$D$381","v":340},null,null,null,null,null,{"$f":"SUM('Redeck Deflections'!$K$49:$O$49)","v":0},{"$f":"IF('Redeck Deflections'!$P$49<0,MROUND(ABS('Redeck Deflections'!$P$49),0.125),MROUND('Redeck Deflections'!$P$49,0.125)*-1)","v":0},4.5,null,4.5,{"$f":"'Redeck Deflections'!$G$6*0.5","v":0},{"$f":"Reference!$C$386+Reference!$D$381","v":340},null,null,null,null,null,{"$f":"SUM('Redeck Deflections'!$W$49:$AA$49)","v":0},{"$f":"IF('Redeck Deflections'!$AB$49<0,MROUND(ABS('Redeck Deflections'!$AB$49),0.125),MROUND('Redeck Deflections'!$AB$49,0.125)*-1)","v":0},4.5]
[null,4.5999999999999996,{"$f":"'Redeck Deflections'!$G$6*0.6","v":0},{"$f":"Reference!$C$387+Reference!$D$381","v":340},null,null,null,null,null,{"$f":"SUM('Redeck Deflections'!$K$50:$O$50)","v":0},{"$f":"IF('Redeck Deflections'!$P$50<0,MROUND(ABS('Redeck Deflections'!$P$50),0.125),MROUND('Redeck Deflections'!$P$50,0.125)*-1)","v":0},4.5999999999999996,null,4.5999999999999996,{"$f":"'Redeck Deflections'!$G$6*0.6","v":0},{"$f":"Reference!$C$387+Reference!$D$381","v":340},null,null,null,null,null,{"$f":"SUM('Redeck Deflections'!$W$50:$AA$50)","v":0},{"$f":"IF('Redeck Deflections'!$AB$50<0,MROUND(ABS('Redeck Deflections'!$AB$50),0.125),MROUND('Redeck Deflections'!$AB$50,0.125)*-1)","v":0},4.5999999999999996]
[null,4.7,{"$f":"'Redeck Deflections'!$G$6*0.7","v":0},{"$f":"Reference!$C$388+Reference!$D$381","v":340},null,null,null,null,null,{"$f":"SUM('Redeck Deflections'!$K$51:$O$51)","v":0},{"$f":"IF('Redeck Deflections'!$P$51<0,MROUND(ABS('Redeck Deflections'!$P$51),0.125),MROUND('Redeck Deflections'!$P$51,0.125)*-1)","v":0},4.7,null,4.7,{"$f":"'Redeck Deflections'!$G$6*0.7","v":0},{"$f":"Reference!$C$388+Reference!$D$381","v":340},null,null,null,null,null,{"$f":"SUM('Redeck Deflections'!$W$51:$AA$51)","v":0},{"$f":"IF('Redeck Deflections'!$AB$51<0,MROUND(ABS('Redeck Deflections'!$AB$51),0.125),MROUND('Redeck Deflections'!$AB$51,0.125)*-1)","v":0},4.7]
[null,4.8,{"$f":"'Redeck Deflections'!$G$6*0.8","v":0},{"$f":"Reference!$C$389+Reference!$D$381","v":340},null,null,null,null,null,{"$f":"SUM('Redeck Deflections'!$K$52:$O$52)","v":0},{"$f":"IF('Redeck Deflections'!$P$52<0,MROUND(ABS('Redeck Deflections'!$P$52),0.125),MROUND('Redeck Deflections'!$P$52,0.125)*-1)","v":0},4.8,null,4.8,{"$f":"'Redeck Deflections'!$G$6*0.8","v":0},{"$f":"Reference!$C$389+Reference!$D$381","v":340},null,null,null,null,null,{"$f":"SUM('Redeck Deflections'!$W$52:$AA$52)","v":0},{"$f":"IF('Redeck Deflections'!$AB$52<0,MROUND(ABS('Redeck Deflections'!$AB$52),0.125),MROUND('Redeck Deflections'!$AB$52,0.125)*-1)","v":0},4.8]
[null,4.9000000000000004,{"$f":"'Redeck Deflections'!$G$6*0.9","v":0},{"$f":"Reference!$C$390+Reference!$D$381","v":340},null,null,null,null,null,{"$f":"SUM('Redeck Deflections'!$K$53:$O$53)","v":0},{"$f":"IF('Redeck Deflections'!$P$53<0,MROUND(ABS('Redeck Deflections'!$P$53),0.125),MROUND('Redeck Deflections'!$P$53,0.125)*-1)","v":0},4.9000000000000004,null,4.9000000000000004,{"$f":"'Redeck Deflections'!$G$6*0.9","v":0},{"$f":"Reference!$C$390+Reference!$D$381","v":340},null,null,null,null,null,{"$f":"SUM('Redeck Deflections'!$W$53:$AA$53)","v":0},{"$f":"IF('Redeck Deflections'!$AB$53<0,MROUND(ABS('Redeck Deflections'!$AB$53),0.125),MROUND('Redeck Deflections'!$AB$53,0.125)*-1)","v":0},4.9000000000000004]
[null,5,{"$f":"'Redeck Deflections'!$G$6*1","v":0},{"$f":"Reference!$C$391+Reference!$D$381","v":340},null,null,null,null,null,{"$f":"SUM('Redeck Deflections'!$K$54:$O$54)","v":0},{"$f":"IF('Redeck Deflections'!$P$54<0,MROUND(ABS('Redeck Deflections'!$P$54),0.125),MROUND('Redeck Deflections'!$P$54,0.125)*-1)","v":0},5,null,5,{"$f":"'Redeck Deflections'!$G$6*1","v":0},{"$f":"Reference!$C$391+Reference!$D$381","v":340},null,null,null,null,null,{"$f":"SUM('Redeck Deflections'!$W$54:$AA$54)","v":0},{"$f":"IF('Redeck Deflections'!$AB$54<0,MROUND(ABS('Redeck Deflections'!$AB$54),0.125),MROUND('Redeck Deflections'!$AB$54,0.125)*-1)","v":0},5]
[null,5,0,{"$f":"Reference!$D$391","v":340},null,null,null,null,null,{"$f":"SUM('Redeck Deflections'!$K$55:$O$55)","v":0},{"$f":"IF('Redeck Deflections'!$P$55<0,MROUND(ABS('Redeck Deflections'!$P$55),0.125),MROUND('Redeck Deflections'!$P$55,0.125)*-1)","v":0},5,null,5,0,{"$f":"Reference!$D$391","v":340},null,null,null,null,null,{"$f":"SUM('Redeck Deflections'!$W$55:$AA$55)","v":0},{"$f":"IF('Redeck Deflections'!$AB$55<0,MROUND(ABS('Redeck Deflections'!$AB$55),0.125),MROUND('Redeck Deflections'!$AB$55,0.125)*-1)","v":0},5]
[null,5.0999999999999996,{"$f":"'Redeck Deflections'!$H$6*0.1","v":0},{"$f":"Reference!$D$392+Reference!$C$393","v":340},null,null,null,null,null,{"$f":"SUM('Redeck Deflections'!$K$56:$O$56)","v":0},{"$f":"IF('Redeck Deflections'!$P$56<0,MROUND(ABS('Redeck Deflections'!$P$56),0.125),MROUND('Redeck Deflections'!$P$56,0.125)*-1)","v":0},5.0999999999999996,null,5.0999999999999996,{"$f":"'Redeck Deflections'!$H$6*0.1","v":0},{"$f":"Reference!$D$392+Reference!$C$393","v":340},null,null,null,null,null,{"$f":"SUM('Redeck Deflections'!$W$56:$AA$56)","v":0},{"$f":"IF('Redeck Deflections'!$AB$56<0,MROUND(ABS('Redeck Deflections'!$AB$56),0.125),MROUND('Redeck Deflections'!$AB$56,0.125)*-1)","v":0},5.0999999999999996]
[null,5.2,{"$f":"'Redeck Deflections'!$H$6*0.2","v":0},{"$f":"Reference!$C$394+Reference!$D$392","v":340},null,null,null,null,null,{"$f":"SUM('Redeck Deflections'!$K$57:$O$57)","v":0},{"$f":"IF('Redeck Deflections'!$P$57<0,MROUND(ABS('Redeck Deflections'!$P$57),0.125),MROUND('Redeck Deflections'!$P$57,0.125)*-1)","v":0},5.2,null,5.2,{"$f":"'Redeck Deflections'!$H$6*0.2","v":0},{"$f":"Reference!$C$394+Reference!$D$392","v":340},null,null,null,null,null,{"$f":"SUM('Redeck Deflections'!$W$57:$AA$57)","v":0},{"$f":"IF('Redeck Deflections'!$AB$57<0,MROUND(ABS('Redeck Deflections'!$AB$57),0.125),MROUND('Redeck Deflections'!$AB$57,0.125)*-1)","v":0},5.2]
[null,5.3,{"$f":"'Redeck Deflections'!$H$6*0.3","v":0},{"$f":"Reference!$C$395+Reference!$D$392","v":340},null,null,null,null,null,{"$f":"SUM('Redeck Deflections'!$K$58:$O$58)","v":0},{"$f":"IF('Redeck Deflections'!$P$58<0,MROUND(ABS('Redeck Deflections'!$P$58),0.125),MROUND('Redeck Deflections'!$P$58,0.125)*-1)","v":0},5.3,null,5.3,{"$f":"'Redeck Deflections'!$H$6*0.3","v":0},{"$f":"Reference!$C$395+Reference!$D$392","v":340},null,null,null,null,null,{"$f":"SUM('Redeck Deflections'!$W$58:$AA$58)","v":0},{"$f":"IF('Redeck Deflections'!$AB$58<0,MROUND(ABS('Redeck Deflections'!$AB$58),0.125),MROUND('Redeck Deflections'!$AB$58,0.125)*-1)","v":0},5.3]
[null,5.4,{"$f":"'Redeck Deflections'!$H$6*0.4","v":0},{"$f":"Reference!$C$396+Reference!$D$392","v":340},null,null,null,null,null,{"$f":"SUM('Redeck Deflections'!$K$59:$O$59)","v":0},{"$f":"IF('Redeck Deflections'!$P$59<0,MROUND(ABS('Redeck Deflections'!$P$59),0.125),MROUND('Redeck Deflections'!$P$59,0.125)*-1)","v":0},5.4,null,5.4,{"$f":"'Redeck Deflections'!$H$6*0.4","v":0},{"$f":"Reference!$C$396+Reference!$D$392","v":340},null,null,null,null,null,{"$f":"SUM('Redeck Deflections'!$W$59:$AA$59)","v":0},{"$f":"IF('Redeck Deflections'!$AB$59<0,MROUND(ABS('Redeck Deflections'!$AB$59),0.125),MROUND('Redeck Deflections'!$AB$59,0.125)*-1)","v":0},5.4]
[null,5.5,{"$f":"'Redeck Deflections'!$H$6*0.5","v":0},{"$f":"Reference!$C$397+Reference!$D$392","v":340},null,null,null,null,null,{"$f":"SUM('Redeck Deflections'!$K$60:$O$60)","v":0},{"$f":"IF('Redeck Deflections'!$P$60<0,MROUND(ABS('Redeck Deflections'!$P$60),0.125),MROUND('Redeck Deflections'!$P$60,0.125)*-1)","v":0},5.5,null,5.5,{"$f":"'Redeck Deflections'!$H$6*0.5","v":0},{"$f":"Reference!$C$397+Reference!$D$392","v":340},null,null,null,null,null,{"$f":"SUM('Redeck Deflections'!$W$60:$AA$60)","v":0},{"$f":"IF('Redeck Deflections'!$AB$60<0,MROUND(ABS('Redeck Deflections'!$AB$60),0.125),MROUND('Redeck Deflections'!$AB$60,0.125)*-1)","v":0},5.5]
[null,5.6,{"$f":"'Redeck Deflections'!$H$6*0.6","v":0},{"$f":"Reference!$C$398+Reference!$D$392","v":340},null,null,null,null,null,{"$f":"SUM('Redeck Deflections'!$K$61:$O$61)","v":0},{"$f":"IF('Redeck Deflections'!$P$61<0,MROUND(ABS('Redeck Deflections'!$P$61),0.125),MROUND('Redeck Deflections'!$P$61,0.125)*-1)","v":0},5.6,null,5.6,{"$f":"'Redeck Deflections'!$H$6*0.6","v":0},{"$f":"Reference!$C$398+Reference!$D$392","v":340},null,null,null,null,null,{"$f":"SUM('Redeck Deflections'!$W$61:$AA$61)","v":0},{"$f":"IF('Redeck Deflections'!$AB$61<0,MROUND(ABS('Redeck Deflections'!$AB$61),0.125),MROUND('Redeck Deflections'!$AB$61,0.125)*-1)","v":0},5.6]
[null,5.7,{"$f":"'Redeck Deflections'!$H$6*0.7","v":0},{"$f":"Reference!$C$399+Reference!$D$392","v":340},null,null,null,null,null,{"$f":"SUM('Redeck Deflections'!$K$62:$O$62)","v":0},{"$f":"IF('Redeck Deflections'!$P$62<0,MROUND(ABS('Redeck Deflections'!$P$62),0.125),MROUND('Redeck Deflections'!$P$62,0.125)*-1)","v":0},5.7,null,5.7,{"$f":"'Redeck Deflections'!$H$6*0.7","v":0},{"$f":"Reference!$C$399+Reference!$D$392","v":340},null,null,null,null,null,{"$f":"SUM('Redeck Deflections'!$W$62:$AA$62)","v":0},{"$f":"IF('Redeck Deflections'!$AB$62<0,MROUND(ABS('Redeck Deflections'!$AB$62),0.125),MROUND('Redeck Deflections'!$AB$62,0.125)*-1)","v":0},5.7]
[null,5.8,{"$f":"'Redeck Deflections'!$H$6*0.8","v":0},{"$f":"Reference!$C$400+Reference!$D$392","v":340},null,null,null,null,null,{"$f":"SUM('Redeck Deflections'!$K$63:$O$63)","v":0},{"$f":"IF('Redeck Deflections'!$P$63<0,MROUND(ABS('Redeck Deflections'!$P$63),0.125),MROUND('Redeck Deflections'!$P$63,0.125)*-1)","v":0},5.8,null,5.8,{"$f":"'Redeck Deflections'!$H$6*0.8","v":0},{"$f":"Reference!$C$400+Reference!$D$392","v":340},null,null,null,null,null,{"$f":"SUM('Redeck Deflections'!$W$63:$AA$63)","v":0},{"$f":"IF('Redeck Deflections'!$AB$63<0,MROUND(ABS('Redeck Deflections'!$AB$63),0.125),MROUND('Redeck Deflections'!$AB$63,0.125)*-1)","v":0},5.8]
[null,5.9,{"$f":"'Redeck Deflections'!$H$6*0.9","v":0},{"$f":"Reference!$C$401+Reference!$D$392","v":340},null,null,null,null,null,{"$f":"SUM('Redeck Deflections'!$K$64:$O$64)","v":0},{"$f":"IF('Redeck Deflections'!$P$64<0,MROUND(ABS('Redeck Deflections'!$P$64),0.125),MROUND('Redeck Deflections'!$P$64,0.125)*-1)","v":0},5.9,null,5.9,{"$f":"'Redeck Deflections'!$H$6*0.9","v":0},{"$f":"Reference!$C$401+Reference!$D$392","v":340},null,null,null,null,null,{"$f":"SUM('Redeck Deflections'!$W$64:$AA$64)","v":0},{"$f":"IF('Redeck Deflections'!$AB$64<0,MROUND(ABS('Redeck Deflections'!$AB$64),0.125),MROUND('Redeck Deflections'!$AB$64,0.125)*-1)","v":0},5.9]
[null,6,{"$f":"'Redeck Deflections'!$H$6*1","v":0},{"$f":"Reference!$C$402+Reference!$D$392","v":340},null,null,null,null,null,{"$f":"SUM('Redeck Deflections'!$K$65:$O$65)","v":0},{"$f":"IF('Redeck Deflections'!$P$65<0,MROUND(ABS('Redeck Deflections'!$P$65),0.125),MROUND('Redeck Deflections'!$P$65,0.125)*-1)","v":0},6,null,6,{"$f":"'Redeck Deflections'!$H$6*1","v":0},{"$f":"Reference!$C$402+Reference!$D$392","v":340},null,null,null,null,null,{"$f":"SUM('Redeck Deflections'!$W$65:$AA$65)","v":0},{"$f":"IF('Redeck Deflections'!$AB$65<0,MROUND(ABS('Redeck Deflections'!$AB$65),0.125),MROUND('Redeck Deflections'!$AB$65,0.125)*-1)","v":0},6]
[null,6,0,{"$f":"Reference!$D$402","v":340},null,null,null,null,null,{"$f":"SUM('Redeck Deflections'!$K$66:$O$66)","v":0},{"$f":"IF('Redeck Deflections'!$P$66<0,MROUND(ABS('Redeck Deflections'!$P$66),0.125),MROUND('Redeck Deflections'!$P$66,0.125)*-1)","v":0},6,null,6,0,{"$f":"Reference!$D$402","v":340},null,null,null,null,null,{"$f":"SUM('Redeck Deflections'!$W$66:$AA$66)","v":0},{"$f":"IF('Redeck Deflections'!$AB$66<0,MROUND(ABS('Redeck Deflections'!$AB$66),0.125),MROUND('Redeck Deflections'!$AB$66,0.125)*-1)","v":0},6]
[null,6.1,{"$f":"'Redeck Deflections'!$I$6*0.1","v":0},{"$f":"Reference!$D$403+Reference!$C$404","v":340},null,null,null,null,null,{"$f":"SUM('Redeck Deflections'!$K$67:$O$67)","v":0},{"$f":"IF('Redeck Deflections'!$P$67<0,MROUND(ABS('Redeck Deflections'!$P$67),0.125),MROUND('Redeck Deflections'!$P$67,0.125)*-1)","v":0},6.1,null,6.1,{"$f":"'Redeck Deflections'!$I$6*0.1","v":0},{"$f":"Reference!$D$403+Reference!$C$404","v":340},null,null,null,null,null,{"$f":"SUM('Redeck Deflections'!$W$67:$AA$67)","v":0},{"$f":"IF('Redeck Deflections'!$AB$67<0,MROUND(ABS('Redeck Deflections'!$AB$67),0.125),MROUND('Redeck Deflections'!$AB$67,0.125)*-1)","v":0},6.1]
[null,6.2,{"$f":"'Redeck Deflections'!$I$6*0.2","v":0},{"$f":"Reference!$C$405+Reference!$D$403","v":340},null,null,null,null,null,{"$f":"SUM('Redeck Deflections'!$K$68:$O$68)","v":0},{"$f":"IF('Redeck Deflections'!$P$68<0,MROUND(ABS('Redeck Deflections'!$P$68),0.125),MROUND('Redeck Deflections'!$P$68,0.125)*-1)","v":0},6.2,null,6.2,{"$f":"'Redeck Deflections'!$I$6*0.2","v":0},{"$f":"Reference!$C$405+Reference!$D$403","v":340},null,null,null,null,null,{"$f":"SUM('Redeck Deflections'!$W$68:$AA$68)","v":0},{"$f":"IF('Redeck Deflections'!$AB$68<0,MROUND(ABS('Redeck Deflections'!$AB$68),0.125),MROUND('Redeck Deflections'!$AB$68,0.125)*-1)","v":0},6.2]
[null,6.3,{"$f":"'Redeck Deflections'!$I$6*0.3","v":0},{"$f":"Reference!$C$406+Reference!$D$403","v":340},null,null,null,null,null,{"$f":"SUM('Redeck Deflections'!$K$69:$O$69)","v":0},{"$f":"IF('Redeck Deflections'!$P$69<0,MROUND(ABS('Redeck Deflections'!$P$69),0.125),MROUND('Redeck Deflections'!$P$69,0.125)*-1)","v":0},6.3,null,6.3,{"$f":"'Redeck Deflections'!$I$6*0.3","v":0},{"$f":"Reference!$C$406+Reference!$D$403","v":340},null,null,null,null,null,{"$f":"SUM('Redeck Deflections'!$W$69:$AA$69)","v":0},{"$f":"IF('Redeck Deflections'!$AB$69<0,MROUND(ABS('Redeck Deflections'!$AB$69),0.125),MROUND('Redeck Deflections'!$AB$69,0.125)*-1)","v":0},6.3]
[null,6.4,{"$f":"'Redeck Deflections'!$I$6*0.4","v":0},{"$f":"Reference!$C$407+Reference!$D$403","v":340},null,null,null,null,null,{"$f":"SUM('Redeck Deflections'!$K$70:$O$70)","v":0},{"$f":"IF('Redeck Deflections'!$P$70<0,MROUND(ABS('Redeck Deflections'!$P$70),0.125),MROUND('Redeck Deflections'!$P$70,0.125)*-1)","v":0},6.4,null,6.4,{"$f":"'Redeck Deflections'!$I$6*0.4","v":0},{"$f":"Reference!$C$407+Reference!$D$403","v":340},null,null,null,null,null,{"$f":"SUM('Redeck Deflections'!$W$70:$AA$70)","v":0},{"$f":"IF('Redeck Deflections'!$AB$70<0,MROUND(ABS('Redeck Deflections'!$AB$70),0.125),MROUND('Redeck Deflections'!$AB$70,0.125)*-1)","v":0},6.4]
[null,6.5,{"$f":"'Redeck Deflections'!$I$6*0.5","v":0},{"$f":"Reference!$C$408+Reference!$D$403","v":340},null,null,null,null,null,{"$f":"SUM('Redeck Deflections'!$K$71:$O$71)","v":0},{"$f":"IF('Redeck Deflections'!$P$71<0,MROUND(ABS('Redeck Deflections'!$P$71),0.125),MROUND('Redeck Deflections'!$P$71,0.125)*-1)","v":0},6.5,null,6.5,{"$f":"'Redeck Deflections'!$I$6*0.5","v":0},{"$f":"Reference!$C$408+Reference!$D$403","v":340},null,null,null,null,null,{"$f":"SUM('Redeck Deflections'!$W$71:$AA$71)","v":0},{"$f":"IF('Redeck Deflections'!$AB$71<0,MROUND(ABS('Redeck Deflections'!$AB$71),0.125),MROUND('Redeck Deflections'!$AB$71,0.125)*-1)","v":0},6.5]
[null,6.6,{"$f":"'Redeck Deflections'!$I$6*0.6","v":0},{"$f":"Reference!$C$409+Reference!$D$403","v":340},null,null,null,null,null,{"$f":"SUM('Redeck Deflections'!$K$72:$O$72)","v":0},{"$f":"IF('Redeck Deflections'!$P$72<0,MROUND(ABS('Redeck Deflections'!$P$72),0.125),MROUND('Redeck Deflections'!$P$72,0.125)*-1)","v":0},6.6,null,6.6,{"$f":"'Redeck Deflections'!$I$6*0.6","v":0},{"$f":"Reference!$C$409+Reference!$D$403","v":340},null,null,null,null,null,{"$f":"SUM('Redeck Deflections'!$W$72:$AA$72)","v":0},{"$f":"IF('Redeck Deflections'!$AB$72<0,MROUND(ABS('Redeck Deflections'!$AB$72),0.125),MROUND('Redeck Deflections'!$AB$72,0.125)*-1)","v":0},6.6]
[null,6.7,{"$f":"'Redeck Deflections'!$I$6*0.7","v":0},{"$f":"Reference!$C$410+Reference!$D$403","v":340},null,null,null,null,null,{"$f":"SUM('Redeck Deflections'!$K$73:$O$73)","v":0},{"$f":"IF('Redeck Deflections'!$P$73<0,MROUND(ABS('Redeck Deflections'!$P$73),0.125),MROUND('Redeck Deflections'!$P$73,0.125)*-1)","v":0},6.7,null,6.7,{"$f":"'Redeck Deflections'!$I$6*0.7","v":0},{"$f":"Reference!$C$410+Reference!$D$403","v":340},null,null,null,null,null,{"$f":"SUM('Redeck Deflections'!$W$73:$AA$73)","v":0},{"$f":"IF('Redeck Deflections'!$AB$73<0,MROUND(ABS('Redeck Deflections'!$AB$73),0.125),MROUND('Redeck Deflections'!$AB$73,0.125)*-1)","v":0},6.7]
[null,6.8,{"$f":"'Redeck Deflections'!$I$6*0.8","v":0},{"$f":"Reference!$C$411+Reference!$D$403","v":340},null,null,null,null,null,{"$f":"SUM('Redeck Deflections'!$K$74:$O$74)","v":0},{"$f":"IF('Redeck Deflections'!$P$74<0,MROUND(ABS('Redeck Deflections'!$P$74),0.125),MROUND('Redeck Deflections'!$P$74,0.125)*-1)","v":0},6.8,null,6.8,{"$f":"'Redeck Deflections'!$I$6*0.8","v":0},{"$f":"Reference!$C$411+Reference!$D$403","v":340},null,null,null,null,null,{"$f":"SUM('Redeck Deflections'!$W$74:$AA$74)","v":0},{"$f":"IF('Redeck Deflections'!$AB$74<0,MROUND(ABS('Redeck Deflections'!$AB$74),0.125),MROUND('Redeck Deflections'!$AB$74,0.125)*-1)","v":0},6.8]
[null,6.9,{"$f":"'Redeck Deflections'!$I$6*0.9","v":0},{"$f":"Reference!$C$412+Reference!$D$403","v":340},null,null,null,null,null,{"$f":"SUM('Redeck Deflections'!$K$75:$O$75)","v":0},{"$f":"IF('Redeck Deflections'!$P$75<0,MROUND(ABS('Redeck Deflections'!$P$75),0.125),MROUND('Redeck Deflections'!$P$75,0.125)*-1)","v":0},6.9,null,6.9,{"$f":"'Redeck Deflections'!$I$6*0.9","v":0},{"$f":"Reference!$C$412+Reference!$D$403","v":340},null,null,null,null,null,{"$f":"SUM('Redeck Deflections'!$W$75:$AA$75)","v":0},{"$f":"IF('Redeck Deflections'!$AB$75<0,MROUND(ABS('Redeck Deflections'!$AB$75),0.125),MROUND('Redeck Deflections'!$AB$75,0.125)*-1)","v":0},6.9]
[null,7,{"$f":"'Redeck Deflections'!$I$6*1","v":0},{"$f":"Reference!$C$413+Reference!$D$403","v":340},null,null,null,null,null,{"$f":"SUM('Redeck Deflections'!$K$76:$O$76)","v":0},{"$f":"IF('Redeck Deflections'!$P$76<0,MROUND(ABS('Redeck Deflections'!$P$76),0.125),MROUND('Redeck Deflections'!$P$76,0.125)*-1)","v":0},7,null,7,{"$f":"'Redeck Deflections'!$I$6*1","v":0},{"$f":"Reference!$C$413+Reference!$D$403","v":340},null,null,null,null,null,{"$f":"SUM('Redeck Deflections'!$W$76:$AA$76)","v":0},{"$f":"IF('Redeck Deflections'!$AB$76<0,MROUND(ABS('Redeck Deflections'!$AB$76),0.125),MROUND('Redeck Deflections'!$AB$76,0.125)*-1)","v":0},7]
[]
[]
["7 Span","EXTERIOR GIRDERS",null,null,null,null,null,null,null,null,null,null,null,"INTERIOR GIRDERS"]
[null,null,null,null,"Girder","Intermediate diaphragms","Concrete",null,"Barrier","Total DL Deflection",null,null,null,null,null,null,"Girder","Intermediate diaphragms","Concrete",null,"Barrier","Total DL Deflection"]
[null,"Tenth point"," Location"," Distance"," YDL-s1- Load Case 1 - Self Load (Stage1:D,DC)"," YDL-s1- Load Case 2 - Add'l Self Load (In Force/Length) (Stage 1:D,DC)"," YDL-s1- Load Case 3 - Haunch Load (Stage1:D,DC)"," YDL-s1- Load Case 4 - Concrete Deck Load (Stage1:D,DC)"," YDL-s2- Load Case 1 - Parapet Loads(DL2 - Barriers & Curbs: Stage 2:D,D~","Decimal Inches","Nearest 1/8\"","Tenth point",null,"Tenth point"," Location"," Distance"," YDL-s1- Load Case 1 - Self Load (Stage1:D,DC)"," YDL-s1- Load Case 2 - Add'l Self Load (In Force/Length) (Stage 1:D,DC)"," YDL-s1- Load Case 3 - Haunch Load (Stage1:D,DC)"," YDL-s1- Load Case 4 - Concrete Deck Load (Stage1:D,DC)"," YDL-s2- Load Case 1 - Parapet Loads(DL2 - Barriers & Curbs: Stage 2:D,D~","Decimal Inches","Nearest 1/8\"","Tenth point"]
[null,1,0,0,"Copy and Paste Values from Virtis",null,null,null,null,{"$f":"SUM('Redeck Deflections'!$K$11:$O$11)","v":0},{"$f":"IF('Redeck Deflections'!$P$11<0,MROUND(ABS('Redeck Deflections'!$P$11),0.125),MROUND('Redeck Deflections'!$P$11,0.125)*-1)","v":0},1,null,1,0,0,"Copy and Paste Values from Virtis",null,null,null,null,{"$f":"SUM('Redeck Deflections'!$W$11:$AA$11)","v":0},{"$f":"IF('Redeck Deflections'!$AB$11<0,MROUND(ABS('Redeck Deflections'!$AB$11),0.125),MROUND('Redeck Deflections'!$AB$11,0.125)*-1)","v":0},1]
[null,1.1000000000000001,{"$f":"'Redeck Deflections'!$D$6*0.1","v":11},{"$f":"Reference!$C$349","v":11},null,null,null,null,null,{"$f":"SUM('Redeck Deflections'!$K$12:$O$12)","v":-0.17810000000000001},{"$f":"IF('Redeck Deflections'!$P$12<0,MROUND(ABS('Redeck Deflections'!$P$12),0.125),MROUND('Redeck Deflections'!$P$12,0.125)*-1)","v":0.125},1.1000000000000001,null,1.1000000000000001,{"$f":"'Redeck Deflections'!$D$6*0.1","v":11},{"$f":"Reference!$C$349","v":11},null,null,null,null,null,{"$f":"SUM('Redeck Deflections'!$W$12:$AA$12)","v":-0.17810000000000001},{"$f":"IF('Redeck Deflections'!$AB$12<0,MROUND(ABS('Redeck Deflections'!$AB$12),0.125),MROUND('Redeck Deflections'!$AB$12,0.125)*-1)","v":0.125},1.1000000000000001]
[null,1.2,{"$f":"'Redeck Deflections'!$D$6*0.2","v":22},{"$f":"Reference!$D$349+Reference!$D$349","v":22},null,null,null,null,null,{"$f":"SUM('Redeck Deflections'!$K$13:$O$13)","v":-0.3256},{"$f":"IF('Redeck Deflections'!$P$13<0,MROUND(ABS('Redeck Deflections'!$P$13),0.125),MROUND('Redeck Deflections'!$P$13,0.125)*-1)","v":0.375},1.2,null,1.2,{"$f":"'Redeck Deflections'!$D$6*0.2","v":22},{"$f":"Reference!$D$349+Reference!$D$349","v":22},null,null,null,null,null,{"$f":"SUM('Redeck Deflections'!$W$13:$AA$13)","v":-0.3256},{"$f":"IF('Redeck Deflections'!$AB$13<0,MROUND(ABS('Redeck Deflections'!$AB$13),0.125),MROUND('Redeck Deflections'!$AB$13,0.125)*-1)","v":0.375},1.2]
[null,1.3,{"$f":"'Redeck Deflections'!$D$6*0.3","v":33},{"$f":"Reference!$D$350+Reference!$D$349","v":33},null,null,null,null,null,{"$f":"SUM('Redeck Deflections'!$K$14:$O$14)","v":-0.42109999999999997},{"$f":"IF('Redeck Deflections'!$P$14<0,MROUND(ABS('Redeck Deflections'!$P$14),0.125),MROUND('Redeck Deflections'!$P$14,0.125)*-1)","v":0.375},1.3,null,1.3,{"$f":"'Redeck Deflections'!$D$6*0.3","v":33},{"$f":"Reference!$D$350+Reference!$D$349","v":33},null,null,null,null,null,{"$f":"SUM('Redeck Deflections'!$W$14:$AA$14)","v":-0.42109999999999997},{"$f":"IF('Redeck Deflections'!$AB$14<0,MROUND(ABS('Redeck Deflections'!$AB$14),0.125),MROUND('Redeck Deflections'!$AB$14,0.125)*-1)","v":0.375},1.3]
[null,1.4,{"$f":"'Redeck Deflections'!$D$6*0.4","v":44},{"$f":"Reference!$D$351+Reference!$D$349","v":44},null,null,null,null,null,{"$f":"SUM('Redeck Deflections'!$K$15:$O$15)","v":-0.45369999999999999},{"$f":"IF('Redeck Deflections'!$P$15<0,MROUND(ABS('Redeck Deflections'!$P$15),0.125),MROUND('Redeck Deflections'!$P$15,0.125)*-1)","v":0.5},1.4,null,1.4,{"$f":"'Redeck Deflections'!$D$6*0.4","v":44},{"$f":"Reference!$D$351+Reference!$D$349","v":44},null,null,null,null,null,{"$f":"SUM('Redeck Deflections'!$W$15:$AA$15)","v":-0.45369999999999999},{"$f":"IF('Redeck Deflections'!$AB$15<0,MROUND(ABS('Redeck Deflections'!$AB$15),0.125),MROUND('Redeck Deflections'!$AB$15,0.125)*-1)","v":0.5},1.4]
[null,1.5,{"$f":"'Redeck Deflections'!$D$6*0.5","v":55},{"$f":"Reference!$D$352+Reference!$D$349","v":55},null,null,null,null,null,{"$f":"SUM('Redeck Deflections'!$K$16:$O$16)","v":-0.4234},{"$f":"IF('Redeck Deflections'!$P$16<0,MROUND(ABS('Redeck Deflections'!$P$16),0.125),MROUND('Redeck Deflections'!$P$16,0.125)*-1)","v":0.375},1.5,null,1.5,{"$f":"'Redeck Deflections'!$D$6*0.5","v":55},{"$f":"Reference!$D$352+Reference!$D$349","v":55},null,null,null,null,null,{"$f":"SUM('Redeck Deflections'!$W$16:$AA$16)","v":-0.4234},{"$f":"IF('Redeck Deflections'!$AB$16<0,MROUND(ABS('Redeck Deflections'!$AB$16),0.125),MROUND('Redeck Deflections'!$AB$16,0.125)*-1)","v":0.375},1.5]
[null,1.6,{"$f":"'Redeck Deflections'!$D$6*0.6","v":66},{"$f":"Reference!$D$353+Reference!$D$349","v":66},null,null,null,null,null,{"$f":"SUM('Redeck Deflections'!$K$17:$O$17)","v":-0.34010000000000001},{"$f":"IF('Redeck Deflections'!$P$17<0,MROUND(ABS('Redeck Deflections'!$P$17),0.125),MROUND('Redeck Deflections'!$P$17,0.125)*-1)","v":0.375},1.6,null,1.6,{"$f":"'Redeck Deflections'!$D$6*0.6","v":66},{"$f":"Reference!$D$353+Reference!$D$349","v":66},null,null,null,null,null,{"$f":"SUM('Redeck Deflections'!$W$17:$AA$17)","v":-0.34010000000000001},{"$f":"IF('Redeck Deflections'!$AB$17<0,MROUND(ABS('Redeck Deflections'!$AB$17),0.125),MROUND('Redeck Deflections'!$AB$17,0.125)*-1)","v":0.375},1.6]
[null,1.7,{"$f":"'Redeck Deflections'!$D$6*0.7","v":77},{"$f":"Reference!$D$354+Reference!$D$349","v":77},null,null,null,null,null,{"$f":"SUM('Redeck Deflections'!$K$18:$O$18)","v":-0.22439999999999999},{"$f":"IF('Redeck Deflections'!$P$18<0,MROUND(ABS('Redeck Deflections'!$P$18),0.125),MROUND('Redeck Deflections'!$P$18,0.125)*-1)","v":0.25},1.7,null,1.7,{"$f":"'Redeck Deflections'!$D$6*0.7","v":77},{"$f":"Reference!$D$354+Reference!$D$349","v":77},null,null,null,null,null,{"$f":"SUM('Redeck Deflections'!$W$18:$AA$18)","v":-0.22439999999999999},{"$f":"IF('Redeck Deflections'!$AB$18<0,MROUND(ABS('Redeck Deflections'!$AB$18),0.125),MROUND('Redeck Deflections'!$AB$18,0.125)*-1)","v":0.25},1.7]
[null,1.8,{"$f":"'Redeck Deflections'!$D$6*0.8","v":88},{"$f":"Reference!$D$355+Reference!$D$349","v":88},null,null,null,null,null,{"$f":"SUM('Redeck Deflections'!$K$19:$O$19)","v":-0.1076},{"$f":"IF('Redeck Deflections'!$P$19<0,MROUND(ABS('Redeck Deflections'!$P$19),0.125),MROUND('Redeck Deflections'!$P$19,0.125)*-1)","v":0.125},1.8,null,1.8,{"$f":"'Redeck Deflections'!$D$6*0.8","v":88},{"$f":"Reference!$D$355+Reference!$D$349","v":88},null,null,null,null,null,{"$f":"SUM('Redeck Deflections'!$W$19:$AA$19)","v":-0.1076},{"$f":"IF('Redeck Deflections'!$AB$19<0,MROUND(ABS('Redeck Deflections'!$AB$19),0.125),MROUND('Redeck Deflections'!$AB$19,0.125)*-1)","v":0.125},1.8]
[null,1.9,{"$f":"'Redeck Deflections'!$D$6*0.9","v":99},{"$f":"Reference!$D$356+Reference!$D$349","v":99},null,null,null,null,null,{"$f":"SUM('Redeck Deflections'!$K$20:$O$20)","v":-2.5699999999999997E-2},{"$f":"IF('Redeck Deflections'!$P$20<0,MROUND(ABS('Redeck Deflections'!$P$20),0.125),MROUND('Redeck Deflections'!$P$20,0.125)*-1)","v":0},1.9,null,1.9,{"$f":"'Redeck Deflections'!$D$6*0.9","v":99},{"$f":"Reference!$D$356+Reference!$D$349","v":99},null,null,null,null,null,{"$f":"SUM('Redeck Deflections'!$W$20:$AA$20)","v":-2.5699999999999997E-2},{"$f":"IF('Redeck Deflections'!$AB$20<0,MROUND(ABS('Redeck Deflections'!$AB$20),0.125),MROUND('Redeck Deflections'!$AB$20,0.125)*-1)","v":0},1.9]
[null,2,{"$f":"'Redeck Deflections'!$D$6*1","v":110},{"$f":"Reference!$D$357+Reference!$D$349","v":110},null,null,null,null,null,{"$f":"SUM('Redeck Deflections'!$K$21:$O$21)","v":0},{"$f":"IF('Redeck Deflections'!$P$21<0,MROUND(ABS('Redeck Deflections'!$P$21),0.125),MROUND('Redeck Deflections'!$P$21,0.125)*-1)","v":0},2,null,2,{"$f":"'Redeck Deflections'!$D$6*1","v":110},{"$f":"Reference!$D$357+Reference!$D$349","v":110},null,null,null,null,null,{"$f":"SUM('Redeck Deflections'!$W$21:$AA$21)","v":0},{"$f":"IF('Redeck Deflections'!$AB$21<0,MROUND(ABS('Redeck Deflections'!$AB$21),0.125),MROUND('Redeck Deflections'!$AB$21,0.125)*-1)","v":0},2]
[null,2,0,{"$f":"Reference!$D$358","v":110},null,null,null,null,null,{"$f":"SUM('Redeck Deflections'!$K$22:$O$22)","v":0},{"$f":"IF('Redeck Deflections'!$P$22<0,MROUND(ABS('Redeck Deflections'!$P$22),0.125),MROUND('Redeck Deflections'!$P$22,0.125)*-1)","v":0},2,null,2,0,{"$f":"Reference!$D$358","v":110},null,null,null,null,null,{"$f":"SUM('Redeck Deflections'!$W$22:$AA$22)","v":0},{"$f":"IF('Redeck Deflections'!$AB$22<0,MROUND(ABS('Redeck Deflections'!$AB$22),0.125),MROUND('Redeck Deflections'!$AB$22,0.125)*-1)","v":0},2]
[null,2.1,{"$f":"'Redeck Deflections'!$E$6*0.1","v":12},{"$f":"Reference!$D$359+Reference!$C$360","v":122},null,null,null,null,null,{"$f":"SUM('Redeck Deflections'!$K$23:$O$23)","v":-8.0600000000000005E-2},{"$f":"IF('Redeck Deflections'!$P$23<0,MROUND(ABS('Redeck Deflections'!$P$23),0.125),MROUND('Redeck Deflections'!$P$23,0.125)*-1)","v":0.125},2.1,null,2.1,{"$f":"'Redeck Deflections'!$E$6*0.1","v":12},{"$f":"Reference!$D$359+Reference!$C$360","v":122},null,null,null,null,null,{"$f":"SUM('Redeck Deflections'!$W$23:$AA$23)","v":-8.0600000000000005E-2},{"$f":"IF('Redeck Deflections'!$AB$23<0,MROUND(ABS('Redeck Deflections'!$AB$23),0.125),MROUND('Redeck Deflections'!$AB$23,0.125)*-1)","v":0.125},2.1]
[null,2.2000000000000002,{"$f":"'Redeck Deflections'!$E$6*0.2","v":24},{"$f":"Reference!$C$361+Reference!$D$59","v":134},null,null,null,null,null,{"$f":"SUM('Redeck Deflections'!$K$24:$O$24)","v":-0.24479999999999999},{"$f":"IF('Redeck Deflections'!$P$24<0,MROUND(ABS('Redeck Deflections'!$P$24),0.125),MROUND('Redeck Deflections'!$P$24,0.125)*-1)","v":0.25},2.2000000000000002,null,2.2000000000000002,{"$f":"'Redeck Deflections'!$E$6*0.2","v":24},{"$f":"Reference!$C$361+Reference!$D$59","v":134},null,null,null,null,null,{"$f":"SUM('Redeck Deflections'!$W$24:$AA$24)","v":-0.24479999999999999},{"$f":"IF('Redeck Deflections'!$AB$24<0,MROUND(ABS('Redeck Deflections'!$AB$24),0.125),MROUND('Redeck Deflections'!$AB$24,0.125)*-1)","v":0.25},2.2000000000000002]
[null,2.2999999999999998,{"$f":"'Redeck Deflections'!$E$6*0.3","v":36},{"$f":"Reference!$C$362+Reference!$D$359","v":146},null,null,null,null,null,{"$f":"SUM('Redeck Deflections'!$K$25:$O$25)","v":-0.43390000000000001},{"$f":"IF('Redeck Deflections'!$P$25<0,MROUND(ABS('Redeck Deflections'!$P$25),0.125),MROUND('Redeck Deflections'!$P$25,0.125)*-1)","v":0.375},2.2999999999999998,null,2.2999999999999998,{"$f":"'Redeck Deflections'!$E$6*0.3","v":36},{"$f":"Reference!$C$362+Reference!$D$359","v":146},null,null,null,null,null,{"$f":"SUM('Redeck Deflections'!$W$25:$AA$25)","v":-0.43390000000000001},{"$f":"IF('Redeck Deflections'!$AB$25<0,MROUND(ABS('Redeck Deflections'!$AB$25),0.125),MROUND('Redeck Deflections'!$AB$25,0.125)*-1)","v":0.375},2.2999999999999998]
[null,2.4,{"$f":"'Redeck Deflections'!$E$6*0.4","v":48},{"$f":"Reference!$C$363+Reference!$D$359","v":158},null,null,null,null,null,{"$f":"SUM('Redeck Deflections'!$K$26:$O$26)","v":-0.57669999999999999},{"$f":"IF('Redeck Deflections'!$P$26<0,MROUND(ABS('Redeck Deflections'!$P$26),0.125),MROUND('Redeck Deflections'!$P$26,0.125)*-1)","v":0.625},2.4,null,2.4,{"$f":"'Redeck Deflections'!$E$6*0.4","v":48},{"$f":"Reference!$C$363+Reference!$D$359","v":158},null,null,null,null,null,{"$f":"SUM('Redeck Deflections'!$W$26:$AA$26)","v":-0.57669999999999999},{"$f":"IF('Redeck Deflections'!$AB$26<0,MROUND(ABS('Redeck Deflections'!$AB$26),0.125),MROUND('Redeck Deflections'!$AB$26,0.125)*-1)","v":0.625},2.4]
[null,2.5,{"$f":"'Redeck Deflections'!$E$6*0.5","v":60},{"$f":"Reference!$C$364+Reference!$D$359","v":170},null,null,null,null,null,{"$f":"SUM('Redeck Deflections'!$K$27:$O$27)","v":-0.62909999999999999},{"$f":"IF('Redeck Deflections'!$P$27<0,MROUND(ABS('Redeck Deflections'!$P$27),0.125),MROUND('Redeck Deflections'!$P$27,0.125)*-1)","v":0.625},2.5,null,2.5,{"$f":"'Redeck Deflections'!$E$6*0.5","v":60},{"$f":"Reference!$C$364+Reference!$D$359","v":170},null,null,null,null,null,{"$f":"SUM('Redeck Deflections'!$W$27:$AA$27)","v":-0.62909999999999999},{"$f":"IF('Redeck Deflections'!$AB$27<0,MROUND(ABS('Redeck Deflections'!$AB$27),0.125),MROUND('Redeck Deflections'!$AB$27,0.125)*-1)","v":0.625},2.5]
[null,2.6,{"$f":"'Redeck Deflections'!$E$6*0.6","v":72},{"$f":"Reference!$C$365+Reference!$D$359","v":182},null,null,null,null,null,{"$f":"SUM('Redeck Deflections'!$K$28:$O$28)","v":-0.57669999999999999},{"$f":"IF('Redeck Deflections'!$P$28<0,MROUND(ABS('Redeck Deflections'!$P$28),0.125),MROUND('Redeck Deflections'!$P$28,0.125)*-1)","v":0.625},2.6,null,2.6,{"$f":"'Redeck Deflections'!$E$6*0.6","v":72},{"$f":"Reference!$C$365+Reference!$D$359","v":182},null,null,null,null,null,{"$f":"SUM('Redeck Deflections'!$W$28:$AA$28)","v":-0.57669999999999999},{"$f":"IF('Redeck Deflections'!$AB$28<0,MROUND(ABS('Redeck Deflections'!$AB$28),0.125),MROUND('Redeck Deflections'!$AB$28,0.125)*-1)","v":0.625},2.6]
[null,2.7,{"$f":"'Redeck Deflections'!$E$6*0.7","v":84},{"$f":"Reference!$C$366+Reference!$D$359","v":194},null,null,null,null,null,{"$f":"SUM('Redeck Deflections'!$K$29:$O$29)","v":-0.43390000000000001},{"$f":"IF('Redeck Deflections'!$P$29<0,MROUND(ABS('Redeck Deflections'!$P$29),0.125),MROUND('Redeck Deflections'!$P$29,0.125)*-1)","v":0.375},2.7,null,2.7,{"$f":"'Redeck Deflections'!$E$6*0.7","v":84},{"$f":"Reference!$C$366+Reference!$D$359","v":194},null,null,null,null,null,{"$f":"SUM('Redeck Deflections'!$W$29:$AA$29)","v":-0.43390000000000001},{"$f":"IF('Redeck Deflections'!$AB$29<0,MROUND(ABS('Redeck Deflections'!$AB$29),0.125),MROUND('Redeck Deflections'!$AB$29,0.125)*-1)","v":0.375},2.7]
[null,2.8,{"$f":"'Redeck Deflections'!$E$6*0.8","v":96},{"$f":"Reference!$C$367+Reference!$D$359","v":206},null,null,null,null,null,{"$f":"SUM('Redeck Deflections'!$K$30:$O$30)","v":-0.24479999999999999},{"$f":"IF('Redeck Deflections'!$P$30<0,MROUND(ABS('Redeck Deflections'!$P$30),0.125),MROUND('Redeck Deflections'!$P$30,0.125)*-1)","v":0.25},2.8,null,2.8,{"$f":"'Redeck Deflections'!$E$6*0.8","v":96},{"$f":"Reference!$C$367+Reference!$D$359","v":206},null,null,null,null,null,{"$f":"SUM('Redeck Deflections'!$W$30:$AA$30)","v":-0.24479999999999999},{"$f":"IF('Redeck Deflections'!$AB$30<0,MROUND(ABS('Redeck Deflections'!$AB$30),0.125),MROUND('Redeck Deflections'!$AB$30,0.125)*-1)","v":0.25},2.8]
[null,2.9,{"$f":"'Redeck Deflections'!$E$6*0.9","v":108},{"$f":"Reference!$C$368+Reference!$D$359","v":218},null,null,null,null,null,{"$f":"SUM('Redeck Deflections'!$K$31:$O$31)","v":-8.0600000000000005E-2},{"$f":"IF('Redeck Deflections'!$P$31<0,MROUND(ABS('Redeck Deflections'!$P$31),0.125),MROUND('Redeck Deflections'!$P$31,0.125)*-1)","v":0.125},2.9,null,2.9,{"$f":"'Redeck Deflections'!$E$6*0.9","v":108},{"$f":"Reference!$C$368+Reference!$D$359","v":218},null,null,null,null,null,{"$f":"SUM('Redeck Deflections'!$W$31:$AA$31)","v":-8.0600000000000005E-2},{"$f":"IF('Redeck Deflections'!$AB$31<0,MROUND(ABS('Redeck Deflections'!$AB$31),0.125),MROUND('Redeck Deflections'!$AB$31,0.125)*-1)","v":0.125},2.9]
[null,3,{"$f":"'Redeck Deflections'!$E$6*1","v":120},{"$f":"Reference!$C$369+Reference!$D$359","v":230},null,null,null,null,null,{"$f":"SUM('Redeck Deflections'!$K$32:$O$32)","v":0},{"$f":"IF('Redeck Deflections'!$P$32<0,MROUND(ABS('Redeck Deflections'!$P$32),0.125),MROUND('Redeck Deflections'!$P$32,0.125)*-1)","v":0},3,null,3,{"$f":"'Redeck Deflections'!$E$6*1","v":120},{"$f":"Reference!$C$369+Reference!$D$359","v":230},null,null,null,null,null,{"$f":"SUM('Redeck Deflections'!$W$32:$AA$32)","v":0},{"$f":"IF('Redeck Deflections'!$AB$32<0,MROUND(ABS('Redeck Deflections'!$AB$32),0.125),MROUND('Redeck Deflections'!$AB$32,0.125)*-1)","v":0},3]
[null,3,0,{"$f":"Reference!$D$369","v":230},null,null,null,null,null,{"$f":"SUM('Redeck Deflections'!$K$33:$O$33)","v":0},{"$f":"IF('Redeck Deflections'!$P$33<0,MROUND(ABS('Redeck Deflections'!$P$33),0.125),MROUND('Redeck Deflections'!$P$33,0.125)*-1)","v":0},3,null,3,0,{"$f":"Reference!$D$369","v":230},null,null,null,null,null,{"$f":"SUM('Redeck Deflections'!$W$33:$AA$33)","v":0},{"$f":"IF('Redeck Deflections'!$AB$33<0,MROUND(ABS('Redeck Deflections'!$AB$33),0.125),MROUND('Redeck Deflections'!$AB$33,0.125)*-1)","v":0},3]
[null,3.1,{"$f":"'Redeck Deflections'!$F$6*0.1","v":11},{"$f":"Reference!$D$370+Reference!$C$371","v":241},null,null,null,null,null,{"$f":"SUM('Redeck Deflections'!$K$34:$O$34)","v":-2.5699999999999997E-2},{"$f":"IF('Redeck Deflections'!$P$34<0,MROUND(ABS('Redeck Deflections'!$P$34),0.125),MROUND('Redeck Deflections'!$P$34,0.125)*-1)","v":0},3.1,null,3.1,{"$f":"'Redeck Deflections'!$F$6*0.1","v":11},{"$f":"Reference!$D$370+Reference!$C$371","v":241},null,null,null,null,null,{"$f":"SUM('Redeck Deflections'!$W$34:$AA$34)","v":-2.5699999999999997E-2},{"$f":"IF('Redeck Deflections'!$AB$34<0,MROUND(ABS('Redeck Deflections'!$AB$34),0.125),MROUND('Redeck Deflections'!$AB$34,0.125)*-1)","v":0},3.1]
[null,3.2,{"$f":"'Redeck Deflections'!$F$6*0.2","v":22},{"$f":"Reference!$C$372+Reference!$D$370","v":252},null,null,null,null,null,{"$f":"SUM('Redeck Deflections'!$K$35:$O$35)","v":-0.1076},{"$f":"IF('Redeck Deflections'!$P$35<0,MROUND(ABS('Redeck Deflections'!$P$35),0.125),MROUND('Redeck Deflections'!$P$35,0.125)*-1)","v":0.125},3.2,null,3.2,{"$f":"'Redeck Deflections'!$F$6*0.2","v":22},{"$f":"Reference!$C$372+Reference!$D$370","v":252},null,null,null,null,null,{"$f":"SUM('Redeck Deflections'!$W$35:$AA$35)","v":-0.1076},{"$f":"IF('Redeck Deflections'!$AB$35<0,MROUND(ABS('Redeck Deflections'!$AB$35),0.125),MROUND('Redeck Deflections'!$AB$35,0.125)*-1)","v":0.125},3.2]
[null,3.3,{"$f":"'Redeck Deflections'!$F$6*0.3","v":33},{"$f":"Reference!$C$373+Reference!$D$370","v":263},null,null,null,null,null,{"$f":"SUM('Redeck Deflections'!$K$36:$O$36)","v":-0.22439999999999999},{"$f":"IF('Redeck Deflections'!$P$36<0,MROUND(ABS('Redeck Deflections'!$P$36),0.125),MROUND('Redeck Deflections'!$P$36,0.125)*-1)","v":0.25},3.3,null,3.3,{"$f":"'Redeck Deflections'!$F$6*0.3","v":33},{"$f":"Reference!$C$373+Reference!$D$370","v":263},null,null,null,null,null,{"$f":"SUM('Redeck Deflections'!$W$36:$AA$36)","v":-0.22439999999999999},{"$f":"IF('Redeck Deflections'!$AB$36<0,MROUND(ABS('Redeck Deflections'!$AB$36),0.125),MROUND('Redeck Deflections'!$AB$36,0.125)*-1)","v":0.25},3.3]
[null,3.4,{"$f":"'Redeck Deflections'!$F$6*0.4","v":44},{"$f":"Reference!$C$374+Reference!$D$370","v":274},null,null,null,null,null,{"$f":"SUM('Redeck Deflections'!$K$37:$O$37)","v":-0.34010000000000001},{"$f":"IF('Redeck Deflections'!$P$37<0,MROUND(ABS('Redeck Deflections'!$P$37),0.125),MROUND('Redeck Deflections'!$P$37,0.125)*-1)","v":0.375},3.4,null,3.4,{"$f":"'Redeck Deflections'!$F$6*0.4","v":44},{"$f":"Reference!$C$374+Reference!$D$370","v":274},null,null,null,null,null,{"$f":"SUM('Redeck Deflections'!$W$37:$AA$37)","v":-0.34010000000000001},{"$f":"IF('Redeck Deflections'!$AB$37<0,MROUND(ABS('Redeck Deflections'!$AB$37),0.125),MROUND('Redeck Deflections'!$AB$37,0.125)*-1)","v":0.375},3.4]
[null,3.5,{"$f":"'Redeck Deflections'!$F$6*0.5","v":55},{"$f":"Reference!$C$375+Reference!$D$370","v":285},null,null,null,null,null,{"$f":"SUM('Redeck Deflections'!$K$38:$O$38)","v":-0.4234},{"$f":"IF('Redeck Deflections'!$P$38<0,MROUND(ABS('Redeck Deflections'!$P$38),0.125),MROUND('Redeck Deflections'!$P$38,0.125)*-1)","v":0.375},3.5,null,3.5,{"$f":"'Redeck Deflections'!$F$6*0.5","v":55},{"$f":"Reference!$C$375+Reference!$D$370","v":285},null,null,null,null,null,{"$f":"SUM('Redeck Deflections'!$W$38:$AA$38)","v":-0.4234},{"$f":"IF('Redeck Deflections'!$AB$38<0,MROUND(ABS('Redeck Deflections'!$AB$38),0.125),MROUND('Redeck Deflections'!$AB$38,0.125)*-1)","v":0.375},3.5]
[null,3.6,{"$f":"'Redeck Deflections'!$F$6*0.6","v":66},{"$f":"Reference!$C$376+Reference!$D$370","v":296},null,null,null,null,null,{"$f":"SUM('Redeck Deflections'!$K$39:$O$39)","v":-0.45369999999999999},{"$f":"IF('Redeck Deflections'!$P$39<0,MROUND(ABS('Redeck Deflections'!$P$39),0.125),MROUND('Redeck Deflections'!$P$39,0.125)*-1)","v":0.5},3.6,null,3.6,{"$f":"'Redeck Deflections'!$F$6*0.6","v":66},{"$f":"Reference!$C$376+Reference!$D$370","v":296},null,null,null,null,null,{"$f":"SUM('Redeck Deflections'!$W$39:$AA$39)","v":-0.45369999999999999},{"$f":"IF('Redeck Deflections'!$AB$39<0,MROUND(ABS('Redeck Deflections'!$AB$39),0.125),MROUND('Redeck Deflections'!$AB$39,0.125)*-1)","v":0.5},3.6]
[null,3.7,{"$f":"'Redeck Deflections'!$F$6*0.7","v":77},{"$f":"Reference!$C$377+Reference!$D$370","v":307},null,null,null,null,null,{"$f":"SUM('Redeck Deflections'!$K$40:$O$40)","v":-0.42109999999999997},{"$f":"IF('Redeck Deflections'!$P$40<0,MROUND(ABS('Redeck Deflections'!$P$40),0.125),MROUND('Redeck Deflections'!$P$40,0.125)*-1)","v":0.375},3.7,null,3.7,{"$f":"'Redeck Deflections'!$F$6*0.7","v":77},{"$f":"Reference!$C$377+Reference!$D$370","v":307},null,null,null,null,null,{"$f":"SUM('Redeck Deflections'!$W$40:$AA$40)","v":-0.42109999999999997},{"$f":"IF('Redeck Deflections'!$AB$40<0,MROUND(ABS('Redeck Deflections'!$AB$40),0.125),MROUND('Redeck Deflections'!$AB$40,0.125)*-1)","v":0.375},3.7]
[null,3.8,{"$f":"'Redeck Deflections'!$F$6*0.8","v":88},{"$f":"Reference!$C$378+Reference!$D$370","v":318},null,null,null,null,null,{"$f":"SUM('Redeck Deflections'!$K$41:$O$41)","v":-0.3256},{"$f":"IF('Redeck Deflections'!$P$41<0,MROUND(ABS('Redeck Deflections'!$P$41),0.125),MROUND('Redeck Deflections'!$P$41,0.125)*-1)","v":0.375},3.8,null,3.8,{"$f":"'Redeck Deflections'!$F$6*0.8","v":88},{"$f":"Reference!$C$378+Reference!$D$370","v":318},null,null,null,null,null,{"$f":"SUM('Redeck Deflections'!$W$41:$AA$41)","v":-0.3256},{"$f":"IF('Redeck Deflections'!$AB$41<0,MROUND(ABS('Redeck Deflections'!$AB$41),0.125),MROUND('Redeck Deflections'!$AB$41,0.125)*-1)","v":0.375},3.8]
[null,3.9,{"$f":"'Redeck Deflections'!$F$6*0.9","v":99},{"$f":"Reference!$C$379+Reference!$D$370","v":329},null,null,null,null,null,{"$f":"SUM('Redeck Deflections'!$K$42:$O$42)","v":-0.17810000000000001},{"$f":"IF('Redeck Deflections'!$P$42<0,MROUND(ABS('Redeck Deflections'!$P$42),0.125),MROUND('Redeck Deflections'!$P$42,0.125)*-1)","v":0.125},3.9,null,3.9,{"$f":"'Redeck Deflections'!$F$6*0.9","v":99},{"$f":"Reference!$C$379+Reference!$D$370","v":329},null,null,null,null,null,{"$f":"SUM('Redeck Deflections'!$W$42:$AA$42)","v":-0.17810000000000001},{"$f":"IF('Redeck Deflections'!$AB$42<0,MROUND(ABS('Redeck Deflections'!$AB$42),0.125),MROUND('Redeck Deflections'!$AB$42,0.125)*-1)","v":0.125},3.9]
[null,4,{"$f":"'Redeck Deflections'!$F$6*1","v":110},{"$f":"Reference!$C$380+Reference!$D$370","v":340},null,null,null,null,null,{"$f":"SUM('Redeck Deflections'!$K$43:$O$43)","v":0},{"$f":"IF('Redeck Deflections'!$P$43<0,MROUND(ABS('Redeck Deflections'!$P$43),0.125),MROUND('Redeck Deflections'!$P$43,0.125)*-1)","v":0},4,null,4,{"$f":"'Redeck Deflections'!$F$6*1","v":110},{"$f":"Reference!$C$380+Reference!$D$370","v":340},null,null,null,null,null,{"$f":"SUM('Redeck Deflections'!$W$43:$AA$43)","v":0},{"$f":"IF('Redeck Deflections'!$AB$43<0,MROUND(ABS('Redeck Deflections'!$AB$43),0.125),MROUND('Redeck Deflections'!$AB$43,0.125)*-1)","v":0},4]
[null,4,0,{"$f":"Reference!$D$380","v":340},null,null,null,null,null,{"$f":"SUM('Redeck Deflections'!$K$44:$O$44)","v":0},{"$f":"IF('Redeck Deflections'!$P$44<0,MROUND(ABS('Redeck Deflections'!$P$44),0.125),MROUND('Redeck Deflections'!$P$44,0.125)*-1)","v":0},4,null,4,0,{"$f":"Reference!$D$380","v":340},null,null,null,null,null,{"$f":"SUM('Redeck Deflections'!$W$44:$AA$44)","v":0},{"$f":"IF('Redeck Deflections'!$AB$44<0,MROUND(ABS('Redeck Deflections'!$AB$44),0.125),MROUND('Redeck Deflections'!$AB$44,0.125)*-1)","v":0},4]
[null,4.0999999999999996,{"$f":"'Redeck Deflections'!$G$6*0.1","v":0},{"$f":"Reference!$D$381+Reference!$C$382","v":340},null,null,null,null,null,{"$f":"SUM('Redeck Deflections'!$K$45:$O$45)","v":0},{"$f":"IF('Redeck Deflections'!$P$45<0,MROUND(ABS('Redeck Deflections'!$P$45),0.125),MROUND('Redeck Deflections'!$P$45,0.125)*-1)","v":0},4.0999999999999996,null,4.0999999999999996,{"$f":"'Redeck Deflections'!$G$6*0.1","v":0},{"$f":"Reference!$D$381+Reference!$C$382","v":340},null,null,null,null,null,{"$f":"SUM('Redeck Deflections'!$W$45:$AA$45)","v":0},{"$f":"IF('Redeck Deflections'!$AB$45<0,MROUND(ABS('Redeck Deflections'!$AB$45),0.125),MROUND('Redeck Deflections'!$AB$45,0.125)*-1)","v":0},4.0999999999999996]
[null,4.2,{"$f":"'Redeck Deflections'!$G$6*0.2","v":0},{"$f":"Reference!$C$383+Reference!$D$381","v":340},null,null,null,null,null,{"$f":"SUM('Redeck Deflections'!$K$46:$O$46)","v":0},{"$f":"IF('Redeck Deflections'!$P$46<0,MROUND(ABS('Redeck Deflections'!$P$46),0.125),MROUND('Redeck Deflections'!$P$46,0.125)*-1)","v":0},4.2,null,4.2,{"$f":"'Redeck Deflections'!$G$6*0.2","v":0},{"$f":"Reference!$C$383+Reference!$D$381","v":340},null,null,null,null,null,{"$f":"SUM('Redeck Deflections'!$W$46:$AA$46)","v":0},{"$f":"IF('Redeck Deflections'!$AB$46<0,MROUND(ABS('Redeck Deflections'!$AB$46),0.125),MROUND('Redeck Deflections'!$AB$46,0.125)*-1)","v":0},4.2]
[null,4.3,{"$f":"'Redeck Deflections'!$G$6*0.3","v":0},{"$f":"Reference!$C$384+Reference!$D$381","v":340},null,null,null,null,null,{"$f":"SUM('Redeck Deflections'!$K$47:$O$47)","v":0},{"$f":"IF('Redeck Deflections'!$P$47<0,MROUND(ABS('Redeck Deflections'!$P$47),0.125),MROUND('Redeck Deflections'!$P$47,0.125)*-1)","v":0},4.3,null,4.3,{"$f":"'Redeck Deflections'!$G$6*0.3","v":0},{"$f":"Reference!$C$384+Reference!$D$381","v":340},null,null,null,null,null,{"$f":"SUM('Redeck Deflections'!$W$47:$AA$47)","v":0},{"$f":"IF('Redeck Deflections'!$AB$47<0,MROUND(ABS('Redeck Deflections'!$AB$47),0.125),MROUND('Redeck Deflections'!$AB$47,0.125)*-1)","v":0},4.3]
[null,4.4000000000000004,{"$f":"'Redeck Deflections'!$G$6*0.4","v":0},{"$f":"Reference!$C$385+Reference!$D$381","v":340},null,null,null,null,null,{"$f":"SUM('Redeck Deflections'!$K$48:$O$48)","v":0},{"$f":"IF('Redeck Deflections'!$P$48<0,MROUND(ABS('Redeck Deflections'!$P$48),0.125),MROUND('Redeck Deflections'!$P$48,0.125)*-1)","v":0},4.4000000000000004,null,4.4000000000000004,{"$f":"'Redeck Deflections'!$G$6*0.4","v":0},{"$f":"Reference!$C$385+Reference!$D$381","v":340},null,null,null,null,null,{"$f":"SUM('Redeck Deflections'!$W$48:$AA$48)","v":0},{"$f":"IF('Redeck Deflections'!$AB$48<0,MROUND(ABS('Redeck Deflections'!$AB$48),0.125),MROUND('Redeck Deflections'!$AB$48,0.125)*-1)","v":0},4.4000000000000004]
[null,4.5,{"$f":"'Redeck Deflections'!$G$6*0.5","v":0},{"$f":"Reference!$C$386+Reference!$D$381","v":340},null,null,null,null,null,{"$f":"SUM('Redeck Deflections'!$K$49:$O$49)","v":0},{"$f":"IF('Redeck Deflections'!$P$49<0,MROUND(ABS('Redeck Deflections'!$P$49),0.125),MROUND('Redeck Deflections'!$P$49,0.125)*-1)","v":0},4.5,null,4.5,{"$f":"'Redeck Deflections'!$G$6*0.5","v":0},{"$f":"Reference!$C$386+Reference!$D$381","v":340},null,null,null,null,null,{"$f":"SUM('Redeck Deflections'!$W$49:$AA$49)","v":0},{"$f":"IF('Redeck Deflections'!$AB$49<0,MROUND(ABS('Redeck Deflections'!$AB$49),0.125),MROUND('Redeck Deflections'!$AB$49,0.125)*-1)","v":0},4.5]
[null,4.5999999999999996,{"$f":"'Redeck Deflections'!$G$6*0.6","v":0},{"$f":"Reference!$C$387+Reference!$D$381","v":340},null,null,null,null,null,{"$f":"SUM('Redeck Deflections'!$K$50:$O$50)","v":0},{"$f":"IF('Redeck Deflections'!$P$50<0,MROUND(ABS('Redeck Deflections'!$P$50),0.125),MROUND('Redeck Deflections'!$P$50,0.125)*-1)","v":0},4.5999999999999996,null,4.5999999999999996,{"$f":"'Redeck Deflections'!$G$6*0.6","v":0},{"$f":"Reference!$C$387+Reference!$D$381","v":340},null,null,null,null,null,{"$f":"SUM('Redeck Deflections'!$W$50:$AA$50)","v":0},{"$f":"IF('Redeck Deflections'!$AB$50<0,MROUND(ABS('Redeck Deflections'!$AB$50),0.125),MROUND('Redeck Deflections'!$AB$50,0.125)*-1)","v":0},4.5999999999999996]
[null,4.7,{"$f":"'Redeck Deflections'!$G$6*0.7","v":0},{"$f":"Reference!$C$388+Reference!$D$381","v":340},null,null,null,null,null,{"$f":"SUM('Redeck Deflections'!$K$51:$O$51)","v":0},{"$f":"IF('Redeck Deflections'!$P$51<0,MROUND(ABS('Redeck Deflections'!$P$51),0.125),MROUND('Redeck Deflections'!$P$51,0.125)*-1)","v":0},4.7,null,4.7,{"$f":"'Redeck Deflections'!$G$6*0.7","v":0},{"$f":"Reference!$C$388+Reference!$D$381","v":340},null,null,null,null,null,{"$f":"SUM('Redeck Deflections'!$W$51:$AA$51)","v":0},{"$f":"IF('Redeck Deflections'!$AB$51<0,MROUND(ABS('Redeck Deflections'!$AB$51),0.125),MROUND('Redeck Deflections'!$AB$51,0.125)*-1)","v":0},4.7]
[null,4.8,{"$f":"'Redeck Deflections'!$G$6*0.8","v":0},{"$f":"Reference!$C$389+Reference!$D$381","v":340},null,null,null,null,null,{"$f":"SUM('Redeck Deflections'!$K$52:$O$52)","v":0},{"$f":"IF('Redeck Deflections'!$P$52<0,MROUND(ABS('Redeck Deflections'!$P$52),0.125),MROUND('Redeck Deflections'!$P$52,0.125)*-1)","v":0},4.8,null,4.8,{"$f":"'Redeck Deflections'!$G$6*0.8","v":0},{"$f":"Reference!$C$389+Reference!$D$381","v":340},null,null,null,null,null,{"$f":"SUM('Redeck Deflections'!$W$52:$AA$52)","v":0},{"$f":"IF('Redeck Deflections'!$AB$52<0,MROUND(ABS('Redeck Deflections'!$AB$52),0.125),MROUND('Redeck Deflections'!$AB$52,0.125)*-1)","v":0},4.8]
[null,4.9000000000000004,{"$f":"'Redeck Deflections'!$G$6*0.9","v":0},{"$f":"Reference!$C$390+Reference!$D$381","v":340},null,null,null,null,null,{"$f":"SUM('Redeck Deflections'!$K$53:$O$53)","v":0},{"$f":"IF('Redeck Deflections'!$P$53<0,MROUND(ABS('Redeck Deflections'!$P$53),0.125),MROUND('Redeck Deflections'!$P$53,0.125)*-1)","v":0},4.9000000000000004,null,4.9000000000000004,{"$f":"'Redeck Deflections'!$G$6*0.9","v":0},{"$f":"Reference!$C$390+Reference!$D$381","v":340},null,null,null,null,null,{"$f":"SUM('Redeck Deflections'!$W$53:$AA$53)","v":0},{"$f":"IF('Redeck Deflections'!$AB$53<0,MROUND(ABS('Redeck Deflections'!$AB$53),0.125),MROUND('Redeck Deflections'!$AB$53,0.125)*-1)","v":0},4.9000000000000004]
[null,5,{"$f":"'Redeck Deflections'!$G$6*1","v":0},{"$f":"Reference!$C$391+Reference!$D$381","v":340},null,null,null,null,null,{"$f":"SUM('Redeck Deflections'!$K$54:$O$54)","v":0},{"$f":"IF('Redeck Deflections'!$P$54<0,MROUND(ABS('Redeck Deflections'!$P$54),0.125),MROUND('Redeck Deflections'!$P$54,0.125)*-1)","v":0},5,null,5,{"$f":"'Redeck Deflections'!$G$6*1","v":0},{"$f":"Reference!$C$391+Reference!$D$381","v":340},null,null,null,null,null,{"$f":"SUM('Redeck Deflections'!$W$54:$AA$54)","v":0},{"$f":"IF('Redeck Deflections'!$AB$54<0,MROUND(ABS('Redeck Deflections'!$AB$54),0.125),MROUND('Redeck Deflections'!$AB$54,0.125)*-1)","v":0},5]
[null,5,0,{"$f":"Reference!$D$391","v":340},null,null,null,null,null,{"$f":"SUM('Redeck Deflections'!$K$55:$O$55)","v":0},{"$f":"IF('Redeck Deflections'!$P$55<0,MROUND(ABS('Redeck Deflections'!$P$55),0.125),MROUND('Redeck Deflections'!$P$55,0.125)*-1)","v":0},5,null,5,0,{"$f":"Reference!$D$391","v":340},null,null,null,null,null,{"$f":"SUM('Redeck Deflections'!$W$55:$AA$55)","v":0},{"$f":"IF('Redeck Deflections'!$AB$55<0,MROUND(ABS('Redeck Deflections'!$AB$55),0.125),MROUND('Redeck Deflections'!$AB$55,0.125)*-1)","v":0},5]
[null,5.0999999999999996,{"$f":"'Redeck Deflections'!$H$6*0.1","v":0},{"$f":"Reference!$D$392+Reference!$C$393","v":340},null,null,null,null,null,{"$f":"SUM('Redeck Deflections'!$K$56:$O$56)","v":0},{"$f":"IF('Redeck Deflections'!$P$56<0,MROUND(ABS('Redeck Deflections'!$P$56),0.125),MROUND('Redeck Deflections'!$P$56,0.125)*-1)","v":0},5.0999999999999996,null,5.0999999999999996,{"$f":"'Redeck Deflections'!$H$6*0.1","v":0},{"$f":"Reference!$D$392+Reference!$C$393","v":340},null,null,null,null,null,{"$f":"SUM('Redeck Deflections'!$W$56:$AA$56)","v":0},{"$f":"IF('Redeck Deflections'!$AB$56<0,MROUND(ABS('Redeck Deflections'!$AB$56),0.125),MROUND('Redeck Deflections'!$AB$56,0.125)*-1)","v":0},5.0999999999999996]
[null,5.2,{"$f":"'Redeck Deflections'!$H$6*0.2","v":0},{"$f":"Reference!$C$394+Reference!$D$392","v":340},null,null,null,null,null,{"$f":"SUM('Redeck Deflections'!$K$57:$O$57)","v":0},{"$f":"IF('Redeck Deflections'!$P$57<0,MROUND(ABS('Redeck Deflections'!$P$57),0.125),MROUND('Redeck Deflections'!$P$57,0.125)*-1)","v":0},5.2,null,5.2,{"$f":"'Redeck Deflections'!$H$6*0.2","v":0},{"$f":"Reference!$C$394+Reference!$D$392","v":340},null,null,null,null,null,{"$f":"SUM('Redeck Deflections'!$W$57:$AA$57)","v":0},{"$f":"IF('Redeck Deflections'!$AB$57<0,MROUND(ABS('Redeck Deflections'!$AB$57),0.125),MROUND('Redeck Deflections'!$AB$57,0.125)*-1)","v":0},5.2]
[null,5.3,{"$f":"'Redeck Deflections'!$H$6*0.3","v":0},{"$f":"Reference!$C$395+Reference!$D$392","v":340},null,null,null,null,null,{"$f":"SUM('Redeck Deflections'!$K$58:$O$58)","v":0},{"$f":"IF('Redeck Deflections'!$P$58<0,MROUND(ABS('Redeck Deflections'!$P$58),0.125),MROUND('Redeck Deflections'!$P$58,0.125)*-1)","v":0},5.3,null,5.3,{"$f":"'Redeck Deflections'!$H$6*0.3","v":0},{"$f":"Reference!$C$395+Reference!$D$392","v":340},null,null,null,null,null,{"$f":"SUM('Redeck Deflections'!$W$58:$AA$58)","v":0},{"$f":"IF('Redeck Deflections'!$AB$58<0,MROUND(ABS('Redeck Deflections'!$AB$58),0.125),MROUND('Redeck Deflections'!$AB$58,0.125)*-1)","v":0},5.3]
[null,5.4,{"$f":"'Redeck Deflections'!$H$6*0.4","v":0},{"$f":"Reference!$C$396+Reference!$D$392","v":340},null,null,null,null,null,{"$f":"SUM('Redeck Deflections'!$K$59:$O$59)","v":0},{"$f":"IF('Redeck Deflections'!$P$59<0,MROUND(ABS('Redeck Deflections'!$P$59),0.125),MROUND('Redeck Deflections'!$P$59,0.125)*-1)","v":0},5.4,null,5.4,{"$f":"'Redeck Deflections'!$H$6*0.4","v":0},{"$f":"Reference!$C$396+Reference!$D$392","v":340},null,null,null,null,null,{"$f":"SUM('Redeck Deflections'!$W$59:$AA$59)","v":0},{"$f":"IF('Redeck Deflections'!$AB$59<0,MROUND(ABS('Redeck Deflections'!$AB$59),0.125),MROUND('Redeck Deflections'!$AB$59,0.125)*-1)","v":0},5.4]
[null,5.5,{"$f":"'Redeck Deflections'!$H$6*0.5","v":0},{"$f":"Reference!$C$397+Reference!$D$392","v":340},null,null,null,null,null,{"$f":"SUM('Redeck Deflections'!$K$60:$O$60)","v":0},{"$f":"IF('Redeck Deflections'!$P$60<0,MROUND(ABS('Redeck Deflections'!$P$60),0.125),MROUND('Redeck Deflections'!$P$60,0.125)*-1)","v":0},5.5,null,5.5,{"$f":"'Redeck Deflections'!$H$6*0.5","v":0},{"$f":"Reference!$C$397+Reference!$D$392","v":340},null,null,null,null,null,{"$f":"SUM('Redeck Deflections'!$W$60:$AA$60)","v":0},{"$f":"IF('Redeck Deflections'!$AB$60<0,MROUND(ABS('Redeck Deflections'!$AB$60),0.125),MROUND('Redeck Deflections'!$AB$60,0.125)*-1)","v":0},5.5]
[null,5.6,{"$f":"'Redeck Deflections'!$H$6*0.6","v":0},{"$f":"Reference!$C$398+Reference!$D$392","v":340},null,null,null,null,null,{"$f":"SUM('Redeck Deflections'!$K$61:$O$61)","v":0},{"$f":"IF('Redeck Deflections'!$P$61<0,MROUND(ABS('Redeck Deflections'!$P$61),0.125),MROUND('Redeck Deflections'!$P$61,0.125)*-1)","v":0},5.6,null,5.6,{"$f":"'Redeck Deflections'!$H$6*0.6","v":0},{"$f":"Reference!$C$398+Reference!$D$392","v":340},null,null,null,null,null,{"$f":"SUM('Redeck Deflections'!$W$61:$AA$61)","v":0},{"$f":"IF('Redeck Deflections'!$AB$61<0,MROUND(ABS('Redeck Deflections'!$AB$61),0.125),MROUND('Redeck Deflections'!$AB$61,0.125)*-1)","v":0},5.6]
[null,5.7,{"$f":"'Redeck Deflections'!$H$6*0.7","v":0},{"$f":"Reference!$C$399+Reference!$D$392","v":340},null,null,null,null,null,{"$f":"SUM('Redeck Deflections'!$K$62:$O$62)","v":0},{"$f":"IF('Redeck Deflections'!$P$62<0,MROUND(ABS('Redeck Deflections'!$P$62),0.125),MROUND('Redeck Deflections'!$P$62,0.125)*-1)","v":0},5.7,null,5.7,{"$f":"'Redeck Deflections'!$H$6*0.7","v":0},{"$f":"Reference!$C$399+Reference!$D$392","v":340},null,null,null,null,null,{"$f":"SUM('Redeck Deflections'!$W$62:$AA$62)","v":0},{"$f":"IF('Redeck Deflections'!$AB$62<0,MROUND(ABS('Redeck Deflections'!$AB$62),0.125),MROUND('Redeck Deflections'!$AB$62,0.125)*-1)","v":0},5.7]
[null,5.8,{"$f":"'Redeck Deflections'!$H$6*0.8","v":0},{"$f":"Reference!$C$400+Reference!$D$392","v":340},null,null,null,null,null,{"$f":"SUM('Redeck Deflections'!$K$63:$O$63)","v":0},{"$f":"IF('Redeck Deflections'!$P$63<0,MROUND(ABS('Redeck Deflections'!$P$63),0.125),MROUND('Redeck Deflections'!$P$63,0.125)*-1)","v":0},5.8,null,5.8,{"$f":"'Redeck Deflections'!$H$6*0.8","v":0},{"$f":"Reference!$C$400+Reference!$D$392","v":340},null,null,null,null,null,{"$f":"SUM('Redeck Deflections'!$W$63:$AA$63)","v":0},{"$f":"IF('Redeck Deflections'!$AB$63<0,MROUND(ABS('Redeck Deflections'!$AB$63),0.125),MROUND('Redeck Deflections'!$AB$63,0.125)*-1)","v":0},5.8]
[null,5.9,{"$f":"'Redeck Deflections'!$H$6*0.9","v":0},{"$f":"Reference!$C$401+Reference!$D$392","v":340},null,null,null,null,null,{"$f":"SUM('Redeck Deflections'!$K$64:$O$64)","v":0},{"$f":"IF('Redeck Deflections'!$P$64<0,MROUND(ABS('Redeck Deflections'!$P$64),0.125),MROUND('Redeck Deflections'!$P$64,0.125)*-1)","v":0},5.9,null,5.9,{"$f":"'Redeck Deflections'!$H$6*0.9","v":0},{"$f":"Reference!$C$401+Reference!$D$392","v":340},null,null,null,null,null,{"$f":"SUM('Redeck Deflections'!$W$64:$AA$64)","v":0},{"$f":"IF('Redeck Deflections'!$AB$64<0,MROUND(ABS('Redeck Deflections'!$AB$64),0.125),MROUND('Redeck Deflections'!$AB$64,0.125)*-1)","v":0},5.9]
[null,6,{"$f":"'Redeck Deflections'!$H$6*1","v":0},{"$f":"Reference!$C$402+Reference!$D$392","v":340},null,null,null,null,null,{"$f":"SUM('Redeck Deflections'!$K$65:$O$65)","v":0},{"$f":"IF('Redeck Deflections'!$P$65<0,MROUND(ABS('Redeck Deflections'!$P$65),0.125),MROUND('Redeck Deflections'!$P$65,0.125)*-1)","v":0},6,null,6,{"$f":"'Redeck Deflections'!$H$6*1","v":0},{"$f":"Reference!$C$402+Reference!$D$392","v":340},null,null,null,null,null,{"$f":"SUM('Redeck Deflections'!$W$65:$AA$65)","v":0},{"$f":"IF('Redeck Deflections'!$AB$65<0,MROUND(ABS('Redeck Deflections'!$AB$65),0.125),MROUND('Redeck Deflections'!$AB$65,0.125)*-1)","v":0},6]
[null,6,0,{"$f":"Reference!$D$402","v":340},null,null,null,null,null,{"$f":"SUM('Redeck Deflections'!$K$66:$O$66)","v":0},{"$f":"IF('Redeck Deflections'!$P$66<0,MROUND(ABS('Redeck Deflections'!$P$66),0.125),MROUND('Redeck Deflections'!$P$66,0.125)*-1)","v":0},6,null,6,0,{"$f":"Reference!$D$402","v":340},null,null,null,null,null,{"$f":"SUM('Redeck Deflections'!$W$66:$AA$66)","v":0},{"$f":"IF('Redeck Deflections'!$AB$66<0,MROUND(ABS('Redeck Deflections'!$AB$66),0.125),MROUND('Redeck Deflections'!$AB$66,0.125)*-1)","v":0},6]
[null,6.1,{"$f":"'Redeck Deflections'!$I$6*0.1","v":0},{"$f":"Reference!$D$403+Reference!$C$404","v":340},null,null,null,null,null,{"$f":"SUM('Redeck Deflections'!$K$67:$O$67)","v":0},{"$f":"IF('Redeck Deflections'!$P$67<0,MROUND(ABS('Redeck Deflections'!$P$67),0.125),MROUND('Redeck Deflections'!$P$67,0.125)*-1)","v":0},6.1,null,6.1,{"$f":"'Redeck Deflections'!$I$6*0.1","v":0},{"$f":"Reference!$D$403+Reference!$C$404","v":340},null,null,null,null,null,{"$f":"SUM('Redeck Deflections'!$W$67:$AA$67)","v":0},{"$f":"IF('Redeck Deflections'!$AB$67<0,MROUND(ABS('Redeck Deflections'!$AB$67),0.125),MROUND('Redeck Deflections'!$AB$67,0.125)*-1)","v":0},6.1]
[null,6.2,{"$f":"'Redeck Deflections'!$I$6*0.2","v":0},{"$f":"Reference!$C$405+Reference!$D$403","v":340},null,null,null,null,null,{"$f":"SUM('Redeck Deflections'!$K$68:$O$68)","v":0},{"$f":"IF('Redeck Deflections'!$P$68<0,MROUND(ABS('Redeck Deflections'!$P$68),0.125),MROUND('Redeck Deflections'!$P$68,0.125)*-1)","v":0},6.2,null,6.2,{"$f":"'Redeck Deflections'!$I$6*0.2","v":0},{"$f":"Reference!$C$405+Reference!$D$403","v":340},null,null,null,null,null,{"$f":"SUM('Redeck Deflections'!$W$68:$AA$68)","v":0},{"$f":"IF('Redeck Deflections'!$AB$68<0,MROUND(ABS('Redeck Deflections'!$AB$68),0.125),MROUND('Redeck Deflections'!$AB$68,0.125)*-1)","v":0},6.2]
[null,6.3,{"$f":"'Redeck Deflections'!$I$6*0.3","v":0},{"$f":"Reference!$C$406+Reference!$D$403","v":340},null,null,null,null,null,{"$f":"SUM('Redeck Deflections'!$K$69:$O$69)","v":0},{"$f":"IF('Redeck Deflections'!$P$69<0,MROUND(ABS('Redeck Deflections'!$P$69),0.125),MROUND('Redeck Deflections'!$P$69,0.125)*-1)","v":0},6.3,null,6.3,{"$f":"'Redeck Deflections'!$I$6*0.3","v":0},{"$f":"Reference!$C$406+Reference!$D$403","v":340},null,null,null,null,null,{"$f":"SUM('Redeck Deflections'!$W$69:$AA$69)","v":0},{"$f":"IF('Redeck Deflections'!$AB$69<0,MROUND(ABS('Redeck Deflections'!$AB$69),0.125),MROUND('Redeck Deflections'!$AB$69,0.125)*-1)","v":0},6.3]
[null,6.4,{"$f":"'Redeck Deflections'!$I$6*0.4","v":0},{"$f":"Reference!$C$407+Reference!$D$403","v":340},null,null,null,null,null,{"$f":"SUM('Redeck Deflections'!$K$70:$O$70)","v":0},{"$f":"IF('Redeck Deflections'!$P$70<0,MROUND(ABS('Redeck Deflections'!$P$70),0.125),MROUND('Redeck Deflections'!$P$70,0.125)*-1)","v":0},6.4,null,6.4,{"$f":"'Redeck Deflections'!$I$6*0.4","v":0},{"$f":"Reference!$C$407+Reference!$D$403","v":340},null,null,null,null,null,{"$f":"SUM('Redeck Deflections'!$W$70:$AA$70)","v":0},{"$f":"IF('Redeck Deflections'!$AB$70<0,MROUND(ABS('Redeck Deflections'!$AB$70),0.125),MROUND('Redeck Deflections'!$AB$70,0.125)*-1)","v":0},6.4]
[null,6.5,{"$f":"'Redeck Deflections'!$I$6*0.5","v":0},{"$f":"Reference!$C$408+Reference!$D$403","v":340},null,null,null,null,null,{"$f":"SUM('Redeck Deflections'!$K$71:$O$71)","v":0},{"$f":"IF('Redeck Deflections'!$P$71<0,MROUND(ABS('Redeck Deflections'!$P$71),0.125),MROUND('Redeck Deflections'!$P$71,0.125)*-1)","v":0},6.5,null,6.5,{"$f":"'Redeck Deflections'!$I$6*0.5","v":0},{"$f":"Reference!$C$408+Reference!$D$403","v":340},null,null,null,null,null,{"$f":"SUM('Redeck Deflections'!$W$71:$AA$71)","v":0},{"$f":"IF('Redeck Deflections'!$AB$71<0,MROUND(ABS('Redeck Deflections'!$AB$71),0.125),MROUND('Redeck Deflections'!$AB$71,0.125)*-1)","v":0},6.5]
[null,6.6,{"$f":"'Redeck Deflections'!$I$6*0.6","v":0},{"$f":"Reference!$C$409+Reference!$D$403","v":340},null,null,null,null,null,{"$f":"SUM('Redeck Deflections'!$K$72:$O$72)","v":0},{"$f":"IF('Redeck Deflections'!$P$72<0,MROUND(ABS('Redeck Deflections'!$P$72),0.125),MROUND('Redeck Deflections'!$P$72,0.125)*-1)","v":0},6.6,null,6.6,{"$f":"'Redeck Deflections'!$I$6*0.6","v":0},{"$f":"Reference!$C$409+Reference!$D$403","v":340},null,null,null,null,null,{"$f":"SUM('Redeck Deflections'!$W$72:$AA$72)","v":0},{"$f":"IF('Redeck Deflections'!$AB$72<0,MROUND(ABS('Redeck Deflections'!$AB$72),0.125),MROUND('Redeck Deflections'!$AB$72,0.125)*-1)","v":0},6.6]
[null,6.7,{"$f":"'Redeck Deflections'!$I$6*0.7","v":0},{"$f":"Reference!$C$410+Reference!$D$403","v":340},null,null,null,null,null,{"$f":"SUM('Redeck Deflections'!$K$73:$O$73)","v":0},{"$f":"IF('Redeck Deflections'!$P$73<0,MROUND(ABS('Redeck Deflections'!$P$73),0.125),MROUND('Redeck Deflections'!$P$73,0.125)*-1)","v":0},6.7,null,6.7,{"$f":"'Redeck Deflections'!$I$6*0.7","v":0},{"$f":"Reference!$C$410+Reference!$D$403","v":340},null,null,null,null,null,{"$f":"SUM('Redeck Deflections'!$W$73:$AA$73)","v":0},{"$f":"IF('Redeck Deflections'!$AB$73<0,MROUND(ABS('Redeck Deflections'!$AB$73),0.125),MROUND('Redeck Deflections'!$AB$73,0.125)*-1)","v":0},6.7]
[null,6.8,{"$f":"'Redeck Deflections'!$I$6*0.8","v":0},{"$f":"Reference!$C$411+Reference!$D$403","v":340},null,null,null,null,null,{"$f":"SUM('Redeck Deflections'!$K$74:$O$74)","v":0},{"$f":"IF('Redeck Deflections'!$P$74<0,MROUND(ABS('Redeck Deflections'!$P$74),0.125),MROUND('Redeck Deflections'!$P$74,0.125)*-1)","v":0},6.8,null,6.8,{"$f":"'Redeck Deflections'!$I$6*0.8","v":0},{"$f":"Reference!$C$411+Reference!$D$403","v":340},null,null,null,null,null,{"$f":"SUM('Redeck Deflections'!$W$74:$AA$74)","v":0},{"$f":"IF('Redeck Deflections'!$AB$74<0,MROUND(ABS('Redeck Deflections'!$AB$74),0.125),MROUND('Redeck Deflections'!$AB$74,0.125)*-1)","v":0},6.8]
[null,6.9,{"$f":"'Redeck Deflections'!$I$6*0.9","v":0},{"$f":"Reference!$C$412+Reference!$D$403","v":340},null,null,null,null,null,{"$f":"SUM('Redeck Deflections'!$K$75:$O$75)","v":0},{"$f":"IF('Redeck Deflections'!$P$75<0,MROUND(ABS('Redeck Deflections'!$P$75),0.125),MROUND('Redeck Deflections'!$P$75,0.125)*-1)","v":0},6.9,null,6.9,{"$f":"'Redeck Deflections'!$I$6*0.9","v":0},{"$f":"Reference!$C$412+Reference!$D$403","v":340},null,null,null,null,null,{"$f":"SUM('Redeck Deflections'!$W$75:$AA$75)","v":0},{"$f":"IF('Redeck Deflections'!$AB$75<0,MROUND(ABS('Redeck Deflections'!$AB$75),0.125),MROUND('Redeck Deflections'!$AB$75,0.125)*-1)","v":0},6.9]
[null,7,{"$f":"'Redeck Deflections'!$I$6*1","v":0},{"$f":"Reference!$C$413+Reference!$D$403","v":340},null,null,null,null,null,{"$f":"SUM('Redeck Deflections'!$K$76:$O$76)","v":0},{"$f":"IF('Redeck Deflections'!$P$76<0,MROUND(ABS('Redeck Deflections'!$P$76),0.125),MROUND('Redeck Deflections'!$P$76,0.125)*-1)","v":0},7,null,7,{"$f":"'Redeck Deflections'!$I$6*1","v":0},{"$f":"Reference!$C$413+Reference!$D$403","v":340},null,null,null,null,null,{"$f":"SUM('Redeck Deflections'!$W$76:$AA$76)","v":0},{"$f":"IF('Redeck Deflections'!$AB$76<0,MROUND(ABS('Redeck Deflections'!$AB$76),0.125),MROUND('Redeck Deflections'!$AB$76,0.125)*-1)","v":0},7]
[null,7,0,{"$f":"Reference!$D$413","v":340},null,null,null,null,null,{"$f":"SUM('Redeck Deflections'!$K$77:$O$77)","v":0},{"$f":"IF('Redeck Deflections'!$P$77<0,MROUND(ABS('Redeck Deflections'!$P$77),0.125),MROUND('Redeck Deflections'!$P$77,0.125)*-1)","v":0},7,null,7,0,{"$f":"Reference!$D$413","v":340},null,null,null,null,null,{"$f":"SUM('Redeck Deflections'!$W$77:$AA$77)","v":0},{"$f":"IF('Redeck Deflections'!$AB$77<0,MROUND(ABS('Redeck Deflections'!$AB$77),0.125),MROUND('Redeck Deflections'!$AB$77,0.125)*-1)","v":0},7]
[null,7.1,{"$f":"'Redeck Deflections'!$J$6*0.1","v":0},{"$f":"Reference!$D$414+Reference!$C$415","v":340},null,null,null,null,null,{"$f":"SUM('Redeck Deflections'!$K$78:$O$78)","v":0},{"$f":"IF('Redeck Deflections'!$P$78<0,MROUND(ABS('Redeck Deflections'!$P$78),0.125),MROUND('Redeck Deflections'!$P$78,0.125)*-1)","v":0},7.1,null,7.1,{"$f":"'Redeck Deflections'!$J$6*0.1","v":0},{"$f":"Reference!$D$414+Reference!$C$415","v":340},null,null,null,null,null,{"$f":"SUM('Redeck Deflections'!$W$78:$AA$78)","v":0},{"$f":"IF('Redeck Deflections'!$AB$78<0,MROUND(ABS('Redeck Deflections'!$AB$78),0.125),MROUND('Redeck Deflections'!$AB$78,0.125)*-1)","v":0},7.1]
[null,7.2,{"$f":"'Redeck Deflections'!$J$6*0.2","v":0},{"$f":"Reference!$C$416+Reference!$D$414","v":340},null,null,null,null,null,{"$f":"SUM('Redeck Deflections'!$K$79:$O$79)","v":0},{"$f":"IF('Redeck Deflections'!$P$79<0,MROUND(ABS('Redeck Deflections'!$P$79),0.125),MROUND('Redeck Deflections'!$P$79,0.125)*-1)","v":0},7.2,null,7.2,{"$f":"'Redeck Deflections'!$J$6*0.2","v":0},{"$f":"Reference!$C$416+Reference!$D$414","v":340},null,null,null,null,null,{"$f":"SUM('Redeck Deflections'!$W$79:$AA$79)","v":0},{"$f":"IF('Redeck Deflections'!$AB$79<0,MROUND(ABS('Redeck Deflections'!$AB$79),0.125),MROUND('Redeck Deflections'!$AB$79,0.125)*-1)","v":0},7.2]
[null,7.3,{"$f":"'Redeck Deflections'!$J$6*0.3","v":0},{"$f":"Reference!$C$417+Reference!$D$414","v":340},null,null,null,null,null,{"$f":"SUM('Redeck Deflections'!$K$80:$O$80)","v":0},{"$f":"IF('Redeck Deflections'!$P$80<0,MROUND(ABS('Redeck Deflections'!$P$80),0.125),MROUND('Redeck Deflections'!$P$80,0.125)*-1)","v":0},7.3,null,7.3,{"$f":"'Redeck Deflections'!$J$6*0.3","v":0},{"$f":"Reference!$C$417+Reference!$D$414","v":340},null,null,null,null,null,{"$f":"SUM('Redeck Deflections'!$W$80:$AA$80)","v":0},{"$f":"IF('Redeck Deflections'!$AB$80<0,MROUND(ABS('Redeck Deflections'!$AB$80),0.125),MROUND('Redeck Deflections'!$AB$80,0.125)*-1)","v":0},7.3]
[null,7.4,{"$f":"'Redeck Deflections'!$J$6*0.4","v":0},{"$f":"Reference!$C$418+Reference!$D$414","v":340},null,null,null,null,null,{"$f":"SUM('Redeck Deflections'!$K$81:$O$81)","v":0},{"$f":"IF('Redeck Deflections'!$P$81<0,MROUND(ABS('Redeck Deflections'!$P$81),0.125),MROUND('Redeck Deflections'!$P$81,0.125)*-1)","v":0},7.4,null,7.4,{"$f":"'Redeck Deflections'!$J$6*0.4","v":0},{"$f":"Reference!$C$418+Reference!$D$414","v":340},null,null,null,null,null,{"$f":"SUM('Redeck Deflections'!$W$81:$AA$81)","v":0},{"$f":"IF('Redeck Deflections'!$AB$81<0,MROUND(ABS('Redeck Deflections'!$AB$81),0.125),MROUND('Redeck Deflections'!$AB$81,0.125)*-1)","v":0},7.4]
[null,7.5,{"$f":"'Redeck Deflections'!$J$6*0.5","v":0},{"$f":"Reference!$C$419+Reference!$D$414","v":340},null,null,null,null,null,{"$f":"SUM('Redeck Deflections'!$K$82:$O$82)","v":0},{"$f":"IF('Redeck Deflections'!$P$82<0,MROUND(ABS('Redeck Deflections'!$P$82),0.125),MROUND('Redeck Deflections'!$P$82,0.125)*-1)","v":0},7.5,null,7.5,{"$f":"'Redeck Deflections'!$J$6*0.5","v":0},{"$f":"Reference!$C$419+Reference!$D$414","v":340},null,null,null,null,null,{"$f":"SUM('Redeck Deflections'!$W$82:$AA$82)","v":0},{"$f":"IF('Redeck Deflections'!$AB$82<0,MROUND(ABS('Redeck Deflections'!$AB$82),0.125),MROUND('Redeck Deflections'!$AB$82,0.125)*-1)","v":0},7.5]
[null,7.6,{"$f":"'Redeck Deflections'!$J$6*0.6","v":0},{"$f":"Reference!$C$420+Reference!$D$414","v":340},null,null,null,null,null,{"$f":"SUM('Redeck Deflections'!$K$83:$O$83)","v":0},{"$f":"IF('Redeck Deflections'!$P$83<0,MROUND(ABS('Redeck Deflections'!$P$83),0.125),MROUND('Redeck Deflections'!$P$83,0.125)*-1)","v":0},7.6,null,7.6,{"$f":"'Redeck Deflections'!$J$6*0.6","v":0},{"$f":"Reference!$C$420+Reference!$D$414","v":340},null,null,null,null,null,{"$f":"SUM('Redeck Deflections'!$W$83:$AA$83)","v":0},{"$f":"IF('Redeck Deflections'!$AB$83<0,MROUND(ABS('Redeck Deflections'!$AB$83),0.125),MROUND('Redeck Deflections'!$AB$83,0.125)*-1)","v":0},7.6]
[null,7.7,{"$f":"'Redeck Deflections'!$J$6*0.7","v":0},{"$f":"Reference!$C$421+Reference!$D$414","v":340},null,null,null,null,null,{"$f":"SUM('Redeck Deflections'!$K$84:$O$84)","v":0},{"$f":"IF('Redeck Deflections'!$P$84<0,MROUND(ABS('Redeck Deflections'!$P$84),0.125),MROUND('Redeck Deflections'!$P$84,0.125)*-1)","v":0},7.7,null,7.7,{"$f":"'Redeck Deflections'!$J$6*0.7","v":0},{"$f":"Reference!$C$421+Reference!$D$414","v":340},null,null,null,null,null,{"$f":"SUM('Redeck Deflections'!$W$84:$AA$84)","v":0},{"$f":"IF('Redeck Deflections'!$AB$84<0,MROUND(ABS('Redeck Deflections'!$AB$84),0.125),MROUND('Redeck Deflections'!$AB$84,0.125)*-1)","v":0},7.7]
[null,7.8,{"$f":"'Redeck Deflections'!$J$6*0.8","v":0},{"$f":"Reference!$C$422+Reference!$D$414","v":340},null,null,null,null,null,{"$f":"SUM('Redeck Deflections'!$K$85:$O$85)","v":0},{"$f":"IF('Redeck Deflections'!$P$85<0,MROUND(ABS('Redeck Deflections'!$P$85),0.125),MROUND('Redeck Deflections'!$P$85,0.125)*-1)","v":0},7.8,null,7.8,{"$f":"'Redeck Deflections'!$J$6*0.8","v":0},{"$f":"Reference!$C$422+Reference!$D$414","v":340},null,null,null,null,null,{"$f":"SUM('Redeck Deflections'!$W$85:$AA$85)","v":0},{"$f":"IF('Redeck Deflections'!$AB$85<0,MROUND(ABS('Redeck Deflections'!$AB$85),0.125),MROUND('Redeck Deflections'!$AB$85,0.125)*-1)","v":0},7.8]
[null,7.9,{"$f":"'Redeck Deflections'!$J$6*0.9","v":0},{"$f":"Reference!$C$423+Reference!$D$414","v":340},null,null,null,null,null,{"$f":"SUM('Redeck Deflections'!$K$86:$O$86)","v":0},{"$f":"IF('Redeck Deflections'!$P$86<0,MROUND(ABS('Redeck Deflections'!$P$86),0.125),MROUND('Redeck Deflections'!$P$86,0.125)*-1)","v":0},7.9,null,7.9,{"$f":"'Redeck Deflections'!$J$6*0.9","v":0},{"$f":"Reference!$C$423+Reference!$D$414","v":340},null,null,null,null,null,{"$f":"SUM('Redeck Deflections'!$W$86:$AA$86)","v":0},{"$f":"IF('Redeck Deflections'!$AB$86<0,MROUND(ABS('Redeck Deflections'!$AB$86),0.125),MROUND('Redeck Deflections'!$AB$86,0.125)*-1)","v":0},7.9]
[null,8,{"$f":"'Redeck Deflections'!$J$6*1","v":0},{"$f":"Reference!$C$424+Reference!$D$414","v":340},null,null,null,null,null,{"$f":"SUM('Redeck Deflections'!$K$87:$O$87)","v":0},{"$f":"IF('Redeck Deflections'!$P$87<0,MROUND(ABS('Redeck Deflections'!$P$87),0.125),MROUND('Redeck Deflections'!$P$87,0.125)*-1)","v":0},8,null,8,{"$f":"'Redeck Deflections'!$J$6*1","v":0},{"$f":"Reference!$C$424+Reference!$D$414","v":340},null,null,null,null,null,{"$f":"SUM('Redeck Deflections'!$W$87:$AA$87)","v":0},{"$f":"IF('Redeck Deflections'!$AB$87<0,MROUND(ABS('Redeck Deflections'!$AB$87),0.125),MROUND('Redeck Deflections'!$AB$87,0.125)*-1)","v":0},8]
[]
[]
["8 Span","EXTERIOR GIRDERS",null,null,null,null,null,null,null,null,null,null,null,"INTERIOR GIRDERS"]
[null,null,null,null,"Girder","Intermediate diaphragms","Concrete",null,"Barrier","Total DL Deflection",null,null,null,null,null,null,"Girder","Intermediate diaphragms","Concrete",null,"Barrier","Total DL Deflection"]
[null,"Tenth point"," Location"," Distance"," YDL-s1- Load Case 1 - Self Load (Stage1:D,DC)"," YDL-s1- Load Case 2 - Add'l Self Load (In Force/Length) (Stage 1:D,DC)"," YDL-s1- Load Case 3 - Haunch Load (Stage1:D,DC)"," YDL-s1- Load Case 4 - Concrete Deck Load (Stage1:D,DC)"," YDL-s2- Load Case 1 - Parapet Loads(DL2 - Barriers & Curbs: Stage 2:D,D~","Decimal Inches","Nearest 1/8\"","Tenth point",null,"Tenth point"," Location"," Distance"," YDL-s1- Load Case 1 - Self Load (Stage1:D,DC)"," YDL-s1- Load Case 2 - Add'l Self Load (In Force/Length) (Stage 1:D,DC)"," YDL-s1- Load Case 3 - Haunch Load (Stage1:D,DC)"," YDL-s1- Load Case 4 - Concrete Deck Load (Stage1:D,DC)"," YDL-s2- Load Case 1 - Parapet Loads(DL2 - Barriers & Curbs: Stage 2:D,D~","Decimal Inches","Nearest 1/8\"","Tenth point"]
[null,1,0,0,"Copy and Paste Values from Virtis",null,null,null,null,{"$f":"SUM('Redeck Deflections'!$K$11:$O$11)","v":0},{"$f":"IF('Redeck Deflections'!$P$11<0,MROUND(ABS('Redeck Deflections'!$P$11),0.125),MROUND('Redeck Deflections'!$P$11,0.125)*-1)","v":0},1,null,1,0,0,"Copy and Paste Values from Virtis",null,null,null,null,{"$f":"SUM('Redeck Deflections'!$W$11:$AA$11)","v":0},{"$f":"IF('Redeck Deflections'!$AB$11<0,MROUND(ABS('Redeck Deflections'!$AB$11),0.125),MROUND('Redeck Deflections'!$AB$11,0.125)*-1)","v":0},1]
[null,1.1000000000000001,{"$f":"'Redeck Deflections'!$D$6*0.1","v":11},{"$f":"Reference!$C$349","v":11},null,null,null,null,null,{"$f":"SUM('Redeck Deflections'!$K$12:$O$12)","v":-0.17810000000000001},{"$f":"IF('Redeck Deflections'!$P$12<0,MROUND(ABS('Redeck Deflections'!$P$12),0.125),MROUND('Redeck Deflections'!$P$12,0.125)*-1)","v":0.125},1.1000000000000001,null,1.1000000000000001,{"$f":"'Redeck Deflections'!$D$6*0.1","v":11},{"$f":"Reference!$C$349","v":11},null,null,null,null,null,{"$f":"SUM('Redeck Deflections'!$W$12:$AA$12)","v":-0.17810000000000001},{"$f":"IF('Redeck Deflections'!$AB$12<0,MROUND(ABS('Redeck Deflections'!$AB$12),0.125),MROUND('Redeck Deflections'!$AB$12,0.125)*-1)","v":0.125},1.1000000000000001]
[null,1.2,{"$f":"'Redeck Deflections'!$D$6*0.2","v":22},{"$f":"Reference!$D$349+Reference!$D$349","v":22},null,null,null,null,null,{"$f":"SUM('Redeck Deflections'!$K$13:$O$13)","v":-0.3256},{"$f":"IF('Redeck Deflections'!$P$13<0,MROUND(ABS('Redeck Deflections'!$P$13),0.125),MROUND('Redeck Deflections'!$P$13,0.125)*-1)","v":0.375},1.2,null,1.2,{"$f":"'Redeck Deflections'!$D$6*0.2","v":22},{"$f":"Reference!$D$349+Reference!$D$349","v":22},null,null,null,null,null,{"$f":"SUM('Redeck Deflections'!$W$13:$AA$13)","v":-0.3256},{"$f":"IF('Redeck Deflections'!$AB$13<0,MROUND(ABS('Redeck Deflections'!$AB$13),0.125),MROUND('Redeck Deflections'!$AB$13,0.125)*-1)","v":0.375},1.2]
[null,1.3,{"$f":"'Redeck Deflections'!$D$6*0.3","v":33},{"$f":"Reference!$D$350+Reference!$D$349","v":33},null,null,null,null,null,{"$f":"SUM('Redeck Deflections'!$K$14:$O$14)","v":-0.42109999999999997},{"$f":"IF('Redeck Deflections'!$P$14<0,MROUND(ABS('Redeck Deflections'!$P$14),0.125),MROUND('Redeck Deflections'!$P$14,0.125)*-1)","v":0.375},1.3,null,1.3,{"$f":"'Redeck Deflections'!$D$6*0.3","v":33},{"$f":"Reference!$D$350+Reference!$D$349","v":33},null,null,null,null,null,{"$f":"SUM('Redeck Deflections'!$W$14:$AA$14)","v":-0.42109999999999997},{"$f":"IF('Redeck Deflections'!$AB$14<0,MROUND(ABS('Redeck Deflections'!$AB$14),0.125),MROUND('Redeck Deflections'!$AB$14,0.125)*-1)","v":0.375},1.3]
[null,1.4,{"$f":"'Redeck Deflections'!$D$6*0.4","v":44},{"$f":"Reference!$D$351+Reference!$D$349","v":44},null,null,null,null,null,{"$f":"SUM('Redeck Deflections'!$K$15:$O$15)","v":-0.45369999999999999},{"$f":"IF('Redeck Deflections'!$P$15<0,MROUND(ABS('Redeck Deflections'!$P$15),0.125),MROUND('Redeck Deflections'!$P$15,0.125)*-1)","v":0.5},1.4,null,1.4,{"$f":"'Redeck Deflections'!$D$6*0.4","v":44},{"$f":"Reference!$D$351+Reference!$D$349","v":44},null,null,null,null,null,{"$f":"SUM('Redeck Deflections'!$W$15:$AA$15)","v":-0.45369999999999999},{"$f":"IF('Redeck Deflections'!$AB$15<0,MROUND(ABS('Redeck Deflections'!$AB$15),0.125),MROUND('Redeck Deflections'!$AB$15,0.125)*-1)","v":0.5},1.4]
[null,1.5,{"$f":"'Redeck Deflections'!$D$6*0.5","v":55},{"$f":"Reference!$D$352+Reference!$D$349","v":55},null,null,null,null,null,{"$f":"SUM('Redeck Deflections'!$K$16:$O$16)","v":-0.4234},{"$f":"IF('Redeck Deflections'!$P$16<0,MROUND(ABS('Redeck Deflections'!$P$16),0.125),MROUND('Redeck Deflections'!$P$16,0.125)*-1)","v":0.375},1.5,null,1.5,{"$f":"'Redeck Deflections'!$D$6*0.5","v":55},{"$f":"Reference!$D$352+Reference!$D$349","v":55},null,null,null,null,null,{"$f":"SUM('Redeck Deflections'!$W$16:$AA$16)","v":-0.4234},{"$f":"IF('Redeck Deflections'!$AB$16<0,MROUND(ABS('Redeck Deflections'!$AB$16),0.125),MROUND('Redeck Deflections'!$AB$16,0.125)*-1)","v":0.375},1.5]
[null,1.6,{"$f":"'Redeck Deflections'!$D$6*0.6","v":66},{"$f":"Reference!$D$353+Reference!$D$349","v":66},null,null,null,null,null,{"$f":"SUM('Redeck Deflections'!$K$17:$O$17)","v":-0.34010000000000001},{"$f":"IF('Redeck Deflections'!$P$17<0,MROUND(ABS('Redeck Deflections'!$P$17),0.125),MROUND('Redeck Deflections'!$P$17,0.125)*-1)","v":0.375},1.6,null,1.6,{"$f":"'Redeck Deflections'!$D$6*0.6","v":66},{"$f":"Reference!$D$353+Reference!$D$349","v":66},null,null,null,null,null,{"$f":"SUM('Redeck Deflections'!$W$17:$AA$17)","v":-0.34010000000000001},{"$f":"IF('Redeck Deflections'!$AB$17<0,MROUND(ABS('Redeck Deflections'!$AB$17),0.125),MROUND('Redeck Deflections'!$AB$17,0.125)*-1)","v":0.375},1.6]
[null,1.7,{"$f":"'Redeck Deflections'!$D$6*0.7","v":77},{"$f":"Reference!$D$354+Reference!$D$349","v":77},null,null,null,null,null,{"$f":"SUM('Redeck Deflections'!$K$18:$O$18)","v":-0.22439999999999999},{"$f":"IF('Redeck Deflections'!$P$18<0,MROUND(ABS('Redeck Deflections'!$P$18),0.125),MROUND('Redeck Deflections'!$P$18,0.125)*-1)","v":0.25},1.7,null,1.7,{"$f":"'Redeck Deflections'!$D$6*0.7","v":77},{"$f":"Reference!$D$354+Reference!$D$349","v":77},null,null,null,null,null,{"$f":"SUM('Redeck Deflections'!$W$18:$AA$18)","v":-0.22439999999999999},{"$f":"IF('Redeck Deflections'!$AB$18<0,MROUND(ABS('Redeck Deflections'!$AB$18),0.125),MROUND('Redeck Deflections'!$AB$18,0.125)*-1)","v":0.25},1.7]
[null,1.8,{"$f":"'Redeck Deflections'!$D$6*0.8","v":88},{"$f":"Reference!$D$355+Reference!$D$349","v":88},null,null,null,null,null,{"$f":"SUM('Redeck Deflections'!$K$19:$O$19)","v":-0.1076},{"$f":"IF('Redeck Deflections'!$P$19<0,MROUND(ABS('Redeck Deflections'!$P$19),0.125),MROUND('Redeck Deflections'!$P$19,0.125)*-1)","v":0.125},1.8,null,1.8,{"$f":"'Redeck Deflections'!$D$6*0.8","v":88},{"$f":"Reference!$D$355+Reference!$D$349","v":88},null,null,null,null,null,{"$f":"SUM('Redeck Deflections'!$W$19:$AA$19)","v":-0.1076},{"$f":"IF('Redeck Deflections'!$AB$19<0,MROUND(ABS('Redeck Deflections'!$AB$19),0.125),MROUND('Redeck Deflections'!$AB$19,0.125)*-1)","v":0.125},1.8]
[null,1.9,{"$f":"'Redeck Deflections'!$D$6*0.9","v":99},{"$f":"Reference!$D$356+Reference!$D$349","v":99},null,null,null,null,null,{"$f":"SUM('Redeck Deflections'!$K$20:$O$20)","v":-2.5699999999999997E-2},{"$f":"IF('Redeck Deflections'!$P$20<0,MROUND(ABS('Redeck Deflections'!$P$20),0.125),MROUND('Redeck Deflections'!$P$20,0.125)*-1)","v":0},1.9,null,1.9,{"$f":"'Redeck Deflections'!$D$6*0.9","v":99},{"$f":"Reference!$D$356+Reference!$D$349","v":99},null,null,null,null,null,{"$f":"SUM('Redeck Deflections'!$W$20:$AA$20)","v":-2.5699999999999997E-2},{"$f":"IF('Redeck Deflections'!$AB$20<0,MROUND(ABS('Redeck Deflections'!$AB$20),0.125),MROUND('Redeck Deflections'!$AB$20,0.125)*-1)","v":0},1.9]
[null,2,{"$f":"'Redeck Deflections'!$D$6*1","v":110},{"$f":"Reference!$D$357+Reference!$D$349","v":110},null,null,null,null,null,{"$f":"SUM('Redeck Deflections'!$K$21:$O$21)","v":0},{"$f":"IF('Redeck Deflections'!$P$21<0,MROUND(ABS('Redeck Deflections'!$P$21),0.125),MROUND('Redeck Deflections'!$P$21,0.125)*-1)","v":0},2,null,2,{"$f":"'Redeck Deflections'!$D$6*1","v":110},{"$f":"Reference!$D$357+Reference!$D$349","v":110},null,null,null,null,null,{"$f":"SUM('Redeck Deflections'!$W$21:$AA$21)","v":0},{"$f":"IF('Redeck Deflections'!$AB$21<0,MROUND(ABS('Redeck Deflections'!$AB$21),0.125),MROUND('Redeck Deflections'!$AB$21,0.125)*-1)","v":0},2]
[null,2,0,{"$f":"Reference!$D$358","v":110},null,null,null,null,null,{"$f":"SUM('Redeck Deflections'!$K$22:$O$22)","v":0},{"$f":"IF('Redeck Deflections'!$P$22<0,MROUND(ABS('Redeck Deflections'!$P$22),0.125),MROUND('Redeck Deflections'!$P$22,0.125)*-1)","v":0},2,null,2,0,{"$f":"Reference!$D$358","v":110},null,null,null,null,null,{"$f":"SUM('Redeck Deflections'!$W$22:$AA$22)","v":0},{"$f":"IF('Redeck Deflections'!$AB$22<0,MROUND(ABS('Redeck Deflections'!$AB$22),0.125),MROUND('Redeck Deflections'!$AB$22,0.125)*-1)","v":0},2]
[null,2.1,{"$f":"'Redeck Deflections'!$E$6*0.1","v":12},{"$f":"Reference!$D$359+Reference!$C$360","v":122},null,null,null,null,null,{"$f":"SUM('Redeck Deflections'!$K$23:$O$23)","v":-8.0600000000000005E-2},{"$f":"IF('Redeck Deflections'!$P$23<0,MROUND(ABS('Redeck Deflections'!$P$23),0.125),MROUND('Redeck Deflections'!$P$23,0.125)*-1)","v":0.125},2.1,null,2.1,{"$f":"'Redeck Deflections'!$E$6*0.1","v":12},{"$f":"Reference!$D$359+Reference!$C$360","v":122},null,null,null,null,null,{"$f":"SUM('Redeck Deflections'!$W$23:$AA$23)","v":-8.0600000000000005E-2},{"$f":"IF('Redeck Deflections'!$AB$23<0,MROUND(ABS('Redeck Deflections'!$AB$23),0.125),MROUND('Redeck Deflections'!$AB$23,0.125)*-1)","v":0.125},2.1]
[null,2.2000000000000002,{"$f":"'Redeck Deflections'!$E$6*0.2","v":24},{"$f":"Reference!$C$361+Reference!$D$59","v":134},null,null,null,null,null,{"$f":"SUM('Redeck Deflections'!$K$24:$O$24)","v":-0.24479999999999999},{"$f":"IF('Redeck Deflections'!$P$24<0,MROUND(ABS('Redeck Deflections'!$P$24),0.125),MROUND('Redeck Deflections'!$P$24,0.125)*-1)","v":0.25},2.2000000000000002,null,2.2000000000000002,{"$f":"'Redeck Deflections'!$E$6*0.2","v":24},{"$f":"Reference!$C$361+Reference!$D$59","v":134},null,null,null,null,null,{"$f":"SUM('Redeck Deflections'!$W$24:$AA$24)","v":-0.24479999999999999},{"$f":"IF('Redeck Deflections'!$AB$24<0,MROUND(ABS('Redeck Deflections'!$AB$24),0.125),MROUND('Redeck Deflections'!$AB$24,0.125)*-1)","v":0.25},2.2000000000000002]
[null,2.2999999999999998,{"$f":"'Redeck Deflections'!$E$6*0.3","v":36},{"$f":"Reference!$C$362+Reference!$D$359","v":146},null,null,null,null,null,{"$f":"SUM('Redeck Deflections'!$K$25:$O$25)","v":-0.43390000000000001},{"$f":"IF('Redeck Deflections'!$P$25<0,MROUND(ABS('Redeck Deflections'!$P$25),0.125),MROUND('Redeck Deflections'!$P$25,0.125)*-1)","v":0.375},2.2999999999999998,null,2.2999999999999998,{"$f":"'Redeck Deflections'!$E$6*0.3","v":36},{"$f":"Reference!$C$362+Reference!$D$359","v":146},null,null,null,null,null,{"$f":"SUM('Redeck Deflections'!$W$25:$AA$25)","v":-0.43390000000000001},{"$f":"IF('Redeck Deflections'!$AB$25<0,MROUND(ABS('Redeck Deflections'!$AB$25),0.125),MROUND('Redeck Deflections'!$AB$25,0.125)*-1)","v":0.375},2.2999999999999998]
[null,2.4,{"$f":"'Redeck Deflections'!$E$6*0.4","v":48},{"$f":"Reference!$C$363+Reference!$D$359","v":158},null,null,null,null,null,{"$f":"SUM('Redeck Deflections'!$K$26:$O$26)","v":-0.57669999999999999},{"$f":"IF('Redeck Deflections'!$P$26<0,MROUND(ABS('Redeck Deflections'!$P$26),0.125),MROUND('Redeck Deflections'!$P$26,0.125)*-1)","v":0.625},2.4,null,2.4,{"$f":"'Redeck Deflections'!$E$6*0.4","v":48},{"$f":"Reference!$C$363+Reference!$D$359","v":158},null,null,null,null,null,{"$f":"SUM('Redeck Deflections'!$W$26:$AA$26)","v":-0.57669999999999999},{"$f":"IF('Redeck Deflections'!$AB$26<0,MROUND(ABS('Redeck Deflections'!$AB$26),0.125),MROUND('Redeck Deflections'!$AB$26,0.125)*-1)","v":0.625},2.4]
[null,2.5,{"$f":"'Redeck Deflections'!$E$6*0.5","v":60},{"$f":"Reference!$C$364+Reference!$D$359","v":170},null,null,null,null,null,{"$f":"SUM('Redeck Deflections'!$K$27:$O$27)","v":-0.62909999999999999},{"$f":"IF('Redeck Deflections'!$P$27<0,MROUND(ABS('Redeck Deflections'!$P$27),0.125),MROUND('Redeck Deflections'!$P$27,0.125)*-1)","v":0.625},2.5,null,2.5,{"$f":"'Redeck Deflections'!$E$6*0.5","v":60},{"$f":"Reference!$C$364+Reference!$D$359","v":170},null,null,null,null,null,{"$f":"SUM('Redeck Deflections'!$W$27:$AA$27)","v":-0.62909999999999999},{"$f":"IF('Redeck Deflections'!$AB$27<0,MROUND(ABS('Redeck Deflections'!$AB$27),0.125),MROUND('Redeck Deflections'!$AB$27,0.125)*-1)","v":0.625},2.5]
[null,2.6,{"$f":"'Redeck Deflections'!$E$6*0.6","v":72},{"$f":"Reference!$C$365+Reference!$D$359","v":182},null,null,null,null,null,{"$f":"SUM('Redeck Deflections'!$K$28:$O$28)","v":-0.57669999999999999},{"$f":"IF('Redeck Deflections'!$P$28<0,MROUND(ABS('Redeck Deflections'!$P$28),0.125),MROUND('Redeck Deflections'!$P$28,0.125)*-1)","v":0.625},2.6,null,2.6,{"$f":"'Redeck Deflections'!$E$6*0.6","v":72},{"$f":"Reference!$C$365+Reference!$D$359","v":182},null,null,null,null,null,{"$f":"SUM('Redeck Deflections'!$W$28:$AA$28)","v":-0.57669999999999999},{"$f":"IF('Redeck Deflections'!$AB$28<0,MROUND(ABS('Redeck Deflections'!$AB$28),0.125),MROUND('Redeck Deflections'!$AB$28,0.125)*-1)","v":0.625},2.6]
[null,2.7,{"$f":"'Redeck Deflections'!$E$6*0.7","v":84},{"$f":"Reference!$C$366+Reference!$D$359","v":194},null,null,null,null,null,{"$f":"SUM('Redeck Deflections'!$K$29:$O$29)","v":-0.43390000000000001},{"$f":"IF('Redeck Deflections'!$P$29<0,MROUND(ABS('Redeck Deflections'!$P$29),0.125),MROUND('Redeck Deflections'!$P$29,0.125)*-1)","v":0.375},2.7,null,2.7,{"$f":"'Redeck Deflections'!$E$6*0.7","v":84},{"$f":"Reference!$C$366+Reference!$D$359","v":194},null,null,null,null,null,{"$f":"SUM('Redeck Deflections'!$W$29:$AA$29)","v":-0.43390000000000001},{"$f":"IF('Redeck Deflections'!$AB$29<0,MROUND(ABS('Redeck Deflections'!$AB$29),0.125),MROUND('Redeck Deflections'!$AB$29,0.125)*-1)","v":0.375},2.7]
[null,2.8,{"$f":"'Redeck Deflections'!$E$6*0.8","v":96},{"$f":"Reference!$C$367+Reference!$D$359","v":206},null,null,null,null,null,{"$f":"SUM('Redeck Deflections'!$K$30:$O$30)","v":-0.24479999999999999},{"$f":"IF('Redeck Deflections'!$P$30<0,MROUND(ABS('Redeck Deflections'!$P$30),0.125),MROUND('Redeck Deflections'!$P$30,0.125)*-1)","v":0.25},2.8,null,2.8,{"$f":"'Redeck Deflections'!$E$6*0.8","v":96},{"$f":"Reference!$C$367+Reference!$D$359","v":206},null,null,null,null,null,{"$f":"SUM('Redeck Deflections'!$W$30:$AA$30)","v":-0.24479999999999999},{"$f":"IF('Redeck Deflections'!$AB$30<0,MROUND(ABS('Redeck Deflections'!$AB$30),0.125),MROUND('Redeck Deflections'!$AB$30,0.125)*-1)","v":0.25},2.8]
[null,2.9,{"$f":"'Redeck Deflections'!$E$6*0.9","v":108},{"$f":"Reference!$C$368+Reference!$D$359","v":218},null,null,null,null,null,{"$f":"SUM('Redeck Deflections'!$K$31:$O$31)","v":-8.0600000000000005E-2},{"$f":"IF('Redeck Deflections'!$P$31<0,MROUND(ABS('Redeck Deflections'!$P$31),0.125),MROUND('Redeck Deflections'!$P$31,0.125)*-1)","v":0.125},2.9,null,2.9,{"$f":"'Redeck Deflections'!$E$6*0.9","v":108},{"$f":"Reference!$C$368+Reference!$D$359","v":218},null,null,null,null,null,{"$f":"SUM('Redeck Deflections'!$W$31:$AA$31)","v":-8.0600000000000005E-2},{"$f":"IF('Redeck Deflections'!$AB$31<0,MROUND(ABS('Redeck Deflections'!$AB$31),0.125),MROUND('Redeck Deflections'!$AB$31,0.125)*-1)","v":0.125},2.9]
[null,3,{"$f":"'Redeck Deflections'!$E$6*1","v":120},{"$f":"Reference!$C$369+Reference!$D$359","v":230},null,null,null,null,null,{"$f":"SUM('Redeck Deflections'!$K$32:$O$32)","v":0},{"$f":"IF('Redeck Deflections'!$P$32<0,MROUND(ABS('Redeck Deflections'!$P$32),0.125),MROUND('Redeck Deflections'!$P$32,0.125)*-1)","v":0},3,null,3,{"$f":"'Redeck Deflections'!$E$6*1","v":120},{"$f":"Reference!$C$369+Reference!$D$359","v":230},null,null,null,null,null,{"$f":"SUM('Redeck Deflections'!$W$32:$AA$32)","v":0},{"$f":"IF('Redeck Deflections'!$AB$32<0,MROUND(ABS('Redeck Deflections'!$AB$32),0.125),MROUND('Redeck Deflections'!$AB$32,0.125)*-1)","v":0},3]
[null,3,0,{"$f":"Reference!$D$369","v":230},null,null,null,null,null,{"$f":"SUM('Redeck Deflections'!$K$33:$O$33)","v":0},{"$f":"IF('Redeck Deflections'!$P$33<0,MROUND(ABS('Redeck Deflections'!$P$33),0.125),MROUND('Redeck Deflections'!$P$33,0.125)*-1)","v":0},3,null,3,0,{"$f":"Reference!$D$369","v":230},null,null,null,null,null,{"$f":"SUM('Redeck Deflections'!$W$33:$AA$33)","v":0},{"$f":"IF('Redeck Deflections'!$AB$33<0,MROUND(ABS('Redeck Deflections'!$AB$33),0.125),MROUND('Redeck Deflections'!$AB$33,0.125)*-1)","v":0},3]
[null,3.1,{"$f":"'Redeck Deflections'!$F$6*0.1","v":11},{"$f":"Reference!$D$370+Reference!$C$371","v":241},null,null,null,null,null,{"$f":"SUM('Redeck Deflections'!$K$34:$O$34)","v":-2.5699999999999997E-2},{"$f":"IF('Redeck Deflections'!$P$34<0,MROUND(ABS('Redeck Deflections'!$P$34),0.125),MROUND('Redeck Deflections'!$P$34,0.125)*-1)","v":0},3.1,null,3.1,{"$f":"'Redeck Deflections'!$F$6*0.1","v":11},{"$f":"Reference!$D$370+Reference!$C$371","v":241},null,null,null,null,null,{"$f":"SUM('Redeck Deflections'!$W$34:$AA$34)","v":-2.5699999999999997E-2},{"$f":"IF('Redeck Deflections'!$AB$34<0,MROUND(ABS('Redeck Deflections'!$AB$34),0.125),MROUND('Redeck Deflections'!$AB$34,0.125)*-1)","v":0},3.1]
[null,3.2,{"$f":"'Redeck Deflections'!$F$6*0.2","v":22},{"$f":"Reference!$C$372+Reference!$D$370","v":252},null,null,null,null,null,{"$f":"SUM('Redeck Deflections'!$K$35:$O$35)","v":-0.1076},{"$f":"IF('Redeck Deflections'!$P$35<0,MROUND(ABS('Redeck Deflections'!$P$35),0.125),MROUND('Redeck Deflections'!$P$35,0.125)*-1)","v":0.125},3.2,null,3.2,{"$f":"'Redeck Deflections'!$F$6*0.2","v":22},{"$f":"Reference!$C$372+Reference!$D$370","v":252},null,null,null,null,null,{"$f":"SUM('Redeck Deflections'!$W$35:$AA$35)","v":-0.1076},{"$f":"IF('Redeck Deflections'!$AB$35<0,MROUND(ABS('Redeck Deflections'!$AB$35),0.125),MROUND('Redeck Deflections'!$AB$35,0.125)*-1)","v":0.125},3.2]
[null,3.3,{"$f":"'Redeck Deflections'!$F$6*0.3","v":33},{"$f":"Reference!$C$373+Reference!$D$370","v":263},null,null,null,null,null,{"$f":"SUM('Redeck Deflections'!$K$36:$O$36)","v":-0.22439999999999999},{"$f":"IF('Redeck Deflections'!$P$36<0,MROUND(ABS('Redeck Deflections'!$P$36),0.125),MROUND('Redeck Deflections'!$P$36,0.125)*-1)","v":0.25},3.3,null,3.3,{"$f":"'Redeck Deflections'!$F$6*0.3","v":33},{"$f":"Reference!$C$373+Reference!$D$370","v":263},null,null,null,null,null,{"$f":"SUM('Redeck Deflections'!$W$36:$AA$36)","v":-0.22439999999999999},{"$f":"IF('Redeck Deflections'!$AB$36<0,MROUND(ABS('Redeck Deflections'!$AB$36),0.125),MROUND('Redeck Deflections'!$AB$36,0.125)*-1)","v":0.25},3.3]
[null,3.4,{"$f":"'Redeck Deflections'!$F$6*0.4","v":44},{"$f":"Reference!$C$374+Reference!$D$370","v":274},null,null,null,null,null,{"$f":"SUM('Redeck Deflections'!$K$37:$O$37)","v":-0.34010000000000001},{"$f":"IF('Redeck Deflections'!$P$37<0,MROUND(ABS('Redeck Deflections'!$P$37),0.125),MROUND('Redeck Deflections'!$P$37,0.125)*-1)","v":0.375},3.4,null,3.4,{"$f":"'Redeck Deflections'!$F$6*0.4","v":44},{"$f":"Reference!$C$374+Reference!$D$370","v":274},null,null,null,null,null,{"$f":"SUM('Redeck Deflections'!$W$37:$AA$37)","v":-0.34010000000000001},{"$f":"IF('Redeck Deflections'!$AB$37<0,MROUND(ABS('Redeck Deflections'!$AB$37),0.125),MROUND('Redeck Deflections'!$AB$37,0.125)*-1)","v":0.375},3.4]
[null,3.5,{"$f":"'Redeck Deflections'!$F$6*0.5","v":55},{"$f":"Reference!$C$375+Reference!$D$370","v":285},null,null,null,null,null,{"$f":"SUM('Redeck Deflections'!$K$38:$O$38)","v":-0.4234},{"$f":"IF('Redeck Deflections'!$P$38<0,MROUND(ABS('Redeck Deflections'!$P$38),0.125),MROUND('Redeck Deflections'!$P$38,0.125)*-1)","v":0.375},3.5,null,3.5,{"$f":"'Redeck Deflections'!$F$6*0.5","v":55},{"$f":"Reference!$C$375+Reference!$D$370","v":285},null,null,null,null,null,{"$f":"SUM('Redeck Deflections'!$W$38:$AA$38)","v":-0.4234},{"$f":"IF('Redeck Deflections'!$AB$38<0,MROUND(ABS('Redeck Deflections'!$AB$38),0.125),MROUND('Redeck Deflections'!$AB$38,0.125)*-1)","v":0.375},3.5]
[null,3.6,{"$f":"'Redeck Deflections'!$F$6*0.6","v":66},{"$f":"Reference!$C$376+Reference!$D$370","v":296},null,null,null,null,null,{"$f":"SUM('Redeck Deflections'!$K$39:$O$39)","v":-0.45369999999999999},{"$f":"IF('Redeck Deflections'!$P$39<0,MROUND(ABS('Redeck Deflections'!$P$39),0.125),MROUND('Redeck Deflections'!$P$39,0.125)*-1)","v":0.5},3.6,null,3.6,{"$f":"'Redeck Deflections'!$F$6*0.6","v":66},{"$f":"Reference!$C$376+Reference!$D$370","v":296},null,null,null,null,null,{"$f":"SUM('Redeck Deflections'!$W$39:$AA$39)","v":-0.45369999999999999},{"$f":"IF('Redeck Deflections'!$AB$39<0,MROUND(ABS('Redeck Deflections'!$AB$39),0.125),MROUND('Redeck Deflections'!$AB$39,0.125)*-1)","v":0.5},3.6]
[null,3.7,{"$f":"'Redeck Deflections'!$F$6*0.7","v":77},{"$f":"Reference!$C$377+Reference!$D$370","v":307},null,null,null,null,null,{"$f":"SUM('Redeck Deflections'!$K$40:$O$40)","v":-0.42109999999999997},{"$f":"IF('Redeck Deflections'!$P$40<0,MROUND(ABS('Redeck Deflections'!$P$40),0.125),MROUND('Redeck Deflections'!$P$40,0.125)*-1)","v":0.375},3.7,null,3.7,{"$f":"'Redeck Deflections'!$F$6*0.7","v":77},{"$f":"Reference!$C$377+Reference!$D$370","v":307},null,null,null,null,null,{"$f":"SUM('Redeck Deflections'!$W$40:$AA$40)","v":-0.42109999999999997},{"$f":"IF('Redeck Deflections'!$AB$40<0,MROUND(ABS('Redeck Deflections'!$AB$40),0.125),MROUND('Redeck Deflections'!$AB$40,0.125)*-1)","v":0.375},3.7]
[null,3.8,{"$f":"'Redeck Deflections'!$F$6*0.8","v":88},{"$f":"Reference!$C$378+Reference!$D$370","v":318},null,null,null,null,null,{"$f":"SUM('Redeck Deflections'!$K$41:$O$41)","v":-0.3256},{"$f":"IF('Redeck Deflections'!$P$41<0,MROUND(ABS('Redeck Deflections'!$P$41),0.125),MROUND('Redeck Deflections'!$P$41,0.125)*-1)","v":0.375},3.8,null,3.8,{"$f":"'Redeck Deflections'!$F$6*0.8","v":88},{"$f":"Reference!$C$378+Reference!$D$370","v":318},null,null,null,null,null,{"$f":"SUM('Redeck Deflections'!$W$41:$AA$41)","v":-0.3256},{"$f":"IF('Redeck Deflections'!$AB$41<0,MROUND(ABS('Redeck Deflections'!$AB$41),0.125),MROUND('Redeck Deflections'!$AB$41,0.125)*-1)","v":0.375},3.8]
[null,3.9,{"$f":"'Redeck Deflections'!$F$6*0.9","v":99},{"$f":"Reference!$C$379+Reference!$D$370","v":329},null,null,null,null,null,{"$f":"SUM('Redeck Deflections'!$K$42:$O$42)","v":-0.17810000000000001},{"$f":"IF('Redeck Deflections'!$P$42<0,MROUND(ABS('Redeck Deflections'!$P$42),0.125),MROUND('Redeck Deflections'!$P$42,0.125)*-1)","v":0.125},3.9,null,3.9,{"$f":"'Redeck Deflections'!$F$6*0.9","v":99},{"$f":"Reference!$C$379+Reference!$D$370","v":329},null,null,null,null,null,{"$f":"SUM('Redeck Deflections'!$W$42:$AA$42)","v":-0.17810000000000001},{"$f":"IF('Redeck Deflections'!$AB$42<0,MROUND(ABS('Redeck Deflections'!$AB$42),0.125),MROUND('Redeck Deflections'!$AB$42,0.125)*-1)","v":0.125},3.9]
[null,4,{"$f":"'Redeck Deflections'!$F$6*1","v":110},{"$f":"Reference!$C$380+Reference!$D$370","v":340},null,null,null,null,null,{"$f":"SUM('Redeck Deflections'!$K$43:$O$43)","v":0},{"$f":"IF('Redeck Deflections'!$P$43<0,MROUND(ABS('Redeck Deflections'!$P$43),0.125),MROUND('Redeck Deflections'!$P$43,0.125)*-1)","v":0},4,null,4,{"$f":"'Redeck Deflections'!$F$6*1","v":110},{"$f":"Reference!$C$380+Reference!$D$370","v":340},null,null,null,null,null,{"$f":"SUM('Redeck Deflections'!$W$43:$AA$43)","v":0},{"$f":"IF('Redeck Deflections'!$AB$43<0,MROUND(ABS('Redeck Deflections'!$AB$43),0.125),MROUND('Redeck Deflections'!$AB$43,0.125)*-1)","v":0},4]
[null,4,0,{"$f":"Reference!$D$380","v":340},null,null,null,null,null,{"$f":"SUM('Redeck Deflections'!$K$44:$O$44)","v":0},{"$f":"IF('Redeck Deflections'!$P$44<0,MROUND(ABS('Redeck Deflections'!$P$44),0.125),MROUND('Redeck Deflections'!$P$44,0.125)*-1)","v":0},4,null,4,0,{"$f":"Reference!$D$380","v":340},null,null,null,null,null,{"$f":"SUM('Redeck Deflections'!$W$44:$AA$44)","v":0},{"$f":"IF('Redeck Deflections'!$AB$44<0,MROUND(ABS('Redeck Deflections'!$AB$44),0.125),MROUND('Redeck Deflections'!$AB$44,0.125)*-1)","v":0},4]
[null,4.0999999999999996,{"$f":"'Redeck Deflections'!$G$6*0.1","v":0},{"$f":"Reference!$D$381+Reference!$C$382","v":340},null,null,null,null,null,{"$f":"SUM('Redeck Deflections'!$K$45:$O$45)","v":0},{"$f":"IF('Redeck Deflections'!$P$45<0,MROUND(ABS('Redeck Deflections'!$P$45),0.125),MROUND('Redeck Deflections'!$P$45,0.125)*-1)","v":0},4.0999999999999996,null,4.0999999999999996,{"$f":"'Redeck Deflections'!$G$6*0.1","v":0},{"$f":"Reference!$D$381+Reference!$C$382","v":340},null,null,null,null,null,{"$f":"SUM('Redeck Deflections'!$W$45:$AA$45)","v":0},{"$f":"IF('Redeck Deflections'!$AB$45<0,MROUND(ABS('Redeck Deflections'!$AB$45),0.125),MROUND('Redeck Deflections'!$AB$45,0.125)*-1)","v":0},4.0999999999999996]
[null,4.2,{"$f":"'Redeck Deflections'!$G$6*0.2","v":0},{"$f":"Reference!$C$383+Reference!$D$381","v":340},null,null,null,null,null,{"$f":"SUM('Redeck Deflections'!$K$46:$O$46)","v":0},{"$f":"IF('Redeck Deflections'!$P$46<0,MROUND(ABS('Redeck Deflections'!$P$46),0.125),MROUND('Redeck Deflections'!$P$46,0.125)*-1)","v":0},4.2,null,4.2,{"$f":"'Redeck Deflections'!$G$6*0.2","v":0},{"$f":"Reference!$C$383+Reference!$D$381","v":340},null,null,null,null,null,{"$f":"SUM('Redeck Deflections'!$W$46:$AA$46)","v":0},{"$f":"IF('Redeck Deflections'!$AB$46<0,MROUND(ABS('Redeck Deflections'!$AB$46),0.125),MROUND('Redeck Deflections'!$AB$46,0.125)*-1)","v":0},4.2]
[null,4.3,{"$f":"'Redeck Deflections'!$G$6*0.3","v":0},{"$f":"Reference!$C$384+Reference!$D$381","v":340},null,null,null,null,null,{"$f":"SUM('Redeck Deflections'!$K$47:$O$47)","v":0},{"$f":"IF('Redeck Deflections'!$P$47<0,MROUND(ABS('Redeck Deflections'!$P$47),0.125),MROUND('Redeck Deflections'!$P$47,0.125)*-1)","v":0},4.3,null,4.3,{"$f":"'Redeck Deflections'!$G$6*0.3","v":0},{"$f":"Reference!$C$384+Reference!$D$381","v":340},null,null,null,null,null,{"$f":"SUM('Redeck Deflections'!$W$47:$AA$47)","v":0},{"$f":"IF('Redeck Deflections'!$AB$47<0,MROUND(ABS('Redeck Deflections'!$AB$47),0.125),MROUND('Redeck Deflections'!$AB$47,0.125)*-1)","v":0},4.3]
[null,4.4000000000000004,{"$f":"'Redeck Deflections'!$G$6*0.4","v":0},{"$f":"Reference!$C$385+Reference!$D$381","v":340},null,null,null,null,null,{"$f":"SUM('Redeck Deflections'!$K$48:$O$48)","v":0},{"$f":"IF('Redeck Deflections'!$P$48<0,MROUND(ABS('Redeck Deflections'!$P$48),0.125),MROUND('Redeck Deflections'!$P$48,0.125)*-1)","v":0},4.4000000000000004,null,4.4000000000000004,{"$f":"'Redeck Deflections'!$G$6*0.4","v":0},{"$f":"Reference!$C$385+Reference!$D$381","v":340},null,null,null,null,null,{"$f":"SUM('Redeck Deflections'!$W$48:$AA$48)","v":0},{"$f":"IF('Redeck Deflections'!$AB$48<0,MROUND(ABS('Redeck Deflections'!$AB$48),0.125),MROUND('Redeck Deflections'!$AB$48,0.125)*-1)","v":0},4.4000000000000004]
[null,4.5,{"$f":"'Redeck Deflections'!$G$6*0.5","v":0},{"$f":"Reference!$C$386+Reference!$D$381","v":340},null,null,null,null,null,{"$f":"SUM('Redeck Deflections'!$K$49:$O$49)","v":0},{"$f":"IF('Redeck Deflections'!$P$49<0,MROUND(ABS('Redeck Deflections'!$P$49),0.125),MROUND('Redeck Deflections'!$P$49,0.125)*-1)","v":0},4.5,null,4.5,{"$f":"'Redeck Deflections'!$G$6*0.5","v":0},{"$f":"Reference!$C$386+Reference!$D$381","v":340},null,null,null,null,null,{"$f":"SUM('Redeck Deflections'!$W$49:$AA$49)","v":0},{"$f":"IF('Redeck Deflections'!$AB$49<0,MROUND(ABS('Redeck Deflections'!$AB$49),0.125),MROUND('Redeck Deflections'!$AB$49,0.125)*-1)","v":0},4.5]
[null,4.5999999999999996,{"$f":"'Redeck Deflections'!$G$6*0.6","v":0},{"$f":"Reference!$C$387+Reference!$D$381","v":340},null,null,null,null,null,{"$f":"SUM('Redeck Deflections'!$K$50:$O$50)","v":0},{"$f":"IF('Redeck Deflections'!$P$50<0,MROUND(ABS('Redeck Deflections'!$P$50),0.125),MROUND('Redeck Deflections'!$P$50,0.125)*-1)","v":0},4.5999999999999996,null,4.5999999999999996,{"$f":"'Redeck Deflections'!$G$6*0.6","v":0},{"$f":"Reference!$C$387+Reference!$D$381","v":340},null,null,null,null,null,{"$f":"SUM('Redeck Deflections'!$W$50:$AA$50)","v":0},{"$f":"IF('Redeck Deflections'!$AB$50<0,MROUND(ABS('Redeck Deflections'!$AB$50),0.125),MROUND('Redeck Deflections'!$AB$50,0.125)*-1)","v":0},4.5999999999999996]
[null,4.7,{"$f":"'Redeck Deflections'!$G$6*0.7","v":0},{"$f":"Reference!$C$388+Reference!$D$381","v":340},null,null,null,null,null,{"$f":"SUM('Redeck Deflections'!$K$51:$O$51)","v":0},{"$f":"IF('Redeck Deflections'!$P$51<0,MROUND(ABS('Redeck Deflections'!$P$51),0.125),MROUND('Redeck Deflections'!$P$51,0.125)*-1)","v":0},4.7,null,4.7,{"$f":"'Redeck Deflections'!$G$6*0.7","v":0},{"$f":"Reference!$C$388+Reference!$D$381","v":340},null,null,null,null,null,{"$f":"SUM('Redeck Deflections'!$W$51:$AA$51)","v":0},{"$f":"IF('Redeck Deflections'!$AB$51<0,MROUND(ABS('Redeck Deflections'!$AB$51),0.125),MROUND('Redeck Deflections'!$AB$51,0.125)*-1)","v":0},4.7]
[null,4.8,{"$f":"'Redeck Deflections'!$G$6*0.8","v":0},{"$f":"Reference!$C$389+Reference!$D$381","v":340},null,null,null,null,null,{"$f":"SUM('Redeck Deflections'!$K$52:$O$52)","v":0},{"$f":"IF('Redeck Deflections'!$P$52<0,MROUND(ABS('Redeck Deflections'!$P$52),0.125),MROUND('Redeck Deflections'!$P$52,0.125)*-1)","v":0},4.8,null,4.8,{"$f":"'Redeck Deflections'!$G$6*0.8","v":0},{"$f":"Reference!$C$389+Reference!$D$381","v":340},null,null,null,null,null,{"$f":"SUM('Redeck Deflections'!$W$52:$AA$52)","v":0},{"$f":"IF('Redeck Deflections'!$AB$52<0,MROUND(ABS('Redeck Deflections'!$AB$52),0.125),MROUND('Redeck Deflections'!$AB$52,0.125)*-1)","v":0},4.8]
[null,4.9000000000000004,{"$f":"'Redeck Deflections'!$G$6*0.9","v":0},{"$f":"Reference!$C$390+Reference!$D$381","v":340},null,null,null,null,null,{"$f":"SUM('Redeck Deflections'!$K$53:$O$53)","v":0},{"$f":"IF('Redeck Deflections'!$P$53<0,MROUND(ABS('Redeck Deflections'!$P$53),0.125),MROUND('Redeck Deflections'!$P$53,0.125)*-1)","v":0},4.9000000000000004,null,4.9000000000000004,{"$f":"'Redeck Deflections'!$G$6*0.9","v":0},{"$f":"Reference!$C$390+Reference!$D$381","v":340},null,null,null,null,null,{"$f":"SUM('Redeck Deflections'!$W$53:$AA$53)","v":0},{"$f":"IF('Redeck Deflections'!$AB$53<0,MROUND(ABS('Redeck Deflections'!$AB$53),0.125),MROUND('Redeck Deflections'!$AB$53,0.125)*-1)","v":0},4.9000000000000004]
[null,5,{"$f":"'Redeck Deflections'!$G$6*1","v":0},{"$f":"Reference!$C$391+Reference!$D$381","v":340},null,null,null,null,null,{"$f":"SUM('Redeck Deflections'!$K$54:$O$54)","v":0},{"$f":"IF('Redeck Deflections'!$P$54<0,MROUND(ABS('Redeck Deflections'!$P$54),0.125),MROUND('Redeck Deflections'!$P$54,0.125)*-1)","v":0},5,null,5,{"$f":"'Redeck Deflections'!$G$6*1","v":0},{"$f":"Reference!$C$391+Reference!$D$381","v":340},null,null,null,null,null,{"$f":"SUM('Redeck Deflections'!$W$54:$AA$54)","v":0},{"$f":"IF('Redeck Deflections'!$AB$54<0,MROUND(ABS('Redeck Deflections'!$AB$54),0.125),MROUND('Redeck Deflections'!$AB$54,0.125)*-1)","v":0},5]
[null,5,0,{"$f":"Reference!$D$391","v":340},null,null,null,null,null,{"$f":"SUM('Redeck Deflections'!$K$55:$O$55)","v":0},{"$f":"IF('Redeck Deflections'!$P$55<0,MROUND(ABS('Redeck Deflections'!$P$55),0.125),MROUND('Redeck Deflections'!$P$55,0.125)*-1)","v":0},5,null,5,0,{"$f":"Reference!$D$391","v":340},null,null,null,null,null,{"$f":"SUM('Redeck Deflections'!$W$55:$AA$55)","v":0},{"$f":"IF('Redeck Deflections'!$AB$55<0,MROUND(ABS('Redeck Deflections'!$AB$55),0.125),MROUND('Redeck Deflections'!$AB$55,0.125)*-1)","v":0},5]
[null,5.0999999999999996,{"$f":"'Redeck Deflections'!$H$6*0.1","v":0},{"$f":"Reference!$D$392+Reference!$C$393","v":340},null,null,null,null,null,{"$f":"SUM('Redeck Deflections'!$K$56:$O$56)","v":0},{"$f":"IF('Redeck Deflections'!$P$56<0,MROUND(ABS('Redeck Deflections'!$P$56),0.125),MROUND('Redeck Deflections'!$P$56,0.125)*-1)","v":0},5.0999999999999996,null,5.0999999999999996,{"$f":"'Redeck Deflections'!$H$6*0.1","v":0},{"$f":"Reference!$D$392+Reference!$C$393","v":340},null,null,null,null,null,{"$f":"SUM('Redeck Deflections'!$W$56:$AA$56)","v":0},{"$f":"IF('Redeck Deflections'!$AB$56<0,MROUND(ABS('Redeck Deflections'!$AB$56),0.125),MROUND('Redeck Deflections'!$AB$56,0.125)*-1)","v":0},5.0999999999999996]
[null,5.2,{"$f":"'Redeck Deflections'!$H$6*0.2","v":0},{"$f":"Reference!$C$394+Reference!$D$392","v":340},null,null,null,null,null,{"$f":"SUM('Redeck Deflections'!$K$57:$O$57)","v":0},{"$f":"IF('Redeck Deflections'!$P$57<0,MROUND(ABS('Redeck Deflections'!$P$57),0.125),MROUND('Redeck Deflections'!$P$57,0.125)*-1)","v":0},5.2,null,5.2,{"$f":"'Redeck Deflections'!$H$6*0.2","v":0},{"$f":"Reference!$C$394+Reference!$D$392","v":340},null,null,null,null,null,{"$f":"SUM('Redeck Deflections'!$W$57:$AA$57)","v":0},{"$f":"IF('Redeck Deflections'!$AB$57<0,MROUND(ABS('Redeck Deflections'!$AB$57),0.125),MROUND('Redeck Deflections'!$AB$57,0.125)*-1)","v":0},5.2]
[null,5.3,{"$f":"'Redeck Deflections'!$H$6*0.3","v":0},{"$f":"Reference!$C$395+Reference!$D$392","v":340},null,null,null,null,null,{"$f":"SUM('Redeck Deflections'!$K$58:$O$58)","v":0},{"$f":"IF('Redeck Deflections'!$P$58<0,MROUND(ABS('Redeck Deflections'!$P$58),0.125),MROUND('Redeck Deflections'!$P$58,0.125)*-1)","v":0},5.3,null,5.3,{"$f":"'Redeck Deflections'!$H$6*0.3","v":0},{"$f":"Reference!$C$395+Reference!$D$392","v":340},null,null,null,null,null,{"$f":"SUM('Redeck Deflections'!$W$58:$AA$58)","v":0},{"$f":"IF('Redeck Deflections'!$AB$58<0,MROUND(ABS('Redeck Deflections'!$AB$58),0.125),MROUND('Redeck Deflections'!$AB$58,0.125)*-1)","v":0},5.3]
[null,5.4,{"$f":"'Redeck Deflections'!$H$6*0.4","v":0},{"$f":"Reference!$C$396+Reference!$D$392","v":340},null,null,null,null,null,{"$f":"SUM('Redeck Deflections'!$K$59:$O$59)","v":0},{"$f":"IF('Redeck Deflections'!$P$59<0,MROUND(ABS('Redeck Deflections'!$P$59),0.125),MROUND('Redeck Deflections'!$P$59,0.125)*-1)","v":0},5.4,null,5.4,{"$f":"'Redeck Deflections'!$H$6*0.4","v":0},{"$f":"Reference!$C$396+Reference!$D$392","v":340},null,null,null,null,null,{"$f":"SUM('Redeck Deflections'!$W$59:$AA$59)","v":0},{"$f":"IF('Redeck Deflections'!$AB$59<0,MROUND(ABS('Redeck Deflections'!$AB$59),0.125),MROUND('Redeck Deflections'!$AB$59,0.125)*-1)","v":0},5.4]
[null,5.5,{"$f":"'Redeck Deflections'!$H$6*0.5","v":0},{"$f":"Reference!$C$397+Reference!$D$392","v":340},null,null,null,null,null,{"$f":"SUM('Redeck Deflections'!$K$60:$O$60)","v":0},{"$f":"IF('Redeck Deflections'!$P$60<0,MROUND(ABS('Redeck Deflections'!$P$60),0.125),MROUND('Redeck Deflections'!$P$60,0.125)*-1)","v":0},5.5,null,5.5,{"$f":"'Redeck Deflections'!$H$6*0.5","v":0},{"$f":"Reference!$C$397+Reference!$D$392","v":340},null,null,null,null,null,{"$f":"SUM('Redeck Deflections'!$W$60:$AA$60)","v":0},{"$f":"IF('Redeck Deflections'!$AB$60<0,MROUND(ABS('Redeck Deflections'!$AB$60),0.125),MROUND('Redeck Deflections'!$AB$60,0.125)*-1)","v":0},5.5]
[null,5.6,{"$f":"'Redeck Deflections'!$H$6*0.6","v":0},{"$f":"Reference!$C$398+Reference!$D$392","v":340},null,null,null,null,null,{"$f":"SUM('Redeck Deflections'!$K$61:$O$61)","v":0},{"$f":"IF('Redeck Deflections'!$P$61<0,MROUND(ABS('Redeck Deflections'!$P$61),0.125),MROUND('Redeck Deflections'!$P$61,0.125)*-1)","v":0},5.6,null,5.6,{"$f":"'Redeck Deflections'!$H$6*0.6","v":0},{"$f":"Reference!$C$398+Reference!$D$392","v":340},null,null,null,null,null,{"$f":"SUM('Redeck Deflections'!$W$61:$AA$61)","v":0},{"$f":"IF('Redeck Deflections'!$AB$61<0,MROUND(ABS('Redeck Deflections'!$AB$61),0.125),MROUND('Redeck Deflections'!$AB$61,0.125)*-1)","v":0},5.6]
[null,5.7,{"$f":"'Redeck Deflections'!$H$6*0.7","v":0},{"$f":"Reference!$C$399+Reference!$D$392","v":340},null,null,null,null,null,{"$f":"SUM('Redeck Deflections'!$K$62:$O$62)","v":0},{"$f":"IF('Redeck Deflections'!$P$62<0,MROUND(ABS('Redeck Deflections'!$P$62),0.125),MROUND('Redeck Deflections'!$P$62,0.125)*-1)","v":0},5.7,null,5.7,{"$f":"'Redeck Deflections'!$H$6*0.7","v":0},{"$f":"Reference!$C$399+Reference!$D$392","v":340},null,null,null,null,null,{"$f":"SUM('Redeck Deflections'!$W$62:$AA$62)","v":0},{"$f":"IF('Redeck Deflections'!$AB$62<0,MROUND(ABS('Redeck Deflections'!$AB$62),0.125),MROUND('Redeck Deflections'!$AB$62,0.125)*-1)","v":0},5.7]
[null,5.8,{"$f":"'Redeck Deflections'!$H$6*0.8","v":0},{"$f":"Reference!$C$400+Reference!$D$392","v":340},null,null,null,null,null,{"$f":"SUM('Redeck Deflections'!$K$63:$O$63)","v":0},{"$f":"IF('Redeck Deflections'!$P$63<0,MROUND(ABS('Redeck Deflections'!$P$63),0.125),MROUND('Redeck Deflections'!$P$63,0.125)*-1)","v":0},5.8,null,5.8,{"$f":"'Redeck Deflections'!$H$6*0.8","v":0},{"$f":"Reference!$C$400+Reference!$D$392","v":340},null,null,null,null,null,{"$f":"SUM('Redeck Deflections'!$W$63:$AA$63)","v":0},{"$f":"IF('Redeck Deflections'!$AB$63<0,MROUND(ABS('Redeck Deflections'!$AB$63),0.125),MROUND('Redeck Deflections'!$AB$63,0.125)*-1)","v":0},5.8]
[null,5.9,{"$f":"'Redeck Deflections'!$H$6*0.9","v":0},{"$f":"Reference!$C$401+Reference!$D$392","v":340},null,null,null,null,null,{"$f":"SUM('Redeck Deflections'!$K$64:$O$64)","v":0},{"$f":"IF('Redeck Deflections'!$P$64<0,MROUND(ABS('Redeck Deflections'!$P$64),0.125),MROUND('Redeck Deflections'!$P$64,0.125)*-1)","v":0},5.9,null,5.9,{"$f":"'Redeck Deflections'!$H$6*0.9","v":0},{"$f":"Reference!$C$401+Reference!$D$392","v":340},null,null,null,null,null,{"$f":"SUM('Redeck Deflections'!$W$64:$AA$64)","v":0},{"$f":"IF('Redeck Deflections'!$AB$64<0,MROUND(ABS('Redeck Deflections'!$AB$64),0.125),MROUND('Redeck Deflections'!$AB$64,0.125)*-1)","v":0},5.9]
[null,6,{"$f":"'Redeck Deflections'!$H$6*1","v":0},{"$f":"Reference!$C$402+Reference!$D$392","v":340},null,null,null,null,null,{"$f":"SUM('Redeck Deflections'!$K$65:$O$65)","v":0},{"$f":"IF('Redeck Deflections'!$P$65<0,MROUND(ABS('Redeck Deflections'!$P$65),0.125),MROUND('Redeck Deflections'!$P$65,0.125)*-1)","v":0},6,null,6,{"$f":"'Redeck Deflections'!$H$6*1","v":0},{"$f":"Reference!$C$402+Reference!$D$392","v":340},null,null,null,null,null,{"$f":"SUM('Redeck Deflections'!$W$65:$AA$65)","v":0},{"$f":"IF('Redeck Deflections'!$AB$65<0,MROUND(ABS('Redeck Deflections'!$AB$65),0.125),MROUND('Redeck Deflections'!$AB$65,0.125)*-1)","v":0},6]
[null,6,0,{"$f":"Reference!$D$402","v":340},null,null,null,null,null,{"$f":"SUM('Redeck Deflections'!$K$66:$O$66)","v":0},{"$f":"IF('Redeck Deflections'!$P$66<0,MROUND(ABS('Redeck Deflections'!$P$66),0.125),MROUND('Redeck Deflections'!$P$66,0.125)*-1)","v":0},6,null,6,0,{"$f":"Reference!$D$402","v":340},null,null,null,null,null,{"$f":"SUM('Redeck Deflections'!$W$66:$AA$66)","v":0},{"$f":"IF('Redeck Deflections'!$AB$66<0,MROUND(ABS('Redeck Deflections'!$AB$66),0.125),MROUND('Redeck Deflections'!$AB$66,0.125)*-1)","v":0},6]
[null,6.1,{"$f":"'Redeck Deflections'!$I$6*0.1","v":0},{"$f":"Reference!$D$403+Reference!$C$404","v":340},null,null,null,null,null,{"$f":"SUM('Redeck Deflections'!$K$67:$O$67)","v":0},{"$f":"IF('Redeck Deflections'!$P$67<0,MROUND(ABS('Redeck Deflections'!$P$67),0.125),MROUND('Redeck Deflections'!$P$67,0.125)*-1)","v":0},6.1,null,6.1,{"$f":"'Redeck Deflections'!$I$6*0.1","v":0},{"$f":"Reference!$D$403+Reference!$C$404","v":340},null,null,null,null,null,{"$f":"SUM('Redeck Deflections'!$W$67:$AA$67)","v":0},{"$f":"IF('Redeck Deflections'!$AB$67<0,MROUND(ABS('Redeck Deflections'!$AB$67),0.125),MROUND('Redeck Deflections'!$AB$67,0.125)*-1)","v":0},6.1]
[null,6.2,{"$f":"'Redeck Deflections'!$I$6*0.2","v":0},{"$f":"Reference!$C$405+Reference!$D$403","v":340},null,null,null,null,null,{"$f":"SUM('Redeck Deflections'!$K$68:$O$68)","v":0},{"$f":"IF('Redeck Deflections'!$P$68<0,MROUND(ABS('Redeck Deflections'!$P$68),0.125),MROUND('Redeck Deflections'!$P$68,0.125)*-1)","v":0},6.2,null,6.2,{"$f":"'Redeck Deflections'!$I$6*0.2","v":0},{"$f":"Reference!$C$405+Reference!$D$403","v":340},null,null,null,null,null,{"$f":"SUM('Redeck Deflections'!$W$68:$AA$68)","v":0},{"$f":"IF('Redeck Deflections'!$AB$68<0,MROUND(ABS('Redeck Deflections'!$AB$68),0.125),MROUND('Redeck Deflections'!$AB$68,0.125)*-1)","v":0},6.2]
[null,6.3,{"$f":"'Redeck Deflections'!$I$6*0.3","v":0},{"$f":"Reference!$C$406+Reference!$D$403","v":340},null,null,null,null,null,{"$f":"SUM('Redeck Deflections'!$K$69:$O$69)","v":0},{"$f":"IF('Redeck Deflections'!$P$69<0,MROUND(ABS('Redeck Deflections'!$P$69),0.125),MROUND('Redeck Deflections'!$P$69,0.125)*-1)","v":0},6.3,null,6.3,{"$f":"'Redeck Deflections'!$I$6*0.3","v":0},{"$f":"Reference!$C$406+Reference!$D$403","v":340},null,null,null,null,null,{"$f":"SUM('Redeck Deflections'!$W$69:$AA$69)","v":0},{"$f":"IF('Redeck Deflections'!$AB$69<0,MROUND(ABS('Redeck Deflections'!$AB$69),0.125),MROUND('Redeck Deflections'!$AB$69,0.125)*-1)","v":0},6.3]
[null,6.4,{"$f":"'Redeck Deflections'!$I$6*0.4","v":0},{"$f":"Reference!$C$407+Reference!$D$403","v":340},null,null,null,null,null,{"$f":"SUM('Redeck Deflections'!$K$70:$O$70)","v":0},{"$f":"IF('Redeck Deflections'!$P$70<0,MROUND(ABS('Redeck Deflections'!$P$70),0.125),MROUND('Redeck Deflections'!$P$70,0.125)*-1)","v":0},6.4,null,6.4,{"$f":"'Redeck Deflections'!$I$6*0.4","v":0},{"$f":"Reference!$C$407+Reference!$D$403","v":340},null,null,null,null,null,{"$f":"SUM('Redeck Deflections'!$W$70:$AA$70)","v":0},{"$f":"IF('Redeck Deflections'!$AB$70<0,MROUND(ABS('Redeck Deflections'!$AB$70),0.125),MROUND('Redeck Deflections'!$AB$70,0.125)*-1)","v":0},6.4]
[null,6.5,{"$f":"'Redeck Deflections'!$I$6*0.5","v":0},{"$f":"Reference!$C$408+Reference!$D$403","v":340},null,null,null,null,null,{"$f":"SUM('Redeck Deflections'!$K$71:$O$71)","v":0},{"$f":"IF('Redeck Deflections'!$P$71<0,MROUND(ABS('Redeck Deflections'!$P$71),0.125),MROUND('Redeck Deflections'!$P$71,0.125)*-1)","v":0},6.5,null,6.5,{"$f":"'Redeck Deflections'!$I$6*0.5","v":0},{"$f":"Reference!$C$408+Reference!$D$403","v":340},null,null,null,null,null,{"$f":"SUM('Redeck Deflections'!$W$71:$AA$71)","v":0},{"$f":"IF('Redeck Deflections'!$AB$71<0,MROUND(ABS('Redeck Deflections'!$AB$71),0.125),MROUND('Redeck Deflections'!$AB$71,0.125)*-1)","v":0},6.5]
[null,6.6,{"$f":"'Redeck Deflections'!$I$6*0.6","v":0},{"$f":"Reference!$C$409+Reference!$D$403","v":340},null,null,null,null,null,{"$f":"SUM('Redeck Deflections'!$K$72:$O$72)","v":0},{"$f":"IF('Redeck Deflections'!$P$72<0,MROUND(ABS('Redeck Deflections'!$P$72),0.125),MROUND('Redeck Deflections'!$P$72,0.125)*-1)","v":0},6.6,null,6.6,{"$f":"'Redeck Deflections'!$I$6*0.6","v":0},{"$f":"Reference!$C$409+Reference!$D$403","v":340},null,null,null,null,null,{"$f":"SUM('Redeck Deflections'!$W$72:$AA$72)","v":0},{"$f":"IF('Redeck Deflections'!$AB$72<0,MROUND(ABS('Redeck Deflections'!$AB$72),0.125),MROUND('Redeck Deflections'!$AB$72,0.125)*-1)","v":0},6.6]
[null,6.7,{"$f":"'Redeck Deflections'!$I$6*0.7","v":0},{"$f":"Reference!$C$410+Reference!$D$403","v":340},null,null,null,null,null,{"$f":"SUM('Redeck Deflections'!$K$73:$O$73)","v":0},{"$f":"IF('Redeck Deflections'!$P$73<0,MROUND(ABS('Redeck Deflections'!$P$73),0.125),MROUND('Redeck Deflections'!$P$73,0.125)*-1)","v":0},6.7,null,6.7,{"$f":"'Redeck Deflections'!$I$6*0.7","v":0},{"$f":"Reference!$C$410+Reference!$D$403","v":340},null,null,null,null,null,{"$f":"SUM('Redeck Deflections'!$W$73:$AA$73)","v":0},{"$f":"IF('Redeck Deflections'!$AB$73<0,MROUND(ABS('Redeck Deflections'!$AB$73),0.125),MROUND('Redeck Deflections'!$AB$73,0.125)*-1)","v":0},6.7]
[null,6.8,{"$f":"'Redeck Deflections'!$I$6*0.8","v":0},{"$f":"Reference!$C$411+Reference!$D$403","v":340},null,null,null,null,null,{"$f":"SUM('Redeck Deflections'!$K$74:$O$74)","v":0},{"$f":"IF('Redeck Deflections'!$P$74<0,MROUND(ABS('Redeck Deflections'!$P$74),0.125),MROUND('Redeck Deflections'!$P$74,0.125)*-1)","v":0},6.8,null,6.8,{"$f":"'Redeck Deflections'!$I$6*0.8","v":0},{"$f":"Reference!$C$411+Reference!$D$403","v":340},null,null,null,null,null,{"$f":"SUM('Redeck Deflections'!$W$74:$AA$74)","v":0},{"$f":"IF('Redeck Deflections'!$AB$74<0,MROUND(ABS('Redeck Deflections'!$AB$74),0.125),MROUND('Redeck Deflections'!$AB$74,0.125)*-1)","v":0},6.8]
[null,6.9,{"$f":"'Redeck Deflections'!$I$6*0.9","v":0},{"$f":"Reference!$C$412+Reference!$D$403","v":340},null,null,null,null,null,{"$f":"SUM('Redeck Deflections'!$K$75:$O$75)","v":0},{"$f":"IF('Redeck Deflections'!$P$75<0,MROUND(ABS('Redeck Deflections'!$P$75),0.125),MROUND('Redeck Deflections'!$P$75,0.125)*-1)","v":0},6.9,null,6.9,{"$f":"'Redeck Deflections'!$I$6*0.9","v":0},{"$f":"Reference!$C$412+Reference!$D$403","v":340},null,null,null,null,null,{"$f":"SUM('Redeck Deflections'!$W$75:$AA$75)","v":0},{"$f":"IF('Redeck Deflections'!$AB$75<0,MROUND(ABS('Redeck Deflections'!$AB$75),0.125),MROUND('Redeck Deflections'!$AB$75,0.125)*-1)","v":0},6.9]
[null,7,{"$f":"'Redeck Deflections'!$I$6*1","v":0},{"$f":"Reference!$C$413+Reference!$D$403","v":340},null,null,null,null,null,{"$f":"SUM('Redeck Deflections'!$K$76:$O$76)","v":0},{"$f":"IF('Redeck Deflections'!$P$76<0,MROUND(ABS('Redeck Deflections'!$P$76),0.125),MROUND('Redeck Deflections'!$P$76,0.125)*-1)","v":0},7,null,7,{"$f":"'Redeck Deflections'!$I$6*1","v":0},{"$f":"Reference!$C$413+Reference!$D$403","v":340},null,null,null,null,null,{"$f":"SUM('Redeck Deflections'!$W$76:$AA$76)","v":0},{"$f":"IF('Redeck Deflections'!$AB$76<0,MROUND(ABS('Redeck Deflections'!$AB$76),0.125),MROUND('Redeck Deflections'!$AB$76,0.125)*-1)","v":0},7]
[null,7,0,{"$f":"Reference!$D$413","v":340},null,null,null,null,null,{"$f":"SUM('Redeck Deflections'!$K$77:$O$77)","v":0},{"$f":"IF('Redeck Deflections'!$P$77<0,MROUND(ABS('Redeck Deflections'!$P$77),0.125),MROUND('Redeck Deflections'!$P$77,0.125)*-1)","v":0},7,null,7,0,{"$f":"Reference!$D$413","v":340},null,null,null,null,null,{"$f":"SUM('Redeck Deflections'!$W$77:$AA$77)","v":0},{"$f":"IF('Redeck Deflections'!$AB$77<0,MROUND(ABS('Redeck Deflections'!$AB$77),0.125),MROUND('Redeck Deflections'!$AB$77,0.125)*-1)","v":0},7]
[null,7.1,{"$f":"'Redeck Deflections'!$J$6*0.1","v":0},{"$f":"Reference!$D$414+Reference!$C$415","v":340},null,null,null,null,null,{"$f":"SUM('Redeck Deflections'!$K$78:$O$78)","v":0},{"$f":"IF('Redeck Deflections'!$P$78<0,MROUND(ABS('Redeck Deflections'!$P$78),0.125),MROUND('Redeck Deflections'!$P$78,0.125)*-1)","v":0},7.1,null,7.1,{"$f":"'Redeck Deflections'!$J$6*0.1","v":0},{"$f":"Reference!$D$414+Reference!$C$415","v":340},null,null,null,null,null,{"$f":"SUM('Redeck Deflections'!$W$78:$AA$78)","v":0},{"$f":"IF('Redeck Deflections'!$AB$78<0,MROUND(ABS('Redeck Deflections'!$AB$78),0.125),MROUND('Redeck Deflections'!$AB$78,0.125)*-1)","v":0},7.1]
[null,7.2,{"$f":"'Redeck Deflections'!$J$6*0.2","v":0},{"$f":"Reference!$C$416+Reference!$D$414","v":340},null,null,null,null,null,{"$f":"SUM('Redeck Deflections'!$K$79:$O$79)","v":0},{"$f":"IF('Redeck Deflections'!$P$79<0,MROUND(ABS('Redeck Deflections'!$P$79),0.125),MROUND('Redeck Deflections'!$P$79,0.125)*-1)","v":0},7.2,null,7.2,{"$f":"'Redeck Deflections'!$J$6*0.2","v":0},{"$f":"Reference!$C$416+Reference!$D$414","v":340},null,null,null,null,null,{"$f":"SUM('Redeck Deflections'!$W$79:$AA$79)","v":0},{"$f":"IF('Redeck Deflections'!$AB$79<0,MROUND(ABS('Redeck Deflections'!$AB$79),0.125),MROUND('Redeck Deflections'!$AB$79,0.125)*-1)","v":0},7.2]
[null,7.3,{"$f":"'Redeck Deflections'!$J$6*0.3","v":0},{"$f":"Reference!$C$417+Reference!$D$414","v":340},null,null,null,null,null,{"$f":"SUM('Redeck Deflections'!$K$80:$O$80)","v":0},{"$f":"IF('Redeck Deflections'!$P$80<0,MROUND(ABS('Redeck Deflections'!$P$80),0.125),MROUND('Redeck Deflections'!$P$80,0.125)*-1)","v":0},7.3,null,7.3,{"$f":"'Redeck Deflections'!$J$6*0.3","v":0},{"$f":"Reference!$C$417+Reference!$D$414","v":340},null,null,null,null,null,{"$f":"SUM('Redeck Deflections'!$W$80:$AA$80)","v":0},{"$f":"IF('Redeck Deflections'!$AB$80<0,MROUND(ABS('Redeck Deflections'!$AB$80),0.125),MROUND('Redeck Deflections'!$AB$80,0.125)*-1)","v":0},7.3]
[null,7.4,{"$f":"'Redeck Deflections'!$J$6*0.4","v":0},{"$f":"Reference!$C$418+Reference!$D$414","v":340},null,null,null,null,null,{"$f":"SUM('Redeck Deflections'!$K$81:$O$81)","v":0},{"$f":"IF('Redeck Deflections'!$P$81<0,MROUND(ABS('Redeck Deflections'!$P$81),0.125),MROUND('Redeck Deflections'!$P$81,0.125)*-1)","v":0},7.4,null,7.4,{"$f":"'Redeck Deflections'!$J$6*0.4","v":0},{"$f":"Reference!$C$418+Reference!$D$414","v":340},null,null,null,null,null,{"$f":"SUM('Redeck Deflections'!$W$81:$AA$81)","v":0},{"$f":"IF('Redeck Deflections'!$AB$81<0,MROUND(ABS('Redeck Deflections'!$AB$81),0.125),MROUND('Redeck Deflections'!$AB$81,0.125)*-1)","v":0},7.4]
[null,7.5,{"$f":"'Redeck Deflections'!$J$6*0.5","v":0},{"$f":"Reference!$C$419+Reference!$D$414","v":340},null,null,null,null,null,{"$f":"SUM('Redeck Deflections'!$K$82:$O$82)","v":0},{"$f":"IF('Redeck Deflections'!$P$82<0,MROUND(ABS('Redeck Deflections'!$P$82),0.125),MROUND('Redeck Deflections'!$P$82,0.125)*-1)","v":0},7.5,null,7.5,{"$f":"'Redeck Deflections'!$J$6*0.5","v":0},{"$f":"Reference!$C$419+Reference!$D$414","v":340},null,null,null,null,null,{"$f":"SUM('Redeck Deflections'!$W$82:$AA$82)","v":0},{"$f":"IF('Redeck Deflections'!$AB$82<0,MROUND(ABS('Redeck Deflections'!$AB$82),0.125),MROUND('Redeck Deflections'!$AB$82,0.125)*-1)","v":0},7.5]
[null,7.6,{"$f":"'Redeck Deflections'!$J$6*0.6","v":0},{"$f":"Reference!$C$420+Reference!$D$414","v":340},null,null,null,null,null,{"$f":"SUM('Redeck Deflections'!$K$83:$O$83)","v":0},{"$f":"IF('Redeck Deflections'!$P$83<0,MROUND(ABS('Redeck Deflections'!$P$83),0.125),MROUND('Redeck Deflections'!$P$83,0.125)*-1)","v":0},7.6,null,7.6,{"$f":"'Redeck Deflections'!$J$6*0.6","v":0},{"$f":"Reference!$C$420+Reference!$D$414","v":340},null,null,null,null,null,{"$f":"SUM('Redeck Deflections'!$W$83:$AA$83)","v":0},{"$f":"IF('Redeck Deflections'!$AB$83<0,MROUND(ABS('Redeck Deflections'!$AB$83),0.125),MROUND('Redeck Deflections'!$AB$83,0.125)*-1)","v":0},7.6]
[null,7.7,{"$f":"'Redeck Deflections'!$J$6*0.7","v":0},{"$f":"Reference!$C$421+Reference!$D$414","v":340},null,null,null,null,null,{"$f":"SUM('Redeck Deflections'!$K$84:$O$84)","v":0},{"$f":"IF('Redeck Deflections'!$P$84<0,MROUND(ABS('Redeck Deflections'!$P$84),0.125),MROUND('Redeck Deflections'!$P$84,0.125)*-1)","v":0},7.7,null,7.7,{"$f":"'Redeck Deflections'!$J$6*0.7","v":0},{"$f":"Reference!$C$421+Reference!$D$414","v":340},null,null,null,null,null,{"$f":"SUM('Redeck Deflections'!$W$84:$AA$84)","v":0},{"$f":"IF('Redeck Deflections'!$AB$84<0,MROUND(ABS('Redeck Deflections'!$AB$84),0.125),MROUND('Redeck Deflections'!$AB$84,0.125)*-1)","v":0},7.7]
[null,7.8,{"$f":"'Redeck Deflections'!$J$6*0.8","v":0},{"$f":"Reference!$C$422+Reference!$D$414","v":340},null,null,null,null,null,{"$f":"SUM('Redeck Deflections'!$K$85:$O$85)","v":0},{"$f":"IF('Redeck Deflections'!$P$85<0,MROUND(ABS('Redeck Deflections'!$P$85),0.125),MROUND('Redeck Deflections'!$P$85,0.125)*-1)","v":0},7.8,null,7.8,{"$f":"'Redeck Deflections'!$J$6*0.8","v":0},{"$f":"Reference!$C$422+Reference!$D$414","v":340},null,null,null,null,null,{"$f":"SUM('Redeck Deflections'!$W$85:$AA$85)","v":0},{"$f":"IF('Redeck Deflections'!$AB$85<0,MROUND(ABS('Redeck Deflections'!$AB$85),0.125),MROUND('Redeck Deflections'!$AB$85,0.125)*-1)","v":0},7.8]
[null,7.9,{"$f":"'Redeck Deflections'!$J$6*0.9","v":0},{"$f":"Reference!$C$423+Reference!$D$414","v":340},null,null,null,null,null,{"$f":"SUM('Redeck Deflections'!$K$86:$O$86)","v":0},{"$f":"IF('Redeck Deflections'!$P$86<0,MROUND(ABS('Redeck Deflections'!$P$86),0.125),MROUND('Redeck Deflections'!$P$86,0.125)*-1)","v":0},7.9,null,7.9,{"$f":"'Redeck Deflections'!$J$6*0.9","v":0},{"$f":"Reference!$C$423+Reference!$D$414","v":340},null,null,null,null,null,{"$f":"SUM('Redeck Deflections'!$W$86:$AA$86)","v":0},{"$f":"IF('Redeck Deflections'!$AB$86<0,MROUND(ABS('Redeck Deflections'!$AB$86),0.125),MROUND('Redeck Deflections'!$AB$86,0.125)*-1)","v":0},7.9]
[null,8,{"$f":"'Redeck Deflections'!$J$6*1","v":0},{"$f":"Reference!$C$424+Reference!$D$414","v":340},null,null,null,null,null,{"$f":"SUM('Redeck Deflections'!$K$87:$O$87)","v":0},{"$f":"IF('Redeck Deflections'!$P$87<0,MROUND(ABS('Redeck Deflections'!$P$87),0.125),MROUND('Redeck Deflections'!$P$87,0.125)*-1)","v":0},8,null,8,{"$f":"'Redeck Deflections'!$J$6*1","v":0},{"$f":"Reference!$C$424+Reference!$D$414","v":340},null,null,null,null,null,{"$f":"SUM('Redeck Deflections'!$W$87:$AA$87)","v":0},{"$f":"IF('Redeck Deflections'!$AB$87<0,MROUND(ABS('Redeck Deflections'!$AB$87),0.125),MROUND('Redeck Deflections'!$AB$87,0.125)*-1)","v":0},8]
[null,8,0,{"$f":"Reference!$D$424","v":340},null,null,null,null,null,{"$f":"SUM('Redeck Deflections'!$K$88:$O$88)","v":0},{"$f":"IF('Redeck Deflections'!$P$88<0,MROUND(ABS('Redeck Deflections'!$P$88),0.125),MROUND('Redeck Deflections'!$P$88,0.125)*-1)","v":0},8,null,8,0,{"$f":"Reference!$D$424","v":340},null,null,null,null,null,{"$f":"SUM('Redeck Deflections'!$W$88:$AA$88)","v":0},{"$f":"IF('Redeck Deflections'!$AB$88<0,MROUND(ABS('Redeck Deflections'!$AB$88),0.125),MROUND('Redeck Deflections'!$AB$88,0.125)*-1)","v":0},8]
[null,8.1,{"$f":"'Redeck Deflections'!$K$6*0.1","v":0},{"$f":"Reference!$D$425+Reference!$C$426","v":340},null,null,null,null,null,{"$f":"SUM('Redeck Deflections'!$K$89:$O$89)","v":0},{"$f":"IF('Redeck Deflections'!$P$89<0,MROUND(ABS('Redeck Deflections'!$P$89),0.125),MROUND('Redeck Deflections'!$P$89,0.125)*-1)","v":0},8.1,null,8.1,{"$f":"'Redeck Deflections'!$K$6*0.1","v":0},{"$f":"Reference!$D$425+Reference!$C$426","v":340},null,null,null,null,null,{"$f":"SUM('Redeck Deflections'!$W$89:$AA$89)","v":0},{"$f":"IF('Redeck Deflections'!$AB$89<0,MROUND(ABS('Redeck Deflections'!$AB$89),0.125),MROUND('Redeck Deflections'!$AB$89,0.125)*-1)","v":0},8.1]
[null,8.1999999999999993,{"$f":"'Redeck Deflections'!$K$6*0.2","v":0},{"$f":"Reference!$C$427+Reference!$D$425","v":340},null,null,null,null,null,{"$f":"SUM('Redeck Deflections'!$K$90:$O$90)","v":0},{"$f":"IF('Redeck Deflections'!$P$90<0,MROUND(ABS('Redeck Deflections'!$P$90),0.125),MROUND('Redeck Deflections'!$P$90,0.125)*-1)","v":0},8.1999999999999993,null,8.1999999999999993,{"$f":"'Redeck Deflections'!$K$6*0.2","v":0},{"$f":"Reference!$C$427+Reference!$D$425","v":340},null,null,null,null,null,{"$f":"SUM('Redeck Deflections'!$W$90:$AA$90)","v":0},{"$f":"IF('Redeck Deflections'!$AB$90<0,MROUND(ABS('Redeck Deflections'!$AB$90),0.125),MROUND('Redeck Deflections'!$AB$90,0.125)*-1)","v":0},8.1999999999999993]
[null,8.3000000000000007,{"$f":"'Redeck Deflections'!$K$6*0.3","v":0},{"$f":"Reference!$C$428+Reference!$D$425","v":340},null,null,null,null,null,{"$f":"SUM('Redeck Deflections'!$K$91:$O$91)","v":0},{"$f":"IF('Redeck Deflections'!$P$91<0,MROUND(ABS('Redeck Deflections'!$P$91),0.125),MROUND('Redeck Deflections'!$P$91,0.125)*-1)","v":0},8.3000000000000007,null,8.3000000000000007,{"$f":"'Redeck Deflections'!$K$6*0.3","v":0},{"$f":"Reference!$C$428+Reference!$D$425","v":340},null,null,null,null,null,{"$f":"SUM('Redeck Deflections'!$W$91:$AA$91)","v":0},{"$f":"IF('Redeck Deflections'!$AB$91<0,MROUND(ABS('Redeck Deflections'!$AB$91),0.125),MROUND('Redeck Deflections'!$AB$91,0.125)*-1)","v":0},8.3000000000000007]
[null,8.4,{"$f":"'Redeck Deflections'!$K$6*0.4","v":0},{"$f":"Reference!$C$429+Reference!$D$425","v":340},null,null,null,null,null,{"$f":"SUM('Redeck Deflections'!$K$92:$O$92)","v":0},{"$f":"IF('Redeck Deflections'!$P$92<0,MROUND(ABS('Redeck Deflections'!$P$92),0.125),MROUND('Redeck Deflections'!$P$92,0.125)*-1)","v":0},8.4,null,8.4,{"$f":"'Redeck Deflections'!$K$6*0.4","v":0},{"$f":"Reference!$C$429+Reference!$D$425","v":340},null,null,null,null,null,{"$f":"SUM('Redeck Deflections'!$W$92:$AA$92)","v":0},{"$f":"IF('Redeck Deflections'!$AB$92<0,MROUND(ABS('Redeck Deflections'!$AB$92),0.125),MROUND('Redeck Deflections'!$AB$92,0.125)*-1)","v":0},8.4]
[null,8.5,{"$f":"'Redeck Deflections'!$K$6*0.5","v":0},{"$f":"Reference!$C$430+Reference!$D$425","v":340},null,null,null,null,null,{"$f":"SUM('Redeck Deflections'!$K$93:$O$93)","v":0},{"$f":"IF('Redeck Deflections'!$P$93<0,MROUND(ABS('Redeck Deflections'!$P$93),0.125),MROUND('Redeck Deflections'!$P$93,0.125)*-1)","v":0},8.5,null,8.5,{"$f":"'Redeck Deflections'!$K$6*0.5","v":0},{"$f":"Reference!$C$430+Reference!$D$425","v":340},null,null,null,null,null,{"$f":"SUM('Redeck Deflections'!$W$93:$AA$93)","v":0},{"$f":"IF('Redeck Deflections'!$AB$93<0,MROUND(ABS('Redeck Deflections'!$AB$93),0.125),MROUND('Redeck Deflections'!$AB$93,0.125)*-1)","v":0},8.5]
[null,8.6,{"$f":"'Redeck Deflections'!$K$6*0.6","v":0},{"$f":"Reference!$C$431+Reference!$D$425","v":340},null,null,null,null,null,{"$f":"SUM('Redeck Deflections'!$K$94:$O$94)","v":0},{"$f":"IF('Redeck Deflections'!$P$94<0,MROUND(ABS('Redeck Deflections'!$P$94),0.125),MROUND('Redeck Deflections'!$P$94,0.125)*-1)","v":0},8.6,null,8.6,{"$f":"'Redeck Deflections'!$K$6*0.6","v":0},{"$f":"Reference!$C$431+Reference!$D$425","v":340},null,null,null,null,null,{"$f":"SUM('Redeck Deflections'!$W$94:$AA$94)","v":0},{"$f":"IF('Redeck Deflections'!$AB$94<0,MROUND(ABS('Redeck Deflections'!$AB$94),0.125),MROUND('Redeck Deflections'!$AB$94,0.125)*-1)","v":0},8.6]
[null,8.6999999999999993,{"$f":"'Redeck Deflections'!$K$6*0.7","v":0},{"$f":"Reference!$C$432+Reference!$D$425","v":340},null,null,null,null,null,{"$f":"SUM('Redeck Deflections'!$K$95:$O$95)","v":0},{"$f":"IF('Redeck Deflections'!$P$95<0,MROUND(ABS('Redeck Deflections'!$P$95),0.125),MROUND('Redeck Deflections'!$P$95,0.125)*-1)","v":0},8.6999999999999993,null,8.6999999999999993,{"$f":"'Redeck Deflections'!$K$6*0.7","v":0},{"$f":"Reference!$C$432+Reference!$D$425","v":340},null,null,null,null,null,{"$f":"SUM('Redeck Deflections'!$W$95:$AA$95)","v":0},{"$f":"IF('Redeck Deflections'!$AB$95<0,MROUND(ABS('Redeck Deflections'!$AB$95),0.125),MROUND('Redeck Deflections'!$AB$95,0.125)*-1)","v":0},8.6999999999999993]
[null,8.8000000000000007,{"$f":"'Redeck Deflections'!$K$6*0.8","v":0},{"$f":"Reference!$C$433+Reference!$D$425","v":340},null,null,null,null,null,{"$f":"SUM('Redeck Deflections'!$K$96:$O$96)","v":0},{"$f":"IF('Redeck Deflections'!$P$96<0,MROUND(ABS('Redeck Deflections'!$P$96),0.125),MROUND('Redeck Deflections'!$P$96,0.125)*-1)","v":0},8.8000000000000007,null,8.8000000000000007,{"$f":"'Redeck Deflections'!$K$6*0.8","v":0},{"$f":"Reference!$C$433+Reference!$D$425","v":340},null,null,null,null,null,{"$f":"SUM('Redeck Deflections'!$W$96:$AA$96)","v":0},{"$f":"IF('Redeck Deflections'!$AB$96<0,MROUND(ABS('Redeck Deflections'!$AB$96),0.125),MROUND('Redeck Deflections'!$AB$96,0.125)*-1)","v":0},8.8000000000000007]
[null,8.9,{"$f":"'Redeck Deflections'!$K$6*0.9","v":0},{"$f":"Reference!$C$434+Reference!$D$425","v":340},null,null,null,null,null,{"$f":"SUM('Redeck Deflections'!$K$97:$O$97)","v":0},{"$f":"IF('Redeck Deflections'!$P$97<0,MROUND(ABS('Redeck Deflections'!$P$97),0.125),MROUND('Redeck Deflections'!$P$97,0.125)*-1)","v":0},8.9,null,8.9,{"$f":"'Redeck Deflections'!$K$6*0.9","v":0},{"$f":"Reference!$C$434+Reference!$D$425","v":340},null,null,null,null,null,{"$f":"SUM('Redeck Deflections'!$W$97:$AA$97)","v":0},{"$f":"IF('Redeck Deflections'!$AB$97<0,MROUND(ABS('Redeck Deflections'!$AB$97),0.125),MROUND('Redeck Deflections'!$AB$97,0.125)*-1)","v":0},8.9]
[null,9,{"$f":"'Redeck Deflections'!$K$6*1","v":0},{"$f":"Reference!$C$435+Reference!$D$425","v":340},null,null,null,null,null,{"$f":"SUM('Redeck Deflections'!$K$98:$O$98)","v":0},{"$f":"IF('Redeck Deflections'!$P$98<0,MROUND(ABS('Redeck Deflections'!$P$98),0.125),MROUND('Redeck Deflections'!$P$98,0.125)*-1)","v":0},9,null,9,{"$f":"'Redeck Deflections'!$K$6*1","v":0},{"$f":"Reference!$C$435+Reference!$D$425","v":340},null,null,null,null,null,{"$f":"SUM('Redeck Deflections'!$W$98:$AA$98)","v":0},{"$f":"IF('Redeck Deflections'!$AB$98<0,MROUND(ABS('Redeck Deflections'!$AB$98),0.125),MROUND('Redeck Deflections'!$AB$98,0.125)*-1)","v":0},9]